{"text_format":"1","workbook":"xlsx","n_sheets":4,"sheets":["Sheet1","item","Items","Sheet2"],"not_rendered":{"charts":0,"images":1,"macros":1,"external_links":0,"defined_names":2,"comments":1,"pivot_tables":0},"unopened":[],"bounds":{"document_bytes":16777216,"sheet_cells":100000,"rows_first":2000,"rows_last":500,"rows_between":2000,"halvings":0,"cell_chars":16384,"cell_head_chars":4096},"cells_cut":0,"cells_raw":0,"read":"whole","date_system":"1900"}

{"sheet":"Sheet1","index":0,"n_rows":135,"n_cols":20,"rows_kept":135,"cut":false,"hidden":false,"merged":[]}
[]
[null,null,null,"Order Form"]
[]
[null,null,"266 Route 125, Kingston, NH 03848"]
[null,null,"Toll free:  1-866-842-1050     Phone: 603-606-5269"]
[null,null,"Email to: CorporateSales@GourmetGiftBaskets.com"]
[null,null,"http://www.GourmetGiftBaskets.com"]
[]
["Buyer Information"]
[null,"Buyer's First Name","Buyer's Last Name:","Buyer Company Name","Street Address","Apt, Suite, Floor, Room #","City","State","Zip","Phone","Alternate Phone","Email Address",null,"Contact Name"]
[]
[]
["Recipient's Information"]
["Order#","Recipient's First Name","Recipient's Last Name","Company Name","Street Address","Apt, Suite, Floor, Room #","City","State","Zip","Phone","Arrival Date","Product Code","Quantity","Basket Name","Card Message","Price","ID Check","Shipping","Total"]
["Sample","Joe","Sample & Staff","Gourmet Gift Baskets","34 Londondery Rd.",null,"Londonderry","NH",3053,"603-606-5269","mm/dd/yyyy",4020,2,{"$f":"IF(L15=\"\",\"\",IFERROR(VLOOKUP(T15,item!B:C,2,FALSE),\"Wrong Code\"))","v":"Healthy Stack"},"Joe, Thanks For All Your Hard Work!  We really appreciate it. The Staff at GourmetGiftBaskets.com",{"$f":"IFERROR(VLOOKUP(T15,item!B:F,5,FALSE),\"\")","v":34.99},{"$f":"IFERROR(IF(VLOOKUP(T15,item!B:F,4,FALSE)=1,3.99,0),\"\")","v":0},null,{"$f":"IFERROR(SUM(P15+Q15+R15)*M15,\"\")","v":69.98},{"$f":"TEXT(L15,0)","v":"4020"}]
[1,null,null,null,null,null,null,null,null,null,null,null,null,{"$f":"IF(L16=\"\",\"\",IFERROR(VLOOKUP(T16,item!B:C,2,FALSE),\"Wrong Code\"))","v":""},null,{"$f":"IFERROR(VLOOKUP(T16,item!B:F,5,FALSE),\"\")","v":""},{"$f":"IFERROR(IF(VLOOKUP(T16,item!B:F,4,FALSE)=1,3.99,0),\"\")","v":""},0,{"$f":"IFERROR(SUM(P16+Q16+R16)*M16,\"\")","v":""},"0"]
[2,null,null,null,null,null,null,null,null,null,null,null,null,{"$f":"IF(L17=\"\",\"\",IFERROR(VLOOKUP(T17,item!B:C,2,FALSE),\"Wrong Code\"))","v":""},null,{"$f":"IFERROR(VLOOKUP(T17,item!B:F,5,FALSE),\"\")","v":""},{"$f":"IFERROR(IF(VLOOKUP(T17,item!B:F,4,FALSE)=1,3.99,0),\"\")","v":""},0,"","0"]
[3,null,null,null,null,null,null,null,null,null,null,null,null,{"$f":"IF(L18=\"\",\"\",IFERROR(VLOOKUP(T18,item!B:C,2,FALSE),\"Wrong Code\"))","v":""},null,{"$f":"IFERROR(VLOOKUP(T18,item!B:F,5,FALSE),\"\")","v":""},{"$f":"IFERROR(IF(VLOOKUP(T18,item!B:F,4,FALSE)=1,3.99,0),\"\")","v":""},0,"","0"]
[4,null,null,null,null,null,null,null,null,null,null,null,null,{"$f":"IF(L19=\"\",\"\",IFERROR(VLOOKUP(T19,item!B:C,2,FALSE),\"Wrong Code\"))","v":""},null,{"$f":"IFERROR(VLOOKUP(T19,item!B:F,5,FALSE),\"\")","v":""},{"$f":"IFERROR(IF(VLOOKUP(T19,item!B:F,4,FALSE)=1,3.99,0),\"\")","v":""},0,"","0"]
[5,null,null,null,null,null,null,null,null,null,null,null,null,{"$f":"IF(L20=\"\",\"\",IFERROR(VLOOKUP(T20,item!B:C,2,FALSE),\"Wrong Code\"))","v":""},null,{"$f":"IFERROR(VLOOKUP(T20,item!B:F,5,FALSE),\"\")","v":""},{"$f":"IFERROR(IF(VLOOKUP(T20,item!B:F,4,FALSE)=1,3.99,0),\"\")","v":""},0,"","0"]
[6,null,null,null,null,null,null,null,null,null,null,null,null,{"$f":"IF(L21=\"\",\"\",IFERROR(VLOOKUP(T21,item!B:C,2,FALSE),\"Wrong Code\"))","v":""},null,{"$f":"IFERROR(VLOOKUP(T21,item!B:F,5,FALSE),\"\")","v":""},{"$f":"IFERROR(IF(VLOOKUP(T21,item!B:F,4,FALSE)=1,3.99,0),\"\")","v":""},0,"","0"]
[7,null,null,null,null,null,null,null,null,null,null,null,null,{"$f":"IF(L22=\"\",\"\",IFERROR(VLOOKUP(T22,item!B:C,2,FALSE),\"Wrong Code\"))","v":""},null,{"$f":"IFERROR(VLOOKUP(T22,item!B:F,5,FALSE),\"\")","v":""},{"$f":"IFERROR(IF(VLOOKUP(T22,item!B:F,4,FALSE)=1,3.99,0),\"\")","v":""},0,"","0"]
[8,null,null,null,null,null,null,null,null,null,null,null,null,{"$f":"IF(L23=\"\",\"\",IFERROR(VLOOKUP(T23,item!B:C,2,FALSE),\"Wrong Code\"))","v":""},null,{"$f":"IFERROR(VLOOKUP(T23,item!B:F,5,FALSE),\"\")","v":""},{"$f":"IFERROR(IF(VLOOKUP(T23,item!B:F,4,FALSE)=1,3.99,0),\"\")","v":""},0,"","0"]
[9,null,null,null,null,null,null,null,null,null,null,null,null,{"$f":"IF(L24=\"\",\"\",IFERROR(VLOOKUP(T24,item!B:C,2,FALSE),\"Wrong Code\"))","v":""},null,{"$f":"IFERROR(VLOOKUP(T24,item!B:F,5,FALSE),\"\")","v":""},{"$f":"IFERROR(IF(VLOOKUP(T24,item!B:F,4,FALSE)=1,3.99,0),\"\")","v":""},0,"","0"]
[10,null,null,null,null,null,null,null,null,null,null,null,null,{"$f":"IF(L25=\"\",\"\",IFERROR(VLOOKUP(T25,item!B:C,2,FALSE),\"Wrong Code\"))","v":""},null,{"$f":"IFERROR(VLOOKUP(T25,item!B:F,5,FALSE),\"\")","v":""},{"$f":"IFERROR(IF(VLOOKUP(T25,item!B:F,4,FALSE)=1,3.99,0),\"\")","v":""},0,"","0"]
[11,null,null,null,null,null,null,null,null,null,null,null,null,{"$f":"IF(L26=\"\",\"\",IFERROR(VLOOKUP(T26,item!B:C,2,FALSE),\"Wrong Code\"))","v":""},null,{"$f":"IFERROR(VLOOKUP(T26,item!B:F,5,FALSE),\"\")","v":""},{"$f":"IFERROR(IF(VLOOKUP(T26,item!B:F,4,FALSE)=1,3.99,0),\"\")","v":""},0,"","0"]
[12,null,null,null,null,null,null,null,null,null,null,null,null,{"$f":"IF(L27=\"\",\"\",IFERROR(VLOOKUP(T27,item!B:C,2,FALSE),\"Wrong Code\"))","v":""},null,{"$f":"IFERROR(VLOOKUP(T27,item!B:F,5,FALSE),\"\")","v":""},{"$f":"IFERROR(IF(VLOOKUP(T27,item!B:F,4,FALSE)=1,3.99,0),\"\")","v":""},0,"","0"]
[13,null,null,null,null,null,null,null,null,null,null,null,null,{"$f":"IF(L28=\"\",\"\",IFERROR(VLOOKUP(T28,item!B:C,2,FALSE),\"Wrong Code\"))","v":""},null,{"$f":"IFERROR(VLOOKUP(T28,item!B:F,5,FALSE),\"\")","v":""},{"$f":"IFERROR(IF(VLOOKUP(T28,item!B:F,4,FALSE)=1,3.99,0),\"\")","v":""},0,"","0"]
[14,null,null,null,null,null,null,null,null,null,null,null,null,{"$f":"IF(L29=\"\",\"\",IFERROR(VLOOKUP(T29,item!B:C,2,FALSE),\"Wrong Code\"))","v":""},null,{"$f":"IFERROR(VLOOKUP(T29,item!B:F,5,FALSE),\"\")","v":""},{"$f":"IFERROR(IF(VLOOKUP(T29,item!B:F,4,FALSE)=1,3.99,0),\"\")","v":""},0,"","0"]
[15,null,null,null,null,null,null,null,null,null,null,null,null,{"$f":"IF(L30=\"\",\"\",IFERROR(VLOOKUP(T30,item!B:C,2,FALSE),\"Wrong Code\"))","v":""},null,{"$f":"IFERROR(VLOOKUP(T30,item!B:F,5,FALSE),\"\")","v":""},{"$f":"IFERROR(IF(VLOOKUP(T30,item!B:F,4,FALSE)=1,3.99,0),\"\")","v":""},0,"","0"]
[16,null,null,null,null,null,null,null,null,null,null,null,null,{"$f":"IF(L31=\"\",\"\",IFERROR(VLOOKUP(T31,item!B:C,2,FALSE),\"Wrong Code\"))","v":""},null,{"$f":"IFERROR(VLOOKUP(T31,item!B:F,5,FALSE),\"\")","v":""},{"$f":"IFERROR(IF(VLOOKUP(T31,item!B:F,4,FALSE)=1,3.99,0),\"\")","v":""},0,"","0"]
[17,null,null,null,null,null,null,null,null,null,null,null,null,{"$f":"IF(L32=\"\",\"\",IFERROR(VLOOKUP(T32,item!B:C,2,FALSE),\"Wrong Code\"))","v":""},null,{"$f":"IFERROR(VLOOKUP(T32,item!B:F,5,FALSE),\"\")","v":""},{"$f":"IFERROR(IF(VLOOKUP(T32,item!B:F,4,FALSE)=1,3.99,0),\"\")","v":""},0,"","0"]
[18,null,null,null,null,null,null,null,null,null,null,null,null,{"$f":"IF(L33=\"\",\"\",IFERROR(VLOOKUP(T33,item!B:C,2,FALSE),\"Wrong Code\"))","v":""},null,{"$f":"IFERROR(VLOOKUP(T33,item!B:F,5,FALSE),\"\")","v":""},{"$f":"IFERROR(IF(VLOOKUP(T33,item!B:F,4,FALSE)=1,3.99,0),\"\")","v":""},0,"","0"]
[19,null,null,null,null,null,null,null,null,null,null,null,null,{"$f":"IF(L34=\"\",\"\",IFERROR(VLOOKUP(T34,item!B:C,2,FALSE),\"Wrong Code\"))","v":""},null,{"$f":"IFERROR(VLOOKUP(T34,item!B:F,5,FALSE),\"\")","v":""},{"$f":"IFERROR(IF(VLOOKUP(T34,item!B:F,4,FALSE)=1,3.99,0),\"\")","v":""},0,"","0"]
[20,null,null,null,null,null,null,null,null,null,null,null,null,{"$f":"IF(L35=\"\",\"\",IFERROR(VLOOKUP(T35,item!B:C,2,FALSE),\"Wrong Code\"))","v":""},null,{"$f":"IFERROR(VLOOKUP(T35,item!B:F,5,FALSE),\"\")","v":""},{"$f":"IFERROR(IF(VLOOKUP(T35,item!B:F,4,FALSE)=1,3.99,0),\"\")","v":""},0,"","0"]
[21,null,null,null,null,null,null,null,null,null,null,null,null,{"$f":"IF(L36=\"\",\"\",IFERROR(VLOOKUP(T36,item!B:C,2,FALSE),\"Wrong Code\"))","v":""},null,{"$f":"IFERROR(VLOOKUP(T36,item!B:F,5,FALSE),\"\")","v":""},{"$f":"IFERROR(IF(VLOOKUP(T36,item!B:F,4,FALSE)=1,3.99,0),\"\")","v":""},0,"",{"$f":"TEXT(L36,0)","v":"0"}]
[22,null,null,null,null,null,null,null,null,null,null,null,null,{"$f":"IF(L37=\"\",\"\",IFERROR(VLOOKUP(T37,item!B:C,2,FALSE),\"Wrong Code\"))","v":""},null,{"$f":"IFERROR(VLOOKUP(T37,item!B:F,5,FALSE),\"\")","v":""},{"$f":"IFERROR(IF(VLOOKUP(T37,item!B:F,4,FALSE)=1,3.99,0),\"\")","v":""},0,"","0"]
[23,null,null,null,null,null,null,null,null,null,null,null,null,{"$f":"IF(L38=\"\",\"\",IFERROR(VLOOKUP(T38,item!B:C,2,FALSE),\"Wrong Code\"))","v":""},null,{"$f":"IFERROR(VLOOKUP(T38,item!B:F,5,FALSE),\"\")","v":""},{"$f":"IFERROR(IF(VLOOKUP(T38,item!B:F,4,FALSE)=1,3.99,0),\"\")","v":""},0,"","0"]
[24,null,null,null,null,null,null,null,null,null,null,null,null,{"$f":"IF(L39=\"\",\"\",IFERROR(VLOOKUP(T39,item!B:C,2,FALSE),\"Wrong Code\"))","v":""},null,{"$f":"IFERROR(VLOOKUP(T39,item!B:F,5,FALSE),\"\")","v":""},{"$f":"IFERROR(IF(VLOOKUP(T39,item!B:F,4,FALSE)=1,3.99,0),\"\")","v":""},0,"","0"]
[25,null,null,null,null,null,null,null,null,null,null,null,null,{"$f":"IF(L40=\"\",\"\",IFERROR(VLOOKUP(T40,item!B:C,2,FALSE),\"Wrong Code\"))","v":""},null,{"$f":"IFERROR(VLOOKUP(T40,item!B:F,5,FALSE),\"\")","v":""},{"$f":"IFERROR(IF(VLOOKUP(T40,item!B:F,4,FALSE)=1,3.99,0),\"\")","v":""},0,"","0"]
[26,null,null,null,null,null,null,null,null,null,null,null,null,{"$f":"IF(L41=\"\",\"\",IFERROR(VLOOKUP(T41,item!B:C,2,FALSE),\"Wrong Code\"))","v":""},null,{"$f":"IFERROR(VLOOKUP(T41,item!B:F,5,FALSE),\"\")","v":""},{"$f":"IFERROR(IF(VLOOKUP(T41,item!B:F,4,FALSE)=1,3.99,0),\"\")","v":""},0,"","0"]
[27,null,null,null,null,null,null,null,null,null,null,null,null,{"$f":"IF(L42=\"\",\"\",IFERROR(VLOOKUP(T42,item!B:C,2,FALSE),\"Wrong Code\"))","v":""},null,{"$f":"IFERROR(VLOOKUP(T42,item!B:F,5,FALSE),\"\")","v":""},{"$f":"IFERROR(IF(VLOOKUP(T42,item!B:F,4,FALSE)=1,3.99,0),\"\")","v":""},0,"","0"]
[28,null,null,null,null,null,null,null,null,null,null,null,null,{"$f":"IF(L43=\"\",\"\",IFERROR(VLOOKUP(T43,item!B:C,2,FALSE),\"Wrong Code\"))","v":""},null,{"$f":"IFERROR(VLOOKUP(T43,item!B:F,5,FALSE),\"\")","v":""},{"$f":"IFERROR(IF(VLOOKUP(T43,item!B:F,4,FALSE)=1,3.99,0),\"\")","v":""},0,"","0"]
[29,null,null,null,null,null,null,null,null,null,null,null,null,{"$f":"IF(L44=\"\",\"\",IFERROR(VLOOKUP(T44,item!B:C,2,FALSE),\"Wrong Code\"))","v":""},null,{"$f":"IFERROR(VLOOKUP(T44,item!B:F,5,FALSE),\"\")","v":""},{"$f":"IFERROR(IF(VLOOKUP(T44,item!B:F,4,FALSE)=1,3.99,0),\"\")","v":""},0,"","0"]
[30,null,null,null,null,null,null,null,null,null,null,null,null,{"$f":"IF(L45=\"\",\"\",IFERROR(VLOOKUP(T45,item!B:C,2,FALSE),\"Wrong Code\"))","v":""},null,{"$f":"IFERROR(VLOOKUP(T45,item!B:F,5,FALSE),\"\")","v":""},{"$f":"IFERROR(IF(VLOOKUP(T45,item!B:F,4,FALSE)=1,3.99,0),\"\")","v":""},0,"","0"]
[31,null,null,null,null,null,null,null,null,null,null,null,null,{"$f":"IF(L46=\"\",\"\",IFERROR(VLOOKUP(T46,item!B:C,2,FALSE),\"Wrong Code\"))","v":""},null,{"$f":"IFERROR(VLOOKUP(T46,item!B:F,5,FALSE),\"\")","v":""},{"$f":"IFERROR(IF(VLOOKUP(T46,item!B:F,4,FALSE)=1,3.99,0),\"\")","v":""},0,"","0"]
[32,null,null,null,null,null,null,null,null,null,null,null,null,{"$f":"IF(L47=\"\",\"\",IFERROR(VLOOKUP(T47,item!B:C,2,FALSE),\"Wrong Code\"))","v":""},null,{"$f":"IFERROR(VLOOKUP(T47,item!B:F,5,FALSE),\"\")","v":""},{"$f":"IFERROR(IF(VLOOKUP(T47,item!B:F,4,FALSE)=1,3.99,0),\"\")","v":""},0,"","0"]
[33,null,null,null,null,null,null,null,null,null,null,null,null,{"$f":"IF(L48=\"\",\"\",IFERROR(VLOOKUP(T48,item!B:C,2,FALSE),\"Wrong Code\"))","v":""},null,{"$f":"IFERROR(VLOOKUP(T48,item!B:F,5,FALSE),\"\")","v":""},{"$f":"IFERROR(IF(VLOOKUP(T48,item!B:F,4,FALSE)=1,3.99,0),\"\")","v":""},0,"","0"]
[34,null,null,null,null,null,null,null,null,null,null,null,null,{"$f":"IF(L49=\"\",\"\",IFERROR(VLOOKUP(T49,item!B:C,2,FALSE),\"Wrong Code\"))","v":""},null,{"$f":"IFERROR(VLOOKUP(T49,item!B:F,5,FALSE),\"\")","v":""},{"$f":"IFERROR(IF(VLOOKUP(T49,item!B:F,4,FALSE)=1,3.99,0),\"\")","v":""},0,"","0"]
[35,null,null,null,null,null,null,null,null,null,null,null,null,{"$f":"IF(L50=\"\",\"\",IFERROR(VLOOKUP(T50,item!B:C,2,FALSE),\"Wrong Code\"))","v":""},null,{"$f":"IFERROR(VLOOKUP(T50,item!B:F,5,FALSE),\"\")","v":""},{"$f":"IFERROR(IF(VLOOKUP(T50,item!B:F,4,FALSE)=1,3.99,0),\"\")","v":""},0,"","0"]
[36,null,null,null,null,null,null,null,null,null,null,null,null,{"$f":"IF(L51=\"\",\"\",IFERROR(VLOOKUP(T51,item!B:C,2,FALSE),\"Wrong Code\"))","v":""},null,{"$f":"IFERROR(VLOOKUP(T51,item!B:F,5,FALSE),\"\")","v":""},{"$f":"IFERROR(IF(VLOOKUP(T51,item!B:F,4,FALSE)=1,3.99,0),\"\")","v":""},0,"","0"]
[37,null,null,null,null,null,null,null,null,null,null,null,null,{"$f":"IF(L52=\"\",\"\",IFERROR(VLOOKUP(T52,item!B:C,2,FALSE),\"Wrong Code\"))","v":""},null,{"$f":"IFERROR(VLOOKUP(T52,item!B:F,5,FALSE),\"\")","v":""},{"$f":"IFERROR(IF(VLOOKUP(T52,item!B:F,4,FALSE)=1,3.99,0),\"\")","v":""},0,"","0"]
[38,null,null,null,null,null,null,null,null,null,null,null,null,{"$f":"IF(L53=\"\",\"\",IFERROR(VLOOKUP(T53,item!B:C,2,FALSE),\"Wrong Code\"))","v":""},null,{"$f":"IFERROR(VLOOKUP(T53,item!B:F,5,FALSE),\"\")","v":""},{"$f":"IFERROR(IF(VLOOKUP(T53,item!B:F,4,FALSE)=1,3.99,0),\"\")","v":""},0,"","0"]
[39,null,null,null,null,null,null,null,null,null,null,null,null,{"$f":"IF(L54=\"\",\"\",IFERROR(VLOOKUP(T54,item!B:C,2,FALSE),\"Wrong Code\"))","v":""},null,{"$f":"IFERROR(VLOOKUP(T54,item!B:F,5,FALSE),\"\")","v":""},{"$f":"IFERROR(IF(VLOOKUP(T54,item!B:F,4,FALSE)=1,3.99,0),\"\")","v":""},0,"","0"]
[40,null,null,null,null,null,null,null,null,null,null,null,null,{"$f":"IF(L55=\"\",\"\",IFERROR(VLOOKUP(T55,item!B:C,2,FALSE),\"Wrong Code\"))","v":""},null,{"$f":"IFERROR(VLOOKUP(T55,item!B:F,5,FALSE),\"\")","v":""},{"$f":"IFERROR(IF(VLOOKUP(T55,item!B:F,4,FALSE)=1,3.99,0),\"\")","v":""},0,"","0"]
[41,null,null,null,null,null,null,null,null,null,null,null,null,{"$f":"IF(L56=\"\",\"\",IFERROR(VLOOKUP(T56,item!B:C,2,FALSE),\"Wrong Code\"))","v":""},null,{"$f":"IFERROR(VLOOKUP(T56,item!B:F,5,FALSE),\"\")","v":""},{"$f":"IFERROR(IF(VLOOKUP(T56,item!B:F,4,FALSE)=1,3.99,0),\"\")","v":""},0,{"$f":"IFERROR(SUM(P56+Q56+R56)*M56,\"\")","v":""},"0"]
[42,null,null,null,null,null,null,null,null,null,null,null,null,{"$f":"IF(L57=\"\",\"\",IFERROR(VLOOKUP(T57,item!B:C,2,FALSE),\"Wrong Code\"))","v":""},null,{"$f":"IFERROR(VLOOKUP(T57,item!B:F,5,FALSE),\"\")","v":""},{"$f":"IFERROR(IF(VLOOKUP(T57,item!B:F,4,FALSE)=1,3.99,0),\"\")","v":""},0,"","0"]
[43,null,null,null,null,null,null,null,null,null,null,null,null,{"$f":"IF(L58=\"\",\"\",IFERROR(VLOOKUP(T58,item!B:C,2,FALSE),\"Wrong Code\"))","v":""},null,{"$f":"IFERROR(VLOOKUP(T58,item!B:F,5,FALSE),\"\")","v":""},{"$f":"IFERROR(IF(VLOOKUP(T58,item!B:F,4,FALSE)=1,3.99,0),\"\")","v":""},0,"","0"]
[44,null,null,null,null,null,null,null,null,null,null,null,null,{"$f":"IF(L59=\"\",\"\",IFERROR(VLOOKUP(T59,item!B:C,2,FALSE),\"Wrong Code\"))","v":""},null,{"$f":"IFERROR(VLOOKUP(T59,item!B:F,5,FALSE),\"\")","v":""},{"$f":"IFERROR(IF(VLOOKUP(T59,item!B:F,4,FALSE)=1,3.99,0),\"\")","v":""},0,"","0"]
[45,null,null,null,null,null,null,null,null,null,null,null,null,{"$f":"IF(L60=\"\",\"\",IFERROR(VLOOKUP(T60,item!B:C,2,FALSE),\"Wrong Code\"))","v":""},null,{"$f":"IFERROR(VLOOKUP(T60,item!B:F,5,FALSE),\"\")","v":""},{"$f":"IFERROR(IF(VLOOKUP(T60,item!B:F,4,FALSE)=1,3.99,0),\"\")","v":""},0,"","0"]
[46,null,null,null,null,null,null,null,null,null,null,null,null,{"$f":"IF(L61=\"\",\"\",IFERROR(VLOOKUP(T61,item!B:C,2,FALSE),\"Wrong Code\"))","v":""},null,{"$f":"IFERROR(VLOOKUP(T61,item!B:F,5,FALSE),\"\")","v":""},{"$f":"IFERROR(IF(VLOOKUP(T61,item!B:F,4,FALSE)=1,3.99,0),\"\")","v":""},0,"","0"]
[47,null,null,null,null,null,null,null,null,null,null,null,null,{"$f":"IF(L62=\"\",\"\",IFERROR(VLOOKUP(T62,item!B:C,2,FALSE),\"Wrong Code\"))","v":""},null,{"$f":"IFERROR(VLOOKUP(T62,item!B:F,5,FALSE),\"\")","v":""},{"$f":"IFERROR(IF(VLOOKUP(T62,item!B:F,4,FALSE)=1,3.99,0),\"\")","v":""},0,"","0"]
[48,null,null,null,null,null,null,null,null,null,null,null,null,{"$f":"IF(L63=\"\",\"\",IFERROR(VLOOKUP(T63,item!B:C,2,FALSE),\"Wrong Code\"))","v":""},null,{"$f":"IFERROR(VLOOKUP(T63,item!B:F,5,FALSE),\"\")","v":""},{"$f":"IFERROR(IF(VLOOKUP(T63,item!B:F,4,FALSE)=1,3.99,0),\"\")","v":""},0,"","0"]
[49,null,null,null,null,null,null,null,null,null,null,null,null,{"$f":"IF(L64=\"\",\"\",IFERROR(VLOOKUP(T64,item!B:C,2,FALSE),\"Wrong Code\"))","v":""},null,{"$f":"IFERROR(VLOOKUP(T64,item!B:F,5,FALSE),\"\")","v":""},{"$f":"IFERROR(IF(VLOOKUP(T64,item!B:F,4,FALSE)=1,3.99,0),\"\")","v":""},0,"","0"]
[50,null,null,null,null,null,null,null,null,null,null,null,null,{"$f":"IF(L65=\"\",\"\",IFERROR(VLOOKUP(T65,item!B:C,2,FALSE),\"Wrong Code\"))","v":""},null,{"$f":"IFERROR(VLOOKUP(T65,item!B:F,5,FALSE),\"\")","v":""},{"$f":"IFERROR(IF(VLOOKUP(T65,item!B:F,4,FALSE)=1,3.99,0),\"\")","v":""},0,"","0"]
[51,null,null,null,null,null,null,null,null,null,null,null,null,{"$f":"IF(L66=\"\",\"\",IFERROR(VLOOKUP(T66,item!B:C,2,FALSE),\"Wrong Code\"))","v":""},null,{"$f":"IFERROR(VLOOKUP(T66,item!B:F,5,FALSE),\"\")","v":""},{"$f":"IFERROR(IF(VLOOKUP(T66,item!B:F,4,FALSE)=1,3.99,0),\"\")","v":""},0,"","0"]
[52,null,null,null,null,null,null,null,null,null,null,null,null,{"$f":"IF(L67=\"\",\"\",IFERROR(VLOOKUP(T67,item!B:C,2,FALSE),\"Wrong Code\"))","v":""},null,{"$f":"IFERROR(VLOOKUP(T67,item!B:F,5,FALSE),\"\")","v":""},{"$f":"IFERROR(IF(VLOOKUP(T67,item!B:F,4,FALSE)=1,3.99,0),\"\")","v":""},0,"","0"]
[53,null,null,null,null,null,null,null,null,null,null,null,null,{"$f":"IF(L68=\"\",\"\",IFERROR(VLOOKUP(T68,item!B:C,2,FALSE),\"Wrong Code\"))","v":""},null,{"$f":"IFERROR(VLOOKUP(T68,item!B:F,5,FALSE),\"\")","v":""},{"$f":"IFERROR(IF(VLOOKUP(T68,item!B:F,4,FALSE)=1,3.99,0),\"\")","v":""},0,"","0"]
[54,null,null,null,null,null,null,null,null,null,null,null,null,{"$f":"IF(L69=\"\",\"\",IFERROR(VLOOKUP(T69,item!B:C,2,FALSE),\"Wrong Code\"))","v":""},null,{"$f":"IFERROR(VLOOKUP(T69,item!B:F,5,FALSE),\"\")","v":""},{"$f":"IFERROR(IF(VLOOKUP(T69,item!B:F,4,FALSE)=1,3.99,0),\"\")","v":""},0,"","0"]
[55,null,null,null,null,null,null,null,null,null,null,null,null,{"$f":"IF(L70=\"\",\"\",IFERROR(VLOOKUP(T70,item!B:C,2,FALSE),\"Wrong Code\"))","v":""},null,{"$f":"IFERROR(VLOOKUP(T70,item!B:F,5,FALSE),\"\")","v":""},{"$f":"IFERROR(IF(VLOOKUP(T70,item!B:F,4,FALSE)=1,3.99,0),\"\")","v":""},0,"","0"]
[56,null,null,null,null,null,null,null,null,null,null,null,null,{"$f":"IF(L71=\"\",\"\",IFERROR(VLOOKUP(T71,item!B:C,2,FALSE),\"Wrong Code\"))","v":""},null,{"$f":"IFERROR(VLOOKUP(T71,item!B:F,5,FALSE),\"\")","v":""},{"$f":"IFERROR(IF(VLOOKUP(T71,item!B:F,4,FALSE)=1,3.99,0),\"\")","v":""},0,"","0"]
[57,null,null,null,null,null,null,null,null,null,null,null,null,{"$f":"IF(L72=\"\",\"\",IFERROR(VLOOKUP(T72,item!B:C,2,FALSE),\"Wrong Code\"))","v":""},null,{"$f":"IFERROR(VLOOKUP(T72,item!B:F,5,FALSE),\"\")","v":""},{"$f":"IFERROR(IF(VLOOKUP(T72,item!B:F,4,FALSE)=1,3.99,0),\"\")","v":""},0,"","0"]
[58,null,null,null,null,null,null,null,null,null,null,null,null,{"$f":"IF(L73=\"\",\"\",IFERROR(VLOOKUP(T73,item!B:C,2,FALSE),\"Wrong Code\"))","v":""},null,{"$f":"IFERROR(VLOOKUP(T73,item!B:F,5,FALSE),\"\")","v":""},{"$f":"IFERROR(IF(VLOOKUP(T73,item!B:F,4,FALSE)=1,3.99,0),\"\")","v":""},0,"","0"]
[59,null,null,null,null,null,null,null,null,null,null,null,null,{"$f":"IF(L74=\"\",\"\",IFERROR(VLOOKUP(T74,item!B:C,2,FALSE),\"Wrong Code\"))","v":""},null,{"$f":"IFERROR(VLOOKUP(T74,item!B:F,5,FALSE),\"\")","v":""},{"$f":"IFERROR(IF(VLOOKUP(T74,item!B:F,4,FALSE)=1,3.99,0),\"\")","v":""},0,"","0"]
[60,null,null,null,null,null,null,null,null,null,null,null,null,{"$f":"IF(L75=\"\",\"\",IFERROR(VLOOKUP(T75,item!B:C,2,FALSE),\"Wrong Code\"))","v":""},null,{"$f":"IFERROR(VLOOKUP(T75,item!B:F,5,FALSE),\"\")","v":""},{"$f":"IFERROR(IF(VLOOKUP(T75,item!B:F,4,FALSE)=1,3.99,0),\"\")","v":""},0,"","0"]
[61,null,null,null,null,null,null,null,null,null,null,null,null,{"$f":"IF(L76=\"\",\"\",IFERROR(VLOOKUP(T76,item!B:C,2,FALSE),\"Wrong Code\"))","v":""},null,{"$f":"IFERROR(VLOOKUP(T76,item!B:F,5,FALSE),\"\")","v":""},{"$f":"IFERROR(IF(VLOOKUP(T76,item!B:F,4,FALSE)=1,3.99,0),\"\")","v":""},0,{"$f":"IFERROR(SUM(P76+Q76+R76)*M76,\"\")","v":""},"0"]
[62,null,null,null,null,null,null,null,null,null,null,null,null,{"$f":"IF(L77=\"\",\"\",IFERROR(VLOOKUP(T77,item!B:C,2,FALSE),\"Wrong Code\"))","v":""},null,{"$f":"IFERROR(VLOOKUP(T77,item!B:F,5,FALSE),\"\")","v":""},{"$f":"IFERROR(IF(VLOOKUP(T77,item!B:F,4,FALSE)=1,3.99,0),\"\")","v":""},0,"","0"]
[63,null,null,null,null,null,null,null,null,null,null,null,null,{"$f":"IF(L78=\"\",\"\",IFERROR(VLOOKUP(T78,item!B:C,2,FALSE),\"Wrong Code\"))","v":""},null,{"$f":"IFERROR(VLOOKUP(T78,item!B:F,5,FALSE),\"\")","v":""},{"$f":"IFERROR(IF(VLOOKUP(T78,item!B:F,4,FALSE)=1,3.99,0),\"\")","v":""},0,"","0"]
[64,null,null,null,null,null,null,null,null,null,null,null,null,{"$f":"IF(L79=\"\",\"\",IFERROR(VLOOKUP(T79,item!B:C,2,FALSE),\"Wrong Code\"))","v":""},null,{"$f":"IFERROR(VLOOKUP(T79,item!B:F,5,FALSE),\"\")","v":""},{"$f":"IFERROR(IF(VLOOKUP(T79,item!B:F,4,FALSE)=1,3.99,0),\"\")","v":""},0,"","0"]
[65,null,null,null,null,null,null,null,null,null,null,null,null,{"$f":"IF(L80=\"\",\"\",IFERROR(VLOOKUP(T80,item!B:C,2,FALSE),\"Wrong Code\"))","v":""},null,{"$f":"IFERROR(VLOOKUP(T80,item!B:F,5,FALSE),\"\")","v":""},{"$f":"IFERROR(IF(VLOOKUP(T80,item!B:F,4,FALSE)=1,3.99,0),\"\")","v":""},0,"","0"]
[66,null,null,null,null,null,null,null,null,null,null,null,null,{"$f":"IF(L81=\"\",\"\",IFERROR(VLOOKUP(T81,item!B:C,2,FALSE),\"Wrong Code\"))","v":""},null,{"$f":"IFERROR(VLOOKUP(T81,item!B:F,5,FALSE),\"\")","v":""},{"$f":"IFERROR(IF(VLOOKUP(T81,item!B:F,4,FALSE)=1,3.99,0),\"\")","v":""},0,"","0"]
[67,null,null,null,null,null,null,null,null,null,null,null,null,{"$f":"IF(L82=\"\",\"\",IFERROR(VLOOKUP(T82,item!B:C,2,FALSE),\"Wrong Code\"))","v":""},null,{"$f":"IFERROR(VLOOKUP(T82,item!B:F,5,FALSE),\"\")","v":""},{"$f":"IFERROR(IF(VLOOKUP(T82,item!B:F,4,FALSE)=1,3.99,0),\"\")","v":""},0,"","0"]
[68,null,null,null,null,null,null,null,null,null,null,null,null,{"$f":"IF(L83=\"\",\"\",IFERROR(VLOOKUP(T83,item!B:C,2,FALSE),\"Wrong Code\"))","v":""},null,{"$f":"IFERROR(VLOOKUP(T83,item!B:F,5,FALSE),\"\")","v":""},{"$f":"IFERROR(IF(VLOOKUP(T83,item!B:F,4,FALSE)=1,3.99,0),\"\")","v":""},0,"","0"]
[69,null,null,null,null,null,null,null,null,null,null,null,null,{"$f":"IF(L84=\"\",\"\",IFERROR(VLOOKUP(T84,item!B:C,2,FALSE),\"Wrong Code\"))","v":""},null,{"$f":"IFERROR(VLOOKUP(T84,item!B:F,5,FALSE),\"\")","v":""},{"$f":"IFERROR(IF(VLOOKUP(T84,item!B:F,4,FALSE)=1,3.99,0),\"\")","v":""},0,"","0"]
[70,null,null,null,null,null,null,null,null,null,null,null,null,{"$f":"IF(L85=\"\",\"\",IFERROR(VLOOKUP(T85,item!B:C,2,FALSE),\"Wrong Code\"))","v":""},null,{"$f":"IFERROR(VLOOKUP(T85,item!B:F,5,FALSE),\"\")","v":""},{"$f":"IFERROR(IF(VLOOKUP(T85,item!B:F,4,FALSE)=1,3.99,0),\"\")","v":""},0,"","0"]
[71,null,null,null,null,null,null,null,null,null,null,null,null,{"$f":"IF(L86=\"\",\"\",IFERROR(VLOOKUP(T86,item!B:C,2,FALSE),\"Wrong Code\"))","v":""},null,{"$f":"IFERROR(VLOOKUP(T86,item!B:F,5,FALSE),\"\")","v":""},{"$f":"IFERROR(IF(VLOOKUP(T86,item!B:F,4,FALSE)=1,3.99,0),\"\")","v":""},0,"","0"]
[72,null,null,null,null,null,null,null,null,null,null,null,null,{"$f":"IF(L87=\"\",\"\",IFERROR(VLOOKUP(T87,item!B:C,2,FALSE),\"Wrong Code\"))","v":""},null,{"$f":"IFERROR(VLOOKUP(T87,item!B:F,5,FALSE),\"\")","v":""},{"$f":"IFERROR(IF(VLOOKUP(T87,item!B:F,4,FALSE)=1,3.99,0),\"\")","v":""},0,"","0"]
[73,null,null,null,null,null,null,null,null,null,null,null,null,{"$f":"IF(L88=\"\",\"\",IFERROR(VLOOKUP(T88,item!B:C,2,FALSE),\"Wrong Code\"))","v":""},null,{"$f":"IFERROR(VLOOKUP(T88,item!B:F,5,FALSE),\"\")","v":""},{"$f":"IFERROR(IF(VLOOKUP(T88,item!B:F,4,FALSE)=1,3.99,0),\"\")","v":""},0,"","0"]
[74,null,null,null,null,null,null,null,null,null,null,null,null,{"$f":"IF(L89=\"\",\"\",IFERROR(VLOOKUP(T89,item!B:C,2,FALSE),\"Wrong Code\"))","v":""},null,{"$f":"IFERROR(VLOOKUP(T89,item!B:F,5,FALSE),\"\")","v":""},{"$f":"IFERROR(IF(VLOOKUP(T89,item!B:F,4,FALSE)=1,3.99,0),\"\")","v":""},0,"","0"]
[75,null,null,null,null,null,null,null,null,null,null,null,null,{"$f":"IF(L90=\"\",\"\",IFERROR(VLOOKUP(T90,item!B:C,2,FALSE),\"Wrong Code\"))","v":""},null,{"$f":"IFERROR(VLOOKUP(T90,item!B:F,5,FALSE),\"\")","v":""},{"$f":"IFERROR(IF(VLOOKUP(T90,item!B:F,4,FALSE)=1,3.99,0),\"\")","v":""},0,"","0"]
[76,null,null,null,null,null,null,null,null,null,null,null,null,{"$f":"IF(L91=\"\",\"\",IFERROR(VLOOKUP(T91,item!B:C,2,FALSE),\"Wrong Code\"))","v":""},null,{"$f":"IFERROR(VLOOKUP(T91,item!B:F,5,FALSE),\"\")","v":""},{"$f":"IFERROR(IF(VLOOKUP(T91,item!B:F,4,FALSE)=1,3.99,0),\"\")","v":""},0,"","0"]
[77,null,null,null,null,null,null,null,null,null,null,null,null,{"$f":"IF(L92=\"\",\"\",IFERROR(VLOOKUP(T92,item!B:C,2,FALSE),\"Wrong Code\"))","v":""},null,{"$f":"IFERROR(VLOOKUP(T92,item!B:F,5,FALSE),\"\")","v":""},{"$f":"IFERROR(IF(VLOOKUP(T92,item!B:F,4,FALSE)=1,3.99,0),\"\")","v":""},0,"","0"]
[78,null,null,null,null,null,null,null,null,null,null,null,null,{"$f":"IF(L93=\"\",\"\",IFERROR(VLOOKUP(T93,item!B:C,2,FALSE),\"Wrong Code\"))","v":""},null,{"$f":"IFERROR(VLOOKUP(T93,item!B:F,5,FALSE),\"\")","v":""},{"$f":"IFERROR(IF(VLOOKUP(T93,item!B:F,4,FALSE)=1,3.99,0),\"\")","v":""},0,"","0"]
[79,null,null,null,null,null,null,null,null,null,null,null,null,{"$f":"IF(L94=\"\",\"\",IFERROR(VLOOKUP(T94,item!B:C,2,FALSE),\"Wrong Code\"))","v":""},null,{"$f":"IFERROR(VLOOKUP(T94,item!B:F,5,FALSE),\"\")","v":""},{"$f":"IFERROR(IF(VLOOKUP(T94,item!B:F,4,FALSE)=1,3.99,0),\"\")","v":""},0,"","0"]
[80,null,null,null,null,null,null,null,null,null,null,null,null,{"$f":"IF(L95=\"\",\"\",IFERROR(VLOOKUP(T95,item!B:C,2,FALSE),\"Wrong Code\"))","v":""},null,{"$f":"IFERROR(VLOOKUP(T95,item!B:F,5,FALSE),\"\")","v":""},{"$f":"IFERROR(IF(VLOOKUP(T95,item!B:F,4,FALSE)=1,3.99,0),\"\")","v":""},0,"","0"]
[81,null,null,null,null,null,null,null,null,null,null,null,null,{"$f":"IF(L96=\"\",\"\",IFERROR(VLOOKUP(T96,item!B:C,2,FALSE),\"Wrong Code\"))","v":""},null,{"$f":"IFERROR(VLOOKUP(T96,item!B:F,5,FALSE),\"\")","v":""},{"$f":"IFERROR(IF(VLOOKUP(T96,item!B:F,4,FALSE)=1,3.99,0),\"\")","v":""},0,"",{"$f":"TEXT(L96,0)","v":"0"}]
[82,null,null,null,null,null,null,null,null,null,null,null,null,{"$f":"IF(L97=\"\",\"\",IFERROR(VLOOKUP(T97,item!B:C,2,FALSE),\"Wrong Code\"))","v":""},null,{"$f":"IFERROR(VLOOKUP(T97,item!B:F,5,FALSE),\"\")","v":""},{"$f":"IFERROR(IF(VLOOKUP(T97,item!B:F,4,FALSE)=1,3.99,0),\"\")","v":""},0,"","0"]
[83,null,null,null,null,null,null,null,null,null,null,null,null,{"$f":"IF(L98=\"\",\"\",IFERROR(VLOOKUP(T98,item!B:C,2,FALSE),\"Wrong Code\"))","v":""},null,{"$f":"IFERROR(VLOOKUP(T98,item!B:F,5,FALSE),\"\")","v":""},{"$f":"IFERROR(IF(VLOOKUP(T98,item!B:F,4,FALSE)=1,3.99,0),\"\")","v":""},0,"","0"]
[84,null,null,null,null,null,null,null,null,null,null,null,null,{"$f":"IF(L99=\"\",\"\",IFERROR(VLOOKUP(T99,item!B:C,2,FALSE),\"Wrong Code\"))","v":""},null,{"$f":"IFERROR(VLOOKUP(T99,item!B:F,5,FALSE),\"\")","v":""},{"$f":"IFERROR(IF(VLOOKUP(T99,item!B:F,4,FALSE)=1,3.99,0),\"\")","v":""},0,{"$f":"IFERROR(SUM(P99+Q99+R99)*M99,\"\")","v":""},{"$f":"TEXT(L99,0)","v":"0"}]
[85,null,null,null,null,null,null,null,null,null,null,null,null,{"$f":"IF(L100=\"\",\"\",IFERROR(VLOOKUP(T100,item!B:C,2,FALSE),\"Wrong Code\"))","v":""},null,{"$f":"IFERROR(VLOOKUP(T100,item!B:F,5,FALSE),\"\")","v":""},{"$f":"IFERROR(IF(VLOOKUP(T100,item!B:F,4,FALSE)=1,3.99,0),\"\")","v":""},0,"","0"]
[86,null,null,null,null,null,null,null,null,null,null,null,null,{"$f":"IF(L101=\"\",\"\",IFERROR(VLOOKUP(T101,item!B:C,2,FALSE),\"Wrong Code\"))","v":""},null,{"$f":"IFERROR(VLOOKUP(T101,item!B:F,5,FALSE),\"\")","v":""},{"$f":"IFERROR(IF(VLOOKUP(T101,item!B:F,4,FALSE)=1,3.99,0),\"\")","v":""},0,"","0"]
[87,null,null,null,null,null,null,null,null,null,null,null,null,{"$f":"IF(L102=\"\",\"\",IFERROR(VLOOKUP(T102,item!B:C,2,FALSE),\"Wrong Code\"))","v":""},null,{"$f":"IFERROR(VLOOKUP(T102,item!B:F,5,FALSE),\"\")","v":""},{"$f":"IFERROR(IF(VLOOKUP(T102,item!B:F,4,FALSE)=1,3.99,0),\"\")","v":""},0,"","0"]
[88,null,null,null,null,null,null,null,null,null,null,null,null,{"$f":"IF(L103=\"\",\"\",IFERROR(VLOOKUP(T103,item!B:C,2,FALSE),\"Wrong Code\"))","v":""},null,{"$f":"IFERROR(VLOOKUP(T103,item!B:F,5,FALSE),\"\")","v":""},{"$f":"IFERROR(IF(VLOOKUP(T103,item!B:F,4,FALSE)=1,3.99,0),\"\")","v":""},0,"","0"]
[89,null,null,null,null,null,null,null,null,null,null,null,null,{"$f":"IF(L104=\"\",\"\",IFERROR(VLOOKUP(T104,item!B:C,2,FALSE),\"Wrong Code\"))","v":""},null,{"$f":"IFERROR(VLOOKUP(T104,item!B:F,5,FALSE),\"\")","v":""},{"$f":"IFERROR(IF(VLOOKUP(T104,item!B:F,4,FALSE)=1,3.99,0),\"\")","v":""},0,"","0"]
[90,null,null,null,null,null,null,null,null,null,null,null,null,{"$f":"IF(L105=\"\",\"\",IFERROR(VLOOKUP(T105,item!B:C,2,FALSE),\"Wrong Code\"))","v":""},null,{"$f":"IFERROR(VLOOKUP(T105,item!B:F,5,FALSE),\"\")","v":""},{"$f":"IFERROR(IF(VLOOKUP(T105,item!B:F,4,FALSE)=1,3.99,0),\"\")","v":""},0,"","0"]
[91,null,null,null,null,null,null,null,null,null,null,null,null,{"$f":"IF(L106=\"\",\"\",IFERROR(VLOOKUP(T106,item!B:C,2,FALSE),\"Wrong Code\"))","v":""},null,{"$f":"IFERROR(VLOOKUP(T106,item!B:F,5,FALSE),\"\")","v":""},{"$f":"IFERROR(IF(VLOOKUP(T106,item!B:F,4,FALSE)=1,3.99,0),\"\")","v":""},0,"","0"]
[92,null,null,null,null,null,null,null,null,null,null,null,null,{"$f":"IF(L107=\"\",\"\",IFERROR(VLOOKUP(T107,item!B:C,2,FALSE),\"Wrong Code\"))","v":""},null,{"$f":"IFERROR(VLOOKUP(T107,item!B:F,5,FALSE),\"\")","v":""},{"$f":"IFERROR(IF(VLOOKUP(T107,item!B:F,4,FALSE)=1,3.99,0),\"\")","v":""},0,"","0"]
[93,null,null,null,null,null,null,null,null,null,null,null,null,{"$f":"IF(L108=\"\",\"\",IFERROR(VLOOKUP(T108,item!B:C,2,FALSE),\"Wrong Code\"))","v":""},null,{"$f":"IFERROR(VLOOKUP(T108,item!B:F,5,FALSE),\"\")","v":""},{"$f":"IFERROR(IF(VLOOKUP(T108,item!B:F,4,FALSE)=1,3.99,0),\"\")","v":""},0,"","0"]
[94,null,null,null,null,null,null,null,null,null,null,null,null,{"$f":"IF(L109=\"\",\"\",IFERROR(VLOOKUP(T109,item!B:C,2,FALSE),\"Wrong Code\"))","v":""},null,{"$f":"IFERROR(VLOOKUP(T109,item!B:F,5,FALSE),\"\")","v":""},{"$f":"IFERROR(IF(VLOOKUP(T109,item!B:F,4,FALSE)=1,3.99,0),\"\")","v":""},0,"","0"]
[95,null,null,null,null,null,null,null,null,null,null,null,null,{"$f":"IF(L110=\"\",\"\",IFERROR(VLOOKUP(T110,item!B:C,2,FALSE),\"Wrong Code\"))","v":""},null,{"$f":"IFERROR(VLOOKUP(T110,item!B:F,5,FALSE),\"\")","v":""},{"$f":"IFERROR(IF(VLOOKUP(T110,item!B:F,4,FALSE)=1,3.99,0),\"\")","v":""},0,"","0"]
[96,null,null,null,null,null,null,null,null,null,null,null,null,{"$f":"IF(L111=\"\",\"\",IFERROR(VLOOKUP(T111,item!B:C,2,FALSE),\"Wrong Code\"))","v":""},null,{"$f":"IFERROR(VLOOKUP(T111,item!B:F,5,FALSE),\"\")","v":""},{"$f":"IFERROR(IF(VLOOKUP(T111,item!B:F,4,FALSE)=1,3.99,0),\"\")","v":""},0,"","0"]
[97,null,null,null,null,null,null,null,null,null,null,null,null,{"$f":"IF(L112=\"\",\"\",IFERROR(VLOOKUP(T112,item!B:C,2,FALSE),\"Wrong Code\"))","v":""},null,{"$f":"IFERROR(VLOOKUP(T112,item!B:F,5,FALSE),\"\")","v":""},{"$f":"IFERROR(IF(VLOOKUP(T112,item!B:F,4,FALSE)=1,3.99,0),\"\")","v":""},0,"","0"]
[98,null,null,null,null,null,null,null,null,null,null,null,null,{"$f":"IF(L113=\"\",\"\",IFERROR(VLOOKUP(T113,item!B:C,2,FALSE),\"Wrong Code\"))","v":""},null,{"$f":"IFERROR(VLOOKUP(T113,item!B:F,5,FALSE),\"\")","v":""},{"$f":"IFERROR(IF(VLOOKUP(T113,item!B:F,4,FALSE)=1,3.99,0),\"\")","v":""},0,"","0"]
[99,null,null,null,null,null,null,null,null,null,null,null,null,{"$f":"IF(L114=\"\",\"\",IFERROR(VLOOKUP(T114,item!B:C,2,FALSE),\"Wrong Code\"))","v":""},null,{"$f":"IFERROR(VLOOKUP(T114,item!B:F,5,FALSE),\"\")","v":""},{"$f":"IFERROR(IF(VLOOKUP(T114,item!B:F,4,FALSE)=1,3.99,0),\"\")","v":""},0,"","0"]
[100,null,null,null,null,null,null,null,null,null,null,null,null,{"$f":"IF(L115=\"\",\"\",IFERROR(VLOOKUP(T115,item!B:C,2,FALSE),\"Wrong Code\"))","v":""},null,{"$f":"IFERROR(VLOOKUP(T115,item!B:F,5,FALSE),\"\")","v":""},{"$f":"IFERROR(IF(VLOOKUP(T115,item!B:F,4,FALSE)=1,3.99,0),\"\")","v":""},0,"","0"]
[null,null,null,null,null,null,null,null,null,null,null,null,null,null,null,null,null,null,null,"0"]
["Please Note: You can copy and insert more lines if you need.  Thank you for trusting us with your order!",null,null,null,null,null,null,null,null,null,null,null,null,null,"Order Total","Product","ID Check","Shipping","Total"]
[null,null,null,null,null,null,null,null,null,null,null,null,null,null,null,{"$f":"SUM(P16:P115)","v":0},{"$f":"SUM(Q16:Q115)","v":0},0,0,{"$f":"SUM(#REF!)","v":{"$error":"#REF!"}}]
[]
[]
["Order Form Instructions & Information"]
["Line Information"]
["Line 11","Please use this line to fill in all of your information.  Please note the Buyer's First Name & Buyer's Last Name will show up in the From field on the card message."]
["Line 15","This is a Sample Line only.  Please do not edit or remove this line."]
["Line 16","Please use this line to start filling in your recipient data.  Each line represents a new recipient"]
["General","You can add as many lines to this document as needed.  Please be sure to leave only a one line space between your last order and the order total box"]
["International Shipments","Please note that a recipient phone number is required for all international shipments "]
[]
["Column Information"]
["Ship Date","Please list the date that you would like your package to arrive at it's destination.  We will ship your product out in time to achieve this arrival date."]
["Product ID","All of our products have a 4 or 5 digit SKU number.  Please list the sku number that corresponds to the basket you would like to send and the basket name, and price will auto populate"]
["Card Message","The card message field can accept up to 500 characters.  Please do not add hard line breaks to this field."]
["ID Check","This field should remain zero, unless you are shipping an item with alcohol in it.  If that is the case, please put $3.99 for each item that contains alcohol."]
["Shipping","The shipping column can remain at $0.00 as this cost will be calculated by our system once we process the order."]
["Order Total Fields","All order total fields use an excel formula.  Please note that if you add lines to this order form, those formulas may not work properly.  We will fix all issues prior to processing your order."]

{"sheet":"item","index":1,"n_rows":6646,"n_cols":6,"rows_kept":6646,"cut":false,"hidden":true,"merged":[]}
["ITEMNMBR","Column1","ITEMDESC","PRCLEVEL","IDCheck","UOMPRICE"]
["1000",{"$f":"TEXT(Table_Query_from_Great_Plains[[#This Row],[ITEMNMBR]],0)","v":"1000"},"Gourmet Food Basket Italian","RETAIL",0,79.989999999999995]
["1001",{"$f":"TEXT(Table_Query_from_Great_Plains[[#This Row],[ITEMNMBR]],0)","v":"1001"},"Gourmet Food Basket French","RETAIL",0,99.99]
["1002",{"$f":"TEXT(Table_Query_from_Great_Plains[[#This Row],[ITEMNMBR]],0)","v":"1002"},"Food Gift For Christmas","RETAIL",0,99.99]
["1003",{"$f":"TEXT(Table_Query_from_Great_Plains[[#This Row],[ITEMNMBR]],0)","v":"1003"},"Food Gift For Christmas Breakfast","RETAIL",0,79.989999999999995]
["1004",{"$f":"TEXT(Table_Query_from_Great_Plains[[#This Row],[ITEMNMBR]],0)","v":"1004"},"Birthday Gift Basket Basket Of Baked Goods","RETAIL",0,29.99]
["1005",{"$f":"TEXT(Table_Query_from_Great_Plains[[#This Row],[ITEMNMBR]],0)","v":"1005"},"Beer Gift Basket For Men Microbrew","RETAIL",1,39.99]
["1006",{"$f":"TEXT(Table_Query_from_Great_Plains[[#This Row],[ITEMNMBR]],0)","v":"1006"},"Christmas Basket Idea For men","RETAIL",0,59.99]
["1007",{"$f":"TEXT(Table_Query_from_Great_Plains[[#This Row],[ITEMNMBR]],0)","v":"1007"},"Christmas Basket Idea For Women","RETAIL",0,59.99]
["1008",{"$f":"TEXT(Table_Query_from_Great_Plains[[#This Row],[ITEMNMBR]],0)","v":"1008"},"Corporate Holiday Gift","RETAIL",0,59.99]
["1009",{"$f":"TEXT(Table_Query_from_Great_Plains[[#This Row],[ITEMNMBR]],0)","v":"1009"},"Corporate Holiday Gift Select","RETAIL",0,79.989999999999995]
["1010",{"$f":"TEXT(Table_Query_from_Great_Plains[[#This Row],[ITEMNMBR]],0)","v":"1010"},"Spa Gift Basket Hand Care","RETAIL",0,59.99]
["1011",{"$f":"TEXT(Table_Query_from_Great_Plains[[#This Row],[ITEMNMBR]],0)","v":"1011"},"Spa Gift Basket Foot Care","RETAIL",0,49.99]
["1012",{"$f":"TEXT(Table_Query_from_Great_Plains[[#This Row],[ITEMNMBR]],0)","v":"1012"},"Christmas Gift Basket Free Shipping Fruit","RETAIL",0,99.99]
["1013",{"$f":"TEXT(Table_Query_from_Great_Plains[[#This Row],[ITEMNMBR]],0)","v":"1013"},"Housewarming Gift Italian","RETAIL",0,79.989999999999995]
["1014",{"$f":"TEXT(Table_Query_from_Great_Plains[[#This Row],[ITEMNMBR]],0)","v":"1014"},"Italian Gift Basket","RETAIL",0,59.99]
["1015",{"$f":"TEXT(Table_Query_from_Great_Plains[[#This Row],[ITEMNMBR]],0)","v":"1015"},"Gift Basket For All Occassions","RETAIL",0,59.99]
["1016",{"$f":"TEXT(Table_Query_from_Great_Plains[[#This Row],[ITEMNMBR]],0)","v":"1016"},"Care Package For College Students","RETAIL",0,34.99]
["1017",{"$f":"TEXT(Table_Query_from_Great_Plains[[#This Row],[ITEMNMBR]],0)","v":"1017"},"Get Well Gift Basket","RETAIL",0,79.989999999999995]
["1018",{"$f":"TEXT(Table_Query_from_Great_Plains[[#This Row],[ITEMNMBR]],0)","v":"1018"},"Get Well Gift Basket Of Fruit","RETAIL",0,39.99]
["1019",{"$f":"TEXT(Table_Query_from_Great_Plains[[#This Row],[ITEMNMBR]],0)","v":"1019"},"Care Package Idea For Kids","RETAIL",0,34.99]
["101A2X",{"$f":"TEXT(Table_Query_from_Great_Plains[[#This Row],[ITEMNMBR]],0)","v":"101A2X"},"New York Yankees Gift Basket Classic - 2X","RETAIL",0,79.989999999999995]
["101ALG",{"$f":"TEXT(Table_Query_from_Great_Plains[[#This Row],[ITEMNMBR]],0)","v":"101ALG"},"New York Yankees Gift Basket Classic - LG","RETAIL",0,79.989999999999995]
["101AMD",{"$f":"TEXT(Table_Query_from_Great_Plains[[#This Row],[ITEMNMBR]],0)","v":"101AMD"},"New York Yankees Gift Basket Classic - MD","RETAIL",0,79.989999999999995]
["101ASM",{"$f":"TEXT(Table_Query_from_Great_Plains[[#This Row],[ITEMNMBR]],0)","v":"101ASM"},"New York Yankees Gift Basket Classic - SM","RETAIL",0,79.989999999999995]
["101AXL",{"$f":"TEXT(Table_Query_from_Great_Plains[[#This Row],[ITEMNMBR]],0)","v":"101AXL"},"New York Yankees Gift Basket Classic - XL","RETAIL",0,79.989999999999995]
["101B2X",{"$f":"TEXT(Table_Query_from_Great_Plains[[#This Row],[ITEMNMBR]],0)","v":"101B2X"},"New York Yankees Gift Basket Deluxe - 2X","RETAIL",0,119.99]
["101BLG",{"$f":"TEXT(Table_Query_from_Great_Plains[[#This Row],[ITEMNMBR]],0)","v":"101BLG"},"New York Yankees Gift Basket Deluxe - LG","RETAIL",0,119.99]
["101BMD",{"$f":"TEXT(Table_Query_from_Great_Plains[[#This Row],[ITEMNMBR]],0)","v":"101BMD"},"New York Yankees Gift Basket Deluxe - MD","RETAIL",0,59.99]
["101BSM",{"$f":"TEXT(Table_Query_from_Great_Plains[[#This Row],[ITEMNMBR]],0)","v":"101BSM"},"New York Yankees Gift Basket Deluxe - SM","RETAIL",0,119.99]
["101BXL",{"$f":"TEXT(Table_Query_from_Great_Plains[[#This Row],[ITEMNMBR]],0)","v":"101BXL"},"New York Yankees Gift Basket Deluxe - XL","RETAIL",0,119.99]
["1020",{"$f":"TEXT(Table_Query_from_Great_Plains[[#This Row],[ITEMNMBR]],0)","v":"1020"},"Care Package Idea For Men","RETAIL",0,34.99]
["1021",{"$f":"TEXT(Table_Query_from_Great_Plains[[#This Row],[ITEMNMBR]],0)","v":"1021"},"Corporate Gift Basket Red Wine","RETAIL",1,69.989999999999995]
["1022",{"$f":"TEXT(Table_Query_from_Great_Plains[[#This Row],[ITEMNMBR]],0)","v":"1022"},"Corporate Gift Basket White WIne","RETAIL",1,69.989999999999995]
["1023",{"$f":"TEXT(Table_Query_from_Great_Plains[[#This Row],[ITEMNMBR]],0)","v":"1023"},"Gift Basket Idea For Men Who Fish","RETAIL",0,59.99]
["1024",{"$f":"TEXT(Table_Query_from_Great_Plains[[#This Row],[ITEMNMBR]],0)","v":"1024"},"Beer Basket With Popcorn","RETAIL",1,39.99]
["1025",{"$f":"TEXT(Table_Query_from_Great_Plains[[#This Row],[ITEMNMBR]],0)","v":"1025"},"Wine Basket Red","RETAIL",1,69.989999999999995]
["1026",{"$f":"TEXT(Table_Query_from_Great_Plains[[#This Row],[ITEMNMBR]],0)","v":"1026"},"Wine Basket White","RETAIL",0,69.989999999999995]
["1027",{"$f":"TEXT(Table_Query_from_Great_Plains[[#This Row],[ITEMNMBR]],0)","v":"1027"},"Golf Gift For Men","RETAIL",0,59.99]
["1028",{"$f":"TEXT(Table_Query_from_Great_Plains[[#This Row],[ITEMNMBR]],0)","v":"1028"},"Golf Gift For Women","RETAIL",0,69.989999999999995]
["1029",{"$f":"TEXT(Table_Query_from_Great_Plains[[#This Row],[ITEMNMBR]],0)","v":"1029"},"Christmas Gift Basket For Families","RETAIL",0,229.99]
["102A2X",{"$f":"TEXT(Table_Query_from_Great_Plains[[#This Row],[ITEMNMBR]],0)","v":"102A2X"},"Boston Red Sox Gift Basket Classic - 2X","RETAIL",0,39.99]
["102ALG",{"$f":"TEXT(Table_Query_from_Great_Plains[[#This Row],[ITEMNMBR]],0)","v":"102ALG"},"Boston Red Sox Gift Basket Classic - LG","RETAIL",0,79.989999999999995]
["102AMD",{"$f":"TEXT(Table_Query_from_Great_Plains[[#This Row],[ITEMNMBR]],0)","v":"102AMD"},"Boston Red Sox Gift Basket Classic - MD","RETAIL",0,79.989999999999995]
["102ASM",{"$f":"TEXT(Table_Query_from_Great_Plains[[#This Row],[ITEMNMBR]],0)","v":"102ASM"},"Boston Red Sox Gift Basket Classic - SM","RETAIL",0,79.989999999999995]
["102AXL",{"$f":"TEXT(Table_Query_from_Great_Plains[[#This Row],[ITEMNMBR]],0)","v":"102AXL"},"Boston Red Sox Gift Basket Classic - XL","RETAIL",0,79.989999999999995]
["102B2X",{"$f":"TEXT(Table_Query_from_Great_Plains[[#This Row],[ITEMNMBR]],0)","v":"102B2X"},"Boston Red Sox Gift Basket Deluxe - 2X","RETAIL",0,59.99]
["102BLG",{"$f":"TEXT(Table_Query_from_Great_Plains[[#This Row],[ITEMNMBR]],0)","v":"102BLG"},"Boston Red Sox Gift Basket Deluxe - LG","RETAIL",0,119.99]
["102BMD",{"$f":"TEXT(Table_Query_from_Great_Plains[[#This Row],[ITEMNMBR]],0)","v":"102BMD"},"Boston Red Sox Gift Basket Deluxe - MD","RETAIL",0,119.99]
["102BSM",{"$f":"TEXT(Table_Query_from_Great_Plains[[#This Row],[ITEMNMBR]],0)","v":"102BSM"},"Boston Red Sox Gift Basket Deluxe - SM","RETAIL",0,119.99]
["102BXL",{"$f":"TEXT(Table_Query_from_Great_Plains[[#This Row],[ITEMNMBR]],0)","v":"102BXL"},"Boston Red Sox Gift Basket Deluxe - XL","RETAIL",0,119.99]
["1030",{"$f":"TEXT(Table_Query_from_Great_Plains[[#This Row],[ITEMNMBR]],0)","v":"1030"},"College Care Package of Snacks","RETAIL",0,34.99]
["1031",{"$f":"TEXT(Table_Query_from_Great_Plains[[#This Row],[ITEMNMBR]],0)","v":"1031"},"Sympathy Gift Basket Premium","RETAIL",0,79.989999999999995]
["1032",{"$f":"TEXT(Table_Query_from_Great_Plains[[#This Row],[ITEMNMBR]],0)","v":"1032"},"Holidy Gift Basket for Clients Classic","RETAIL",0,59.99]
["1033",{"$f":"TEXT(Table_Query_from_Great_Plains[[#This Row],[ITEMNMBR]],0)","v":"1033"},"Nut Gift Crate Classic","RETAIL",0,39.99]
["1034",{"$f":"TEXT(Table_Query_from_Great_Plains[[#This Row],[ITEMNMBR]],0)","v":"1034"},"Nut Gift Crate Premium","RETAIL",0,59.99]
["1035",{"$f":"TEXT(Table_Query_from_Great_Plains[[#This Row],[ITEMNMBR]],0)","v":"1035"},"New Years Gift Basket","RETAIL",1,99.99]
["1036A",{"$f":"TEXT(Table_Query_from_Great_Plains[[#This Row],[ITEMNMBR]],0)","v":"1036A"},"New Years Gift Basket of Celebration - Moet","RETAIL",1,129.99]
["1036B",{"$f":"TEXT(Table_Query_from_Great_Plains[[#This Row],[ITEMNMBR]],0)","v":"1036B"},"New Years Gift Basket of Celebration - Veuve","RETAIL",1,139.99]
["1036C",{"$f":"TEXT(Table_Query_from_Great_Plains[[#This Row],[ITEMNMBR]],0)","v":"1036C"},"New Years Gift Basket of Celebration - Dom Perignon","RETAIL",1,239.99]
["1037A",{"$f":"TEXT(Table_Query_from_Great_Plains[[#This Row],[ITEMNMBR]],0)","v":"1037A"},"New Years Gift Basket of Indulgence - Ravenswood","RETAIL",1,89.99]
["1037B",{"$f":"TEXT(Table_Query_from_Great_Plains[[#This Row],[ITEMNMBR]],0)","v":"1037B"},"New Years Gift Basket of Indulgence - Catena","RETAIL",1,99.99]
["1037C",{"$f":"TEXT(Table_Query_from_Great_Plains[[#This Row],[ITEMNMBR]],0)","v":"1037C"},"New Years Gift Basket of Indulgence - Silver Oak","RETAIL",1,149.99]
["1038",{"$f":"TEXT(Table_Query_from_Great_Plains[[#This Row],[ITEMNMBR]],0)","v":"1038"},"Holiday Fod Gift Basket of Treats","RETAIL",0,59.99]
["1039",{"$f":"TEXT(Table_Query_from_Great_Plains[[#This Row],[ITEMNMBR]],0)","v":"1039"},"Holiday Food Gift Basket","RETAIL",0,24.99]
["103A2X",{"$f":"TEXT(Table_Query_from_Great_Plains[[#This Row],[ITEMNMBR]],0)","v":"103A2X"},"Philadelphia Phillies Gift Basket Classic - 2X","RETAIL",0,79.989999999999995]
["103ALG",{"$f":"TEXT(Table_Query_from_Great_Plains[[#This Row],[ITEMNMBR]],0)","v":"103ALG"},"Philadelphia Phillies Gift Basket Classic - LG","RETAIL",0,79.989999999999995]
["103AMD",{"$f":"TEXT(Table_Query_from_Great_Plains[[#This Row],[ITEMNMBR]],0)","v":"103AMD"},"Philadelphia Phillies Gift Basket Classic - MD","RETAIL",0,79.989999999999995]
["103ASM",{"$f":"TEXT(Table_Query_from_Great_Plains[[#This Row],[ITEMNMBR]],0)","v":"103ASM"},"Philadelphia Phillies Gift Basket Classic - SM","RETAIL",0,79.989999999999995]
["103AXL",{"$f":"TEXT(Table_Query_from_Great_Plains[[#This Row],[ITEMNMBR]],0)","v":"103AXL"},"Philadelphia Phillies Gift Basket Classic - XL","RETAIL",0,79.989999999999995]
["103B2X",{"$f":"TEXT(Table_Query_from_Great_Plains[[#This Row],[ITEMNMBR]],0)","v":"103B2X"},"Philadelphia Phillies Gift Basket Deluxe - 2X","RETAIL",0,119.99]
["103BLG",{"$f":"TEXT(Table_Query_from_Great_Plains[[#This Row],[ITEMNMBR]],0)","v":"103BLG"},"Philadelphia Phillies Gift Basket Deluxe - LG","RETAIL",0,59.99]
["103BMD",{"$f":"TEXT(Table_Query_from_Great_Plains[[#This Row],[ITEMNMBR]],0)","v":"103BMD"},"Philadelphia Phillies Gift Basket Deluxe - MD","RETAIL",0,59.99]
["103BSM",{"$f":"TEXT(Table_Query_from_Great_Plains[[#This Row],[ITEMNMBR]],0)","v":"103BSM"},"Philadelphia Phillies Gift Basket Deluxe - SM","RETAIL",0,59.99]
["103BXL",{"$f":"TEXT(Table_Query_from_Great_Plains[[#This Row],[ITEMNMBR]],0)","v":"103BXL"},"Philadelphia Phillies Gift Basket Deluxe - XL","RETAIL",0,59.99]
["1040",{"$f":"TEXT(Table_Query_from_Great_Plains[[#This Row],[ITEMNMBR]],0)","v":"1040"},"Christmas Fruit Basket Classic","RETAIL",0,49.99]
["1041",{"$f":"TEXT(Table_Query_from_Great_Plains[[#This Row],[ITEMNMBR]],0)","v":"1041"},"Christmas Gourmet Gift Basket","RETAIL",0,69.989999999999995]
["1042",{"$f":"TEXT(Table_Query_from_Great_Plains[[#This Row],[ITEMNMBR]],0)","v":"1042"},"Christmas Gourmet Gift Basket Classic","RETAIL",0,59.99]
["1043",{"$f":"TEXT(Table_Query_from_Great_Plains[[#This Row],[ITEMNMBR]],0)","v":"1043"},"Holiday Gift Basket Idea For Men","RETAIL",0,89.99]
["1044",{"$f":"TEXT(Table_Query_from_Great_Plains[[#This Row],[ITEMNMBR]],0)","v":"1044"},"Holiday Gift Basket Idea For Women","RETAIL",0,79.989999999999995]
["1045",{"$f":"TEXT(Table_Query_from_Great_Plains[[#This Row],[ITEMNMBR]],0)","v":"1045"},"Christmas Gift Basket Idea For Men","RETAIL",0,24.99]
["1046",{"$f":"TEXT(Table_Query_from_Great_Plains[[#This Row],[ITEMNMBR]],0)","v":"1046"},"Christmas Gift Basket Idea For Women","RETAIL",0,24.99]
["1047",{"$f":"TEXT(Table_Query_from_Great_Plains[[#This Row],[ITEMNMBR]],0)","v":"1047"},"Corporate Holiday Gift Idea","RETAIL",0,34.99]
["1048",{"$f":"TEXT(Table_Query_from_Great_Plains[[#This Row],[ITEMNMBR]],0)","v":"1048"},"Corporate Holiday Gift Idea for VIP","RETAIL",0,159.99]
["1049",{"$f":"TEXT(Table_Query_from_Great_Plains[[#This Row],[ITEMNMBR]],0)","v":"1049"},"Gift For Parents Classic","RETAIL",0,59.99]
["104A2X",{"$f":"TEXT(Table_Query_from_Great_Plains[[#This Row],[ITEMNMBR]],0)","v":"104A2X"},"Chicago Cubs Gift Basket Classic - 2X","RETAIL",0,79.989999999999995]
["104ALG",{"$f":"TEXT(Table_Query_from_Great_Plains[[#This Row],[ITEMNMBR]],0)","v":"104ALG"},"Chicago Cubs Gift Basket Classic - LG","RETAIL",0,39.99]
["104AMD",{"$f":"TEXT(Table_Query_from_Great_Plains[[#This Row],[ITEMNMBR]],0)","v":"104AMD"},"Chicago Cubs Gift Basket Classic - MD","RETAIL",0,39.99]
["104ASM",{"$f":"TEXT(Table_Query_from_Great_Plains[[#This Row],[ITEMNMBR]],0)","v":"104ASM"},"Chicago Cubs Gift Basket Classic - SM","RETAIL",0,79.989999999999995]
["104AXL",{"$f":"TEXT(Table_Query_from_Great_Plains[[#This Row],[ITEMNMBR]],0)","v":"104AXL"},"Chicago Cubs Gift Basket Classic - XL","RETAIL",0,79.989999999999995]
["104B2X",{"$f":"TEXT(Table_Query_from_Great_Plains[[#This Row],[ITEMNMBR]],0)","v":"104B2X"},"Chicago Cubs Gift Basket Deluxe - 2X","RETAIL",0,119.99]
["104BLG",{"$f":"TEXT(Table_Query_from_Great_Plains[[#This Row],[ITEMNMBR]],0)","v":"104BLG"},"Chicago Cubs Gift Basket Deluxe - LG","RETAIL",0,59.99]
["104BMD",{"$f":"TEXT(Table_Query_from_Great_Plains[[#This Row],[ITEMNMBR]],0)","v":"104BMD"},"Chicago Cubs Gift Basket Deluxe - MD","RETAIL",0,59.99]
["104BSM",{"$f":"TEXT(Table_Query_from_Great_Plains[[#This Row],[ITEMNMBR]],0)","v":"104BSM"},"Chicago Cubs Gift Basket Deluxe - SM","RETAIL",0,59.99]
["104BXL",{"$f":"TEXT(Table_Query_from_Great_Plains[[#This Row],[ITEMNMBR]],0)","v":"104BXL"},"Chicago Cubs Gift Basket Deluxe - XL","RETAIL",0,59.99]
["1050",{"$f":"TEXT(Table_Query_from_Great_Plains[[#This Row],[ITEMNMBR]],0)","v":"1050"},"Gift for Parents Deluxe","RETAIL",0,99.99]
["1051",{"$f":"TEXT(Table_Query_from_Great_Plains[[#This Row],[ITEMNMBR]],0)","v":"1051"},"Tea Gift Basket","RETAIL",0,24.99]
["1052",{"$f":"TEXT(Table_Query_from_Great_Plains[[#This Row],[ITEMNMBR]],0)","v":"1052"},"Tea Gift Basket Premium","RETAIL",0,79.989999999999995]
["1053",{"$f":"TEXT(Table_Query_from_Great_Plains[[#This Row],[ITEMNMBR]],0)","v":"1053"},"Gift Basket Free Shipping","RETAIL",0,79.989999999999995]
["1054",{"$f":"TEXT(Table_Query_from_Great_Plains[[#This Row],[ITEMNMBR]],0)","v":"1054"},"Gift for Golfers","RETAIL",0,49.99]
["1055",{"$f":"TEXT(Table_Query_from_Great_Plains[[#This Row],[ITEMNMBR]],0)","v":"1055"},"Kids Gift Basket of Pizza","RETAIL",0,79.989999999999995]
["1056",{"$f":"TEXT(Table_Query_from_Great_Plains[[#This Row],[ITEMNMBR]],0)","v":"1056"},"Kids Gift Basket Ice Cream Party","RETAIL",0,69.989999999999995]
["1057",{"$f":"TEXT(Table_Query_from_Great_Plains[[#This Row],[ITEMNMBR]],0)","v":"1057"},"Chocolate Gift Basket of Treats","RETAIL",0,24.99]
["1058",{"$f":"TEXT(Table_Query_from_Great_Plains[[#This Row],[ITEMNMBR]],0)","v":"1058"},"Gardening Gift","RETAIL",0,49.99]
["105A2X",{"$f":"TEXT(Table_Query_from_Great_Plains[[#This Row],[ITEMNMBR]],0)","v":"105A2X"},"New York Mets Gift Basket Classic - 2X","RETAIL",0,79.989999999999995]
["105ALG",{"$f":"TEXT(Table_Query_from_Great_Plains[[#This Row],[ITEMNMBR]],0)","v":"105ALG"},"New York Mets Gift Basket Classic - LG","RETAIL",0,39.99]
["105AMD",{"$f":"TEXT(Table_Query_from_Great_Plains[[#This Row],[ITEMNMBR]],0)","v":"105AMD"},"New York Mets Gift Basket Classic - MD","RETAIL",0,39.99]
["105ASM",{"$f":"TEXT(Table_Query_from_Great_Plains[[#This Row],[ITEMNMBR]],0)","v":"105ASM"},"New York Mets Gift Basket Classic - SM","RETAIL",0,39.99]
["105AXL",{"$f":"TEXT(Table_Query_from_Great_Plains[[#This Row],[ITEMNMBR]],0)","v":"105AXL"},"New York Mets Gift Basket Classic - XL","RETAIL",0,79.989999999999995]
["105B2X",{"$f":"TEXT(Table_Query_from_Great_Plains[[#This Row],[ITEMNMBR]],0)","v":"105B2X"},"New York Mets Gift Basket Deluxe - 2X","RETAIL",0,119.99]
["105BLG",{"$f":"TEXT(Table_Query_from_Great_Plains[[#This Row],[ITEMNMBR]],0)","v":"105BLG"},"New York Mets Gift Basket Deluxe - LG","RETAIL",0,59.99]
["105BMD",{"$f":"TEXT(Table_Query_from_Great_Plains[[#This Row],[ITEMNMBR]],0)","v":"105BMD"},"New York Mets Gift Basket Deluxe - MD","RETAIL",0,59.99]
["105BSM",{"$f":"TEXT(Table_Query_from_Great_Plains[[#This Row],[ITEMNMBR]],0)","v":"105BSM"},"New York Mets Gift Basket Deluxe - SM","RETAIL",0,119.99]
["105BXL",{"$f":"TEXT(Table_Query_from_Great_Plains[[#This Row],[ITEMNMBR]],0)","v":"105BXL"},"New York Mets Gift Basket Deluxe - XL","RETAIL",0,119.99]
["106A2X",{"$f":"TEXT(Table_Query_from_Great_Plains[[#This Row],[ITEMNMBR]],0)","v":"106A2X"},"Los Angelas Dodgers Gift Basket Classic - 2X","RETAIL",0,39.99]
["106ALG",{"$f":"TEXT(Table_Query_from_Great_Plains[[#This Row],[ITEMNMBR]],0)","v":"106ALG"},"Los Angelas Dodgers Gift Basket Classic - LG","RETAIL",0,39.99]
["106AMD",{"$f":"TEXT(Table_Query_from_Great_Plains[[#This Row],[ITEMNMBR]],0)","v":"106AMD"},"Los Angelas Dodgers Gift Basket Classic - MD","RETAIL",0,39.99]
["106ASM",{"$f":"TEXT(Table_Query_from_Great_Plains[[#This Row],[ITEMNMBR]],0)","v":"106ASM"},"Los Angelas Dodgers Gift Basket Classic - SM","RETAIL",0,39.99]
["106AXL",{"$f":"TEXT(Table_Query_from_Great_Plains[[#This Row],[ITEMNMBR]],0)","v":"106AXL"},"Los Angelas Dodgers Gift Basket Classic - XL","RETAIL",0,39.99]
["106B2X",{"$f":"TEXT(Table_Query_from_Great_Plains[[#This Row],[ITEMNMBR]],0)","v":"106B2X"},"Los Angelas Dodgers Gift Basket Deluxe - 2X","RETAIL",0,119.99]
["106BLG",{"$f":"TEXT(Table_Query_from_Great_Plains[[#This Row],[ITEMNMBR]],0)","v":"106BLG"},"Los Angelas Dodgers Gift Basket Deluxe - LG","RETAIL",0,59.99]
["106BMD",{"$f":"TEXT(Table_Query_from_Great_Plains[[#This Row],[ITEMNMBR]],0)","v":"106BMD"},"Los Angelas Dodgers Gift Basket Deluxe - MD","RETAIL",0,119.99]
["106BSM",{"$f":"TEXT(Table_Query_from_Great_Plains[[#This Row],[ITEMNMBR]],0)","v":"106BSM"},"Los Angelas Dodgers Gift Basket Deluxe - SM","RETAIL",0,59.99]
["106BXL",{"$f":"TEXT(Table_Query_from_Great_Plains[[#This Row],[ITEMNMBR]],0)","v":"106BXL"},"Los Angelas Dodgers Gift Basket Deluxe - XL","RETAIL",0,59.99]
["107A2X",{"$f":"TEXT(Table_Query_from_Great_Plains[[#This Row],[ITEMNMBR]],0)","v":"107A2X"},"ST Louis Cardinals Gift Basket Classic - 2X","RETAIL",0,79.989999999999995]
["107ALG",{"$f":"TEXT(Table_Query_from_Great_Plains[[#This Row],[ITEMNMBR]],0)","v":"107ALG"},"ST Louis Cardinals Gift Basket Classic - LG","RETAIL",0,79.989999999999995]
["107AMD",{"$f":"TEXT(Table_Query_from_Great_Plains[[#This Row],[ITEMNMBR]],0)","v":"107AMD"},"ST Louis Cardinals Gift Basket Classic - MD","RETAIL",0,79.989999999999995]
["107ASM",{"$f":"TEXT(Table_Query_from_Great_Plains[[#This Row],[ITEMNMBR]],0)","v":"107ASM"},"ST Louis Cardinals Gift Basket Classic - SM","RETAIL",0,39.99]
["107AXL",{"$f":"TEXT(Table_Query_from_Great_Plains[[#This Row],[ITEMNMBR]],0)","v":"107AXL"},"ST Louis Cardinals Gift Basket Classic - XL","RETAIL",0,79.989999999999995]
["107B2X",{"$f":"TEXT(Table_Query_from_Great_Plains[[#This Row],[ITEMNMBR]],0)","v":"107B2X"},"ST Louis Cardinals Gift Basket Deluxe - 2X","RETAIL",0,119.99]
["107BLG",{"$f":"TEXT(Table_Query_from_Great_Plains[[#This Row],[ITEMNMBR]],0)","v":"107BLG"},"ST Louis Cardinals Gift Basket Deluxe - LG","RETAIL",0,59.99]
["107BMD",{"$f":"TEXT(Table_Query_from_Great_Plains[[#This Row],[ITEMNMBR]],0)","v":"107BMD"},"ST Louis Cardinals Gift Basket Deluxe - MD","RETAIL",0,119.99]
["107BSM",{"$f":"TEXT(Table_Query_from_Great_Plains[[#This Row],[ITEMNMBR]],0)","v":"107BSM"},"ST Louis Cardinals Gift Basket Deluxe - SM","RETAIL",0,59.99]
["107BXL",{"$f":"TEXT(Table_Query_from_Great_Plains[[#This Row],[ITEMNMBR]],0)","v":"107BXL"},"ST Louis Cardinals Gift Basket Deluxe - XL","RETAIL",0,59.99]
["1184",{"$f":"TEXT(Table_Query_from_Great_Plains[[#This Row],[ITEMNMBR]],0)","v":"1184"},"Birthday Basket","RETAIL",0,34.99]
["1234",{"$f":"TEXT(Table_Query_from_Great_Plains[[#This Row],[ITEMNMBR]],0)","v":"1234"},"Snacks For My Sweetheart","RETAIL",0,39.99]
["1321",{"$f":"TEXT(Table_Query_from_Great_Plains[[#This Row],[ITEMNMBR]],0)","v":"1321"},"Holiday Dinner Party Popcorn Sampler - FREE SHIPPING","RETAIL",0,34.99]
["1362",{"$f":"TEXT(Table_Query_from_Great_Plains[[#This Row],[ITEMNMBR]],0)","v":"1362"},"Halloween Snack Tin","RETAIL",0,39.99]
["1363",{"$f":"TEXT(Table_Query_from_Great_Plains[[#This Row],[ITEMNMBR]],0)","v":"1363"},"Halloween Treats","RETAIL",0,29.99]
["18A",{"$f":"TEXT(Table_Query_from_Great_Plains[[#This Row],[ITEMNMBR]],0)","v":"18A"},"Mylar Balloon - One","RETAIL",0,4.99]
["18B",{"$f":"TEXT(Table_Query_from_Great_Plains[[#This Row],[ITEMNMBR]],0)","v":"18B"},"Mylar Balloon - Two","RETAIL",0,9.99]
["18C",{"$f":"TEXT(Table_Query_from_Great_Plains[[#This Row],[ITEMNMBR]],0)","v":"18C"},"Mylar Balloons - Three","RETAIL",0,14.99]
["18D",{"$f":"TEXT(Table_Query_from_Great_Plains[[#This Row],[ITEMNMBR]],0)","v":"18D"},"Mylar Balloons - Four","RETAIL",0,19.989999999999998]
["18E",{"$f":"TEXT(Table_Query_from_Great_Plains[[#This Row],[ITEMNMBR]],0)","v":"18E"},"Mylar Balloons - Five","RETAIL",0,24.99]
["1985",{"$f":"TEXT(Table_Query_from_Great_Plains[[#This Row],[ITEMNMBR]],0)","v":"1985"},"Send a Bear Hug Care Package","RETAIL",0,49.99]
["1COFFEE",{"$f":"TEXT(Table_Query_from_Great_Plains[[#This Row],[ITEMNMBR]],0)","v":"1COFFEE"},"Add 1 Pot Of Coffee","RETAIL",0,2.99]
["2124",{"$f":"TEXT(Table_Query_from_Great_Plains[[#This Row],[ITEMNMBR]],0)","v":"2124"},"Teleflora's Moulin Rouge Bouquet","RETAIL",0,70]
["2125",{"$f":"TEXT(Table_Query_from_Great_Plains[[#This Row],[ITEMNMBR]],0)","v":"2125"},"Teleflora's Hearts and Roses Bouquet","RETAIL",0,110]
["2126",{"$f":"TEXT(Table_Query_from_Great_Plains[[#This Row],[ITEMNMBR]],0)","v":"2126"},"Teleflora's M&M Valentine Bouquet","RETAIL",0,39.99]
["24CANDLES",{"$f":"TEXT(Table_Query_from_Great_Plains[[#This Row],[ITEMNMBR]],0)","v":"24CANDLES"},"Add 24 Birthday Candles","RETAIL",0,3.99]
["2580",{"$f":"TEXT(Table_Query_from_Great_Plains[[#This Row],[ITEMNMBR]],0)","v":"2580"},"Teleflora’s Embraceable You Bouquet","RETAIL",0,84.99]
["2582",{"$f":"TEXT(Table_Query_from_Great_Plains[[#This Row],[ITEMNMBR]],0)","v":"2582"},"Teleflora’s Love Sweet Love Bouquet","RETAIL",0,39.99]
["2584",{"$f":"TEXT(Table_Query_from_Great_Plains[[#This Row],[ITEMNMBR]],0)","v":"2584"},"Teleflora’s From The Heart","RETAIL",0,590.99]
["2616",{"$f":"TEXT(Table_Query_from_Great_Plains[[#This Row],[ITEMNMBR]],0)","v":"2616"},"Teleflora’s 16 Kisses Bouquet","RETAIL",0,134.99]
["3500",{"$f":"TEXT(Table_Query_from_Great_Plains[[#This Row],[ITEMNMBR]],0)","v":"3500"},"Mixed Flowers - Designer Choice","RETAIL",0,0]
["3510",{"$f":"TEXT(Table_Query_from_Great_Plains[[#This Row],[ITEMNMBR]],0)","v":"3510"},"Gourmet Food Only Same Day Basket","RETAIL",0,0]
["3510A",{"$f":"TEXT(Table_Query_from_Great_Plains[[#This Row],[ITEMNMBR]],0)","v":"3510A"},"Gourmet Food Only Same Day Basket","RETAIL",0,75]
["3510B",{"$f":"TEXT(Table_Query_from_Great_Plains[[#This Row],[ITEMNMBR]],0)","v":"3510B"},"Gourmet Food Only Same Day Basket","RETAIL",0,85]
["3510C",{"$f":"TEXT(Table_Query_from_Great_Plains[[#This Row],[ITEMNMBR]],0)","v":"3510C"},"Gourmet Food Only Same Day Basket","RETAIL",0,95]
["3510D",{"$f":"TEXT(Table_Query_from_Great_Plains[[#This Row],[ITEMNMBR]],0)","v":"3510D"},"Gourmet Food Only Same Day Basket","RETAIL",0,125]
["3510E",{"$f":"TEXT(Table_Query_from_Great_Plains[[#This Row],[ITEMNMBR]],0)","v":"3510E"},"Gourmet Food Only Same Day Basket","RETAIL",0,150]
["3510F",{"$f":"TEXT(Table_Query_from_Great_Plains[[#This Row],[ITEMNMBR]],0)","v":"3510F"},"Gourmet Food Only Same Day Basket","RETAIL",0,200]
["3510G",{"$f":"TEXT(Table_Query_from_Great_Plains[[#This Row],[ITEMNMBR]],0)","v":"3510G"},"Gourmet Food Only Same Day Basket","RETAIL",0,250]
["3511",{"$f":"TEXT(Table_Query_from_Great_Plains[[#This Row],[ITEMNMBR]],0)","v":"3511"},"Fruit and Gourmet Same Day Baskets","RETAIL",0,0]
["3511A",{"$f":"TEXT(Table_Query_from_Great_Plains[[#This Row],[ITEMNMBR]],0)","v":"3511A"},"Fruit and Gourmet Same Day Baskets","RETAIL",0,75]
["3511B",{"$f":"TEXT(Table_Query_from_Great_Plains[[#This Row],[ITEMNMBR]],0)","v":"3511B"},"Fruit and Gourmet Same day Baskets","RETAIL",0,85]
["3511C",{"$f":"TEXT(Table_Query_from_Great_Plains[[#This Row],[ITEMNMBR]],0)","v":"3511C"},"Fruit and Gourmet Same Day Baskets","RETAIL",0,95]
["3511D",{"$f":"TEXT(Table_Query_from_Great_Plains[[#This Row],[ITEMNMBR]],0)","v":"3511D"},"Fruit and Gourmet Same Day Baskets","RETAIL",0,125]
["3511E",{"$f":"TEXT(Table_Query_from_Great_Plains[[#This Row],[ITEMNMBR]],0)","v":"3511E"},"Fruit and Gourmet Same Day Baskets","RETAIL",0,150]
["3511F",{"$f":"TEXT(Table_Query_from_Great_Plains[[#This Row],[ITEMNMBR]],0)","v":"3511F"},"Fruit and Gourmet Same Day Baskets","RETAIL",0,200]
["3511G",{"$f":"TEXT(Table_Query_from_Great_Plains[[#This Row],[ITEMNMBR]],0)","v":"3511G"},"Fruit and Gourmet Same Day Baskets","RETAIL",0,250]
["3512",{"$f":"TEXT(Table_Query_from_Great_Plains[[#This Row],[ITEMNMBR]],0)","v":"3512"},"Only Fruit Same Day Baskets","RETAIL",0,0]
["3512A",{"$f":"TEXT(Table_Query_from_Great_Plains[[#This Row],[ITEMNMBR]],0)","v":"3512A"},"Only Fruit Same Day Baskets","RETAIL",0,75]
["3512B",{"$f":"TEXT(Table_Query_from_Great_Plains[[#This Row],[ITEMNMBR]],0)","v":"3512B"},"Only Fruit Same Day Baskets","RETAIL",0,85]
["3512C",{"$f":"TEXT(Table_Query_from_Great_Plains[[#This Row],[ITEMNMBR]],0)","v":"3512C"},"Only Fruit Same Day Baskets","RETAIL",0,95]
["3512D",{"$f":"TEXT(Table_Query_from_Great_Plains[[#This Row],[ITEMNMBR]],0)","v":"3512D"},"Only Fruit Same Day Baskets","RETAIL",0,125]
["3512E",{"$f":"TEXT(Table_Query_from_Great_Plains[[#This Row],[ITEMNMBR]],0)","v":"3512E"},"Only Fruit Same Day Baskets","RETAIL",0,150]
["3512F",{"$f":"TEXT(Table_Query_from_Great_Plains[[#This Row],[ITEMNMBR]],0)","v":"3512F"},"Only Fruit Same Day Baskets","RETAIL",0,200]
["3512G",{"$f":"TEXT(Table_Query_from_Great_Plains[[#This Row],[ITEMNMBR]],0)","v":"3512G"},"Only Fruit Same Day Baskets","RETAIL",0,250]
["3513",{"$f":"TEXT(Table_Query_from_Great_Plains[[#This Row],[ITEMNMBR]],0)","v":"3513"},"Gourmet Cheese Crackers & Fruit","RETAIL",0,0]
["3513A",{"$f":"TEXT(Table_Query_from_Great_Plains[[#This Row],[ITEMNMBR]],0)","v":"3513A"},"Fruit Cheese and Crackers Same Day Baskets","RETAIL",0,75]
["3513B",{"$f":"TEXT(Table_Query_from_Great_Plains[[#This Row],[ITEMNMBR]],0)","v":"3513B"},"Fruit Cheese and Crackers Same Day Baskets","RETAIL",0,85]
["3513C",{"$f":"TEXT(Table_Query_from_Great_Plains[[#This Row],[ITEMNMBR]],0)","v":"3513C"},"Fruit Cheese and Crackers Same Day Baskets","RETAIL",0,95]
["3513D",{"$f":"TEXT(Table_Query_from_Great_Plains[[#This Row],[ITEMNMBR]],0)","v":"3513D"},"Fruit Cheese and Crackers Same Day Baskets","RETAIL",0,125]
["3513E",{"$f":"TEXT(Table_Query_from_Great_Plains[[#This Row],[ITEMNMBR]],0)","v":"3513E"},"Fruit Cheese and Crackers Same Day Baskets","RETAIL",0,150]
["3513F",{"$f":"TEXT(Table_Query_from_Great_Plains[[#This Row],[ITEMNMBR]],0)","v":"3513F"},"Fruit Cheese and Crackers Same Day Baskets","RETAIL",0,200]
["3513G",{"$f":"TEXT(Table_Query_from_Great_Plains[[#This Row],[ITEMNMBR]],0)","v":"3513G"},"Fruit Cheese and Crackers Same Day Baskets","RETAIL",0,250]
["3514",{"$f":"TEXT(Table_Query_from_Great_Plains[[#This Row],[ITEMNMBR]],0)","v":"3514"},"Italian Dinners Same Day Baskets","RETAIL",0,0]
["3514A",{"$f":"TEXT(Table_Query_from_Great_Plains[[#This Row],[ITEMNMBR]],0)","v":"3514A"},"Italian Dinners Same Day Baskets","RETAIL",0,75]
["3514B",{"$f":"TEXT(Table_Query_from_Great_Plains[[#This Row],[ITEMNMBR]],0)","v":"3514B"},"Italian Dinners Same Day Baskets","RETAIL",0,85]
["3514C",{"$f":"TEXT(Table_Query_from_Great_Plains[[#This Row],[ITEMNMBR]],0)","v":"3514C"},"Italian Dinners Same Day Baskets","RETAIL",0,95]
["3514D",{"$f":"TEXT(Table_Query_from_Great_Plains[[#This Row],[ITEMNMBR]],0)","v":"3514D"},"Italian Dinners Same Day Baskets","RETAIL",0,125]
["3514E",{"$f":"TEXT(Table_Query_from_Great_Plains[[#This Row],[ITEMNMBR]],0)","v":"3514E"},"Italian Dinners Same Day Baskets","RETAIL",0,150]
["3514F",{"$f":"TEXT(Table_Query_from_Great_Plains[[#This Row],[ITEMNMBR]],0)","v":"3514F"},"Italian Dinners Same Day Baskets","RETAIL",0,200]
["3514G",{"$f":"TEXT(Table_Query_from_Great_Plains[[#This Row],[ITEMNMBR]],0)","v":"3514G"},"Italian Dinners Same Day Baskets","RETAIL",0,250]
["3515",{"$f":"TEXT(Table_Query_from_Great_Plains[[#This Row],[ITEMNMBR]],0)","v":"3515"},"Gourmet Coffee & Chocolates","RETAIL",0,0]
["3515A",{"$f":"TEXT(Table_Query_from_Great_Plains[[#This Row],[ITEMNMBR]],0)","v":"3515A"},"Coffee and Chocolates Same Day Baskets","RETAIL",0,75]
["3515B",{"$f":"TEXT(Table_Query_from_Great_Plains[[#This Row],[ITEMNMBR]],0)","v":"3515B"},"Coffee and Chocolates Same Day Baskets","RETAIL",0,85]
["3515C",{"$f":"TEXT(Table_Query_from_Great_Plains[[#This Row],[ITEMNMBR]],0)","v":"3515C"},"Coffee and Chocolates Same Day Baskets","RETAIL",0,95]
["3515D",{"$f":"TEXT(Table_Query_from_Great_Plains[[#This Row],[ITEMNMBR]],0)","v":"3515D"},"Coffee and Chocolates Same Day Baskets","RETAIL",0,125]
["3515E",{"$f":"TEXT(Table_Query_from_Great_Plains[[#This Row],[ITEMNMBR]],0)","v":"3515E"},"Coffee and Chocolates Same Day Baskets","RETAIL",0,150]
["3515F",{"$f":"TEXT(Table_Query_from_Great_Plains[[#This Row],[ITEMNMBR]],0)","v":"3515F"},"Coffee and Chocolates Same Day Baskets","RETAIL",0,200]
["3515G",{"$f":"TEXT(Table_Query_from_Great_Plains[[#This Row],[ITEMNMBR]],0)","v":"3515G"},"Coffee and Chocolates Same Day Baskets","RETAIL",0,250]
["3516",{"$f":"TEXT(Table_Query_from_Great_Plains[[#This Row],[ITEMNMBR]],0)","v":"3516"},"Snack Foods Same Day Basket","RETAIL",0,0]
["3516A",{"$f":"TEXT(Table_Query_from_Great_Plains[[#This Row],[ITEMNMBR]],0)","v":"3516A"},"Snack Foods Same Day Basket","RETAIL",0,75]
["3516B",{"$f":"TEXT(Table_Query_from_Great_Plains[[#This Row],[ITEMNMBR]],0)","v":"3516B"},"Snack Foods Same Day Basket","RETAIL",0,85]
["3516C",{"$f":"TEXT(Table_Query_from_Great_Plains[[#This Row],[ITEMNMBR]],0)","v":"3516C"},"Snack Foods Same Day Basket","RETAIL",0,95]
["3516D",{"$f":"TEXT(Table_Query_from_Great_Plains[[#This Row],[ITEMNMBR]],0)","v":"3516D"},"Snack Foods Same Day Basket","RETAIL",0,125]
["3516E",{"$f":"TEXT(Table_Query_from_Great_Plains[[#This Row],[ITEMNMBR]],0)","v":"3516E"},"Snack Foods Same Day Basket","RETAIL",0,150]
["3516F",{"$f":"TEXT(Table_Query_from_Great_Plains[[#This Row],[ITEMNMBR]],0)","v":"3516F"},"Snack Foods Same Day Basket","RETAIL",0,200]
["3516G",{"$f":"TEXT(Table_Query_from_Great_Plains[[#This Row],[ITEMNMBR]],0)","v":"3516G"},"Snack Foods Same Day Basket","RETAIL",0,250]
["3517",{"$f":"TEXT(Table_Query_from_Great_Plains[[#This Row],[ITEMNMBR]],0)","v":"3517"},"Breakfast Basket Same Day Basket","RETAIL",0,0]
["3518",{"$f":"TEXT(Table_Query_from_Great_Plains[[#This Row],[ITEMNMBR]],0)","v":"3518"},"Gourmet Tea & Cookies","RETAIL",0,0]
["3518A",{"$f":"TEXT(Table_Query_from_Great_Plains[[#This Row],[ITEMNMBR]],0)","v":"3518A"},"Tea and Cookies Same Day Basket","RETAIL",0,75]
["3518B",{"$f":"TEXT(Table_Query_from_Great_Plains[[#This Row],[ITEMNMBR]],0)","v":"3518B"},"Tea and Cookies Same Day Basket","RETAIL",0,85]
["3518C",{"$f":"TEXT(Table_Query_from_Great_Plains[[#This Row],[ITEMNMBR]],0)","v":"3518C"},"Tea and Cookies Same Day Basket","RETAIL",0,95]
["3518D",{"$f":"TEXT(Table_Query_from_Great_Plains[[#This Row],[ITEMNMBR]],0)","v":"3518D"},"Tea and Cookies Same Day Basket","RETAIL",0,125]
["3518E",{"$f":"TEXT(Table_Query_from_Great_Plains[[#This Row],[ITEMNMBR]],0)","v":"3518E"},"Tea and Cookies Same Day Basket","RETAIL",0,150]
["3518F",{"$f":"TEXT(Table_Query_from_Great_Plains[[#This Row],[ITEMNMBR]],0)","v":"3518F"},"Tea and Cookies Same Day Basket","RETAIL",0,200]
["3518G",{"$f":"TEXT(Table_Query_from_Great_Plains[[#This Row],[ITEMNMBR]],0)","v":"3518G"},"Tea and Cookies Same Day Basket","RETAIL",0,250]
["3519",{"$f":"TEXT(Table_Query_from_Great_Plains[[#This Row],[ITEMNMBR]],0)","v":"3519"},"Mexican Foods Same Day Baskets","RETAIL",0,0]
["3520",{"$f":"TEXT(Table_Query_from_Great_Plains[[#This Row],[ITEMNMBR]],0)","v":"3520"},"Bath and Spa Same Day Basket","RETAIL",0,0]
["3521",{"$f":"TEXT(Table_Query_from_Great_Plains[[#This Row],[ITEMNMBR]],0)","v":"3521"},"Gourmet with Red Wine Same Day Baskets","RETAIL",0,0]
["3521A",{"$f":"TEXT(Table_Query_from_Great_Plains[[#This Row],[ITEMNMBR]],0)","v":"3521A"},"Gourmet with Red Wine Same Day Baskets","RETAIL",0,75]
["3521B",{"$f":"TEXT(Table_Query_from_Great_Plains[[#This Row],[ITEMNMBR]],0)","v":"3521B"},"Gourmet with Red Wine Same Day Baskets","RETAIL",0,85]
["3521C",{"$f":"TEXT(Table_Query_from_Great_Plains[[#This Row],[ITEMNMBR]],0)","v":"3521C"},"Gourmet with Red Wine Same Day Baskets","RETAIL",0,95]
["3521D",{"$f":"TEXT(Table_Query_from_Great_Plains[[#This Row],[ITEMNMBR]],0)","v":"3521D"},"Gourmet with Red Wine Same Day Baskets","RETAIL",0,125]
["3521E",{"$f":"TEXT(Table_Query_from_Great_Plains[[#This Row],[ITEMNMBR]],0)","v":"3521E"},"Gourmet with Red Wine Same Day Baskets","RETAIL",0,150]
["3521F",{"$f":"TEXT(Table_Query_from_Great_Plains[[#This Row],[ITEMNMBR]],0)","v":"3521F"},"Gourmet with Red Wine Same Day Baskets","RETAIL",0,200]
["3521G",{"$f":"TEXT(Table_Query_from_Great_Plains[[#This Row],[ITEMNMBR]],0)","v":"3521G"},"Gourmet with Red Wine Same Day Baskets","RETAIL",0,250]
["3522",{"$f":"TEXT(Table_Query_from_Great_Plains[[#This Row],[ITEMNMBR]],0)","v":"3522"},"Gourmet with White Wine Same Day Baskets","RETAIL",0,0]
["3522A",{"$f":"TEXT(Table_Query_from_Great_Plains[[#This Row],[ITEMNMBR]],0)","v":"3522A"},"Gourmet with White Wine Same Day Baskets","RETAIL",0,75]
["3522B",{"$f":"TEXT(Table_Query_from_Great_Plains[[#This Row],[ITEMNMBR]],0)","v":"3522B"},"Gourmet with White Wine Same Day Baskets","RETAIL",0,85]
["3522C",{"$f":"TEXT(Table_Query_from_Great_Plains[[#This Row],[ITEMNMBR]],0)","v":"3522C"},"Gourmet with White Wine Same Day Baskets","RETAIL",0,95]
["3522D",{"$f":"TEXT(Table_Query_from_Great_Plains[[#This Row],[ITEMNMBR]],0)","v":"3522D"},"Gourmet with White Wine Same Day Baskets","RETAIL",0,125]
["3522E",{"$f":"TEXT(Table_Query_from_Great_Plains[[#This Row],[ITEMNMBR]],0)","v":"3522E"},"Gourmet with White Wine Same Day Baskets","RETAIL",0,150]
["3522F",{"$f":"TEXT(Table_Query_from_Great_Plains[[#This Row],[ITEMNMBR]],0)","v":"3522F"},"Gourmet with White Wine Same Day Baskets","RETAIL",0,200]
["3522G",{"$f":"TEXT(Table_Query_from_Great_Plains[[#This Row],[ITEMNMBR]],0)","v":"3522G"},"Gourmet with White Wine Same Day Baskets","RETAIL",0,250]
["3BCBRNE",{"$f":"TEXT(Table_Query_from_Great_Plains[[#This Row],[ITEMNMBR]],0)","v":"3BCBRNE"},"Add 3 Belgian Chocolate Brownies","RETAIL",0,9.99]
["3CCBRNE",{"$f":"TEXT(Table_Query_from_Great_Plains[[#This Row],[ITEMNMBR]],0)","v":"3CCBRNE"},"Add 3 Cheesecake Brownies","RETAIL",0,9.99]
["3CCCOKE",{"$f":"TEXT(Table_Query_from_Great_Plains[[#This Row],[ITEMNMBR]],0)","v":"3CCCOKE"},"Add 6 Chocolate Chip Cookies","RETAIL",0,7.99]
["3COFFEE",{"$f":"TEXT(Table_Query_from_Great_Plains[[#This Row],[ITEMNMBR]],0)","v":"3COFFEE"},"Add 3 Pots Of Coffee","RETAIL",0,7.99]
["3FBCOKE",{"$f":"TEXT(Table_Query_from_Great_Plains[[#This Row],[ITEMNMBR]],0)","v":"3FBCOKE"},"Add 6 Fudge Brownie Cookies","RETAIL",0,7.99]
["3FWBRNE",{"$f":"TEXT(Table_Query_from_Great_Plains[[#This Row],[ITEMNMBR]],0)","v":"3FWBRNE"},"Add 3 Fudge Walnut Brownies","RETAIL",0,9.99]
["4010",{"$f":"TEXT(Table_Query_from_Great_Plains[[#This Row],[ITEMNMBR]],0)","v":"4010"},"Catch of the Day - Seafood Gift Basket Stack","RETAIL",0,36.99]
["4011",{"$f":"TEXT(Table_Query_from_Great_Plains[[#This Row],[ITEMNMBR]],0)","v":"4011"},"Bounty of the Sea - Seafood Gift Basket","RETAIL",0,99.99]
["4012",{"$f":"TEXT(Table_Query_from_Great_Plains[[#This Row],[ITEMNMBR]],0)","v":"4012"},"Fisherman's Feast - Seafood Gift Basket","RETAIL",0,159.99]
["4013",{"$f":"TEXT(Table_Query_from_Great_Plains[[#This Row],[ITEMNMBR]],0)","v":"4013"},"Catch Of A Lifetime - Seafood Gift Basket","RETAIL",0,199.99]
["4020",{"$f":"TEXT(Table_Query_from_Great_Plains[[#This Row],[ITEMNMBR]],0)","v":"4020"},"Healthy Stack","RETAIL",0,34.99]
["4021",{"$f":"TEXT(Table_Query_from_Great_Plains[[#This Row],[ITEMNMBR]],0)","v":"4021"},"Healthy Classic","RETAIL",0,69.989999999999995]
["4022",{"$f":"TEXT(Table_Query_from_Great_Plains[[#This Row],[ITEMNMBR]],0)","v":"4022"},"Healthy Premium","RETAIL",0,99.99]
["4023",{"$f":"TEXT(Table_Query_from_Great_Plains[[#This Row],[ITEMNMBR]],0)","v":"4023"},"Healthy Deluxe","RETAIL",0,149.99]
["4024",{"$f":"TEXT(Table_Query_from_Great_Plains[[#This Row],[ITEMNMBR]],0)","v":"4024"},"Healthy Ultimate","RETAIL",0,139.99]
["4025",{"$f":"TEXT(Table_Query_from_Great_Plains[[#This Row],[ITEMNMBR]],0)","v":"4025"},"Healthy Signature Series","RETAIL",0,179.99]
["4026",{"$f":"TEXT(Table_Query_from_Great_Plains[[#This Row],[ITEMNMBR]],0)","v":"4026"},"Healthy in Paperboard -","RETAIL",0,39.99]
["4030",{"$f":"TEXT(Table_Query_from_Great_Plains[[#This Row],[ITEMNMBR]],0)","v":"4030"},"Kosher Stack","RETAIL",0,25.99]
["4031",{"$f":"TEXT(Table_Query_from_Great_Plains[[#This Row],[ITEMNMBR]],0)","v":"4031"},"Kosher Classic","RETAIL",0,69.989999999999995]
["4032",{"$f":"TEXT(Table_Query_from_Great_Plains[[#This Row],[ITEMNMBR]],0)","v":"4032"},"Kosher Premium","RETAIL",0,79.989999999999995]
["4033",{"$f":"TEXT(Table_Query_from_Great_Plains[[#This Row],[ITEMNMBR]],0)","v":"4033"},"Kosher Deluxe","RETAIL",0,99.99]
["4034",{"$f":"TEXT(Table_Query_from_Great_Plains[[#This Row],[ITEMNMBR]],0)","v":"4034"},"Kosher Cornucopia","RETAIL",0,149.99]
["4036",{"$f":"TEXT(Table_Query_from_Great_Plains[[#This Row],[ITEMNMBR]],0)","v":"4036"},"Kosher Ultimate","RETAIL",0,124.99]
["4040",{"$f":"TEXT(Table_Query_from_Great_Plains[[#This Row],[ITEMNMBR]],0)","v":"4040"},"Organic Stack","RETAIL",0,39.99]
["4041",{"$f":"TEXT(Table_Query_from_Great_Plains[[#This Row],[ITEMNMBR]],0)","v":"4041"},"Organic Classic","RETAIL",0,99.99]
["4042",{"$f":"TEXT(Table_Query_from_Great_Plains[[#This Row],[ITEMNMBR]],0)","v":"4042"},"Organic Premium","RETAIL",0,139.99]
["4043",{"$f":"TEXT(Table_Query_from_Great_Plains[[#This Row],[ITEMNMBR]],0)","v":"4043"},"Organic Deluxe","RETAIL",0,159.99]
["4045",{"$f":"TEXT(Table_Query_from_Great_Plains[[#This Row],[ITEMNMBR]],0)","v":"4045"},"Gluten Free mini","RETAIL",0,49.99]
["4046",{"$f":"TEXT(Table_Query_from_Great_Plains[[#This Row],[ITEMNMBR]],0)","v":"4046"},"Gluten Free Classic","RETAIL",0,99.99]
["4047",{"$f":"TEXT(Table_Query_from_Great_Plains[[#This Row],[ITEMNMBR]],0)","v":"4047"},"Gluten Free Premium","RETAIL",0,139.99]
["4050",{"$f":"TEXT(Table_Query_from_Great_Plains[[#This Row],[ITEMNMBR]],0)","v":"4050"},"Snack Stack","RETAIL",0,34.99]
["4051",{"$f":"TEXT(Table_Query_from_Great_Plains[[#This Row],[ITEMNMBR]],0)","v":"4051"},"Snack Classic","RETAIL",0,59.99]
["4052",{"$f":"TEXT(Table_Query_from_Great_Plains[[#This Row],[ITEMNMBR]],0)","v":"4052"},"Snack Premium","RETAIL",0,79.989999999999995]
["4053",{"$f":"TEXT(Table_Query_from_Great_Plains[[#This Row],[ITEMNMBR]],0)","v":"4053"},"Snack Deluxe","RETAIL",0,99.99]
["4054",{"$f":"TEXT(Table_Query_from_Great_Plains[[#This Row],[ITEMNMBR]],0)","v":"4054"},"Snack Ultimate","RETAIL",0,149.99]
["4055",{"$f":"TEXT(Table_Query_from_Great_Plains[[#This Row],[ITEMNMBR]],0)","v":"4055"},"Snack Jumbo","RETAIL",0,199.99]
["4056",{"$f":"TEXT(Table_Query_from_Great_Plains[[#This Row],[ITEMNMBR]],0)","v":"4056"},"Signature Series Executive Suite Snack","RETAIL",0,249.99]
["4057",{"$f":"TEXT(Table_Query_from_Great_Plains[[#This Row],[ITEMNMBR]],0)","v":"4057"},"Zero Calorie Chocolate Spa Basket","RETAIL",0,99.99]
["4058",{"$f":"TEXT(Table_Query_from_Great_Plains[[#This Row],[ITEMNMBR]],0)","v":"4058"},"Snack Classic in a Metal Tray","RETAIL",0,59.99]
["4059",{"$f":"TEXT(Table_Query_from_Great_Plains[[#This Row],[ITEMNMBR]],0)","v":"4059"},"Snack in Paperboard","RETAIL",0,34.99]
["4060",{"$f":"TEXT(Table_Query_from_Great_Plains[[#This Row],[ITEMNMBR]],0)","v":"4060"},"Chocolate Stack","RETAIL",0,39.99]
["4061",{"$f":"TEXT(Table_Query_from_Great_Plains[[#This Row],[ITEMNMBR]],0)","v":"4061"},"Chocolate Classic","RETAIL",0,59.99]
["4062",{"$f":"TEXT(Table_Query_from_Great_Plains[[#This Row],[ITEMNMBR]],0)","v":"4062"},"Chocolate Premium","RETAIL",0,99.99]
["4063",{"$f":"TEXT(Table_Query_from_Great_Plains[[#This Row],[ITEMNMBR]],0)","v":"4063"},"Chocolate Deluxe","RETAIL",0,149.99]
["4065",{"$f":"TEXT(Table_Query_from_Great_Plains[[#This Row],[ITEMNMBR]],0)","v":"4065"},"Chocolate Jumbo","RETAIL",0,229.99]
["4066",{"$f":"TEXT(Table_Query_from_Great_Plains[[#This Row],[ITEMNMBR]],0)","v":"4066"},"Chocolate Dreams Gift Baskets","RETAIL",0,69.989999999999995]
["4067",{"$f":"TEXT(Table_Query_from_Great_Plains[[#This Row],[ITEMNMBR]],0)","v":"4067"},"Chocolate Ultimate","RETAIL",0,179.99]
["4068",{"$f":"TEXT(Table_Query_from_Great_Plains[[#This Row],[ITEMNMBR]],0)","v":"4068"},"Tin of 120 Lindt Truffles","RETAIL",0,39.99]
["4070",{"$f":"TEXT(Table_Query_from_Great_Plains[[#This Row],[ITEMNMBR]],0)","v":"4070"},"Coffee & Chocolate Stack","RETAIL",0,37.99]
["4071",{"$f":"TEXT(Table_Query_from_Great_Plains[[#This Row],[ITEMNMBR]],0)","v":"4071"},"Coffee & Chocolate Classic","RETAIL",0,69.989999999999995]
["4072",{"$f":"TEXT(Table_Query_from_Great_Plains[[#This Row],[ITEMNMBR]],0)","v":"4072"},"Coffee & Chocolate Premium","RETAIL",0,99.99]
["4073",{"$f":"TEXT(Table_Query_from_Great_Plains[[#This Row],[ITEMNMBR]],0)","v":"4073"},"Coffee & Chocolate Deluxe (RETIRED)","RETAIL",0,129.99]
["4075",{"$f":"TEXT(Table_Query_from_Great_Plains[[#This Row],[ITEMNMBR]],0)","v":"4075"},"Coffee & Chocolate Ultimate","RETAIL",0,159.99]
["4076",{"$f":"TEXT(Table_Query_from_Great_Plains[[#This Row],[ITEMNMBR]],0)","v":"4076"},"Coffee in Paperboard","RETAIL",0,34.99]
["4078",{"$f":"TEXT(Table_Query_from_Great_Plains[[#This Row],[ITEMNMBR]],0)","v":"4078"},"The Grill Master Grilling & Marinating Basket (RETIRED)","RETAIL",0,79.989999999999995]
["4079",{"$f":"TEXT(Table_Query_from_Great_Plains[[#This Row],[ITEMNMBR]],0)","v":"4079"},"Pit Master Grilling & Marinades Basket","RETAIL",0,29.99]
["4080",{"$f":"TEXT(Table_Query_from_Great_Plains[[#This Row],[ITEMNMBR]],0)","v":"4080"},"Grilling & Marinades Stack","RETAIL",0,29.99]
["4081",{"$f":"TEXT(Table_Query_from_Great_Plains[[#This Row],[ITEMNMBR]],0)","v":"4081"},"Barbecue Enthusiast Gift Basket","RETAIL",0,99.99]
["4082",{"$f":"TEXT(Table_Query_from_Great_Plains[[#This Row],[ITEMNMBR]],0)","v":"4082"},"Grilling Greatness Grilling & Marinades Basket","RETAIL",0,139.99]
["4082PM",{"$f":"TEXT(Table_Query_from_Great_Plains[[#This Row],[ITEMNMBR]],0)","v":"4082PM"},"Payne Mason - Grilling Greatness BBQ Basket with Torito Lite Cigar","RETAIL",1,129.99]
["4083",{"$f":"TEXT(Table_Query_from_Great_Plains[[#This Row],[ITEMNMBR]],0)","v":"4083"},"Charcoal Connoisseur Grilling & Marinades Basket","RETAIL",0,149.99]
["4084",{"$f":"TEXT(Table_Query_from_Great_Plains[[#This Row],[ITEMNMBR]],0)","v":"4084"},"Celebrity Chef Grilling & Marinades Basket","RETAIL",0,199.99]
["4085",{"$f":"TEXT(Table_Query_from_Great_Plains[[#This Row],[ITEMNMBR]],0)","v":"4085"},"Vegetarian Grille - Cooking Gift Basket","RETAIL",0,64.989999999999995]
["4086",{"$f":"TEXT(Table_Query_from_Great_Plains[[#This Row],[ITEMNMBR]],0)","v":"4086"},"Garlic Lovers Grille - Cooking Gift Basket","RETAIL",0,79.989999999999995]
["4087",{"$f":"TEXT(Table_Query_from_Great_Plains[[#This Row],[ITEMNMBR]],0)","v":"4087"},"Made in Nappa Valley Grilling & Marinades Basket","RETAIL",0,79.989999999999995]
["4089",{"$f":"TEXT(Table_Query_from_Great_Plains[[#This Row],[ITEMNMBR]],0)","v":"4089"},"Hot Dog Stand Favorites","RETAIL",0,21.99]
["4090",{"$f":"TEXT(Table_Query_from_Great_Plains[[#This Row],[ITEMNMBR]],0)","v":"4090"},"BBQ Boss Grilling & Marinades Basket","RETAIL",0,69.989999999999995]
["4092",{"$f":"TEXT(Table_Query_from_Great_Plains[[#This Row],[ITEMNMBR]],0)","v":"4092"},"Let Your Body do the Talking","RETAIL",0,39.99]
["4093",{"$f":"TEXT(Table_Query_from_Great_Plains[[#This Row],[ITEMNMBR]],0)","v":"4093"},"Valentine's Day Gift Basket - Sweet Kisses To Your Sweetie","RETAIL",0,49.99]
["4094",{"$f":"TEXT(Table_Query_from_Great_Plains[[#This Row],[ITEMNMBR]],0)","v":"4094"},"Valentine's Day Gift Basket - I Only Have Eyes For You Kitten!","RETAIL",0,59.99]
["4095",{"$f":"TEXT(Table_Query_from_Great_Plains[[#This Row],[ITEMNMBR]],0)","v":"4095"},"Valentine's Day Gift Basket - The \"Love Bug\"","RETAIL",0,74.989999999999995]
["4096",{"$f":"TEXT(Table_Query_from_Great_Plains[[#This Row],[ITEMNMBR]],0)","v":"4096"},"Valentine's Day Gift Basket - Totally Tantalizing Valentine Chocolate Gift Basket","RETAIL",0,99.99]
["4097",{"$f":"TEXT(Table_Query_from_Great_Plains[[#This Row],[ITEMNMBR]],0)","v":"4097"},"Valentine's Day Gift Basket - You've Got Me Howling Like a Wolf Classic","RETAIL",0,79.989999999999995]
["4098",{"$f":"TEXT(Table_Query_from_Great_Plains[[#This Row],[ITEMNMBR]],0)","v":"4098"},"Valentine's Day Gift Basket - You've Got Me Howling Like a Wolf Ultimate","RETAIL",0,149.99]
["4100",{"$f":"TEXT(Table_Query_from_Great_Plains[[#This Row],[ITEMNMBR]],0)","v":"4100"},"Snack and Chocolate Gift - Stack","RETAIL",0,39.99]
["4101",{"$f":"TEXT(Table_Query_from_Great_Plains[[#This Row],[ITEMNMBR]],0)","v":"4101"},"Snack & Chocolate Gift - Classic","RETAIL",0,49.99]
["4102",{"$f":"TEXT(Table_Query_from_Great_Plains[[#This Row],[ITEMNMBR]],0)","v":"4102"},"Snack & Chocolate Gift Basket - Premium","RETAIL",0,79.989999999999995]
["4103",{"$f":"TEXT(Table_Query_from_Great_Plains[[#This Row],[ITEMNMBR]],0)","v":"4103"},"Snack & Chocolate Gift Basket - Deluxe","RETAIL",0,99.99]
["4105",{"$f":"TEXT(Table_Query_from_Great_Plains[[#This Row],[ITEMNMBR]],0)","v":"4105"},"Snack and Chocolate Gift Basket - Jumbo","RETAIL",0,149.99]
["4106",{"$f":"TEXT(Table_Query_from_Great_Plains[[#This Row],[ITEMNMBR]],0)","v":"4106"},"Favorite Treats Gift Basket","RETAIL",0,34.99]
["4107",{"$f":"TEXT(Table_Query_from_Great_Plains[[#This Row],[ITEMNMBR]],0)","v":"4107"},"Signature Series Executive Suite Snack & Chocolate","RETAIL",0,249.99]
["4108",{"$f":"TEXT(Table_Query_from_Great_Plains[[#This Row],[ITEMNMBR]],0)","v":"4108"},"Sweets & Treats Gift Basket","RETAIL",0,49.99]
["4111",{"$f":"TEXT(Table_Query_from_Great_Plains[[#This Row],[ITEMNMBR]],0)","v":"4111"},"Cattleman's Collection","RETAIL",0,87.99]
["4112",{"$f":"TEXT(Table_Query_from_Great_Plains[[#This Row],[ITEMNMBR]],0)","v":"4112"},"Uptown Grill Collection","RETAIL",0,104.99]
["4113",{"$f":"TEXT(Table_Query_from_Great_Plains[[#This Row],[ITEMNMBR]],0)","v":"4113"},"Light Affair Collection","RETAIL",0,68.989999999999995]
["4114",{"$f":"TEXT(Table_Query_from_Great_Plains[[#This Row],[ITEMNMBR]],0)","v":"4114"},"Campfire Collection","RETAIL",0,127.99]
["4115",{"$f":"TEXT(Table_Query_from_Great_Plains[[#This Row],[ITEMNMBR]],0)","v":"4115"},"Homestead Collection","RETAIL",0,96.99]
["4116",{"$f":"TEXT(Table_Query_from_Great_Plains[[#This Row],[ITEMNMBR]],0)","v":"4116"},"Backyard Collection","RETAIL",0,99.99]
["4117",{"$f":"TEXT(Table_Query_from_Great_Plains[[#This Row],[ITEMNMBR]],0)","v":"4117"},"The Grill Tamer Collection","RETAIL",0,167.99]
["4118",{"$f":"TEXT(Table_Query_from_Great_Plains[[#This Row],[ITEMNMBR]],0)","v":"4118"},"Master Griller Collection","RETAIL",0,244.99]
["4119",{"$f":"TEXT(Table_Query_from_Great_Plains[[#This Row],[ITEMNMBR]],0)","v":"4119"},"Neighborhood Favorite Collection","RETAIL",0,294.99]
["4120",{"$f":"TEXT(Table_Query_from_Great_Plains[[#This Row],[ITEMNMBR]],0)","v":"4120"},"LoneStar Collection","RETAIL",0,69.989999999999995]
["4141",{"$f":"TEXT(Table_Query_from_Great_Plains[[#This Row],[ITEMNMBR]],0)","v":"4141"},"6-7 lb Smoked Apple-Cured Boneless Ham","RETAIL",0,57.99]
["4142",{"$f":"TEXT(Table_Query_from_Great_Plains[[#This Row],[ITEMNMBR]],0)","v":"4142"},"12-14 lb Smoked Apple-Cured Boneless Ham","RETAIL",0,99.99]
["4146",{"$f":"TEXT(Table_Query_from_Great_Plains[[#This Row],[ITEMNMBR]],0)","v":"4146"},"Hickory Smoked Maple Turkey 10-14 lbs","RETAIL",0,99.99]
["4171",{"$f":"TEXT(Table_Query_from_Great_Plains[[#This Row],[ITEMNMBR]],0)","v":"4171"},"Wrigley's Fabulous Fruit Gum Gift Basket","RETAIL",0,34.99]
["4172",{"$f":"TEXT(Table_Query_from_Great_Plains[[#This Row],[ITEMNMBR]],0)","v":"4172"},"Wrigley's Fun Gum Gift Box","RETAIL",0,24.99]
["4173",{"$f":"TEXT(Table_Query_from_Great_Plains[[#This Row],[ITEMNMBR]],0)","v":"4173"},"Wrigleys Candy Bucket (RETIRED)","RETAIL",0,34.99]
["4175",{"$f":"TEXT(Table_Query_from_Great_Plains[[#This Row],[ITEMNMBR]],0)","v":"4175"},"Peach Tree Gift Basket","RETAIL",0,37]
["4176",{"$f":"TEXT(Table_Query_from_Great_Plains[[#This Row],[ITEMNMBR]],0)","v":"4176"},"Peachtree Small with Wine","RETAIL",0,48.99]
["4177",{"$f":"TEXT(Table_Query_from_Great_Plains[[#This Row],[ITEMNMBR]],0)","v":"4177"},"Peachtree Large with Wine","RETAIL",1,73.989999999999995]
["4180",{"$f":"TEXT(Table_Query_from_Great_Plains[[#This Row],[ITEMNMBR]],0)","v":"4180"},"Ovarian Cancer Gift Basket - Classic","RETAIL",0,59.99]
["4181",{"$f":"TEXT(Table_Query_from_Great_Plains[[#This Row],[ITEMNMBR]],0)","v":"4181"},"Ovarian Cancer Gift Basket - Deluxe","RETAIL",0,99.99]
["4183",{"$f":"TEXT(Table_Query_from_Great_Plains[[#This Row],[ITEMNMBR]],0)","v":"4183"},"Homemint Small Basket with Grilling Items","RETAIL",0,59.99]
["4184",{"$f":"TEXT(Table_Query_from_Great_Plains[[#This Row],[ITEMNMBR]],0)","v":"4184"},"Homemint Medium Basket with Snack Items","RETAIL",0,79.989999999999995]
["4185",{"$f":"TEXT(Table_Query_from_Great_Plains[[#This Row],[ITEMNMBR]],0)","v":"4185"},"Homemint Large Basket with Grilling and Snack Items","RETAIL",0,99.99]
["4200",{"$f":"TEXT(Table_Query_from_Great_Plains[[#This Row],[ITEMNMBR]],0)","v":"4200"},"Dried Fruit & Nut Platter","RETAIL",0,49.99]
["4201",{"$f":"TEXT(Table_Query_from_Great_Plains[[#This Row],[ITEMNMBR]],0)","v":"4201"},"Mendocino County Gift Crate  33 oz.","RETAIL",0,37.99]
["4201A",{"$f":"TEXT(Table_Query_from_Great_Plains[[#This Row],[ITEMNMBR]],0)","v":"4201A"},"Mendocino County Gift Crate (dried fruit and nut mix) - 33 oz.-","RETAIL",0,37.99]
["4202",{"$f":"TEXT(Table_Query_from_Great_Plains[[#This Row],[ITEMNMBR]],0)","v":"4202"},"Almond Strawberry Delight","RETAIL",0,19.989999999999998]
["4204",{"$f":"TEXT(Table_Query_from_Great_Plains[[#This Row],[ITEMNMBR]],0)","v":"4204"},"Roasted Nuts Gift Crate","RETAIL",0,39.99]
["4205",{"$f":"TEXT(Table_Query_from_Great_Plains[[#This Row],[ITEMNMBR]],0)","v":"4205"},"Something Naughty & Something Nice Gift Stack","RETAIL",0,79.989999999999995]
["4206",{"$f":"TEXT(Table_Query_from_Great_Plains[[#This Row],[ITEMNMBR]],0)","v":"4206"},"Classic Candy Gift Crate","RETAIL",0,24.99]
["4208",{"$f":"TEXT(Table_Query_from_Great_Plains[[#This Row],[ITEMNMBR]],0)","v":"4208"},"Executive Rose  10 lbs.","RETAIL",0,179.99]
["4209",{"$f":"TEXT(Table_Query_from_Great_Plains[[#This Row],[ITEMNMBR]],0)","v":"4209"},"Dried Fruit Platter - 20 oz. -","RETAIL",0,29.99]
["4210B",{"$f":"TEXT(Table_Query_from_Great_Plains[[#This Row],[ITEMNMBR]],0)","v":"4210B"},"SnoCountry.com's Skiers Delight Gift Basket - Classic","RETAIL",0,59.99]
["4210C",{"$f":"TEXT(Table_Query_from_Great_Plains[[#This Row],[ITEMNMBR]],0)","v":"4210C"},"SnoCountry.com's Skiers Delight Gift Basket - Premium","RETAIL",0,89.99]
["4210D",{"$f":"TEXT(Table_Query_from_Great_Plains[[#This Row],[ITEMNMBR]],0)","v":"4210D"},"SnoCountry.com's Skiers Delight Gift Basket - Deluxe","RETAIL",0,129.99]
["4215",{"$f":"TEXT(Table_Query_from_Great_Plains[[#This Row],[ITEMNMBR]],0)","v":"4215"},"Tailgate Party Basket (RETIRED)","RETAIL",0,124.99]
["4216",{"$f":"TEXT(Table_Query_from_Great_Plains[[#This Row],[ITEMNMBR]],0)","v":"4216"},"Extreme Tailgating Basket (RETIRED)","RETAIL",1,169.99]
["4241",{"$f":"TEXT(Table_Query_from_Great_Plains[[#This Row],[ITEMNMBR]],0)","v":"4241"},"Sugar Free Gift Basket","RETAIL",0,0]
["4300",{"$f":"TEXT(Table_Query_from_Great_Plains[[#This Row],[ITEMNMBR]],0)","v":"4300"},"Gardening Gift Basket - Fiskars","RETAIL",0,99.99]
["4301",{"$f":"TEXT(Table_Query_from_Great_Plains[[#This Row],[ITEMNMBR]],0)","v":"4301"},"Classic Gardening Gift Basket","RETAIL",0,69.989999999999995]
["4302",{"$f":"TEXT(Table_Query_from_Great_Plains[[#This Row],[ITEMNMBR]],0)","v":"4302"},"French Watering Can - Mother's Day Gift Basket","RETAIL",0,49.99]
["4304",{"$f":"TEXT(Table_Query_from_Great_Plains[[#This Row],[ITEMNMBR]],0)","v":"4304"},"Father's Day - Hitting the Range","RETAIL",0,49.99]
["4306",{"$f":"TEXT(Table_Query_from_Great_Plains[[#This Row],[ITEMNMBR]],0)","v":"4306"},"Gourmet Garden Tote","RETAIL",0,59.99]
["4307",{"$f":"TEXT(Table_Query_from_Great_Plains[[#This Row],[ITEMNMBR]],0)","v":"4307"},"Gourmet Garden Tote - Deluxe","RETAIL",0,89.99]
["4311",{"$f":"TEXT(Table_Query_from_Great_Plains[[#This Row],[ITEMNMBR]],0)","v":"4311"},"Mother's Day - English Watering Can","RETAIL",0,49.99]
["4312",{"$f":"TEXT(Table_Query_from_Great_Plains[[#This Row],[ITEMNMBR]],0)","v":"4312"},"Pretty In Pink - Gardening Gift Basket","RETAIL",0,79.989999999999995]
["4320",{"$f":"TEXT(Table_Query_from_Great_Plains[[#This Row],[ITEMNMBR]],0)","v":"4320"},"Hole in One Golf Bag - Golf Gift Basket","RETAIL",0,59.99]
["4321",{"$f":"TEXT(Table_Query_from_Great_Plains[[#This Row],[ITEMNMBR]],0)","v":"4321"},"Hitting The Range - Golf Gift Basket","RETAIL",0,49.99]
["4322",{"$f":"TEXT(Table_Query_from_Great_Plains[[#This Row],[ITEMNMBR]],0)","v":"4322"},"19th Hole - Golf Gift Basket (RETIRED)","RETAIL",1,99.99]
["4324",{"$f":"TEXT(Table_Query_from_Great_Plains[[#This Row],[ITEMNMBR]],0)","v":"4324"},"Golfer's Dream Gift Basket - Golf Gift Basket","RETAIL",0,69.989999999999995]
["4327",{"$f":"TEXT(Table_Query_from_Great_Plains[[#This Row],[ITEMNMBR]],0)","v":"4327"},"Ladies Tee Time - Golf Gift Basket","RETAIL",0,54.99]
["4330",{"$f":"TEXT(Table_Query_from_Great_Plains[[#This Row],[ITEMNMBR]],0)","v":"4330"},"Caught The Big One - Fishing Gift Basket","RETAIL",0,59.99]
["4360",{"$f":"TEXT(Table_Query_from_Great_Plains[[#This Row],[ITEMNMBR]],0)","v":"4360"},"Cheese, Sausage & Crackers Gift Crate","RETAIL",0,39.99]
["4381",{"$f":"TEXT(Table_Query_from_Great_Plains[[#This Row],[ITEMNMBR]],0)","v":"4381"},"Gourmet Harvest Gift Tower","RETAIL",0,69.989999999999995]
["4381B",{"$f":"TEXT(Table_Query_from_Great_Plains[[#This Row],[ITEMNMBR]],0)","v":"4381B"},"Harvest Tower - Cracker","RETAIL",0,59.99]
["4381C",{"$f":"TEXT(Table_Query_from_Great_Plains[[#This Row],[ITEMNMBR]],0)","v":"4381C"},"Harvest Tower - Cheese & Sausage","RETAIL",0,59.99]
["4386",{"$f":"TEXT(Table_Query_from_Great_Plains[[#This Row],[ITEMNMBR]],0)","v":"4386"},"Decadent Orchard Gift Tower","RETAIL",0,69.989999999999995]
["4401",{"$f":"TEXT(Table_Query_from_Great_Plains[[#This Row],[ITEMNMBR]],0)","v":"4401"},"Season's Sampler - Fruit Gift Basket","RETAIL",0,39.99]
["4402",{"$f":"TEXT(Table_Query_from_Great_Plains[[#This Row],[ITEMNMBR]],0)","v":"4402"},"Purely Fruit - Fruit Gift Basket","RETAIL",0,39.99]
["4403",{"$f":"TEXT(Table_Query_from_Great_Plains[[#This Row],[ITEMNMBR]],0)","v":"4403"},"An Apple A Day - Fruit Gift Basket","RETAIL",0,59.99]
["4404",{"$f":"TEXT(Table_Query_from_Great_Plains[[#This Row],[ITEMNMBR]],0)","v":"4404"},"Orchard's Abundance - Fruit Gift Basket","RETAIL",0,79.989999999999995]
["4405",{"$f":"TEXT(Table_Query_from_Great_Plains[[#This Row],[ITEMNMBR]],0)","v":"4405"},"Peak of the Harvest - Fruit Gift Basket","RETAIL",0,79.989999999999995]
["4406",{"$f":"TEXT(Table_Query_from_Great_Plains[[#This Row],[ITEMNMBR]],0)","v":"4406"},"Nature's Picnic - Fruit Gift Basket","RETAIL",0,69.989999999999995]
["4407",{"$f":"TEXT(Table_Query_from_Great_Plains[[#This Row],[ITEMNMBR]],0)","v":"4407"},"Bountiful Harvest - Fruit Gift Basket","RETAIL",0,119.99]
["4408",{"$f":"TEXT(Table_Query_from_Great_Plains[[#This Row],[ITEMNMBR]],0)","v":"4408"},"Estate Collection - Fruit Gift Basket","RETAIL",0,149.99]
["4409",{"$f":"TEXT(Table_Query_from_Great_Plains[[#This Row],[ITEMNMBR]],0)","v":"4409"},"Scrumptiously Delicious - Fruit Gift Basket","RETAIL",0,69.989999999999995]
["4410",{"$f":"TEXT(Table_Query_from_Great_Plains[[#This Row],[ITEMNMBR]],0)","v":"4410"},"Fruit & Sweets (Name TBD)","RETAIL",0,89.99]
["4411",{"$f":"TEXT(Table_Query_from_Great_Plains[[#This Row],[ITEMNMBR]],0)","v":"4411"},"Fruit & Healthy Gift Basket","RETAIL",0,89.99]
["4412",{"$f":"TEXT(Table_Query_from_Great_Plains[[#This Row],[ITEMNMBR]],0)","v":"4412"},"Fruit & Baked Goods Gift Basket","RETAIL",0,99.99]
["4430",{"$f":"TEXT(Table_Query_from_Great_Plains[[#This Row],[ITEMNMBR]],0)","v":"4430"},"Fruit & Chocolate Dipping Delight","RETAIL",0,59.99]
["4431",{"$f":"TEXT(Table_Query_from_Great_Plains[[#This Row],[ITEMNMBR]],0)","v":"4431"},"Double Dipped Fruit Indulgence (RETIRED)","RETAIL",0,99.99]
["4432",{"$f":"TEXT(Table_Query_from_Great_Plains[[#This Row],[ITEMNMBR]],0)","v":"4432"},"Fruit & Chocolate Fondue Festival (RETIRED)","RETAIL",0,149.99]
["4445",{"$f":"TEXT(Table_Query_from_Great_Plains[[#This Row],[ITEMNMBR]],0)","v":"4445"},"Strawberry Festival (RETIRED)","RETAIL",0,39.99]
["4446",{"$f":"TEXT(Table_Query_from_Great_Plains[[#This Row],[ITEMNMBR]],0)","v":"4446"},"Butterfly Tea Time Gift Basket","RETAIL",0,49.99]
["4447",{"$f":"TEXT(Table_Query_from_Great_Plains[[#This Row],[ITEMNMBR]],0)","v":"4447"},"Holiday Gift Tote","RETAIL",0,37.99]
["4449",{"$f":"TEXT(Table_Query_from_Great_Plains[[#This Row],[ITEMNMBR]],0)","v":"4449"},"Barefoot Contessa Stack","RETAIL",0,44.99]
["4450",{"$f":"TEXT(Table_Query_from_Great_Plains[[#This Row],[ITEMNMBR]],0)","v":"4450"},"Kitchen of Barefoot Contessa","RETAIL",0,79.989999999999995]
["4451",{"$f":"TEXT(Table_Query_from_Great_Plains[[#This Row],[ITEMNMBR]],0)","v":"4451"},"Cooking with Barefoot Contessa","RETAIL",0,129.99]
["4452",{"$f":"TEXT(Table_Query_from_Great_Plains[[#This Row],[ITEMNMBR]],0)","v":"4452"},"Ultimate Barefoot Contessa","RETAIL",0,179.99]
["4453",{"$f":"TEXT(Table_Query_from_Great_Plains[[#This Row],[ITEMNMBR]],0)","v":"4453"},"Breakfast With The Barefoot Contessa","RETAIL",0,49.99]
["4454",{"$f":"TEXT(Table_Query_from_Great_Plains[[#This Row],[ITEMNMBR]],0)","v":"4454"},"Brownie Sundae With The Barefoot Contessa","RETAIL",0,39.99]
["4455",{"$f":"TEXT(Table_Query_from_Great_Plains[[#This Row],[ITEMNMBR]],0)","v":"4455"},"Dessert With The Barefoot Contessa","RETAIL",0,59.99]
["4500",{"$f":"TEXT(Table_Query_from_Great_Plains[[#This Row],[ITEMNMBR]],0)","v":"4500"},"Microbrew Beer Bucket Gift Basket - 6 Beers","RETAIL",1,69.989999999999995]
["4500PM",{"$f":"TEXT(Table_Query_from_Great_Plains[[#This Row],[ITEMNMBR]],0)","v":"4500PM"},"Payne Mason - Microbrew 6 Pack Beer Bucket with Torpedo Golden Cigar","RETAIL",1,89.99]
["4500V",{"$f":"TEXT(Table_Query_from_Great_Plains[[#This Row],[ITEMNMBR]],0)","v":"4500V"},"Beer My Valentine - 6 Beers","RETAIL",1,69.989999999999995]
["4501",{"$f":"TEXT(Table_Query_from_Great_Plains[[#This Row],[ITEMNMBR]],0)","v":"4501"},"Gourmet Beer Bucket with Heineken Beer -","RETAIL",1,79.989999999999995]
["4502",{"$f":"TEXT(Table_Query_from_Great_Plains[[#This Row],[ITEMNMBR]],0)","v":"4502"},"Around the World Beer Bucket - 6 beers","RETAIL",1,79.989999999999995]
["4502V",{"$f":"TEXT(Table_Query_from_Great_Plains[[#This Row],[ITEMNMBR]],0)","v":"4502V"},"You Are My World - 6 beers","RETAIL",0,89.99]
["4503",{"$f":"TEXT(Table_Query_from_Great_Plains[[#This Row],[ITEMNMBR]],0)","v":"4503"},"Around the World Beer Bucket - 12 beers","RETAIL",1,119.99]
["4503PM",{"$f":"TEXT(Table_Query_from_Great_Plains[[#This Row],[ITEMNMBR]],0)","v":"4503PM"},"Payne Mason - Around the World 12 Pack Beer Bucket with Torpedo Golden Cigar","RETAIL",1,139.99]
["4503V",{"$f":"TEXT(Table_Query_from_Great_Plains[[#This Row],[ITEMNMBR]],0)","v":"4503V"},"You Are My World - 12 beers","RETAIL",1,119.99]
["4504",{"$f":"TEXT(Table_Query_from_Great_Plains[[#This Row],[ITEMNMBR]],0)","v":"4504"},"Irish Beer Bucket - 6 beers","RETAIL",1,69.989999999999995]
["4505",{"$f":"TEXT(Table_Query_from_Great_Plains[[#This Row],[ITEMNMBR]],0)","v":"4505"},"Light Beer Bucket - 6 beers (RETIRED)","RETAIL",1,69.989999999999995]
["4506",{"$f":"TEXT(Table_Query_from_Great_Plains[[#This Row],[ITEMNMBR]],0)","v":"4506"},"Light Beer Bucket - 3 beers","RETAIL",1,39.99]
["4507",{"$f":"TEXT(Table_Query_from_Great_Plains[[#This Row],[ITEMNMBR]],0)","v":"4507"},"Microbrew Beer Bucket - 3 beers","RETAIL",1,39.99]
["4508",{"$f":"TEXT(Table_Query_from_Great_Plains[[#This Row],[ITEMNMBR]],0)","v":"4508"},"Beer-B-Q Bucket Classic","RETAIL",1,39.99]
["4509",{"$f":"TEXT(Table_Query_from_Great_Plains[[#This Row],[ITEMNMBR]],0)","v":"4509"},"Beer-B-Q Bucket Deluxe","RETAIL",1,79.989999999999995]
["4510",{"$f":"TEXT(Table_Query_from_Great_Plains[[#This Row],[ITEMNMBR]],0)","v":"4510"},"Beer and Cigar Gift Set","RETAIL",1,199.99]
["4580",{"$f":"TEXT(Table_Query_from_Great_Plains[[#This Row],[ITEMNMBR]],0)","v":"4580"},"Valentine's Day - Teddy Bear and Treats Basket","RETAIL",0,59.99]
["4581",{"$f":"TEXT(Table_Query_from_Great_Plains[[#This Row],[ITEMNMBR]],0)","v":"4581"},"Sweets for My Valentine","RETAIL",0,27.99]
["4586",{"$f":"TEXT(Table_Query_from_Great_Plains[[#This Row],[ITEMNMBR]],0)","v":"4586"},"Snacks for My Valentine","RETAIL",0,39.99]
["4588",{"$f":"TEXT(Table_Query_from_Great_Plains[[#This Row],[ITEMNMBR]],0)","v":"4588"},"Valentine's Day - Teddy Bear and Champagne Basket","RETAIL",0,89.99]
["4590",{"$f":"TEXT(Table_Query_from_Great_Plains[[#This Row],[ITEMNMBR]],0)","v":"4590"},"Penguin Parade - Valentine Gift Stack","RETAIL",0,29.99]
["4591",{"$f":"TEXT(Table_Query_from_Great_Plains[[#This Row],[ITEMNMBR]],0)","v":"4591"},"Valentine's - Fruit & Chocolate Fondue For Two","RETAIL",0,59.99]
["4594",{"$f":"TEXT(Table_Query_from_Great_Plains[[#This Row],[ITEMNMBR]],0)","v":"4594"},"Sending All My Love Valentine's Day Care Package","RETAIL",0,49.99]
["4595",{"$f":"TEXT(Table_Query_from_Great_Plains[[#This Row],[ITEMNMBR]],0)","v":"4595"},"My Heart's Not LION - Valentine's Day Gift Basket","RETAIL",0,39.99]
["4596",{"$f":"TEXT(Table_Query_from_Great_Plains[[#This Row],[ITEMNMBR]],0)","v":"4596"},"Cupid's Valentine's Day Care Package","RETAIL",0,59.99]
["4597",{"$f":"TEXT(Table_Query_from_Great_Plains[[#This Row],[ITEMNMBR]],0)","v":"4597"},"Valentine's - Breakfast In Bed Gift Basket","RETAIL",0,79.989999999999995]
["4598",{"$f":"TEXT(Table_Query_from_Great_Plains[[#This Row],[ITEMNMBR]],0)","v":"4598"},"Wild About You - Valentine's Day Gift Basket","RETAIL",0,59.99]
["4599",{"$f":"TEXT(Table_Query_from_Great_Plains[[#This Row],[ITEMNMBR]],0)","v":"4599"},"Toadally Yours - Valentine's Day Gift Basket","RETAIL",0,39.99]
["4604",{"$f":"TEXT(Table_Query_from_Great_Plains[[#This Row],[ITEMNMBR]],0)","v":"4604"},"Valentine's Day Gift Basket - Hearts A Flutter","RETAIL",0,37.99]
["4605",{"$f":"TEXT(Table_Query_from_Great_Plains[[#This Row],[ITEMNMBR]],0)","v":"4605"},"Valentine's Day Gift Basket - Crazy About You","RETAIL",0,54.99]
["4606",{"$f":"TEXT(Table_Query_from_Great_Plains[[#This Row],[ITEMNMBR]],0)","v":"4606"},"Valentine's Day Gift Basket - Hugs & Kisses","RETAIL",0,79.989999999999995]
["4607",{"$f":"TEXT(Table_Query_from_Great_Plains[[#This Row],[ITEMNMBR]],0)","v":"4607"},"Valentine's Day Gift Basket - Straight From The Heart","RETAIL",0,49.99]
["4608",{"$f":"TEXT(Table_Query_from_Great_Plains[[#This Row],[ITEMNMBR]],0)","v":"4608"},"Valentine's - Sweets For My Sweetheart","RETAIL",0,79.989999999999995]
["4609",{"$f":"TEXT(Table_Query_from_Great_Plains[[#This Row],[ITEMNMBR]],0)","v":"4609"},"Valentine's Day Gift Basket - An Evening Of Romance","RETAIL",0,149.99]
["4610",{"$f":"TEXT(Table_Query_from_Great_Plains[[#This Row],[ITEMNMBR]],0)","v":"4610"},"Valentine's - Be My Valentine","RETAIL",0,49.99]
["4611",{"$f":"TEXT(Table_Query_from_Great_Plains[[#This Row],[ITEMNMBR]],0)","v":"4611"},"Valentine's - Sweets for My Sweetheart","RETAIL",0,24.99]
["4612",{"$f":"TEXT(Table_Query_from_Great_Plains[[#This Row],[ITEMNMBR]],0)","v":"4612"},"Valentine's - Chocolate Dreams","RETAIL",0,89.99]
["4613",{"$f":"TEXT(Table_Query_from_Great_Plains[[#This Row],[ITEMNMBR]],0)","v":"4613"},"Valentine Fruit Basket","RETAIL",0,79.989999999999995]
["4613A",{"$f":"TEXT(Table_Query_from_Great_Plains[[#This Row],[ITEMNMBR]],0)","v":"4613A"},"Valentine's Fruit - Sub Assembly","RETAIL",0,0]
["4614",{"$f":"TEXT(Table_Query_from_Great_Plains[[#This Row],[ITEMNMBR]],0)","v":"4614"},"Valentine's Day Gifts Special Option 1","RETAIL",1,169.99]
["4615",{"$f":"TEXT(Table_Query_from_Great_Plains[[#This Row],[ITEMNMBR]],0)","v":"4615"},"Valentine's Day Gifts Special Option 2","RETAIL",1,259.99]
["4616",{"$f":"TEXT(Table_Query_from_Great_Plains[[#This Row],[ITEMNMBR]],0)","v":"4616"},"Valentine's Day Gifts Special Option 3","RETAIL",1,199.99]
["4617",{"$f":"TEXT(Table_Query_from_Great_Plains[[#This Row],[ITEMNMBR]],0)","v":"4617"},"Valentine's Day Gifts Special option 4","RETAIL",1,349.99]
["4618",{"$f":"TEXT(Table_Query_from_Great_Plains[[#This Row],[ITEMNMBR]],0)","v":"4618"},"Valentine's Day Gifts Special Option 5","RETAIL",1,399.99]
["4619",{"$f":"TEXT(Table_Query_from_Great_Plains[[#This Row],[ITEMNMBR]],0)","v":"4619"},"Valentine's Day Gifts Special Option 6","RETAIL",1,525.99]
["4620",{"$f":"TEXT(Table_Query_from_Great_Plains[[#This Row],[ITEMNMBR]],0)","v":"4620"},"Valentine's Day Gifts Special Option 7","RETAIL",1,635.99]
["4621",{"$f":"TEXT(Table_Query_from_Great_Plains[[#This Row],[ITEMNMBR]],0)","v":"4621"},"Valentine's Day Gifts Special Option 8","RETAIL",1,549.99]
["4622",{"$f":"TEXT(Table_Query_from_Great_Plains[[#This Row],[ITEMNMBR]],0)","v":"4622"},"Valentine's Day Gifts Special Option 9","RETAIL",1,579.99]
["4623",{"$f":"TEXT(Table_Query_from_Great_Plains[[#This Row],[ITEMNMBR]],0)","v":"4623"},"Valetine's Day Gifts Special Option 10","RETAIL",1,199.99]
["4624",{"$f":"TEXT(Table_Query_from_Great_Plains[[#This Row],[ITEMNMBR]],0)","v":"4624"},"Valentine's Day Gifts Special Option 11","RETAIL",1,229.99]
["4625",{"$f":"TEXT(Table_Query_from_Great_Plains[[#This Row],[ITEMNMBR]],0)","v":"4625"},"Snacks For My Sweetheart","RETAIL",0,34.99]
["4636",{"$f":"TEXT(Table_Query_from_Great_Plains[[#This Row],[ITEMNMBR]],0)","v":"4636"},"Easter Orchard Fruit Basket","RETAIL",0,69.989999999999995]
["4637",{"$f":"TEXT(Table_Query_from_Great_Plains[[#This Row],[ITEMNMBR]],0)","v":"4637"},"Easter Candy and Toys Basket","RETAIL",0,79.989999999999995]
["4638",{"$f":"TEXT(Table_Query_from_Great_Plains[[#This Row],[ITEMNMBR]],0)","v":"4638"},"Double Bunny Easter Basket","RETAIL",0,109.99]
["4639",{"$f":"TEXT(Table_Query_from_Great_Plains[[#This Row],[ITEMNMBR]],0)","v":"4639"},"Easter - Care Package","RETAIL",0,49.99]
["4640",{"$f":"TEXT(Table_Query_from_Great_Plains[[#This Row],[ITEMNMBR]],0)","v":"4640"},"Hippity Hoppity Easter Gift Stack","RETAIL",0,29.99]
["4641",{"$f":"TEXT(Table_Query_from_Great_Plains[[#This Row],[ITEMNMBR]],0)","v":"4641"},"Classic Easter Bunny Gift Basket","RETAIL",0,39.99]
["4642",{"$f":"TEXT(Table_Query_from_Great_Plains[[#This Row],[ITEMNMBR]],0)","v":"4642"},"Easter Egg Hunt Gift Basket","RETAIL",0,69.989999999999995]
["4643",{"$f":"TEXT(Table_Query_from_Great_Plains[[#This Row],[ITEMNMBR]],0)","v":"4643"},"Easter Morning Breakfast Gift Basket","RETAIL",0,79.989999999999995]
["4644",{"$f":"TEXT(Table_Query_from_Great_Plains[[#This Row],[ITEMNMBR]],0)","v":"4644"},"Ultimate Easter Gift Basket","RETAIL",0,99.99]
["4645",{"$f":"TEXT(Table_Query_from_Great_Plains[[#This Row],[ITEMNMBR]],0)","v":"4645"},"Look What the Easter Bunny Brought Me","RETAIL",0,149.99]
["4646",{"$f":"TEXT(Table_Query_from_Great_Plains[[#This Row],[ITEMNMBR]],0)","v":"4646"},"Easter Red Wine & Chocolate Basket -","RETAIL",1,99.99]
["4646A",{"$f":"TEXT(Table_Query_from_Great_Plains[[#This Row],[ITEMNMBR]],0)","v":"4646A"},"Red Wine & Dark Chocolate Easter Basket - Ravenswood Red","RETAIL",1,89.99]
["4646B",{"$f":"TEXT(Table_Query_from_Great_Plains[[#This Row],[ITEMNMBR]],0)","v":"4646B"},"Red Wine & Dark Chocolate Easter Basket - Catena Malbec","RETAIL",1,99.99]
["4646C",{"$f":"TEXT(Table_Query_from_Great_Plains[[#This Row],[ITEMNMBR]],0)","v":"4646C"},"Red Wine & Dark Chocolate Easter Basket - Silver Oak Alexander Valley","RETAIL",1,149.99]
["4647",{"$f":"TEXT(Table_Query_from_Great_Plains[[#This Row],[ITEMNMBR]],0)","v":"4647"},"Easter Sweets & Treats Basket","RETAIL",0,59.99]
["4648",{"$f":"TEXT(Table_Query_from_Great_Plains[[#This Row],[ITEMNMBR]],0)","v":"4648"},"Easter Champagne & Chocolate Basket -","RETAIL",1,99.99]
["4649",{"$f":"TEXT(Table_Query_from_Great_Plains[[#This Row],[ITEMNMBR]],0)","v":"4649"},"Round to Remember Golf Bag","RETAIL",0,69.989999999999995]
["4649PM",{"$f":"TEXT(Table_Query_from_Great_Plains[[#This Row],[ITEMNMBR]],0)","v":"4649PM"},"Payne Mason - Round to Remember Golf Bag with Churchill Golden Cigar","RETAIL",1,89.99]
["4650",{"$f":"TEXT(Table_Query_from_Great_Plains[[#This Row],[ITEMNMBR]],0)","v":"4650"},"Father's Day - Hole In One","RETAIL",0,59.99]
["4651",{"$f":"TEXT(Table_Query_from_Great_Plains[[#This Row],[ITEMNMBR]],0)","v":"4651"},"Father's Day - 19th Hole","RETAIL",1,99.99]
["4652",{"$f":"TEXT(Table_Query_from_Great_Plains[[#This Row],[ITEMNMBR]],0)","v":"4652"},"Father's Day - Caught the Big One","RETAIL",0,59.99]
["4653",{"$f":"TEXT(Table_Query_from_Great_Plains[[#This Row],[ITEMNMBR]],0)","v":"4653"},"Father's Day - Gourmet Breakfast for Dad","RETAIL",0,79.989999999999995]
["4654",{"$f":"TEXT(Table_Query_from_Great_Plains[[#This Row],[ITEMNMBR]],0)","v":"4654"},"Father's Day - Grill Master Gift Basket","RETAIL",0,79.989999999999995]
["4655",{"$f":"TEXT(Table_Query_from_Great_Plains[[#This Row],[ITEMNMBR]],0)","v":"4655"},"Father's Day - Garden Master","RETAIL",0,89.99]
["4656",{"$f":"TEXT(Table_Query_from_Great_Plains[[#This Row],[ITEMNMBR]],0)","v":"4656"},"Bloody Mary Breakfast","RETAIL",0,69.989999999999995]
["4657",{"$f":"TEXT(Table_Query_from_Great_Plains[[#This Row],[ITEMNMBR]],0)","v":"4657"},"Father's Day - Blue Golf Bag","RETAIL",0,69.989999999999995]
["4658",{"$f":"TEXT(Table_Query_from_Great_Plains[[#This Row],[ITEMNMBR]],0)","v":"4658"},"Father's Day - Beer-B-Q Bucket Classic","RETAIL",1,39.99]
["4659",{"$f":"TEXT(Table_Query_from_Great_Plains[[#This Row],[ITEMNMBR]],0)","v":"4659"},"Father's Day - Deluxe Beer-B-Q Bucket","RETAIL",1,69.989999999999995]
["4661",{"$f":"TEXT(Table_Query_from_Great_Plains[[#This Row],[ITEMNMBR]],0)","v":"4661"},"Father's Day - Junk Food Bucket Classic","RETAIL",0,39.99]
["4662",{"$f":"TEXT(Table_Query_from_Great_Plains[[#This Row],[ITEMNMBR]],0)","v":"4662"},"Father's Day - Deluxe Junk Food Bucket","RETAIL",0,59.99]
["4663",{"$f":"TEXT(Table_Query_from_Great_Plains[[#This Row],[ITEMNMBR]],0)","v":"4663"},"Father's Day - Car Wash Bucket","RETAIL",0,59.99]
["4664",{"$f":"TEXT(Table_Query_from_Great_Plains[[#This Row],[ITEMNMBR]],0)","v":"4664"},"Father's Day - Deluxe Car Wash Bucket","RETAIL",0,89.99]
["4665",{"$f":"TEXT(Table_Query_from_Great_Plains[[#This Row],[ITEMNMBR]],0)","v":"4665"},"Father's Day Orchard Fruit Basket","RETAIL",0,69.989999999999995]
["4674",{"$f":"TEXT(Table_Query_from_Great_Plains[[#This Row],[ITEMNMBR]],0)","v":"4674"},"Mother's Day - Italian Dinner For Mom","RETAIL",0,79.989999999999995]
["4679",{"$f":"TEXT(Table_Query_from_Great_Plains[[#This Row],[ITEMNMBR]],0)","v":"4679"},"Mother's Day - Classic Gardening Gift Basket","RETAIL",0,69.989999999999995]
["4682",{"$f":"TEXT(Table_Query_from_Great_Plains[[#This Row],[ITEMNMBR]],0)","v":"4682"},"Mother's Day - Pretty In Pink","RETAIL",0,79.989999999999995]
["4683",{"$f":"TEXT(Table_Query_from_Great_Plains[[#This Row],[ITEMNMBR]],0)","v":"4683"},"Picture Perfect Golf Bag","RETAIL",0,69.989999999999995]
["4684",{"$f":"TEXT(Table_Query_from_Great_Plains[[#This Row],[ITEMNMBR]],0)","v":"4684"},"Mother's Day - Breakfast In Bed","RETAIL",0,79.989999999999995]
["4686",{"$f":"TEXT(Table_Query_from_Great_Plains[[#This Row],[ITEMNMBR]],0)","v":"4686"},"French Watering Can Gardening Gift Basket","RETAIL",0,49.99]
["4687",{"$f":"TEXT(Table_Query_from_Great_Plains[[#This Row],[ITEMNMBR]],0)","v":"4687"},"Mother's Day - Lady Bug Tote Bag","RETAIL",0,69.989999999999995]
["4688",{"$f":"TEXT(Table_Query_from_Great_Plains[[#This Row],[ITEMNMBR]],0)","v":"4688"},"Butterfly Tea Time Mothers Day","RETAIL",0,49.99]
["4689",{"$f":"TEXT(Table_Query_from_Great_Plains[[#This Row],[ITEMNMBR]],0)","v":"4689"},"Mother's Day - Strawberry Shortcake","RETAIL",0,39.99]
["4690",{"$f":"TEXT(Table_Query_from_Great_Plains[[#This Row],[ITEMNMBR]],0)","v":"4690"},"Mother's Day - Ladies Tee Time Pink Golf Bag","RETAIL",0,69.989999999999995]
["4691",{"$f":"TEXT(Table_Query_from_Great_Plains[[#This Row],[ITEMNMBR]],0)","v":"4691"},"Mother's Day - Sweets & Treats","RETAIL",0,59.99]
["4692",{"$f":"TEXT(Table_Query_from_Great_Plains[[#This Row],[ITEMNMBR]],0)","v":"4692"},"English Watering Can Gardening Gift Basket","RETAIL",0,49.99]
["4693",{"$f":"TEXT(Table_Query_from_Great_Plains[[#This Row],[ITEMNMBR]],0)","v":"4693"},"Mother's Day - Evening of Indulgence Non Alcoholic","RETAIL",0,69.989999999999995]
["4694",{"$f":"TEXT(Table_Query_from_Great_Plains[[#This Row],[ITEMNMBR]],0)","v":"4694"},"Mother's Day Orchard Fruit Basket","RETAIL",0,69.989999999999995]
["4694A",{"$f":"TEXT(Table_Query_from_Great_Plains[[#This Row],[ITEMNMBR]],0)","v":"4694A"},"Mother's Day Fruit Basket Sub-Assembly","RETAIL",0,0]
["4695",{"$f":"TEXT(Table_Query_from_Great_Plains[[#This Row],[ITEMNMBR]],0)","v":"4695"},"Mother's Day Mini Tote","RETAIL",0,37.99]
["4699",{"$f":"TEXT(Table_Query_from_Great_Plains[[#This Row],[ITEMNMBR]],0)","v":"4699"},"Evening of Romance Gift Set","RETAIL",0,27.99]
["4700",{"$f":"TEXT(Table_Query_from_Great_Plains[[#This Row],[ITEMNMBR]],0)","v":"4700"},"Artisan Truffle Box - Hand Dipped 18 pieces  13.5 oz.","RETAIL",0,29.99]
["4701",{"$f":"TEXT(Table_Query_from_Great_Plains[[#This Row],[ITEMNMBR]],0)","v":"4701"},"A Hot Affair","RETAIL",0,34.99]
["4704",{"$f":"TEXT(Table_Query_from_Great_Plains[[#This Row],[ITEMNMBR]],0)","v":"4704"},"Margarita Madness Gift Basket","RETAIL",0,59.99]
["4705",{"$f":"TEXT(Table_Query_from_Great_Plains[[#This Row],[ITEMNMBR]],0)","v":"4705"},"Ultimate Margarita Madness Gift Basket","RETAIL",0,119.99]
["4706",{"$f":"TEXT(Table_Query_from_Great_Plains[[#This Row],[ITEMNMBR]],0)","v":"4706"},"Margarita Stack","RETAIL",0,34.99]
["4707",{"$f":"TEXT(Table_Query_from_Great_Plains[[#This Row],[ITEMNMBR]],0)","v":"4707"},"Margarita Gift Basket","RETAIL",0,64.989999999999995]
["4709",{"$f":"TEXT(Table_Query_from_Great_Plains[[#This Row],[ITEMNMBR]],0)","v":"4709"},"Dirty Martini Stack","RETAIL",0,34.99]
["4710",{"$f":"TEXT(Table_Query_from_Great_Plains[[#This Row],[ITEMNMBR]],0)","v":"4710"},"Apple Martini Stack","RETAIL",0,39.99]
["4711",{"$f":"TEXT(Table_Query_from_Great_Plains[[#This Row],[ITEMNMBR]],0)","v":"4711"},"Cosmopolitan Stack","RETAIL",0,34.99]
["4712",{"$f":"TEXT(Table_Query_from_Great_Plains[[#This Row],[ITEMNMBR]],0)","v":"4712"},"Apple Martini Gift Basket","RETAIL",0,79.989999999999995]
["4713",{"$f":"TEXT(Table_Query_from_Great_Plains[[#This Row],[ITEMNMBR]],0)","v":"4713"},"Cosmopolitan Gift Basket","RETAIL",0,69.989999999999995]
["4714",{"$f":"TEXT(Table_Query_from_Great_Plains[[#This Row],[ITEMNMBR]],0)","v":"4714"},"Cocktail Party Gift Basket - Premium","RETAIL",0,119.99]
["4715",{"$f":"TEXT(Table_Query_from_Great_Plains[[#This Row],[ITEMNMBR]],0)","v":"4715"},"Cocktail Party Gift Basket - Deluxe","RETAIL",0,159.99]
["4716",{"$f":"TEXT(Table_Query_from_Great_Plains[[#This Row],[ITEMNMBR]],0)","v":"4716"},"Cocktail Party Gift Basket - Ultimate","RETAIL",0,219.99]
["4717",{"$f":"TEXT(Table_Query_from_Great_Plains[[#This Row],[ITEMNMBR]],0)","v":"4717"},"Bloody Mary Stack","RETAIL",0,34.99]
["4718",{"$f":"TEXT(Table_Query_from_Great_Plains[[#This Row],[ITEMNMBR]],0)","v":"4718"},"Bloody Mary Gift Basket","RETAIL",0,79.989999999999995]
["4719",{"$f":"TEXT(Table_Query_from_Great_Plains[[#This Row],[ITEMNMBR]],0)","v":"4719"},"Mojito Stack","RETAIL",0,34.99]
["4720",{"$f":"TEXT(Table_Query_from_Great_Plains[[#This Row],[ITEMNMBR]],0)","v":"4720"},"Mojito Gift Basket","RETAIL",0,64.989999999999995]
["4740",{"$f":"TEXT(Table_Query_from_Great_Plains[[#This Row],[ITEMNMBR]],0)","v":"4740"},"St. Patrick's Day - Kiss Me I'm Irish","RETAIL",0,59.99]
["4741",{"$f":"TEXT(Table_Query_from_Great_Plains[[#This Row],[ITEMNMBR]],0)","v":"4741"},"St. Patrick's Day - Irish Beer Bucket","RETAIL",1,69.989999999999995]
["4742",{"$f":"TEXT(Table_Query_from_Great_Plains[[#This Row],[ITEMNMBR]],0)","v":"4742"},"St. Patrick's Day - Luck Of The Irish","RETAIL",0,39.99]
["4749",{"$f":"TEXT(Table_Query_from_Great_Plains[[#This Row],[ITEMNMBR]],0)","v":"4749"},"Halloween - All Hallows Eve Halloween Mug","RETAIL",0,17.989999999999998]
["4750",{"$f":"TEXT(Table_Query_from_Great_Plains[[#This Row],[ITEMNMBR]],0)","v":"4750"},"Halloween - Pick of the Patch Halloween Mug","RETAIL",0,17.989999999999998]
["4751",{"$f":"TEXT(Table_Query_from_Great_Plains[[#This Row],[ITEMNMBR]],0)","v":"4751"},"Halloween - Spooktacular Sweets Halloween Mug","RETAIL",0,17.989999999999998]
["4752",{"$f":"TEXT(Table_Query_from_Great_Plains[[#This Row],[ITEMNMBR]],0)","v":"4752"},"Halloween - Haunted Harvest Sweets & Treats","RETAIL",0,19.989999999999998]
["4753",{"$f":"TEXT(Table_Query_from_Great_Plains[[#This Row],[ITEMNMBR]],0)","v":"4753"},"Halloween - No Tricks... Only Treats Halloween Gift Basket","RETAIL",0,39.99]
["4753CP",{"$f":"TEXT(Table_Query_from_Great_Plains[[#This Row],[ITEMNMBR]],0)","v":"4753CP"},"Halloween - Care Package Program","RETAIL",0,34.99]
["4753GC",{"$f":"TEXT(Table_Query_from_Great_Plains[[#This Row],[ITEMNMBR]],0)","v":"4753GC"},"Fall Festival Treat","RETAIL",0,34.99]
["4754",{"$f":"TEXT(Table_Query_from_Great_Plains[[#This Row],[ITEMNMBR]],0)","v":"4754"},"Halloween - Choc-O-Lantern Halloween Gift Basket","RETAIL",0,34.99]
["4755",{"$f":"TEXT(Table_Query_from_Great_Plains[[#This Row],[ITEMNMBR]],0)","v":"4755"},"Halloween - Candy-O-Lantern Halloween Gift Basket","RETAIL",0,34.99]
["4756",{"$f":"TEXT(Table_Query_from_Great_Plains[[#This Row],[ITEMNMBR]],0)","v":"4756"},"Halloween - Cat's Meow Halloween Gift Basket (RETIRED)","RETAIL",0,29.99]
["4757",{"$f":"TEXT(Table_Query_from_Great_Plains[[#This Row],[ITEMNMBR]],0)","v":"4757"},"Halloween - Witch's Cauldron Halloween Gift Basket","RETAIL",0,49.99]
["4758",{"$f":"TEXT(Table_Query_from_Great_Plains[[#This Row],[ITEMNMBR]],0)","v":"4758"},"Halloween - Haunted Halloween Care Package","RETAIL",0,59.99]
["4760",{"$f":"TEXT(Table_Query_from_Great_Plains[[#This Row],[ITEMNMBR]],0)","v":"4760"},"Halloween Spooky Snack Tin","RETAIL",0,29.99]
["4765",{"$f":"TEXT(Table_Query_from_Great_Plains[[#This Row],[ITEMNMBR]],0)","v":"4765"},"Spooky Eyes Snack Tin","RETAIL",0,39.99]
["4768",{"$f":"TEXT(Table_Query_from_Great_Plains[[#This Row],[ITEMNMBR]],0)","v":"4768"},"1 Gallon Cat Tin with Caramel Apple Popcorn","RETAIL",0,19.989999999999998]
["4770",{"$f":"TEXT(Table_Query_from_Great_Plains[[#This Row],[ITEMNMBR]],0)","v":"4770"},"Haunted House Snack Tin","RETAIL",0,39.99]
["4790",{"$f":"TEXT(Table_Query_from_Great_Plains[[#This Row],[ITEMNMBR]],0)","v":"4790"},"Cupcake Time Gift Basket Stack","RETAIL",0,29.99]
["4791",{"$f":"TEXT(Table_Query_from_Great_Plains[[#This Row],[ITEMNMBR]],0)","v":"4791"},"Cupcake Party Gift Basket","RETAIL",0,59.99]
["4792",{"$f":"TEXT(Table_Query_from_Great_Plains[[#This Row],[ITEMNMBR]],0)","v":"4792"},"Cupcake Smorgasbord Gift Basket","RETAIL",0,99.99]
["4800",{"$f":"TEXT(Table_Query_from_Great_Plains[[#This Row],[ITEMNMBR]],0)","v":"4800"},"Nostalgic Candy Gift Box (RETIRED)","RETAIL",0,29.99]
["4801",{"$f":"TEXT(Table_Query_from_Great_Plains[[#This Row],[ITEMNMBR]],0)","v":"4801"},"Junk Food Bucket Standard","RETAIL",0,24.99]
["4802",{"$f":"TEXT(Table_Query_from_Great_Plains[[#This Row],[ITEMNMBR]],0)","v":"4802"},"Deluxe Junk Food Bucket","RETAIL",0,39.99]
["4803",{"$f":"TEXT(Table_Query_from_Great_Plains[[#This Row],[ITEMNMBR]],0)","v":"4803"},"Nostalgic Candy Gift Crate","RETAIL",0,34.99]
["4850",{"$f":"TEXT(Table_Query_from_Great_Plains[[#This Row],[ITEMNMBR]],0)","v":"4850"},"NAME PENDING - (dual SKU w. Sweets for My Sweetheart)","RETAIL",0,24.99]
["4851",{"$f":"TEXT(Table_Query_from_Great_Plains[[#This Row],[ITEMNMBR]],0)","v":"4851"},"NAME PENDING - (dual SKU w. Snacks for My Sweetheart)","RETAIL",0,39.99]
["5002",{"$f":"TEXT(Table_Query_from_Great_Plains[[#This Row],[ITEMNMBR]],0)","v":"5002"},"Popcorn Lovers/Night At The Movies Gift Basket Premium","RETAIL",0,119.99]
["5003",{"$f":"TEXT(Table_Query_from_Great_Plains[[#This Row],[ITEMNMBR]],0)","v":"5003"},"Popcorn Lovers/Night At The Movies Gift Basket - Classic","RETAIL",0,99.99]
["5004",{"$f":"TEXT(Table_Query_from_Great_Plains[[#This Row],[ITEMNMBR]],0)","v":"5004"},"Popcorn Lovers/Night At The Movies Gift Basket Stack","RETAIL",0,37.99]
["5006",{"$f":"TEXT(Table_Query_from_Great_Plains[[#This Row],[ITEMNMBR]],0)","v":"5006"},"Roll Out the Red Carpet - Popcorn and Snacks Basket","RETAIL",0,74.989999999999995]
["5006K",{"$f":"TEXT(Table_Query_from_Great_Plains[[#This Row],[ITEMNMBR]],0)","v":"5006K"},"Roll Out the Red Carpet - Popcorn and Snacks Basket","RETAIL",0,79.989999999999995]
["5007",{"$f":"TEXT(Table_Query_from_Great_Plains[[#This Row],[ITEMNMBR]],0)","v":"5007"},"Popcorn Perfection Gift Basket","RETAIL",0,59.99]
["5010",{"$f":"TEXT(Table_Query_from_Great_Plains[[#This Row],[ITEMNMBR]],0)","v":"5010"},"Super Salad Gift Basket","RETAIL",0,79.989999999999995]
["5011",{"$f":"TEXT(Table_Query_from_Great_Plains[[#This Row],[ITEMNMBR]],0)","v":"5011"},"Salad Stack","RETAIL",0,47.99]
["5013",{"$f":"TEXT(Table_Query_from_Great_Plains[[#This Row],[ITEMNMBR]],0)","v":"5013"},"Keepsake Colander","RETAIL",0,79.989999999999995]
["5014",{"$f":"TEXT(Table_Query_from_Great_Plains[[#This Row],[ITEMNMBR]],0)","v":"5014"},"Taste of Italy - Italian Gift Basket","RETAIL",0,59.99]
["5015",{"$f":"TEXT(Table_Query_from_Great_Plains[[#This Row],[ITEMNMBR]],0)","v":"5015"},"Table in Tuscany - Italian Gift Basket","RETAIL",0,89.99]
["5016",{"$f":"TEXT(Table_Query_from_Great_Plains[[#This Row],[ITEMNMBR]],0)","v":"5016"},"Tour of Italy  - Italian Gift Basket","RETAIL",0,119.99]
["5017",{"$f":"TEXT(Table_Query_from_Great_Plains[[#This Row],[ITEMNMBR]],0)","v":"5017"},"Bella Italiana - Italian Gift Basket","RETAIL",0,159.99]
["5018",{"$f":"TEXT(Table_Query_from_Great_Plains[[#This Row],[ITEMNMBR]],0)","v":"5018"},"San Pellegrino - Italian Gift Basket","RETAIL",0,79.989999999999995]
["5019",{"$f":"TEXT(Table_Query_from_Great_Plains[[#This Row],[ITEMNMBR]],0)","v":"5019"},"Chianti Wine - Italian Gift Basket","RETAIL",1,99.99]
["5020",{"$f":"TEXT(Table_Query_from_Great_Plains[[#This Row],[ITEMNMBR]],0)","v":"5020"},"New England Breakfast Stack","RETAIL",0,37.99]
["5021",{"$f":"TEXT(Table_Query_from_Great_Plains[[#This Row],[ITEMNMBR]],0)","v":"5021"},"New England Breakfast Gift Basket Deluxe","RETAIL",0,109.99]
["5022",{"$f":"TEXT(Table_Query_from_Great_Plains[[#This Row],[ITEMNMBR]],0)","v":"5022"},"New England Breakfast Gift Basket Classic","RETAIL",0,69.989999999999995]
["5024",{"$f":"TEXT(Table_Query_from_Great_Plains[[#This Row],[ITEMNMBR]],0)","v":"5024"},"Ultimate New England Brunch Gift Basket","RETAIL",0,159.99]
["5030",{"$f":"TEXT(Table_Query_from_Great_Plains[[#This Row],[ITEMNMBR]],0)","v":"5030"},"Tex-Mex Stack","RETAIL",0,34.99]
["5031",{"$f":"TEXT(Table_Query_from_Great_Plains[[#This Row],[ITEMNMBR]],0)","v":"5031"},"Tex-Mex Gift Basket - Premium","RETAIL",0,74.989999999999995]
["5032",{"$f":"TEXT(Table_Query_from_Great_Plains[[#This Row],[ITEMNMBR]],0)","v":"5032"},"Tex-Mex Gift Basket - Deluxe","RETAIL",0,179.99]
["5034",{"$f":"TEXT(Table_Query_from_Great_Plains[[#This Row],[ITEMNMBR]],0)","v":"5034"},"Tex-Mex Gift Basket - Classic","RETAIL",0,69.989999999999995]
["5035",{"$f":"TEXT(Table_Query_from_Great_Plains[[#This Row],[ITEMNMBR]],0)","v":"5035"},"Tex-Mex Gift Basket - Premium","RETAIL",0,89.99]
["5039",{"$f":"TEXT(Table_Query_from_Great_Plains[[#This Row],[ITEMNMBR]],0)","v":"5039"},"Pizza Stack (RETIRED)","RETAIL",0,39.99]
["5040",{"$f":"TEXT(Table_Query_from_Great_Plains[[#This Row],[ITEMNMBR]],0)","v":"5040"},"Gourmet Pizza Making Gift Basket","RETAIL",0,99.99]
["5050",{"$f":"TEXT(Table_Query_from_Great_Plains[[#This Row],[ITEMNMBR]],0)","v":"5050"},"Ice Cream Smorgasbord - Ice Cream Gift Basket (RETIRED)","RETAIL",0,99.99]
["5051",{"$f":"TEXT(Table_Query_from_Great_Plains[[#This Row],[ITEMNMBR]],0)","v":"5051"},"Ice Cream Party - Ice Cream Gift Stack (RETIRED)","RETAIL",0,39.99]
["5052",{"$f":"TEXT(Table_Query_from_Great_Plains[[#This Row],[ITEMNMBR]],0)","v":"5052"},"Ice Cream Social - Ice Cream Gift Basket (RETIRED)","RETAIL",0,69.989999999999995]
["5055",{"$f":"TEXT(Table_Query_from_Great_Plains[[#This Row],[ITEMNMBR]],0)","v":"5055"},"Bottle Board, Cheese, Sausage and Crackers","RETAIL",0,39.99]
["5060",{"$f":"TEXT(Table_Query_from_Great_Plains[[#This Row],[ITEMNMBR]],0)","v":"5060"},"Bread Board & Dipping Oil","RETAIL",0,29.99]
["5068",{"$f":"TEXT(Table_Query_from_Great_Plains[[#This Row],[ITEMNMBR]],0)","v":"5068"},"Get Well Soup Gift Stack","RETAIL",0,49.99]
["5069",{"$f":"TEXT(Table_Query_from_Great_Plains[[#This Row],[ITEMNMBR]],0)","v":"5069"},"Soup Stack","RETAIL",0,49.99]
["5070",{"$f":"TEXT(Table_Query_from_Great_Plains[[#This Row],[ITEMNMBR]],0)","v":"5070"},"Get Well Basket","RETAIL",0,79.989999999999995]
["5071",{"$f":"TEXT(Table_Query_from_Great_Plains[[#This Row],[ITEMNMBR]],0)","v":"5071"},"Soup Premium","RETAIL",0,129.99]
["5072",{"$f":"TEXT(Table_Query_from_Great_Plains[[#This Row],[ITEMNMBR]],0)","v":"5072"},"Soup Deluxe","RETAIL",0,179.99]
["5073",{"$f":"TEXT(Table_Query_from_Great_Plains[[#This Row],[ITEMNMBR]],0)","v":"5073"},"Ultimate Get Well Gift Basket","RETAIL",0,99.99]
["5080",{"$f":"TEXT(Table_Query_from_Great_Plains[[#This Row],[ITEMNMBR]],0)","v":"5080"},"Tea & Cookies Stack","RETAIL",0,49.99]
["5081",{"$f":"TEXT(Table_Query_from_Great_Plains[[#This Row],[ITEMNMBR]],0)","v":"5081"},"Tea & Cookies Gift Basket Classic","RETAIL",0,69.989999999999995]
["5082",{"$f":"TEXT(Table_Query_from_Great_Plains[[#This Row],[ITEMNMBR]],0)","v":"5082"},"Tea & Cookies Gift Basket Premium","RETAIL",0,139.99]
["5086",{"$f":"TEXT(Table_Query_from_Great_Plains[[#This Row],[ITEMNMBR]],0)","v":"5086"},"Ravenswood White Wine Gift Basket","RETAIL",1,69.989999999999995]
["5087",{"$f":"TEXT(Table_Query_from_Great_Plains[[#This Row],[ITEMNMBR]],0)","v":"5087"},"Ravenswood Red Wine Gift Basket","RETAIL",1,69.989999999999995]
["5088",{"$f":"TEXT(Table_Query_from_Great_Plains[[#This Row],[ITEMNMBR]],0)","v":"5088"},"Wild Horse Duo Wine Gift Basket","RETAIL",1,114.99]
["5089",{"$f":"TEXT(Table_Query_from_Great_Plains[[#This Row],[ITEMNMBR]],0)","v":"5089"},"Wild Horse Trio Wine Gift Basket","RETAIL",1,149.99]
["5090",{"$f":"TEXT(Table_Query_from_Great_Plains[[#This Row],[ITEMNMBR]],0)","v":"5090"},"Wine Party Picnic Gift Basket -","RETAIL",1,89.99]
["5092",{"$f":"TEXT(Table_Query_from_Great_Plains[[#This Row],[ITEMNMBR]],0)","v":"5092"},"Cakebread Whites Wine Gift Basket","RETAIL",1,199.99]
["5093",{"$f":"TEXT(Table_Query_from_Great_Plains[[#This Row],[ITEMNMBR]],0)","v":"5093"},"Cakebread Reds Wine Gift Basket","RETAIL",1,249.99]
["5094",{"$f":"TEXT(Table_Query_from_Great_Plains[[#This Row],[ITEMNMBR]],0)","v":"5094"},"Cakebread Vineyard Tour - Quatro Wine Gift Basket","RETAIL",1,399.99]
["5095",{"$f":"TEXT(Table_Query_from_Great_Plains[[#This Row],[ITEMNMBR]],0)","v":"5095"},"Country Inn Breakfast Gift Basket","RETAIL",0,89.99]
["5097",{"$f":"TEXT(Table_Query_from_Great_Plains[[#This Row],[ITEMNMBR]],0)","v":"5097"},"\"Signature Series\"  Breakfast Gift Basket","RETAIL",0,149.99]
["5098",{"$f":"TEXT(Table_Query_from_Great_Plains[[#This Row],[ITEMNMBR]],0)","v":"5098"},"Silver Oak Duo - Red Wine Gift Basket","RETAIL",1,299.99]
["5099",{"$f":"TEXT(Table_Query_from_Great_Plains[[#This Row],[ITEMNMBR]],0)","v":"5099"},"Silver Oak Showcase - Trio Wine Basket","RETAIL",1,399.99]
["5104",{"$f":"TEXT(Table_Query_from_Great_Plains[[#This Row],[ITEMNMBR]],0)","v":"5104"},"Catena Duo - Argentinean Wine Gift Basket","RETAIL",1,129.99]
["5106A",{"$f":"TEXT(Table_Query_from_Great_Plains[[#This Row],[ITEMNMBR]],0)","v":"5106A"},"Red Wine & Dark Chocolate - Les Dauphins","RETAIL",1,89.99]
["5106B",{"$f":"TEXT(Table_Query_from_Great_Plains[[#This Row],[ITEMNMBR]],0)","v":"5106B"},"Red Wine & Dark Chocolate - Catena Malbec","RETAIL",1,109.99]
["5106C",{"$f":"TEXT(Table_Query_from_Great_Plains[[#This Row],[ITEMNMBR]],0)","v":"5106C"},"Red Wine & Dark Chocolate - Silver Oak Alexander Valley","RETAIL",1,199.99]
["5107A",{"$f":"TEXT(Table_Query_from_Great_Plains[[#This Row],[ITEMNMBR]],0)","v":"5107A"},"Champagne & Truffles - La Marca","RETAIL",1,99.99]
["5107B",{"$f":"TEXT(Table_Query_from_Great_Plains[[#This Row],[ITEMNMBR]],0)","v":"5107B"},"Champagne & Truffles - Veuve","RETAIL",1,149.99]
["5107C",{"$f":"TEXT(Table_Query_from_Great_Plains[[#This Row],[ITEMNMBR]],0)","v":"5107C"},"Champagne & Truffles - Dom Perignon","RETAIL",1,269.99]
["5108",{"$f":"TEXT(Table_Query_from_Great_Plains[[#This Row],[ITEMNMBR]],0)","v":"5108"},"Red Wine Duo & Chocolate Suitcase","RETAIL",1,189.99]
["5108PM",{"$f":"TEXT(Table_Query_from_Great_Plains[[#This Row],[ITEMNMBR]],0)","v":"5108PM"},"Payne Mason - Red Wine & Dark Chocolate Suitcase with Torpedo Barber Cigar","RETAIL",1,209.99]
["5109",{"$f":"TEXT(Table_Query_from_Great_Plains[[#This Row],[ITEMNMBR]],0)","v":"5109"},"Wine Lovers Suitcase Trio","RETAIL",1,249.99]
["5110",{"$f":"TEXT(Table_Query_from_Great_Plains[[#This Row],[ITEMNMBR]],0)","v":"5110"},"Champagne & Chocolate Suitcase","RETAIL",1,189.99]
["5111",{"$f":"TEXT(Table_Query_from_Great_Plains[[#This Row],[ITEMNMBR]],0)","v":"5111"},"Platinum Collection Wine Suitcase","RETAIL",1,174.99]
["5112",{"$f":"TEXT(Table_Query_from_Great_Plains[[#This Row],[ITEMNMBR]],0)","v":"5112"},"Ultimate Dom Perignon Selection","RETAIL",1,399.99]
["5115",{"$f":"TEXT(Table_Query_from_Great_Plains[[#This Row],[ITEMNMBR]],0)","v":"5115"},"Day in Paris Gift Basket","RETAIL",0,119.99]
["5116",{"$f":"TEXT(Table_Query_from_Great_Plains[[#This Row],[ITEMNMBR]],0)","v":"5116"},"Taste of Europe Gift Basket","RETAIL",1,229.99]
["5118",{"$f":"TEXT(Table_Query_from_Great_Plains[[#This Row],[ITEMNMBR]],0)","v":"5118"},"Afternoon in Paris","RETAIL",0,159.99]
["5130",{"$f":"TEXT(Table_Query_from_Great_Plains[[#This Row],[ITEMNMBR]],0)","v":"5130"},"Red Wine Countryside Gift Basket","RETAIL",1,49.99]
["5131",{"$f":"TEXT(Table_Query_from_Great_Plains[[#This Row],[ITEMNMBR]],0)","v":"5131"},"White Wine Countryside Gift Basket","RETAIL",1,49.99]
["5132",{"$f":"TEXT(Table_Query_from_Great_Plains[[#This Row],[ITEMNMBR]],0)","v":"5132"},"Cakebread Duo - Cabernet & Chardonnay","RETAIL",1,259.99]
["5134",{"$f":"TEXT(Table_Query_from_Great_Plains[[#This Row],[ITEMNMBR]],0)","v":"5134"},"Red Wine Showcase Gift Basket","RETAIL",1,139.99]
["5135",{"$f":"TEXT(Table_Query_from_Great_Plains[[#This Row],[ITEMNMBR]],0)","v":"5135"},"Premier Selections Wine Gift Basket","RETAIL",1,124.99]
["5140",{"$f":"TEXT(Table_Query_from_Great_Plains[[#This Row],[ITEMNMBR]],0)","v":"5140"},"Classic Red Wine Gift Basket","RETAIL",1,69.989999999999995]
["5141",{"$f":"TEXT(Table_Query_from_Great_Plains[[#This Row],[ITEMNMBR]],0)","v":"5141"},"Classic White Wine Gift Basket","RETAIL",1,69.989999999999995]
["5143",{"$f":"TEXT(Table_Query_from_Great_Plains[[#This Row],[ITEMNMBR]],0)","v":"5143"},"Wine Cellar Collection Gift Basket","RETAIL",1,159.99]
["5150",{"$f":"TEXT(Table_Query_from_Great_Plains[[#This Row],[ITEMNMBR]],0)","v":"5150"},"Vineyard Tour Trio Wine Gift Basket","RETAIL",1,189.99]
["5151",{"$f":"TEXT(Table_Query_from_Great_Plains[[#This Row],[ITEMNMBR]],0)","v":"5151"},"Italian Dinner for Two Wine Gift Basket","RETAIL",0,0]
["5190",{"$f":"TEXT(Table_Query_from_Great_Plains[[#This Row],[ITEMNMBR]],0)","v":"5190"},"Wine Party Picnic - Red & White Duo in Wire","RETAIL",1,89.99]
["520-2",{"$f":"TEXT(Table_Query_from_Great_Plains[[#This Row],[ITEMNMBR]],0)","v":"520-2"},"Truffles Qty 2","RETAIL",0,4.99]
["5200",{"$f":"TEXT(Table_Query_from_Great_Plains[[#This Row],[ITEMNMBR]],0)","v":"5200"},"Christmas Stocking with Coal","RETAIL",0,9.99]
["5200K",{"$f":"TEXT(Table_Query_from_Great_Plains[[#This Row],[ITEMNMBR]],0)","v":"5200K"},"Christmas Stocking with Coal","RETAIL",0,9.99]
["5206",{"$f":"TEXT(Table_Query_from_Great_Plains[[#This Row],[ITEMNMBR]],0)","v":"5206"},"A Taste of Christmas Gift Basket","RETAIL",0,34.99]
["5207",{"$f":"TEXT(Table_Query_from_Great_Plains[[#This Row],[ITEMNMBR]],0)","v":"5207"},"Christmas Care Package","RETAIL",0,49.99]
["5208",{"$f":"TEXT(Table_Query_from_Great_Plains[[#This Row],[ITEMNMBR]],0)","v":"5208"},"Christmas Snack in Paperboard","RETAIL",0,34.99]
["5209",{"$f":"TEXT(Table_Query_from_Great_Plains[[#This Row],[ITEMNMBR]],0)","v":"5209"},"Christmas Gift Basket Stack","RETAIL",0,29.99]
["5210",{"$f":"TEXT(Table_Query_from_Great_Plains[[#This Row],[ITEMNMBR]],0)","v":"5210"},"Christmas Gift Basket Classic","RETAIL",0,59.99]
["5215",{"$f":"TEXT(Table_Query_from_Great_Plains[[#This Row],[ITEMNMBR]],0)","v":"5215"},"Christmas Gift Basket Premium","RETAIL",0,79.989999999999995]
["5220",{"$f":"TEXT(Table_Query_from_Great_Plains[[#This Row],[ITEMNMBR]],0)","v":"5220"},"Christmas Gift Basket Deluxe","RETAIL",0,99.99]
["5225",{"$f":"TEXT(Table_Query_from_Great_Plains[[#This Row],[ITEMNMBR]],0)","v":"5225"},"Christmas Gift Basket Ultimate","RETAIL",0,124.99]
["5230",{"$f":"TEXT(Table_Query_from_Great_Plains[[#This Row],[ITEMNMBR]],0)","v":"5230"},"Christmas Corporate ShowStopper","RETAIL",0,149.99]
["5231",{"$f":"TEXT(Table_Query_from_Great_Plains[[#This Row],[ITEMNMBR]],0)","v":"5231"},"Christmas Snack Jumbo","RETAIL",0,199.99]
["5232",{"$f":"TEXT(Table_Query_from_Great_Plains[[#This Row],[ITEMNMBR]],0)","v":"5232"},"Christmas Gift Basket Executive Suite Signature Series","RETAIL",0,249.99]
["5235",{"$f":"TEXT(Table_Query_from_Great_Plains[[#This Row],[ITEMNMBR]],0)","v":"5235"},"Christmas Chocolates Gift Basket Deluxe","RETAIL",0,149.99]
["5245",{"$f":"TEXT(Table_Query_from_Great_Plains[[#This Row],[ITEMNMBR]],0)","v":"5245"},"Christmas Morning Breakfast Gift Basket","RETAIL",0,79.989999999999995]
["525-L",{"$f":"TEXT(Table_Query_from_Great_Plains[[#This Row],[ITEMNMBR]],0)","v":"525-L"},"Boxed Chocolates - Large","RETAIL",0,29.99]
["525-M",{"$f":"TEXT(Table_Query_from_Great_Plains[[#This Row],[ITEMNMBR]],0)","v":"525-M"},"Boxed Chocolates - Medium","RETAIL",0,19.989999999999998]
["525-S",{"$f":"TEXT(Table_Query_from_Great_Plains[[#This Row],[ITEMNMBR]],0)","v":"525-S"},"Box of Chocolates - Small","RETAIL",0,9.99]
["5250",{"$f":"TEXT(Table_Query_from_Great_Plains[[#This Row],[ITEMNMBR]],0)","v":"5250"},"Christmas Fruit Basket","RETAIL",0,99.99]
["5258",{"$f":"TEXT(Table_Query_from_Great_Plains[[#This Row],[ITEMNMBR]],0)","v":"5258"},"Hanukkah Stack","RETAIL",0,34.99]
["5259",{"$f":"TEXT(Table_Query_from_Great_Plains[[#This Row],[ITEMNMBR]],0)","v":"5259"},"Hanukkah Gift Basket - Classic","RETAIL",0,69.989999999999995]
["5260",{"$f":"TEXT(Table_Query_from_Great_Plains[[#This Row],[ITEMNMBR]],0)","v":"5260"},"Hanukkah Gift Basket - Premium","RETAIL",0,79.989999999999995]
["5265",{"$f":"TEXT(Table_Query_from_Great_Plains[[#This Row],[ITEMNMBR]],0)","v":"5265"},"Hanukkah Gift Basket - Deluxe","RETAIL",0,99.99]
["5270",{"$f":"TEXT(Table_Query_from_Great_Plains[[#This Row],[ITEMNMBR]],0)","v":"5270"},"Hanukkah Cornucopia Gift Basket","RETAIL",0,149.99]
["5272",{"$f":"TEXT(Table_Query_from_Great_Plains[[#This Row],[ITEMNMBR]],0)","v":"5272"},"Hanukkah Ultimate","RETAIL",0,124.99]
["5310",{"$f":"TEXT(Table_Query_from_Great_Plains[[#This Row],[ITEMNMBR]],0)","v":"5310"},"Gourmet Holiday Sleigh - Christmas Gift Basket","RETAIL",0,39.99]
["5311",{"$f":"TEXT(Table_Query_from_Great_Plains[[#This Row],[ITEMNMBR]],0)","v":"5311"},"Jingle All The Way - Holiday Gift Basket","RETAIL",0,39.99]
["5311A",{"$f":"TEXT(Table_Query_from_Great_Plains[[#This Row],[ITEMNMBR]],0)","v":"5311A"},"Jingle All The Way - Holiday Gift Basket","RETAIL",0,39.99]
["5313",{"$f":"TEXT(Table_Query_from_Great_Plains[[#This Row],[ITEMNMBR]],0)","v":"5313"},"Nutcracker Drum - Christmas Gift Basket","RETAIL",0,49.99]
["5314",{"$f":"TEXT(Table_Query_from_Great_Plains[[#This Row],[ITEMNMBR]],0)","v":"5314"},"Dashing Through The Snow Christmas Gift Basket","RETAIL",0,49.99]
["5316",{"$f":"TEXT(Table_Query_from_Great_Plains[[#This Row],[ITEMNMBR]],0)","v":"5316"},"Christmas - Something Naughty & Something Nice","RETAIL",0,89.99]
["5318",{"$f":"TEXT(Table_Query_from_Great_Plains[[#This Row],[ITEMNMBR]],0)","v":"5318"},"Holiday Sweets & Treats Snowflake Tin - Christmas Gift Basket","RETAIL",0,49.99]
["5322",{"$f":"TEXT(Table_Query_from_Great_Plains[[#This Row],[ITEMNMBR]],0)","v":"5322"},"Deck the Halls Christmas Gift Tin","RETAIL",0,49.99]
["5324",{"$f":"TEXT(Table_Query_from_Great_Plains[[#This Row],[ITEMNMBR]],0)","v":"5324"},"Snowman's Festive Favorites","RETAIL",0,34.99]
["5325",{"$f":"TEXT(Table_Query_from_Great_Plains[[#This Row],[ITEMNMBR]],0)","v":"5325"},"Blue Christmas Special 2014 $59.99 free ship","RETAIL",0,59.99]
["5326",{"$f":"TEXT(Table_Query_from_Great_Plains[[#This Row],[ITEMNMBR]],0)","v":"5326"},"Good Tidings Holiday Gift - FREE SHIP","RETAIL",0,69.989999999999995]
["5330",{"$f":"TEXT(Table_Query_from_Great_Plains[[#This Row],[ITEMNMBR]],0)","v":"5330"},"Holiday Harvest Gift Tower","RETAIL",0,59.99]
["5330A",{"$f":"TEXT(Table_Query_from_Great_Plains[[#This Row],[ITEMNMBR]],0)","v":"5330A"},"Holiday Harvest Tower-GGB","RETAIL",0,59.99]
["5330B",{"$f":"TEXT(Table_Query_from_Great_Plains[[#This Row],[ITEMNMBR]],0)","v":"5330B"},"Holiday Harvest Tower-Cracker","RETAIL",0,59.99]
["5330C",{"$f":"TEXT(Table_Query_from_Great_Plains[[#This Row],[ITEMNMBR]],0)","v":"5330C"},"Holiday Harvest Tower-Pears","RETAIL",0,59.99]
["5335",{"$f":"TEXT(Table_Query_from_Great_Plains[[#This Row],[ITEMNMBR]],0)","v":"5335"},"Harvest Tower (Red / Brown)","RETAIL",0,69.989999999999995]
["5341",{"$f":"TEXT(Table_Query_from_Great_Plains[[#This Row],[ITEMNMBR]],0)","v":"5341"},"Holiday Sweets & Treats Gift Basket - FREE SHIP","RETAIL",0,59.99]
["5342",{"$f":"TEXT(Table_Query_from_Great_Plains[[#This Row],[ITEMNMBR]],0)","v":"5342"},"Winter Wonderland Gift Basket - FREE SHIP","RETAIL",0,59.99]
["5343",{"$f":"TEXT(Table_Query_from_Great_Plains[[#This Row],[ITEMNMBR]],0)","v":"5343"},"Deck the Halls - Holiday Gift  - FREE SHIP","RETAIL",0,59.99]
["5345",{"$f":"TEXT(Table_Query_from_Great_Plains[[#This Row],[ITEMNMBR]],0)","v":"5345"},"Season's Greetings Holiday Gift Basket - FREE SHIP","RETAIL",0,59.99]
["534L",{"$f":"TEXT(Table_Query_from_Great_Plains[[#This Row],[ITEMNMBR]],0)","v":"534L"},"Stuffed Animal - Large","RETAIL",0,49.99]
["534M",{"$f":"TEXT(Table_Query_from_Great_Plains[[#This Row],[ITEMNMBR]],0)","v":"534M"},"Stuffed Animal - Medium","RETAIL",0,29.99]
["534S",{"$f":"TEXT(Table_Query_from_Great_Plains[[#This Row],[ITEMNMBR]],0)","v":"534S"},"Stuffed Animal - Small","RETAIL",0,14.99]
["534XL",{"$f":"TEXT(Table_Query_from_Great_Plains[[#This Row],[ITEMNMBR]],0)","v":"534XL"},"Stuffed Animal - WOW!","RETAIL",0,74.989999999999995]
["5350",{"$f":"TEXT(Table_Query_from_Great_Plains[[#This Row],[ITEMNMBR]],0)","v":"5350"},"Winter Wonderland Snack Tin","RETAIL",0,29.99]
["5351",{"$f":"TEXT(Table_Query_from_Great_Plains[[#This Row],[ITEMNMBR]],0)","v":"5351"},"Let it Snow Snack Tin","RETAIL",0,39.99]
["5406",{"$f":"TEXT(Table_Query_from_Great_Plains[[#This Row],[ITEMNMBR]],0)","v":"5406"},"Signature Series Fruit & Gourmet Basket","RETAIL",0,229.99]
["5520",{"$f":"TEXT(Table_Query_from_Great_Plains[[#This Row],[ITEMNMBR]],0)","v":"5520"},"Healthy Treats Gift Basket","RETAIL",0,42.99]
["5521",{"$f":"TEXT(Table_Query_from_Great_Plains[[#This Row],[ITEMNMBR]],0)","v":"5521"},"Snack Break Gift Basket","RETAIL",0,34.99]
["5522",{"$f":"TEXT(Table_Query_from_Great_Plains[[#This Row],[ITEMNMBR]],0)","v":"5522"},"'Mini' Chocolate Gift Basket","RETAIL",0,32.99]
["5523",{"$f":"TEXT(Table_Query_from_Great_Plains[[#This Row],[ITEMNMBR]],0)","v":"5523"},"Coffee Break 'Mini' Gift Basket","RETAIL",0,44.99]
["5524",{"$f":"TEXT(Table_Query_from_Great_Plains[[#This Row],[ITEMNMBR]],0)","v":"5524"},"Treats From The Orchard 'Mini' Fruit Gift Basket","RETAIL",0,39.99]
["5525",{"$f":"TEXT(Table_Query_from_Great_Plains[[#This Row],[ITEMNMBR]],0)","v":"5525"},"Flavors of Italy 'Mini' Italian Gift Basket","RETAIL",0,32.99]
["5526",{"$f":"TEXT(Table_Query_from_Great_Plains[[#This Row],[ITEMNMBR]],0)","v":"5526"},"Taste of New England 'Mini' Breakfast Gift Basket","RETAIL",0,29.99]
["5527",{"$f":"TEXT(Table_Query_from_Great_Plains[[#This Row],[ITEMNMBR]],0)","v":"5527"},"'Mini' Tea & Cookies Gift Basket","RETAIL",0,32.99]
["5528",{"$f":"TEXT(Table_Query_from_Great_Plains[[#This Row],[ITEMNMBR]],0)","v":"5528"},"Nut Sampler 'Mini' Gift Basket","RETAIL",0,32.99]
["5560",{"$f":"TEXT(Table_Query_from_Great_Plains[[#This Row],[ITEMNMBR]],0)","v":"5560"},"'Mini' Healthy Gift Basket - Buy 5 Get 1 Free","RETAIL",0,124.95]
["5561",{"$f":"TEXT(Table_Query_from_Great_Plains[[#This Row],[ITEMNMBR]],0)","v":"5561"},"'Mini' Snack Gift Basket - Buy 5 Get 1 Free","RETAIL",0,124.95]
["5562",{"$f":"TEXT(Table_Query_from_Great_Plains[[#This Row],[ITEMNMBR]],0)","v":"5562"},"'Mini' Chocolate Gift Basket - Buy 5 Get 1 Free","RETAIL",0,124.95]
["5563",{"$f":"TEXT(Table_Query_from_Great_Plains[[#This Row],[ITEMNMBR]],0)","v":"5563"},"Coffee Break 'Mini'  Gift Basket - Buy 5 Get 1 Free","RETAIL",0,124.95]
["5564",{"$f":"TEXT(Table_Query_from_Great_Plains[[#This Row],[ITEMNMBR]],0)","v":"5564"},"Treats From the Orchard 'Mini' Fruit Gift Basket - Buy 5 Get 1 Free","RETAIL",0,124.95]
["5565",{"$f":"TEXT(Table_Query_from_Great_Plains[[#This Row],[ITEMNMBR]],0)","v":"5565"},"Favors of Italy 'Mini' Italian Gift Basket - Buy 5 Get 1 Free","RETAIL",0,124.95]
["5566",{"$f":"TEXT(Table_Query_from_Great_Plains[[#This Row],[ITEMNMBR]],0)","v":"5566"},"Taste of New England 'Mini' Breakfast Gift Basket - Buy 5 Get 1 Free","RETAIL",0,124.95]
["5567",{"$f":"TEXT(Table_Query_from_Great_Plains[[#This Row],[ITEMNMBR]],0)","v":"5567"},"'Mini' Tea & Cookies Gift Basket - Buy 5 Get 1 Free","RETAIL",0,124.95]
["5568",{"$f":"TEXT(Table_Query_from_Great_Plains[[#This Row],[ITEMNMBR]],0)","v":"5568"},"Nut Sampler 'Mini' Gift Basket - Buy 5 Get 1 Free","RETAIL",0,124.95]
["5600",{"$f":"TEXT(Table_Query_from_Great_Plains[[#This Row],[ITEMNMBR]],0)","v":"5600"},"Exam Cram","RETAIL",0,39.99]
["5600CE",{"$f":"TEXT(Table_Query_from_Great_Plains[[#This Row],[ITEMNMBR]],0)","v":"5600CE"},"Exam Cram","RETAIL",0,34.99]
["5600CP",{"$f":"TEXT(Table_Query_from_Great_Plains[[#This Row],[ITEMNMBR]],0)","v":"5600CP"},"Spring Finals - Care Package Program","RETAIL",0,34.99]
["5600GC",{"$f":"TEXT(Table_Query_from_Great_Plains[[#This Row],[ITEMNMBR]],0)","v":"5600GC"},"Spring Finale","RETAIL",0,34.99]
["5601",{"$f":"TEXT(Table_Query_from_Great_Plains[[#This Row],[ITEMNMBR]],0)","v":"5601"},"Health Nut Care Package","RETAIL",0,39.99]
["5601CE",{"$f":"TEXT(Table_Query_from_Great_Plains[[#This Row],[ITEMNMBR]],0)","v":"5601CE"},"Health Nut Care Package","RETAIL",0,34.99]
["5601CP",{"$f":"TEXT(Table_Query_from_Great_Plains[[#This Row],[ITEMNMBR]],0)","v":"5601CP"},"Spring Midterms - Care Package Program","RETAIL",0,34.99]
["5601GC",{"$f":"TEXT(Table_Query_from_Great_Plains[[#This Row],[ITEMNMBR]],0)","v":"5601GC"},"Spring Brain Crunch","RETAIL",0,34.99]
["5602",{"$f":"TEXT(Table_Query_from_Great_Plains[[#This Row],[ITEMNMBR]],0)","v":"5602"},"Junk Food Care Package","RETAIL",0,39.99]
["5602CE",{"$f":"TEXT(Table_Query_from_Great_Plains[[#This Row],[ITEMNMBR]],0)","v":"5602CE"},"Junk Food Care Package","RETAIL",0,34.99]
["5602CP",{"$f":"TEXT(Table_Query_from_Great_Plains[[#This Row],[ITEMNMBR]],0)","v":"5602CP"},"Back to School - Care Package Program","RETAIL",0,34.99]
["5603",{"$f":"TEXT(Table_Query_from_Great_Plains[[#This Row],[ITEMNMBR]],0)","v":"5603"},"Midnight Snack Care Package","RETAIL",0,34.99]
["5603CE",{"$f":"TEXT(Table_Query_from_Great_Plains[[#This Row],[ITEMNMBR]],0)","v":"5603CE"},"Midnight Snack Care Package","RETAIL",0,34.99]
["5603CP",{"$f":"TEXT(Table_Query_from_Great_Plains[[#This Row],[ITEMNMBR]],0)","v":"5603CP"},"Fall Finals - Care Package Program","RETAIL",0,34.99]
["5603GC",{"$f":"TEXT(Table_Query_from_Great_Plains[[#This Row],[ITEMNMBR]],0)","v":"5603GC"},"Fall Finale","RETAIL",0,34.99]
["5604",{"$f":"TEXT(Table_Query_from_Great_Plains[[#This Row],[ITEMNMBR]],0)","v":"5604"},"Sports Enthusiast Care Package","RETAIL",0,34.99]
["5604CE",{"$f":"TEXT(Table_Query_from_Great_Plains[[#This Row],[ITEMNMBR]],0)","v":"5604CE"},"Sports Enthusiast Care Package","RETAIL",0,34.99]
["5604CP",{"$f":"TEXT(Table_Query_from_Great_Plains[[#This Row],[ITEMNMBR]],0)","v":"5604CP"},"Fall Midterms - Care Package Program","RETAIL",0,34.99]
["5604GC",{"$f":"TEXT(Table_Query_from_Great_Plains[[#This Row],[ITEMNMBR]],0)","v":"5604GC"},"Snack in the Middle","RETAIL",0,34.99]
["5605",{"$f":"TEXT(Table_Query_from_Great_Plains[[#This Row],[ITEMNMBR]],0)","v":"5605"},"Sports Fan Care Package","RETAIL",0,34.99]
["5607",{"$f":"TEXT(Table_Query_from_Great_Plains[[#This Row],[ITEMNMBR]],0)","v":"5607"},"Birthday Care Package","RETAIL",0,39.99]
["5607CP",{"$f":"TEXT(Table_Query_from_Great_Plains[[#This Row],[ITEMNMBR]],0)","v":"5607CP"},"Birthday Care Package","RETAIL",0,49.99]
["5607GC",{"$f":"TEXT(Table_Query_from_Great_Plains[[#This Row],[ITEMNMBR]],0)","v":"5607GC"},"Birthday Surprise","RETAIL",0,39.99]
["5608",{"$f":"TEXT(Table_Query_from_Great_Plains[[#This Row],[ITEMNMBR]],0)","v":"5608"},"Lady Bug Tote Care Package","RETAIL",0,49.99]
["5609",{"$f":"TEXT(Table_Query_from_Great_Plains[[#This Row],[ITEMNMBR]],0)","v":"5609"},"Gluten Free Care Package","RETAIL",0,59.99]
["5610CP",{"$f":"TEXT(Table_Query_from_Great_Plains[[#This Row],[ITEMNMBR]],0)","v":"5610CP"},"Valentine's - Care Package Program","RETAIL",0,34.99]
["5610GC",{"$f":"TEXT(Table_Query_from_Great_Plains[[#This Row],[ITEMNMBR]],0)","v":"5610GC"},"Collegiate Cupid","RETAIL",0,34.99]
["5611CP",{"$f":"TEXT(Table_Query_from_Great_Plains[[#This Row],[ITEMNMBR]],0)","v":"5611CP"},"Spring Surprise - Care Package Program","RETAIL",0,34.99]
["5611GC",{"$f":"TEXT(Table_Query_from_Great_Plains[[#This Row],[ITEMNMBR]],0)","v":"5611GC"},"Spring Surprise - Care Package Program","RETAIL",0,34.99]
["5620",{"$f":"TEXT(Table_Query_from_Great_Plains[[#This Row],[ITEMNMBR]],0)","v":"5620"},"Kids Sports Care Package - Classic","RETAIL",0,34.99]
["5621",{"$f":"TEXT(Table_Query_from_Great_Plains[[#This Row],[ITEMNMBR]],0)","v":"5621"},"Kids Sports Care Package - Deluxe","RETAIL",0,59.99]
["5622",{"$f":"TEXT(Table_Query_from_Great_Plains[[#This Row],[ITEMNMBR]],0)","v":"5622"},"Activites, Games & Puzzles Care Package","RETAIL",0,39.99]
["5623",{"$f":"TEXT(Table_Query_from_Great_Plains[[#This Row],[ITEMNMBR]],0)","v":"5623"},"Arts & Crafts Care Package","RETAIL",0,39.99]
["5624",{"$f":"TEXT(Table_Query_from_Great_Plains[[#This Row],[ITEMNMBR]],0)","v":"5624"},"Camp Essentials Camp Care Package (RETIRED)","RETAIL",0,34.99]
["5625",{"$f":"TEXT(Table_Query_from_Great_Plains[[#This Row],[ITEMNMBR]],0)","v":"5625"},"Camp Essentials Camp Care Package - Deluxe (RETIRED)","RETAIL",0,59.99]
["5626",{"$f":"TEXT(Table_Query_from_Great_Plains[[#This Row],[ITEMNMBR]],0)","v":"5626"},"Glow In The Dark Care Package - Classic","RETAIL",0,34.99]
["5627",{"$f":"TEXT(Table_Query_from_Great_Plains[[#This Row],[ITEMNMBR]],0)","v":"5627"},"Glow In The Dark Care Package - Deluxe","RETAIL",0,59.99]
["5628",{"$f":"TEXT(Table_Query_from_Great_Plains[[#This Row],[ITEMNMBR]],0)","v":"5628"},"Summer Fun Camp Care Package - Classic","RETAIL",0,34.99]
["5629",{"$f":"TEXT(Table_Query_from_Great_Plains[[#This Row],[ITEMNMBR]],0)","v":"5629"},"Summer Fun Camp Care Package - Deluxe","RETAIL",0,59.99]
["5720",{"$f":"TEXT(Table_Query_from_Great_Plains[[#This Row],[ITEMNMBR]],0)","v":"5720"},"Pecan Turtle Cheesecake","RETAIL",0,37.99]
["5721",{"$f":"TEXT(Table_Query_from_Great_Plains[[#This Row],[ITEMNMBR]],0)","v":"5721"},"New York Cheesecake","RETAIL",0,34.99]
["5722",{"$f":"TEXT(Table_Query_from_Great_Plains[[#This Row],[ITEMNMBR]],0)","v":"5722"},"Marion Berry Cheesecake","RETAIL",0,37.99]
["5723",{"$f":"TEXT(Table_Query_from_Great_Plains[[#This Row],[ITEMNMBR]],0)","v":"5723"},"Triple Chocolate Raspberry Cheesecake","RETAIL",0,37.99]
["5724",{"$f":"TEXT(Table_Query_from_Great_Plains[[#This Row],[ITEMNMBR]],0)","v":"5724"},"Key Lime Cheesecake","RETAIL",0,37.99]
["5725",{"$f":"TEXT(Table_Query_from_Great_Plains[[#This Row],[ITEMNMBR]],0)","v":"5725"},"Pumpkin Spice Cheesecake","RETAIL",0,37.99]
["5726",{"$f":"TEXT(Table_Query_from_Great_Plains[[#This Row],[ITEMNMBR]],0)","v":"5726"},"Lemon Biscotti Cheesecake","RETAIL",0,37.99]
["5727",{"$f":"TEXT(Table_Query_from_Great_Plains[[#This Row],[ITEMNMBR]],0)","v":"5727"},"Gourmet Cheesecake Sampler","RETAIL",0,37.99]
["5728",{"$f":"TEXT(Table_Query_from_Great_Plains[[#This Row],[ITEMNMBR]],0)","v":"5728"},"White Chocolate Raspberry Cheesecake","RETAIL",0,37.99]
["5729",{"$f":"TEXT(Table_Query_from_Great_Plains[[#This Row],[ITEMNMBR]],0)","v":"5729"},"Everyday Classics Cheesecake Sampler","RETAIL",0,37.99]
["5730",{"$f":"TEXT(Table_Query_from_Great_Plains[[#This Row],[ITEMNMBR]],0)","v":"5730"},"Harvest Cheesecake Sampler","RETAIL",0,37.99]
["5731",{"$f":"TEXT(Table_Query_from_Great_Plains[[#This Row],[ITEMNMBR]],0)","v":"5731"},"Holiday Cheesecake Sampler","RETAIL",0,37.99]
["573A",{"$f":"TEXT(Table_Query_from_Great_Plains[[#This Row],[ITEMNMBR]],0)","v":"573A"},"Aromatic Beanpod Candle - Floral Collection 4.5 oz Jar","RETAIL",0,8.99]
["573B",{"$f":"TEXT(Table_Query_from_Great_Plains[[#This Row],[ITEMNMBR]],0)","v":"573B"},"Aromatic Beanpod Candle - Floral Collection 8 oz Jar","RETAIL",0,13.99]
["573C",{"$f":"TEXT(Table_Query_from_Great_Plains[[#This Row],[ITEMNMBR]],0)","v":"573C"},"Aromatic Beanpod Candle - Floral Collection 16 oz Jar","RETAIL",0,17.989999999999998]
["573D",{"$f":"TEXT(Table_Query_from_Great_Plains[[#This Row],[ITEMNMBR]],0)","v":"573D"},"Aromatic Beanpod Candle - Floral Collection 25 oz Jar","RETAIL",0,21.99]
["573E",{"$f":"TEXT(Table_Query_from_Great_Plains[[#This Row],[ITEMNMBR]],0)","v":"573E"},"Aromatic Beanpod Candle - Fruits and Vines 4.5 oz Jar","RETAIL",0,8.99]
["573F",{"$f":"TEXT(Table_Query_from_Great_Plains[[#This Row],[ITEMNMBR]],0)","v":"573F"},"Aromatic Beanpod Candle - Fruits & Vines 8 oz Jar","RETAIL",0,13.99]
["573G",{"$f":"TEXT(Table_Query_from_Great_Plains[[#This Row],[ITEMNMBR]],0)","v":"573G"},"Aromatic Beanpod Candle - Fruits & Vines 16 oz Jar","RETAIL",0,17.989999999999998]
["573H",{"$f":"TEXT(Table_Query_from_Great_Plains[[#This Row],[ITEMNMBR]],0)","v":"573H"},"Aromatic Beanpod Candle - Fruits & Vines 25 oz Jar","RETAIL",0,21.99]
["573I",{"$f":"TEXT(Table_Query_from_Great_Plains[[#This Row],[ITEMNMBR]],0)","v":"573I"},"Aromatic Beanpod Candle - Calming Blends 4.5 oz Jar","RETAIL",0,8.99]
["573J",{"$f":"TEXT(Table_Query_from_Great_Plains[[#This Row],[ITEMNMBR]],0)","v":"573J"},"Aromatic Beanpod Candle - Calming Blends 8 oz Jar","RETAIL",0,13.99]
["573K",{"$f":"TEXT(Table_Query_from_Great_Plains[[#This Row],[ITEMNMBR]],0)","v":"573K"},"Aromatic Beanpod Candle - Calming Blends 16 oz Jar","RETAIL",0,17.989999999999998]
["573L",{"$f":"TEXT(Table_Query_from_Great_Plains[[#This Row],[ITEMNMBR]],0)","v":"573L"},"Aromatic Beanpod Candle - Calming Blends 25 oz Jar","RETAIL",0,21.99]
["573M",{"$f":"TEXT(Table_Query_from_Great_Plains[[#This Row],[ITEMNMBR]],0)","v":"573M"},"Aromatic Beanpod Candle - Bistro Collection 4.5 oz Jar","RETAIL",0,8.99]
["573N",{"$f":"TEXT(Table_Query_from_Great_Plains[[#This Row],[ITEMNMBR]],0)","v":"573N"},"Aromatic Beanpod Candle - Bistro Collection 8 oz Jar","RETAIL",0,13.99]
["573P",{"$f":"TEXT(Table_Query_from_Great_Plains[[#This Row],[ITEMNMBR]],0)","v":"573P"},"Aromatic Beanpod Candle - Bistro 16 oz Jar","RETAIL",0,17.989999999999998]
["573Q",{"$f":"TEXT(Table_Query_from_Great_Plains[[#This Row],[ITEMNMBR]],0)","v":"573Q"},"Aromatic Beanpod Candle - Bistro 25 oz Jar","RETAIL",0,21.99]
["5787",{"$f":"TEXT(Table_Query_from_Great_Plains[[#This Row],[ITEMNMBR]],0)","v":"5787"},"LadyBug Insulated Tote Gift Bag","RETAIL",0,69.989999999999995]
["5788",{"$f":"TEXT(Table_Query_from_Great_Plains[[#This Row],[ITEMNMBR]],0)","v":"5788"},"Blueberry Everything Basket","RETAIL",0,49.99]
["5789",{"$f":"TEXT(Table_Query_from_Great_Plains[[#This Row],[ITEMNMBR]],0)","v":"5789"},"Teddy Bear & Chocolates Gift Basket","RETAIL",0,59.99]
["5798",{"$f":"TEXT(Table_Query_from_Great_Plains[[#This Row],[ITEMNMBR]],0)","v":"5798"},"Wild About You","RETAIL",0,59.99]
["5900",{"$f":"TEXT(Table_Query_from_Great_Plains[[#This Row],[ITEMNMBR]],0)","v":"5900"},"Appletini Martini Glass","RETAIL",0,24.99]
["5901",{"$f":"TEXT(Table_Query_from_Great_Plains[[#This Row],[ITEMNMBR]],0)","v":"5901"},"Cosmopolitan Martini Glass","RETAIL",0,24.99]
["5904",{"$f":"TEXT(Table_Query_from_Great_Plains[[#This Row],[ITEMNMBR]],0)","v":"5904"},"Dirty Martini Glass","RETAIL",0,24.99]
["5930",{"$f":"TEXT(Table_Query_from_Great_Plains[[#This Row],[ITEMNMBR]],0)","v":"5930"},"Baccus Wine Tasting Party Kit","RETAIL",0,19.989999999999998]
["5950",{"$f":"TEXT(Table_Query_from_Great_Plains[[#This Row],[ITEMNMBR]],0)","v":"5950"},"Dom Perignon in Gift Box 750 ml","RETAIL",1,149.99]
["5951",{"$f":"TEXT(Table_Query_from_Great_Plains[[#This Row],[ITEMNMBR]],0)","v":"5951"},"Veuve Cliquot Brut Yellow Label 750 ml GIFT BOX","RETAIL",1,52.99]
["5952",{"$f":"TEXT(Table_Query_from_Great_Plains[[#This Row],[ITEMNMBR]],0)","v":"5952"},"Cristal","RETAIL",1,299.99]
["5954",{"$f":"TEXT(Table_Query_from_Great_Plains[[#This Row],[ITEMNMBR]],0)","v":"5954"},"Dom Perignon in Gift Box 750 ml - 2002","RETAIL",1,139.99]
["5955",{"$f":"TEXT(Table_Query_from_Great_Plains[[#This Row],[ITEMNMBR]],0)","v":"5955"},"Dom Perignon in Gift Box 750 ml 2004","RETAIL",1,164.99]
["5970",{"$f":"TEXT(Table_Query_from_Great_Plains[[#This Row],[ITEMNMBR]],0)","v":"5970"},"Classic Champagne Gift Basket","RETAIL",1,64.989999999999995]
["5971",{"$f":"TEXT(Table_Query_from_Great_Plains[[#This Row],[ITEMNMBR]],0)","v":"5971"},"Champagne & Teddy Bear Gift Basket","RETAIL",1,89.99]
["5COFFEE",{"$f":"TEXT(Table_Query_from_Great_Plains[[#This Row],[ITEMNMBR]],0)","v":"5COFFEE"},"Add 5 Pots Of Coffee","RETAIL",0,12.99]
["6002",{"$f":"TEXT(Table_Query_from_Great_Plains[[#This Row],[ITEMNMBR]],0)","v":"6002"},"Large Slate Pit and Pendulum - 23\" tall and measures 9 ½\" X 11 1/2\" at the base","RETAIL",0,89.99]
["6003",{"$f":"TEXT(Table_Query_from_Great_Plains[[#This Row],[ITEMNMBR]],0)","v":"6003"},"Large Chrome Pit and Pendulum - 23\" tall and measures 9 ½\" X 11 1/2\" at the base","RETAIL",0,99.99]
["6014",{"$f":"TEXT(Table_Query_from_Great_Plains[[#This Row],[ITEMNMBR]],0)","v":"6014"},"Baby's 1st Piggy Bank - Pink","RETAIL",0,27.99]
["6016",{"$f":"TEXT(Table_Query_from_Great_Plains[[#This Row],[ITEMNMBR]],0)","v":"6016"},"Baby's 1st Piggy Bank - Blue","RETAIL",0,27.99]
["6020",{"$f":"TEXT(Table_Query_from_Great_Plains[[#This Row],[ITEMNMBR]],0)","v":"6020"},"Small Slate Pit and Pendulum - 12\" tall and measures 5 ½\" x 8\" at the base","RETAIL",0,59.99]
["6021",{"$f":"TEXT(Table_Query_from_Great_Plains[[#This Row],[ITEMNMBR]],0)","v":"6021"},"Small Chrome Pit and Pendulum - 12\" tall and measures 5 ½\" x 8\" at the base","RETAIL",0,69.989999999999995]
["6115",{"$f":"TEXT(Table_Query_from_Great_Plains[[#This Row],[ITEMNMBR]],0)","v":"6115"},"Bean Pod Candle Collection in Gift Crate","RETAIL",0,39.99]
["6170",{"$f":"TEXT(Table_Query_from_Great_Plains[[#This Row],[ITEMNMBR]],0)","v":"6170"},"Salad On Ice Bowl","RETAIL",0,100]
["6190",{"$f":"TEXT(Table_Query_from_Great_Plains[[#This Row],[ITEMNMBR]],0)","v":"6190"},"Gardener's Hand Therapy Gift Stack","RETAIL",0,34.99]
["6195",{"$f":"TEXT(Table_Query_from_Great_Plains[[#This Row],[ITEMNMBR]],0)","v":"6195"},"Evening of Indulgence Non Alcoholic Gift Basket","RETAIL",0,69.989999999999995]
["6196",{"$f":"TEXT(Table_Query_from_Great_Plains[[#This Row],[ITEMNMBR]],0)","v":"6196"},"Evening of Indulgence Gift Basket","RETAIL",1,99.99]
["6198",{"$f":"TEXT(Table_Query_from_Great_Plains[[#This Row],[ITEMNMBR]],0)","v":"6198"},"Let Your Body do the Talking","RETAIL",0,39.99]
["6236",{"$f":"TEXT(Table_Query_from_Great_Plains[[#This Row],[ITEMNMBR]],0)","v":"6236"},"Men's Travel Tote Gift Basket (RETIRED)","RETAIL",0,51.99]
["6247",{"$f":"TEXT(Table_Query_from_Great_Plains[[#This Row],[ITEMNMBR]],0)","v":"6247"},"Sparkling Spa Gourmet Gift Basket","RETAIL",0,69.989999999999995]
["6252",{"$f":"TEXT(Table_Query_from_Great_Plains[[#This Row],[ITEMNMBR]],0)","v":"6252"},"Valentine's Day Relaxation Therapy Spa Stack","RETAIL",0,59.99]
["6253",{"$f":"TEXT(Table_Query_from_Great_Plains[[#This Row],[ITEMNMBR]],0)","v":"6253"},"Valentine's Day Relaxation Deluxe Spa Stack","RETAIL",0,89.99]
["6254",{"$f":"TEXT(Table_Query_from_Great_Plains[[#This Row],[ITEMNMBR]],0)","v":"6254"},"Evening of Indulgence Valentines Day Gift Basket","RETAIL",1,99.99]
["6256",{"$f":"TEXT(Table_Query_from_Great_Plains[[#This Row],[ITEMNMBR]],0)","v":"6256"},"Zero Calorie Chocolate Spa Basket - Valentine Spa","RETAIL",0,89.99]
["6257",{"$f":"TEXT(Table_Query_from_Great_Plains[[#This Row],[ITEMNMBR]],0)","v":"6257"},"Relaxation Therapy Spa Gift Basket","RETAIL",0,59.99]
["6258",{"$f":"TEXT(Table_Query_from_Great_Plains[[#This Row],[ITEMNMBR]],0)","v":"6258"},"Relaxation Therapy Spa Gift Basket Deluxe","RETAIL",0,89.99]
["6261",{"$f":"TEXT(Table_Query_from_Great_Plains[[#This Row],[ITEMNMBR]],0)","v":"6261"},"Bubble Bath Indulgence Spa Basket","RETAIL",0,49.99]
["6262",{"$f":"TEXT(Table_Query_from_Great_Plains[[#This Row],[ITEMNMBR]],0)","v":"6262"},"Candlelight Bubble Bath - Spa Gift Basket","RETAIL",0,69.989999999999995]
["6265",{"$f":"TEXT(Table_Query_from_Great_Plains[[#This Row],[ITEMNMBR]],0)","v":"6265"},"Bathe In Luxury - Spa Gift Basket","RETAIL",0,79.989999999999995]
["6266",{"$f":"TEXT(Table_Query_from_Great_Plains[[#This Row],[ITEMNMBR]],0)","v":"6266"},"Bath & Snack - Spa Gift Basket","RETAIL",0,59.99]
["6268",{"$f":"TEXT(Table_Query_from_Great_Plains[[#This Row],[ITEMNMBR]],0)","v":"6268"},"Complete Hand Care - Spa Gift Basket","RETAIL",0,59.99]
["6273",{"$f":"TEXT(Table_Query_from_Great_Plains[[#This Row],[ITEMNMBR]],0)","v":"6273"},"Hand Care & Body Care - Spa Gift Stack","RETAIL",0,34.99]
["6276",{"$f":"TEXT(Table_Query_from_Great_Plains[[#This Row],[ITEMNMBR]],0)","v":"6276"},"Gentleman's Guide To Good Grooming","RETAIL",0,89.99]
["6277",{"$f":"TEXT(Table_Query_from_Great_Plains[[#This Row],[ITEMNMBR]],0)","v":"6277"},"Distinguished Gentleman Spa Basket","RETAIL",0,149.99]
["6280",{"$f":"TEXT(Table_Query_from_Great_Plains[[#This Row],[ITEMNMBR]],0)","v":"6280"},"Spa Gift Basket - Classic","RETAIL",0,79.989999999999995]
["6282",{"$f":"TEXT(Table_Query_from_Great_Plains[[#This Row],[ITEMNMBR]],0)","v":"6282"},"Spa Gift Basket - Premium","RETAIL",0,99.99]
["6283",{"$f":"TEXT(Table_Query_from_Great_Plains[[#This Row],[ITEMNMBR]],0)","v":"6283"},"Spa Premium with Wine","RETAIL",1,124.99]
["6284",{"$f":"TEXT(Table_Query_from_Great_Plains[[#This Row],[ITEMNMBR]],0)","v":"6284"},"Spa Gift Basket - Deluxe","RETAIL",0,219.99]
["6288",{"$f":"TEXT(Table_Query_from_Great_Plains[[#This Row],[ITEMNMBR]],0)","v":"6288"},"Complete Foot Care Gift Basket","RETAIL",0,49.99]
["6289",{"$f":"TEXT(Table_Query_from_Great_Plains[[#This Row],[ITEMNMBR]],0)","v":"6289"},"Deluxe Pedicure Gift Basket","RETAIL",0,89.99]
["6292",{"$f":"TEXT(Table_Query_from_Great_Plains[[#This Row],[ITEMNMBR]],0)","v":"6292"},"Treat for the Face Spa Gift Basket","RETAIL",0,59.99]
["6326",{"$f":"TEXT(Table_Query_from_Great_Plains[[#This Row],[ITEMNMBR]],0)","v":"6326"},"Silver Rattle in Rosewood Box","RETAIL",0,29.99]
["6327",{"$f":"TEXT(Table_Query_from_Great_Plains[[#This Row],[ITEMNMBR]],0)","v":"6327"},"Stephan Baby Memory Boxed Gift Set","RETAIL",0,54.99]
["6328",{"$f":"TEXT(Table_Query_from_Great_Plains[[#This Row],[ITEMNMBR]],0)","v":"6328"},"Stephan Baby Bear Feeding Set w/ Cup, Spoon, & Fork","RETAIL",0,39.99]
["6333",{"$f":"TEXT(Table_Query_from_Great_Plains[[#This Row],[ITEMNMBR]],0)","v":"6333"},"Baby's Splendid Spa Robe Retreat - PINK","RETAIL",0,69.989999999999995]
["6334",{"$f":"TEXT(Table_Query_from_Great_Plains[[#This Row],[ITEMNMBR]],0)","v":"6334"},"Baby's Splendid Spa Robe Retreat - BLUE","RETAIL",0,69.989999999999995]
["6335",{"$f":"TEXT(Table_Query_from_Great_Plains[[#This Row],[ITEMNMBR]],0)","v":"6335"},"Baby's Splendid Spa Robe Retreat - WHITE","RETAIL",0,69.989999999999995]
["6338",{"$f":"TEXT(Table_Query_from_Great_Plains[[#This Row],[ITEMNMBR]],0)","v":"6338"},"Taggie Blanket & Pillow","RETAIL",0,114.99]
["6340",{"$f":"TEXT(Table_Query_from_Great_Plains[[#This Row],[ITEMNMBR]],0)","v":"6340"},"Baby's Playtime - PINK","RETAIL",0,79.989999999999995]
["6341",{"$f":"TEXT(Table_Query_from_Great_Plains[[#This Row],[ITEMNMBR]],0)","v":"6341"},"Baby's Playtime - BLUE","RETAIL",0,79.989999999999995]
["6342",{"$f":"TEXT(Table_Query_from_Great_Plains[[#This Row],[ITEMNMBR]],0)","v":"6342"},"Baby Girl Asst - Sold Out","RETAIL",0,69.989999999999995]
["6343",{"$f":"TEXT(Table_Query_from_Great_Plains[[#This Row],[ITEMNMBR]],0)","v":"6343"},"Baby Boy Asst - Sold Out","RETAIL",0,69.989999999999995]
["6348",{"$f":"TEXT(Table_Query_from_Great_Plains[[#This Row],[ITEMNMBR]],0)","v":"6348"},"Baby's Bedtime - PINK","RETAIL",0,59.99]
["6349",{"$f":"TEXT(Table_Query_from_Great_Plains[[#This Row],[ITEMNMBR]],0)","v":"6349"},"Baby's Bedtime - BLUE","RETAIL",0,59.99]
["6350",{"$f":"TEXT(Table_Query_from_Great_Plains[[#This Row],[ITEMNMBR]],0)","v":"6350"},"My First Keepsakes - PINK","RETAIL",0,69.989999999999995]
["6351",{"$f":"TEXT(Table_Query_from_Great_Plains[[#This Row],[ITEMNMBR]],0)","v":"6351"},"My First Keepsakes - BLUE","RETAIL",0,69.989999999999995]
["6354",{"$f":"TEXT(Table_Query_from_Great_Plains[[#This Row],[ITEMNMBR]],0)","v":"6354"},"Babys Bath Time Blue","RETAIL",0,37.99]
["6355",{"$f":"TEXT(Table_Query_from_Great_Plains[[#This Row],[ITEMNMBR]],0)","v":"6355"},"Babys Bath Time Pink","RETAIL",0,37.99]
["6356",{"$f":"TEXT(Table_Query_from_Great_Plains[[#This Row],[ITEMNMBR]],0)","v":"6356"},"Baby Bath Time Yellow","RETAIL",0,37.99]
["6357",{"$f":"TEXT(Table_Query_from_Great_Plains[[#This Row],[ITEMNMBR]],0)","v":"6357"},"Baby Clothing Essentials Blue","RETAIL",0,59.99]
["6358",{"$f":"TEXT(Table_Query_from_Great_Plains[[#This Row],[ITEMNMBR]],0)","v":"6358"},"Baby Clothing Essentials Pink","RETAIL",0,59.99]
["6359",{"$f":"TEXT(Table_Query_from_Great_Plains[[#This Row],[ITEMNMBR]],0)","v":"6359"},"Baby Clothing Essentials Yellow","RETAIL",0,59.99]
["6406",{"$f":"TEXT(Table_Query_from_Great_Plains[[#This Row],[ITEMNMBR]],0)","v":"6406"},"Farley the Singing Graduation Frog","RETAIL",0,0]
["6407",{"$f":"TEXT(Table_Query_from_Great_Plains[[#This Row],[ITEMNMBR]],0)","v":"6407"},"Boris the Singing Fishing Bear","RETAIL",0,29.99]
["6440",{"$f":"TEXT(Table_Query_from_Great_Plains[[#This Row],[ITEMNMBR]],0)","v":"6440"},"Car Wash Bucket (RETIRED)","RETAIL",0,59.99]
["6441",{"$f":"TEXT(Table_Query_from_Great_Plains[[#This Row],[ITEMNMBR]],0)","v":"6441"},"Deluxe Car Wash Bucket (RETIRED)","RETAIL",0,89.99]
["6500",{"$f":"TEXT(Table_Query_from_Great_Plains[[#This Row],[ITEMNMBR]],0)","v":"6500"},"Cat Lover's Gift Basket / Pampered Cat Gift Basket","RETAIL",0,59.99]
["6501",{"$f":"TEXT(Table_Query_from_Great_Plains[[#This Row],[ITEMNMBR]],0)","v":"6501"},"Ultimate Pampered Cat Gift Basket","RETAIL",0,99.99]
["6505",{"$f":"TEXT(Table_Query_from_Great_Plains[[#This Row],[ITEMNMBR]],0)","v":"6505"},"Cat Lover's Gift Basket Stack /  Pampered Cat Gift Basket Stack","RETAIL",0,29.99]
["6520",{"$f":"TEXT(Table_Query_from_Great_Plains[[#This Row],[ITEMNMBR]],0)","v":"6520"},"Dog Lover's Gift Basket / Pampered Dog Gift Basket","RETAIL",0,69.989999999999995]
["6521",{"$f":"TEXT(Table_Query_from_Great_Plains[[#This Row],[ITEMNMBR]],0)","v":"6521"},"Ultimate Pampered Dog Gift Basket","RETAIL",0,99.99]
["6525",{"$f":"TEXT(Table_Query_from_Great_Plains[[#This Row],[ITEMNMBR]],0)","v":"6525"},"Dog Lover's Gift Basket Stack / Pampered Dog Gift Basket Stack","RETAIL",0,39.99]
["6701",{"$f":"TEXT(Table_Query_from_Great_Plains[[#This Row],[ITEMNMBR]],0)","v":"6701"},"Gourmet Sampler Cheesecake","RETAIL",0,37.99]
["6702",{"$f":"TEXT(Table_Query_from_Great_Plains[[#This Row],[ITEMNMBR]],0)","v":"6702"},"Amaretto Cheesecake","RETAIL",0,37.99]
["6703",{"$f":"TEXT(Table_Query_from_Great_Plains[[#This Row],[ITEMNMBR]],0)","v":"6703"},"Creme Brulee Cheesecake","RETAIL",0,37.99]
["6704",{"$f":"TEXT(Table_Query_from_Great_Plains[[#This Row],[ITEMNMBR]],0)","v":"6704"},"New York Cheesecake","RETAIL",0,34.99]
["6705",{"$f":"TEXT(Table_Query_from_Great_Plains[[#This Row],[ITEMNMBR]],0)","v":"6705"},"Praline Cheesecake","RETAIL",0,37.99]
["6706",{"$f":"TEXT(Table_Query_from_Great_Plains[[#This Row],[ITEMNMBR]],0)","v":"6706"},"Raspberry Swirl Cheesecake","RETAIL",0,37.99]
["6707",{"$f":"TEXT(Table_Query_from_Great_Plains[[#This Row],[ITEMNMBR]],0)","v":"6707"},"Strawberry Cheesecake","RETAIL",0,37.99]
["6708",{"$f":"TEXT(Table_Query_from_Great_Plains[[#This Row],[ITEMNMBR]],0)","v":"6708"},"Turtle Cheesecake","RETAIL",0,37.99]
["6709",{"$f":"TEXT(Table_Query_from_Great_Plains[[#This Row],[ITEMNMBR]],0)","v":"6709"},"White Chocolate Cheesecake","RETAIL",0,37.99]
["6710",{"$f":"TEXT(Table_Query_from_Great_Plains[[#This Row],[ITEMNMBR]],0)","v":"6710"},"Carrot Cake","RETAIL",0,44.99]
["6711",{"$f":"TEXT(Table_Query_from_Great_Plains[[#This Row],[ITEMNMBR]],0)","v":"6711"},"Red Velvet Cake","RETAIL",0,44.99]
["6740",{"$f":"TEXT(Table_Query_from_Great_Plains[[#This Row],[ITEMNMBR]],0)","v":"6740"},"Cookie Sampler Bakery Gift","RETAIL",0,34.99]
["6740CP",{"$f":"TEXT(Table_Query_from_Great_Plains[[#This Row],[ITEMNMBR]],0)","v":"6740CP"},"Custom GGB Cookie Sampler Box for Care Package Program (Tim)","RETAIL",0,34.99]
["6741",{"$f":"TEXT(Table_Query_from_Great_Plains[[#This Row],[ITEMNMBR]],0)","v":"6741"},"Brownie Sampler Bakery Gift","RETAIL",0,34.99]
["6741CP",{"$f":"TEXT(Table_Query_from_Great_Plains[[#This Row],[ITEMNMBR]],0)","v":"6741CP"},"Custom Brownie Sampler Box for Care Package Program (Tim)","RETAIL",0,34.99]
["6742",{"$f":"TEXT(Table_Query_from_Great_Plains[[#This Row],[ITEMNMBR]],0)","v":"6742"},"Whoopie Pie Sampler Bakery Gift","RETAIL",0,34.99]
["6742CP",{"$f":"TEXT(Table_Query_from_Great_Plains[[#This Row],[ITEMNMBR]],0)","v":"6742CP"},"Custom Whoopie Pie Sampler Box for Care Package Program (Tim)","RETAIL",0,34.99]
["6790",{"$f":"TEXT(Table_Query_from_Great_Plains[[#This Row],[ITEMNMBR]],0)","v":"6790"},"Baked Goods Tower","RETAIL",0,69.989999999999995]
["6790CC",{"$f":"TEXT(Table_Query_from_Great_Plains[[#This Row],[ITEMNMBR]],0)","v":"6790CC"},"Baked Goods Tower","RETAIL",0,59.99]
["6795",{"$f":"TEXT(Table_Query_from_Great_Plains[[#This Row],[ITEMNMBR]],0)","v":"6795"},"Happy Birthday Baked Goods Tower","RETAIL",0,74.989999999999995]
["6800",{"$f":"TEXT(Table_Query_from_Great_Plains[[#This Row],[ITEMNMBR]],0)","v":"6800"},"Sweetest Treats Gift Tower","RETAIL",0,39.99]
["6800K",{"$f":"TEXT(Table_Query_from_Great_Plains[[#This Row],[ITEMNMBR]],0)","v":"6800K"},"Sweetest Treats Gift Tower","RETAIL",0,39.99]
["6801",{"$f":"TEXT(Table_Query_from_Great_Plains[[#This Row],[ITEMNMBR]],0)","v":"6801"},"Timeless Treats Gift Tower","RETAIL",0,49.99]
["6801K",{"$f":"TEXT(Table_Query_from_Great_Plains[[#This Row],[ITEMNMBR]],0)","v":"6801K"},"Timeless Treats Gift Tower","RETAIL",0,49.99]
["6802",{"$f":"TEXT(Table_Query_from_Great_Plains[[#This Row],[ITEMNMBR]],0)","v":"6802"},"Festive Favorites Gift Tower","RETAIL",0,39.99]
["6802K",{"$f":"TEXT(Table_Query_from_Great_Plains[[#This Row],[ITEMNMBR]],0)","v":"6802K"},"Festive Favorites Gift Tower","RETAIL",0,39.99]
["6803",{"$f":"TEXT(Table_Query_from_Great_Plains[[#This Row],[ITEMNMBR]],0)","v":"6803"},"Happy Birthday Gift Tower","RETAIL",0,39.99]
["6803K",{"$f":"TEXT(Table_Query_from_Great_Plains[[#This Row],[ITEMNMBR]],0)","v":"6803K"},"Happy Birthday Gift Tower","RETAIL",0,39.99]
["6804",{"$f":"TEXT(Table_Query_from_Great_Plains[[#This Row],[ITEMNMBR]],0)","v":"6804"},"Celebration Gift Tower","RETAIL",0,39.99]
["6805",{"$f":"TEXT(Table_Query_from_Great_Plains[[#This Row],[ITEMNMBR]],0)","v":"6805"},"Taste of Elegance Gift Tower","RETAIL",0,39.99]
["6806",{"$f":"TEXT(Table_Query_from_Great_Plains[[#This Row],[ITEMNMBR]],0)","v":"6806"},"Sweet Surprise Gift Tower","RETAIL",0,49.99]
["6807",{"$f":"TEXT(Table_Query_from_Great_Plains[[#This Row],[ITEMNMBR]],0)","v":"6807"},"Everday - Blue & Green -  Gift Tower","RETAIL",0,39.99]
["6808",{"$f":"TEXT(Table_Query_from_Great_Plains[[#This Row],[ITEMNMBR]],0)","v":"6808"},"Butterflies & Flowers Gift Tower","RETAIL",0,49.99]
["6820",{"$f":"TEXT(Table_Query_from_Great_Plains[[#This Row],[ITEMNMBR]],0)","v":"6820"},"Winter Wonderland Gift Tower","RETAIL",0,39.99]
["6821",{"$f":"TEXT(Table_Query_from_Great_Plains[[#This Row],[ITEMNMBR]],0)","v":"6821"},"Holiday Gift Tower","RETAIL",0,39.99]
["6821K",{"$f":"TEXT(Table_Query_from_Great_Plains[[#This Row],[ITEMNMBR]],0)","v":"6821K"},"Christmas Gingerbread Gift Tower","RETAIL",0,39.99]
["6822",{"$f":"TEXT(Table_Query_from_Great_Plains[[#This Row],[ITEMNMBR]],0)","v":"6822"},"Christmas Ornament Gift Tower","RETAIL",0,39.99]
["6822K",{"$f":"TEXT(Table_Query_from_Great_Plains[[#This Row],[ITEMNMBR]],0)","v":"6822K"},"Christmas Ornament Gift Tower","RETAIL",0,39.99]
["6840",{"$f":"TEXT(Table_Query_from_Great_Plains[[#This Row],[ITEMNMBR]],0)","v":"6840"},"Valentine's Day Gift Tower","RETAIL",0,49.99]
["6840K",{"$f":"TEXT(Table_Query_from_Great_Plains[[#This Row],[ITEMNMBR]],0)","v":"6840K"},"Valentine's Day Gift Tower","RETAIL",0,39.99]
["6841",{"$f":"TEXT(Table_Query_from_Great_Plains[[#This Row],[ITEMNMBR]],0)","v":"6841"},"From the Heart Gift Tower","RETAIL",0,49.99]
["6841K",{"$f":"TEXT(Table_Query_from_Great_Plains[[#This Row],[ITEMNMBR]],0)","v":"6841K"},"From the Heart Gift Tower","RETAIL",0,49.99]
["6850",{"$f":"TEXT(Table_Query_from_Great_Plains[[#This Row],[ITEMNMBR]],0)","v":"6850"},"Springtime Gift Tower","RETAIL",0,39.99]
["6851",{"$f":"TEXT(Table_Query_from_Great_Plains[[#This Row],[ITEMNMBR]],0)","v":"6851"},"Happy Easter Gift Tower","RETAIL",0,49.99]
["6851K",{"$f":"TEXT(Table_Query_from_Great_Plains[[#This Row],[ITEMNMBR]],0)","v":"6851K"},"Happy Easter Gift Tower","RETAIL",0,49.99]
["6860",{"$f":"TEXT(Table_Query_from_Great_Plains[[#This Row],[ITEMNMBR]],0)","v":"6860"},"Just For Mom Gift Tower","RETAIL",0,49.99]
["6861",{"$f":"TEXT(Table_Query_from_Great_Plains[[#This Row],[ITEMNMBR]],0)","v":"6861"},"Mother's Day Gift Tower","RETAIL",0,49.99]
["6870",{"$f":"TEXT(Table_Query_from_Great_Plains[[#This Row],[ITEMNMBR]],0)","v":"6870"},"Father's Day  Gourmet Gift Tower","RETAIL",0,39.99]
["6880",{"$f":"TEXT(Table_Query_from_Great_Plains[[#This Row],[ITEMNMBR]],0)","v":"6880"},"Haunted House Halloween Tower","RETAIL",0,39.99]
["6885",{"$f":"TEXT(Table_Query_from_Great_Plains[[#This Row],[ITEMNMBR]],0)","v":"6885"},"Spooky Eyes Halloween Tower","RETAIL",0,39.99]
["6901",{"$f":"TEXT(Table_Query_from_Great_Plains[[#This Row],[ITEMNMBR]],0)","v":"6901"},"Housewarming Gift Basket","RETAIL",0,99.99]
["6902",{"$f":"TEXT(Table_Query_from_Great_Plains[[#This Row],[ITEMNMBR]],0)","v":"6902"},"College Care Package","RETAIL",0,34.99]
["6903",{"$f":"TEXT(Table_Query_from_Great_Plains[[#This Row],[ITEMNMBR]],0)","v":"6903"},"Sympathy - Fruit Gift Basket","RETAIL",0,69.989999999999995]
["6904",{"$f":"TEXT(Table_Query_from_Great_Plains[[#This Row],[ITEMNMBR]],0)","v":"6904"},"Fruit Gift Basket - Deluxe","RETAIL",0,79.989999999999995]
["6905",{"$f":"TEXT(Table_Query_from_Great_Plains[[#This Row],[ITEMNMBR]],0)","v":"6905"},"Birthday Gift Basket","RETAIL",0,59.99]
["6906",{"$f":"TEXT(Table_Query_from_Great_Plains[[#This Row],[ITEMNMBR]],0)","v":"6906"},"Gift Basket for Men","RETAIL",1,119.99]
["6907",{"$f":"TEXT(Table_Query_from_Great_Plains[[#This Row],[ITEMNMBR]],0)","v":"6907"},"Gift Basket for Women Select","RETAIL",1,69.989999999999995]
["6908",{"$f":"TEXT(Table_Query_from_Great_Plains[[#This Row],[ITEMNMBR]],0)","v":"6908"},"Care Package for Healthy College Students","RETAIL",0,34.99]
["6909",{"$f":"TEXT(Table_Query_from_Great_Plains[[#This Row],[ITEMNMBR]],0)","v":"6909"},"Sympathy Basket Select","RETAIL",0,119.99]
["6910",{"$f":"TEXT(Table_Query_from_Great_Plains[[#This Row],[ITEMNMBR]],0)","v":"6910"},"Wedding Gift Basket","RETAIL",1,149.99]
["6911",{"$f":"TEXT(Table_Query_from_Great_Plains[[#This Row],[ITEMNMBR]],0)","v":"6911"},"Gourmet Food Basket","RETAIL",0,159.99]
["6912",{"$f":"TEXT(Table_Query_from_Great_Plains[[#This Row],[ITEMNMBR]],0)","v":"6912"},"Sympathy Gift Basket","RETAIL",0,69.989999999999995]
["6913",{"$f":"TEXT(Table_Query_from_Great_Plains[[#This Row],[ITEMNMBR]],0)","v":"6913"},"Thanksgiving Gift Basket","RETAIL",0,59.99]
["6914",{"$f":"TEXT(Table_Query_from_Great_Plains[[#This Row],[ITEMNMBR]],0)","v":"6914"},"Chocolate Strawberries","RETAIL",0,49.99]
["6915",{"$f":"TEXT(Table_Query_from_Great_Plains[[#This Row],[ITEMNMBR]],0)","v":"6915"},"Thank You Gift Basket","RETAIL",0,69.989999999999995]
["6916",{"$f":"TEXT(Table_Query_from_Great_Plains[[#This Row],[ITEMNMBR]],0)","v":"6916"},"Chocolate Gift Basket","RETAIL",0,89.99]
["6917",{"$f":"TEXT(Table_Query_from_Great_Plains[[#This Row],[ITEMNMBR]],0)","v":"6917"},"Breakfast Gift Basket for Christmas","RETAIL",0,59.99]
["6918",{"$f":"TEXT(Table_Query_from_Great_Plains[[#This Row],[ITEMNMBR]],0)","v":"6918"},"Christmas Breakfast Gift Basket Select","RETAIL",0,99.99]
["6919",{"$f":"TEXT(Table_Query_from_Great_Plains[[#This Row],[ITEMNMBR]],0)","v":"6919"},"Christmas Candy Gift","RETAIL",0,24.99]
["6920",{"$f":"TEXT(Table_Query_from_Great_Plains[[#This Row],[ITEMNMBR]],0)","v":"6920"},"Christmas Candy Basket","RETAIL",0,39.99]
["6921",{"$f":"TEXT(Table_Query_from_Great_Plains[[#This Row],[ITEMNMBR]],0)","v":"6921"},"Christmas Chocolate Gift Basket","RETAIL",0,99.99]
["6922",{"$f":"TEXT(Table_Query_from_Great_Plains[[#This Row],[ITEMNMBR]],0)","v":"6922"},"Corporate Christmas Gift","RETAIL",0,129.99]
["6923",{"$f":"TEXT(Table_Query_from_Great_Plains[[#This Row],[ITEMNMBR]],0)","v":"6923"},"Family Christmas Gift","RETAIL",0,199.99]
["6924",{"$f":"TEXT(Table_Query_from_Great_Plains[[#This Row],[ITEMNMBR]],0)","v":"6924"},"Christmas Gift for the Families","RETAIL",0,149.99]
["6925",{"$f":"TEXT(Table_Query_from_Great_Plains[[#This Row],[ITEMNMBR]],0)","v":"6925"},"Christmas Food Gift","RETAIL",0,149.99]
["6926",{"$f":"TEXT(Table_Query_from_Great_Plains[[#This Row],[ITEMNMBR]],0)","v":"6926"},"Christmas Gift for Her","RETAIL",0,69.989999999999995]
["6927",{"$f":"TEXT(Table_Query_from_Great_Plains[[#This Row],[ITEMNMBR]],0)","v":"6927"},"Christmas Gift for Mom Select","RETAIL",0,69.989999999999995]
["6928",{"$f":"TEXT(Table_Query_from_Great_Plains[[#This Row],[ITEMNMBR]],0)","v":"6928"},"Christmas Gift Basket - Free Shipping","RETAIL",0,59.99]
["6929",{"$f":"TEXT(Table_Query_from_Great_Plains[[#This Row],[ITEMNMBR]],0)","v":"6929"},"Gluten Free Christmas Gift Basket","RETAIL",0,119.99]
["6930",{"$f":"TEXT(Table_Query_from_Great_Plains[[#This Row],[ITEMNMBR]],0)","v":"6930"},"Gluten Free Christmas Gift","RETAIL",0,99.99]
["6931",{"$f":"TEXT(Table_Query_from_Great_Plains[[#This Row],[ITEMNMBR]],0)","v":"6931"},"Gourmet Holiday Gift Basket","RETAIL",0,99.99]
["6932",{"$f":"TEXT(Table_Query_from_Great_Plains[[#This Row],[ITEMNMBR]],0)","v":"6932"},"Healthy Christrmas Basket","RETAIL",0,69.989999999999995]
["6933",{"$f":"TEXT(Table_Query_from_Great_Plains[[#This Row],[ITEMNMBR]],0)","v":"6933"},"Healthy Christmas Gift Basket","RETAIL",0,99.99]
["6934",{"$f":"TEXT(Table_Query_from_Great_Plains[[#This Row],[ITEMNMBR]],0)","v":"6934"},"Healthy Christmas Gift","RETAIL",0,79.989999999999995]
["6935",{"$f":"TEXT(Table_Query_from_Great_Plains[[#This Row],[ITEMNMBR]],0)","v":"6935"},"Healthy Holiday Gift Basket","RETAIL",0,59.99]
["6936",{"$f":"TEXT(Table_Query_from_Great_Plains[[#This Row],[ITEMNMBR]],0)","v":"6936"},"Holiday Basket","RETAIL",0,59.99]
["6937",{"$f":"TEXT(Table_Query_from_Great_Plains[[#This Row],[ITEMNMBR]],0)","v":"6937"},"Holiday Gift Basket Select","RETAIL",0,79.989999999999995]
["6938",{"$f":"TEXT(Table_Query_from_Great_Plains[[#This Row],[ITEMNMBR]],0)","v":"6938"},"Holiday Gift Basket for Clients Select","RETAIL",0,124.99]
["6939",{"$f":"TEXT(Table_Query_from_Great_Plains[[#This Row],[ITEMNMBR]],0)","v":"6939"},"Kosher Holiday Gift Basket","RETAIL",0,99.99]
["6940",{"$f":"TEXT(Table_Query_from_Great_Plains[[#This Row],[ITEMNMBR]],0)","v":"6940"},"Last Minute Christmas Gift","RETAIL",0,79.989999999999995]
["6941",{"$f":"TEXT(Table_Query_from_Great_Plains[[#This Row],[ITEMNMBR]],0)","v":"6941"},"Organic Christmas Gift Basket","RETAIL",0,79.989999999999995]
["6942",{"$f":"TEXT(Table_Query_from_Great_Plains[[#This Row],[ITEMNMBR]],0)","v":"6942"},"Unique Christmas Gift Basket","RETAIL",0,59.99]
["6943",{"$f":"TEXT(Table_Query_from_Great_Plains[[#This Row],[ITEMNMBR]],0)","v":"6943"},"Christmas Wine Basket","RETAIL",1,69.989999999999995]
["6944",{"$f":"TEXT(Table_Query_from_Great_Plains[[#This Row],[ITEMNMBR]],0)","v":"6944"},"Gift Basket Select","RETAIL",0,79.989999999999995]
["6945",{"$f":"TEXT(Table_Query_from_Great_Plains[[#This Row],[ITEMNMBR]],0)","v":"6945"},"Gourmet Gift Basket","RETAIL",0,99.99]
["6946",{"$f":"TEXT(Table_Query_from_Great_Plains[[#This Row],[ITEMNMBR]],0)","v":"6946"},"Holiday Gift Basket","RETAIL",0,59.99]
["6947",{"$f":"TEXT(Table_Query_from_Great_Plains[[#This Row],[ITEMNMBR]],0)","v":"6947"},"Holiday Gift Basket Premium","RETAIL",0,79.989999999999995]
["6948",{"$f":"TEXT(Table_Query_from_Great_Plains[[#This Row],[ITEMNMBR]],0)","v":"6948"},"Gift Baskets for Men Who Golf","RETAIL",0,59.99]
["6949",{"$f":"TEXT(Table_Query_from_Great_Plains[[#This Row],[ITEMNMBR]],0)","v":"6949"},"Gift Basket Idea for Women","RETAIL",0,59.99]
["6950",{"$f":"TEXT(Table_Query_from_Great_Plains[[#This Row],[ITEMNMBR]],0)","v":"6950"},"Gift Basket Idea for Men","RETAIL",0,59.99]
["6951",{"$f":"TEXT(Table_Query_from_Great_Plains[[#This Row],[ITEMNMBR]],0)","v":"6951"},"Food Gift Basket","RETAIL",0,99.99]
["6952",{"$f":"TEXT(Table_Query_from_Great_Plains[[#This Row],[ITEMNMBR]],0)","v":"6952"},"Fruit Basket","RETAIL",0,59.99]
["6953",{"$f":"TEXT(Table_Query_from_Great_Plains[[#This Row],[ITEMNMBR]],0)","v":"6953"},"Fruit Basket Select","RETAIL",0,119.99]
["6954",{"$f":"TEXT(Table_Query_from_Great_Plains[[#This Row],[ITEMNMBR]],0)","v":"6954"},"Gift Basket for Women","RETAIL",0,69.989999999999995]
["6955",{"$f":"TEXT(Table_Query_from_Great_Plains[[#This Row],[ITEMNMBR]],0)","v":"6955"},"Christmas Basket","RETAIL",0,59.99]
["6956",{"$f":"TEXT(Table_Query_from_Great_Plains[[#This Row],[ITEMNMBR]],0)","v":"6956"},"Christmas Basket Traditional","RETAIL",0,59.99]
["6957",{"$f":"TEXT(Table_Query_from_Great_Plains[[#This Row],[ITEMNMBR]],0)","v":"6957"},"Beer Gift Basket Select","RETAIL",1,119.99]
["6958",{"$f":"TEXT(Table_Query_from_Great_Plains[[#This Row],[ITEMNMBR]],0)","v":"6958"},"Beer Gift Basket","RETAIL",1,89.99]
["6959",{"$f":"TEXT(Table_Query_from_Great_Plains[[#This Row],[ITEMNMBR]],0)","v":"6959"},"Gourmet Basket of Fruit","RETAIL",0,69.989999999999995]
["6960",{"$f":"TEXT(Table_Query_from_Great_Plains[[#This Row],[ITEMNMBR]],0)","v":"6960"},"Gourmet Basket","RETAIL",0,59.99]
["6961",{"$f":"TEXT(Table_Query_from_Great_Plains[[#This Row],[ITEMNMBR]],0)","v":"6961"},"Italian Gift Basket Select","RETAIL",0,79.989999999999995]
["6962",{"$f":"TEXT(Table_Query_from_Great_Plains[[#This Row],[ITEMNMBR]],0)","v":"6962"},"Unique Gift Basket","RETAIL",0,79.989999999999995]
["6963",{"$f":"TEXT(Table_Query_from_Great_Plains[[#This Row],[ITEMNMBR]],0)","v":"6963"},"Unique Gift Basket for Men","RETAIL",0,49.99]
["6964",{"$f":"TEXT(Table_Query_from_Great_Plains[[#This Row],[ITEMNMBR]],0)","v":"6964"},"Best Gift Basket For Men","RETAIL",1,69.989999999999995]
["6965",{"$f":"TEXT(Table_Query_from_Great_Plains[[#This Row],[ITEMNMBR]],0)","v":"6965"},"Best Gift Basket For Women","RETAIL",0,49.99]
["6966",{"$f":"TEXT(Table_Query_from_Great_Plains[[#This Row],[ITEMNMBR]],0)","v":"6966"},"Housewarming Gift","RETAIL",1,69.989999999999995]
["6967",{"$f":"TEXT(Table_Query_from_Great_Plains[[#This Row],[ITEMNMBR]],0)","v":"6967"},"Holiday Basket Greetings","RETAIL",0,69.989999999999995]
["6968",{"$f":"TEXT(Table_Query_from_Great_Plains[[#This Row],[ITEMNMBR]],0)","v":"6968"},"Holiday Basket of Fruit","RETAIL",0,99.99]
["6969",{"$f":"TEXT(Table_Query_from_Great_Plains[[#This Row],[ITEMNMBR]],0)","v":"6969"},"Food Basket","RETAIL",0,59.99]
["6970",{"$f":"TEXT(Table_Query_from_Great_Plains[[#This Row],[ITEMNMBR]],0)","v":"6970"},"Gift Basket for Christmas","RETAIL",0,24.99]
["6971",{"$f":"TEXT(Table_Query_from_Great_Plains[[#This Row],[ITEMNMBR]],0)","v":"6971"},"Gift Basket for Christmas Breakfast","RETAIL",0,79.989999999999995]
["6972",{"$f":"TEXT(Table_Query_from_Great_Plains[[#This Row],[ITEMNMBR]],0)","v":"6972"},"Thanksgiving Gift","RETAIL",0,54.99]
["6973",{"$f":"TEXT(Table_Query_from_Great_Plains[[#This Row],[ITEMNMBR]],0)","v":"6973"},"Thanksgiving Gift Basket Of Fruit","RETAIL",0,69.989999999999995]
["6974",{"$f":"TEXT(Table_Query_from_Great_Plains[[#This Row],[ITEMNMBR]],0)","v":"6974"},"Breakfast Gift Basket","RETAIL",0,59.99]
["6975",{"$f":"TEXT(Table_Query_from_Great_Plains[[#This Row],[ITEMNMBR]],0)","v":"6975"},"Breakfast Gift Basket Select","RETAIL",0,79.989999999999995]
["6976",{"$f":"TEXT(Table_Query_from_Great_Plains[[#This Row],[ITEMNMBR]],0)","v":"6976"},"Beer Basket","RETAIL",1,69.989999999999995]
["6977",{"$f":"TEXT(Table_Query_from_Great_Plains[[#This Row],[ITEMNMBR]],0)","v":"6977"},"Care Package","RETAIL",0,34.99]
["6978",{"$f":"TEXT(Table_Query_from_Great_Plains[[#This Row],[ITEMNMBR]],0)","v":"6978"},"Gift Basket Delivered With Fruit","RETAIL",0,39.99]
["6979",{"$f":"TEXT(Table_Query_from_Great_Plains[[#This Row],[ITEMNMBR]],0)","v":"6979"},"Gift Basket Delivered With Coffee","RETAIL",0,24.99]
["6980",{"$f":"TEXT(Table_Query_from_Great_Plains[[#This Row],[ITEMNMBR]],0)","v":"6980"},"Gourmet Gift","RETAIL",0,34.99]
["6981",{"$f":"TEXT(Table_Query_from_Great_Plains[[#This Row],[ITEMNMBR]],0)","v":"6981"},"Gourmet Gift Of Chocolate","RETAIL",0,39.99]
["6982",{"$f":"TEXT(Table_Query_from_Great_Plains[[#This Row],[ITEMNMBR]],0)","v":"6982"},"Gourmet Gift For Christmas","RETAIL",0,34.99]
["6983",{"$f":"TEXT(Table_Query_from_Great_Plains[[#This Row],[ITEMNMBR]],0)","v":"6983"},"Beer Gift","RETAIL",1,39.99]
["6984",{"$f":"TEXT(Table_Query_from_Great_Plains[[#This Row],[ITEMNMBR]],0)","v":"6984"},"Beer Gift Light","RETAIL",1,39.99]
["6985",{"$f":"TEXT(Table_Query_from_Great_Plains[[#This Row],[ITEMNMBR]],0)","v":"6985"},"Gift For Beer Lovers","RETAIL",1,89.99]
["6986",{"$f":"TEXT(Table_Query_from_Great_Plains[[#This Row],[ITEMNMBR]],0)","v":"6986"},"Gift For Beer Lovers Select","RETAIL",1,119.99]
["6987",{"$f":"TEXT(Table_Query_from_Great_Plains[[#This Row],[ITEMNMBR]],0)","v":"6987"},"Food Gift","RETAIL",0,39.99]
["6988",{"$f":"TEXT(Table_Query_from_Great_Plains[[#This Row],[ITEMNMBR]],0)","v":"6988"},"Food Gift Of Pizza","RETAIL",0,39.99]
["6989",{"$f":"TEXT(Table_Query_from_Great_Plains[[#This Row],[ITEMNMBR]],0)","v":"6989"},"Wine Gift Basket Red","RETAIL",1,69.989999999999995]
["6990",{"$f":"TEXT(Table_Query_from_Great_Plains[[#This Row],[ITEMNMBR]],0)","v":"6990"},"Wine Gift Basket White","RETAIL",1,69.989999999999995]
["6991",{"$f":"TEXT(Table_Query_from_Great_Plains[[#This Row],[ITEMNMBR]],0)","v":"6991"},"Coffee Gift Basket","RETAIL",0,24.99]
["6992",{"$f":"TEXT(Table_Query_from_Great_Plains[[#This Row],[ITEMNMBR]],0)","v":"6992"},"Coffee Gift Basket Select","RETAIL",0,69.989999999999995]
["6993",{"$f":"TEXT(Table_Query_from_Great_Plains[[#This Row],[ITEMNMBR]],0)","v":"6993"},"Corporate Christmas Gift With Snacks","RETAIL",0,59.99]
["6994",{"$f":"TEXT(Table_Query_from_Great_Plains[[#This Row],[ITEMNMBR]],0)","v":"6994"},"Pasta Gift Basket Select","RETAIL",0,79.989999999999995]
["6995",{"$f":"TEXT(Table_Query_from_Great_Plains[[#This Row],[ITEMNMBR]],0)","v":"6995"},"Pasta Gift Basket Classic","RETAIL",0,59.99]
["6996",{"$f":"TEXT(Table_Query_from_Great_Plains[[#This Row],[ITEMNMBR]],0)","v":"6996"},"Beer Gift For Men","RETAIL",1,39.99]
["6997",{"$f":"TEXT(Table_Query_from_Great_Plains[[#This Row],[ITEMNMBR]],0)","v":"6997"},"Last Minute Christmas Gift Basket","RETAIL",0,59.99]
["6998",{"$f":"TEXT(Table_Query_from_Great_Plains[[#This Row],[ITEMNMBR]],0)","v":"6998"},"Alcohol Gift Basket With Wine","RETAIL",1,149.99]
["6999",{"$f":"TEXT(Table_Query_from_Great_Plains[[#This Row],[ITEMNMBR]],0)","v":"6999"},"Alcohol Gift Basket With Beer","RETAIL",1,119.99]
["7000AC",{"$f":"TEXT(Table_Query_from_Great_Plains[[#This Row],[ITEMNMBR]],0)","v":"7000AC"},"Butterflies & Flowers Popcorn Tin - 2 gal - Chicago MIx","RETAIL",0,39.99]
["7000ACK",{"$f":"TEXT(Table_Query_from_Great_Plains[[#This Row],[ITEMNMBR]],0)","v":"7000ACK"},"Butterflies & Flowers Popcorn Tin - 2 gal - Chicago MIx","RETAIL",0,39.99]
["7000AP",{"$f":"TEXT(Table_Query_from_Great_Plains[[#This Row],[ITEMNMBR]],0)","v":"7000AP"},"Butterflies & Flowers Popcorn Tin - 2 gal - People's Choice","RETAIL",0,39.99]
["7000APK",{"$f":"TEXT(Table_Query_from_Great_Plains[[#This Row],[ITEMNMBR]],0)","v":"7000APK"},"Butterflies & Flowers Popcorn Tin - 2 gal - People's Choice","RETAIL",0,39.99]
["7000AT",{"$f":"TEXT(Table_Query_from_Great_Plains[[#This Row],[ITEMNMBR]],0)","v":"7000AT"},"Butterflies & Flowers Popcorn Tin - 2 gal - Traditional","RETAIL",0,39.99]
["7000ATK",{"$f":"TEXT(Table_Query_from_Great_Plains[[#This Row],[ITEMNMBR]],0)","v":"7000ATK"},"Butterflies & Flowers Popcorn Tin - 2 gal - Traditional","RETAIL",0,39.99]
["7000BC",{"$f":"TEXT(Table_Query_from_Great_Plains[[#This Row],[ITEMNMBR]],0)","v":"7000BC"},"Butterflies & Flowers Popcorn Tin - 3.5 gal - Chicago Mix","RETAIL",0,49.99]
["7000BCK",{"$f":"TEXT(Table_Query_from_Great_Plains[[#This Row],[ITEMNMBR]],0)","v":"7000BCK"},"Butterflies & Flowers Popcorn Tin - 3.5 gal - Chicago Mix","RETAIL",0,49.99]
["7000BP",{"$f":"TEXT(Table_Query_from_Great_Plains[[#This Row],[ITEMNMBR]],0)","v":"7000BP"},"Butterflies & Flowers Popcorn Tin - 3.5 gal - People's Choice","RETAIL",0,49.99]
["7000BPK",{"$f":"TEXT(Table_Query_from_Great_Plains[[#This Row],[ITEMNMBR]],0)","v":"7000BPK"},"Butterflies & Flowers Popcorn Tin - 3.5 gal - People's Choice","RETAIL",0,49.99]
["7000BT",{"$f":"TEXT(Table_Query_from_Great_Plains[[#This Row],[ITEMNMBR]],0)","v":"7000BT"},"Butterflies & Flowers Popcorn Tin - 3.5 gal - Traditional","RETAIL",0,49.99]
["7000BTK",{"$f":"TEXT(Table_Query_from_Great_Plains[[#This Row],[ITEMNMBR]],0)","v":"7000BTK"},"Butterflies & Flowers Popcorn Tin - 3.5 gal - Traditional","RETAIL",0,49.99]
["7001AC",{"$f":"TEXT(Table_Query_from_Great_Plains[[#This Row],[ITEMNMBR]],0)","v":"7001AC"},"Happy Birthday Popcorn Tin - 2 gal - Chicago Mix","RETAIL",0,39.99]
["7001ACK",{"$f":"TEXT(Table_Query_from_Great_Plains[[#This Row],[ITEMNMBR]],0)","v":"7001ACK"},"Happy Birthday Popcorn Tin - 2 gal - Chicago Mix","RETAIL",0,39.99]
["7001AP",{"$f":"TEXT(Table_Query_from_Great_Plains[[#This Row],[ITEMNMBR]],0)","v":"7001AP"},"Happy Birthday Popcorn Tin - 2 gal - People's Choice","RETAIL",0,39.99]
["7001APK",{"$f":"TEXT(Table_Query_from_Great_Plains[[#This Row],[ITEMNMBR]],0)","v":"7001APK"},"Happy Birthday Popcorn Tin - 2 gal - People's Choice","RETAIL",0,39.99]
["7001AT",{"$f":"TEXT(Table_Query_from_Great_Plains[[#This Row],[ITEMNMBR]],0)","v":"7001AT"},"Happy Birthday Popcorn Tin - 2 gal - Traditional","RETAIL",0,39.99]
["7001ATK",{"$f":"TEXT(Table_Query_from_Great_Plains[[#This Row],[ITEMNMBR]],0)","v":"7001ATK"},"Happy Birthday Popcorn Tin - 2 gal - Traditional","RETAIL",0,39.99]
["7001BC",{"$f":"TEXT(Table_Query_from_Great_Plains[[#This Row],[ITEMNMBR]],0)","v":"7001BC"},"Happy Birthday Popcorn Tin - 3.5 gal - Chicago Mix","RETAIL",0,49.99]
["7001BCK",{"$f":"TEXT(Table_Query_from_Great_Plains[[#This Row],[ITEMNMBR]],0)","v":"7001BCK"},"Happy Birthday Popcorn Tin - 3.5 gal - Chicago Mix","RETAIL",0,49.99]
["7001BP",{"$f":"TEXT(Table_Query_from_Great_Plains[[#This Row],[ITEMNMBR]],0)","v":"7001BP"},"Happy Birthday Popcorn Tin - 3.5 gal - People's Choice","RETAIL",0,49.99]
["7001BPK",{"$f":"TEXT(Table_Query_from_Great_Plains[[#This Row],[ITEMNMBR]],0)","v":"7001BPK"},"Happy Birthday Popcorn Tin - 3.5 gal - People's Choice","RETAIL",0,49.99]
["7001BT",{"$f":"TEXT(Table_Query_from_Great_Plains[[#This Row],[ITEMNMBR]],0)","v":"7001BT"},"Happy Birthday Popcorn Tin - 3.5 gal - Traditional","RETAIL",0,49.99]
["7001BTK",{"$f":"TEXT(Table_Query_from_Great_Plains[[#This Row],[ITEMNMBR]],0)","v":"7001BTK"},"Happy Birthday Popcorn Tin - 3.5 gal - Traditional","RETAIL",0,49.99]
["7002A",{"$f":"TEXT(Table_Query_from_Great_Plains[[#This Row],[ITEMNMBR]],0)","v":"7002A"},"Happy Birthday Popcorn Tin - 2 Gallon - Birthday Cake Popcorn","RETAIL",0,49.99]
["7002AK",{"$f":"TEXT(Table_Query_from_Great_Plains[[#This Row],[ITEMNMBR]],0)","v":"7002AK"},"Happy Birthday Popcorn Tin - 2 Gallon - Birthday Cake Popcorn","RETAIL",0,49.99]
["7002B",{"$f":"TEXT(Table_Query_from_Great_Plains[[#This Row],[ITEMNMBR]],0)","v":"7002B"},"Happy Birthday Popcorn Tin - 3.5 gal - Birthday Cake Popcorn","RETAIL",0,59.99]
["7002BK",{"$f":"TEXT(Table_Query_from_Great_Plains[[#This Row],[ITEMNMBR]],0)","v":"7002BK"},"Happy Birthday Popcorn Tin - 3.5 gal - Birthday Cake Popcorn","RETAIL",0,59.99]
["7020",{"$f":"TEXT(Table_Query_from_Great_Plains[[#This Row],[ITEMNMBR]],0)","v":"7020"},"MicroStrategy Corporate Gift Basket","RETAIL",1,199.99]
["7100A",{"$f":"TEXT(Table_Query_from_Great_Plains[[#This Row],[ITEMNMBR]],0)","v":"7100A"},"Traditional Gourmet Popcorn Tin - 2 Gallon","RETAIL",0,39.99]
["7100AC",{"$f":"TEXT(Table_Query_from_Great_Plains[[#This Row],[ITEMNMBR]],0)","v":"7100AC"},"Traditional Gourmet Popcorn Tin - 2 Gallon","RETAIL",0,39.99]
["7100AK",{"$f":"TEXT(Table_Query_from_Great_Plains[[#This Row],[ITEMNMBR]],0)","v":"7100AK"},"Traditional Gourmet Popcorn Tin - 2 Gallon","RETAIL",0,39.99]
["7100B",{"$f":"TEXT(Table_Query_from_Great_Plains[[#This Row],[ITEMNMBR]],0)","v":"7100B"},"Traditional Gourmet Popcorn Tin - 3.5 Gallon","RETAIL",0,49.99]
["7100BK",{"$f":"TEXT(Table_Query_from_Great_Plains[[#This Row],[ITEMNMBR]],0)","v":"7100BK"},"Traditional Gourmet Popcorn Tin - 3.5 Gallon","RETAIL",0,49.99]
["7100C",{"$f":"TEXT(Table_Query_from_Great_Plains[[#This Row],[ITEMNMBR]],0)","v":"7100C"},"Traditional Gourmet Popcorn Tin - 1 Gallon","RETAIL",0,19.989999999999998]
["7100CK",{"$f":"TEXT(Table_Query_from_Great_Plains[[#This Row],[ITEMNMBR]],0)","v":"7100CK"},"Traditional  Gourmet Popcorn Tin - 1 Gallon","RETAIL",0,19.989999999999998]
["7101A",{"$f":"TEXT(Table_Query_from_Great_Plains[[#This Row],[ITEMNMBR]],0)","v":"7101A"},"Festive Favorites Popcorn Tin - 2 Gallon","RETAIL",0,39.99]
["7101AK",{"$f":"TEXT(Table_Query_from_Great_Plains[[#This Row],[ITEMNMBR]],0)","v":"7101AK"},"Festive Favorites Popcorn Tin - 2 Gallon","RETAIL",0,39.99]
["7101B",{"$f":"TEXT(Table_Query_from_Great_Plains[[#This Row],[ITEMNMBR]],0)","v":"7101B"},"Festive Favorites Popcorn Tin - 3.5 Gallon","RETAIL",0,49.99]
["7101BK",{"$f":"TEXT(Table_Query_from_Great_Plains[[#This Row],[ITEMNMBR]],0)","v":"7101BK"},"Festive Favorites Popcorn Tin - 3.5 Gallon","RETAIL",0,49.99]
["7101C",{"$f":"TEXT(Table_Query_from_Great_Plains[[#This Row],[ITEMNMBR]],0)","v":"7101C"},"Festive Favorites Popcorn Tin - 1 Gallon","RETAIL",0,19.989999999999998]
["7101CK",{"$f":"TEXT(Table_Query_from_Great_Plains[[#This Row],[ITEMNMBR]],0)","v":"7101CK"},"Festive Favorites Popcorn Tin - 1 Gallon","RETAIL",0,19.989999999999998]
["7102A",{"$f":"TEXT(Table_Query_from_Great_Plains[[#This Row],[ITEMNMBR]],0)","v":"7102A"},"Pub Picks Popcorn Tin - 2 Gallon","RETAIL",0,39.99]
["7102AK",{"$f":"TEXT(Table_Query_from_Great_Plains[[#This Row],[ITEMNMBR]],0)","v":"7102AK"},"Pub Picks Popcorn Tin - 2 Gallon","RETAIL",0,39.99]
["7102B",{"$f":"TEXT(Table_Query_from_Great_Plains[[#This Row],[ITEMNMBR]],0)","v":"7102B"},"Pub Picks Popcorn Tin - 3.5 Gallon","RETAIL",0,49.99]
["7102BK",{"$f":"TEXT(Table_Query_from_Great_Plains[[#This Row],[ITEMNMBR]],0)","v":"7102BK"},"Pub Picks Popcorn Tin - 3.5 Gallon","RETAIL",0,49.99]
["7102C",{"$f":"TEXT(Table_Query_from_Great_Plains[[#This Row],[ITEMNMBR]],0)","v":"7102C"},"Pub Picks Popcorn Tin - 1 Gallon","RETAIL",0,19.989999999999998]
["7102CK",{"$f":"TEXT(Table_Query_from_Great_Plains[[#This Row],[ITEMNMBR]],0)","v":"7102CK"},"Pub Picks Popcorn Tin - 1 Gallon","RETAIL",0,19.989999999999998]
["7103A",{"$f":"TEXT(Table_Query_from_Great_Plains[[#This Row],[ITEMNMBR]],0)","v":"7103A"},"The Spice Is Right Popcorn Tin - 2 Gallon","RETAIL",0,39.99]
["7103AK",{"$f":"TEXT(Table_Query_from_Great_Plains[[#This Row],[ITEMNMBR]],0)","v":"7103AK"},"The Spice Is Right Popcorn Tin - 2 Gallon","RETAIL",0,39.99]
["7103B",{"$f":"TEXT(Table_Query_from_Great_Plains[[#This Row],[ITEMNMBR]],0)","v":"7103B"},"The Spice Is Right Popcorn Tin - 3.5 Gallon","RETAIL",0,49.99]
["7103BK",{"$f":"TEXT(Table_Query_from_Great_Plains[[#This Row],[ITEMNMBR]],0)","v":"7103BK"},"The Spice Is Right Popcorn Tin - 3.5 Gallon","RETAIL",0,49.99]
["7103C",{"$f":"TEXT(Table_Query_from_Great_Plains[[#This Row],[ITEMNMBR]],0)","v":"7103C"},"The Spice Is Right Popcorn Tin - 1 Gallon","RETAIL",0,19.989999999999998]
["7103CK",{"$f":"TEXT(Table_Query_from_Great_Plains[[#This Row],[ITEMNMBR]],0)","v":"7103CK"},"The Spice Is Right Popcorn Tin - 1 Gallon","RETAIL",0,19.989999999999998]
["7104A",{"$f":"TEXT(Table_Query_from_Great_Plains[[#This Row],[ITEMNMBR]],0)","v":"7104A"},"Chocolate Dreams Popcorn Tin - 2 Gallon","RETAIL",0,49.99]
["7104AK",{"$f":"TEXT(Table_Query_from_Great_Plains[[#This Row],[ITEMNMBR]],0)","v":"7104AK"},"Chocolate Dreams Popcorn Tin - 2 Gallon","RETAIL",0,49.99]
["7104B",{"$f":"TEXT(Table_Query_from_Great_Plains[[#This Row],[ITEMNMBR]],0)","v":"7104B"},"Chocolate Dreams Popcorn Tin - 3.5 Gallon","RETAIL",0,59.99]
["7104BK",{"$f":"TEXT(Table_Query_from_Great_Plains[[#This Row],[ITEMNMBR]],0)","v":"7104BK"},"Chocolate Dreams Popcorn Tin - 3.5 Gallon","RETAIL",0,59.99]
["7104C",{"$f":"TEXT(Table_Query_from_Great_Plains[[#This Row],[ITEMNMBR]],0)","v":"7104C"},"Chocolate Dreams Popcorn Tin - 1 Gallon","RETAIL",0,24.99]
["7104CK",{"$f":"TEXT(Table_Query_from_Great_Plains[[#This Row],[ITEMNMBR]],0)","v":"7104CK"},"Chocolate Dreams Popcorn Tin - 1 Gallon","RETAIL",0,24.99]
["7105A",{"$f":"TEXT(Table_Query_from_Great_Plains[[#This Row],[ITEMNMBR]],0)","v":"7105A"},"Island Paradise Popcorn Tin - 2 Gallon","RETAIL",0,49.99]
["7105AK",{"$f":"TEXT(Table_Query_from_Great_Plains[[#This Row],[ITEMNMBR]],0)","v":"7105AK"},"Island Paradise Popcorn Tin - 2 Gallon","RETAIL",0,49.99]
["7105B",{"$f":"TEXT(Table_Query_from_Great_Plains[[#This Row],[ITEMNMBR]],0)","v":"7105B"},"Island Paradise Popcorn Tin - 3.5 Gallon","RETAIL",0,59.99]
["7105BK",{"$f":"TEXT(Table_Query_from_Great_Plains[[#This Row],[ITEMNMBR]],0)","v":"7105BK"},"Island Paradise Popcorn Tin - 3.5 Gallon","RETAIL",0,59.99]
["7105C",{"$f":"TEXT(Table_Query_from_Great_Plains[[#This Row],[ITEMNMBR]],0)","v":"7105C"},"Island Paradise Popcorn Tin - 1 Gallon","RETAIL",0,24.99]
["7105CK",{"$f":"TEXT(Table_Query_from_Great_Plains[[#This Row],[ITEMNMBR]],0)","v":"7105CK"},"Island Paradise Popcorn Tin - 1 Gallon","RETAIL",0,24.99]
["7106A",{"$f":"TEXT(Table_Query_from_Great_Plains[[#This Row],[ITEMNMBR]],0)","v":"7106A"},"King's Kettle Blend Popcorn Tin - 2 Gallon","RETAIL",0,39.99]
["7106AK",{"$f":"TEXT(Table_Query_from_Great_Plains[[#This Row],[ITEMNMBR]],0)","v":"7106AK"},"King's Kettle Blend Popcorn Tin - 2 Gallon","RETAIL",0,39.99]
["7106B",{"$f":"TEXT(Table_Query_from_Great_Plains[[#This Row],[ITEMNMBR]],0)","v":"7106B"},"King's Kettle Blend Popcorn Tin - 3.5 Gallon","RETAIL",0,49.99]
["7106BK",{"$f":"TEXT(Table_Query_from_Great_Plains[[#This Row],[ITEMNMBR]],0)","v":"7106BK"},"King's Kettle Blend Popcorn Tin - 3.5 Gallon","RETAIL",0,49.99]
["7106C",{"$f":"TEXT(Table_Query_from_Great_Plains[[#This Row],[ITEMNMBR]],0)","v":"7106C"},"King's Kettle Blend Popcorn Tin - 1 Gallon","RETAIL",0,19.989999999999998]
["7106CK",{"$f":"TEXT(Table_Query_from_Great_Plains[[#This Row],[ITEMNMBR]],0)","v":"7106CK"},"King's Kettle Blend Popcorn Tin - 1 Gallon","RETAIL",0,19.989999999999998]
["7107A",{"$f":"TEXT(Table_Query_from_Great_Plains[[#This Row],[ITEMNMBR]],0)","v":"7107A"},"Fruit Twist Popcorn Tin - 2 Gallon","RETAIL",0,39.99]
["7107AK",{"$f":"TEXT(Table_Query_from_Great_Plains[[#This Row],[ITEMNMBR]],0)","v":"7107AK"},"Fruit Twist Popcorn Tin - 2 Gallon","RETAIL",0,39.99]
["7107B",{"$f":"TEXT(Table_Query_from_Great_Plains[[#This Row],[ITEMNMBR]],0)","v":"7107B"},"Fruit Twist Popcorn Tin - 3.5 Gallon","RETAIL",0,49.99]
["7107BK",{"$f":"TEXT(Table_Query_from_Great_Plains[[#This Row],[ITEMNMBR]],0)","v":"7107BK"},"Fruit Twist Popcorn Tin - 3.5 Gallon","RETAIL",0,49.99]
["7107C",{"$f":"TEXT(Table_Query_from_Great_Plains[[#This Row],[ITEMNMBR]],0)","v":"7107C"},"Fruit Twist Popcorn Tin - 1 Gallon","RETAIL",0,19.989999999999998]
["7107CK",{"$f":"TEXT(Table_Query_from_Great_Plains[[#This Row],[ITEMNMBR]],0)","v":"7107CK"},"Fruit Twist Popcorn Tin - 1 Gallon","RETAIL",0,19.989999999999998]
["7108A",{"$f":"TEXT(Table_Query_from_Great_Plains[[#This Row],[ITEMNMBR]],0)","v":"7108A"},"Classic Chicago  Popcorn Tin - 2 Gallon","RETAIL",0,39.99]
["7108AK",{"$f":"TEXT(Table_Query_from_Great_Plains[[#This Row],[ITEMNMBR]],0)","v":"7108AK"},"Classic Chicago  Popcorn Tin - 2 Gallon","RETAIL",0,39.99]
["7108B",{"$f":"TEXT(Table_Query_from_Great_Plains[[#This Row],[ITEMNMBR]],0)","v":"7108B"},"Classic Chicago  Popcorn Tin - 3.5 Gallon","RETAIL",0,49.99]
["7108BK",{"$f":"TEXT(Table_Query_from_Great_Plains[[#This Row],[ITEMNMBR]],0)","v":"7108BK"},"Classic Chicago  Popcorn Tin - 3.5 Gallon","RETAIL",0,49.99]
["7108C",{"$f":"TEXT(Table_Query_from_Great_Plains[[#This Row],[ITEMNMBR]],0)","v":"7108C"},"Classic Chicago  Popcorn Tin - 1 Gallon","RETAIL",0,19.989999999999998]
["7108CK",{"$f":"TEXT(Table_Query_from_Great_Plains[[#This Row],[ITEMNMBR]],0)","v":"7108CK"},"Classic Chicago  Popcorn Tin - 1 Gallon","RETAIL",0,19.989999999999998]
["7109A",{"$f":"TEXT(Table_Query_from_Great_Plains[[#This Row],[ITEMNMBR]],0)","v":"7109A"},"Loaded Baked Potato Popcorn Tin - 2 Gallon","RETAIL",0,39.99]
["7109AK",{"$f":"TEXT(Table_Query_from_Great_Plains[[#This Row],[ITEMNMBR]],0)","v":"7109AK"},"Loaded Baked Potato Popcorn Tin - 2 Gallon","RETAIL",0,39.99]
["7109B",{"$f":"TEXT(Table_Query_from_Great_Plains[[#This Row],[ITEMNMBR]],0)","v":"7109B"},"Loaded Baked Potato Popcorn Tin - 3.5 Gallon","RETAIL",0,49.99]
["7109BK",{"$f":"TEXT(Table_Query_from_Great_Plains[[#This Row],[ITEMNMBR]],0)","v":"7109BK"},"Loaded Baked Potato Popcorn Tin - 3.5 Gallon","RETAIL",0,49.99]
["7109C",{"$f":"TEXT(Table_Query_from_Great_Plains[[#This Row],[ITEMNMBR]],0)","v":"7109C"},"Loaded Baked Potato Popcorn Tin - 1 Gallon","RETAIL",0,19.989999999999998]
["7109CK",{"$f":"TEXT(Table_Query_from_Great_Plains[[#This Row],[ITEMNMBR]],0)","v":"7109CK"},"Loaded Baked Potato Popcorn Tin - 1 Gallon","RETAIL",0,19.989999999999998]
["7110A",{"$f":"TEXT(Table_Query_from_Great_Plains[[#This Row],[ITEMNMBR]],0)","v":"7110A"},"Tutti Frutti Popcorn Tin - 2 Gallon","RETAIL",0,39.99]
["7110AK",{"$f":"TEXT(Table_Query_from_Great_Plains[[#This Row],[ITEMNMBR]],0)","v":"7110AK"},"Tutti Frutti Popcorn Tin - 2 Gallon","RETAIL",0,39.99]
["7110B",{"$f":"TEXT(Table_Query_from_Great_Plains[[#This Row],[ITEMNMBR]],0)","v":"7110B"},"Tutti Frutti Popcorn Tin - 3.5 Gallon","RETAIL",0,49.99]
["7110BK",{"$f":"TEXT(Table_Query_from_Great_Plains[[#This Row],[ITEMNMBR]],0)","v":"7110BK"},"Tutti Frutti Popcorn Tin - 3.5 Gallon","RETAIL",0,49.99]
["7110C",{"$f":"TEXT(Table_Query_from_Great_Plains[[#This Row],[ITEMNMBR]],0)","v":"7110C"},"Tutti Frutti Popcorn Tin - 1 Gallon","RETAIL",0,19.989999999999998]
["7110CK",{"$f":"TEXT(Table_Query_from_Great_Plains[[#This Row],[ITEMNMBR]],0)","v":"7110CK"},"Tutti Frutti Popcorn Tin - 1 Gallon","RETAIL",0,19.989999999999998]
["7111",{"$f":"TEXT(Table_Query_from_Great_Plains[[#This Row],[ITEMNMBR]],0)","v":"7111"},"Limited Edition Chocolate Popcorn Tin - 1 Gallon","RETAIL",0,19.989999999999998]
["7112AK",{"$f":"TEXT(Table_Query_from_Great_Plains[[#This Row],[ITEMNMBR]],0)","v":"7112AK"},"Birthday Cake 2 Gallon","RETAIL",0,49.99]
["7112BK",{"$f":"TEXT(Table_Query_from_Great_Plains[[#This Row],[ITEMNMBR]],0)","v":"7112BK"},"Birthday Cake 3.5 Gallon","RETAIL",0,59.99]
["7112CK",{"$f":"TEXT(Table_Query_from_Great_Plains[[#This Row],[ITEMNMBR]],0)","v":"7112CK"},"Birthday Cake 1 Gallon","RETAIL",0,24.99]
["7113A",{"$f":"TEXT(Table_Query_from_Great_Plains[[#This Row],[ITEMNMBR]],0)","v":"7113A"},"Triple Chocolate Caramel 2 Gallon","RETAIL",0,49.99]
["7113AK",{"$f":"TEXT(Table_Query_from_Great_Plains[[#This Row],[ITEMNMBR]],0)","v":"7113AK"},"Triple Chocolate Caramel 2 Gallon","RETAIL",0,49.99]
["7113B",{"$f":"TEXT(Table_Query_from_Great_Plains[[#This Row],[ITEMNMBR]],0)","v":"7113B"},"Triple Chocolate Caramel 3.5 Gallon","RETAIL",0,59.99]
["7113BK",{"$f":"TEXT(Table_Query_from_Great_Plains[[#This Row],[ITEMNMBR]],0)","v":"7113BK"},"Triple Chocolate Caramel 3.5 Gallon","RETAIL",0,59.99]
["7113C",{"$f":"TEXT(Table_Query_from_Great_Plains[[#This Row],[ITEMNMBR]],0)","v":"7113C"},"Triple Chocolate Caramel 1 Gallon","RETAIL",0,24.99]
["7113CK",{"$f":"TEXT(Table_Query_from_Great_Plains[[#This Row],[ITEMNMBR]],0)","v":"7113CK"},"Triple Chocolate Caramel 1 Gallon","RETAIL",0,24.99]
["7114A",{"$f":"TEXT(Table_Query_from_Great_Plains[[#This Row],[ITEMNMBR]],0)","v":"7114A"},"7114A - Triple Cheddar 2 Gallon","RETAIL",0,39.99]
["7114AK",{"$f":"TEXT(Table_Query_from_Great_Plains[[#This Row],[ITEMNMBR]],0)","v":"7114AK"},"7114A - Triple Cheddar 2 Gallon","RETAIL",0,39.99]
["7114B",{"$f":"TEXT(Table_Query_from_Great_Plains[[#This Row],[ITEMNMBR]],0)","v":"7114B"},"Triple Cheddar 3.5 Gallon","RETAIL",0,49.99]
["7114BK",{"$f":"TEXT(Table_Query_from_Great_Plains[[#This Row],[ITEMNMBR]],0)","v":"7114BK"},"Triple Cheddar 3.5 Gallon","RETAIL",0,49.99]
["7114C",{"$f":"TEXT(Table_Query_from_Great_Plains[[#This Row],[ITEMNMBR]],0)","v":"7114C"},"7114A - Triple Cheddar 1 Gallon","RETAIL",0,19.989999999999998]
["7114CK",{"$f":"TEXT(Table_Query_from_Great_Plains[[#This Row],[ITEMNMBR]],0)","v":"7114CK"},"7114A - Triple Cheddar 1 Gallon","RETAIL",0,19.989999999999998]
["7115A",{"$f":"TEXT(Table_Query_from_Great_Plains[[#This Row],[ITEMNMBR]],0)","v":"7115A"},"Let Them Eat Cake 2 Gallon","RETAIL",0,49.99]
["7115AK",{"$f":"TEXT(Table_Query_from_Great_Plains[[#This Row],[ITEMNMBR]],0)","v":"7115AK"},"Let Them Eat Cake 2 Gallon","RETAIL",0,49.99]
["7115B",{"$f":"TEXT(Table_Query_from_Great_Plains[[#This Row],[ITEMNMBR]],0)","v":"7115B"},"Let Them Eat Cake 3.5 Gallon","RETAIL",0,59.99]
["7115BK",{"$f":"TEXT(Table_Query_from_Great_Plains[[#This Row],[ITEMNMBR]],0)","v":"7115BK"},"Let Them Eat Cake 3.5 Gallon","RETAIL",0,59.99]
["7115C",{"$f":"TEXT(Table_Query_from_Great_Plains[[#This Row],[ITEMNMBR]],0)","v":"7115C"},"Let Them Eat Cake 1 Gallon","RETAIL",0,24.99]
["7115CK",{"$f":"TEXT(Table_Query_from_Great_Plains[[#This Row],[ITEMNMBR]],0)","v":"7115CK"},"Let Them Eat Cake 1 Gallon","RETAIL",0,24.99]
["7116A",{"$f":"TEXT(Table_Query_from_Great_Plains[[#This Row],[ITEMNMBR]],0)","v":"7116A"},"People's Choice Gourmet Popcorn Tin -  2 Gallon","RETAIL",0,39.99]
["7116AK",{"$f":"TEXT(Table_Query_from_Great_Plains[[#This Row],[ITEMNMBR]],0)","v":"7116AK"},"People's Choice Gourmet Popcorn Tin - 2 Gallon","RETAIL",0,39.99]
["7116B",{"$f":"TEXT(Table_Query_from_Great_Plains[[#This Row],[ITEMNMBR]],0)","v":"7116B"},"People's Choice Gourmet Popcorn Tin -  3.5 Gallon","RETAIL",0,49.99]
["7116BK",{"$f":"TEXT(Table_Query_from_Great_Plains[[#This Row],[ITEMNMBR]],0)","v":"7116BK"},"People's Choice Gourmet Popcorn Tin - 3.5 Gallon","RETAIL",0,49.99]
["7116C",{"$f":"TEXT(Table_Query_from_Great_Plains[[#This Row],[ITEMNMBR]],0)","v":"7116C"},"People's Choice Gourmet Popcorn Tin - 1 Gallon","RETAIL",0,19.989999999999998]
["7116CK",{"$f":"TEXT(Table_Query_from_Great_Plains[[#This Row],[ITEMNMBR]],0)","v":"7116CK"},"People's Choice Gourmet Popcorn Tin - 1 Gallon","RETAIL",0,19.989999999999998]
["7117A",{"$f":"TEXT(Table_Query_from_Great_Plains[[#This Row],[ITEMNMBR]],0)","v":"7117A"},"Triple Crown 2 Gallon","RETAIL",0,49.99]
["7117AK",{"$f":"TEXT(Table_Query_from_Great_Plains[[#This Row],[ITEMNMBR]],0)","v":"7117AK"},"Triple Crown 2 Gallon","RETAIL",0,49.99]
["7117B",{"$f":"TEXT(Table_Query_from_Great_Plains[[#This Row],[ITEMNMBR]],0)","v":"7117B"},"Triple Crown 3.5 Gallon","RETAIL",0,59.99]
["7117BK",{"$f":"TEXT(Table_Query_from_Great_Plains[[#This Row],[ITEMNMBR]],0)","v":"7117BK"},"Triple Crown 3.5 Gallon","RETAIL",0,59.99]
["7117C",{"$f":"TEXT(Table_Query_from_Great_Plains[[#This Row],[ITEMNMBR]],0)","v":"7117C"},"Triple Crown 1 Gallon","RETAIL",0,24.99]
["7117CK",{"$f":"TEXT(Table_Query_from_Great_Plains[[#This Row],[ITEMNMBR]],0)","v":"7117CK"},"Triple Crown 1 Gallon","RETAIL",0,24.99]
["7118A",{"$f":"TEXT(Table_Query_from_Great_Plains[[#This Row],[ITEMNMBR]],0)","v":"7118A"},"Confetti Popcorn 2 Gallon","RETAIL",0,39.99]
["7118AK",{"$f":"TEXT(Table_Query_from_Great_Plains[[#This Row],[ITEMNMBR]],0)","v":"7118AK"},"Confetti Popcorn 2 Gallon","RETAIL",0,39.99]
["7118B",{"$f":"TEXT(Table_Query_from_Great_Plains[[#This Row],[ITEMNMBR]],0)","v":"7118B"},"Confetti Popcorn 3.5 Gallon","RETAIL",0,49.99]
["7118BK",{"$f":"TEXT(Table_Query_from_Great_Plains[[#This Row],[ITEMNMBR]],0)","v":"7118BK"},"Confetti Popcorn 3.5 Gallon","RETAIL",0,49.99]
["7118C",{"$f":"TEXT(Table_Query_from_Great_Plains[[#This Row],[ITEMNMBR]],0)","v":"7118C"},"Confetti Popcorn 1 Gallon","RETAIL",0,19.989999999999998]
["7118CK",{"$f":"TEXT(Table_Query_from_Great_Plains[[#This Row],[ITEMNMBR]],0)","v":"7118CK"},"Confetti Popcorn 1 Gallon","RETAIL",0,19.989999999999998]
["7150BF",{"$f":"TEXT(Table_Query_from_Great_Plains[[#This Row],[ITEMNMBR]],0)","v":"7150BF"},"Pub Tin - Buffalo Popcorn & Pretzels","RETAIL",0,22.99]
["7150BFK",{"$f":"TEXT(Table_Query_from_Great_Plains[[#This Row],[ITEMNMBR]],0)","v":"7150BFK"},"Pub Tin - Buffalo Popcorn & Pretzels","RETAIL",0,22.99]
["7150HM",{"$f":"TEXT(Table_Query_from_Great_Plains[[#This Row],[ITEMNMBR]],0)","v":"7150HM"},"Pub Tin - Honey Mustard Popcorn & Pretzels","RETAIL",0,22.99]
["7150HMK",{"$f":"TEXT(Table_Query_from_Great_Plains[[#This Row],[ITEMNMBR]],0)","v":"7150HMK"},"Pub Tin - Honey Mustard Popcorn & Pretzels","RETAIL",0,22.99]
["7150SS",{"$f":"TEXT(Table_Query_from_Great_Plains[[#This Row],[ITEMNMBR]],0)","v":"7150SS"},"Pub Tin - Sea Salt & Cracked Pepper Popcorn & Pretzels","RETAIL",0,22.99]
["7150SSK",{"$f":"TEXT(Table_Query_from_Great_Plains[[#This Row],[ITEMNMBR]],0)","v":"7150SSK"},"Pub Tin - Sea Salt & Cracked Pepper Popcorn & Pretzels","RETAIL",0,22.99]
["7151A",{"$f":"TEXT(Table_Query_from_Great_Plains[[#This Row],[ITEMNMBR]],0)","v":"7151A"},"Party Tin - Popcorn, Pretzels & Peanuts - 2 Gallon","RETAIL",0,39.99]
["7151AK",{"$f":"TEXT(Table_Query_from_Great_Plains[[#This Row],[ITEMNMBR]],0)","v":"7151AK"},"Party Tin - Popcorn, Pretzels & Peanuts - 2 Gallon","RETAIL",0,39.99]
["7151B",{"$f":"TEXT(Table_Query_from_Great_Plains[[#This Row],[ITEMNMBR]],0)","v":"7151B"},"Party Tin - Popcorn, Pretzels & Peanuts - 3.5 Gallon","RETAIL",0,49.99]
["7151BK",{"$f":"TEXT(Table_Query_from_Great_Plains[[#This Row],[ITEMNMBR]],0)","v":"7151BK"},"Party Tin - Popcorn, Pretzels & Peanuts - 3.5 Gallon","RETAIL",0,49.99]
["7200A",{"$f":"TEXT(Table_Query_from_Great_Plains[[#This Row],[ITEMNMBR]],0)","v":"7200A"},"Mother's Day Popcorn Tin - 2 Gallon","RETAIL",0,49.99]
["7200AK",{"$f":"TEXT(Table_Query_from_Great_Plains[[#This Row],[ITEMNMBR]],0)","v":"7200AK"},"Mother's Day Popcorn Tin - 2 Gallon","RETAIL",0,49.99]
["7200B",{"$f":"TEXT(Table_Query_from_Great_Plains[[#This Row],[ITEMNMBR]],0)","v":"7200B"},"Mother's Day Popcorn Tin - 3.5 Gallon","RETAIL",0,59.99]
["7200BK",{"$f":"TEXT(Table_Query_from_Great_Plains[[#This Row],[ITEMNMBR]],0)","v":"7200BK"},"Mother's Day Popcorn Tin - 3.5 Gallon","RETAIL",0,59.99]
["7200C",{"$f":"TEXT(Table_Query_from_Great_Plains[[#This Row],[ITEMNMBR]],0)","v":"7200C"},"Mother's Day Popcorn Tin - 1 Gallon","RETAIL",0,24.99]
["7200CK",{"$f":"TEXT(Table_Query_from_Great_Plains[[#This Row],[ITEMNMBR]],0)","v":"7200CK"},"Mother's Day Popcorn Tin - 1 Gallon","RETAIL",0,24.99]
["7201AC",{"$f":"TEXT(Table_Query_from_Great_Plains[[#This Row],[ITEMNMBR]],0)","v":"7201AC"},"Mother's Day Popcorn Tin - 2 gal - Chicago","RETAIL",0,39.99]
["7201ACK",{"$f":"TEXT(Table_Query_from_Great_Plains[[#This Row],[ITEMNMBR]],0)","v":"7201ACK"},"Mother's Day Popcorn Tin - 2 gal - Chicago","RETAIL",0,39.99]
["7201AP",{"$f":"TEXT(Table_Query_from_Great_Plains[[#This Row],[ITEMNMBR]],0)","v":"7201AP"},"Mother's Day Popcorn Tin - 2 gal - People's Choice","RETAIL",0,39.99]
["7201APK",{"$f":"TEXT(Table_Query_from_Great_Plains[[#This Row],[ITEMNMBR]],0)","v":"7201APK"},"Mother's Day Popcorn Tin - 2 gal - People's Choice","RETAIL",0,39.99]
["7201AT",{"$f":"TEXT(Table_Query_from_Great_Plains[[#This Row],[ITEMNMBR]],0)","v":"7201AT"},"Mother's Day Popcorn Tin - 2 gal - Traditional","RETAIL",0,39.99]
["7201ATK",{"$f":"TEXT(Table_Query_from_Great_Plains[[#This Row],[ITEMNMBR]],0)","v":"7201ATK"},"Mother's Day Popcorn Tin - 2 gal - Traditional","RETAIL",0,39.99]
["7201BC",{"$f":"TEXT(Table_Query_from_Great_Plains[[#This Row],[ITEMNMBR]],0)","v":"7201BC"},"Mother's Day Popcorn Tin - 3.5 gal - Chicago","RETAIL",0,49.99]
["7201BCK",{"$f":"TEXT(Table_Query_from_Great_Plains[[#This Row],[ITEMNMBR]],0)","v":"7201BCK"},"Mother's Day Popcorn Tin - 3.5 gal - Chicago","RETAIL",0,49.99]
["7201BP",{"$f":"TEXT(Table_Query_from_Great_Plains[[#This Row],[ITEMNMBR]],0)","v":"7201BP"},"Mother's Day Popcorn Tin - 3.5 gal - People's Choice","RETAIL",0,49.99]
["7201BPK",{"$f":"TEXT(Table_Query_from_Great_Plains[[#This Row],[ITEMNMBR]],0)","v":"7201BPK"},"Mother's Day Popcorn Tin - 3.5 gal - People's Choice","RETAIL",0,49.99]
["7201BT",{"$f":"TEXT(Table_Query_from_Great_Plains[[#This Row],[ITEMNMBR]],0)","v":"7201BT"},"Mother's Day Popcorn Tin - 3.5 gal - Traditional","RETAIL",0,49.99]
["7201BTK",{"$f":"TEXT(Table_Query_from_Great_Plains[[#This Row],[ITEMNMBR]],0)","v":"7201BTK"},"Mother's Day Popcorn Tin - 3.5 gal - Traditional","RETAIL",0,49.99]
["7202A",{"$f":"TEXT(Table_Query_from_Great_Plains[[#This Row],[ITEMNMBR]],0)","v":"7202A"},"Celebrate Mom Popcorn Tin - 2 gal -","RETAIL",0,0]
["7202AK",{"$f":"TEXT(Table_Query_from_Great_Plains[[#This Row],[ITEMNMBR]],0)","v":"7202AK"},"Celebrate Mom Popcorn Tin - 2 gal -","RETAIL",0,0]
["7202B",{"$f":"TEXT(Table_Query_from_Great_Plains[[#This Row],[ITEMNMBR]],0)","v":"7202B"},"Celebrate Mom Popcorn Tin - 3.5 gal -","RETAIL",0,0]
["7202BK",{"$f":"TEXT(Table_Query_from_Great_Plains[[#This Row],[ITEMNMBR]],0)","v":"7202BK"},"Celebrate Mom Popcorn Tin - 3.5 gal -","RETAIL",0,0]
["7220A",{"$f":"TEXT(Table_Query_from_Great_Plains[[#This Row],[ITEMNMBR]],0)","v":"7220A"},"Father's Day Wings, Skins & Ribs Popcorn Tin","RETAIL",0,39.99]
["7220AK",{"$f":"TEXT(Table_Query_from_Great_Plains[[#This Row],[ITEMNMBR]],0)","v":"7220AK"},"Father's Day Wings, Skins & Ribs Popcorn Tin","RETAIL",0,39.99]
["7220B",{"$f":"TEXT(Table_Query_from_Great_Plains[[#This Row],[ITEMNMBR]],0)","v":"7220B"},"Father's Day Wings, Skins & Ribs Popcorn Tin","RETAIL",0,49.99]
["7220BK",{"$f":"TEXT(Table_Query_from_Great_Plains[[#This Row],[ITEMNMBR]],0)","v":"7220BK"},"Father's Day Wings, Skins & Ribs Popcorn Tin","RETAIL",0,49.99]
["7220C",{"$f":"TEXT(Table_Query_from_Great_Plains[[#This Row],[ITEMNMBR]],0)","v":"7220C"},"Father's Day Wings, Skins & Ribs Popcorn Tin","RETAIL",0,19.989999999999998]
["7220CK",{"$f":"TEXT(Table_Query_from_Great_Plains[[#This Row],[ITEMNMBR]],0)","v":"7220CK"},"Father's Day Wings, Skins & Ribs Popcorn Tin","RETAIL",0,19.989999999999998]
["7240A",{"$f":"TEXT(Table_Query_from_Great_Plains[[#This Row],[ITEMNMBR]],0)","v":"7240A"},"Goblin's Grub 2 Gallon - Haunted House Tin","RETAIL",0,49.99]
["7240AC",{"$f":"TEXT(Table_Query_from_Great_Plains[[#This Row],[ITEMNMBR]],0)","v":"7240AC"},"Spooky Eyes 2 Gallon Tin - Chicago","RETAIL",0,39.99]
["7240ACK",{"$f":"TEXT(Table_Query_from_Great_Plains[[#This Row],[ITEMNMBR]],0)","v":"7240ACK"},"Spooky Eyes 2 Gallon - Chicago","RETAIL",0,39.99]
["7240AK",{"$f":"TEXT(Table_Query_from_Great_Plains[[#This Row],[ITEMNMBR]],0)","v":"7240AK"},"Goblin's Grub 2 Gallon","RETAIL",0,49.99]
["7240AP",{"$f":"TEXT(Table_Query_from_Great_Plains[[#This Row],[ITEMNMBR]],0)","v":"7240AP"},"Spooky Eyes 2 Gallon Tin - People's Choice","RETAIL",0,39.99]
["7240APK",{"$f":"TEXT(Table_Query_from_Great_Plains[[#This Row],[ITEMNMBR]],0)","v":"7240APK"},"Spooky Eyes 2 Gallon - People's Choice","RETAIL",0,39.99]
["7240AT",{"$f":"TEXT(Table_Query_from_Great_Plains[[#This Row],[ITEMNMBR]],0)","v":"7240AT"},"Spooky Eyes 2 Gallon Tin - Traditional Popcorn","RETAIL",0,39.99]
["7240ATK",{"$f":"TEXT(Table_Query_from_Great_Plains[[#This Row],[ITEMNMBR]],0)","v":"7240ATK"},"Spooky Eyes 2 Gallon - Traditional","RETAIL",0,39.99]
["7240B",{"$f":"TEXT(Table_Query_from_Great_Plains[[#This Row],[ITEMNMBR]],0)","v":"7240B"},"Goblin's Grub 3.5 Gallon - Haunted House Tin","RETAIL",0,59.99]
["7240BC",{"$f":"TEXT(Table_Query_from_Great_Plains[[#This Row],[ITEMNMBR]],0)","v":"7240BC"},"Spooky Eyes 3.5 Gallon - Chicago","RETAIL",0,49.99]
["7240BCK",{"$f":"TEXT(Table_Query_from_Great_Plains[[#This Row],[ITEMNMBR]],0)","v":"7240BCK"},"Spooky Eyes 3.5 Gallon - Chicago","RETAIL",0,49.99]
["7240BK",{"$f":"TEXT(Table_Query_from_Great_Plains[[#This Row],[ITEMNMBR]],0)","v":"7240BK"},"Goblin's Grub 3.5 Gallon","RETAIL",0,59.99]
["7240BP",{"$f":"TEXT(Table_Query_from_Great_Plains[[#This Row],[ITEMNMBR]],0)","v":"7240BP"},"Spooky Eyes 3.5 Gallon - People's Choice","RETAIL",0,49.99]
["7240BPK",{"$f":"TEXT(Table_Query_from_Great_Plains[[#This Row],[ITEMNMBR]],0)","v":"7240BPK"},"Spooky Eyes 3.5 Gallon - People's Choice","RETAIL",0,49.99]
["7240BT",{"$f":"TEXT(Table_Query_from_Great_Plains[[#This Row],[ITEMNMBR]],0)","v":"7240BT"},"Spooky Eyes 3.5 Gallon - Traditional","RETAIL",0,49.99]
["7240BTK",{"$f":"TEXT(Table_Query_from_Great_Plains[[#This Row],[ITEMNMBR]],0)","v":"7240BTK"},"Spooky Eyes 3.5 Gallon - Traditional","RETAIL",0,49.99]
["7240C",{"$f":"TEXT(Table_Query_from_Great_Plains[[#This Row],[ITEMNMBR]],0)","v":"7240C"},"Goblin's Grub 1 Gallon","RETAIL",0,24.99]
["7240CK",{"$f":"TEXT(Table_Query_from_Great_Plains[[#This Row],[ITEMNMBR]],0)","v":"7240CK"},"Goblin's Grub 1 Gallon","RETAIL",0,24.99]
["7241A",{"$f":"TEXT(Table_Query_from_Great_Plains[[#This Row],[ITEMNMBR]],0)","v":"7241A"},"Monster Munch 2 Gallon - Spooky Eyes Tin","RETAIL",0,39.99]
["7241AC",{"$f":"TEXT(Table_Query_from_Great_Plains[[#This Row],[ITEMNMBR]],0)","v":"7241AC"},"Haunted House 2 Gallon Tin - Chicago","RETAIL",0,39.99]
["7241ACK",{"$f":"TEXT(Table_Query_from_Great_Plains[[#This Row],[ITEMNMBR]],0)","v":"7241ACK"},"Haunted House 2 Gallon - Chicago","RETAIL",0,39.99]
["7241AK",{"$f":"TEXT(Table_Query_from_Great_Plains[[#This Row],[ITEMNMBR]],0)","v":"7241AK"},"Monster Munch 2 Gallon","RETAIL",0,39.99]
["7241AP",{"$f":"TEXT(Table_Query_from_Great_Plains[[#This Row],[ITEMNMBR]],0)","v":"7241AP"},"Haunted House 2 Gallon Tin - People's Choice","RETAIL",0,39.99]
["7241APK",{"$f":"TEXT(Table_Query_from_Great_Plains[[#This Row],[ITEMNMBR]],0)","v":"7241APK"},"Haunted House 2 Gallon - People's Choice","RETAIL",0,39.99]
["7241AT",{"$f":"TEXT(Table_Query_from_Great_Plains[[#This Row],[ITEMNMBR]],0)","v":"7241AT"},"Haunted House 2 Gallon Tin - Traditional Popcorn","RETAIL",0,39.99]
["7241ATK",{"$f":"TEXT(Table_Query_from_Great_Plains[[#This Row],[ITEMNMBR]],0)","v":"7241ATK"},"Haunted House 2 Gallon - Traditional","RETAIL",0,39.99]
["7241B",{"$f":"TEXT(Table_Query_from_Great_Plains[[#This Row],[ITEMNMBR]],0)","v":"7241B"},"Monster Munch 3.5 Gallon - Spooky Eyes Tin","RETAIL",0,49.99]
["7241BC",{"$f":"TEXT(Table_Query_from_Great_Plains[[#This Row],[ITEMNMBR]],0)","v":"7241BC"},"Haunted House 3.5 Gallon - Chicago","RETAIL",0,49.99]
["7241BCK",{"$f":"TEXT(Table_Query_from_Great_Plains[[#This Row],[ITEMNMBR]],0)","v":"7241BCK"},"Haunted House 3.5 Gallon - Chicago","RETAIL",0,49.99]
["7241BK",{"$f":"TEXT(Table_Query_from_Great_Plains[[#This Row],[ITEMNMBR]],0)","v":"7241BK"},"Monster Munch 3.5 Gallon","RETAIL",0,49.99]
["7241BP",{"$f":"TEXT(Table_Query_from_Great_Plains[[#This Row],[ITEMNMBR]],0)","v":"7241BP"},"Haunted House 3.5 Gallon - People's Choice","RETAIL",0,49.99]
["7241BPK",{"$f":"TEXT(Table_Query_from_Great_Plains[[#This Row],[ITEMNMBR]],0)","v":"7241BPK"},"Haunted House 3.5 Gallon - People's Choice","RETAIL",0,49.99]
["7241BT",{"$f":"TEXT(Table_Query_from_Great_Plains[[#This Row],[ITEMNMBR]],0)","v":"7241BT"},"Haunted House 3.5 Gallon - Traditional","RETAIL",0,49.99]
["7241BTK",{"$f":"TEXT(Table_Query_from_Great_Plains[[#This Row],[ITEMNMBR]],0)","v":"7241BTK"},"Haunted House 3.5 Gallon - Traditional","RETAIL",0,49.99]
["7241C",{"$f":"TEXT(Table_Query_from_Great_Plains[[#This Row],[ITEMNMBR]],0)","v":"7241C"},"Monster Munch 1 Gallon","RETAIL",0,19.989999999999998]
["7241CK",{"$f":"TEXT(Table_Query_from_Great_Plains[[#This Row],[ITEMNMBR]],0)","v":"7241CK"},"Monster Munch 1 Gallon","RETAIL",0,24.99]
["7242AC",{"$f":"TEXT(Table_Query_from_Great_Plains[[#This Row],[ITEMNMBR]],0)","v":"7242AC"},"Spooky Eyes 2 Gallon Tin - Chicago","RETAIL",0,39.99]
["7242ACK",{"$f":"TEXT(Table_Query_from_Great_Plains[[#This Row],[ITEMNMBR]],0)","v":"7242ACK"},"Spooky Eyes 2 Gallon - Chicago","RETAIL",0,39.99]
["7242AP",{"$f":"TEXT(Table_Query_from_Great_Plains[[#This Row],[ITEMNMBR]],0)","v":"7242AP"},"Spooky Eyes 2 Gallon Tin - People's Choice","RETAIL",0,39.99]
["7242APK",{"$f":"TEXT(Table_Query_from_Great_Plains[[#This Row],[ITEMNMBR]],0)","v":"7242APK"},"Spooky Eyes 2 Gallon - People's Choice","RETAIL",0,39.99]
["7242AT",{"$f":"TEXT(Table_Query_from_Great_Plains[[#This Row],[ITEMNMBR]],0)","v":"7242AT"},"Spooky Eyes 2 Gallon Tin - Traditional Popcorn","RETAIL",0,39.99]
["7242ATK",{"$f":"TEXT(Table_Query_from_Great_Plains[[#This Row],[ITEMNMBR]],0)","v":"7242ATK"},"Spooky Eyes 2 Gallon - Traditional","RETAIL",0,39.99]
["7242BC",{"$f":"TEXT(Table_Query_from_Great_Plains[[#This Row],[ITEMNMBR]],0)","v":"7242BC"},"Spooky Eyes 3.5 Gallon - Chicago","RETAIL",0,49.99]
["7242BCK",{"$f":"TEXT(Table_Query_from_Great_Plains[[#This Row],[ITEMNMBR]],0)","v":"7242BCK"},"Spooky Eyes 3.5 Gallon - Chicago","RETAIL",0,49.99]
["7242BP",{"$f":"TEXT(Table_Query_from_Great_Plains[[#This Row],[ITEMNMBR]],0)","v":"7242BP"},"Spooky Eyes 3.5 Gallon - People's Choice","RETAIL",0,49.99]
["7242BPK",{"$f":"TEXT(Table_Query_from_Great_Plains[[#This Row],[ITEMNMBR]],0)","v":"7242BPK"},"Spooky Eyes 3.5 Gallon - People's Choice","RETAIL",0,49.99]
["7242BT",{"$f":"TEXT(Table_Query_from_Great_Plains[[#This Row],[ITEMNMBR]],0)","v":"7242BT"},"Spooky Eyes 3.5 Gallon - Traditional","RETAIL",0,49.99]
["7242BTK",{"$f":"TEXT(Table_Query_from_Great_Plains[[#This Row],[ITEMNMBR]],0)","v":"7242BTK"},"Spooky Eyes 3.5 Gallon - Traditional","RETAIL",0,49.99]
["7243AC",{"$f":"TEXT(Table_Query_from_Great_Plains[[#This Row],[ITEMNMBR]],0)","v":"7243AC"},"Haunted House 2 Gallon Tin - Chicago","RETAIL",0,39.99]
["7243ACK",{"$f":"TEXT(Table_Query_from_Great_Plains[[#This Row],[ITEMNMBR]],0)","v":"7243ACK"},"Haunted House 2 Gallon - Chicago","RETAIL",0,39.99]
["7243AP",{"$f":"TEXT(Table_Query_from_Great_Plains[[#This Row],[ITEMNMBR]],0)","v":"7243AP"},"Haunted House 2 Gallon Tin - People's Choice","RETAIL",0,39.99]
["7243APK",{"$f":"TEXT(Table_Query_from_Great_Plains[[#This Row],[ITEMNMBR]],0)","v":"7243APK"},"Haunted House 2 Gallon - People's Choice","RETAIL",0,39.99]
["7243AT",{"$f":"TEXT(Table_Query_from_Great_Plains[[#This Row],[ITEMNMBR]],0)","v":"7243AT"},"Haunted House 2 Gallon Tin - Traditional Popcorn","RETAIL",0,39.99]
["7243ATK",{"$f":"TEXT(Table_Query_from_Great_Plains[[#This Row],[ITEMNMBR]],0)","v":"7243ATK"},"Haunted House 2 Gallon - Traditional","RETAIL",0,39.99]
["7243BC",{"$f":"TEXT(Table_Query_from_Great_Plains[[#This Row],[ITEMNMBR]],0)","v":"7243BC"},"Haunted House 3.5 Gallon - Chicago","RETAIL",0,49.99]
["7243BCK",{"$f":"TEXT(Table_Query_from_Great_Plains[[#This Row],[ITEMNMBR]],0)","v":"7243BCK"},"Haunted House 3.5 Gallon - Chicago","RETAIL",0,49.99]
["7243BP",{"$f":"TEXT(Table_Query_from_Great_Plains[[#This Row],[ITEMNMBR]],0)","v":"7243BP"},"Haunted House 3.5 Gallon - People's Choice","RETAIL",0,49.99]
["7243BPK",{"$f":"TEXT(Table_Query_from_Great_Plains[[#This Row],[ITEMNMBR]],0)","v":"7243BPK"},"Haunted House 3.5 Gallon - People's Choice","RETAIL",0,49.99]
["7243BT",{"$f":"TEXT(Table_Query_from_Great_Plains[[#This Row],[ITEMNMBR]],0)","v":"7243BT"},"Haunted House 3.5 Gallon - Traditional","RETAIL",0,49.99]
["7243BTK",{"$f":"TEXT(Table_Query_from_Great_Plains[[#This Row],[ITEMNMBR]],0)","v":"7243BTK"},"Haunted House 3.5 Gallon - Traditional","RETAIL",0,49.99]
["7244",{"$f":"TEXT(Table_Query_from_Great_Plains[[#This Row],[ITEMNMBR]],0)","v":"7244"},"Halloween Popcorn TIn - Caramel Apple - 1 Gallon","RETAIL",0,19.989999999999998]
["7250A",{"$f":"TEXT(Table_Query_from_Great_Plains[[#This Row],[ITEMNMBR]],0)","v":"7250A"},"Valentine's Traditional Popcorn Tin - 2 Gallon","RETAIL",0,39.99]
["7250AC",{"$f":"TEXT(Table_Query_from_Great_Plains[[#This Row],[ITEMNMBR]],0)","v":"7250AC"},"Valentine's Day Popcorn Tin - 2 gal - Chicago","RETAIL",0,39.99]
["7250ACK",{"$f":"TEXT(Table_Query_from_Great_Plains[[#This Row],[ITEMNMBR]],0)","v":"7250ACK"},"Valentine's Day Popcorn Tin - 2 gal - Chicago","RETAIL",0,39.99]
["7250AK",{"$f":"TEXT(Table_Query_from_Great_Plains[[#This Row],[ITEMNMBR]],0)","v":"7250AK"},"Valentine's Traditional Popcorn Tin - 2 Gallon","RETAIL",0,39.99]
["7250AP",{"$f":"TEXT(Table_Query_from_Great_Plains[[#This Row],[ITEMNMBR]],0)","v":"7250AP"},"Valentine's Day Popcorn Tin - 2 gal - People's Choice","RETAIL",0,39.99]
["7250APK",{"$f":"TEXT(Table_Query_from_Great_Plains[[#This Row],[ITEMNMBR]],0)","v":"7250APK"},"Valentine's Day Popcorn Tin - 2 gal - People's Choice","RETAIL",0,39.99]
["7250AT",{"$f":"TEXT(Table_Query_from_Great_Plains[[#This Row],[ITEMNMBR]],0)","v":"7250AT"},"Valentine's Day Popcorn Tin - 2 gal - Traditional","RETAIL",0,39.99]
["7250ATK",{"$f":"TEXT(Table_Query_from_Great_Plains[[#This Row],[ITEMNMBR]],0)","v":"7250ATK"},"Valentine's Day Popcorn Tin - 2 gal - Traditional","RETAIL",0,39.99]
["7250B",{"$f":"TEXT(Table_Query_from_Great_Plains[[#This Row],[ITEMNMBR]],0)","v":"7250B"},"Valentine's Traditional Popcorn Tin - 3.5 Gallon","RETAIL",0,49.99]
["7250BC",{"$f":"TEXT(Table_Query_from_Great_Plains[[#This Row],[ITEMNMBR]],0)","v":"7250BC"},"Valentine's Day Popcorn Tin - 3.5 Gal - Chicago","RETAIL",0,49.99]
["7250BCK",{"$f":"TEXT(Table_Query_from_Great_Plains[[#This Row],[ITEMNMBR]],0)","v":"7250BCK"},"Valentine's Day Popcorn Tin - 3.5 Gal - Chicago","RETAIL",0,49.99]
["7250BK",{"$f":"TEXT(Table_Query_from_Great_Plains[[#This Row],[ITEMNMBR]],0)","v":"7250BK"},"Valentine's Traditional Popcorn Tin - 3.5 Gallon","RETAIL",0,49.99]
["7250BP",{"$f":"TEXT(Table_Query_from_Great_Plains[[#This Row],[ITEMNMBR]],0)","v":"7250BP"},"Valentine's Day Popcorn Tin - 3.5 Gal - People's Choice","RETAIL",0,49.99]
["7250BPK",{"$f":"TEXT(Table_Query_from_Great_Plains[[#This Row],[ITEMNMBR]],0)","v":"7250BPK"},"Valentine's Day Popcorn Tin - 3.5 Gal - People's Choice","RETAIL",0,49.99]
["7250BT",{"$f":"TEXT(Table_Query_from_Great_Plains[[#This Row],[ITEMNMBR]],0)","v":"7250BT"},"Valentine's Day Popcorn Tin - 3.5 Gal - Traditional","RETAIL",0,49.99]
["7250BTK",{"$f":"TEXT(Table_Query_from_Great_Plains[[#This Row],[ITEMNMBR]],0)","v":"7250BTK"},"Valentine's Day Popcorn Tin - 3.5 Gal - Traditional","RETAIL",0,49.99]
["7250C",{"$f":"TEXT(Table_Query_from_Great_Plains[[#This Row],[ITEMNMBR]],0)","v":"7250C"},"Valentine's Traditional Popcorn Tin - 1 Gallon","RETAIL",0,19.989999999999998]
["7250CC",{"$f":"TEXT(Table_Query_from_Great_Plains[[#This Row],[ITEMNMBR]],0)","v":"7250CC"},"Valentine's Day Popcorn Tin - 1 Gal - Chicago","RETAIL",0,19.989999999999998]
["7250CCK",{"$f":"TEXT(Table_Query_from_Great_Plains[[#This Row],[ITEMNMBR]],0)","v":"7250CCK"},"Valentine's Day Popcorn Tin - 1 Gal - Chicago","RETAIL",0,19.989999999999998]
["7250CK",{"$f":"TEXT(Table_Query_from_Great_Plains[[#This Row],[ITEMNMBR]],0)","v":"7250CK"},"Valentine's Traditional Popcorn Tin - 1 Gallon","RETAIL",0,19.989999999999998]
["7250CP",{"$f":"TEXT(Table_Query_from_Great_Plains[[#This Row],[ITEMNMBR]],0)","v":"7250CP"},"Valentine's Day Popcorn Tin - 1 Gal - People's Choice","RETAIL",0,19.989999999999998]
["7250CPK",{"$f":"TEXT(Table_Query_from_Great_Plains[[#This Row],[ITEMNMBR]],0)","v":"7250CPK"},"Valentine's Day Popcorn Tin - 1 Gal - People's Choice","RETAIL",0,19.989999999999998]
["7250CT",{"$f":"TEXT(Table_Query_from_Great_Plains[[#This Row],[ITEMNMBR]],0)","v":"7250CT"},"Valentine's Day Popcorn Tin - 1 Gal - Traditional","RETAIL",0,19.989999999999998]
["7250CTK",{"$f":"TEXT(Table_Query_from_Great_Plains[[#This Row],[ITEMNMBR]],0)","v":"7250CTK"},"Valentine's Day Popcorn Tin - 1 Gal - Traditional","RETAIL",0,19.989999999999998]
["7251A",{"$f":"TEXT(Table_Query_from_Great_Plains[[#This Row],[ITEMNMBR]],0)","v":"7251A"},"Valentine's Chicago  Popcorn Tin - 2 Gallon","RETAIL",0,39.99]
["7251AK",{"$f":"TEXT(Table_Query_from_Great_Plains[[#This Row],[ITEMNMBR]],0)","v":"7251AK"},"Valentine's Chicago  Popcorn Tin - 2 Gallon","RETAIL",0,39.99]
["7251B",{"$f":"TEXT(Table_Query_from_Great_Plains[[#This Row],[ITEMNMBR]],0)","v":"7251B"},"Valentine's Chicago  Popcorn Tin - 3.5 Gallon","RETAIL",0,49.99]
["7251BK",{"$f":"TEXT(Table_Query_from_Great_Plains[[#This Row],[ITEMNMBR]],0)","v":"7251BK"},"Valentine's Chicago  Popcorn Tin - 3.5 Gallon","RETAIL",0,49.99]
["7251C",{"$f":"TEXT(Table_Query_from_Great_Plains[[#This Row],[ITEMNMBR]],0)","v":"7251C"},"Valentine's Chicago  Popcorn Tin - 1 Gallon","RETAIL",0,19.989999999999998]
["7251CK",{"$f":"TEXT(Table_Query_from_Great_Plains[[#This Row],[ITEMNMBR]],0)","v":"7251CK"},"Valentine's Chicago  Popcorn Tin - 1 Gallon","RETAIL",0,19.989999999999998]
["7252A",{"$f":"TEXT(Table_Query_from_Great_Plains[[#This Row],[ITEMNMBR]],0)","v":"7252A"},"Valentine's Day Chocolate Trio - 2 Gallon","RETAIL",0,49.99]
["7252AK",{"$f":"TEXT(Table_Query_from_Great_Plains[[#This Row],[ITEMNMBR]],0)","v":"7252AK"},"Valentine's Day Chocolate Trio - 2 Gallon","RETAIL",0,49.99]
["7252B",{"$f":"TEXT(Table_Query_from_Great_Plains[[#This Row],[ITEMNMBR]],0)","v":"7252B"},"Valentine's Day Chocolate Trio - 3.5 Gallon","RETAIL",0,59.99]
["7252BK",{"$f":"TEXT(Table_Query_from_Great_Plains[[#This Row],[ITEMNMBR]],0)","v":"7252BK"},"Valentine's Day Chocolate Trio - 3.5 Gallon","RETAIL",0,59.99]
["7252C",{"$f":"TEXT(Table_Query_from_Great_Plains[[#This Row],[ITEMNMBR]],0)","v":"7252C"},"Valentine's Day Chocolate Trio - 1 Gallon","RETAIL",0,24.99]
["7252CK",{"$f":"TEXT(Table_Query_from_Great_Plains[[#This Row],[ITEMNMBR]],0)","v":"7252CK"},"Valentine's Day Chocolate Trio - 1 Gallon","RETAIL",0,24.99]
["7253AC",{"$f":"TEXT(Table_Query_from_Great_Plains[[#This Row],[ITEMNMBR]],0)","v":"7253AC"},"For My Valentine Popcorn Tin - 2 gal - Chicago","RETAIL",0,39.99]
["7253ACK",{"$f":"TEXT(Table_Query_from_Great_Plains[[#This Row],[ITEMNMBR]],0)","v":"7253ACK"},"For My Valentine Popcorn Tin - 2 gal - Chicago","RETAIL",0,39.99]
["7253AP",{"$f":"TEXT(Table_Query_from_Great_Plains[[#This Row],[ITEMNMBR]],0)","v":"7253AP"},"For My Valentine Popcorn Tin - 2 gal - People's Choice","RETAIL",0,39.99]
["7253APK",{"$f":"TEXT(Table_Query_from_Great_Plains[[#This Row],[ITEMNMBR]],0)","v":"7253APK"},"For My Valentine Popcorn Tin - 2 gal - People's Choice","RETAIL",0,39.99]
["7253AT",{"$f":"TEXT(Table_Query_from_Great_Plains[[#This Row],[ITEMNMBR]],0)","v":"7253AT"},"For My Valentine Popcorn Tin - 2 gal - Traditional","RETAIL",0,39.99]
["7253ATK",{"$f":"TEXT(Table_Query_from_Great_Plains[[#This Row],[ITEMNMBR]],0)","v":"7253ATK"},"For My Valentine Popcorn Tin - 2 gal - Traditional","RETAIL",0,39.99]
["7253BC",{"$f":"TEXT(Table_Query_from_Great_Plains[[#This Row],[ITEMNMBR]],0)","v":"7253BC"},"For My Valentine Popcorn Tin - 3.5 Gal - Chicago","RETAIL",0,49.99]
["7253BCK",{"$f":"TEXT(Table_Query_from_Great_Plains[[#This Row],[ITEMNMBR]],0)","v":"7253BCK"},"For My Valentine Popcorn Tin - 3.5 Gal - Chicago","RETAIL",0,49.99]
["7253BP",{"$f":"TEXT(Table_Query_from_Great_Plains[[#This Row],[ITEMNMBR]],0)","v":"7253BP"},"For My Valentine Popcorn Tin - 3.5 Gal - People's Choice","RETAIL",0,49.99]
["7253BPK",{"$f":"TEXT(Table_Query_from_Great_Plains[[#This Row],[ITEMNMBR]],0)","v":"7253BPK"},"For My Valentine Popcorn Tin - 3.5 Gal - People's Choice","RETAIL",0,49.99]
["7253BT",{"$f":"TEXT(Table_Query_from_Great_Plains[[#This Row],[ITEMNMBR]],0)","v":"7253BT"},"For My Valentine Popcorn Tin - 3.5 Gal - Traditional","RETAIL",0,49.99]
["7253BTK",{"$f":"TEXT(Table_Query_from_Great_Plains[[#This Row],[ITEMNMBR]],0)","v":"7253BTK"},"For My Valentine Popcorn Tin - 3.5 Gal - Traditional","RETAIL",0,49.99]
["7254",{"$f":"TEXT(Table_Query_from_Great_Plains[[#This Row],[ITEMNMBR]],0)","v":"7254"},"Valentine's Day Chocolate Popcorn Tin - 1 Gallon","RETAIL",0,24.99]
["7254K",{"$f":"TEXT(Table_Query_from_Great_Plains[[#This Row],[ITEMNMBR]],0)","v":"7254K"},"Valentine's Day Chocolate Popcorn Tin - 1 Gallon","RETAIL",0,24.99]
["7260A",{"$f":"TEXT(Table_Query_from_Great_Plains[[#This Row],[ITEMNMBR]],0)","v":"7260A"},"Stripes & Snowflakes Gourmet Popcorn Tin  -  2 gal (Traditional Flavors)","RETAIL",0,39.99]
["7260AC",{"$f":"TEXT(Table_Query_from_Great_Plains[[#This Row],[ITEMNMBR]],0)","v":"7260AC"},"Stripes & Snowflakes Gourmet Popcorn Tin - 2 gal - Chicago  - FREE SHIPPING","RETAIL",0,44.99]
["7260ACK",{"$f":"TEXT(Table_Query_from_Great_Plains[[#This Row],[ITEMNMBR]],0)","v":"7260ACK"},"Stripes & Snowflakes Gourmet Popcorn Tin - 2 gal - Chicago  - FREE SHIPPING","RETAIL",0,44.99]
["7260AK",{"$f":"TEXT(Table_Query_from_Great_Plains[[#This Row],[ITEMNMBR]],0)","v":"7260AK"},"Stripes & Snowflakes Gourmet Popcorn Tin -  2 gal (Traditional Flavors)","RETAIL",0,39.99]
["7260AP",{"$f":"TEXT(Table_Query_from_Great_Plains[[#This Row],[ITEMNMBR]],0)","v":"7260AP"},"Stripes & Snowflakes Gourmet Popcorn Tin - 2 gal - People's Choice - FREE SHIPPING","RETAIL",0,44.99]
["7260APK",{"$f":"TEXT(Table_Query_from_Great_Plains[[#This Row],[ITEMNMBR]],0)","v":"7260APK"},"Stripes & Snowflakes Gourmet Popcorn Tin - 2 gal - People's Choice - FREE SHIPPING","RETAIL",0,44.99]
["7260AT",{"$f":"TEXT(Table_Query_from_Great_Plains[[#This Row],[ITEMNMBR]],0)","v":"7260AT"},"Stripes & Snowflakes Gourmet Popcorn Tin - 2 gal - Traditional - FREE SHIPPING","RETAIL",0,44.99]
["7260ATK",{"$f":"TEXT(Table_Query_from_Great_Plains[[#This Row],[ITEMNMBR]],0)","v":"7260ATK"},"Stripes & Snowflakes Gourmet Popcorn Tin - 2 gal - Traditional - FREE SHIPPING","RETAIL",0,44.99]
["7260B",{"$f":"TEXT(Table_Query_from_Great_Plains[[#This Row],[ITEMNMBR]],0)","v":"7260B"},"Stripes & Snowflakes Gourmet Popcorn Tin - 3.5 gal (Traditional Flavors)","RETAIL",0,49.99]
["7260BC",{"$f":"TEXT(Table_Query_from_Great_Plains[[#This Row],[ITEMNMBR]],0)","v":"7260BC"},"Stripes & Snowflakes Gourmet Popcorn Tin - 3.5 gal - Chicago  - FREE SHIPPING","RETAIL",0,54.99]
["7260BCK",{"$f":"TEXT(Table_Query_from_Great_Plains[[#This Row],[ITEMNMBR]],0)","v":"7260BCK"},"Stripes & Snowflakes Gourmet Popcorn Tin - 3.5 gal - Chicago  - FREE SHIPPING","RETAIL",0,54.99]
["7260BK",{"$f":"TEXT(Table_Query_from_Great_Plains[[#This Row],[ITEMNMBR]],0)","v":"7260BK"},"Stripes & Snowflakes  Gourmet Popcorn Tin - 3.5 gal (Traditional Flavors)","RETAIL",0,49.99]
["7260BP",{"$f":"TEXT(Table_Query_from_Great_Plains[[#This Row],[ITEMNMBR]],0)","v":"7260BP"},"Stripes & Snowflakes Gourmet Popcorn Tin - 3.5 gal - People's Choice - FREE SHIPPING","RETAIL",0,54.99]
["7260BPK",{"$f":"TEXT(Table_Query_from_Great_Plains[[#This Row],[ITEMNMBR]],0)","v":"7260BPK"},"Stripes & Snowflakes Gourmet Popcorn Tin - 3.5 gal - People's Choice - FREE SHIPPING","RETAIL",0,54.99]
["7260BT",{"$f":"TEXT(Table_Query_from_Great_Plains[[#This Row],[ITEMNMBR]],0)","v":"7260BT"},"Stripes & Snowflakes Gourmet Popcorn Tin - 3.5 gal - Traditional - FREE SHIPPING","RETAIL",0,54.99]
["7260BTK",{"$f":"TEXT(Table_Query_from_Great_Plains[[#This Row],[ITEMNMBR]],0)","v":"7260BTK"},"Stripes & Snowflakes Gourmet Popcorn Tin - 3.5 gal - Traditional - FREE SHIPPING","RETAIL",0,54.99]
["7260C",{"$f":"TEXT(Table_Query_from_Great_Plains[[#This Row],[ITEMNMBR]],0)","v":"7260C"},"Stripes & Snowflakes Gourmet Popcorn Tin  -  1 gal (Traditional Flavors)","RETAIL",0,19.989999999999998]
["7260CC",{"$f":"TEXT(Table_Query_from_Great_Plains[[#This Row],[ITEMNMBR]],0)","v":"7260CC"},"Stripes & Snowflakes Gourmet Popcorn Tin - 1 gal - Chicago  - FREE SHIPPING","RETAIL",0,24.99]
["7260CCK",{"$f":"TEXT(Table_Query_from_Great_Plains[[#This Row],[ITEMNMBR]],0)","v":"7260CCK"},"Stripes & Snowflakes Gourmet Popcorn Tin - 1 gal - Chicago  - FREE SHIPPING","RETAIL",0,24.99]
["7260CK",{"$f":"TEXT(Table_Query_from_Great_Plains[[#This Row],[ITEMNMBR]],0)","v":"7260CK"},"Stripes & Snowflakes Gourmet Popcorn Tin -   1 gal (Traditional Flavors)","RETAIL",0,19.989999999999998]
["7260CP",{"$f":"TEXT(Table_Query_from_Great_Plains[[#This Row],[ITEMNMBR]],0)","v":"7260CP"},"Stripes & Snowflakes Gourmet Popcorn Tin - 1 gal - People's Choice - FREE SHIPPING","RETAIL",0,24.99]
["7260CPK",{"$f":"TEXT(Table_Query_from_Great_Plains[[#This Row],[ITEMNMBR]],0)","v":"7260CPK"},"Stripes & Snowflakes Gourmet Popcorn  Tin - 1 gal - People's Choice - FREE SHIPPING","RETAIL",0,24.99]
["7260CT",{"$f":"TEXT(Table_Query_from_Great_Plains[[#This Row],[ITEMNMBR]],0)","v":"7260CT"},"Stripes & Snowflakes Gourmet Popcorn Tin - 1 gal - Traditional - FREE SHIPPING","RETAIL",0,24.99]
["7260CTK",{"$f":"TEXT(Table_Query_from_Great_Plains[[#This Row],[ITEMNMBR]],0)","v":"7260CTK"},"Stripes & Snowflakes Gourmet Popcorn  Tin - 1 gal - Traditional - FREE SHIPPING","RETAIL",0,24.99]
["7261A",{"$f":"TEXT(Table_Query_from_Great_Plains[[#This Row],[ITEMNMBR]],0)","v":"7261A"},"Whimsical Snowmen Gourmet Popcorn Tin -  2 gal (Classic Chicago )","RETAIL",0,39.99]
["7261AC",{"$f":"TEXT(Table_Query_from_Great_Plains[[#This Row],[ITEMNMBR]],0)","v":"7261AC"},"Snowmen Gourmet Popcorn Tin - 2 gal - Chicago  - FREE SHIPPING","RETAIL",0,44.99]
["7261ACK",{"$f":"TEXT(Table_Query_from_Great_Plains[[#This Row],[ITEMNMBR]],0)","v":"7261ACK"},"Snowmen Gourmet Popcorn Tin - 2 gal - Chicago  - FREE SHIPPING","RETAIL",0,44.99]
["7261AK",{"$f":"TEXT(Table_Query_from_Great_Plains[[#This Row],[ITEMNMBR]],0)","v":"7261AK"},"Snowmen Gourmet Popcorn Tin - 2 gal (Classic Chicago )","RETAIL",0,39.99]
["7261AP",{"$f":"TEXT(Table_Query_from_Great_Plains[[#This Row],[ITEMNMBR]],0)","v":"7261AP"},"Snowmen Gourmet Popcorn Tin - 2 gal - People's Choice - FREE SHIPPING","RETAIL",0,44.99]
["7261APK",{"$f":"TEXT(Table_Query_from_Great_Plains[[#This Row],[ITEMNMBR]],0)","v":"7261APK"},"Snowmen Gourmet Popcorn Tin - 2 gal - People's Choice - FREE SHIPPING","RETAIL",0,44.99]
["7261AT",{"$f":"TEXT(Table_Query_from_Great_Plains[[#This Row],[ITEMNMBR]],0)","v":"7261AT"},"Snowmen Gourmet Popcorn Tin - 2 gal - Traditional - FREE SHIPPING","RETAIL",0,44.99]
["7261ATK",{"$f":"TEXT(Table_Query_from_Great_Plains[[#This Row],[ITEMNMBR]],0)","v":"7261ATK"},"Snowmen Gourmet Popcorn Tin - 2 gal - Traditional - FREE SHIPPING","RETAIL",0,44.99]
["7261B",{"$f":"TEXT(Table_Query_from_Great_Plains[[#This Row],[ITEMNMBR]],0)","v":"7261B"},"Snowmen Gourmet Popcorn Tin -  3.5 gal (Classic Chicago )","RETAIL",0,49.99]
["7261BC",{"$f":"TEXT(Table_Query_from_Great_Plains[[#This Row],[ITEMNMBR]],0)","v":"7261BC"},"Snowmen Gourmet Popcorn Tin - 3.5 gal - Chicago  - FREE SHIPPING","RETAIL",0,54.99]
["7261BCK",{"$f":"TEXT(Table_Query_from_Great_Plains[[#This Row],[ITEMNMBR]],0)","v":"7261BCK"},"Snowmen Gourmet Popcorn Tin - 3.5 Gallon - Chicago  - FREE SHIPPING","RETAIL",0,54.99]
["7261BK",{"$f":"TEXT(Table_Query_from_Great_Plains[[#This Row],[ITEMNMBR]],0)","v":"7261BK"},"Snowmen Gourmet Popcorn Tin - 3.5 gal (Classic Chicago )","RETAIL",0,49.99]
["7261BP",{"$f":"TEXT(Table_Query_from_Great_Plains[[#This Row],[ITEMNMBR]],0)","v":"7261BP"},"Snowmen Gourmet PopcornTin - 3.5 gal - People's Choice - FREE SHIPPING","RETAIL",0,54.99]
["7261BPK",{"$f":"TEXT(Table_Query_from_Great_Plains[[#This Row],[ITEMNMBR]],0)","v":"7261BPK"},"Snowmen Gourmet Popcorn Tin - 3.5 gal - People's Choice - FREE SHIPPING","RETAIL",0,54.99]
["7261BT",{"$f":"TEXT(Table_Query_from_Great_Plains[[#This Row],[ITEMNMBR]],0)","v":"7261BT"},"Snowmen Gourmet Popcorn Tin - 3.5 gal - Traditional - FREE SHIPPING","RETAIL",0,54.99]
["7261BTK",{"$f":"TEXT(Table_Query_from_Great_Plains[[#This Row],[ITEMNMBR]],0)","v":"7261BTK"},"Snowmen Gourmet Popcorn Tin - 3.5 gal - Traditional - FREE SHIPPING","RETAIL",0,54.99]
["7261C",{"$f":"TEXT(Table_Query_from_Great_Plains[[#This Row],[ITEMNMBR]],0)","v":"7261C"},"Snowmen Gourmet Popcorn Tin -  1 gal (Classic Chicago )","RETAIL",0,19.989999999999998]
["7261CC",{"$f":"TEXT(Table_Query_from_Great_Plains[[#This Row],[ITEMNMBR]],0)","v":"7261CC"},"Snowmen Gourmet Popcorn Tin - 1 gal - Chicago  - FREE SHIPPING","RETAIL",0,24.99]
["7261CCK",{"$f":"TEXT(Table_Query_from_Great_Plains[[#This Row],[ITEMNMBR]],0)","v":"7261CCK"},"Snowmen Gourmet PopcornTin - 1 gal - Chicago  - FREE SHIPPING","RETAIL",0,24.99]
["7261CK",{"$f":"TEXT(Table_Query_from_Great_Plains[[#This Row],[ITEMNMBR]],0)","v":"7261CK"},"Snowmen  Gourmet Popcorn Tin  - 1 gal (Classic Chicago )","RETAIL",0,19.989999999999998]
["7261CP",{"$f":"TEXT(Table_Query_from_Great_Plains[[#This Row],[ITEMNMBR]],0)","v":"7261CP"},"Snowmen Gourmet Popcorn Tin - 1 gal - People's Choice - FREE SHIPPING","RETAIL",0,24.99]
["7261CPK",{"$f":"TEXT(Table_Query_from_Great_Plains[[#This Row],[ITEMNMBR]],0)","v":"7261CPK"},"Snowmen Gourmet Popcorn Tin - 1 gal - People's Choice - FREE SHIPPING","RETAIL",0,24.99]
["7261CT",{"$f":"TEXT(Table_Query_from_Great_Plains[[#This Row],[ITEMNMBR]],0)","v":"7261CT"},"Snowmen Gourmet Popcorn Tin - 1 gal - Traditional - FREE SHIPPING","RETAIL",0,24.99]
["7261CTK",{"$f":"TEXT(Table_Query_from_Great_Plains[[#This Row],[ITEMNMBR]],0)","v":"7261CTK"},"Snowmen Gourmet Popcorn Tin - 1 gal - Traditional - FREE SHIPPING","RETAIL",0,24.99]
["7262A",{"$f":"TEXT(Table_Query_from_Great_Plains[[#This Row],[ITEMNMBR]],0)","v":"7262A"},"Christmas Trees Gourmet Popcorn Tin - 2 gal (Christmas Flavors 3 pack)","RETAIL",0,39.99]
["7262AC",{"$f":"TEXT(Table_Query_from_Great_Plains[[#This Row],[ITEMNMBR]],0)","v":"7262AC"},"Christmas Trees Gourmet Popcorn Tin - 2 gal - Chicago - FREE SHIPPING","RETAIL",0,44.99]
["7262ACK",{"$f":"TEXT(Table_Query_from_Great_Plains[[#This Row],[ITEMNMBR]],0)","v":"7262ACK"},"Christmas Trees  Gourmet Popcorn Tin - 2 gal - Chicago - FREE SHIPPING","RETAIL",0,44.99]
["7262AK",{"$f":"TEXT(Table_Query_from_Great_Plains[[#This Row],[ITEMNMBR]],0)","v":"7262AK"},"Christmas Trees Gourmet Popcorn Tin - 2 gal (Christmas Flavors 3 pack)","RETAIL",0,39.99]
["7262AP",{"$f":"TEXT(Table_Query_from_Great_Plains[[#This Row],[ITEMNMBR]],0)","v":"7262AP"},"Christmas Trees Gourmet Popcorn Tin - 2 gal - People's Choice - FREE SHIPPING","RETAIL",0,44.99]
["7262APK",{"$f":"TEXT(Table_Query_from_Great_Plains[[#This Row],[ITEMNMBR]],0)","v":"7262APK"},"Christmas Trees Gourmet PopcornTin - 2 gal - People's Choice - FREE SHIPPING","RETAIL",0,44.99]
["7262AT",{"$f":"TEXT(Table_Query_from_Great_Plains[[#This Row],[ITEMNMBR]],0)","v":"7262AT"},"Christmas Trees Gourmet Popcorn Tin - 2 gal - Traditional - FREE SHIPPING","RETAIL",0,44.99]
["7262ATK",{"$f":"TEXT(Table_Query_from_Great_Plains[[#This Row],[ITEMNMBR]],0)","v":"7262ATK"},"Christmas Trees Gourmet Popcorn Tin - 2 gal - Traditional - FREE SHIPPING","RETAIL",0,44.99]
["7262B",{"$f":"TEXT(Table_Query_from_Great_Plains[[#This Row],[ITEMNMBR]],0)","v":"7262B"},"Christmas Trees Gourmet Popcorn Tin - 3.5 gal (Christmas Flavors 3 pack)","RETAIL",0,49.99]
["7262BC",{"$f":"TEXT(Table_Query_from_Great_Plains[[#This Row],[ITEMNMBR]],0)","v":"7262BC"},"Christmas Trees Gourmet Popcorn Tin - 3.5 gal - Chicago - FREE SHIPPING","RETAIL",0,54.99]
["7262BCK",{"$f":"TEXT(Table_Query_from_Great_Plains[[#This Row],[ITEMNMBR]],0)","v":"7262BCK"},"Christmas Trees Gourmet Popcorn Tin - 3.5 gal - Chicago - FREE SHIPPING","RETAIL",0,54.99]
["7262BK",{"$f":"TEXT(Table_Query_from_Great_Plains[[#This Row],[ITEMNMBR]],0)","v":"7262BK"},"Christmas Trees Gourmet Popcorn Tin -  3.5 gal (Christmas Flavors 3 pack)","RETAIL",0,49.99]
["7262BP",{"$f":"TEXT(Table_Query_from_Great_Plains[[#This Row],[ITEMNMBR]],0)","v":"7262BP"},"Christmas Trees Gourmet Popcorn Tin - 3.5 gal - People's Choice - FREE SHIPPING","RETAIL",0,54.99]
["7262BPK",{"$f":"TEXT(Table_Query_from_Great_Plains[[#This Row],[ITEMNMBR]],0)","v":"7262BPK"},"Christmas Trees Gourmet Popcorn Tin - 3.5 gal - People's Choice - FREE SHIPPING","RETAIL",0,54.99]
["7262BT",{"$f":"TEXT(Table_Query_from_Great_Plains[[#This Row],[ITEMNMBR]],0)","v":"7262BT"},"Christmas Trees Gourmet Popcorn Tin - 3.5 gal - Traditional - FREE SHIPPING","RETAIL",0,54.99]
["7262BTK",{"$f":"TEXT(Table_Query_from_Great_Plains[[#This Row],[ITEMNMBR]],0)","v":"7262BTK"},"Christmas Trees Gourmet Popcorn Tin - 3.5 gal - Traditional - FREE SHIPPING","RETAIL",0,54.99]
["7262C",{"$f":"TEXT(Table_Query_from_Great_Plains[[#This Row],[ITEMNMBR]],0)","v":"7262C"},"Christmas Trees Gourmet Popcorn Tin - 1 gal (Christmas Flavors 3 pack)","RETAIL",0,24.99]
["7262CC",{"$f":"TEXT(Table_Query_from_Great_Plains[[#This Row],[ITEMNMBR]],0)","v":"7262CC"},"Christmas Trees Gourmet Popcorn Tin - 1 gal - Chicago - FREE SHIPPING","RETAIL",0,24.99]
["7262CCK",{"$f":"TEXT(Table_Query_from_Great_Plains[[#This Row],[ITEMNMBR]],0)","v":"7262CCK"},"Christmas Trees Gourmet Popcorn Tin - 1 gal - Chicago - FREE SHIPPING","RETAIL",0,24.99]
["7262CK",{"$f":"TEXT(Table_Query_from_Great_Plains[[#This Row],[ITEMNMBR]],0)","v":"7262CK"},"Christmas Trees Gourmet Popcorn Tin -  1 gal (Christmas Flavors 3 pack)","RETAIL",0,24.99]
["7262CP",{"$f":"TEXT(Table_Query_from_Great_Plains[[#This Row],[ITEMNMBR]],0)","v":"7262CP"},"Christmas Trees Gourmet Popcorn Tin - 1 gal - People's Choice - FREE SHIPPING","RETAIL",0,24.99]
["7262CPK",{"$f":"TEXT(Table_Query_from_Great_Plains[[#This Row],[ITEMNMBR]],0)","v":"7262CPK"},"Christmas Trees Gourmet Popcorn Tin - 1 gal - People's Choice - FREE SHIPPING","RETAIL",0,24.99]
["7262CT",{"$f":"TEXT(Table_Query_from_Great_Plains[[#This Row],[ITEMNMBR]],0)","v":"7262CT"},"Christmas Trees Gourmet Popcorn Tin - 1 gal - Traditional - FREE SHIPPING","RETAIL",0,24.99]
["7262CTK",{"$f":"TEXT(Table_Query_from_Great_Plains[[#This Row],[ITEMNMBR]],0)","v":"7262CTK"},"Christmas Trees Gourmet Popcorn Tin - 1 gal - Traditional - FREE SHIPPING","RETAIL",0,24.99]
["7263AC",{"$f":"TEXT(Table_Query_from_Great_Plains[[#This Row],[ITEMNMBR]],0)","v":"7263AC"},"Christmas Ornaments Popcorn Tin - 2 gal - Chicago's Choice - FREE SHIPPING","RETAIL",0,44.99]
["7263ACK",{"$f":"TEXT(Table_Query_from_Great_Plains[[#This Row],[ITEMNMBR]],0)","v":"7263ACK"},"Christmas Ornaments Popcorn Tin - 2 gal - Chicago's Choice - FREE SHIPPING","RETAIL",0,44.99]
["7263AP",{"$f":"TEXT(Table_Query_from_Great_Plains[[#This Row],[ITEMNMBR]],0)","v":"7263AP"},"Christmas Ornaments Popcorn Tin - 2 gal - People's Choice - FREE SHIPPING","RETAIL",0,44.99]
["7263APK",{"$f":"TEXT(Table_Query_from_Great_Plains[[#This Row],[ITEMNMBR]],0)","v":"7263APK"},"Christmas Ornaments Popcorn Tin - 2 gal - People's Choice - FREE SHIPPING","RETAIL",0,44.99]
["7263AT",{"$f":"TEXT(Table_Query_from_Great_Plains[[#This Row],[ITEMNMBR]],0)","v":"7263AT"},"Christmas Ornaments Popcorn Tin - 2 gal - Traditional - FREE SHIPPING","RETAIL",0,44.99]
["7263ATK",{"$f":"TEXT(Table_Query_from_Great_Plains[[#This Row],[ITEMNMBR]],0)","v":"7263ATK"},"Christmas Ornaments Popcorn Tin - 2 gal - Traditional - FREE SHIPPING","RETAIL",0,44.99]
["7263BC",{"$f":"TEXT(Table_Query_from_Great_Plains[[#This Row],[ITEMNMBR]],0)","v":"7263BC"},"Christmas Ornaments Popcorn Tin - 3.5 gal - Chicago - FREE SHIPPING","RETAIL",0,54.99]
["7263BCK",{"$f":"TEXT(Table_Query_from_Great_Plains[[#This Row],[ITEMNMBR]],0)","v":"7263BCK"},"Christmas Ornaments Popcorn Tin - 3.5 gal - Chicago- FREE SHIPPING","RETAIL",0,54.99]
["7263BP",{"$f":"TEXT(Table_Query_from_Great_Plains[[#This Row],[ITEMNMBR]],0)","v":"7263BP"},"Christmas Ornaments Popcorn Tin - 3.5 gal - People's Choice - FREE SHIPPING","RETAIL",0,54.99]
["7263BPK",{"$f":"TEXT(Table_Query_from_Great_Plains[[#This Row],[ITEMNMBR]],0)","v":"7263BPK"},"Christmas Ornaments Popcorn Tin - 3.5 gal - People's Choice - FREE SHIPPING","RETAIL",0,54.99]
["7263BT",{"$f":"TEXT(Table_Query_from_Great_Plains[[#This Row],[ITEMNMBR]],0)","v":"7263BT"},"Christmas Ornaments Popcorn Tin - 3.5 gal - Traditional - FREE SHIPPING","RETAIL",0,54.99]
["7263BTK",{"$f":"TEXT(Table_Query_from_Great_Plains[[#This Row],[ITEMNMBR]],0)","v":"7263BTK"},"Christmas Ornaments Popcorn Tin - 3.5 gal - Traditional - FREE SHIPPING","RETAIL",0,54.99]
["7263CC",{"$f":"TEXT(Table_Query_from_Great_Plains[[#This Row],[ITEMNMBR]],0)","v":"7263CC"},"Christmas Ornaments Popcorn Tin - 1 gal - Chicago's Choice - FREE SHIPPING","RETAIL",0,24.99]
["7263CCK",{"$f":"TEXT(Table_Query_from_Great_Plains[[#This Row],[ITEMNMBR]],0)","v":"7263CCK"},"Christmas Ornaments Popcorn Tin - 1 gal - Chicago's Choice - FREE SHIPPING","RETAIL",0,24.99]
["7263CP",{"$f":"TEXT(Table_Query_from_Great_Plains[[#This Row],[ITEMNMBR]],0)","v":"7263CP"},"Christmas Ornaments Popcorn Tin - 1 gal - People's Choice - FREE SHIPPING","RETAIL",0,24.99]
["7263CPK",{"$f":"TEXT(Table_Query_from_Great_Plains[[#This Row],[ITEMNMBR]],0)","v":"7263CPK"},"Christmas Ornaments Popcorn Tin - 1 gal - People's Choice - FREE SHIPPING","RETAIL",0,24.99]
["7263CT",{"$f":"TEXT(Table_Query_from_Great_Plains[[#This Row],[ITEMNMBR]],0)","v":"7263CT"},"Christmas Ornaments Popcorn Tin - 1 gal - Traditional - FREE SHIPPING","RETAIL",0,24.99]
["7263CTK",{"$f":"TEXT(Table_Query_from_Great_Plains[[#This Row],[ITEMNMBR]],0)","v":"7263CTK"},"Christmas Ornaments Popcorn Tin - 1 gal - Traditional - FREE SHIPPING","RETAIL",0,24.99]
["7264AC",{"$f":"TEXT(Table_Query_from_Great_Plains[[#This Row],[ITEMNMBR]],0)","v":"7264AC"},"Season's Greetings - Christmas Main Street Gourmet Popcorn Tin - 2 gal - Chicago - FREE SHIPPING","RETAIL",0,44.99]
["7264ACK",{"$f":"TEXT(Table_Query_from_Great_Plains[[#This Row],[ITEMNMBR]],0)","v":"7264ACK"},"Season's Greetings - Christmas Main Street Gourmet Popcorn Tin - 2 gal - Chicago - FREE SHIPPING","RETAIL",0,44.99]
["7264AP",{"$f":"TEXT(Table_Query_from_Great_Plains[[#This Row],[ITEMNMBR]],0)","v":"7264AP"},"Season's Greetings - Christmas Main St Gourmet Popcorn Tin - 2 gal - People's Choice - FREE SHIPPING","RETAIL",0,44.99]
["7264APK",{"$f":"TEXT(Table_Query_from_Great_Plains[[#This Row],[ITEMNMBR]],0)","v":"7264APK"},"Season's Greetings - Christmas Main St Gourmet Popcorn Tin - 2 gal - People's Choice - FREE SHIPPING","RETAIL",0,44.99]
["7264AT",{"$f":"TEXT(Table_Query_from_Great_Plains[[#This Row],[ITEMNMBR]],0)","v":"7264AT"},"Season's Greetings - Christmas Main Street Gourmet Popcorn Tin - 2 gal - Chicago - FREE SHIPPING","RETAIL",0,44.99]
["7264ATK",{"$f":"TEXT(Table_Query_from_Great_Plains[[#This Row],[ITEMNMBR]],0)","v":"7264ATK"},"Season's Greetings - Christmas Main Street Gourmet Popcorn Tin - 2 gal - Chicago - FREE SHIPPING","RETAIL",0,44.99]
["7264BC",{"$f":"TEXT(Table_Query_from_Great_Plains[[#This Row],[ITEMNMBR]],0)","v":"7264BC"},"Season's Greetings -Christmas Main St Gourmet Popcorn Tin - 3.5 gal - Chicago  - FREE SHIPPING","RETAIL",0,54.99]
["7264BCK",{"$f":"TEXT(Table_Query_from_Great_Plains[[#This Row],[ITEMNMBR]],0)","v":"7264BCK"},"Season's Greetings -Christmas Main St Gourmet Popcorn Tin - 3.5 gal - Chicago  - FREE SHIPPING","RETAIL",0,54.99]
["7264BP",{"$f":"TEXT(Table_Query_from_Great_Plains[[#This Row],[ITEMNMBR]],0)","v":"7264BP"},"Season's Greetings - Christmas Main St Gourmet Popcorn Tin -3.5gal - People's Choice - FREE SHIPPING","RETAIL",0,54.99]
["7264BPK",{"$f":"TEXT(Table_Query_from_Great_Plains[[#This Row],[ITEMNMBR]],0)","v":"7264BPK"},"Season's Greetings - Christmas Main St Gourmet Popcorn Tin -3.5gal - People's Choice - FREE SHIPPING","RETAIL",0,54.99]
["7264BT",{"$f":"TEXT(Table_Query_from_Great_Plains[[#This Row],[ITEMNMBR]],0)","v":"7264BT"},"Season's Greetings - Christmas Main St Gourmet Popcorn Tin - 3.5 gal - Traditional - FREE SHIPPING","RETAIL",0,54.99]
["7264BTK",{"$f":"TEXT(Table_Query_from_Great_Plains[[#This Row],[ITEMNMBR]],0)","v":"7264BTK"},"Season's Greetings - Christmas Main St Gourmet Popcorn Tin - 3.5 gal - Traditional - FREE SHIPPING","RETAIL",0,54.99]
["7265AC",{"$f":"TEXT(Table_Query_from_Great_Plains[[#This Row],[ITEMNMBR]],0)","v":"7265AC"},"Snowflake Gourmet Popcorn Tin - 2 gal - Chicago  - FREE SHIPPING","RETAIL",0,44.99]
["7265ACK",{"$f":"TEXT(Table_Query_from_Great_Plains[[#This Row],[ITEMNMBR]],0)","v":"7265ACK"},"Snowflake Gourmet Popcorn Tin - 2 gal - Chicago  - FREE SHIPPING","RETAIL",0,44.99]
["7265AP",{"$f":"TEXT(Table_Query_from_Great_Plains[[#This Row],[ITEMNMBR]],0)","v":"7265AP"},"Snowflake Gourmet Popcorn Tin - 2 gal - People's Choice - FREE SHIPPING","RETAIL",0,44.99]
["7265APK",{"$f":"TEXT(Table_Query_from_Great_Plains[[#This Row],[ITEMNMBR]],0)","v":"7265APK"},"Snowflake Gourmet Popcorn Tin - 2 gal - People's Choice - FREE SHIPPING","RETAIL",0,44.99]
["7265AT",{"$f":"TEXT(Table_Query_from_Great_Plains[[#This Row],[ITEMNMBR]],0)","v":"7265AT"},"Snowflake Gourmet Popcorn Tin - 2 gal - Traditional - FREE SHIPPING","RETAIL",0,44.99]
["7265ATK",{"$f":"TEXT(Table_Query_from_Great_Plains[[#This Row],[ITEMNMBR]],0)","v":"7265ATK"},"Snowflake Gourmet Popcorn Tin - 2 gal - Traditional - FREE SHIPPING","RETAIL",0,44.99]
["7265BC",{"$f":"TEXT(Table_Query_from_Great_Plains[[#This Row],[ITEMNMBR]],0)","v":"7265BC"},"Snowflake Gourmet Popcorn Tin - 3.5 gal - Chicago  - FREE SHIPPING","RETAIL",0,54.99]
["7265BCK",{"$f":"TEXT(Table_Query_from_Great_Plains[[#This Row],[ITEMNMBR]],0)","v":"7265BCK"},"Snowflake Gourmet Popcorn Tin - 3.5 gal - Chicago  - FREE SHIPPING","RETAIL",0,54.99]
["7265BP",{"$f":"TEXT(Table_Query_from_Great_Plains[[#This Row],[ITEMNMBR]],0)","v":"7265BP"},"Snowflake Gourmet Popcorn Tin - 3.5 gal - People's Choice - FREE SHIPPING","RETAIL",0,54.99]
["7265BPK",{"$f":"TEXT(Table_Query_from_Great_Plains[[#This Row],[ITEMNMBR]],0)","v":"7265BPK"},"Snowflake Gourmet Popcorn Tin - 3.5 gal - People's Choice - FREE SHIPPING","RETAIL",0,54.99]
["7265BT",{"$f":"TEXT(Table_Query_from_Great_Plains[[#This Row],[ITEMNMBR]],0)","v":"7265BT"},"Snowflake Gourmet Popcorn Tin - 3.5 gal - Traditional - FREE SHIPPING","RETAIL",0,54.99]
["7265BTK",{"$f":"TEXT(Table_Query_from_Great_Plains[[#This Row],[ITEMNMBR]],0)","v":"7265BTK"},"Snowflake Gourmet Popcorn Tin - 3.5 gal - Traditional - FREE SHIPPING","RETAIL",0,54.99]
["7265CC",{"$f":"TEXT(Table_Query_from_Great_Plains[[#This Row],[ITEMNMBR]],0)","v":"7265CC"},"Snowflake Gourmet Popcorn Tin - 1 gal - Chicago  - FREE SHIPPING","RETAIL",0,24.99]
["7265CCK",{"$f":"TEXT(Table_Query_from_Great_Plains[[#This Row],[ITEMNMBR]],0)","v":"7265CCK"},"Stripes & Snowflakes Gourmet Popcorn Tin - 1 gal - Chicago  - FREE SHIPPING","RETAIL",0,24.99]
["7265CP",{"$f":"TEXT(Table_Query_from_Great_Plains[[#This Row],[ITEMNMBR]],0)","v":"7265CP"},"Snowflake Gourmet Popcorn Tin - 1 gal - People's Choice - FREE SHIPPING","RETAIL",0,24.99]
["7265CPK",{"$f":"TEXT(Table_Query_from_Great_Plains[[#This Row],[ITEMNMBR]],0)","v":"7265CPK"},"Snowflake Gourmet Popcorn  Tin - 1 gal - People's Choice - FREE SHIPPING","RETAIL",0,24.99]
["7265CT",{"$f":"TEXT(Table_Query_from_Great_Plains[[#This Row],[ITEMNMBR]],0)","v":"7265CT"},"Snowflake Gourmet Popcorn Tin - 1 gal - Traditional - FREE SHIPPING","RETAIL",0,24.99]
["7265CTK",{"$f":"TEXT(Table_Query_from_Great_Plains[[#This Row],[ITEMNMBR]],0)","v":"7265CTK"},"Snowflake Gourmet Popcorn  Tin - 1 gal - Traditional - FREE SHIPPING","RETAIL",0,24.99]
["7266",{"$f":"TEXT(Table_Query_from_Great_Plains[[#This Row],[ITEMNMBR]],0)","v":"7266"},"Cookies for Santa Popcorn Tin - 1 Gallon","RETAIL",0,24.99]
["7266K",{"$f":"TEXT(Table_Query_from_Great_Plains[[#This Row],[ITEMNMBR]],0)","v":"7266K"},"Cookies for Santa Popcorn Tin - 1 Gallon","RETAIL",0,24.99]
["7267",{"$f":"TEXT(Table_Query_from_Great_Plains[[#This Row],[ITEMNMBR]],0)","v":"7267"},"Holly Jolly Christmas Popcorn Tin - 1 Gallon","RETAIL",0,24.99]
["7267K",{"$f":"TEXT(Table_Query_from_Great_Plains[[#This Row],[ITEMNMBR]],0)","v":"7267K"},"Holly Jolly Christmas Popcorn Tin - 1 Gallon","RETAIL",0,24.99]
["7268",{"$f":"TEXT(Table_Query_from_Great_Plains[[#This Row],[ITEMNMBR]],0)","v":"7268"},"Dashing Through The Snow Popcorn Tin - 1 Gallon","RETAIL",0,34.99]
["7268K",{"$f":"TEXT(Table_Query_from_Great_Plains[[#This Row],[ITEMNMBR]],0)","v":"7268K"},"Dashing Through The Snow Popcorn Tin - 1 Gallon","RETAIL",0,34.99]
["7280A",{"$f":"TEXT(Table_Query_from_Great_Plains[[#This Row],[ITEMNMBR]],0)","v":"7280A"},"Easter Traditional 2 Gallon","RETAIL",0,39.99]
["7280AC",{"$f":"TEXT(Table_Query_from_Great_Plains[[#This Row],[ITEMNMBR]],0)","v":"7280AC"},"Easter Popcorn Tin - 2 gal - Chicago","RETAIL",0,39.99]
["7280ACK",{"$f":"TEXT(Table_Query_from_Great_Plains[[#This Row],[ITEMNMBR]],0)","v":"7280ACK"},"Easter Popcorn Tin - 2 gal - Chicago","RETAIL",0,39.99]
["7280AK",{"$f":"TEXT(Table_Query_from_Great_Plains[[#This Row],[ITEMNMBR]],0)","v":"7280AK"},"Easter Traditional 2 Gallon","RETAIL",0,39.99]
["7280AP",{"$f":"TEXT(Table_Query_from_Great_Plains[[#This Row],[ITEMNMBR]],0)","v":"7280AP"},"Easter Popcorn Tin - 2 gal - People's Choice","RETAIL",0,39.99]
["7280APK",{"$f":"TEXT(Table_Query_from_Great_Plains[[#This Row],[ITEMNMBR]],0)","v":"7280APK"},"Easter Popcorn Tin - 2 gal - People's Choice","RETAIL",0,39.99]
["7280AT",{"$f":"TEXT(Table_Query_from_Great_Plains[[#This Row],[ITEMNMBR]],0)","v":"7280AT"},"Easter Popcorn Tin - 2 gal - Traditional","RETAIL",0,39.99]
["7280ATK",{"$f":"TEXT(Table_Query_from_Great_Plains[[#This Row],[ITEMNMBR]],0)","v":"7280ATK"},"Easter Popcorn Tin - 2 gal - Traditional","RETAIL",0,39.99]
["7281A",{"$f":"TEXT(Table_Query_from_Great_Plains[[#This Row],[ITEMNMBR]],0)","v":"7281A"},"Easter Chicago  2 Gallon","RETAIL",0,39.99]
["7281AK",{"$f":"TEXT(Table_Query_from_Great_Plains[[#This Row],[ITEMNMBR]],0)","v":"7281AK"},"Easter Chicago 2 Gallon","RETAIL",0,39.99]
["7281K",{"$f":"TEXT(Table_Query_from_Great_Plains[[#This Row],[ITEMNMBR]],0)","v":"7281K"},"Easter Chicago  2 Gallon","RETAIL",0,39.99]
["7282",{"$f":"TEXT(Table_Query_from_Great_Plains[[#This Row],[ITEMNMBR]],0)","v":"7282"},"Easter Celebration 2 Gallon","RETAIL",0,39.99]
["7282A",{"$f":"TEXT(Table_Query_from_Great_Plains[[#This Row],[ITEMNMBR]],0)","v":"7282A"},"Easter Celebration 2 Gallon","RETAIL",0,39.99]
["7282AK",{"$f":"TEXT(Table_Query_from_Great_Plains[[#This Row],[ITEMNMBR]],0)","v":"7282AK"},"Easter Celebration 2 Gallon","RETAIL",0,39.99]
["7282K",{"$f":"TEXT(Table_Query_from_Great_Plains[[#This Row],[ITEMNMBR]],0)","v":"7282K"},"Easter Celebration 2 Gallon","RETAIL",0,39.99]
["7290A",{"$f":"TEXT(Table_Query_from_Great_Plains[[#This Row],[ITEMNMBR]],0)","v":"7290A"},"Patriotic Popcorn Tin - 2 gal -","RETAIL",0,39.99]
["7290AK",{"$f":"TEXT(Table_Query_from_Great_Plains[[#This Row],[ITEMNMBR]],0)","v":"7290AK"},"Patriotic Popcorn Tin - 2 gal -","RETAIL",0,39.99]
["7290B",{"$f":"TEXT(Table_Query_from_Great_Plains[[#This Row],[ITEMNMBR]],0)","v":"7290B"},"Patriotic Popcorn Tin - 3.5 gal -","RETAIL",0,49.99]
["7290BK",{"$f":"TEXT(Table_Query_from_Great_Plains[[#This Row],[ITEMNMBR]],0)","v":"7290BK"},"Patriotic Popcorn Tin - 3.5 gal -","RETAIL",0,49.99]
["7290C",{"$f":"TEXT(Table_Query_from_Great_Plains[[#This Row],[ITEMNMBR]],0)","v":"7290C"},"Patriotic Popcorn Tin - 1 gal -","RETAIL",0,19.989999999999998]
["7290CK",{"$f":"TEXT(Table_Query_from_Great_Plains[[#This Row],[ITEMNMBR]],0)","v":"7290CK"},"Patriotic Popcorn Tin - 1 gal -","RETAIL",0,19.989999999999998]
["7300AK",{"$f":"TEXT(Table_Query_from_Great_Plains[[#This Row],[ITEMNMBR]],0)","v":"7300AK"},"Au Natural Popcorn Tin - 2 Gallon","RETAIL",0,39.99]
["7300BK",{"$f":"TEXT(Table_Query_from_Great_Plains[[#This Row],[ITEMNMBR]],0)","v":"7300BK"},"Au Natural Popcorn Tin - 3.5 Gallon","RETAIL",0,49.99]
["7300CK",{"$f":"TEXT(Table_Query_from_Great_Plains[[#This Row],[ITEMNMBR]],0)","v":"7300CK"},"Au Natural Popcorn Tin - 1 Gallon","RETAIL",0,19.989999999999998]
["7301AK",{"$f":"TEXT(Table_Query_from_Great_Plains[[#This Row],[ITEMNMBR]],0)","v":"7301AK"},"Bacon Cheddar Popcorn Tin - 2 Gallon","RETAIL",0,39.99]
["7301BK",{"$f":"TEXT(Table_Query_from_Great_Plains[[#This Row],[ITEMNMBR]],0)","v":"7301BK"},"Bacon Cheddar Popcorn Tin - 3.5 Gallon","RETAIL",0,49.99]
["7301CK",{"$f":"TEXT(Table_Query_from_Great_Plains[[#This Row],[ITEMNMBR]],0)","v":"7301CK"},"Bacon Cheddar Popcorn Tin - 1 Gallon","RETAIL",0,19.989999999999998]
["7302AK",{"$f":"TEXT(Table_Query_from_Great_Plains[[#This Row],[ITEMNMBR]],0)","v":"7302AK"},"Cheesy Cheddar Popcorn Tin - 2 Gallon","RETAIL",0,39.99]
["7302BK",{"$f":"TEXT(Table_Query_from_Great_Plains[[#This Row],[ITEMNMBR]],0)","v":"7302BK"},"Cheesy Cheddar Popcorn Tin - 3.5 Gallon","RETAIL",0,49.99]
["7302CK",{"$f":"TEXT(Table_Query_from_Great_Plains[[#This Row],[ITEMNMBR]],0)","v":"7302CK"},"Cheesy Cheddar Popcorn Tin - 1 Gallon","RETAIL",0,19.989999999999998]
["7303AK",{"$f":"TEXT(Table_Query_from_Great_Plains[[#This Row],[ITEMNMBR]],0)","v":"7303AK"},"Dill Pickle Popcorn Tin - 2 Gallon","RETAIL",0,39.99]
["7303BK",{"$f":"TEXT(Table_Query_from_Great_Plains[[#This Row],[ITEMNMBR]],0)","v":"7303BK"},"Dill Pickle Popcorn Tin - 3.5 Gallon","RETAIL",0,49.99]
["7303CK",{"$f":"TEXT(Table_Query_from_Great_Plains[[#This Row],[ITEMNMBR]],0)","v":"7303CK"},"Dill Pickle Popcorn Tin - 1 Gallon","RETAIL",0,19.989999999999998]
["7304AK",{"$f":"TEXT(Table_Query_from_Great_Plains[[#This Row],[ITEMNMBR]],0)","v":"7304AK"},"Garlic Parmesan Popcorn Tin - 2 Gallon","RETAIL",0,39.99]
["7304BK",{"$f":"TEXT(Table_Query_from_Great_Plains[[#This Row],[ITEMNMBR]],0)","v":"7304BK"},"Garlic Parmesan Popcorn Tin - 3.5 Gallon","RETAIL",0,49.99]
["7304CK",{"$f":"TEXT(Table_Query_from_Great_Plains[[#This Row],[ITEMNMBR]],0)","v":"7304CK"},"Garlic Parmesan Popcorn Tin - 1 Gallon","RETAIL",0,19.989999999999998]
["7305AK",{"$f":"TEXT(Table_Query_from_Great_Plains[[#This Row],[ITEMNMBR]],0)","v":"7305AK"},"Honey Mustard Popcorn Tin - 2 Gallon","RETAIL",0,39.99]
["7305BK",{"$f":"TEXT(Table_Query_from_Great_Plains[[#This Row],[ITEMNMBR]],0)","v":"7305BK"},"Honey Mustard Popcorn Tin - 3.5 Gallon","RETAIL",0,49.99]
["7305CK",{"$f":"TEXT(Table_Query_from_Great_Plains[[#This Row],[ITEMNMBR]],0)","v":"7305CK"},"Honey Mustard Popcorn Tin - 1 Gallon","RETAIL",0,19.989999999999998]
["7306AK",{"$f":"TEXT(Table_Query_from_Great_Plains[[#This Row],[ITEMNMBR]],0)","v":"7306AK"},"BBQ Popcorn Tin - 2 Gallon","RETAIL",0,39.99]
["7306BK",{"$f":"TEXT(Table_Query_from_Great_Plains[[#This Row],[ITEMNMBR]],0)","v":"7306BK"},"BBQ Popcorn Tin - 3.5 Gallon","RETAIL",0,49.99]
["7306CK",{"$f":"TEXT(Table_Query_from_Great_Plains[[#This Row],[ITEMNMBR]],0)","v":"7306CK"},"BBQ Popcorn Tin - 1 Gallon","RETAIL",0,19.989999999999998]
["7307AK",{"$f":"TEXT(Table_Query_from_Great_Plains[[#This Row],[ITEMNMBR]],0)","v":"7307AK"},"Buttered Popcorn Tin - 2 Gallon","RETAIL",0,39.99]
["7307BK",{"$f":"TEXT(Table_Query_from_Great_Plains[[#This Row],[ITEMNMBR]],0)","v":"7307BK"},"Buttered Popcorn Tin - 3.5 Gallon","RETAIL",0,49.99]
["7307CK",{"$f":"TEXT(Table_Query_from_Great_Plains[[#This Row],[ITEMNMBR]],0)","v":"7307CK"},"Buttered Popcorn Tin - 1 Gallon","RETAIL",0,19.989999999999998]
["7308AK",{"$f":"TEXT(Table_Query_from_Great_Plains[[#This Row],[ITEMNMBR]],0)","v":"7308AK"},"Zesty Ranch Popcorn Tin - 2 Gallon","RETAIL",0,39.99]
["7308BK",{"$f":"TEXT(Table_Query_from_Great_Plains[[#This Row],[ITEMNMBR]],0)","v":"7308BK"},"Zesty Ranch Popcorn Tin - 3.5 Gallon","RETAIL",0,49.99]
["7308CK",{"$f":"TEXT(Table_Query_from_Great_Plains[[#This Row],[ITEMNMBR]],0)","v":"7308CK"},"Zesty Ranch Popcorn Tin - 1 Gallon","RETAIL",0,19.989999999999998]
["7309AK",{"$f":"TEXT(Table_Query_from_Great_Plains[[#This Row],[ITEMNMBR]],0)","v":"7309AK"},"Pizza Time Popcorn Tin - 2 Gallon","RETAIL",0,39.99]
["7309BK",{"$f":"TEXT(Table_Query_from_Great_Plains[[#This Row],[ITEMNMBR]],0)","v":"7309BK"},"Pizza Time Popcorn Tin - 3.5 Gallon","RETAIL",0,49.99]
["7309CK",{"$f":"TEXT(Table_Query_from_Great_Plains[[#This Row],[ITEMNMBR]],0)","v":"7309CK"},"Pizza Time Popcorn Tin - 1 Gallon","RETAIL",0,19.989999999999998]
["7310AK",{"$f":"TEXT(Table_Query_from_Great_Plains[[#This Row],[ITEMNMBR]],0)","v":"7310AK"},"Salt n' Vinegarl Popcorn Tin - 2 Gallon","RETAIL",0,39.99]
["7310BK",{"$f":"TEXT(Table_Query_from_Great_Plains[[#This Row],[ITEMNMBR]],0)","v":"7310BK"},"Salt n' Vinegarl Popcorn Tin - 3.5 Gallon","RETAIL",0,49.99]
["7310CK",{"$f":"TEXT(Table_Query_from_Great_Plains[[#This Row],[ITEMNMBR]],0)","v":"7310CK"},"Salt n' Vinegar Popcorn Tin - 1 Gallon","RETAIL",0,19.989999999999998]
["7311AK",{"$f":"TEXT(Table_Query_from_Great_Plains[[#This Row],[ITEMNMBR]],0)","v":"7311AK"},"Sour Cream n' Chive Popcorn Tin - 2 Gallon","RETAIL",0,39.99]
["7311BK",{"$f":"TEXT(Table_Query_from_Great_Plains[[#This Row],[ITEMNMBR]],0)","v":"7311BK"},"Sour Cream n' Chive Popcorn Tin - 3.5 Gallon","RETAIL",0,49.99]
["7311CK",{"$f":"TEXT(Table_Query_from_Great_Plains[[#This Row],[ITEMNMBR]],0)","v":"7311CK"},"Sour Cream n' Chive Popcorn Tin - 1 Gallon","RETAIL",0,19.989999999999998]
["7312AK",{"$f":"TEXT(Table_Query_from_Great_Plains[[#This Row],[ITEMNMBR]],0)","v":"7312AK"},"Too Hot to Handle Popcorn Tin - 2 Gallon","RETAIL",0,39.99]
["7312BK",{"$f":"TEXT(Table_Query_from_Great_Plains[[#This Row],[ITEMNMBR]],0)","v":"7312BK"},"Too Hot to Handle Popcorn Tin - 3.5 Gallon","RETAIL",0,49.99]
["7312CK",{"$f":"TEXT(Table_Query_from_Great_Plains[[#This Row],[ITEMNMBR]],0)","v":"7312CK"},"Too Hot to Handle Popcorn Tin - 1 Gallon","RETAIL",0,19.989999999999998]
["7313AK",{"$f":"TEXT(Table_Query_from_Great_Plains[[#This Row],[ITEMNMBR]],0)","v":"7313AK"},"White Cheddar Popcorn Tin - 2 Gallon","RETAIL",0,39.99]
["7313BK",{"$f":"TEXT(Table_Query_from_Great_Plains[[#This Row],[ITEMNMBR]],0)","v":"7313BK"},"White Cheddar Popcorn Tin - 3.5 Gallon","RETAIL",0,49.99]
["7313CK",{"$f":"TEXT(Table_Query_from_Great_Plains[[#This Row],[ITEMNMBR]],0)","v":"7313CK"},"White Cheddar Popcorn Tin - 1 Gallon","RETAIL",0,19.989999999999998]
["7314AK",{"$f":"TEXT(Table_Query_from_Great_Plains[[#This Row],[ITEMNMBR]],0)","v":"7314AK"},"Cajun Popcorn Tin - 2 Gallon","RETAIL",0,39.99]
["7314BK",{"$f":"TEXT(Table_Query_from_Great_Plains[[#This Row],[ITEMNMBR]],0)","v":"7314BK"},"Cajun Popcorn Tin - 3.5 Gallon","RETAIL",0,49.99]
["7314CK",{"$f":"TEXT(Table_Query_from_Great_Plains[[#This Row],[ITEMNMBR]],0)","v":"7314CK"},"Cajun Popcorn Tin - 1 Gallon","RETAIL",0,19.989999999999998]
["7315AK",{"$f":"TEXT(Table_Query_from_Great_Plains[[#This Row],[ITEMNMBR]],0)","v":"7315AK"},"Chipotle BBQ Popcorn Tin - 2 Gallon","RETAIL",0,39.99]
["7315BK",{"$f":"TEXT(Table_Query_from_Great_Plains[[#This Row],[ITEMNMBR]],0)","v":"7315BK"},"Chipotle BBQ Popcorn Tin - 3.5 Gallon","RETAIL",0,49.99]
["7315CK",{"$f":"TEXT(Table_Query_from_Great_Plains[[#This Row],[ITEMNMBR]],0)","v":"7315CK"},"Chipotle BBQ Popcorn Tin - 1 Gallon","RETAIL",0,19.989999999999998]
["7316AK",{"$f":"TEXT(Table_Query_from_Great_Plains[[#This Row],[ITEMNMBR]],0)","v":"7316AK"},"Nacho Cheese Popcorn Tin - 2 Gallon","RETAIL",0,39.99]
["7316BK",{"$f":"TEXT(Table_Query_from_Great_Plains[[#This Row],[ITEMNMBR]],0)","v":"7316BK"},"Nacho Cheese Popcorn Tin - 3.5 Gallon","RETAIL",0,49.99]
["7316CK",{"$f":"TEXT(Table_Query_from_Great_Plains[[#This Row],[ITEMNMBR]],0)","v":"7316CK"},"Nacho Cheese Popcorn Tin - 1 Gallon","RETAIL",0,19.989999999999998]
["7317AK",{"$f":"TEXT(Table_Query_from_Great_Plains[[#This Row],[ITEMNMBR]],0)","v":"7317AK"},"Buffalo Popcorn Tin - 2 Gallon","RETAIL",0,39.99]
["7317BK",{"$f":"TEXT(Table_Query_from_Great_Plains[[#This Row],[ITEMNMBR]],0)","v":"7317BK"},"Buffalo Popcorn Tin - 3.5 Gallon","RETAIL",0,49.99]
["7317CK",{"$f":"TEXT(Table_Query_from_Great_Plains[[#This Row],[ITEMNMBR]],0)","v":"7317CK"},"Buffalo Popcorn Tin - 1 Gallon","RETAIL",0,19.989999999999998]
["7318A",{"$f":"TEXT(Table_Query_from_Great_Plains[[#This Row],[ITEMNMBR]],0)","v":"7318A"},"Caramel Popcorn Tin - 2 Gallon","RETAIL",0,39.99]
["7318AK",{"$f":"TEXT(Table_Query_from_Great_Plains[[#This Row],[ITEMNMBR]],0)","v":"7318AK"},"Caramel Popcorn Tin - 2 Gallon","RETAIL",0,39.99]
["7318BK",{"$f":"TEXT(Table_Query_from_Great_Plains[[#This Row],[ITEMNMBR]],0)","v":"7318BK"},"Caramel Popcorn Tin - 3.5 Gallon","RETAIL",0,49.99]
["7318CK",{"$f":"TEXT(Table_Query_from_Great_Plains[[#This Row],[ITEMNMBR]],0)","v":"7318CK"},"Caramel Popcorn Tin - 1 Gallon","RETAIL",0,19.989999999999998]
["7319AK",{"$f":"TEXT(Table_Query_from_Great_Plains[[#This Row],[ITEMNMBR]],0)","v":"7319AK"},"Cinnamon & Brown Sugar Popcorn Tin - 2 Gallon","RETAIL",0,39.99]
["7319BK",{"$f":"TEXT(Table_Query_from_Great_Plains[[#This Row],[ITEMNMBR]],0)","v":"7319BK"},"Cinnamon & Brown Sugar  Popcorn Tin - 3.5 Gallon","RETAIL",0,49.99]
["7319CK",{"$f":"TEXT(Table_Query_from_Great_Plains[[#This Row],[ITEMNMBR]],0)","v":"7319CK"},"Cinnamon Toast Popcorn Tin - 1 Gallon","RETAIL",0,19.989999999999998]
["7320AK",{"$f":"TEXT(Table_Query_from_Great_Plains[[#This Row],[ITEMNMBR]],0)","v":"7320AK"},"Kettle Corn Popcorn Tin - 2 Gallon","RETAIL",0,39.99]
["7320BK",{"$f":"TEXT(Table_Query_from_Great_Plains[[#This Row],[ITEMNMBR]],0)","v":"7320BK"},"Kettle Corn Popcorn Tin - 3.5 Gallon","RETAIL",0,49.99]
["7320CK",{"$f":"TEXT(Table_Query_from_Great_Plains[[#This Row],[ITEMNMBR]],0)","v":"7320CK"},"Kettle Corn Popcorn Tin - 1 Gallon","RETAIL",0,19.989999999999998]
["7321AK",{"$f":"TEXT(Table_Query_from_Great_Plains[[#This Row],[ITEMNMBR]],0)","v":"7321AK"},"Sea Salt n' Cracked Pepper Popcorn Tin - 2 Gallon","RETAIL",0,39.99]
["7321BK",{"$f":"TEXT(Table_Query_from_Great_Plains[[#This Row],[ITEMNMBR]],0)","v":"7321BK"},"Sea Salt n' Cracked Pepper Popcorn Tin - 3.5 Gallon","RETAIL",0,49.99]
["7321CK",{"$f":"TEXT(Table_Query_from_Great_Plains[[#This Row],[ITEMNMBR]],0)","v":"7321CK"},"Sea Salt n' Cracked Pepper Popcorn Tin - 1 Gallon","RETAIL",0,19.989999999999998]
["7322AK",{"$f":"TEXT(Table_Query_from_Great_Plains[[#This Row],[ITEMNMBR]],0)","v":"7322AK"},"Banana Popcorn Tin - 2 Gallon","RETAIL",0,39.99]
["7322BK",{"$f":"TEXT(Table_Query_from_Great_Plains[[#This Row],[ITEMNMBR]],0)","v":"7322BK"},"Banana Popcorn Tin - 3.5 Gallon","RETAIL",0,49.99]
["7322CK",{"$f":"TEXT(Table_Query_from_Great_Plains[[#This Row],[ITEMNMBR]],0)","v":"7322CK"},"Banana Popcorn Tin - 1 Gallon","RETAIL",0,19.989999999999998]
["7323AK",{"$f":"TEXT(Table_Query_from_Great_Plains[[#This Row],[ITEMNMBR]],0)","v":"7323AK"},"Grape Popcorn Tin - 2 Gallon","RETAIL",0,39.99]
["7323BK",{"$f":"TEXT(Table_Query_from_Great_Plains[[#This Row],[ITEMNMBR]],0)","v":"7323BK"},"Grape Popcorn Tin - 3.5 Gallon","RETAIL",0,49.99]
["7323CK",{"$f":"TEXT(Table_Query_from_Great_Plains[[#This Row],[ITEMNMBR]],0)","v":"7323CK"},"Grape Popcorn Tin - 1 Gallon","RETAIL",0,19.989999999999998]
["7324AK",{"$f":"TEXT(Table_Query_from_Great_Plains[[#This Row],[ITEMNMBR]],0)","v":"7324AK"},"Watermelon Popcorn Tin - 2 Gallon","RETAIL",0,39.99]
["7324BK",{"$f":"TEXT(Table_Query_from_Great_Plains[[#This Row],[ITEMNMBR]],0)","v":"7324BK"},"Watermelon Popcorn Tin - 3.5 Gallon","RETAIL",0,49.99]
["7324CK",{"$f":"TEXT(Table_Query_from_Great_Plains[[#This Row],[ITEMNMBR]],0)","v":"7324CK"},"Watermelon Popcorn Tin - 1 Gallon","RETAIL",0,19.989999999999998]
["7325AK",{"$f":"TEXT(Table_Query_from_Great_Plains[[#This Row],[ITEMNMBR]],0)","v":"7325AK"},"Strawberry Popcorn Tin - 2 Gallon","RETAIL",0,39.99]
["7325BK",{"$f":"TEXT(Table_Query_from_Great_Plains[[#This Row],[ITEMNMBR]],0)","v":"7325BK"},"Strawberry Popcorn Tin - 3.5 Gallon","RETAIL",0,49.99]
["7325CK",{"$f":"TEXT(Table_Query_from_Great_Plains[[#This Row],[ITEMNMBR]],0)","v":"7325CK"},"Strawberry Popcorn Tin - 1 Gallon","RETAIL",0,19.989999999999998]
["7326AK",{"$f":"TEXT(Table_Query_from_Great_Plains[[#This Row],[ITEMNMBR]],0)","v":"7326AK"},"Cinnamon Popcorn Tin - 2 Gallon","RETAIL",0,39.99]
["7326BK",{"$f":"TEXT(Table_Query_from_Great_Plains[[#This Row],[ITEMNMBR]],0)","v":"7326BK"},"Cinnamon Popcorn Tin - 3.5 Gallon","RETAIL",0,49.99]
["7326CK",{"$f":"TEXT(Table_Query_from_Great_Plains[[#This Row],[ITEMNMBR]],0)","v":"7326CK"},"Cinnamon Popcorn Tin - 1 Gallon","RETAIL",0,19.989999999999998]
["7327AK",{"$f":"TEXT(Table_Query_from_Great_Plains[[#This Row],[ITEMNMBR]],0)","v":"7327AK"},"Black Cherry Popcorn Tin - 2 Gallon","RETAIL",0,39.99]
["7327BK",{"$f":"TEXT(Table_Query_from_Great_Plains[[#This Row],[ITEMNMBR]],0)","v":"7327BK"},"Black Cherry Popcorn Tin - 3.5 Gallon","RETAIL",0,49.99]
["7327CK",{"$f":"TEXT(Table_Query_from_Great_Plains[[#This Row],[ITEMNMBR]],0)","v":"7327CK"},"Black Cherry Popcorn Tin - 1 Gallon","RETAIL",0,19.989999999999998]
["7328AK",{"$f":"TEXT(Table_Query_from_Great_Plains[[#This Row],[ITEMNMBR]],0)","v":"7328AK"},"Orange Popcorn Tin - 2 Gallon","RETAIL",0,39.99]
["7328BK",{"$f":"TEXT(Table_Query_from_Great_Plains[[#This Row],[ITEMNMBR]],0)","v":"7328BK"},"Orange Popcorn Tin - 3.5 Gallon","RETAIL",0,49.99]
["7328CK",{"$f":"TEXT(Table_Query_from_Great_Plains[[#This Row],[ITEMNMBR]],0)","v":"7328CK"},"Orange Popcorn Tin - 1 Gallon","RETAIL",0,19.989999999999998]
["7329AK",{"$f":"TEXT(Table_Query_from_Great_Plains[[#This Row],[ITEMNMBR]],0)","v":"7329AK"},"Blue Raspberry Popcorn Tin - 2 Gallon","RETAIL",0,39.99]
["7329BK",{"$f":"TEXT(Table_Query_from_Great_Plains[[#This Row],[ITEMNMBR]],0)","v":"7329BK"},"Blue Raspberry Popcorn Tin - 3.5 Gallon","RETAIL",0,49.99]
["7329CK",{"$f":"TEXT(Table_Query_from_Great_Plains[[#This Row],[ITEMNMBR]],0)","v":"7329CK"},"Blue Raspberry Popcorn Tin - 1 Gallon","RETAIL",0,19.989999999999998]
["7330AK",{"$f":"TEXT(Table_Query_from_Great_Plains[[#This Row],[ITEMNMBR]],0)","v":"7330AK"},"Toffee Popcorn Tin - 2 Gallon","RETAIL",0,39.99]
["7330BK",{"$f":"TEXT(Table_Query_from_Great_Plains[[#This Row],[ITEMNMBR]],0)","v":"7330BK"},"Toffee Popcorn Tin - 3.5 Gallon","RETAIL",0,49.99]
["7330CK",{"$f":"TEXT(Table_Query_from_Great_Plains[[#This Row],[ITEMNMBR]],0)","v":"7330CK"},"Toffee Popcorn Tin - 1 Gallon","RETAIL",0,19.989999999999998]
["7331AK",{"$f":"TEXT(Table_Query_from_Great_Plains[[#This Row],[ITEMNMBR]],0)","v":"7331AK"},"Green Apple Popcorn Tin - 2 Gallon","RETAIL",0,39.99]
["7331BK",{"$f":"TEXT(Table_Query_from_Great_Plains[[#This Row],[ITEMNMBR]],0)","v":"7331BK"},"Green Apple Popcorn Tin - 3.5 Gallon","RETAIL",0,49.99]
["7331CK",{"$f":"TEXT(Table_Query_from_Great_Plains[[#This Row],[ITEMNMBR]],0)","v":"7331CK"},"Green Apple Popcorn Tin - 1 Gallon","RETAIL",0,19.989999999999998]
["7332AK",{"$f":"TEXT(Table_Query_from_Great_Plains[[#This Row],[ITEMNMBR]],0)","v":"7332AK"},"Vanilla Popcorn Tin - 2 Gallon","RETAIL",0,39.99]
["7332BK",{"$f":"TEXT(Table_Query_from_Great_Plains[[#This Row],[ITEMNMBR]],0)","v":"7332BK"},"Vanilla Popcorn Tin - 3.5 Gallon","RETAIL",0,49.99]
["7332CK",{"$f":"TEXT(Table_Query_from_Great_Plains[[#This Row],[ITEMNMBR]],0)","v":"7332CK"},"Vanilla Popcorn Tin - 1 Gallon","RETAIL",0,19.989999999999998]
["7333AK",{"$f":"TEXT(Table_Query_from_Great_Plains[[#This Row],[ITEMNMBR]],0)","v":"7333AK"},"Pina Colada Popcorn Tin - 2 Gallon","RETAIL",0,39.99]
["7333BK",{"$f":"TEXT(Table_Query_from_Great_Plains[[#This Row],[ITEMNMBR]],0)","v":"7333BK"},"Pina Colada Popcorn Tin - 3.5 Gallon","RETAIL",0,49.99]
["7333CK",{"$f":"TEXT(Table_Query_from_Great_Plains[[#This Row],[ITEMNMBR]],0)","v":"7333CK"},"Pina Colada Popcorn Tin - 1 Gallon","RETAIL",0,19.989999999999998]
["7334AK",{"$f":"TEXT(Table_Query_from_Great_Plains[[#This Row],[ITEMNMBR]],0)","v":"7334AK"},"Lemon Popcorn Tin - 2 Gallon","RETAIL",0,39.99]
["7334BK",{"$f":"TEXT(Table_Query_from_Great_Plains[[#This Row],[ITEMNMBR]],0)","v":"7334BK"},"Lemon Popcorn Tin - 3.5 Gallon","RETAIL",0,49.99]
["7334CK",{"$f":"TEXT(Table_Query_from_Great_Plains[[#This Row],[ITEMNMBR]],0)","v":"7334CK"},"Lemon Popcorn Tin - 1 Gallon","RETAIL",0,19.989999999999998]
["7335AK",{"$f":"TEXT(Table_Query_from_Great_Plains[[#This Row],[ITEMNMBR]],0)","v":"7335AK"},"Cherry Popcorn Tin - 2 Gallon","RETAIL",0,39.99]
["7335BK",{"$f":"TEXT(Table_Query_from_Great_Plains[[#This Row],[ITEMNMBR]],0)","v":"7335BK"},"Cherry Popcorn Tin - 3.5 Gallon","RETAIL",0,49.99]
["7335CK",{"$f":"TEXT(Table_Query_from_Great_Plains[[#This Row],[ITEMNMBR]],0)","v":"7335CK"},"Cherry Popcorn Tin - 1 Gallon","RETAIL",0,19.989999999999998]
["7336AK",{"$f":"TEXT(Table_Query_from_Great_Plains[[#This Row],[ITEMNMBR]],0)","v":"7336AK"},"Blueberry Popcorn Tin - 2 Gallon","RETAIL",0,39.99]
["7336BK",{"$f":"TEXT(Table_Query_from_Great_Plains[[#This Row],[ITEMNMBR]],0)","v":"7336BK"},"Blueberry Popcorn Tin - 3.5 Gallon","RETAIL",0,49.99]
["7336CK",{"$f":"TEXT(Table_Query_from_Great_Plains[[#This Row],[ITEMNMBR]],0)","v":"7336CK"},"Blueberry Popcorn Tin - 1 Gallon","RETAIL",0,19.989999999999998]
["7337AK",{"$f":"TEXT(Table_Query_from_Great_Plains[[#This Row],[ITEMNMBR]],0)","v":"7337AK"},"Bubble Gum Popcorn Tin - 2 Gallon","RETAIL",0,39.99]
["7337BK",{"$f":"TEXT(Table_Query_from_Great_Plains[[#This Row],[ITEMNMBR]],0)","v":"7337BK"},"Bubble Gum Popcorn Tin - 3.5 Gallon","RETAIL",0,49.99]
["7337CK",{"$f":"TEXT(Table_Query_from_Great_Plains[[#This Row],[ITEMNMBR]],0)","v":"7337CK"},"Bubble Gum Popcorn Tin - 1 Gallon","RETAIL",0,19.989999999999998]
["7338AK",{"$f":"TEXT(Table_Query_from_Great_Plains[[#This Row],[ITEMNMBR]],0)","v":"7338AK"},"Banana Cream Pie Popcorn Tin - 2 Gallon","RETAIL",0,49.99]
["7338BK",{"$f":"TEXT(Table_Query_from_Great_Plains[[#This Row],[ITEMNMBR]],0)","v":"7338BK"},"Banana Cream Pie Popcorn Tin - 3.5 Gallon","RETAIL",0,59.99]
["7338CK",{"$f":"TEXT(Table_Query_from_Great_Plains[[#This Row],[ITEMNMBR]],0)","v":"7338CK"},"Banana Cream Pie Popcorn Tin - 1 Gallon","RETAIL",0,24.99]
["7339AK",{"$f":"TEXT(Table_Query_from_Great_Plains[[#This Row],[ITEMNMBR]],0)","v":"7339AK"},"Blueberry Graham Popcorn Tin - 2 Gallon","RETAIL",0,49.99]
["7339BK",{"$f":"TEXT(Table_Query_from_Great_Plains[[#This Row],[ITEMNMBR]],0)","v":"7339BK"},"Blueberry Graham Popcorn Tin - 3.5 Gallon","RETAIL",0,59.99]
["7339CK",{"$f":"TEXT(Table_Query_from_Great_Plains[[#This Row],[ITEMNMBR]],0)","v":"7339CK"},"Blueberry Graham Popcorn Tin - 1 Gallon","RETAIL",0,24.99]
["7340AK",{"$f":"TEXT(Table_Query_from_Great_Plains[[#This Row],[ITEMNMBR]],0)","v":"7340AK"},"Coffee Berry Popcorn Tin - 2 Gallon","RETAIL",0,49.99]
["7340BK",{"$f":"TEXT(Table_Query_from_Great_Plains[[#This Row],[ITEMNMBR]],0)","v":"7340BK"},"Coffee Berry Popcorn Tin - 3.5 Gallon","RETAIL",0,59.99]
["7340CK",{"$f":"TEXT(Table_Query_from_Great_Plains[[#This Row],[ITEMNMBR]],0)","v":"7340CK"},"Coffee Berry Popcorn Tin - 1 Gallon","RETAIL",0,24.99]
["7341AK",{"$f":"TEXT(Table_Query_from_Great_Plains[[#This Row],[ITEMNMBR]],0)","v":"7341AK"},"Coffee n' Cream Popcorn Tin - 2 Gallon","RETAIL",0,49.99]
["7341BK",{"$f":"TEXT(Table_Query_from_Great_Plains[[#This Row],[ITEMNMBR]],0)","v":"7341BK"},"Coffee n' Cream Popcorn Tin - 3.5 Gallon","RETAIL",0,59.99]
["7341CK",{"$f":"TEXT(Table_Query_from_Great_Plains[[#This Row],[ITEMNMBR]],0)","v":"7341CK"},"Coffee n' Cream Popcorn Tin - 1 Gallon","RETAIL",0,24.99]
["7342AK",{"$f":"TEXT(Table_Query_from_Great_Plains[[#This Row],[ITEMNMBR]],0)","v":"7342AK"},"Dark Chocolate Chile Popcorn Tin - 2 Gallon","RETAIL",0,49.99]
["7342BK",{"$f":"TEXT(Table_Query_from_Great_Plains[[#This Row],[ITEMNMBR]],0)","v":"7342BK"},"Dark Chocolate Chile Popcorn Tin - 3.5 Gallon","RETAIL",0,59.99]
["7342CK",{"$f":"TEXT(Table_Query_from_Great_Plains[[#This Row],[ITEMNMBR]],0)","v":"7342CK"},"Dark Chocolate Chile Popcorn Tin - 1 Gallon","RETAIL",0,24.99]
["7343AK",{"$f":"TEXT(Table_Query_from_Great_Plains[[#This Row],[ITEMNMBR]],0)","v":"7343AK"},"Key Lime Pie Popcorn Tin - 2 Gallon","RETAIL",0,49.99]
["7343BK",{"$f":"TEXT(Table_Query_from_Great_Plains[[#This Row],[ITEMNMBR]],0)","v":"7343BK"},"Key Lime Pie Popcorn Tin - 3.5 Gallon","RETAIL",0,59.99]
["7343CK",{"$f":"TEXT(Table_Query_from_Great_Plains[[#This Row],[ITEMNMBR]],0)","v":"7343CK"},"Key Lime Pie Popcorn Tin - 1 Gallon","RETAIL",0,24.99]
["7344AK",{"$f":"TEXT(Table_Query_from_Great_Plains[[#This Row],[ITEMNMBR]],0)","v":"7344AK"},"Granite State Maple Popcorn Tin - 2 Gallon","RETAIL",0,49.99]
["7344BK",{"$f":"TEXT(Table_Query_from_Great_Plains[[#This Row],[ITEMNMBR]],0)","v":"7344BK"},"Granite State Maple Popcorn Tin - 3.5 Gallon","RETAIL",0,59.99]
["7344CK",{"$f":"TEXT(Table_Query_from_Great_Plains[[#This Row],[ITEMNMBR]],0)","v":"7344CK"},"Granite State Maple Popcorn Tin - 1 Gallon","RETAIL",0,24.99]
["7345AK",{"$f":"TEXT(Table_Query_from_Great_Plains[[#This Row],[ITEMNMBR]],0)","v":"7345AK"},"Island Coconut Popcorn Tin - 2 Gallon","RETAIL",0,49.99]
["7345BK",{"$f":"TEXT(Table_Query_from_Great_Plains[[#This Row],[ITEMNMBR]],0)","v":"7345BK"},"Island Coconut Popcorn Tin - 3.5 Gallon","RETAIL",0,59.99]
["7345CK",{"$f":"TEXT(Table_Query_from_Great_Plains[[#This Row],[ITEMNMBR]],0)","v":"7345CK"},"Island Coconut Popcorn Tin - 1 Gallon","RETAIL",0,24.99]
["7346AK",{"$f":"TEXT(Table_Query_from_Great_Plains[[#This Row],[ITEMNMBR]],0)","v":"7346AK"},"Eggnog Popcorn Tin - 2 Gallon","RETAIL",0,49.99]
["7346BK",{"$f":"TEXT(Table_Query_from_Great_Plains[[#This Row],[ITEMNMBR]],0)","v":"7346BK"},"Eggnog Popcorn Tin - 3.5 Gallon","RETAIL",0,59.99]
["7346CK",{"$f":"TEXT(Table_Query_from_Great_Plains[[#This Row],[ITEMNMBR]],0)","v":"7346CK"},"Eggnog Popcorn Tin - 1 Gallon","RETAIL",0,24.99]
["7347AK",{"$f":"TEXT(Table_Query_from_Great_Plains[[#This Row],[ITEMNMBR]],0)","v":"7347AK"},"Dark Chocolate Cherry Popcorn Tin - 2 Gallon","RETAIL",0,49.99]
["7347BK",{"$f":"TEXT(Table_Query_from_Great_Plains[[#This Row],[ITEMNMBR]],0)","v":"7347BK"},"Dark Chocolate Cherry Popcorn Tin - 3.5 Gallon","RETAIL",0,59.99]
["7347CK",{"$f":"TEXT(Table_Query_from_Great_Plains[[#This Row],[ITEMNMBR]],0)","v":"7347CK"},"Dark Chocolate Cherry Popcorn Tin - 1 Gallon","RETAIL",0,24.99]
["7348AK",{"$f":"TEXT(Table_Query_from_Great_Plains[[#This Row],[ITEMNMBR]],0)","v":"7348AK"},"Mint Chocolate Chip Popcorn Tin - 2 Gallon","RETAIL",0,49.99]
["7348BK",{"$f":"TEXT(Table_Query_from_Great_Plains[[#This Row],[ITEMNMBR]],0)","v":"7348BK"},"Mint Chocolate Chip Popcorn Tin - 3.5 Gallon","RETAIL",0,59.99]
["7348CK",{"$f":"TEXT(Table_Query_from_Great_Plains[[#This Row],[ITEMNMBR]],0)","v":"7348CK"},"Mint Chocolate Chip Popcorn Tin - 1 Gallon","RETAIL",0,24.99]
["7349AK",{"$f":"TEXT(Table_Query_from_Great_Plains[[#This Row],[ITEMNMBR]],0)","v":"7349AK"},"White Chocolate Cranberry Popcorn Tin - 2 Gallon","RETAIL",0,49.99]
["7349BK",{"$f":"TEXT(Table_Query_from_Great_Plains[[#This Row],[ITEMNMBR]],0)","v":"7349BK"},"White Chocolate Cranberry Popcorn Tin - 3.5 Gallon","RETAIL",0,59.99]
["7349CK",{"$f":"TEXT(Table_Query_from_Great_Plains[[#This Row],[ITEMNMBR]],0)","v":"7349CK"},"White Chocolate Cranberry Popcorn Tin - 1 Gallon","RETAIL",0,24.99]
["7350AK",{"$f":"TEXT(Table_Query_from_Great_Plains[[#This Row],[ITEMNMBR]],0)","v":"7350AK"},"Cookies & Cream Popcorn Tin - 2 Gallon","RETAIL",0,49.99]
["7350BK",{"$f":"TEXT(Table_Query_from_Great_Plains[[#This Row],[ITEMNMBR]],0)","v":"7350BK"},"Cookies & Cream Popcorn Tin - 3.5 Gallon","RETAIL",0,59.99]
["7350CK",{"$f":"TEXT(Table_Query_from_Great_Plains[[#This Row],[ITEMNMBR]],0)","v":"7350CK"},"Cookies & Cream Popcorn Tin - 1 Gallon","RETAIL",0,24.99]
["7351AK",{"$f":"TEXT(Table_Query_from_Great_Plains[[#This Row],[ITEMNMBR]],0)","v":"7351AK"},"Mint Cookie Mayhem Popcorn Tin - 2 Gallon","RETAIL",0,49.99]
["7351BK",{"$f":"TEXT(Table_Query_from_Great_Plains[[#This Row],[ITEMNMBR]],0)","v":"7351BK"},"Mint Cookie Mayhem Popcorn Tin - 3.5 Gallon","RETAIL",0,59.99]
["7351CK",{"$f":"TEXT(Table_Query_from_Great_Plains[[#This Row],[ITEMNMBR]],0)","v":"7351CK"},"Mint Cookie Mayhem Popcorn Tin - 1 Gallon","RETAIL",0,24.99]
["7352AK",{"$f":"TEXT(Table_Query_from_Great_Plains[[#This Row],[ITEMNMBR]],0)","v":"7352AK"},"Peanut Butter Cup Popcorn Tin - 2 Gallon","RETAIL",0,49.99]
["7352BK",{"$f":"TEXT(Table_Query_from_Great_Plains[[#This Row],[ITEMNMBR]],0)","v":"7352BK"},"Peanut Butter Cup Popcorn Tin - 3.5 Gallon","RETAIL",0,59.99]
["7352CK",{"$f":"TEXT(Table_Query_from_Great_Plains[[#This Row],[ITEMNMBR]],0)","v":"7352CK"},"Peanut Butter Cup Popcorn Tin - 1 Gallon","RETAIL",0,24.99]
["7353AK",{"$f":"TEXT(Table_Query_from_Great_Plains[[#This Row],[ITEMNMBR]],0)","v":"7353AK"},"Pina Colada Popcorn Tin - 2 Gallon","RETAIL",0,49.99]
["7353BK",{"$f":"TEXT(Table_Query_from_Great_Plains[[#This Row],[ITEMNMBR]],0)","v":"7353BK"},"Pina Colada Popcorn Tin - 3.5 Gallon","RETAIL",0,59.99]
["7353CK",{"$f":"TEXT(Table_Query_from_Great_Plains[[#This Row],[ITEMNMBR]],0)","v":"7353CK"},"Pina Colada Popcorn Tin - 1 Gallon","RETAIL",0,24.99]
["7354AK",{"$f":"TEXT(Table_Query_from_Great_Plains[[#This Row],[ITEMNMBR]],0)","v":"7354AK"},"Salted Chocolate Popcorn Tin - 2 Gallon","RETAIL",0,49.99]
["7354BK",{"$f":"TEXT(Table_Query_from_Great_Plains[[#This Row],[ITEMNMBR]],0)","v":"7354BK"},"Salted Chocolate Popcorn Tin - 3.5 Gallon","RETAIL",0,59.99]
["7354CK",{"$f":"TEXT(Table_Query_from_Great_Plains[[#This Row],[ITEMNMBR]],0)","v":"7354CK"},"Salted Chocolate Popcorn Tin - 1 Gallon","RETAIL",0,24.99]
["7355AK",{"$f":"TEXT(Table_Query_from_Great_Plains[[#This Row],[ITEMNMBR]],0)","v":"7355AK"},"Strawberry Cheesecake Popcorn Tin - 2 Gallon","RETAIL",0,49.99]
["7355BK",{"$f":"TEXT(Table_Query_from_Great_Plains[[#This Row],[ITEMNMBR]],0)","v":"7355BK"},"Strawberry Cheesecake Popcorn Tin - 3.5 Gallon","RETAIL",0,59.99]
["7355CK",{"$f":"TEXT(Table_Query_from_Great_Plains[[#This Row],[ITEMNMBR]],0)","v":"7355CK"},"Strawberry Cheesecake Popcorn Tin - 1 Gallon","RETAIL",0,19.989999999999998]
["7356AK",{"$f":"TEXT(Table_Query_from_Great_Plains[[#This Row],[ITEMNMBR]],0)","v":"7356AK"},"Toasted Coconut Crunch Popcorn Tin - 2 Gallon","RETAIL",0,49.99]
["7356BK",{"$f":"TEXT(Table_Query_from_Great_Plains[[#This Row],[ITEMNMBR]],0)","v":"7356BK"},"Toasted Coconut Crunch Popcorn Tin - 3.5 Gallon","RETAIL",0,59.99]
["7356CK",{"$f":"TEXT(Table_Query_from_Great_Plains[[#This Row],[ITEMNMBR]],0)","v":"7356CK"},"Toasted Coconut Crunch Popcorn Tin - 1 Gallon","RETAIL",0,24.99]
["7357AK",{"$f":"TEXT(Table_Query_from_Great_Plains[[#This Row],[ITEMNMBR]],0)","v":"7357AK"},"White Chocolate Pineapple Popcorn Tin - 2 Gallon","RETAIL",0,49.99]
["7357BK",{"$f":"TEXT(Table_Query_from_Great_Plains[[#This Row],[ITEMNMBR]],0)","v":"7357BK"},"White Chocolate Pineapple Popcorn Tin - 3.5 Gallon","RETAIL",0,59.99]
["7357CK",{"$f":"TEXT(Table_Query_from_Great_Plains[[#This Row],[ITEMNMBR]],0)","v":"7357CK"},"White Chocolate Pineapple Popcorn Tin - 1 Gallon","RETAIL",0,24.99]
["7358AK",{"$f":"TEXT(Table_Query_from_Great_Plains[[#This Row],[ITEMNMBR]],0)","v":"7358AK"},"Champagne & Strawberries Popcorn Tin - 2 Gallon","RETAIL",0,49.99]
["7358BK",{"$f":"TEXT(Table_Query_from_Great_Plains[[#This Row],[ITEMNMBR]],0)","v":"7358BK"},"Champagne & Strawberries Popcorn Tin - 3.5 Gallon","RETAIL",0,59.99]
["7358CK",{"$f":"TEXT(Table_Query_from_Great_Plains[[#This Row],[ITEMNMBR]],0)","v":"7358CK"},"Champagne & Strawberries Popcorn Tin - 1 Gallon","RETAIL",0,24.99]
["7359AK",{"$f":"TEXT(Table_Query_from_Great_Plains[[#This Row],[ITEMNMBR]],0)","v":"7359AK"},"Funky Monkey Popcorn Tin - 2 Gallon","RETAIL",0,49.99]
["7359BK",{"$f":"TEXT(Table_Query_from_Great_Plains[[#This Row],[ITEMNMBR]],0)","v":"7359BK"},"Funky Monkey Popcorn Tin - 3.5 Gallon","RETAIL",0,59.99]
["7359CK",{"$f":"TEXT(Table_Query_from_Great_Plains[[#This Row],[ITEMNMBR]],0)","v":"7359CK"},"Funky Monkey Popcorn Tin - 1 Gallon","RETAIL",0,24.99]
["7360AK",{"$f":"TEXT(Table_Query_from_Great_Plains[[#This Row],[ITEMNMBR]],0)","v":"7360AK"},"Smore's Popcorn Tin - 2 Gallon","RETAIL",0,49.99]
["7360BK",{"$f":"TEXT(Table_Query_from_Great_Plains[[#This Row],[ITEMNMBR]],0)","v":"7360BK"},"Smore's Popcorn Tin - 3.5 Gallon","RETAIL",0,59.99]
["7360CK",{"$f":"TEXT(Table_Query_from_Great_Plains[[#This Row],[ITEMNMBR]],0)","v":"7360CK"},"Smore's Popcorn Tin - 1 Gallon","RETAIL",0,24.99]
["7361AK",{"$f":"TEXT(Table_Query_from_Great_Plains[[#This Row],[ITEMNMBR]],0)","v":"7361AK"},"Cinnamon Roll Popcorn Tin - 2 Gallon","RETAIL",0,49.99]
["7361BK",{"$f":"TEXT(Table_Query_from_Great_Plains[[#This Row],[ITEMNMBR]],0)","v":"7361BK"},"Cinnamon Roll Popcorn Tin - 3.5 Gallon","RETAIL",0,59.99]
["7361CK",{"$f":"TEXT(Table_Query_from_Great_Plains[[#This Row],[ITEMNMBR]],0)","v":"7361CK"},"Cinnamon Roll Popcorn Tin - 1 Gallon","RETAIL",0,24.99]
["7362AK",{"$f":"TEXT(Table_Query_from_Great_Plains[[#This Row],[ITEMNMBR]],0)","v":"7362AK"},"Birthday Cake Popcorn Tin - 2 Gallon","RETAIL",0,49.99]
["7362BK",{"$f":"TEXT(Table_Query_from_Great_Plains[[#This Row],[ITEMNMBR]],0)","v":"7362BK"},"Birthday Cake Popcorn Tin - 3.5 Gallon","RETAIL",0,59.99]
["7362CK",{"$f":"TEXT(Table_Query_from_Great_Plains[[#This Row],[ITEMNMBR]],0)","v":"7362CK"},"Birthday Cake Popcorn Tin - 1 Gallon","RETAIL",0,24.99]
["7363AK",{"$f":"TEXT(Table_Query_from_Great_Plains[[#This Row],[ITEMNMBR]],0)","v":"7363AK"},"Dark Chocolate Drizzle Caramel Popcorn Tin - 2 Gallon","RETAIL",0,49.99]
["7363BK",{"$f":"TEXT(Table_Query_from_Great_Plains[[#This Row],[ITEMNMBR]],0)","v":"7363BK"},"Dark Chocolate Drizzle Caramel Popcorn Tin - 3.5 Gallon","RETAIL",0,59.99]
["7363CK",{"$f":"TEXT(Table_Query_from_Great_Plains[[#This Row],[ITEMNMBR]],0)","v":"7363CK"},"Dark Chocolate Drizzle Caramel Popcorn Tin - 1 Gallon","RETAIL",0,24.99]
["7364AK",{"$f":"TEXT(Table_Query_from_Great_Plains[[#This Row],[ITEMNMBR]],0)","v":"7364AK"},"Milk Chocolate Drizzle Caramel Popcorn Tin - 2 Gallon","RETAIL",0,49.99]
["7364BK",{"$f":"TEXT(Table_Query_from_Great_Plains[[#This Row],[ITEMNMBR]],0)","v":"7364BK"},"Milk Chocolate Drizzle Caramel Popcorn Tin - 3.5 Gallon","RETAIL",0,59.99]
["7364CK",{"$f":"TEXT(Table_Query_from_Great_Plains[[#This Row],[ITEMNMBR]],0)","v":"7364CK"},"Milk Chocolate Drizzle Caramel Popcorn Tin - 1 Gallon","RETAIL",0,24.99]
["7365AK",{"$f":"TEXT(Table_Query_from_Great_Plains[[#This Row],[ITEMNMBR]],0)","v":"7365AK"},"Salted Chocolate Drizzle Caramel Popcorn Tin - 2 Gallon","RETAIL",0,49.99]
["7365BK",{"$f":"TEXT(Table_Query_from_Great_Plains[[#This Row],[ITEMNMBR]],0)","v":"7365BK"},"Salted Chocolate Drizzle Caramel Popcorn Tin - 3.5 Gallon","RETAIL",0,59.99]
["7365CK",{"$f":"TEXT(Table_Query_from_Great_Plains[[#This Row],[ITEMNMBR]],0)","v":"7365CK"},"Salted Chocolate Drizzle Caramel Popcorn Tin - 1 Gallon","RETAIL",0,24.99]
["7366AK",{"$f":"TEXT(Table_Query_from_Great_Plains[[#This Row],[ITEMNMBR]],0)","v":"7366AK"},"Tuxedo (Dark & White Chocolate Drizzle Caramel Popcorn Tin - 2 Gallon","RETAIL",0,49.99]
["7366BK",{"$f":"TEXT(Table_Query_from_Great_Plains[[#This Row],[ITEMNMBR]],0)","v":"7366BK"},"Tuxedo (Dark & White Chocolate Drizzle Caramel Popcorn Tin - 3.5 Gallon","RETAIL",0,59.99]
["7366CK",{"$f":"TEXT(Table_Query_from_Great_Plains[[#This Row],[ITEMNMBR]],0)","v":"7366CK"},"Tuxedo (Dark & White Chocolate Drizzle Caramel Popcorn Tin - 1 Gallon","RETAIL",0,24.99]
["7367AK",{"$f":"TEXT(Table_Query_from_Great_Plains[[#This Row],[ITEMNMBR]],0)","v":"7367AK"},"White Chocolate Caramel Popcorn Tin - 2 Gallon","RETAIL",0,49.99]
["7367BK",{"$f":"TEXT(Table_Query_from_Great_Plains[[#This Row],[ITEMNMBR]],0)","v":"7367BK"},"White Chocolate Caramel Popcorn Tin - 3.5 Gallon","RETAIL",0,59.99]
["7367CK",{"$f":"TEXT(Table_Query_from_Great_Plains[[#This Row],[ITEMNMBR]],0)","v":"7367CK"},"White Chocolate Caramel Popcorn Tin - 1 Gallon","RETAIL",0,24.99]
["7368AK",{"$f":"TEXT(Table_Query_from_Great_Plains[[#This Row],[ITEMNMBR]],0)","v":"7368AK"},"Turtle Popcorn Tin - 2 Gallon","RETAIL",0,49.99]
["7368BK",{"$f":"TEXT(Table_Query_from_Great_Plains[[#This Row],[ITEMNMBR]],0)","v":"7368BK"},"Turtle Popcorn Tin - 3.5 Gallon","RETAIL",0,59.99]
["7368CK",{"$f":"TEXT(Table_Query_from_Great_Plains[[#This Row],[ITEMNMBR]],0)","v":"7368CK"},"Turtle Popcorn Tin - 1 Gallon","RETAIL",0,24.99]
["7369AK",{"$f":"TEXT(Table_Query_from_Great_Plains[[#This Row],[ITEMNMBR]],0)","v":"7369AK"},"Caramel Apple Popcorn Tin - 2 Gallon","RETAIL",0,49.99]
["7369BK",{"$f":"TEXT(Table_Query_from_Great_Plains[[#This Row],[ITEMNMBR]],0)","v":"7369BK"},"Caramel Apple Popcorn Tin - 3.5 Gallon","RETAIL",0,59.99]
["7369CK",{"$f":"TEXT(Table_Query_from_Great_Plains[[#This Row],[ITEMNMBR]],0)","v":"7369CK"},"Caramel Apple Popcorn Tin - 1 Gallon","RETAIL",0,24.99]
["7370AK",{"$f":"TEXT(Table_Query_from_Great_Plains[[#This Row],[ITEMNMBR]],0)","v":"7370AK"},"Ketchup Popcorn Tin - 2 Gallon","RETAIL",0,39.99]
["7370BK",{"$f":"TEXT(Table_Query_from_Great_Plains[[#This Row],[ITEMNMBR]],0)","v":"7370BK"},"Ketchup Popcorn Tin - 3.5 Gallon","RETAIL",0,49.99]
["7370CK",{"$f":"TEXT(Table_Query_from_Great_Plains[[#This Row],[ITEMNMBR]],0)","v":"7370CK"},"Ketchup Popcorn Tin - 1 Gallon","RETAIL",0,19.989999999999998]
["7371AK",{"$f":"TEXT(Table_Query_from_Great_Plains[[#This Row],[ITEMNMBR]],0)","v":"7371AK"},"Creamy Dill Popcorn Tin - 2 Gallon","RETAIL",0,39.99]
["7371BK",{"$f":"TEXT(Table_Query_from_Great_Plains[[#This Row],[ITEMNMBR]],0)","v":"7371BK"},"Creamy Dill Popcorn Tin - 3.5 Gallon","RETAIL",0,49.99]
["7371CK",{"$f":"TEXT(Table_Query_from_Great_Plains[[#This Row],[ITEMNMBR]],0)","v":"7371CK"},"Creamy Dill Popcorn Tin - 1 Gallon","RETAIL",0,19.989999999999998]
["7372AK",{"$f":"TEXT(Table_Query_from_Great_Plains[[#This Row],[ITEMNMBR]],0)","v":"7372AK"},"Sweet Onion Popcorn Tin - 2 Gallon","RETAIL",0,39.99]
["7372BK",{"$f":"TEXT(Table_Query_from_Great_Plains[[#This Row],[ITEMNMBR]],0)","v":"7372BK"},"Sweet Onion Popcorn Tin - 3.5 Gallon","RETAIL",0,49.99]
["7372CK",{"$f":"TEXT(Table_Query_from_Great_Plains[[#This Row],[ITEMNMBR]],0)","v":"7372CK"},"Sweet Onion Popcorn Tin - 1 Gallon","RETAIL",0,19.989999999999998]
["7373AK",{"$f":"TEXT(Table_Query_from_Great_Plains[[#This Row],[ITEMNMBR]],0)","v":"7373AK"},"Hickory Maple Bacon Popcorn Tin - 2 Gallon","RETAIL",0,39.99]
["7373BK",{"$f":"TEXT(Table_Query_from_Great_Plains[[#This Row],[ITEMNMBR]],0)","v":"7373BK"},"Hickory Maple Bacon Popcorn Tin - 3.5 Gallon","RETAIL",0,49.99]
["7373CK",{"$f":"TEXT(Table_Query_from_Great_Plains[[#This Row],[ITEMNMBR]],0)","v":"7373CK"},"Hickory Maple Bacon Popcorn Tin - 1 Gallon","RETAIL",0,19.989999999999998]
["7400",{"$f":"TEXT(Table_Query_from_Great_Plains[[#This Row],[ITEMNMBR]],0)","v":"7400"},"Critics Choice Gourmet Popcorn Sampler -","RETAIL",0,34.99]
["7400CE",{"$f":"TEXT(Table_Query_from_Great_Plains[[#This Row],[ITEMNMBR]],0)","v":"7400CE"},"Critics Choice Gourmet Popcorn Sampler -","RETAIL",0,34.99]
["7400K",{"$f":"TEXT(Table_Query_from_Great_Plains[[#This Row],[ITEMNMBR]],0)","v":"7400K"},"Critics Choice Gourmet Popcorn Sampler -","RETAIL",0,34.99]
["7401",{"$f":"TEXT(Table_Query_from_Great_Plains[[#This Row],[ITEMNMBR]],0)","v":"7401"},"Fruit Fusion Popcorn Sampler - 9 Flavors","RETAIL",0,34.99]
["7401K",{"$f":"TEXT(Table_Query_from_Great_Plains[[#This Row],[ITEMNMBR]],0)","v":"7401K"},"Fruit Fusion Popcorn Sampler - 9 Flavors","RETAIL",0,34.99]
["7402",{"$f":"TEXT(Table_Query_from_Great_Plains[[#This Row],[ITEMNMBR]],0)","v":"7402"},"Father's Day Backyard BBQ Popcorn Sampler - 9 Flavors","RETAIL",0,34.99]
["7402K",{"$f":"TEXT(Table_Query_from_Great_Plains[[#This Row],[ITEMNMBR]],0)","v":"7402K"},"Father's Day Backyard BBQ Popcorn Sampler - 9 Flavors","RETAIL",0,34.99]
["7403",{"$f":"TEXT(Table_Query_from_Great_Plains[[#This Row],[ITEMNMBR]],0)","v":"7403"},"Backyard BBQ Popcorn Sampler -","RETAIL",0,34.99]
["7403K",{"$f":"TEXT(Table_Query_from_Great_Plains[[#This Row],[ITEMNMBR]],0)","v":"7403K"},"Backyard BBQ Popcorn Sampler -","RETAIL",0,34.99]
["7404",{"$f":"TEXT(Table_Query_from_Great_Plains[[#This Row],[ITEMNMBR]],0)","v":"7404"},"Chocolate Popcorn Sampler","RETAIL",0,39.99]
["7404K",{"$f":"TEXT(Table_Query_from_Great_Plains[[#This Row],[ITEMNMBR]],0)","v":"7404K"},"Chocolate Popcorn Sampler","RETAIL",0,39.99]
["7445",{"$f":"TEXT(Table_Query_from_Great_Plains[[#This Row],[ITEMNMBR]],0)","v":"7445"},"Thanksgiving Popcorn Feast","RETAIL",0,34.99]
["7445K",{"$f":"TEXT(Table_Query_from_Great_Plains[[#This Row],[ITEMNMBR]],0)","v":"7445K"},"Thanksgiving Popcorn Feast","RETAIL",0,39.99]
["7450",{"$f":"TEXT(Table_Query_from_Great_Plains[[#This Row],[ITEMNMBR]],0)","v":"7450"},"Holiday Gourmet  Popcorn Sampler","RETAIL",0,39.99]
["7450K",{"$f":"TEXT(Table_Query_from_Great_Plains[[#This Row],[ITEMNMBR]],0)","v":"7450K"},"Holiday Gourmet Popcorn Sampler","RETAIL",0,39.99]
["8001",{"$f":"TEXT(Table_Query_from_Great_Plains[[#This Row],[ITEMNMBR]],0)","v":"8001"},"Gourmet Cheesecake Sampler - 9 Inch","RETAIL",0,49.99]
["8001CC",{"$f":"TEXT(Table_Query_from_Great_Plains[[#This Row],[ITEMNMBR]],0)","v":"8001CC"},"Gourmet Cheesecake Sampler - 9 Inch","RETAIL",0,49.99]
["8002",{"$f":"TEXT(Table_Query_from_Great_Plains[[#This Row],[ITEMNMBR]],0)","v":"8002"},"Amaretto Cheesecake - 9 Inch","RETAIL",0,42.99]
["8002CC",{"$f":"TEXT(Table_Query_from_Great_Plains[[#This Row],[ITEMNMBR]],0)","v":"8002CC"},"Amaretto Cheesecake - 9 Inch","RETAIL",0,42.99]
["8003",{"$f":"TEXT(Table_Query_from_Great_Plains[[#This Row],[ITEMNMBR]],0)","v":"8003"},"Creme Brulee Cheesecake - 9 Inch","RETAIL",0,42.99]
["8003CC",{"$f":"TEXT(Table_Query_from_Great_Plains[[#This Row],[ITEMNMBR]],0)","v":"8003CC"},"Creme Brulee Cheesecake - 9 Inch","RETAIL",0,42.99]
["8004",{"$f":"TEXT(Table_Query_from_Great_Plains[[#This Row],[ITEMNMBR]],0)","v":"8004"},"New York Cheesecake - 9 Inch","RETAIL",0,42.99]
["8004CC",{"$f":"TEXT(Table_Query_from_Great_Plains[[#This Row],[ITEMNMBR]],0)","v":"8004CC"},"New York Cheesecake - 9 Inch","RETAIL",0,42.99]
["8005",{"$f":"TEXT(Table_Query_from_Great_Plains[[#This Row],[ITEMNMBR]],0)","v":"8005"},"Praline Cheesecake - 9 Inch","RETAIL",0,42.99]
["8005CC",{"$f":"TEXT(Table_Query_from_Great_Plains[[#This Row],[ITEMNMBR]],0)","v":"8005CC"},"Praline Cheesecake - 9 Inch","RETAIL",0,42.99]
["8006",{"$f":"TEXT(Table_Query_from_Great_Plains[[#This Row],[ITEMNMBR]],0)","v":"8006"},"Raspberry Swirl Cheesecake - 9 Inch","RETAIL",0,42.99]
["8006CC",{"$f":"TEXT(Table_Query_from_Great_Plains[[#This Row],[ITEMNMBR]],0)","v":"8006CC"},"Raspberry Swirl Cheesecake - 9 Inch","RETAIL",0,42.99]
["8007",{"$f":"TEXT(Table_Query_from_Great_Plains[[#This Row],[ITEMNMBR]],0)","v":"8007"},"Strawberry Cheesecake - 9 Inch","RETAIL",0,42.99]
["8007CC",{"$f":"TEXT(Table_Query_from_Great_Plains[[#This Row],[ITEMNMBR]],0)","v":"8007CC"},"Strawberry Cheesecake - 9 Inch","RETAIL",0,42.99]
["8008",{"$f":"TEXT(Table_Query_from_Great_Plains[[#This Row],[ITEMNMBR]],0)","v":"8008"},"Turtle Cheesecake - 9 Inch","RETAIL",0,42.99]
["8008CC",{"$f":"TEXT(Table_Query_from_Great_Plains[[#This Row],[ITEMNMBR]],0)","v":"8008CC"},"Turtle Cheesecake - 9 Inch","RETAIL",0,42.99]
["8009",{"$f":"TEXT(Table_Query_from_Great_Plains[[#This Row],[ITEMNMBR]],0)","v":"8009"},"White Chocolate Cheesecake - 9 Inch","RETAIL",0,42.99]
["8009CC",{"$f":"TEXT(Table_Query_from_Great_Plains[[#This Row],[ITEMNMBR]],0)","v":"8009CC"},"White Chocolate Cheesecake - 9 Inch","RETAIL",0,42.99]
["8010",{"$f":"TEXT(Table_Query_from_Great_Plains[[#This Row],[ITEMNMBR]],0)","v":"8010"},"Presidents Choice Sampler - 9 inch","RETAIL",0,54.99]
["8010CC",{"$f":"TEXT(Table_Query_from_Great_Plains[[#This Row],[ITEMNMBR]],0)","v":"8010CC"},"Presidents Choice Sampler - 9 inch","RETAIL",0,54.99]
["8011",{"$f":"TEXT(Table_Query_from_Great_Plains[[#This Row],[ITEMNMBR]],0)","v":"8011"},"Chocolate Lovers Sampler - 9 inch","RETAIL",0,49.99]
["8011CC",{"$f":"TEXT(Table_Query_from_Great_Plains[[#This Row],[ITEMNMBR]],0)","v":"8011CC"},"Chocolate Lovers Sampler - 9 inch","RETAIL",0,49.99]
["8012",{"$f":"TEXT(Table_Query_from_Great_Plains[[#This Row],[ITEMNMBR]],0)","v":"8012"},"Fruit Sampler - 9 Inch","RETAIL",0,49.99]
["8012CC",{"$f":"TEXT(Table_Query_from_Great_Plains[[#This Row],[ITEMNMBR]],0)","v":"8012CC"},"Fruit Sampler - 9 Inch","RETAIL",0,49.99]
["8013",{"$f":"TEXT(Table_Query_from_Great_Plains[[#This Row],[ITEMNMBR]],0)","v":"8013"},"Happy Hour Sampler - 9 inch","RETAIL",0,49.99]
["8013CC",{"$f":"TEXT(Table_Query_from_Great_Plains[[#This Row],[ITEMNMBR]],0)","v":"8013CC"},"Happy Hour Sampler - 9 inch","RETAIL",0,49.99]
["8014",{"$f":"TEXT(Table_Query_from_Great_Plains[[#This Row],[ITEMNMBR]],0)","v":"8014"},"Tropical Sampler - 9 inch","RETAIL",0,49.99]
["8014CC",{"$f":"TEXT(Table_Query_from_Great_Plains[[#This Row],[ITEMNMBR]],0)","v":"8014CC"},"Tropical Sampler - 9 inch","RETAIL",0,49.99]
["8015",{"$f":"TEXT(Table_Query_from_Great_Plains[[#This Row],[ITEMNMBR]],0)","v":"8015"},"Banana Cream Cheesecake - 9 inch","RETAIL",0,42.99]
["8015CC",{"$f":"TEXT(Table_Query_from_Great_Plains[[#This Row],[ITEMNMBR]],0)","v":"8015CC"},"Banana Cream Cheesecake - 9 inch","RETAIL",0,42.99]
["8016",{"$f":"TEXT(Table_Query_from_Great_Plains[[#This Row],[ITEMNMBR]],0)","v":"8016"},"Blood Orange Cheesecake - 9 inch","RETAIL",0,42.99]
["8016CC",{"$f":"TEXT(Table_Query_from_Great_Plains[[#This Row],[ITEMNMBR]],0)","v":"8016CC"},"Blood Orange Cheesecake - 9 inch","RETAIL",0,42.99]
["8017",{"$f":"TEXT(Table_Query_from_Great_Plains[[#This Row],[ITEMNMBR]],0)","v":"8017"},"Cappuccino Cheesecake - 9 inch","RETAIL",0,42.99]
["8017CC",{"$f":"TEXT(Table_Query_from_Great_Plains[[#This Row],[ITEMNMBR]],0)","v":"8017CC"},"Cappuccino Cheesecake - 9 inch","RETAIL",0,42.99]
["8018",{"$f":"TEXT(Table_Query_from_Great_Plains[[#This Row],[ITEMNMBR]],0)","v":"8018"},"Caramel Apple Crunch Cheesecake - 9 inch","RETAIL",0,42.99]
["8018CC",{"$f":"TEXT(Table_Query_from_Great_Plains[[#This Row],[ITEMNMBR]],0)","v":"8018CC"},"Caramel Apple Crunch Cheesecake - 9 inch","RETAIL",0,42.99]
["8019",{"$f":"TEXT(Table_Query_from_Great_Plains[[#This Row],[ITEMNMBR]],0)","v":"8019"},"Cherry Almond Cheesecake - 9 inch","RETAIL",0,42.99]
["8019CC",{"$f":"TEXT(Table_Query_from_Great_Plains[[#This Row],[ITEMNMBR]],0)","v":"8019CC"},"Cherry Almond Cheesecake - 9 inch","RETAIL",0,42.99]
["8020",{"$f":"TEXT(Table_Query_from_Great_Plains[[#This Row],[ITEMNMBR]],0)","v":"8020"},"Chocolate Cabernet Truffle Cheesecake - 9 inch","RETAIL",0,42.99]
["8020CC",{"$f":"TEXT(Table_Query_from_Great_Plains[[#This Row],[ITEMNMBR]],0)","v":"8020CC"},"Chocolate Cabernet Truffle Cheesecake - 9 inch","RETAIL",0,42.99]
["8021",{"$f":"TEXT(Table_Query_from_Great_Plains[[#This Row],[ITEMNMBR]],0)","v":"8021"},"Chocolate Raspberry Cheesecake - 9 inch","RETAIL",0,42.99]
["8021CC",{"$f":"TEXT(Table_Query_from_Great_Plains[[#This Row],[ITEMNMBR]],0)","v":"8021CC"},"Chocolate Raspberry Cheesecake - 9 inch","RETAIL",0,42.99]
["8022",{"$f":"TEXT(Table_Query_from_Great_Plains[[#This Row],[ITEMNMBR]],0)","v":"8022"},"Chocolate Swirl Cheesecake - 9 inch","RETAIL",0,42.99]
["8022CC",{"$f":"TEXT(Table_Query_from_Great_Plains[[#This Row],[ITEMNMBR]],0)","v":"8022CC"},"Chocolate Swirl Cheesecake - 9 inch","RETAIL",0,42.99]
["8023",{"$f":"TEXT(Table_Query_from_Great_Plains[[#This Row],[ITEMNMBR]],0)","v":"8023"},"Coconut Cheesecake - 9 inch","RETAIL",0,42.99]
["8023CC",{"$f":"TEXT(Table_Query_from_Great_Plains[[#This Row],[ITEMNMBR]],0)","v":"8023CC"},"Coconut Cheesecake - 9 inch","RETAIL",0,42.99]
["8024",{"$f":"TEXT(Table_Query_from_Great_Plains[[#This Row],[ITEMNMBR]],0)","v":"8024"},"Cookies & Cream Cheesecake - 9 inch","RETAIL",0,42.99]
["8024CC",{"$f":"TEXT(Table_Query_from_Great_Plains[[#This Row],[ITEMNMBR]],0)","v":"8024CC"},"Cookies & Cream Cheesecake - 9 inch","RETAIL",0,42.99]
["8025",{"$f":"TEXT(Table_Query_from_Great_Plains[[#This Row],[ITEMNMBR]],0)","v":"8025"},"Dulce De Leche Cheesecake - 9 inch","RETAIL",0,42.99]
["8025CC",{"$f":"TEXT(Table_Query_from_Great_Plains[[#This Row],[ITEMNMBR]],0)","v":"8025CC"},"Dulce De Leche Cheesecake - 9 inch","RETAIL",0,42.99]
["8026",{"$f":"TEXT(Table_Query_from_Great_Plains[[#This Row],[ITEMNMBR]],0)","v":"8026"},"Kahlua Almond Cheesecake - 9 Inch","RETAIL",0,42.99]
["8026CC",{"$f":"TEXT(Table_Query_from_Great_Plains[[#This Row],[ITEMNMBR]],0)","v":"8026CC"},"Kahlua Almond Cheesecake - 9 Inch","RETAIL",0,42.99]
["8027",{"$f":"TEXT(Table_Query_from_Great_Plains[[#This Row],[ITEMNMBR]],0)","v":"8027"},"Key Lime Cheesecake - 9 Inch","RETAIL",0,42.99]
["8027CC",{"$f":"TEXT(Table_Query_from_Great_Plains[[#This Row],[ITEMNMBR]],0)","v":"8027CC"},"Key Lime Cheesecake - 9 Inch","RETAIL",0,42.99]
["8028",{"$f":"TEXT(Table_Query_from_Great_Plains[[#This Row],[ITEMNMBR]],0)","v":"8028"},"Lemon Biscotti Cheesecake - 9 Inch","RETAIL",0,42.99]
["8028CC",{"$f":"TEXT(Table_Query_from_Great_Plains[[#This Row],[ITEMNMBR]],0)","v":"8028CC"},"Lemon Biscotti Cheesecake - 9 Inch","RETAIL",0,42.99]
["8029",{"$f":"TEXT(Table_Query_from_Great_Plains[[#This Row],[ITEMNMBR]],0)","v":"8029"},"Marionberry Cheesecake - 9 Inch","RETAIL",0,42.99]
["8029CC",{"$f":"TEXT(Table_Query_from_Great_Plains[[#This Row],[ITEMNMBR]],0)","v":"8029CC"},"Marionberry Cheesecake - 9 Inch","RETAIL",0,42.99]
["8030",{"$f":"TEXT(Table_Query_from_Great_Plains[[#This Row],[ITEMNMBR]],0)","v":"8030"},"Mint Chocolate Chip Cheesecake - 9 Inch","RETAIL",0,42.99]
["8030CC",{"$f":"TEXT(Table_Query_from_Great_Plains[[#This Row],[ITEMNMBR]],0)","v":"8030CC"},"Mint Chocolate Chip Cheesecake - 9 Inch","RETAIL",0,42.99]
["8031",{"$f":"TEXT(Table_Query_from_Great_Plains[[#This Row],[ITEMNMBR]],0)","v":"8031"},"NY Chocolate Fudge Cheesecake - 9 Inch","RETAIL",0,42.99]
["8031CC",{"$f":"TEXT(Table_Query_from_Great_Plains[[#This Row],[ITEMNMBR]],0)","v":"8031CC"},"NY Chocolate Fudge Cheesecake - 9 Inch","RETAIL",0,42.99]
["8032",{"$f":"TEXT(Table_Query_from_Great_Plains[[#This Row],[ITEMNMBR]],0)","v":"8032"},"NY Strawberry Topped Cheesecake - 9 Inch","RETAIL",0,42.99]
["8032CC",{"$f":"TEXT(Table_Query_from_Great_Plains[[#This Row],[ITEMNMBR]],0)","v":"8032CC"},"NY Strawberry Topped Cheesecake - 9 Inch","RETAIL",0,42.99]
["8033",{"$f":"TEXT(Table_Query_from_Great_Plains[[#This Row],[ITEMNMBR]],0)","v":"8033"},"Rocky Road Cheesecake - 9 Inch","RETAIL",0,42.99]
["8033CC",{"$f":"TEXT(Table_Query_from_Great_Plains[[#This Row],[ITEMNMBR]],0)","v":"8033CC"},"Rocky Road Cheesecake - 9 Inch","RETAIL",0,42.99]
["8034",{"$f":"TEXT(Table_Query_from_Great_Plains[[#This Row],[ITEMNMBR]],0)","v":"8034"},"Triple Chocolate Cheesecake - 9 Inch","RETAIL",0,42.99]
["8034CC",{"$f":"TEXT(Table_Query_from_Great_Plains[[#This Row],[ITEMNMBR]],0)","v":"8034CC"},"Triple Chocolate Cheesecake - 9 Inch","RETAIL",0,42.99]
["8035",{"$f":"TEXT(Table_Query_from_Great_Plains[[#This Row],[ITEMNMBR]],0)","v":"8035"},"White Chocolate Swirl Cheesecake - 9 Inch","RETAIL",0,42.99]
["8035CC",{"$f":"TEXT(Table_Query_from_Great_Plains[[#This Row],[ITEMNMBR]],0)","v":"8035CC"},"White Chocolate Swirl Cheesecake - 9 Inch","RETAIL",0,42.99]
["8036",{"$f":"TEXT(Table_Query_from_Great_Plains[[#This Row],[ITEMNMBR]],0)","v":"8036"},"Pumpkin Cheesecake","RETAIL",0,42.99]
["8036CC",{"$f":"TEXT(Table_Query_from_Great_Plains[[#This Row],[ITEMNMBR]],0)","v":"8036CC"},"Pumpkin Cheesecake 8 inch","RETAIL",0,42.99]
["806A",{"$f":"TEXT(Table_Query_from_Great_Plains[[#This Row],[ITEMNMBR]],0)","v":"806A"},"Half Dozen Roses","RETAIL",0,60]
["8101",{"$f":"TEXT(Table_Query_from_Great_Plains[[#This Row],[ITEMNMBR]],0)","v":"8101"},"Gourmet Cheesecake Sampler Cheesecake - 6 inch","RETAIL",0,34.99]
["8101CC",{"$f":"TEXT(Table_Query_from_Great_Plains[[#This Row],[ITEMNMBR]],0)","v":"8101CC"},"Gourmet Cheesecake Sampler Cheesecake - 6 inch","RETAIL",0,34.99]
["8102",{"$f":"TEXT(Table_Query_from_Great_Plains[[#This Row],[ITEMNMBR]],0)","v":"8102"},"Amaretto Cheesecake - 6 Inch","RETAIL",0,29.99]
["8102CC",{"$f":"TEXT(Table_Query_from_Great_Plains[[#This Row],[ITEMNMBR]],0)","v":"8102CC"},"Amaretto Cheesecake - 6 Inch","RETAIL",0,29.99]
["8104",{"$f":"TEXT(Table_Query_from_Great_Plains[[#This Row],[ITEMNMBR]],0)","v":"8104"},"New York Cheesecake - 6 Inch","RETAIL",0,29.99]
["8104CC",{"$f":"TEXT(Table_Query_from_Great_Plains[[#This Row],[ITEMNMBR]],0)","v":"8104CC"},"New York Cheesecake - 6 Inch","RETAIL",0,29.99]
["8106",{"$f":"TEXT(Table_Query_from_Great_Plains[[#This Row],[ITEMNMBR]],0)","v":"8106"},"Raspberry Swirl Cheesecake - 6 Inch","RETAIL",0,29.99]
["8106CC",{"$f":"TEXT(Table_Query_from_Great_Plains[[#This Row],[ITEMNMBR]],0)","v":"8106CC"},"Raspberry Swirl Cheesecake - 6 Inch","RETAIL",0,29.99]
["8107",{"$f":"TEXT(Table_Query_from_Great_Plains[[#This Row],[ITEMNMBR]],0)","v":"8107"},"Strawberry Cheesecake - 6 Inch","RETAIL",0,29.99]
["8107CC",{"$f":"TEXT(Table_Query_from_Great_Plains[[#This Row],[ITEMNMBR]],0)","v":"8107CC"},"Strawberry Cheesecake - 6 Inch","RETAIL",0,29.99]
["8108",{"$f":"TEXT(Table_Query_from_Great_Plains[[#This Row],[ITEMNMBR]],0)","v":"8108"},"Turtle Cheesecake - 6 Inch","RETAIL",0,29.99]
["8108CC",{"$f":"TEXT(Table_Query_from_Great_Plains[[#This Row],[ITEMNMBR]],0)","v":"8108CC"},"Turtle Cheesecake - 6 Inch","RETAIL",0,29.99]
["8111",{"$f":"TEXT(Table_Query_from_Great_Plains[[#This Row],[ITEMNMBR]],0)","v":"8111"},"Chocolate Lovers Sampler - 6 inch","RETAIL",0,34.99]
["8111CC",{"$f":"TEXT(Table_Query_from_Great_Plains[[#This Row],[ITEMNMBR]],0)","v":"8111CC"},"Chocolate Lovers Sampler - 6 inch","RETAIL",0,34.99]
["8112",{"$f":"TEXT(Table_Query_from_Great_Plains[[#This Row],[ITEMNMBR]],0)","v":"8112"},"Fruit Sampler - 6 Inch","RETAIL",0,34.99]
["8112CC",{"$f":"TEXT(Table_Query_from_Great_Plains[[#This Row],[ITEMNMBR]],0)","v":"8112CC"},"Fruit Sampler - 6 Inch","RETAIL",0,34.99]
["8113",{"$f":"TEXT(Table_Query_from_Great_Plains[[#This Row],[ITEMNMBR]],0)","v":"8113"},"Happy Hour Sampler - 6 inch","RETAIL",0,34.99]
["8113CC",{"$f":"TEXT(Table_Query_from_Great_Plains[[#This Row],[ITEMNMBR]],0)","v":"8113CC"},"Happy Hour Sampler - 6 inch","RETAIL",0,34.99]
["8114",{"$f":"TEXT(Table_Query_from_Great_Plains[[#This Row],[ITEMNMBR]],0)","v":"8114"},"Tropical Sampler - 6 inch","RETAIL",0,34.99]
["8114CC",{"$f":"TEXT(Table_Query_from_Great_Plains[[#This Row],[ITEMNMBR]],0)","v":"8114CC"},"Tropical Sampler - 6 inch","RETAIL",0,34.99]
["8115",{"$f":"TEXT(Table_Query_from_Great_Plains[[#This Row],[ITEMNMBR]],0)","v":"8115"},"Banana Cream Cheesecake - 6 inch","RETAIL",0,29.99]
["8115CC",{"$f":"TEXT(Table_Query_from_Great_Plains[[#This Row],[ITEMNMBR]],0)","v":"8115CC"},"Banana Cream Cheesecake - 6 inch","RETAIL",0,29.99]
["8116",{"$f":"TEXT(Table_Query_from_Great_Plains[[#This Row],[ITEMNMBR]],0)","v":"8116"},"Blood Orange Cheesecake - 6 inch","RETAIL",0,29.99]
["8116CC",{"$f":"TEXT(Table_Query_from_Great_Plains[[#This Row],[ITEMNMBR]],0)","v":"8116CC"},"Blood Orange Cheesecake - 6 inch","RETAIL",0,29.99]
["8117",{"$f":"TEXT(Table_Query_from_Great_Plains[[#This Row],[ITEMNMBR]],0)","v":"8117"},"Cappuccino Cheesecake - 6 inch","RETAIL",0,29.99]
["8117CC",{"$f":"TEXT(Table_Query_from_Great_Plains[[#This Row],[ITEMNMBR]],0)","v":"8117CC"},"Cappuccino Cheesecake - 6 inch","RETAIL",0,29.99]
["8118",{"$f":"TEXT(Table_Query_from_Great_Plains[[#This Row],[ITEMNMBR]],0)","v":"8118"},"Caramel Apple Crunch Cheesecake - 6 inch","RETAIL",0,29.99]
["8118CC",{"$f":"TEXT(Table_Query_from_Great_Plains[[#This Row],[ITEMNMBR]],0)","v":"8118CC"},"Caramel Apple Crunch Cheesecake - 6 inch","RETAIL",0,29.99]
["8119",{"$f":"TEXT(Table_Query_from_Great_Plains[[#This Row],[ITEMNMBR]],0)","v":"8119"},"Cherry Almond Cheesecake - 6 inch","RETAIL",0,29.99]
["8119CC",{"$f":"TEXT(Table_Query_from_Great_Plains[[#This Row],[ITEMNMBR]],0)","v":"8119CC"},"Cherry Almond Cheesecake - 6 inch","RETAIL",0,29.99]
["8120",{"$f":"TEXT(Table_Query_from_Great_Plains[[#This Row],[ITEMNMBR]],0)","v":"8120"},"Chocolate Cabernet Truffle Cheesecake - 6 inch","RETAIL",0,29.99]
["8120CC",{"$f":"TEXT(Table_Query_from_Great_Plains[[#This Row],[ITEMNMBR]],0)","v":"8120CC"},"Chocolate Cabernet Truffle Cheesecake - 6 inch","RETAIL",0,29.99]
["8121",{"$f":"TEXT(Table_Query_from_Great_Plains[[#This Row],[ITEMNMBR]],0)","v":"8121"},"Chocolate Raspberry Cheesecake - 6 inch","RETAIL",0,29.99]
["8121CC",{"$f":"TEXT(Table_Query_from_Great_Plains[[#This Row],[ITEMNMBR]],0)","v":"8121CC"},"Chocolate Raspberry Cheesecake - 6 inch","RETAIL",0,29.99]
["8122",{"$f":"TEXT(Table_Query_from_Great_Plains[[#This Row],[ITEMNMBR]],0)","v":"8122"},"Chocolate Swirl Cheesecake - 6 inch","RETAIL",0,29.99]
["8122CC",{"$f":"TEXT(Table_Query_from_Great_Plains[[#This Row],[ITEMNMBR]],0)","v":"8122CC"},"Chocolate Swirl Cheesecake - 6 inch","RETAIL",0,29.99]
["8123",{"$f":"TEXT(Table_Query_from_Great_Plains[[#This Row],[ITEMNMBR]],0)","v":"8123"},"Coconut Cheesecake - 6 inch","RETAIL",0,29.99]
["8123CC",{"$f":"TEXT(Table_Query_from_Great_Plains[[#This Row],[ITEMNMBR]],0)","v":"8123CC"},"Coconut Cheesecake - 6 inch","RETAIL",0,29.99]
["8124",{"$f":"TEXT(Table_Query_from_Great_Plains[[#This Row],[ITEMNMBR]],0)","v":"8124"},"Cookies & Cream Cheesecake - 6 inch","RETAIL",0,29.99]
["8124CC",{"$f":"TEXT(Table_Query_from_Great_Plains[[#This Row],[ITEMNMBR]],0)","v":"8124CC"},"Cookies & Cream Cheesecake - 6 inch","RETAIL",0,29.99]
["8125",{"$f":"TEXT(Table_Query_from_Great_Plains[[#This Row],[ITEMNMBR]],0)","v":"8125"},"Dulce De Leche Cheesecake - 6 inch","RETAIL",0,29.99]
["8125CC",{"$f":"TEXT(Table_Query_from_Great_Plains[[#This Row],[ITEMNMBR]],0)","v":"8125CC"},"Dulce De Leche Cheesecake - 6 inch","RETAIL",0,29.99]
["8126",{"$f":"TEXT(Table_Query_from_Great_Plains[[#This Row],[ITEMNMBR]],0)","v":"8126"},"Kahlua Almond Cheesecake - 6 Inch","RETAIL",0,29.99]
["8126CC",{"$f":"TEXT(Table_Query_from_Great_Plains[[#This Row],[ITEMNMBR]],0)","v":"8126CC"},"Kahlua Almond Cheesecake - 6 Inch","RETAIL",0,29.99]
["8127",{"$f":"TEXT(Table_Query_from_Great_Plains[[#This Row],[ITEMNMBR]],0)","v":"8127"},"Key Lime Cheesecake - 6 Inch","RETAIL",0,29.99]
["8127CC",{"$f":"TEXT(Table_Query_from_Great_Plains[[#This Row],[ITEMNMBR]],0)","v":"8127CC"},"Key Lime Cheesecake - 6 Inch","RETAIL",0,29.99]
["8128",{"$f":"TEXT(Table_Query_from_Great_Plains[[#This Row],[ITEMNMBR]],0)","v":"8128"},"Lemon Biscotti Cheesecake - 6 Inch","RETAIL",0,29.99]
["8128CC",{"$f":"TEXT(Table_Query_from_Great_Plains[[#This Row],[ITEMNMBR]],0)","v":"8128CC"},"Lemon Biscotti Cheesecake - 6 Inch","RETAIL",0,29.99]
["8129",{"$f":"TEXT(Table_Query_from_Great_Plains[[#This Row],[ITEMNMBR]],0)","v":"8129"},"Marionberry Cheesecake - 6 Inch","RETAIL",0,29.99]
["8129CC",{"$f":"TEXT(Table_Query_from_Great_Plains[[#This Row],[ITEMNMBR]],0)","v":"8129CC"},"Marionberry Cheesecake - 6 Inch","RETAIL",0,29.99]
["812A",{"$f":"TEXT(Table_Query_from_Great_Plains[[#This Row],[ITEMNMBR]],0)","v":"812A"},"One Dozen Roses","RETAIL",0,100]
["8130",{"$f":"TEXT(Table_Query_from_Great_Plains[[#This Row],[ITEMNMBR]],0)","v":"8130"},"Mint Chocolate Chip Cheesecake - 6 Inch","RETAIL",0,29.99]
["8130CC",{"$f":"TEXT(Table_Query_from_Great_Plains[[#This Row],[ITEMNMBR]],0)","v":"8130CC"},"Mint Chocolate Chip Cheesecake - 6 Inch","RETAIL",0,29.99]
["8131",{"$f":"TEXT(Table_Query_from_Great_Plains[[#This Row],[ITEMNMBR]],0)","v":"8131"},"NY Chocolate Fudge Cheesecake - 6 Inch","RETAIL",0,29.99]
["8131CC",{"$f":"TEXT(Table_Query_from_Great_Plains[[#This Row],[ITEMNMBR]],0)","v":"8131CC"},"NY Chocolate Fudge Cheesecake - 6 Inch","RETAIL",0,29.99]
["8132",{"$f":"TEXT(Table_Query_from_Great_Plains[[#This Row],[ITEMNMBR]],0)","v":"8132"},"NY Strawberry Topped Cheesecake - 6 Inch","RETAIL",0,29.99]
["8132CC",{"$f":"TEXT(Table_Query_from_Great_Plains[[#This Row],[ITEMNMBR]],0)","v":"8132CC"},"NY Strawberry Topped Cheesecake - 6 Inch","RETAIL",0,29.99]
["8133",{"$f":"TEXT(Table_Query_from_Great_Plains[[#This Row],[ITEMNMBR]],0)","v":"8133"},"Rocky Road Cheesecake - 6 Inch","RETAIL",0,29.99]
["8133CC",{"$f":"TEXT(Table_Query_from_Great_Plains[[#This Row],[ITEMNMBR]],0)","v":"8133CC"},"Rocky Road Cheesecake - 6 Inch","RETAIL",0,29.99]
["8134",{"$f":"TEXT(Table_Query_from_Great_Plains[[#This Row],[ITEMNMBR]],0)","v":"8134"},"Triple Chocolate Cheesecake - 6 Inch","RETAIL",0,29.99]
["8134CC",{"$f":"TEXT(Table_Query_from_Great_Plains[[#This Row],[ITEMNMBR]],0)","v":"8134CC"},"Triple Chocolate Cheesecake - 6 Inch","RETAIL",0,29.99]
["8135",{"$f":"TEXT(Table_Query_from_Great_Plains[[#This Row],[ITEMNMBR]],0)","v":"8135"},"White Chocolate Swirl Cheesecake - 6 Inch","RETAIL",0,29.99]
["8135CC",{"$f":"TEXT(Table_Query_from_Great_Plains[[#This Row],[ITEMNMBR]],0)","v":"8135CC"},"White Chocolate Swirl Cheesecake - 6 Inch","RETAIL",0,29.99]
["8200",{"$f":"TEXT(Table_Query_from_Great_Plains[[#This Row],[ITEMNMBR]],0)","v":"8200"},"Apple Pie 9\"","RETAIL",0,32.99]
["8200CC",{"$f":"TEXT(Table_Query_from_Great_Plains[[#This Row],[ITEMNMBR]],0)","v":"8200CC"},"Apple Pie 9\"","RETAIL",0,32.99]
["8201",{"$f":"TEXT(Table_Query_from_Great_Plains[[#This Row],[ITEMNMBR]],0)","v":"8201"},"Chocolate Cream Pie 9\"","RETAIL",0,32.99]
["8201CC",{"$f":"TEXT(Table_Query_from_Great_Plains[[#This Row],[ITEMNMBR]],0)","v":"8201CC"},"Chocolate Cream Pie 9\"","RETAIL",0,32.99]
["8202",{"$f":"TEXT(Table_Query_from_Great_Plains[[#This Row],[ITEMNMBR]],0)","v":"8202"},"Pumpkin Pie 9\"","RETAIL",0,32.99]
["8202CC",{"$f":"TEXT(Table_Query_from_Great_Plains[[#This Row],[ITEMNMBR]],0)","v":"8202CC"},"Pumpkin Pie 9\"","RETAIL",0,32.99]
["824A",{"$f":"TEXT(Table_Query_from_Great_Plains[[#This Row],[ITEMNMBR]],0)","v":"824A"},"Two Dozen Roses","RETAIL",0,190]
["8500",{"$f":"TEXT(Table_Query_from_Great_Plains[[#This Row],[ITEMNMBR]],0)","v":"8500"},"Carrot Cake - 9 Inch","RETAIL",0,44.99]
["8500CC",{"$f":"TEXT(Table_Query_from_Great_Plains[[#This Row],[ITEMNMBR]],0)","v":"8500CC"},"Carrot Cake - 9 Inch","RETAIL",0,44.99]
["8501",{"$f":"TEXT(Table_Query_from_Great_Plains[[#This Row],[ITEMNMBR]],0)","v":"8501"},"Red Velvet Cake","RETAIL",0,44.99]
["8501CC",{"$f":"TEXT(Table_Query_from_Great_Plains[[#This Row],[ITEMNMBR]],0)","v":"8501CC"},"Red Velvet Cake","RETAIL",0,44.99]
["8502",{"$f":"TEXT(Table_Query_from_Great_Plains[[#This Row],[ITEMNMBR]],0)","v":"8502"},"Chocolate Birthday Cake 8\"","RETAIL",0,44.99]
["8502CC",{"$f":"TEXT(Table_Query_from_Great_Plains[[#This Row],[ITEMNMBR]],0)","v":"8502CC"},"Chocolate Birthday Cake 8\"","RETAIL",0,44.99]
["8503",{"$f":"TEXT(Table_Query_from_Great_Plains[[#This Row],[ITEMNMBR]],0)","v":"8503"},"Vanilla Birthday Cake 8\"","RETAIL",0,44.99]
["8503CC",{"$f":"TEXT(Table_Query_from_Great_Plains[[#This Row],[ITEMNMBR]],0)","v":"8503CC"},"Vanilla Birthday Cake 8\"","RETAIL",0,44.99]
["8504",{"$f":"TEXT(Table_Query_from_Great_Plains[[#This Row],[ITEMNMBR]],0)","v":"8504"},"Chocolate Eruption Cake - Colossal","RETAIL",0,69.989999999999995]
["8504CC",{"$f":"TEXT(Table_Query_from_Great_Plains[[#This Row],[ITEMNMBR]],0)","v":"8504CC"},"Chocolate Eruption Cake - Colossal","RETAIL",0,49.99]
["8505",{"$f":"TEXT(Table_Query_from_Great_Plains[[#This Row],[ITEMNMBR]],0)","v":"8505"},"Raspberry Eruption Cake - Colossal","RETAIL",0,69.989999999999995]
["8505CC",{"$f":"TEXT(Table_Query_from_Great_Plains[[#This Row],[ITEMNMBR]],0)","v":"8505CC"},"Raspberry Eruption Cake - Colossal","RETAIL",0,49.99]
["8506",{"$f":"TEXT(Table_Query_from_Great_Plains[[#This Row],[ITEMNMBR]],0)","v":"8506"},"Chocolate Layer Mousse Cake - Elite","RETAIL",0,59.99]
["8506CC",{"$f":"TEXT(Table_Query_from_Great_Plains[[#This Row],[ITEMNMBR]],0)","v":"8506CC"},"Chocolate Layer Mousse Cake - Elite","RETAIL",0,49.99]
["8507",{"$f":"TEXT(Table_Query_from_Great_Plains[[#This Row],[ITEMNMBR]],0)","v":"8507"},"Chocolate Pecan Cluster Cake - Elite","RETAIL",0,49.99]
["8507CC",{"$f":"TEXT(Table_Query_from_Great_Plains[[#This Row],[ITEMNMBR]],0)","v":"8507CC"},"Chocolate Pecan Cluster Cake - Elite","RETAIL",0,49.99]
["8508",{"$f":"TEXT(Table_Query_from_Great_Plains[[#This Row],[ITEMNMBR]],0)","v":"8508"},"Italian Cream Cake - Elite","RETAIL",0,49.99]
["8508CC",{"$f":"TEXT(Table_Query_from_Great_Plains[[#This Row],[ITEMNMBR]],0)","v":"8508CC"},"Italian Cream Cake - Elite","RETAIL",0,49.99]
["8509",{"$f":"TEXT(Table_Query_from_Great_Plains[[#This Row],[ITEMNMBR]],0)","v":"8509"},"White & Dark Chocolate Mousse Cake - Elite","RETAIL",0,54.99]
["8509CC",{"$f":"TEXT(Table_Query_from_Great_Plains[[#This Row],[ITEMNMBR]],0)","v":"8509CC"},"White & Dark Chocolate Mousse Cake - Elite","RETAIL",0,49.99]
["8511",{"$f":"TEXT(Table_Query_from_Great_Plains[[#This Row],[ITEMNMBR]],0)","v":"8511"},"Red Velvet Cake 6\"","RETAIL",0,32.99]
["8511CC",{"$f":"TEXT(Table_Query_from_Great_Plains[[#This Row],[ITEMNMBR]],0)","v":"8511CC"},"Red Velvet Cake 6\"","RETAIL",0,32.99]
["8512",{"$f":"TEXT(Table_Query_from_Great_Plains[[#This Row],[ITEMNMBR]],0)","v":"8512"},"Chocolate Birthday Cake 6\"","RETAIL",0,32.99]
["8512CC",{"$f":"TEXT(Table_Query_from_Great_Plains[[#This Row],[ITEMNMBR]],0)","v":"8512CC"},"Chocolate Birthday Cake 6\"","RETAIL",0,32.99]
["8513",{"$f":"TEXT(Table_Query_from_Great_Plains[[#This Row],[ITEMNMBR]],0)","v":"8513"},"Vanilla Birthday Cake 6\"","RETAIL",0,32.99]
["8513CC",{"$f":"TEXT(Table_Query_from_Great_Plains[[#This Row],[ITEMNMBR]],0)","v":"8513CC"},"Vanilla Birthday Cake 6\"","RETAIL",0,32.99]
["8550",{"$f":"TEXT(Table_Query_from_Great_Plains[[#This Row],[ITEMNMBR]],0)","v":"8550"},"Easter Chick Cake -","RETAIL",0,34.99]
["8550CC",{"$f":"TEXT(Table_Query_from_Great_Plains[[#This Row],[ITEMNMBR]],0)","v":"8550CC"},"Easter Chick Cake","RETAIL",0,34.99]
["8551",{"$f":"TEXT(Table_Query_from_Great_Plains[[#This Row],[ITEMNMBR]],0)","v":"8551"},"Easter Egg Cake -","RETAIL",0,34.99]
["8551CC",{"$f":"TEXT(Table_Query_from_Great_Plains[[#This Row],[ITEMNMBR]],0)","v":"8551CC"},"Easter Egg Cake -","RETAIL",0,34.99]
["8560",{"$f":"TEXT(Table_Query_from_Great_Plains[[#This Row],[ITEMNMBR]],0)","v":"8560"},"Mother's Day Cake -","RETAIL",0,34.99]
["8560CC",{"$f":"TEXT(Table_Query_from_Great_Plains[[#This Row],[ITEMNMBR]],0)","v":"8560CC"},"Mother's Day Cake -","RETAIL",0,34.99]
["8570",{"$f":"TEXT(Table_Query_from_Great_Plains[[#This Row],[ITEMNMBR]],0)","v":"8570"},"Father's Day Cake -","RETAIL",0,34.99]
["8570CC",{"$f":"TEXT(Table_Query_from_Great_Plains[[#This Row],[ITEMNMBR]],0)","v":"8570CC"},"Father's Day Cake","RETAIL",0,34.99]
["8660",{"$f":"TEXT(Table_Query_from_Great_Plains[[#This Row],[ITEMNMBR]],0)","v":"8660"},"Thank You Cookie Cake","RETAIL",0,34.99]
["8660CC",{"$f":"TEXT(Table_Query_from_Great_Plains[[#This Row],[ITEMNMBR]],0)","v":"8660CC"},"Thank You Cookie Cake","RETAIL",0,34.99]
["8660S",{"$f":"TEXT(Table_Query_from_Great_Plains[[#This Row],[ITEMNMBR]],0)","v":"8660S"},"Thank You Cookie Cake","RETAIL",0,34.99]
["8661",{"$f":"TEXT(Table_Query_from_Great_Plains[[#This Row],[ITEMNMBR]],0)","v":"8661"},"Happy Birthday Cookie Cake","RETAIL",0,34.99]
["8661CC",{"$f":"TEXT(Table_Query_from_Great_Plains[[#This Row],[ITEMNMBR]],0)","v":"8661CC"},"Happy Birthday Cookie Cake","RETAIL",0,34.99]
["8661S",{"$f":"TEXT(Table_Query_from_Great_Plains[[#This Row],[ITEMNMBR]],0)","v":"8661S"},"Happy Birthday Cookie Cake","RETAIL",0,34.99]
["8662",{"$f":"TEXT(Table_Query_from_Great_Plains[[#This Row],[ITEMNMBR]],0)","v":"8662"},"Congratulations Cookie Cake","RETAIL",0,34.99]
["8662CC",{"$f":"TEXT(Table_Query_from_Great_Plains[[#This Row],[ITEMNMBR]],0)","v":"8662CC"},"Congratulations Cookie Cake","RETAIL",0,34.99]
["8662S",{"$f":"TEXT(Table_Query_from_Great_Plains[[#This Row],[ITEMNMBR]],0)","v":"8662S"},"Congratulations Cookie Cake","RETAIL",0,34.99]
["8663",{"$f":"TEXT(Table_Query_from_Great_Plains[[#This Row],[ITEMNMBR]],0)","v":"8663"},"Happy Anniversary Cookie Cake","RETAIL",0,34.99]
["8663CC",{"$f":"TEXT(Table_Query_from_Great_Plains[[#This Row],[ITEMNMBR]],0)","v":"8663CC"},"Happy Anniversary Cookie Cake","RETAIL",0,34.99]
["8663S",{"$f":"TEXT(Table_Query_from_Great_Plains[[#This Row],[ITEMNMBR]],0)","v":"8663S"},"Happy Anniversary Cookie Cake","RETAIL",0,34.99]
["8664",{"$f":"TEXT(Table_Query_from_Great_Plains[[#This Row],[ITEMNMBR]],0)","v":"8664"},"Smiley Face Cookie Cake","RETAIL",0,34.99]
["8664CC",{"$f":"TEXT(Table_Query_from_Great_Plains[[#This Row],[ITEMNMBR]],0)","v":"8664CC"},"Smiley Face Cookie Cake","RETAIL",0,34.99]
["8664S",{"$f":"TEXT(Table_Query_from_Great_Plains[[#This Row],[ITEMNMBR]],0)","v":"8664S"},"Smiley Face Cookie Cake","RETAIL",0,34.99]
["8665",{"$f":"TEXT(Table_Query_from_Great_Plains[[#This Row],[ITEMNMBR]],0)","v":"8665"},"Get Well Soon Cookie Cake","RETAIL",0,34.99]
["8665CC",{"$f":"TEXT(Table_Query_from_Great_Plains[[#This Row],[ITEMNMBR]],0)","v":"8665CC"},"Get Well Soon Cookie Cake","RETAIL",0,34.99]
["8665S",{"$f":"TEXT(Table_Query_from_Great_Plains[[#This Row],[ITEMNMBR]],0)","v":"8665S"},"Get Well Soon Cookie Cake","RETAIL",0,34.99]
["8670",{"$f":"TEXT(Table_Query_from_Great_Plains[[#This Row],[ITEMNMBR]],0)","v":"8670"},"Happy 4th of July Cookie Cake","RETAIL",0,34.99]
["8670CC",{"$f":"TEXT(Table_Query_from_Great_Plains[[#This Row],[ITEMNMBR]],0)","v":"8670CC"},"Happy 4th of July Cookie Cake","RETAIL",0,34.99]
["8670S",{"$f":"TEXT(Table_Query_from_Great_Plains[[#This Row],[ITEMNMBR]],0)","v":"8670S"},"Happy 4th of July Cookie Cake","RETAIL",0,34.99]
["8675",{"$f":"TEXT(Table_Query_from_Great_Plains[[#This Row],[ITEMNMBR]],0)","v":"8675"},"Happy Halloween Cookie Cake - (orange, green, purple)","RETAIL",0,34.99]
["8675CC",{"$f":"TEXT(Table_Query_from_Great_Plains[[#This Row],[ITEMNMBR]],0)","v":"8675CC"},"Happy Halloween Cookie Cake - (orange, green, purple)","RETAIL",0,34.99]
["8675S",{"$f":"TEXT(Table_Query_from_Great_Plains[[#This Row],[ITEMNMBR]],0)","v":"8675S"},"Happy Halloween Cookie Cake - (orange, green, purple)","RETAIL",0,34.99]
["8676",{"$f":"TEXT(Table_Query_from_Great_Plains[[#This Row],[ITEMNMBR]],0)","v":"8676"},"Happy Halloween Cookie Cake (Orange Pumpkin)","RETAIL",0,34.99]
["8676CC",{"$f":"TEXT(Table_Query_from_Great_Plains[[#This Row],[ITEMNMBR]],0)","v":"8676CC"},"Happy Halloween Cookie Cake - (Orange Pumpkin)","RETAIL",0,34.99]
["8676S",{"$f":"TEXT(Table_Query_from_Great_Plains[[#This Row],[ITEMNMBR]],0)","v":"8676S"},"Happy Halloween Cookie Cake - (orange pumpkin)","RETAIL",0,34.99]
["8680",{"$f":"TEXT(Table_Query_from_Great_Plains[[#This Row],[ITEMNMBR]],0)","v":"8680"},"Happy Holidays Cookie Cake -","RETAIL",0,34.99]
["8680CC",{"$f":"TEXT(Table_Query_from_Great_Plains[[#This Row],[ITEMNMBR]],0)","v":"8680CC"},"Happy Holidays Cookie Cake -","RETAIL",0,34.99]
["8680S",{"$f":"TEXT(Table_Query_from_Great_Plains[[#This Row],[ITEMNMBR]],0)","v":"8680S"},"Happy Holidays Cookie Cake -","RETAIL",0,34.99]
["8681",{"$f":"TEXT(Table_Query_from_Great_Plains[[#This Row],[ITEMNMBR]],0)","v":"8681"},"Santa Claus Cookie Cake -","RETAIL",0,34.99]
["8681CC",{"$f":"TEXT(Table_Query_from_Great_Plains[[#This Row],[ITEMNMBR]],0)","v":"8681CC"},"Santa Claus Cookie Cake","RETAIL",0,34.99]
["8681S",{"$f":"TEXT(Table_Query_from_Great_Plains[[#This Row],[ITEMNMBR]],0)","v":"8681S"},"Santa Claus Cookie Cake","RETAIL",0,34.99]
["8682",{"$f":"TEXT(Table_Query_from_Great_Plains[[#This Row],[ITEMNMBR]],0)","v":"8682"},"Snowman Cookie Cake -","RETAIL",0,34.99]
["8682CC",{"$f":"TEXT(Table_Query_from_Great_Plains[[#This Row],[ITEMNMBR]],0)","v":"8682CC"},"Snowman Cookie Cake","RETAIL",0,34.99]
["8682S",{"$f":"TEXT(Table_Query_from_Great_Plains[[#This Row],[ITEMNMBR]],0)","v":"8682S"},"Snowman Cookie Cake","RETAIL",0,34.99]
["8690",{"$f":"TEXT(Table_Query_from_Great_Plains[[#This Row],[ITEMNMBR]],0)","v":"8690"},"Happy Valentine's Day - Cookie Cake","RETAIL",0,29.99]
["8690CC",{"$f":"TEXT(Table_Query_from_Great_Plains[[#This Row],[ITEMNMBR]],0)","v":"8690CC"},"Happy Valentine's Day - Cookie Cake","RETAIL",0,29.99]
["8690S",{"$f":"TEXT(Table_Query_from_Great_Plains[[#This Row],[ITEMNMBR]],0)","v":"8690S"},"Happy Valentine's Day - Cookie Cake","RETAIL",0,29.99]
["8692",{"$f":"TEXT(Table_Query_from_Great_Plains[[#This Row],[ITEMNMBR]],0)","v":"8692"},"Happy Mother's Day Cookie Cake","RETAIL",0,34.99]
["8692CC",{"$f":"TEXT(Table_Query_from_Great_Plains[[#This Row],[ITEMNMBR]],0)","v":"8692CC"},"Happy Mother's Day Cookie Cake","RETAIL",0,34.99]
["8692S",{"$f":"TEXT(Table_Query_from_Great_Plains[[#This Row],[ITEMNMBR]],0)","v":"8692S"},"Happy Mother's Day Cookie Cake","RETAIL",0,34.99]
["8695",{"$f":"TEXT(Table_Query_from_Great_Plains[[#This Row],[ITEMNMBR]],0)","v":"8695"},"Happy Easter - Cookie Cake","RETAIL",0,34.99]
["8695CC",{"$f":"TEXT(Table_Query_from_Great_Plains[[#This Row],[ITEMNMBR]],0)","v":"8695CC"},"Happy Easter - Cookie Cake","RETAIL",0,34.99]
["8695S",{"$f":"TEXT(Table_Query_from_Great_Plains[[#This Row],[ITEMNMBR]],0)","v":"8695S"},"Happy Easter - Cookie Cake","RETAIL",0,34.99]
["8696",{"$f":"TEXT(Table_Query_from_Great_Plains[[#This Row],[ITEMNMBR]],0)","v":"8696"},"Easter Bunny Basket - Cookie Cake","RETAIL",0,34.99]
["8696CC",{"$f":"TEXT(Table_Query_from_Great_Plains[[#This Row],[ITEMNMBR]],0)","v":"8696CC"},"Easter Bunny Basket - Cookie Cake","RETAIL",0,34.99]
["8696S",{"$f":"TEXT(Table_Query_from_Great_Plains[[#This Row],[ITEMNMBR]],0)","v":"8696S"},"Easter Bunny Basket - Cookie Cake","RETAIL",0,34.99]
["8698",{"$f":"TEXT(Table_Query_from_Great_Plains[[#This Row],[ITEMNMBR]],0)","v":"8698"},"Happy Father's Day Cookie Cake","RETAIL",0,34.99]
["8698CC",{"$f":"TEXT(Table_Query_from_Great_Plains[[#This Row],[ITEMNMBR]],0)","v":"8698CC"},"Happy Father's Day Cookie Cake","RETAIL",0,34.99]
["8698S",{"$f":"TEXT(Table_Query_from_Great_Plains[[#This Row],[ITEMNMBR]],0)","v":"8698S"},"Happy Father's Day Cookie Cake","RETAIL",0,34.99]
["8750",{"$f":"TEXT(Table_Query_from_Great_Plains[[#This Row],[ITEMNMBR]],0)","v":"8750"},"Cookie Sampler - 32 Cookies","RETAIL",0,34.99]
["8750CC",{"$f":"TEXT(Table_Query_from_Great_Plains[[#This Row],[ITEMNMBR]],0)","v":"8750CC"},"Cookie Sampler - 32 Cookies","RETAIL",0,34.99]
["8750CP",{"$f":"TEXT(Table_Query_from_Great_Plains[[#This Row],[ITEMNMBR]],0)","v":"8750CP"},"Custom GGB Cookie Sampler Box for Care Package Program (Tim)","RETAIL",0,34.99]
["8752CC",{"$f":"TEXT(Table_Query_from_Great_Plains[[#This Row],[ITEMNMBR]],0)","v":"8752CC"},"Chocolate Chip - 32 Cookies","RETAIL",0,34.99]
["8754CC",{"$f":"TEXT(Table_Query_from_Great_Plains[[#This Row],[ITEMNMBR]],0)","v":"8754CC"},"Oatmeal Raisin - 32 Cookies","RETAIL",0,34.99]
["8756CC",{"$f":"TEXT(Table_Query_from_Great_Plains[[#This Row],[ITEMNMBR]],0)","v":"8756CC"},"Peanut Butter - 32 Cookies","RETAIL",0,34.99]
["8758CC",{"$f":"TEXT(Table_Query_from_Great_Plains[[#This Row],[ITEMNMBR]],0)","v":"8758CC"},"White Chocolate Macadamia - 32 Cookies","RETAIL",0,34.99]
["8825",{"$f":"TEXT(Table_Query_from_Great_Plains[[#This Row],[ITEMNMBR]],0)","v":"8825"},"Brownie Sampler - 12 Brownies","RETAIL",0,34.99]
["8825CC",{"$f":"TEXT(Table_Query_from_Great_Plains[[#This Row],[ITEMNMBR]],0)","v":"8825CC"},"Brownie Sampler - 12 Brownies","RETAIL",0,34.99]
["8825CP",{"$f":"TEXT(Table_Query_from_Great_Plains[[#This Row],[ITEMNMBR]],0)","v":"8825CP"},"Custom Brownie Sampler Box for Care Package Program (Tim)","RETAIL",0,34.99]
["8826",{"$f":"TEXT(Table_Query_from_Great_Plains[[#This Row],[ITEMNMBR]],0)","v":"8826"},"6 Brownie Sampler Bakery Gift","RETAIL",0,19.989999999999998]
["8827CC",{"$f":"TEXT(Table_Query_from_Great_Plains[[#This Row],[ITEMNMBR]],0)","v":"8827CC"},"Fudge Walnut - 12 Brownies","RETAIL",0,34.99]
["8829CC",{"$f":"TEXT(Table_Query_from_Great_Plains[[#This Row],[ITEMNMBR]],0)","v":"8829CC"},"Belgian Chocolate Chunk - 12 Brownies","RETAIL",0,34.99]
["8831CC",{"$f":"TEXT(Table_Query_from_Great_Plains[[#This Row],[ITEMNMBR]],0)","v":"8831CC"},"Cheesecake - 12 Brownies","RETAIL",0,34.99]
["8833CC",{"$f":"TEXT(Table_Query_from_Great_Plains[[#This Row],[ITEMNMBR]],0)","v":"8833CC"},"Peanut Butter - 12 Brownies","RETAIL",0,34.99]
["8835CC",{"$f":"TEXT(Table_Query_from_Great_Plains[[#This Row],[ITEMNMBR]],0)","v":"8835CC"},"Butterscotch Blonde - 12 Brownies","RETAIL",0,34.99]
["8837CC",{"$f":"TEXT(Table_Query_from_Great_Plains[[#This Row],[ITEMNMBR]],0)","v":"8837CC"},"White Chocolate Macadamia Blonde - 12 Brownies","RETAIL",0,34.99]
["8860",{"$f":"TEXT(Table_Query_from_Great_Plains[[#This Row],[ITEMNMBR]],0)","v":"8860"},"Thank You - Brownie Cake","RETAIL",0,34.99]
["8860CC",{"$f":"TEXT(Table_Query_from_Great_Plains[[#This Row],[ITEMNMBR]],0)","v":"8860CC"},"Thank You - Brownie Cake","RETAIL",0,34.99]
["8860S",{"$f":"TEXT(Table_Query_from_Great_Plains[[#This Row],[ITEMNMBR]],0)","v":"8860S"},"Thank You - Brownie Cake","RETAIL",0,34.99]
["8861",{"$f":"TEXT(Table_Query_from_Great_Plains[[#This Row],[ITEMNMBR]],0)","v":"8861"},"Happy Birthday - Brownie Cake","RETAIL",0,34.99]
["8861CC",{"$f":"TEXT(Table_Query_from_Great_Plains[[#This Row],[ITEMNMBR]],0)","v":"8861CC"},"Happy Birthday - Brownie Cake","RETAIL",0,34.99]
["8861S",{"$f":"TEXT(Table_Query_from_Great_Plains[[#This Row],[ITEMNMBR]],0)","v":"8861S"},"Happy Birthday - Brownie Cake","RETAIL",0,34.99]
["8862",{"$f":"TEXT(Table_Query_from_Great_Plains[[#This Row],[ITEMNMBR]],0)","v":"8862"},"Congratulations - Brownie Cake","RETAIL",0,34.99]
["8862CC",{"$f":"TEXT(Table_Query_from_Great_Plains[[#This Row],[ITEMNMBR]],0)","v":"8862CC"},"Congratulations - Brownie Cake","RETAIL",0,34.99]
["8862S",{"$f":"TEXT(Table_Query_from_Great_Plains[[#This Row],[ITEMNMBR]],0)","v":"8862S"},"Congratulations - Brownie Cake","RETAIL",0,34.99]
["8863",{"$f":"TEXT(Table_Query_from_Great_Plains[[#This Row],[ITEMNMBR]],0)","v":"8863"},"Happy Anniversary - Brownie Cake","RETAIL",0,34.99]
["8863CC",{"$f":"TEXT(Table_Query_from_Great_Plains[[#This Row],[ITEMNMBR]],0)","v":"8863CC"},"Happy Anniversary - Brownie Cake","RETAIL",0,34.99]
["8863S",{"$f":"TEXT(Table_Query_from_Great_Plains[[#This Row],[ITEMNMBR]],0)","v":"8863S"},"Happy Anniversary - Brownie Cake","RETAIL",0,34.99]
["8864",{"$f":"TEXT(Table_Query_from_Great_Plains[[#This Row],[ITEMNMBR]],0)","v":"8864"},"Smiley Face - Brownie Cake","RETAIL",0,34.99]
["8864CC",{"$f":"TEXT(Table_Query_from_Great_Plains[[#This Row],[ITEMNMBR]],0)","v":"8864CC"},"Smiley Face - Brownie Cake","RETAIL",0,34.99]
["8864S",{"$f":"TEXT(Table_Query_from_Great_Plains[[#This Row],[ITEMNMBR]],0)","v":"8864S"},"Smiley Face - Brownie Cake","RETAIL",0,34.99]
["8865",{"$f":"TEXT(Table_Query_from_Great_Plains[[#This Row],[ITEMNMBR]],0)","v":"8865"},"Get Well Soon - Brownie Cake","RETAIL",0,34.99]
["8865CC",{"$f":"TEXT(Table_Query_from_Great_Plains[[#This Row],[ITEMNMBR]],0)","v":"8865CC"},"Get Well Soon - Brownie Cake","RETAIL",0,34.99]
["8865S",{"$f":"TEXT(Table_Query_from_Great_Plains[[#This Row],[ITEMNMBR]],0)","v":"8865S"},"Get Well Soon - Brownie Cake","RETAIL",0,34.99]
["8875",{"$f":"TEXT(Table_Query_from_Great_Plains[[#This Row],[ITEMNMBR]],0)","v":"8875"},"Happy Halloween Brownie Cake","RETAIL",0,27.99]
["8875CC",{"$f":"TEXT(Table_Query_from_Great_Plains[[#This Row],[ITEMNMBR]],0)","v":"8875CC"},"Happy Halloween Brownie Cake","RETAIL",0,27.99]
["8875S",{"$f":"TEXT(Table_Query_from_Great_Plains[[#This Row],[ITEMNMBR]],0)","v":"8875S"},"Happy Halloween Brownie Cake","RETAIL",0,27.99]
["8883",{"$f":"TEXT(Table_Query_from_Great_Plains[[#This Row],[ITEMNMBR]],0)","v":"8883"},"Let It Snow Brownie Cake","RETAIL",0,34.99]
["8883CC",{"$f":"TEXT(Table_Query_from_Great_Plains[[#This Row],[ITEMNMBR]],0)","v":"8883CC"},"Let It Snow Brownie Cake","RETAIL",0,34.99]
["8883S",{"$f":"TEXT(Table_Query_from_Great_Plains[[#This Row],[ITEMNMBR]],0)","v":"8883S"},"Let It Snow Brownie Cake","RETAIL",0,34.99]
["8892",{"$f":"TEXT(Table_Query_from_Great_Plains[[#This Row],[ITEMNMBR]],0)","v":"8892"},"Happy Mother's Day - Brownie Cake","RETAIL",0,34.99]
["8892CC",{"$f":"TEXT(Table_Query_from_Great_Plains[[#This Row],[ITEMNMBR]],0)","v":"8892CC"},"Happy Mother's Day - Brownie Cake","RETAIL",0,34.99]
["8892S",{"$f":"TEXT(Table_Query_from_Great_Plains[[#This Row],[ITEMNMBR]],0)","v":"8892S"},"Happy Mother's Day - Brownie Cake","RETAIL",0,34.99]
["8898",{"$f":"TEXT(Table_Query_from_Great_Plains[[#This Row],[ITEMNMBR]],0)","v":"8898"},"Happy Father's Day - Brownie Cake","RETAIL",0,34.99]
["8898CC",{"$f":"TEXT(Table_Query_from_Great_Plains[[#This Row],[ITEMNMBR]],0)","v":"8898CC"},"Happy Father's Day - Brownie Cake","RETAIL",0,34.99]
["8898S",{"$f":"TEXT(Table_Query_from_Great_Plains[[#This Row],[ITEMNMBR]],0)","v":"8898S"},"Happy Father's Day - Brownie Cake","RETAIL",0,34.99]
["8900",{"$f":"TEXT(Table_Query_from_Great_Plains[[#This Row],[ITEMNMBR]],0)","v":"8900"},"Whoopie Pie Sampler - 12 Pies","RETAIL",0,34.99]
["8900CC",{"$f":"TEXT(Table_Query_from_Great_Plains[[#This Row],[ITEMNMBR]],0)","v":"8900CC"},"Whoopie Pie Sampler - 12 Pies","RETAIL",0,34.99]
["8900CP",{"$f":"TEXT(Table_Query_from_Great_Plains[[#This Row],[ITEMNMBR]],0)","v":"8900CP"},"Custom Whoopie Pie Sampler Box for Care Package Program (Tim)","RETAIL",0,34.99]
["8902",{"$f":"TEXT(Table_Query_from_Great_Plains[[#This Row],[ITEMNMBR]],0)","v":"8902"},"Classic Whoopie Pie - 12 Pies","RETAIL",0,34.99]
["8902CC",{"$f":"TEXT(Table_Query_from_Great_Plains[[#This Row],[ITEMNMBR]],0)","v":"8902CC"},"Classic Whoopie Pie - 12 Pies","RETAIL",0,34.99]
["8904CC",{"$f":"TEXT(Table_Query_from_Great_Plains[[#This Row],[ITEMNMBR]],0)","v":"8904CC"},"Strawberry Whoopie Pie - 12 Pies","RETAIL",0,34.99]
["8906CC",{"$f":"TEXT(Table_Query_from_Great_Plains[[#This Row],[ITEMNMBR]],0)","v":"8906CC"},"Peanut Buuter Whoopie Pie - 12 Pies","RETAIL",0,34.99]
["8908CC",{"$f":"TEXT(Table_Query_from_Great_Plains[[#This Row],[ITEMNMBR]],0)","v":"8908CC"},"Oatmeal Cream Whoopie Pie - 12 Pies","RETAIL",0,34.99]
["8950",{"$f":"TEXT(Table_Query_from_Great_Plains[[#This Row],[ITEMNMBR]],0)","v":"8950"},"Baked Goods Basket - Classic","RETAIL",0,34.99]
["8950CC",{"$f":"TEXT(Table_Query_from_Great_Plains[[#This Row],[ITEMNMBR]],0)","v":"8950CC"},"Baked Goods Basket - Classic -","RETAIL",0,29.99]
["8950S",{"$f":"TEXT(Table_Query_from_Great_Plains[[#This Row],[ITEMNMBR]],0)","v":"8950S"},"Baked Goods Basket - Classic -","RETAIL",0,29.99]
["8951",{"$f":"TEXT(Table_Query_from_Great_Plains[[#This Row],[ITEMNMBR]],0)","v":"8951"},"Baked Goods Basket  - Premium","RETAIL",0,49.99]
["8951CC",{"$f":"TEXT(Table_Query_from_Great_Plains[[#This Row],[ITEMNMBR]],0)","v":"8951CC"},"Baked Goods Basket  - Premium","RETAIL",0,49.99]
["8951S",{"$f":"TEXT(Table_Query_from_Great_Plains[[#This Row],[ITEMNMBR]],0)","v":"8951S"},"Baked Goods Basket  - Premium","RETAIL",0,54.99]
["8952",{"$f":"TEXT(Table_Query_from_Great_Plains[[#This Row],[ITEMNMBR]],0)","v":"8952"},"Baked Goods Basket - Deluxe","RETAIL",0,89.99]
["8952CC",{"$f":"TEXT(Table_Query_from_Great_Plains[[#This Row],[ITEMNMBR]],0)","v":"8952CC"},"Baked Goods Basket - deluxe","RETAIL",0,89.99]
["8952S",{"$f":"TEXT(Table_Query_from_Great_Plains[[#This Row],[ITEMNMBR]],0)","v":"8952S"},"Baked Goods Basket - deluxe","RETAIL",0,89.99]
["9",{"$f":"TEXT(Table_Query_from_Great_Plains[[#This Row],[ITEMNMBR]],0)","v":"9"},"Test item NO NOT USE","RETAIL",0,0.01]
["9000",{"$f":"TEXT(Table_Query_from_Great_Plains[[#This Row],[ITEMNMBR]],0)","v":"9000"},"Dark Chocolate Covered Srawberries","RETAIL",0,49.99]
["9000S",{"$f":"TEXT(Table_Query_from_Great_Plains[[#This Row],[ITEMNMBR]],0)","v":"9000S"},"Dark Chocolate Covered Srawberries","RETAIL",0,49.99]
["9001",{"$f":"TEXT(Table_Query_from_Great_Plains[[#This Row],[ITEMNMBR]],0)","v":"9001"},"Milk Chocolate Covered Srawberries","RETAIL",0,49.99]
["9001S",{"$f":"TEXT(Table_Query_from_Great_Plains[[#This Row],[ITEMNMBR]],0)","v":"9001S"},"Milk Chocolate Covered Srawberries","RETAIL",0,49.99]
["9003",{"$f":"TEXT(Table_Query_from_Great_Plains[[#This Row],[ITEMNMBR]],0)","v":"9003"},"Triple Chocolate Covered Strawberries","RETAIL",0,49.99]
["9003S",{"$f":"TEXT(Table_Query_from_Great_Plains[[#This Row],[ITEMNMBR]],0)","v":"9003S"},"Triple Chocolate Covered Strawberries","RETAIL",0,49.99]
["9004",{"$f":"TEXT(Table_Query_from_Great_Plains[[#This Row],[ITEMNMBR]],0)","v":"9004"},"Dark & Milk Chocolate Covered Srawberries","RETAIL",0,49.99]
["9004S",{"$f":"TEXT(Table_Query_from_Great_Plains[[#This Row],[ITEMNMBR]],0)","v":"9004S"},"Dark & Milk Chocolate Covered Srawberries","RETAIL",0,49.99]
["9005",{"$f":"TEXT(Table_Query_from_Great_Plains[[#This Row],[ITEMNMBR]],0)","v":"9005"},"A Touch of Gold Strawberries","RETAIL",0,109.99]
["9005S",{"$f":"TEXT(Table_Query_from_Great_Plains[[#This Row],[ITEMNMBR]],0)","v":"9005S"},"A Touch of Gold Strawberries","RETAIL",0,109.99]
["9006AS",{"$f":"TEXT(Table_Query_from_Great_Plains[[#This Row],[ITEMNMBR]],0)","v":"9006AS"},"Gourmet Chocolate Covered Bananas - 6 piece","RETAIL",0,39.99]
["9006BS",{"$f":"TEXT(Table_Query_from_Great_Plains[[#This Row],[ITEMNMBR]],0)","v":"9006BS"},"Gourmet Chocolate Covered Bananas - 12 piece","RETAIL",0,49.99]
["9007A",{"$f":"TEXT(Table_Query_from_Great_Plains[[#This Row],[ITEMNMBR]],0)","v":"9007A"},"Belgian Chocolate Covered Bananas - 6 piece","RETAIL",0,39.99]
["9007AS",{"$f":"TEXT(Table_Query_from_Great_Plains[[#This Row],[ITEMNMBR]],0)","v":"9007AS"},"Belgian Chocolate Covered Bananas - 6 piece","RETAIL",0,39.99]
["9007B",{"$f":"TEXT(Table_Query_from_Great_Plains[[#This Row],[ITEMNMBR]],0)","v":"9007B"},"Belgian Chocolate Covered Bananas - 12 piece","RETAIL",0,49.99]
["9007BS",{"$f":"TEXT(Table_Query_from_Great_Plains[[#This Row],[ITEMNMBR]],0)","v":"9007BS"},"Belgian Chocolate Covered Bananas - 12 piece","RETAIL",0,49.99]
["9008A",{"$f":"TEXT(Table_Query_from_Great_Plains[[#This Row],[ITEMNMBR]],0)","v":"9008A"},"Belgian Chocolate Banana Bites - 12 piece","RETAIL",0,39.99]
["9008AS",{"$f":"TEXT(Table_Query_from_Great_Plains[[#This Row],[ITEMNMBR]],0)","v":"9008AS"},"Belgian Chocolate Banana Bites - 12 piece","RETAIL",0,39.99]
["9008B",{"$f":"TEXT(Table_Query_from_Great_Plains[[#This Row],[ITEMNMBR]],0)","v":"9008B"},"Belgian Chocolate Banana Bites - 24 piece","RETAIL",0,64.989999999999995]
["9008BS",{"$f":"TEXT(Table_Query_from_Great_Plains[[#This Row],[ITEMNMBR]],0)","v":"9008BS"},"Belgian Chocolate Banana Bites - 24 piece","RETAIL",0,64.989999999999995]
["9009AS",{"$f":"TEXT(Table_Query_from_Great_Plains[[#This Row],[ITEMNMBR]],0)","v":"9009AS"},"Gourmet Chocolate Banana Bites - 12 piece","RETAIL",0,39.99]
["9009BS",{"$f":"TEXT(Table_Query_from_Great_Plains[[#This Row],[ITEMNMBR]],0)","v":"9009BS"},"Gourmet Chocolate Banana Bites - 24 piece","RETAIL",0,64.989999999999995]
["9010",{"$f":"TEXT(Table_Query_from_Great_Plains[[#This Row],[ITEMNMBR]],0)","v":"9010"},"Belgian Chocolate Covered Raspberries","RETAIL",0,39.99]
["9010S",{"$f":"TEXT(Table_Query_from_Great_Plains[[#This Row],[ITEMNMBR]],0)","v":"9010S"},"Belgian Chocolate Covered Raspberries","RETAIL",0,39.99]
["9011S",{"$f":"TEXT(Table_Query_from_Great_Plains[[#This Row],[ITEMNMBR]],0)","v":"9011S"},"Belgian Chocolate Covered Blueberries","RETAIL",0,39.99]
["9012S",{"$f":"TEXT(Table_Query_from_Great_Plains[[#This Row],[ITEMNMBR]],0)","v":"9012S"},"Belgian Chocolate Covered Berries - Blueberry & Raspberry Combo","RETAIL",0,39.99]
["9013S",{"$f":"TEXT(Table_Query_from_Great_Plains[[#This Row],[ITEMNMBR]],0)","v":"9013S"},"Belgian Chocolate Covered Blackberries","RETAIL",0,39.99]
["9014S",{"$f":"TEXT(Table_Query_from_Great_Plains[[#This Row],[ITEMNMBR]],0)","v":"9014S"},"Belgian Chocolate Covered Grapes","RETAIL",0,39.99]
["9015",{"$f":"TEXT(Table_Query_from_Great_Plains[[#This Row],[ITEMNMBR]],0)","v":"9015"},"Belgian Chocolate Covered Cherries","RETAIL",0,39.99]
["9015S",{"$f":"TEXT(Table_Query_from_Great_Plains[[#This Row],[ITEMNMBR]],0)","v":"9015S"},"Belgian Chocolate Covered Cherries","RETAIL",0,39.99]
["9016",{"$f":"TEXT(Table_Query_from_Great_Plains[[#This Row],[ITEMNMBR]],0)","v":"9016"},"Belgian Chocolate Dipped Apples","RETAIL",0,44.99]
["9016S",{"$f":"TEXT(Table_Query_from_Great_Plains[[#This Row],[ITEMNMBR]],0)","v":"9016S"},"Belgian Chocolate Dipped Apples","RETAIL",0,44.99]
["9017",{"$f":"TEXT(Table_Query_from_Great_Plains[[#This Row],[ITEMNMBR]],0)","v":"9017"},"Belgian Chocolate Dipped Pears","RETAIL",0,44.99]
["9017S",{"$f":"TEXT(Table_Query_from_Great_Plains[[#This Row],[ITEMNMBR]],0)","v":"9017S"},"Belgian Chocolate Dipped Pears","RETAIL",0,44.99]
["9018S",{"$f":"TEXT(Table_Query_from_Great_Plains[[#This Row],[ITEMNMBR]],0)","v":"9018S"},"Belgian Chocolate Dipped Apples & Pears","RETAIL",0,44.99]
["9019S",{"$f":"TEXT(Table_Query_from_Great_Plains[[#This Row],[ITEMNMBR]],0)","v":"9019S"},"Caramel & Candy Dipped Apples","RETAIL",0,49.99]
["9020S",{"$f":"TEXT(Table_Query_from_Great_Plains[[#This Row],[ITEMNMBR]],0)","v":"9020S"},"Triple Chocolate Dipped Apples","RETAIL",0,49.99]
["9021S",{"$f":"TEXT(Table_Query_from_Great_Plains[[#This Row],[ITEMNMBR]],0)","v":"9021S"},"Gourmet Dipped Apple Assortment","RETAIL",0,79.989999999999995]
["9022",{"$f":"TEXT(Table_Query_from_Great_Plains[[#This Row],[ITEMNMBR]],0)","v":"9022"},"Belgian Chocolate Dipped Jalapenos","RETAIL",0,44.99]
["9022S",{"$f":"TEXT(Table_Query_from_Great_Plains[[#This Row],[ITEMNMBR]],0)","v":"9022S"},"Belgian Chocolate Dipped Jalapenos","RETAIL",0,44.99]
["9023",{"$f":"TEXT(Table_Query_from_Great_Plains[[#This Row],[ITEMNMBR]],0)","v":"9023"},"Gourmet Chocolate Dipped Pretzels","RETAIL",0,44.99]
["9023S",{"$f":"TEXT(Table_Query_from_Great_Plains[[#This Row],[ITEMNMBR]],0)","v":"9023S"},"Gourmet Chocolate Dipped Pretzels","RETAIL",0,44.99]
["9024S",{"$f":"TEXT(Table_Query_from_Great_Plains[[#This Row],[ITEMNMBR]],0)","v":"9024S"},"Gourmet Chocolate Mini Pretzels","RETAIL",0,44.99]
["9026S",{"$f":"TEXT(Table_Query_from_Great_Plains[[#This Row],[ITEMNMBR]],0)","v":"9026S"},"Milk Chocolate Dipped Pretzels","RETAIL",0,39.99]
["9027S",{"$f":"TEXT(Table_Query_from_Great_Plains[[#This Row],[ITEMNMBR]],0)","v":"9027S"},"Dark Chocolate Dipped Pretzels","RETAIL",0,39.99]
["9028",{"$f":"TEXT(Table_Query_from_Great_Plains[[#This Row],[ITEMNMBR]],0)","v":"9028"},"Triple Chocolate Dipped Pretzels","RETAIL",0,39.99]
["9028S",{"$f":"TEXT(Table_Query_from_Great_Plains[[#This Row],[ITEMNMBR]],0)","v":"9028S"},"Triple Chocolate Dipped Pretzels","RETAIL",0,39.99]
["9029",{"$f":"TEXT(Table_Query_from_Great_Plains[[#This Row],[ITEMNMBR]],0)","v":"9029"},"Gourmet Chocolate Dipped Pretzel Assortment","RETAIL",0,84.99]
["9029S",{"$f":"TEXT(Table_Query_from_Great_Plains[[#This Row],[ITEMNMBR]],0)","v":"9029S"},"Gourmet Chocolate Dipped Pretzel Assortment","RETAIL",0,84.99]
["9030",{"$f":"TEXT(Table_Query_from_Great_Plains[[#This Row],[ITEMNMBR]],0)","v":"9030"},"Belgian Dipped Chocolate Chip Cookies","RETAIL",0,44.99]
["9030S",{"$f":"TEXT(Table_Query_from_Great_Plains[[#This Row],[ITEMNMBR]],0)","v":"9030S"},"Belgian Dipped Chocolate Chip Cookies","RETAIL",0,44.99]
["9031",{"$f":"TEXT(Table_Query_from_Great_Plains[[#This Row],[ITEMNMBR]],0)","v":"9031"},"Belgian Chocolate Dipped Biscotti","RETAIL",0,44.99]
["9031S",{"$f":"TEXT(Table_Query_from_Great_Plains[[#This Row],[ITEMNMBR]],0)","v":"9031S"},"Belgian Chocolate Dipped Biscotti","RETAIL",0,44.99]
["9032",{"$f":"TEXT(Table_Query_from_Great_Plains[[#This Row],[ITEMNMBR]],0)","v":"9032"},"Belgian Chocolate Dipped Macaroons","RETAIL",0,44.99]
["9032S",{"$f":"TEXT(Table_Query_from_Great_Plains[[#This Row],[ITEMNMBR]],0)","v":"9032S"},"Belgian Chocolate Dipped Macaroons","RETAIL",0,44.99]
["9033",{"$f":"TEXT(Table_Query_from_Great_Plains[[#This Row],[ITEMNMBR]],0)","v":"9033"},"Belgian Chocolate Dipped Madeline Cookies","RETAIL",0,44.99]
["9033S",{"$f":"TEXT(Table_Query_from_Great_Plains[[#This Row],[ITEMNMBR]],0)","v":"9033S"},"Belgian Chocolate Dipped Madeline Cookies","RETAIL",0,44.99]
["9034",{"$f":"TEXT(Table_Query_from_Great_Plains[[#This Row],[ITEMNMBR]],0)","v":"9034"},"Belgian Chocolate Dipped Cookie Tower","RETAIL",0,89.99]
["9034S",{"$f":"TEXT(Table_Query_from_Great_Plains[[#This Row],[ITEMNMBR]],0)","v":"9034S"},"Belgian Chocolate Dipped Cookie Tower","RETAIL",0,89.99]
["9036",{"$f":"TEXT(Table_Query_from_Great_Plains[[#This Row],[ITEMNMBR]],0)","v":"9036"},"Triple Chocolate Dipped Oreo Cookies","RETAIL",0,34.99]
["9036S",{"$f":"TEXT(Table_Query_from_Great_Plains[[#This Row],[ITEMNMBR]],0)","v":"9036S"},"Triple Chocolate Dipped Oreo Cookies","RETAIL",0,34.99]
["9037",{"$f":"TEXT(Table_Query_from_Great_Plains[[#This Row],[ITEMNMBR]],0)","v":"9037"},"Nut Lovers Chocolate Dipped Oreo Cookies","RETAIL",0,34.99]
["9037S",{"$f":"TEXT(Table_Query_from_Great_Plains[[#This Row],[ITEMNMBR]],0)","v":"9037S"},"Nut Lovers Chocolate Dipped Oreo Cookies","RETAIL",0,34.99]
["9038A",{"$f":"TEXT(Table_Query_from_Great_Plains[[#This Row],[ITEMNMBR]],0)","v":"9038A"},"Gourmet Chocolate Dipped Oreo Cookies - 15 piece","RETAIL",0,34.99]
["9038AS",{"$f":"TEXT(Table_Query_from_Great_Plains[[#This Row],[ITEMNMBR]],0)","v":"9038AS"},"Gourmet Chocolate Dipped Oreo Cookies - 15 piece","RETAIL",0,34.99]
["9038B",{"$f":"TEXT(Table_Query_from_Great_Plains[[#This Row],[ITEMNMBR]],0)","v":"9038B"},"Gourmet Chocolate Dipped Oreo Cookies - 30 piece","RETAIL",0,59.99]
["9038BS",{"$f":"TEXT(Table_Query_from_Great_Plains[[#This Row],[ITEMNMBR]],0)","v":"9038BS"},"Gourmet Chocolate Dipped Oreo Cookies - 30 piece","RETAIL",0,59.99]
["9038S",{"$f":"TEXT(Table_Query_from_Great_Plains[[#This Row],[ITEMNMBR]],0)","v":"9038S"},"Gourmet Chocolate Dipped Oreo Cookies - 15 piece","RETAIL",0,34.99]
["9039A",{"$f":"TEXT(Table_Query_from_Great_Plains[[#This Row],[ITEMNMBR]],0)","v":"9039A"},"Gourmet Chocolate Dipped Graham Crackers - 9 piece","RETAIL",0,39.99]
["9039AS",{"$f":"TEXT(Table_Query_from_Great_Plains[[#This Row],[ITEMNMBR]],0)","v":"9039AS"},"Gourmet Chocolate Dipped Graham Crackers - 9 piece","RETAIL",0,39.99]
["9039B",{"$f":"TEXT(Table_Query_from_Great_Plains[[#This Row],[ITEMNMBR]],0)","v":"9039B"},"Gourmet Chocolate Dipped Graham Crackers - 18 piece","RETAIL",0,59.99]
["9039BS",{"$f":"TEXT(Table_Query_from_Great_Plains[[#This Row],[ITEMNMBR]],0)","v":"9039BS"},"Gourmet Chocolate Dipped Graham Crackers - 18 piece","RETAIL",0,59.99]
["9040A",{"$f":"TEXT(Table_Query_from_Great_Plains[[#This Row],[ITEMNMBR]],0)","v":"9040A"},"Triple Chocolate Dipped Graham Crackers - 12 piece","RETAIL",0,49.99]
["9040AS",{"$f":"TEXT(Table_Query_from_Great_Plains[[#This Row],[ITEMNMBR]],0)","v":"9040AS"},"Triple Chocolate Dipped Graham Crackers - 12 piece","RETAIL",0,49.99]
["9040B",{"$f":"TEXT(Table_Query_from_Great_Plains[[#This Row],[ITEMNMBR]],0)","v":"9040B"},"Triple Chocolate Dipped Graham Crackers - 24 piece","RETAIL",0,69.989999999999995]
["9040BS",{"$f":"TEXT(Table_Query_from_Great_Plains[[#This Row],[ITEMNMBR]],0)","v":"9040BS"},"Triple Chocolate Dipped Graham Crackers - 24 piece","RETAIL",0,69.989999999999995]
["9043",{"$f":"TEXT(Table_Query_from_Great_Plains[[#This Row],[ITEMNMBR]],0)","v":"9043"},"Summer Sports Berry Sampler","RETAIL",0,54.99]
["9043S",{"$f":"TEXT(Table_Query_from_Great_Plains[[#This Row],[ITEMNMBR]],0)","v":"9043S"},"Summer Sports Berry Sampler","RETAIL",0,54.99]
["9044",{"$f":"TEXT(Table_Query_from_Great_Plains[[#This Row],[ITEMNMBR]],0)","v":"9044"},"Summertime Sports Berries","RETAIL",0,54.99]
["9044S",{"$f":"TEXT(Table_Query_from_Great_Plains[[#This Row],[ITEMNMBR]],0)","v":"9044S"},"Summertime Sports Berries","RETAIL",0,54.99]
["9045",{"$f":"TEXT(Table_Query_from_Great_Plains[[#This Row],[ITEMNMBR]],0)","v":"9045"},"Triple Chocolate Covered Strawberries - 6 pc","RETAIL",0,34.99]
["9045S",{"$f":"TEXT(Table_Query_from_Great_Plains[[#This Row],[ITEMNMBR]],0)","v":"9045S"},"Triple Chocolate Covered Strawberries - 6 pc","RETAIL",0,34.99]
["9046",{"$f":"TEXT(Table_Query_from_Great_Plains[[#This Row],[ITEMNMBR]],0)","v":"9046"},"Dark Chocolate Covered Srawberries - 6 pc","RETAIL",0,34.99]
["9046S",{"$f":"TEXT(Table_Query_from_Great_Plains[[#This Row],[ITEMNMBR]],0)","v":"9046S"},"Dark Chocolate Covered Srawberries - 6 pc","RETAIL",0,34.99]
["9047",{"$f":"TEXT(Table_Query_from_Great_Plains[[#This Row],[ITEMNMBR]],0)","v":"9047"},"Milk Chocolate Covered Srawberries - 6 pc","RETAIL",0,34.99]
["9047S",{"$f":"TEXT(Table_Query_from_Great_Plains[[#This Row],[ITEMNMBR]],0)","v":"9047S"},"Milk Chocolate Covered Srawberries - 6 pc","RETAIL",0,34.99]
["9048",{"$f":"TEXT(Table_Query_from_Great_Plains[[#This Row],[ITEMNMBR]],0)","v":"9048"},"Dark & Milk Chocolate Covered Srawberries - 6 pc","RETAIL",0,34.99]
["9048S",{"$f":"TEXT(Table_Query_from_Great_Plains[[#This Row],[ITEMNMBR]],0)","v":"9048S"},"Dark & Milk Chocolate Covered Srawberries - 6 pc","RETAIL",0,34.99]
["9049",{"$f":"TEXT(Table_Query_from_Great_Plains[[#This Row],[ITEMNMBR]],0)","v":"9049"},"White Chocolate Covered Strawberries - 6 pc","RETAIL",0,34.99]
["9049S",{"$f":"TEXT(Table_Query_from_Great_Plains[[#This Row],[ITEMNMBR]],0)","v":"9049S"},"White Chocolate Covered Strawberries - 6 pc","RETAIL",0,34.99]
["9050",{"$f":"TEXT(Table_Query_from_Great_Plains[[#This Row],[ITEMNMBR]],0)","v":"9050"},"Springtime Berries","RETAIL",0,54.99]
["9050S",{"$f":"TEXT(Table_Query_from_Great_Plains[[#This Row],[ITEMNMBR]],0)","v":"9050S"},"Springtime Berries","RETAIL",0,54.99]
["9051",{"$f":"TEXT(Table_Query_from_Great_Plains[[#This Row],[ITEMNMBR]],0)","v":"9051"},"Triple Chocolate Berries & Classic Mini-Cheesecakes","RETAIL",0,54.99]
["9051S",{"$f":"TEXT(Table_Query_from_Great_Plains[[#This Row],[ITEMNMBR]],0)","v":"9051S"},"Triple Chocolate Berries & Classic Mini-Cheesecakes","RETAIL",0,54.99]
["9052",{"$f":"TEXT(Table_Query_from_Great_Plains[[#This Row],[ITEMNMBR]],0)","v":"9052"},"White Chocolate Covered Strawberries","RETAIL",0,49.99]
["9052S",{"$f":"TEXT(Table_Query_from_Great_Plains[[#This Row],[ITEMNMBR]],0)","v":"9052S"},"White Chocolate Covered Strawberries","RETAIL",0,49.99]
["9053",{"$f":"TEXT(Table_Query_from_Great_Plains[[#This Row],[ITEMNMBR]],0)","v":"9053"},"Springtime Petit Fours","RETAIL",0,44.99]
["9053S",{"$f":"TEXT(Table_Query_from_Great_Plains[[#This Row],[ITEMNMBR]],0)","v":"9053S"},"Springtime Petit Fours","RETAIL",0,44.99]
["9054",{"$f":"TEXT(Table_Query_from_Great_Plains[[#This Row],[ITEMNMBR]],0)","v":"9054"},"Springtime Cake Pops","RETAIL",0,49.99]
["9054S",{"$f":"TEXT(Table_Query_from_Great_Plains[[#This Row],[ITEMNMBR]],0)","v":"9054S"},"Springtime Cake Pops","RETAIL",0,49.99]
["9055",{"$f":"TEXT(Table_Query_from_Great_Plains[[#This Row],[ITEMNMBR]],0)","v":"9055"},"Springtime Oreo Cookies - 12 pc","RETAIL",0,34.99]
["9055S",{"$f":"TEXT(Table_Query_from_Great_Plains[[#This Row],[ITEMNMBR]],0)","v":"9055S"},"Springtime Oreo Cookies","RETAIL",0,34.99]
["9056",{"$f":"TEXT(Table_Query_from_Great_Plains[[#This Row],[ITEMNMBR]],0)","v":"9056"},"The United Strawberries of America","RETAIL",0,54.99]
["9056S",{"$f":"TEXT(Table_Query_from_Great_Plains[[#This Row],[ITEMNMBR]],0)","v":"9056S"},"The United Strawberries of America","RETAIL",0,54.99]
["9057",{"$f":"TEXT(Table_Query_from_Great_Plains[[#This Row],[ITEMNMBR]],0)","v":"9057"},"The United Cake Pops of America","RETAIL",0,49.99]
["9057S",{"$f":"TEXT(Table_Query_from_Great_Plains[[#This Row],[ITEMNMBR]],0)","v":"9057S"},"The United Cake Pops of America","RETAIL",0,49.99]
["9058",{"$f":"TEXT(Table_Query_from_Great_Plains[[#This Row],[ITEMNMBR]],0)","v":"9058"},"The United Oreos of America","RETAIL",0,34.99]
["9058S",{"$f":"TEXT(Table_Query_from_Great_Plains[[#This Row],[ITEMNMBR]],0)","v":"9058S"},"The United Oreos of America","RETAIL",0,34.99]
["9059",{"$f":"TEXT(Table_Query_from_Great_Plains[[#This Row],[ITEMNMBR]],0)","v":"9059"},"Summertime Berries","RETAIL",0,54.99]
["9059S",{"$f":"TEXT(Table_Query_from_Great_Plains[[#This Row],[ITEMNMBR]],0)","v":"9059S"},"Summertime Berries","RETAIL",0,54.99]
["9060",{"$f":"TEXT(Table_Query_from_Great_Plains[[#This Row],[ITEMNMBR]],0)","v":"9060"},"Triple Chocolate Covered Cherries","RETAIL",0,39.99]
["9060S",{"$f":"TEXT(Table_Query_from_Great_Plains[[#This Row],[ITEMNMBR]],0)","v":"9060S"},"Triple Chocolate Covered Cherries","RETAIL",0,39.99]
["9061",{"$f":"TEXT(Table_Query_from_Great_Plains[[#This Row],[ITEMNMBR]],0)","v":"9061"},"Belgian Chocolate Covered Potato Chips","RETAIL",0,34.99]
["9061S",{"$f":"TEXT(Table_Query_from_Great_Plains[[#This Row],[ITEMNMBR]],0)","v":"9061S"},"Belgian Chocolate Covered Potato Chips","RETAIL",0,34.99]
["9063",{"$f":"TEXT(Table_Query_from_Great_Plains[[#This Row],[ITEMNMBR]],0)","v":"9063"},"Triple Chocolate Dipped Assortment","RETAIL",0,54.99]
["9063S",{"$f":"TEXT(Table_Query_from_Great_Plains[[#This Row],[ITEMNMBR]],0)","v":"9063S"},"Triple Chocolate Dipped Assortment","RETAIL",0,54.99]
["9064",{"$f":"TEXT(Table_Query_from_Great_Plains[[#This Row],[ITEMNMBR]],0)","v":"9064"},"Congrats Belgian Chocolate Dipped Oreos - 14 pcs -","RETAIL",0,39.99]
["9064S",{"$f":"TEXT(Table_Query_from_Great_Plains[[#This Row],[ITEMNMBR]],0)","v":"9064S"},"Congrats Belgian Chocolate Dipped Oreos - 14 pcs -","RETAIL",0,39.99]
["9065",{"$f":"TEXT(Table_Query_from_Great_Plains[[#This Row],[ITEMNMBR]],0)","v":"9065"},"Thank You Belgian Chocolate Dipped Oreos - 14 pcs -","RETAIL",0,39.99]
["9065S",{"$f":"TEXT(Table_Query_from_Great_Plains[[#This Row],[ITEMNMBR]],0)","v":"9065S"},"Thank You Belgian Chocolate Dipped Oreos - 14 pcs -","RETAIL",0,39.99]
["9066",{"$f":"TEXT(Table_Query_from_Great_Plains[[#This Row],[ITEMNMBR]],0)","v":"9066"},"Birthday Belgian Chocolate Dipped Oreos - 14 pcs -","RETAIL",0,39.99]
["9066S",{"$f":"TEXT(Table_Query_from_Great_Plains[[#This Row],[ITEMNMBR]],0)","v":"9066S"},"Birthday Belgian Chocolate Dipped Oreos - 14 pcs -","RETAIL",0,39.99]
["9067",{"$f":"TEXT(Table_Query_from_Great_Plains[[#This Row],[ITEMNMBR]],0)","v":"9067"},"Belgian Milk Chocolate & Caramel Sea Salt Covered Strawberries - 12 pcs -","RETAIL",0,49.99]
["9067S",{"$f":"TEXT(Table_Query_from_Great_Plains[[#This Row],[ITEMNMBR]],0)","v":"9067S"},"Belgian Milk Chocolate & Caramel Sea Salt Covered Strawberries - 12 pcs -","RETAIL",0,49.99]
["9068",{"$f":"TEXT(Table_Query_from_Great_Plains[[#This Row],[ITEMNMBR]],0)","v":"9068"},"Ice Cream Belgian Chocolate Dipped Cake Pops - 8 pcs -","RETAIL",0,49.99]
["9068S",{"$f":"TEXT(Table_Query_from_Great_Plains[[#This Row],[ITEMNMBR]],0)","v":"9068S"},"Ice Cream Belgian Chocolate Dipped Cake Pops - 8 pcs -","RETAIL",0,49.99]
["9069",{"$f":"TEXT(Table_Query_from_Great_Plains[[#This Row],[ITEMNMBR]],0)","v":"9069"},"Get Well Belgian Chocolate Dipped Oreos - 14 pcs","RETAIL",0,39.99]
["9069S",{"$f":"TEXT(Table_Query_from_Great_Plains[[#This Row],[ITEMNMBR]],0)","v":"9069S"},"Get Well Belgian Chocolate Dipped Oreos - 14 pcs","RETAIL",0,39.99]
["9070",{"$f":"TEXT(Table_Query_from_Great_Plains[[#This Row],[ITEMNMBR]],0)","v":"9070"},"Wedding Belgian White Chocolate Dipped Cake Pops - 10 pcs -","RETAIL",0,49.99]
["9070S",{"$f":"TEXT(Table_Query_from_Great_Plains[[#This Row],[ITEMNMBR]],0)","v":"9070S"},"Wedding Belgian White Chocolate Dipped Cake Pops - 10 pcs -","RETAIL",0,49.99]
["9071",{"$f":"TEXT(Table_Query_from_Great_Plains[[#This Row],[ITEMNMBR]],0)","v":"9071"},"Love Belgian Chocolate Dipped Oreos - 12 pcs -","RETAIL",0,34.99]
["9071S",{"$f":"TEXT(Table_Query_from_Great_Plains[[#This Row],[ITEMNMBR]],0)","v":"9071S"},"Love Belgian Chocolate Dipped Oreos - 12 pcs -","RETAIL",0,34.99]
["9072",{"$f":"TEXT(Table_Query_from_Great_Plains[[#This Row],[ITEMNMBR]],0)","v":"9072"},"Caramel Sea Salt Oreos - 12 pcs","RETAIL",0,34.99]
["9072S",{"$f":"TEXT(Table_Query_from_Great_Plains[[#This Row],[ITEMNMBR]],0)","v":"9072S"},"Caramel Sea Salt Oreos - 12 pcs","RETAIL",0,34.99]
["9100",{"$f":"TEXT(Table_Query_from_Great_Plains[[#This Row],[ITEMNMBR]],0)","v":"9100"},"Beloved Berries","RETAIL",0,44.99]
["9100A",{"$f":"TEXT(Table_Query_from_Great_Plains[[#This Row],[ITEMNMBR]],0)","v":"9100A"},"Beloved Berries - 6 pc","RETAIL",0,29.99]
["9100AS",{"$f":"TEXT(Table_Query_from_Great_Plains[[#This Row],[ITEMNMBR]],0)","v":"9100AS"},"Beloved Berries - 6 pc","RETAIL",0,29.99]
["9100B",{"$f":"TEXT(Table_Query_from_Great_Plains[[#This Row],[ITEMNMBR]],0)","v":"9100B"},"Beloved Berries - 12 pc","RETAIL",0,44.99]
["9100BS",{"$f":"TEXT(Table_Query_from_Great_Plains[[#This Row],[ITEMNMBR]],0)","v":"9100BS"},"Beloved Berries - 12 pc","RETAIL",0,44.99]
["9100S",{"$f":"TEXT(Table_Query_from_Great_Plains[[#This Row],[ITEMNMBR]],0)","v":"9100S"},"Beloved Berries","RETAIL",0,44.99]
["9101",{"$f":"TEXT(Table_Query_from_Great_Plains[[#This Row],[ITEMNMBR]],0)","v":"9101"},"Hugs & Kisses Strawberries","RETAIL",0,49.99]
["9101A",{"$f":"TEXT(Table_Query_from_Great_Plains[[#This Row],[ITEMNMBR]],0)","v":"9101A"},"Hugs & Kisses Strawberries - 6 pc","RETAIL",0,34.99]
["9101AS",{"$f":"TEXT(Table_Query_from_Great_Plains[[#This Row],[ITEMNMBR]],0)","v":"9101AS"},"Hugs & Kisses Strawberries - 6 pc","RETAIL",0,34.99]
["9101B",{"$f":"TEXT(Table_Query_from_Great_Plains[[#This Row],[ITEMNMBR]],0)","v":"9101B"},"Hugs & Kisses Strawberries - 12 pc","RETAIL",0,49.99]
["9101BS",{"$f":"TEXT(Table_Query_from_Great_Plains[[#This Row],[ITEMNMBR]],0)","v":"9101BS"},"Hugs & Kisses Strawberries - 12 pc","RETAIL",0,49.99]
["9101S",{"$f":"TEXT(Table_Query_from_Great_Plains[[#This Row],[ITEMNMBR]],0)","v":"9101S"},"Hugs & Kisses Strawberries","RETAIL",0,49.99]
["9102",{"$f":"TEXT(Table_Query_from_Great_Plains[[#This Row],[ITEMNMBR]],0)","v":"9102"},"Valentine Berries","RETAIL",0,44.99]
["9102A",{"$f":"TEXT(Table_Query_from_Great_Plains[[#This Row],[ITEMNMBR]],0)","v":"9102A"},"Valentine Berries - 6 pc","RETAIL",0,29.99]
["9102AS",{"$f":"TEXT(Table_Query_from_Great_Plains[[#This Row],[ITEMNMBR]],0)","v":"9102AS"},"Valentine Berries - 6 pc","RETAIL",0,29.99]
["9102B",{"$f":"TEXT(Table_Query_from_Great_Plains[[#This Row],[ITEMNMBR]],0)","v":"9102B"},"Valentine Berries - 12 pc","RETAIL",0,44.99]
["9102BS",{"$f":"TEXT(Table_Query_from_Great_Plains[[#This Row],[ITEMNMBR]],0)","v":"9102BS"},"Valentine Berries - 12 pc","RETAIL",0,44.99]
["9102S",{"$f":"TEXT(Table_Query_from_Great_Plains[[#This Row],[ITEMNMBR]],0)","v":"9102S"},"Valentine Berries","RETAIL",0,44.99]
["9103A",{"$f":"TEXT(Table_Query_from_Great_Plains[[#This Row],[ITEMNMBR]],0)","v":"9103A"},"Sweetheart Chocolate Covered Bananas - 6 piece","RETAIL",0,39.99]
["9103AS",{"$f":"TEXT(Table_Query_from_Great_Plains[[#This Row],[ITEMNMBR]],0)","v":"9103AS"},"Sweetheart Chocolate Covered Bananas - 6 piece","RETAIL",0,39.99]
["9103B",{"$f":"TEXT(Table_Query_from_Great_Plains[[#This Row],[ITEMNMBR]],0)","v":"9103B"},"Sweetheart Chocolate Covered Bananas - 12 piece","RETAIL",0,49.99]
["9103BS",{"$f":"TEXT(Table_Query_from_Great_Plains[[#This Row],[ITEMNMBR]],0)","v":"9103BS"},"Sweetheart Chocolate Covered Bananas - 12 piece","RETAIL",0,49.99]
["9104A",{"$f":"TEXT(Table_Query_from_Great_Plains[[#This Row],[ITEMNMBR]],0)","v":"9104A"},"Sweetheart Chocolate Covered Banana Bites - 12 piece","RETAIL",0,39.99]
["9104AS",{"$f":"TEXT(Table_Query_from_Great_Plains[[#This Row],[ITEMNMBR]],0)","v":"9104AS"},"Sweetheart Chocolate Covered Banana Bites - 12 piece","RETAIL",0,39.99]
["9104B",{"$f":"TEXT(Table_Query_from_Great_Plains[[#This Row],[ITEMNMBR]],0)","v":"9104B"},"Sweetheart Chocolate Covered Banana Bites - 24 piece","RETAIL",0,59.99]
["9104BS",{"$f":"TEXT(Table_Query_from_Great_Plains[[#This Row],[ITEMNMBR]],0)","v":"9104BS"},"Sweetheart Chocolate Covered Banana Bites - 24 piece","RETAIL",0,59.99]
["9105",{"$f":"TEXT(Table_Query_from_Great_Plains[[#This Row],[ITEMNMBR]],0)","v":"9105"},"Hugs & Kisses Oreo Cookies","RETAIL",0,24.99]
["9105S",{"$f":"TEXT(Table_Query_from_Great_Plains[[#This Row],[ITEMNMBR]],0)","v":"9105S"},"Hugs & Kisses Oreo Cookies","RETAIL",0,24.99]
["9106",{"$f":"TEXT(Table_Query_from_Great_Plains[[#This Row],[ITEMNMBR]],0)","v":"9106"},"Hugs & Kisses Cake Pops","RETAIL",0,34.99]
["9106S",{"$f":"TEXT(Table_Query_from_Great_Plains[[#This Row],[ITEMNMBR]],0)","v":"9106S"},"Hugs & Kisses Cake Pops","RETAIL",0,34.99]
["9150",{"$f":"TEXT(Table_Query_from_Great_Plains[[#This Row],[ITEMNMBR]],0)","v":"9150"},"Easter Celebration Berries","RETAIL",0,54.99]
["9150S",{"$f":"TEXT(Table_Query_from_Great_Plains[[#This Row],[ITEMNMBR]],0)","v":"9150S"},"Easter Celebration Berries","RETAIL",0,54.99]
["9151",{"$f":"TEXT(Table_Query_from_Great_Plains[[#This Row],[ITEMNMBR]],0)","v":"9151"},"Triple Chocolate Springtime Berries","RETAIL",0,49.99]
["9151S",{"$f":"TEXT(Table_Query_from_Great_Plains[[#This Row],[ITEMNMBR]],0)","v":"9151S"},"Triple Chocolate Springtime Berries","RETAIL",0,49.99]
["9152",{"$f":"TEXT(Table_Query_from_Great_Plains[[#This Row],[ITEMNMBR]],0)","v":"9152"},"Gourmet Easter Berries","RETAIL",0,54.99]
["9152S",{"$f":"TEXT(Table_Query_from_Great_Plains[[#This Row],[ITEMNMBR]],0)","v":"9152S"},"Gourmet Easter Berries","RETAIL",0,54.99]
["9153",{"$f":"TEXT(Table_Query_from_Great_Plains[[#This Row],[ITEMNMBR]],0)","v":"9153"},"Easter Celebration Oreo Cookies","RETAIL",0,34.99]
["9153S",{"$f":"TEXT(Table_Query_from_Great_Plains[[#This Row],[ITEMNMBR]],0)","v":"9153S"},"Easter Celebration Oreo Cookies","RETAIL",0,34.99]
["9154",{"$f":"TEXT(Table_Query_from_Great_Plains[[#This Row],[ITEMNMBR]],0)","v":"9154"},"Easter Celebration Cake Pops","RETAIL",0,49.99]
["9154S",{"$f":"TEXT(Table_Query_from_Great_Plains[[#This Row],[ITEMNMBR]],0)","v":"9154S"},"Easter Celebration Cake Pops","RETAIL",0,49.99]
["9170",{"$f":"TEXT(Table_Query_from_Great_Plains[[#This Row],[ITEMNMBR]],0)","v":"9170"},"Mother's Day Berries","RETAIL",0,64.989999999999995]
["9170S",{"$f":"TEXT(Table_Query_from_Great_Plains[[#This Row],[ITEMNMBR]],0)","v":"9170S"},"Mother's Day Berries","RETAIL",0,64.989999999999995]
["9210",{"$f":"TEXT(Table_Query_from_Great_Plains[[#This Row],[ITEMNMBR]],0)","v":"9210"},"Celebrate DAD Berries","RETAIL",0,64.989999999999995]
["9210S",{"$f":"TEXT(Table_Query_from_Great_Plains[[#This Row],[ITEMNMBR]],0)","v":"9210S"},"Celebrate DAD Berries","RETAIL",0,64.989999999999995]
["9211",{"$f":"TEXT(Table_Query_from_Great_Plains[[#This Row],[ITEMNMBR]],0)","v":"9211"},"Father's Day Berries","RETAIL",0,54.99]
["9211S",{"$f":"TEXT(Table_Query_from_Great_Plains[[#This Row],[ITEMNMBR]],0)","v":"9211S"},"Father's Day Berries","RETAIL",0,54.99]
["9212",{"$f":"TEXT(Table_Query_from_Great_Plains[[#This Row],[ITEMNMBR]],0)","v":"9212"},"Father's Day Oreo Cookies","RETAIL",0,34.99]
["9212S",{"$f":"TEXT(Table_Query_from_Great_Plains[[#This Row],[ITEMNMBR]],0)","v":"9212S"},"Father's Day Oreo Cookies","RETAIL",0,34.99]
["9213",{"$f":"TEXT(Table_Query_from_Great_Plains[[#This Row],[ITEMNMBR]],0)","v":"9213"},"Father's Day Cake Pop Sampler","RETAIL",0,49.99]
["9213S",{"$f":"TEXT(Table_Query_from_Great_Plains[[#This Row],[ITEMNMBR]],0)","v":"9213S"},"Father's Day Cake Pop Sampler","RETAIL",0,49.99]
["9214",{"$f":"TEXT(Table_Query_from_Great_Plains[[#This Row],[ITEMNMBR]],0)","v":"9214"},"Father's Day Cake Pop Sampler","RETAIL",0,49.99]
["9214S",{"$f":"TEXT(Table_Query_from_Great_Plains[[#This Row],[ITEMNMBR]],0)","v":"9214S"},"Father's Day Cake Pop Sampler","RETAIL",0,49.99]
["9230",{"$f":"TEXT(Table_Query_from_Great_Plains[[#This Row],[ITEMNMBR]],0)","v":"9230"},"Halloween Strawberries - 12pc -","RETAIL",0,54.99]
["9230S",{"$f":"TEXT(Table_Query_from_Great_Plains[[#This Row],[ITEMNMBR]],0)","v":"9230S"},"Halloween Strawberries - 12pc -","RETAIL",0,54.99]
["9231",{"$f":"TEXT(Table_Query_from_Great_Plains[[#This Row],[ITEMNMBR]],0)","v":"9231"},"Halloween Oreo Cookies - 12pc -","RETAIL",0,34.99]
["9231S",{"$f":"TEXT(Table_Query_from_Great_Plains[[#This Row],[ITEMNMBR]],0)","v":"9231S"},"Halloween Oreo Cookies - 12pc -","RETAIL",0,34.99]
["9232",{"$f":"TEXT(Table_Query_from_Great_Plains[[#This Row],[ITEMNMBR]],0)","v":"9232"},"Halloween Cake Pops - 10pc -","RETAIL",0,49.99]
["9232S",{"$f":"TEXT(Table_Query_from_Great_Plains[[#This Row],[ITEMNMBR]],0)","v":"9232S"},"Halloween Cake Pops - 10pc -","RETAIL",0,49.99]
["9233",{"$f":"TEXT(Table_Query_from_Great_Plains[[#This Row],[ITEMNMBR]],0)","v":"9233"},"Halloween Chocolate Strawberries & OREO Pops - 12 pc -","RETAIL",0,49.99]
["9233S",{"$f":"TEXT(Table_Query_from_Great_Plains[[#This Row],[ITEMNMBR]],0)","v":"9233S"},"Halloween Chocolate Strawberries & OREO Pops - 12 pc -","RETAIL",0,49.99]
["9234",{"$f":"TEXT(Table_Query_from_Great_Plains[[#This Row],[ITEMNMBR]],0)","v":"9234"},"Halloween Mummies Decorated Twinkies - 6 pc -","RETAIL",0,29.99]
["9234S",{"$f":"TEXT(Table_Query_from_Great_Plains[[#This Row],[ITEMNMBR]],0)","v":"9234S"},"Halloween Mummies Decorated Twinkies - 6 pc -","RETAIL",0,49.99]
["9250",{"$f":"TEXT(Table_Query_from_Great_Plains[[#This Row],[ITEMNMBR]],0)","v":"9250"},"Fall Gourmet Berries  - 12pc -","RETAIL",0,54.99]
["9250S",{"$f":"TEXT(Table_Query_from_Great_Plains[[#This Row],[ITEMNMBR]],0)","v":"9250S"},"Fall Gourmet Berries - 12pc -","RETAIL",0,54.99]
["9251",{"$f":"TEXT(Table_Query_from_Great_Plains[[#This Row],[ITEMNMBR]],0)","v":"9251"},"Fall Oreo Cookies - 12pc -","RETAIL",0,34.99]
["9251S",{"$f":"TEXT(Table_Query_from_Great_Plains[[#This Row],[ITEMNMBR]],0)","v":"9251S"},"Fall Oreo Cookies - 12pc -","RETAIL",0,34.99]
["9252",{"$f":"TEXT(Table_Query_from_Great_Plains[[#This Row],[ITEMNMBR]],0)","v":"9252"},"Fall Cake Pops - 10pc -","RETAIL",0,49.99]
["9252S",{"$f":"TEXT(Table_Query_from_Great_Plains[[#This Row],[ITEMNMBR]],0)","v":"9252S"},"Fall Cake Pops - 10pc -","RETAIL",0,49.99]
["9253",{"$f":"TEXT(Table_Query_from_Great_Plains[[#This Row],[ITEMNMBR]],0)","v":"9253"},"Thanksgiving Chocolate Dipped Cake Pops - 10 pc -","RETAIL",0,49.99]
["9253S",{"$f":"TEXT(Table_Query_from_Great_Plains[[#This Row],[ITEMNMBR]],0)","v":"9253S"},"Thanksgiving Chocolate Dipped Cake Pops - 10 pc -","RETAIL",0,49.99]
["9270",{"$f":"TEXT(Table_Query_from_Great_Plains[[#This Row],[ITEMNMBR]],0)","v":"9270"},"Gourmet Christmas Berries - 12pc -","RETAIL",0,54.99]
["9270S",{"$f":"TEXT(Table_Query_from_Great_Plains[[#This Row],[ITEMNMBR]],0)","v":"9270S"},"Gourmet Christmas Berries - 12pc -","RETAIL",0,54.99]
["9271",{"$f":"TEXT(Table_Query_from_Great_Plains[[#This Row],[ITEMNMBR]],0)","v":"9271"},"Gourmet Holiday Berries - 12pc -","RETAIL",0,54.99]
["9271S",{"$f":"TEXT(Table_Query_from_Great_Plains[[#This Row],[ITEMNMBR]],0)","v":"9271S"},"Gourmet Holiday Berries - 12pc -","RETAIL",0,54.99]
["9272",{"$f":"TEXT(Table_Query_from_Great_Plains[[#This Row],[ITEMNMBR]],0)","v":"9272"},"Gourmet Winter Berries - 12pc -","RETAIL",0,54.99]
["9272S",{"$f":"TEXT(Table_Query_from_Great_Plains[[#This Row],[ITEMNMBR]],0)","v":"9272S"},"Gourmet Winter Berries - 12pc -","RETAIL",0,54.99]
["9273",{"$f":"TEXT(Table_Query_from_Great_Plains[[#This Row],[ITEMNMBR]],0)","v":"9273"},"Holiday Peppermint Oreos - 12pc -","RETAIL",0,34.99]
["9273S",{"$f":"TEXT(Table_Query_from_Great_Plains[[#This Row],[ITEMNMBR]],0)","v":"9273S"},"Holiday Peppermint Oreos - 12pc -","RETAIL",0,34.99]
["9274",{"$f":"TEXT(Table_Query_from_Great_Plains[[#This Row],[ITEMNMBR]],0)","v":"9274"},"Christmas Oreo Cookies - 12pc -","RETAIL",0,34.99]
["9274S",{"$f":"TEXT(Table_Query_from_Great_Plains[[#This Row],[ITEMNMBR]],0)","v":"9274S"},"Christmas Oreo Cookies - 12pc -","RETAIL",0,34.99]
["9275",{"$f":"TEXT(Table_Query_from_Great_Plains[[#This Row],[ITEMNMBR]],0)","v":"9275"},"Christmas Cheesecake Pops - 10pc -","RETAIL",0,49.99]
["9275S",{"$f":"TEXT(Table_Query_from_Great_Plains[[#This Row],[ITEMNMBR]],0)","v":"9275S"},"Christmas Cheesecake Pops - 10pc -","RETAIL",0,49.99]
["9276",{"$f":"TEXT(Table_Query_from_Great_Plains[[#This Row],[ITEMNMBR]],0)","v":"9276"},"Christmas Cake Pops - 10pc -","RETAIL",0,49.99]
["9276S",{"$f":"TEXT(Table_Query_from_Great_Plains[[#This Row],[ITEMNMBR]],0)","v":"9276S"},"Christmas Cake Pops - 10pc -","RETAIL",0,49.99]
["9300",{"$f":"TEXT(Table_Query_from_Great_Plains[[#This Row],[ITEMNMBR]],0)","v":"9300"},"Happy Hanukkah Berries - 12pc -","RETAIL",0,54.99]
["9300S",{"$f":"TEXT(Table_Query_from_Great_Plains[[#This Row],[ITEMNMBR]],0)","v":"9300S"},"Happy Hanukkah Berries - 12pc -","RETAIL",0,54.99]
["9301",{"$f":"TEXT(Table_Query_from_Great_Plains[[#This Row],[ITEMNMBR]],0)","v":"9301"},"Happy Hanukkah Oreos - 12pc -","RETAIL",0,34.99]
["9301S",{"$f":"TEXT(Table_Query_from_Great_Plains[[#This Row],[ITEMNMBR]],0)","v":"9301S"},"Happy Hanukkah Oreos - 12pc -","RETAIL",0,34.99]
["9302",{"$f":"TEXT(Table_Query_from_Great_Plains[[#This Row],[ITEMNMBR]],0)","v":"9302"},"Happy Hanukkah Cake Pops - 10pc -","RETAIL",0,49.99]
["9302S",{"$f":"TEXT(Table_Query_from_Great_Plains[[#This Row],[ITEMNMBR]],0)","v":"9302S"},"Happy Hanukkah Cake Pops - 10pc -","RETAIL",0,49.99]
["9490",{"$f":"TEXT(Table_Query_from_Great_Plains[[#This Row],[ITEMNMBR]],0)","v":"9490"},"\"Custom\" Indulgent Belgian Supreme Tower (PCKGTW22)","RETAIL",0,83.95]
["9500",{"$f":"TEXT(Table_Query_from_Great_Plains[[#This Row],[ITEMNMBR]],0)","v":"9500"},"Gourmet Food Basket Italian","RETAIL",0,79.989999999999995]
["9501",{"$f":"TEXT(Table_Query_from_Great_Plains[[#This Row],[ITEMNMBR]],0)","v":"9501"},"Gourmet Food Basket French","RETAIL",0,99.99]
["9502",{"$f":"TEXT(Table_Query_from_Great_Plains[[#This Row],[ITEMNMBR]],0)","v":"9502"},"Food Gift For Christmas","RETAIL",0,99.99]
["9503",{"$f":"TEXT(Table_Query_from_Great_Plains[[#This Row],[ITEMNMBR]],0)","v":"9503"},"Food Gift For Christmas Breakfast","RETAIL",0,79.989999999999995]
["9504",{"$f":"TEXT(Table_Query_from_Great_Plains[[#This Row],[ITEMNMBR]],0)","v":"9504"},"Birthday Gift Basket Basket Of Baked Goods","RETAIL",0,29.99]
["9505",{"$f":"TEXT(Table_Query_from_Great_Plains[[#This Row],[ITEMNMBR]],0)","v":"9505"},"Beer Gift Basket For Men Microbrew","RETAIL",0,39.99]
["9506",{"$f":"TEXT(Table_Query_from_Great_Plains[[#This Row],[ITEMNMBR]],0)","v":"9506"},"Christmas Basket Idea For men","RETAIL",0,59.99]
["9507",{"$f":"TEXT(Table_Query_from_Great_Plains[[#This Row],[ITEMNMBR]],0)","v":"9507"},"Christmas Basket Idea For Women","RETAIL",0,59.99]
["9508",{"$f":"TEXT(Table_Query_from_Great_Plains[[#This Row],[ITEMNMBR]],0)","v":"9508"},"Corporate Holiday Gift Classic","RETAIL",0,59.99]
["9509",{"$f":"TEXT(Table_Query_from_Great_Plains[[#This Row],[ITEMNMBR]],0)","v":"9509"},"Corporate Holiday Gift Premium","RETAIL",0,79.989999999999995]
["9510",{"$f":"TEXT(Table_Query_from_Great_Plains[[#This Row],[ITEMNMBR]],0)","v":"9510"},"Spa Gift Basket Hand Care","RETAIL",0,59.99]
["9511",{"$f":"TEXT(Table_Query_from_Great_Plains[[#This Row],[ITEMNMBR]],0)","v":"9511"},"Spa Gift Basket Foot Care","RETAIL",0,49.99]
["9512",{"$f":"TEXT(Table_Query_from_Great_Plains[[#This Row],[ITEMNMBR]],0)","v":"9512"},"Christmas Gift Basket Free Shipping Fruit","RETAIL",0,99.99]
["9513",{"$f":"TEXT(Table_Query_from_Great_Plains[[#This Row],[ITEMNMBR]],0)","v":"9513"},"Housewarming Gift Italian","RETAIL",0,79.989999999999995]
["9514",{"$f":"TEXT(Table_Query_from_Great_Plains[[#This Row],[ITEMNMBR]],0)","v":"9514"},"Italian Gift Basket Classic","RETAIL",0,59.99]
["9515",{"$f":"TEXT(Table_Query_from_Great_Plains[[#This Row],[ITEMNMBR]],0)","v":"9515"},"Gift Basket For All Occassions","RETAIL",0,59.99]
["9516",{"$f":"TEXT(Table_Query_from_Great_Plains[[#This Row],[ITEMNMBR]],0)","v":"9516"},"Care Package For College Students","RETAIL",0,34.99]
["9517",{"$f":"TEXT(Table_Query_from_Great_Plains[[#This Row],[ITEMNMBR]],0)","v":"9517"},"Get Well Gift Basket","RETAIL",0,79.989999999999995]
["9518",{"$f":"TEXT(Table_Query_from_Great_Plains[[#This Row],[ITEMNMBR]],0)","v":"9518"},"Get Well Gift Basket Of Fruit","RETAIL",0,39.99]
["9519",{"$f":"TEXT(Table_Query_from_Great_Plains[[#This Row],[ITEMNMBR]],0)","v":"9519"},"Care Package Idea For Kids","RETAIL",0,34.99]
["9520",{"$f":"TEXT(Table_Query_from_Great_Plains[[#This Row],[ITEMNMBR]],0)","v":"9520"},"Care Package Idea For Men","RETAIL",0,34.99]
["9521",{"$f":"TEXT(Table_Query_from_Great_Plains[[#This Row],[ITEMNMBR]],0)","v":"9521"},"Corporate Gift Basket Red Wine","RETAIL",0,69.989999999999995]
["9522",{"$f":"TEXT(Table_Query_from_Great_Plains[[#This Row],[ITEMNMBR]],0)","v":"9522"},"Corporate Gift Basket White WIne","RETAIL",0,69.989999999999995]
["9523",{"$f":"TEXT(Table_Query_from_Great_Plains[[#This Row],[ITEMNMBR]],0)","v":"9523"},"Gift Basket Idea For Men Who Fish","RETAIL",0,59.99]
["9524",{"$f":"TEXT(Table_Query_from_Great_Plains[[#This Row],[ITEMNMBR]],0)","v":"9524"},"Beer Basket With Popcorn","RETAIL",0,39.99]
["9525",{"$f":"TEXT(Table_Query_from_Great_Plains[[#This Row],[ITEMNMBR]],0)","v":"9525"},"Wine Basket Red","RETAIL",0,69.989999999999995]
["9526",{"$f":"TEXT(Table_Query_from_Great_Plains[[#This Row],[ITEMNMBR]],0)","v":"9526"},"Wine Basket Red","RETAIL",0,69.989999999999995]
["9527",{"$f":"TEXT(Table_Query_from_Great_Plains[[#This Row],[ITEMNMBR]],0)","v":"9527"},"Golf Gift For Men","RETAIL",0,59.99]
["9528",{"$f":"TEXT(Table_Query_from_Great_Plains[[#This Row],[ITEMNMBR]],0)","v":"9528"},"Golf Gift For Women","RETAIL",0,69.989999999999995]
["9529",{"$f":"TEXT(Table_Query_from_Great_Plains[[#This Row],[ITEMNMBR]],0)","v":"9529"},"Christmas Gift Basket For Families","RETAIL",0,229.99]
["9530",{"$f":"TEXT(Table_Query_from_Great_Plains[[#This Row],[ITEMNMBR]],0)","v":"9530"},"College Care Package of Snacks","RETAIL",0,34.99]
["9531",{"$f":"TEXT(Table_Query_from_Great_Plains[[#This Row],[ITEMNMBR]],0)","v":"9531"},"Sympathy Gift Basket Premium","RETAIL",0,79.989999999999995]
["9532",{"$f":"TEXT(Table_Query_from_Great_Plains[[#This Row],[ITEMNMBR]],0)","v":"9532"},"Holidy Gift Basket for Clients Classic","RETAIL",0,59.99]
["9533",{"$f":"TEXT(Table_Query_from_Great_Plains[[#This Row],[ITEMNMBR]],0)","v":"9533"},"Nut Gift Crate Classic","RETAIL",0,39.99]
["9534",{"$f":"TEXT(Table_Query_from_Great_Plains[[#This Row],[ITEMNMBR]],0)","v":"9534"},"Nut Gift Crate Premium","RETAIL",0,59.99]
["9535",{"$f":"TEXT(Table_Query_from_Great_Plains[[#This Row],[ITEMNMBR]],0)","v":"9535"},"New Years Gift Basket","RETAIL",0,99.99]
["9536",{"$f":"TEXT(Table_Query_from_Great_Plains[[#This Row],[ITEMNMBR]],0)","v":"9536"},"New Years Gift Basket of Celebration","RETAIL",0,129.99]
["9536A",{"$f":"TEXT(Table_Query_from_Great_Plains[[#This Row],[ITEMNMBR]],0)","v":"9536A"},"New Years Gift Basket of Celebration - Moet","RETAIL",0,129.99]
["9536B",{"$f":"TEXT(Table_Query_from_Great_Plains[[#This Row],[ITEMNMBR]],0)","v":"9536B"},"New Years Gift Basket of Celebration - Veuve","RETAIL",0,139.99]
["9536C",{"$f":"TEXT(Table_Query_from_Great_Plains[[#This Row],[ITEMNMBR]],0)","v":"9536C"},"New Years Gift Basket of Celebration - Dom Perignon","RETAIL",0,239.99]
["9537",{"$f":"TEXT(Table_Query_from_Great_Plains[[#This Row],[ITEMNMBR]],0)","v":"9537"},"New Years Gift Basket of Indulgence","RETAIL",0,89.99]
["9537A",{"$f":"TEXT(Table_Query_from_Great_Plains[[#This Row],[ITEMNMBR]],0)","v":"9537A"},"New Years Gift Basket of Indulgence - Ravenswood","RETAIL",0,89.99]
["9537B",{"$f":"TEXT(Table_Query_from_Great_Plains[[#This Row],[ITEMNMBR]],0)","v":"9537B"},"New Years Gift Basket of Indulgence - Catena","RETAIL",0,99.99]
["9537C",{"$f":"TEXT(Table_Query_from_Great_Plains[[#This Row],[ITEMNMBR]],0)","v":"9537C"},"New Years Gift Basket of Indulgence - Silver Oak","RETAIL",0,149.99]
["9538",{"$f":"TEXT(Table_Query_from_Great_Plains[[#This Row],[ITEMNMBR]],0)","v":"9538"},"Holiday Fod Gift Basket of Treats","RETAIL",0,59.99]
["9539",{"$f":"TEXT(Table_Query_from_Great_Plains[[#This Row],[ITEMNMBR]],0)","v":"9539"},"Holiday Food Gift Basket","RETAIL",0,24.99]
["9540",{"$f":"TEXT(Table_Query_from_Great_Plains[[#This Row],[ITEMNMBR]],0)","v":"9540"},"Christmas Fruit Basket Classic","RETAIL",0,49.99]
["9541",{"$f":"TEXT(Table_Query_from_Great_Plains[[#This Row],[ITEMNMBR]],0)","v":"9541"},"Christmas Gourmet Gift Basket","RETAIL",0,69.989999999999995]
["9542",{"$f":"TEXT(Table_Query_from_Great_Plains[[#This Row],[ITEMNMBR]],0)","v":"9542"},"Christmas Gourmet Gift Basket Classic","RETAIL",0,59.99]
["9543",{"$f":"TEXT(Table_Query_from_Great_Plains[[#This Row],[ITEMNMBR]],0)","v":"9543"},"Holiday Gift Basket Idea For Men","RETAIL",0,89.99]
["9544",{"$f":"TEXT(Table_Query_from_Great_Plains[[#This Row],[ITEMNMBR]],0)","v":"9544"},"Holiday Gift Basket Idea For Women","RETAIL",0,79.989999999999995]
["9545",{"$f":"TEXT(Table_Query_from_Great_Plains[[#This Row],[ITEMNMBR]],0)","v":"9545"},"Christmas Gift Basket Idea For Men","RETAIL",0,24.99]
["9546",{"$f":"TEXT(Table_Query_from_Great_Plains[[#This Row],[ITEMNMBR]],0)","v":"9546"},"Christmas Gift Basket Idea For Women","RETAIL",0,24.99]
["9547",{"$f":"TEXT(Table_Query_from_Great_Plains[[#This Row],[ITEMNMBR]],0)","v":"9547"},"Corporate Holiday Gift Idea","RETAIL",0,24.99]
["9548",{"$f":"TEXT(Table_Query_from_Great_Plains[[#This Row],[ITEMNMBR]],0)","v":"9548"},"Corporate Holiday Gift Idea for VIP","RETAIL",0,159.99]
["9549",{"$f":"TEXT(Table_Query_from_Great_Plains[[#This Row],[ITEMNMBR]],0)","v":"9549"},"Gift For Parents Classic","RETAIL",0,59.99]
["9550",{"$f":"TEXT(Table_Query_from_Great_Plains[[#This Row],[ITEMNMBR]],0)","v":"9550"},"Gift for Parents Deluxe","RETAIL",0,99.99]
["9551",{"$f":"TEXT(Table_Query_from_Great_Plains[[#This Row],[ITEMNMBR]],0)","v":"9551"},"Tea Gift Basket","RETAIL",0,24.99]
["9552",{"$f":"TEXT(Table_Query_from_Great_Plains[[#This Row],[ITEMNMBR]],0)","v":"9552"},"Tea Gift Basket Premium","RETAIL",0,79.989999999999995]
["9553",{"$f":"TEXT(Table_Query_from_Great_Plains[[#This Row],[ITEMNMBR]],0)","v":"9553"},"Gift Basket Free Shipping","RETAIL",0,79.989999999999995]
["9554",{"$f":"TEXT(Table_Query_from_Great_Plains[[#This Row],[ITEMNMBR]],0)","v":"9554"},"Gift for Golfers","RETAIL",0,49.99]
["9555",{"$f":"TEXT(Table_Query_from_Great_Plains[[#This Row],[ITEMNMBR]],0)","v":"9555"},"Kids Gift Basket of Pizza","RETAIL",0,79.989999999999995]
["9556",{"$f":"TEXT(Table_Query_from_Great_Plains[[#This Row],[ITEMNMBR]],0)","v":"9556"},"Kids Gift Basket Ice Cream Party","RETAIL",0,69.989999999999995]
["9557",{"$f":"TEXT(Table_Query_from_Great_Plains[[#This Row],[ITEMNMBR]],0)","v":"9557"},"CHocolate Gift Basket of Treats","RETAIL",0,24.99]
["9558",{"$f":"TEXT(Table_Query_from_Great_Plains[[#This Row],[ITEMNMBR]],0)","v":"9558"},"Gardening Gift","RETAIL",0,49.99]
["ACC001",{"$f":"TEXT(Table_Query_from_Great_Plains[[#This Row],[ITEMNMBR]],0)","v":"ACC001"},"Accutech Small tower box 98/Case 6 ½”  X  5 ½”  X  2 ½” with a 1.25” lid","RETAIL",0,100]
["ACC002",{"$f":"TEXT(Table_Query_from_Great_Plains[[#This Row],[ITEMNMBR]],0)","v":"ACC002"},"Accutech Large tower box 15/Case 13 X  8  X 4  with 1.8 lid","RETAIL",0,100]
["ACC003",{"$f":"TEXT(Table_Query_from_Great_Plains[[#This Row],[ITEMNMBR]],0)","v":"ACC003"},"Accutech GGB Ribbon 100 yard","RETAIL",0,100]
["ACC003",{"$f":"TEXT(Table_Query_from_Great_Plains[[#This Row],[ITEMNMBR]],0)","v":"ACC003"},"Accutech GGB Ribbon 100 yard","RETAIL",0,100]
["ACC003",{"$f":"TEXT(Table_Query_from_Great_Plains[[#This Row],[ITEMNMBR]],0)","v":"ACC003"},"Accutech GGB Ribbon 100 yard","RETAIL",0,100]
["ACC003",{"$f":"TEXT(Table_Query_from_Great_Plains[[#This Row],[ITEMNMBR]],0)","v":"ACC003"},"Accutech GGB Ribbon 100 yard","RETAIL",0,100]
["ACC004",{"$f":"TEXT(Table_Query_from_Great_Plains[[#This Row],[ITEMNMBR]],0)","v":"ACC004"},"Accutech Box # 5  White  11 1/4  X  11 1/4  X  16","RETAIL",0,100]
["ACC005",{"$f":"TEXT(Table_Query_from_Great_Plains[[#This Row],[ITEMNMBR]],0)","v":"ACC005"},"Accutech Box # 1 White printed Box 14  X  11  X  10","RETAIL",0,100]
["ACC006",{"$f":"TEXT(Table_Query_from_Great_Plains[[#This Row],[ITEMNMBR]],0)","v":"ACC006"},"Accutech Box # 6 White 17  X  13  X  10 (DO NOT USE)","RETAIL",0,100]
["ACC007",{"$f":"TEXT(Table_Query_from_Great_Plains[[#This Row],[ITEMNMBR]],0)","v":"ACC007"},"Accutech Box # 7 White  19 1/2  X 15  X  10","RETAIL",0,100]
["ACC008",{"$f":"TEXT(Table_Query_from_Great_Plains[[#This Row],[ITEMNMBR]],0)","v":"ACC008"},"Accutech Box URE 12 Printer 18 1/4 x12 1/4x12","RETAIL",0,100]
["ACC009",{"$f":"TEXT(Table_Query_from_Great_Plains[[#This Row],[ITEMNMBR]],0)","v":"ACC009"},"Accutech J-16 15 X 11 X 6 1/2","RETAIL",0,100]
["ACC010",{"$f":"TEXT(Table_Query_from_Great_Plains[[#This Row],[ITEMNMBR]],0)","v":"ACC010"},"Accutech J-22 20 X 15 X 9","RETAIL",0,100]
["ACC011",{"$f":"TEXT(Table_Query_from_Great_Plains[[#This Row],[ITEMNMBR]],0)","v":"ACC011"},"Accutech J-22 Insert Korrvu With stretch panel","RETAIL",0,100]
["ACC012",{"$f":"TEXT(Table_Query_from_Great_Plains[[#This Row],[ITEMNMBR]],0)","v":"ACC012"},"Accutech J-64 22 x 15 x 13","RETAIL",0,100]
["ACC013",{"$f":"TEXT(Table_Query_from_Great_Plains[[#This Row],[ITEMNMBR]],0)","v":"ACC013"},"Accutech Box J-75  24 x 18 x 15","RETAIL",0,100]
["ACC014",{"$f":"TEXT(Table_Query_from_Great_Plains[[#This Row],[ITEMNMBR]],0)","v":"ACC014"},"Accutech Box U-48-F 18X15 5/8 X13 5/8","RETAIL",0,100]
["ACC015",{"$f":"TEXT(Table_Query_from_Great_Plains[[#This Row],[ITEMNMBR]],0)","v":"ACC015"},"Executive Rose Box","RETAIL",0,100]
["ACC016",{"$f":"TEXT(Table_Query_from_Great_Plains[[#This Row],[ITEMNMBR]],0)","v":"ACC016"},"New Executive Suit Box- brown print","RETAIL",0,100]
["ACC018",{"$f":"TEXT(Table_Query_from_Great_Plains[[#This Row],[ITEMNMBR]],0)","v":"ACC018"},"Accutech Kraft Carton Tape - Reinforced 3\" X 375\"","RETAIL",0,100]
["ACC023",{"$f":"TEXT(Table_Query_from_Great_Plains[[#This Row],[ITEMNMBR]],0)","v":"ACC023"},"White Strapping 9mmX 12,900  300#","RETAIL",0,100]
["ACC025",{"$f":"TEXT(Table_Query_from_Great_Plains[[#This Row],[ITEMNMBR]],0)","v":"ACC025"},"Accutech Super Tube Novus Film 6\"L X 16\"W 1250ft","RETAIL",0,100]
["ACC025",{"$f":"TEXT(Table_Query_from_Great_Plains[[#This Row],[ITEMNMBR]],0)","v":"ACC025"},"Accutech Super Tube Novus Film 6\"L X 16\"W 1250ft","RETAIL",0,100]
["ACC027",{"$f":"TEXT(Table_Query_from_Great_Plains[[#This Row],[ITEMNMBR]],0)","v":"ACC027"},"Accutech 1/2” Bubble Wrap S12 P12 48 X 250 ft","RETAIL",0,100]
["ACC027",{"$f":"TEXT(Table_Query_from_Great_Plains[[#This Row],[ITEMNMBR]],0)","v":"ACC027"},"Accutech 1/2” Bubble Wrap S12 P12 48 X 250 ft","RETAIL",0,100]
["ACC027",{"$f":"TEXT(Table_Query_from_Great_Plains[[#This Row],[ITEMNMBR]],0)","v":"ACC027"},"Accutech 1/2” Bubble Wrap S12 P12 48 X 250 ft","RETAIL",0,100]
["ACC028",{"$f":"TEXT(Table_Query_from_Great_Plains[[#This Row],[ITEMNMBR]],0)","v":"ACC028"},"Accutech 3/16\" Bubble S12P12 500 ft","RETAIL",0,100]
["ACC028",{"$f":"TEXT(Table_Query_from_Great_Plains[[#This Row],[ITEMNMBR]],0)","v":"ACC028"},"Accutech 3/16\" Bubble S12P12 500 ft","RETAIL",0,100]
["ACC028",{"$f":"TEXT(Table_Query_from_Great_Plains[[#This Row],[ITEMNMBR]],0)","v":"ACC028"},"Accutech 3/16\" Bubble S12P12 500 ft","RETAIL",0,100]
["ACC031",{"$f":"TEXT(Table_Query_from_Great_Plains[[#This Row],[ITEMNMBR]],0)","v":"ACC031"},"Accutech Super 8 Pink Loosefill Anti-stat 14 cu/ft bag","RETAIL",0,100]
["ACC032",{"$f":"TEXT(Table_Query_from_Great_Plains[[#This Row],[ITEMNMBR]],0)","v":"ACC032"},"Accutech Flo-Pal Bio 8 Starch Loosefill 14 cu/ft bag","RETAIL",0,100]
["ACC036",{"$f":"TEXT(Table_Query_from_Great_Plains[[#This Row],[ITEMNMBR]],0)","v":"ACC036"},"Accutech 13X8X3 1# Ether Foam Green","RETAIL",0,100]
["ACC042",{"$f":"TEXT(Table_Query_from_Great_Plains[[#This Row],[ITEMNMBR]],0)","v":"ACC042"},"Accutech Mixing Block Kit (was HB)","RETAIL",0,100]
["ACC044",{"$f":"TEXT(Table_Query_from_Great_Plains[[#This Row],[ITEMNMBR]],0)","v":"ACC044"},"Accutech Speedy Packer Film (tall new machine)","RETAIL",0,100]
["ACC047",{"$f":"TEXT(Table_Query_from_Great_Plains[[#This Row],[ITEMNMBR]],0)","v":"ACC047"},"Accutech Box # 3 White 13\"x11\"x11.5\"","RETAIL",0,100]
["ACC048",{"$f":"TEXT(Table_Query_from_Great_Plains[[#This Row],[ITEMNMBR]],0)","v":"ACC048"},"Accutech Box # 2 White 12.24\"x10.25\"x14\"","RETAIL",0,100]
["ACC049",{"$f":"TEXT(Table_Query_from_Great_Plains[[#This Row],[ITEMNMBR]],0)","v":"ACC049"},"Strapping","RETAIL",0,100]
["ACC050",{"$f":"TEXT(Table_Query_from_Great_Plains[[#This Row],[ITEMNMBR]],0)","v":"ACC050"},"Excelsior","RETAIL",0,100]
["ACC050",{"$f":"TEXT(Table_Query_from_Great_Plains[[#This Row],[ITEMNMBR]],0)","v":"ACC050"},"Excelsior","RETAIL",0,100]
["ACC057",{"$f":"TEXT(Table_Query_from_Great_Plains[[#This Row],[ITEMNMBR]],0)","v":"ACC057"},"BURGANDY SHRED","RETAIL",0,100]
["ACC057",{"$f":"TEXT(Table_Query_from_Great_Plains[[#This Row],[ITEMNMBR]],0)","v":"ACC057"},"BURGANDY SHRED","RETAIL",0,100]
["ACC058",{"$f":"TEXT(Table_Query_from_Great_Plains[[#This Row],[ITEMNMBR]],0)","v":"ACC058"},"FOREST GREEN SHRED","RETAIL",0,100]
["ACC058",{"$f":"TEXT(Table_Query_from_Great_Plains[[#This Row],[ITEMNMBR]],0)","v":"ACC058"},"FOREST GREEN SHRED","RETAIL",0,100]
["ACC059",{"$f":"TEXT(Table_Query_from_Great_Plains[[#This Row],[ITEMNMBR]],0)","v":"ACC059"},"FRENCH VANILLA SHRED","RETAIL",0,100]
["ACC059",{"$f":"TEXT(Table_Query_from_Great_Plains[[#This Row],[ITEMNMBR]],0)","v":"ACC059"},"FRENCH VANILLA SHRED","RETAIL",0,100]
["ACC060",{"$f":"TEXT(Table_Query_from_Great_Plains[[#This Row],[ITEMNMBR]],0)","v":"ACC060"},"GREEN SHRED","RETAIL",0,100]
["ACC060",{"$f":"TEXT(Table_Query_from_Great_Plains[[#This Row],[ITEMNMBR]],0)","v":"ACC060"},"GREEN SHRED","RETAIL",0,100]
["ACC061",{"$f":"TEXT(Table_Query_from_Great_Plains[[#This Row],[ITEMNMBR]],0)","v":"ACC061"},"KRAFT SHRED","RETAIL",0,100]
["ACC061",{"$f":"TEXT(Table_Query_from_Great_Plains[[#This Row],[ITEMNMBR]],0)","v":"ACC061"},"KRAFT SHRED","RETAIL",0,100]
["ACC062",{"$f":"TEXT(Table_Query_from_Great_Plains[[#This Row],[ITEMNMBR]],0)","v":"ACC062"},"NAVY BLUE SHRED","RETAIL",0,100]
["ACC062",{"$f":"TEXT(Table_Query_from_Great_Plains[[#This Row],[ITEMNMBR]],0)","v":"ACC062"},"NAVY BLUE SHRED","RETAIL",0,100]
["ACC063",{"$f":"TEXT(Table_Query_from_Great_Plains[[#This Row],[ITEMNMBR]],0)","v":"ACC063"},"OLIVE GREEN SHRED","RETAIL",0,100]
["ACC063",{"$f":"TEXT(Table_Query_from_Great_Plains[[#This Row],[ITEMNMBR]],0)","v":"ACC063"},"OLIVE GREEN SHRED","RETAIL",0,100]
["ACC063",{"$f":"TEXT(Table_Query_from_Great_Plains[[#This Row],[ITEMNMBR]],0)","v":"ACC063"},"OLIVE GREEN SHRED","RETAIL",0,0]
["ACC064",{"$f":"TEXT(Table_Query_from_Great_Plains[[#This Row],[ITEMNMBR]],0)","v":"ACC064"},"RED SHRED","RETAIL",0,100]
["ACC064",{"$f":"TEXT(Table_Query_from_Great_Plains[[#This Row],[ITEMNMBR]],0)","v":"ACC064"},"RED SHRED","RETAIL",0,100]
["ACC065",{"$f":"TEXT(Table_Query_from_Great_Plains[[#This Row],[ITEMNMBR]],0)","v":"ACC065"},"ROYAL BLUE SHRED","RETAIL",0,100]
["ACC065",{"$f":"TEXT(Table_Query_from_Great_Plains[[#This Row],[ITEMNMBR]],0)","v":"ACC065"},"ROYAL BLUE SHRED","RETAIL",0,100]
["ACC068",{"$f":"TEXT(Table_Query_from_Great_Plains[[#This Row],[ITEMNMBR]],0)","v":"ACC068"},"LIGHT PINK SHRED","RETAIL",0,100]
["ACC068",{"$f":"TEXT(Table_Query_from_Great_Plains[[#This Row],[ITEMNMBR]],0)","v":"ACC068"},"LIGHT PINK SHRED","RETAIL",0,100]
["ACC069",{"$f":"TEXT(Table_Query_from_Great_Plains[[#This Row],[ITEMNMBR]],0)","v":"ACC069"},"TEAL SHRED","RETAIL",0,100]
["ACC069",{"$f":"TEXT(Table_Query_from_Great_Plains[[#This Row],[ITEMNMBR]],0)","v":"ACC069"},"TEAL SHRED","RETAIL",0,100]
["ACC077",{"$f":"TEXT(Table_Query_from_Great_Plains[[#This Row],[ITEMNMBR]],0)","v":"ACC077"},"Springfill Golden Rod crinkle cut shred 40 lb","RETAIL",0,100]
["ACC077",{"$f":"TEXT(Table_Query_from_Great_Plains[[#This Row],[ITEMNMBR]],0)","v":"ACC077"},"Springfill Golden Rod crinkle cut shred 40 lb","RETAIL",0,100]
["ACC078",{"$f":"TEXT(Table_Query_from_Great_Plains[[#This Row],[ITEMNMBR]],0)","v":"ACC078"},"YELLOW SHRED","RETAIL",0,100]
["ACC078",{"$f":"TEXT(Table_Query_from_Great_Plains[[#This Row],[ITEMNMBR]],0)","v":"ACC078"},"YELLOW SHRED","RETAIL",0,100]
["ACC079",{"$f":"TEXT(Table_Query_from_Great_Plains[[#This Row],[ITEMNMBR]],0)","v":"ACC079"},"LIGHT BLUE SHRED","RETAIL",0,100]
["ACC079",{"$f":"TEXT(Table_Query_from_Great_Plains[[#This Row],[ITEMNMBR]],0)","v":"ACC079"},"LIGHT BLUE SHRED","RETAIL",0,100]
["ACC080",{"$f":"TEXT(Table_Query_from_Great_Plains[[#This Row],[ITEMNMBR]],0)","v":"ACC080"},"BROWN SHRED","RETAIL",0,100]
["ACC080",{"$f":"TEXT(Table_Query_from_Great_Plains[[#This Row],[ITEMNMBR]],0)","v":"ACC080"},"BROWN SHRED","RETAIL",0,100]
["ACC081",{"$f":"TEXT(Table_Query_from_Great_Plains[[#This Row],[ITEMNMBR]],0)","v":"ACC081"},"WHITE SHRED","RETAIL",0,100]
["ACC081",{"$f":"TEXT(Table_Query_from_Great_Plains[[#This Row],[ITEMNMBR]],0)","v":"ACC081"},"WHITE SHRED","RETAIL",0,100]
["ACC082",{"$f":"TEXT(Table_Query_from_Great_Plains[[#This Row],[ITEMNMBR]],0)","v":"ACC082"},"Duck Brand Crystal Clear Tape 2\"","RETAIL",0,100]
["ACC094",{"$f":"TEXT(Table_Query_from_Great_Plains[[#This Row],[ITEMNMBR]],0)","v":"ACC094"},"Xenith 50 film 26\" Wide 2620","RETAIL",0,100]
["ACC094",{"$f":"TEXT(Table_Query_from_Great_Plains[[#This Row],[ITEMNMBR]],0)","v":"ACC094"},"Xenith 50 film 26\" Wide 2620","RETAIL",0,100]
["ACC095",{"$f":"TEXT(Table_Query_from_Great_Plains[[#This Row],[ITEMNMBR]],0)","v":"ACC095"},"Xenith 50 film 20\" Wide","RETAIL",0,100]
["ACC095",{"$f":"TEXT(Table_Query_from_Great_Plains[[#This Row],[ITEMNMBR]],0)","v":"ACC095"},"Xenith 50 film 20\" Wide","RETAIL",0,100]
["ACC104",{"$f":"TEXT(Table_Query_from_Great_Plains[[#This Row],[ITEMNMBR]],0)","v":"ACC104"},"Large Box - Bottom - in Red - Accutech","RETAIL",0,100]
["ACC105",{"$f":"TEXT(Table_Query_from_Great_Plains[[#This Row],[ITEMNMBR]],0)","v":"ACC105"},"Large Box - Top - in Brown - Accutech","RETAIL",0,100]
["ACC106",{"$f":"TEXT(Table_Query_from_Great_Plains[[#This Row],[ITEMNMBR]],0)","v":"ACC106"},"Large Box - Bottom - in Brown - Accutech","RETAIL",0,100]
["ACC107",{"$f":"TEXT(Table_Query_from_Great_Plains[[#This Row],[ITEMNMBR]],0)","v":"ACC107"},"Large Box - Top - in Green - Accutech","RETAIL",0,100]
["ACC108",{"$f":"TEXT(Table_Query_from_Great_Plains[[#This Row],[ITEMNMBR]],0)","v":"ACC108"},"Small Box - Bottom - in Red - Accutech","RETAIL",0,100]
["ACC109",{"$f":"TEXT(Table_Query_from_Great_Plains[[#This Row],[ITEMNMBR]],0)","v":"ACC109"},"Small Box - Top - in Brown - Accutech","RETAIL",0,100]
["ACC110",{"$f":"TEXT(Table_Query_from_Great_Plains[[#This Row],[ITEMNMBR]],0)","v":"ACC110"},"Small Box - Bottom - in Brown - Accutech","RETAIL",0,100]
["ACC111",{"$f":"TEXT(Table_Query_from_Great_Plains[[#This Row],[ITEMNMBR]],0)","v":"ACC111"},"Small Box - Top - in Green - Accutech","RETAIL",0,100]
["ACC112",{"$f":"TEXT(Table_Query_from_Great_Plains[[#This Row],[ITEMNMBR]],0)","v":"ACC112"},"pallet cover sheets","RETAIL",0,100]
["ACC118",{"$f":"TEXT(Table_Query_from_Great_Plains[[#This Row],[ITEMNMBR]],0)","v":"ACC118"},"TOWER line  Box 8-1/2x6-7/8x16-1/4 RSC 200#","RETAIL",0,1.62]
["ACC138",{"$f":"TEXT(Table_Query_from_Great_Plains[[#This Row],[ITEMNMBR]],0)","v":"ACC138"},"GGB BOX 12 - 17 x 13 x 12","RETAIL",0,2.2000000000000002]
["ART001",{"$f":"TEXT(Table_Query_from_Great_Plains[[#This Row],[ITEMNMBR]],0)","v":"ART001"},"Iris Margarita Green Glass","RETAIL",0,100]
["ATL001",{"$f":"TEXT(Table_Query_from_Great_Plains[[#This Row],[ITEMNMBR]],0)","v":"ATL001"},"2 Gal Platinum Tin","RETAIL",0,100]
["ATL002",{"$f":"TEXT(Table_Query_from_Great_Plains[[#This Row],[ITEMNMBR]],0)","v":"ATL002"},"3.5 Gal Platinum Tin","RETAIL",0,100]
["ATL003",{"$f":"TEXT(Table_Query_from_Great_Plains[[#This Row],[ITEMNMBR]],0)","v":"ATL003"},"3 way Divider 2 gal.","RETAIL",0,100]
["ATL004",{"$f":"TEXT(Table_Query_from_Great_Plains[[#This Row],[ITEMNMBR]],0)","v":"ATL004"},"3 way Divider 3.5 GAL","RETAIL",0,100]
["ATL005",{"$f":"TEXT(Table_Query_from_Great_Plains[[#This Row],[ITEMNMBR]],0)","v":"ATL005"},"Lid Shrink Band - 2 & 3.5 Gallon","RETAIL",0,100]
["ATL006",{"$f":"TEXT(Table_Query_from_Great_Plains[[#This Row],[ITEMNMBR]],0)","v":"ATL006"},"2 Gal stripe & Snowflake","RETAIL",0,100]
["ATL007",{"$f":"TEXT(Table_Query_from_Great_Plains[[#This Row],[ITEMNMBR]],0)","v":"ATL007"},"2 Gal whimsical snowmen Tin","RETAIL",0,100]
["ATL008",{"$f":"TEXT(Table_Query_from_Great_Plains[[#This Row],[ITEMNMBR]],0)","v":"ATL008"},"2 Gal Christmas Tree Tin","RETAIL",0,100]
["ATL009",{"$f":"TEXT(Table_Query_from_Great_Plains[[#This Row],[ITEMNMBR]],0)","v":"ATL009"},"3.5 Gal Stripes and Snowflake Tin","RETAIL",0,100]
["ATL010",{"$f":"TEXT(Table_Query_from_Great_Plains[[#This Row],[ITEMNMBR]],0)","v":"ATL010"},"3.5 Gal Whimsical Snowman Tin","RETAIL",0,100]
["ATL011",{"$f":"TEXT(Table_Query_from_Great_Plains[[#This Row],[ITEMNMBR]],0)","v":"ATL011"},"3.5 Gal Christmas Tree Tin","RETAIL",0,100]
["ATL012",{"$f":"TEXT(Table_Query_from_Great_Plains[[#This Row],[ITEMNMBR]],0)","v":"ATL012"},"3.5 Gal Sweet Hearts Tin","RETAIL",0,100]
["ATL013",{"$f":"TEXT(Table_Query_from_Great_Plains[[#This Row],[ITEMNMBR]],0)","v":"ATL013"},"2 Gal Sweet Hearts Tin","RETAIL",0,100]
["ATL014",{"$f":"TEXT(Table_Query_from_Great_Plains[[#This Row],[ITEMNMBR]],0)","v":"ATL014"},"3.5 Gal Easter Tin","RETAIL",0,100]
["ATL015",{"$f":"TEXT(Table_Query_from_Great_Plains[[#This Row],[ITEMNMBR]],0)","v":"ATL015"},"2 Gal Easter Tin","RETAIL",0,100]
["ATL016",{"$f":"TEXT(Table_Query_from_Great_Plains[[#This Row],[ITEMNMBR]],0)","v":"ATL016"},"One Gallon Tin","RETAIL",0,100]
["AVE002",{"$f":"TEXT(Table_Query_from_Great_Plains[[#This Row],[ITEMNMBR]],0)","v":"AVE002"},"Willow Specialties Tin Tray 14\"","RETAIL",0,100]
["AVE003",{"$f":"TEXT(Table_Query_from_Great_Plains[[#This Row],[ITEMNMBR]],0)","v":"AVE003"},"Willow Specialties Chipwood Basket with Drop Handles 13.75\"","RETAIL",0,100]
["AVE005",{"$f":"TEXT(Table_Query_from_Great_Plains[[#This Row],[ITEMNMBR]],0)","v":"AVE005"},"Willow Specialties Red crinkle cut 40 lb","RETAIL",0,100]
["AVE017",{"$f":"TEXT(Table_Query_from_Great_Plains[[#This Row],[ITEMNMBR]],0)","v":"AVE017"},"Willow Specialties Oatmeal Raffia 500 yd","RETAIL",0,100]
["AVE024",{"$f":"TEXT(Table_Query_from_Great_Plains[[#This Row],[ITEMNMBR]],0)","v":"AVE024"},"Light Purple Raffia 500 yd","RETAIL",0,0]
["AVE029",{"$f":"TEXT(Table_Query_from_Great_Plains[[#This Row],[ITEMNMBR]],0)","v":"AVE029"},"Willow Specialties Kraft Raffia 500 yd","RETAIL",0,100]
["AVE030",{"$f":"TEXT(Table_Query_from_Great_Plains[[#This Row],[ITEMNMBR]],0)","v":"AVE030"},"Metallic Gold Raffia 500 yd","RETAIL",0,100]
["AVE032",{"$f":"TEXT(Table_Query_from_Great_Plains[[#This Row],[ITEMNMBR]],0)","v":"AVE032"},"Red Raffia 500 yd","RETAIL",0,100]
["AVE034",{"$f":"TEXT(Table_Query_from_Great_Plains[[#This Row],[ITEMNMBR]],0)","v":"AVE034"},"Lime Green Raffia 500 yd","RETAIL",0,100]
["AVE037",{"$f":"TEXT(Table_Query_from_Great_Plains[[#This Row],[ITEMNMBR]],0)","v":"AVE037"},"Orange Raffia 500 yd","RETAIL",0,100]
["AVE039",{"$f":"TEXT(Table_Query_from_Great_Plains[[#This Row],[ITEMNMBR]],0)","v":"AVE039"},"Willow Specialties Teal crinkle cut shred 40 lb","RETAIL",0,100]
["AVE052",{"$f":"TEXT(Table_Query_from_Great_Plains[[#This Row],[ITEMNMBR]],0)","v":"AVE052"},"Willow Specialties Coral Raffia 500 yd","RETAIL",0,100]
["AVE054",{"$f":"TEXT(Table_Query_from_Great_Plains[[#This Row],[ITEMNMBR]],0)","v":"AVE054"},"Baby Blue Raffia 500 yd","RETAIL",0,100]
["AVE056",{"$f":"TEXT(Table_Query_from_Great_Plains[[#This Row],[ITEMNMBR]],0)","v":"AVE056"},"Willow Specialties Green Raffia 500 yd","RETAIL",0,100]
["AVE057",{"$f":"TEXT(Table_Query_from_Great_Plains[[#This Row],[ITEMNMBR]],0)","v":"AVE057"},"Willow Specialties Honey Round Over Handle Easter Ultimate '09 12\"","RETAIL",0,100]
["AVE058",{"$f":"TEXT(Table_Query_from_Great_Plains[[#This Row],[ITEMNMBR]],0)","v":"AVE058"},"Willow Specialties Brown Oval Over Handle Easter Jumbo '09 19\"","RETAIL",0,100]
["AVE059",{"$f":"TEXT(Table_Query_from_Great_Plains[[#This Row],[ITEMNMBR]],0)","v":"AVE059"},"Willow Specialties Easter Ultimate 2010 - 2014  Woven Handle","RETAIL",0,100]
["AVE060",{"$f":"TEXT(Table_Query_from_Great_Plains[[#This Row],[ITEMNMBR]],0)","v":"AVE060"},"Willow Specialties Easter Ultimate 2010 Cross Handle","RETAIL",0,100]
["AVE061",{"$f":"TEXT(Table_Query_from_Great_Plains[[#This Row],[ITEMNMBR]],0)","v":"AVE061"},"Willow Specialties Easter Jumbo 2010 Drk Brown","RETAIL",0,100]
["AVE062",{"$f":"TEXT(Table_Query_from_Great_Plains[[#This Row],[ITEMNMBR]],0)","v":"AVE062"},"Avery Imports Stainless Steel Colander 15.75\"x 5\"","RETAIL",0,100]
["AVE063",{"$f":"TEXT(Table_Query_from_Great_Plains[[#This Row],[ITEMNMBR]],0)","v":"AVE063"},"Avery Oval Red Tin with Diamond","RETAIL",0,100]
["AVE064",{"$f":"TEXT(Table_Query_from_Great_Plains[[#This Row],[ITEMNMBR]],0)","v":"AVE064"},"Oval Red Tin with Santa Belt","RETAIL",0,100]
["AVE065",{"$f":"TEXT(Table_Query_from_Great_Plains[[#This Row],[ITEMNMBR]],0)","v":"AVE065"},"Oval Red Tin with Reindeer Decoration","RETAIL",0,100]
["AVE066",{"$f":"TEXT(Table_Query_from_Great_Plains[[#This Row],[ITEMNMBR]],0)","v":"AVE066"},"Avery Imports Stainless Steel  Colander 13\" x 4.5\"","RETAIL",0,100]
["AVE067",{"$f":"TEXT(Table_Query_from_Great_Plains[[#This Row],[ITEMNMBR]],0)","v":"AVE067"},"2011-2015  Easter Jumbo Basket","RETAIL",0,100]
["AVE068",{"$f":"TEXT(Table_Query_from_Great_Plains[[#This Row],[ITEMNMBR]],0)","v":"AVE068"},"2011 Jumbo Basket Alternate","RETAIL",0,100]
["AVE069",{"$f":"TEXT(Table_Query_from_Great_Plains[[#This Row],[ITEMNMBR]],0)","v":"AVE069"},"2011 Jumbo 2nd Alt","RETAIL",0,100]
["AVE071",{"$f":"TEXT(Table_Query_from_Great_Plains[[#This Row],[ITEMNMBR]],0)","v":"AVE071"},"Easter Ultimate 2012 - 1st Alternate","RETAIL",0,100]
["AVE072",{"$f":"TEXT(Table_Query_from_Great_Plains[[#This Row],[ITEMNMBR]],0)","v":"AVE072"},"Easter Ultimate 2012 - 2nd Alternate","RETAIL",0,100]
["BAR002",{"$f":"TEXT(Table_Query_from_Great_Plains[[#This Row],[ITEMNMBR]],0)","v":"BAR002"},"Inspiring Thoughts for Golfers by Lee Warren -","RETAIL",0,100]
["BAT001",{"$f":"TEXT(Table_Query_from_Great_Plains[[#This Row],[ITEMNMBR]],0)","v":"BAT001"},"Cool Gel Spa Eye Mask -","RETAIL",0,100]
["BAT002",{"$f":"TEXT(Table_Query_from_Great_Plains[[#This Row],[ITEMNMBR]],0)","v":"BAT002"},"Exfoliating Bath Gloves (Pair) -","RETAIL",0,100]
["BAT003",{"$f":"TEXT(Table_Query_from_Great_Plains[[#This Row],[ITEMNMBR]],0)","v":"BAT003"},"Moisturizing Bath Gloves (Pair) -","RETAIL",0,100]
["BAT004",{"$f":"TEXT(Table_Query_from_Great_Plains[[#This Row],[ITEMNMBR]],0)","v":"BAT004"},"Massaging Bath Brush - 12\" -","RETAIL",0,100]
["BAT005",{"$f":"TEXT(Table_Query_from_Great_Plains[[#This Row],[ITEMNMBR]],0)","v":"BAT005"},"Terry Cloth Slippers - Size 8","RETAIL",0,100]
["BAT006",{"$f":"TEXT(Table_Query_from_Great_Plains[[#This Row],[ITEMNMBR]],0)","v":"BAT006"},"Toe Separators by Bath Essentials - Pink -","RETAIL",0,100]
["BAT007",{"$f":"TEXT(Table_Query_from_Great_Plains[[#This Row],[ITEMNMBR]],0)","v":"BAT007"},"Wooden Pumice Brush -","RETAIL",0,100]
["BCF001",{"$f":"TEXT(Table_Query_from_Great_Plains[[#This Row],[ITEMNMBR]],0)","v":"BCF001"},"Bathrobe and Slipper Set - White","RETAIL",0,100]
["BCF002",{"$f":"TEXT(Table_Query_from_Great_Plains[[#This Row],[ITEMNMBR]],0)","v":"BCF002"},"Bathrobe & Slipper Set - Blue","RETAIL",0,100]
["BCF003",{"$f":"TEXT(Table_Query_from_Great_Plains[[#This Row],[ITEMNMBR]],0)","v":"BCF003"},"Bathrobe and Slipper Set - Pink","RETAIL",0,100]
["BCF004",{"$f":"TEXT(Table_Query_from_Great_Plains[[#This Row],[ITEMNMBR]],0)","v":"BCF004"},"Baby Spa Wash Cloths Pink","RETAIL",0,100]
["BCF006",{"$f":"TEXT(Table_Query_from_Great_Plains[[#This Row],[ITEMNMBR]],0)","v":"BCF006"},"Baby Spa Wash Cloths Blue","RETAIL",0,100]
["BDAAV1",{"$f":"TEXT(Table_Query_from_Great_Plains[[#This Row],[ITEMNMBR]],0)","v":"BDAAV1"},"Custom : Atlanta Audio Visual - 4021 plus CSI items (Brian)","RETAIL",0,69.989999999999995]
["BDAAV2",{"$f":"TEXT(Table_Query_from_Great_Plains[[#This Row],[ITEMNMBR]],0)","v":"BDAAV2"},"Custom : Atlanta Audio Visual - 4023 plus CSI items (Brian)","RETAIL",0,149.99]
["BDAAV3",{"$f":"TEXT(Table_Query_from_Great_Plains[[#This Row],[ITEMNMBR]],0)","v":"BDAAV3"},"Custom : Atlanta Audio Visual - 4051 plus CSI items (Brian)","RETAIL",0,59.99]
["BDAAV4",{"$f":"TEXT(Table_Query_from_Great_Plains[[#This Row],[ITEMNMBR]],0)","v":"BDAAV4"},"Custom : Atlanta Audio Visual - 4101 plus CSI items (Brian)","RETAIL",0,49.99]
["BDAAV5",{"$f":"TEXT(Table_Query_from_Great_Plains[[#This Row],[ITEMNMBR]],0)","v":"BDAAV5"},"Custom : Atlanta Audio Visual - 5250 plus CSI items (Brian)","RETAIL",0,99.99]
["BDAAV6",{"$f":"TEXT(Table_Query_from_Great_Plains[[#This Row],[ITEMNMBR]],0)","v":"BDAAV6"},"Custom : Atlanta Audio Visual - 6821 plus CSI items (Brian)","RETAIL",0,39.99]
["BDAAV7",{"$f":"TEXT(Table_Query_from_Great_Plains[[#This Row],[ITEMNMBR]],0)","v":"BDAAV7"},"Custom : Atlanta Audio Visual - 5111 plus t shirts (Brian)","RETAIL",1,174.99]
["BDAC01",{"$f":"TEXT(Table_Query_from_Great_Plains[[#This Row],[ITEMNMBR]],0)","v":"BDAC01"},"Custom : Alliance Consumer Growth - csi items  (Brian)","RETAIL",0,22.99]
["BDAC02",{"$f":"TEXT(Table_Query_from_Great_Plains[[#This Row],[ITEMNMBR]],0)","v":"BDAC02"},"Custom : Alliance Consumer Growth - csi items 2014a  (Brian)","RETAIL",0,22.99]
["BDAC03",{"$f":"TEXT(Table_Query_from_Great_Plains[[#This Row],[ITEMNMBR]],0)","v":"BDAC03"},"Custom : Alliance Consumer Growth - csi items 2014b  (Brian)","RETAIL",0,22.99]
["BDBTG1",{"$f":"TEXT(Table_Query_from_Great_Plains[[#This Row],[ITEMNMBR]],0)","v":"BDBTG1"},"Custom : BTG -  cider, snacks, cookies, & chocolates  (Brian)","RETAIL",0,40]
["BDCA01",{"$f":"TEXT(Table_Query_from_Great_Plains[[#This Row],[ITEMNMBR]],0)","v":"BDCA01"},"Custom: Cash America - Candy - care package style (Brian)","RETAIL",0,34.99]
["BDCA02",{"$f":"TEXT(Table_Query_from_Great_Plains[[#This Row],[ITEMNMBR]],0)","v":"BDCA02"},"Custom: Cash America - Enjoyable Snacks Grab & Go Style  (Brian)","RETAIL",0,80]
["BDCEL1",{"$f":"TEXT(Table_Query_from_Great_Plains[[#This Row],[ITEMNMBR]],0)","v":"BDCEL1"},"Custom : Cellucap Manufacturing - Bountiful - no pears  (Brian)","RETAIL",0,99.99]
["BDCEL2",{"$f":"TEXT(Table_Query_from_Great_Plains[[#This Row],[ITEMNMBR]],0)","v":"BDCEL2"},"Custom : Cellucap Manufacturing - 5220 with fruits  (Brian)","RETAIL",0,149.99]
["BDCS01",{"$f":"TEXT(Table_Query_from_Great_Plains[[#This Row],[ITEMNMBR]],0)","v":"BDCS01"},"Custom : Colonial Systems - 5232 plus branded csi items  (Brian)","RETAIL",0,249.99]
["BDCS02",{"$f":"TEXT(Table_Query_from_Great_Plains[[#This Row],[ITEMNMBR]],0)","v":"BDCS02"},"Custom : Colonial Systems - 5235 plus branded csi items  (Brian)","RETAIL",0,149.99]
["BDDCS1",{"$f":"TEXT(Table_Query_from_Great_Plains[[#This Row],[ITEMNMBR]],0)","v":"BDDCS1"},"Custom :Delaney Corp. Services- Riesling, fruits, snacks and sweets   (Brian)","RETAIL",1,124.99]
["BDDIR1",{"$f":"TEXT(Table_Query_from_Great_Plains[[#This Row],[ITEMNMBR]],0)","v":"BDDIR1"},"Custom: Directi - snack basket (Brian)","RETAIL",0,40]
["BDEIU1",{"$f":"TEXT(Table_Query_from_Great_Plains[[#This Row],[ITEMNMBR]],0)","v":"BDEIU1"},"Custom : Sauvignon Blanc Basket - 1 of 2  (Brian)","RETAIL",1,200.99]
["BDEIU2",{"$f":"TEXT(Table_Query_from_Great_Plains[[#This Row],[ITEMNMBR]],0)","v":"BDEIU2"},"Custom : Sauvignon Blanc Basket - 2 of 2  (Brian)","RETAIL",1,200.99]
["BDEIU3",{"$f":"TEXT(Table_Query_from_Great_Plains[[#This Row],[ITEMNMBR]],0)","v":"BDEIU3"},"Custom : Malbec Basket - 1 of 2   (Brian)","RETAIL",1,380.99]
["BDEIU4",{"$f":"TEXT(Table_Query_from_Great_Plains[[#This Row],[ITEMNMBR]],0)","v":"BDEIU4"},"Custom : Malbec Basket - 2 of 2   (Brian)","RETAIL",1,380.99]
["BDEIU5",{"$f":"TEXT(Table_Query_from_Great_Plains[[#This Row],[ITEMNMBR]],0)","v":"BDEIU5"},"Custom : Pinot Noir  Basket - 1 of 2   (Brian)","RETAIL",1,309.99]
["BDEIU6",{"$f":"TEXT(Table_Query_from_Great_Plains[[#This Row],[ITEMNMBR]],0)","v":"BDEIU6"},"Custom : Pinot Noir  Basket - 2 of 2   (Brian)","RETAIL",1,309.99]
["BDEIU7",{"$f":"TEXT(Table_Query_from_Great_Plains[[#This Row],[ITEMNMBR]],0)","v":"BDEIU7"},"Custom : 18  Beer Bucket - 1 of 2   (Brian)","RETAIL",1,144.99]
["BDEIU8",{"$f":"TEXT(Table_Query_from_Great_Plains[[#This Row],[ITEMNMBR]],0)","v":"BDEIU8"},"Custom : 18  Beer Bucket - 2 of 2   (Brian)","RETAIL",1,144.99]
["BDEZ01",{"$f":"TEXT(Table_Query_from_Great_Plains[[#This Row],[ITEMNMBR]],0)","v":"BDEZ01"},"Custom: New Baby Boy with added treats for the parents  (Brian)","RETAIL",1,199.99]
["BDFL01",{"$f":"TEXT(Table_Query_from_Great_Plains[[#This Row],[ITEMNMBR]],0)","v":"BDFL01"},"Custom: Fluent - Champagne, Wine, Snacks & Sweets  (Brian)","RETAIL",1,1000]
["BDFR01",{"$f":"TEXT(Table_Query_from_Great_Plains[[#This Row],[ITEMNMBR]],0)","v":"BDFR01"},"Custom: Freemanxp - Wine, Beers, snacks and chocolates (Brian)","RETAIL",1,271.99]
["BDHC01",{"$f":"TEXT(Table_Query_from_Great_Plains[[#This Row],[ITEMNMBR]],0)","v":"BDHC01"},"Custom: Tea and Baked Goods  (Brian)","RETAIL",0,80]
["BDHCP1",{"$f":"TEXT(Table_Query_from_Great_Plains[[#This Row],[ITEMNMBR]],0)","v":"BDHCP1"},"Custom: Cookie Cake  (Brian)","RETAIL",0,21]
["BDHD01",{"$f":"TEXT(Table_Query_from_Great_Plains[[#This Row],[ITEMNMBR]],0)","v":"BDHD01"},"Custom: Hyundai - Purely Fruit - (Brian)","RETAIL",0,70]
["BDHSM1",{"$f":"TEXT(Table_Query_from_Great_Plains[[#This Row],[ITEMNMBR]],0)","v":"BDHSM1"},"Custom: HSM - 4052 plus envelope containing greeting card &  gift card","RETAIL",0,79.989999999999995]
["BDISC1",{"$f":"TEXT(Table_Query_from_Great_Plains[[#This Row],[ITEMNMBR]],0)","v":"BDISC1"},"Custom : ISC Group - Ultimate Coffee and Chocolates Gift Basket -  (Brian)","RETAIL",0,176.99]
["BDJET1",{"$f":"TEXT(Table_Query_from_Great_Plains[[#This Row],[ITEMNMBR]],0)","v":"BDJET1"},"Custom : Jetex - Champagne and Chocolates Suitcase (Brian)","RETAIL",1,389]
["BDMS01",{"$f":"TEXT(Table_Query_from_Great_Plains[[#This Row],[ITEMNMBR]],0)","v":"BDMS01"},"Custom: snacks and sweets (Brian)","RETAIL",0,40]
["BDMTK1",{"$f":"TEXT(Table_Query_from_Great_Plains[[#This Row],[ITEMNMBR]],0)","v":"BDMTK1"},"Custom - Chips, Snacks and Water - Hangover Fix","RETAIL",0,45]
["BDMW21",{"$f":"TEXT(Table_Query_from_Great_Plains[[#This Row],[ITEMNMBR]],0)","v":"BDMW21"},"Custom : Momentum Worldwide - Rose Bowl (Brian)","RETAIL",0,59.99]
["BDMW22",{"$f":"TEXT(Table_Query_from_Great_Plains[[#This Row],[ITEMNMBR]],0)","v":"BDMW22"},"Custom : Momentum Worldwide - Sugar Bowl (Brian)","RETAIL",0,42.99]
["BDMW23",{"$f":"TEXT(Table_Query_from_Great_Plains[[#This Row],[ITEMNMBR]],0)","v":"BDMW23"},"Custom : Momentum Worldwide - Championship (Brian)","RETAIL",0,70]
["BDMWNY",{"$f":"TEXT(Table_Query_from_Great_Plains[[#This Row],[ITEMNMBR]],0)","v":"BDMWNY"},"Custom : New York-themed gift (Brian)","RETAIL",0,60]
["BDMWTX",{"$f":"TEXT(Table_Query_from_Great_Plains[[#This Row],[ITEMNMBR]],0)","v":"BDMWTX"},"Custom : Texas-themed gift (Brian)","RETAIL",0,40]
["BDNF01",{"$f":"TEXT(Table_Query_from_Great_Plains[[#This Row],[ITEMNMBR]],0)","v":"BDNF01"},"Custom:  (Brian)","RETAIL",1,199.99]
["BDNG01",{"$f":"TEXT(Table_Query_from_Great_Plains[[#This Row],[ITEMNMBR]],0)","v":"BDNG01"},"Custom: Nextgear -  Holiday snacks (Brian)","RETAIL",0,134.99]
["BDNG02",{"$f":"TEXT(Table_Query_from_Great_Plains[[#This Row],[ITEMNMBR]],0)","v":"BDNG02"},"Custom: Nextgear -  Holiday popcorn and baked goods (Brian)","RETAIL",0,119.99]
["BDPFR1",{"$f":"TEXT(Table_Query_from_Great_Plains[[#This Row],[ITEMNMBR]],0)","v":"BDPFR1"},"Custom :Petroleum Filed Services Recruiting - 5523 + mug + card  (Brian)","RETAIL",0,31.99]
["BDPFR2",{"$f":"TEXT(Table_Query_from_Great_Plains[[#This Row],[ITEMNMBR]],0)","v":"BDPFR2"},"Custom :Petroleum Filed Services Recruiting - 4071 + mug + card  (Brian)","RETAIL",0,74.989999999999995]
["BDPFR3",{"$f":"TEXT(Table_Query_from_Great_Plains[[#This Row],[ITEMNMBR]],0)","v":"BDPFR3"},"Custom :Petroleum Filed Services Recruiting - 4072 + mug + card  (Brian)","RETAIL",0,104.99]
["BDPFR4",{"$f":"TEXT(Table_Query_from_Great_Plains[[#This Row],[ITEMNMBR]],0)","v":"BDPFR4"},"Custom :Petroleum Filed Services Recruiting - 4070 + mug + card  (Brian)","RETAIL",0,55.99]
["BDPFR5",{"$f":"TEXT(Table_Query_from_Great_Plains[[#This Row],[ITEMNMBR]],0)","v":"BDPFR5"},"Custom :Petroleum Filed Services Recruiting - 4070 + 2 mugs + card  (Brian)","RETAIL",0,55.99]
["BDPFR6",{"$f":"TEXT(Table_Query_from_Great_Plains[[#This Row],[ITEMNMBR]],0)","v":"BDPFR6"},"Custom :Petroleum Filed Services Recruiting - 4072 + 4 mugs + card  (Brian)","RETAIL",0,106.99]
["BDPFR7",{"$f":"TEXT(Table_Query_from_Great_Plains[[#This Row],[ITEMNMBR]],0)","v":"BDPFR7"},"Custom :Petroleum Filed Services Recruiting - 4071 + card  (Brian)","RETAIL",0,74.989999999999995]
["BDPFR8",{"$f":"TEXT(Table_Query_from_Great_Plains[[#This Row],[ITEMNMBR]],0)","v":"BDPFR8"},"Custom :Petroleum Filed Services Recruiting - 4070 + 3 mugs + card  (Brian)","RETAIL",0,58.99]
["BDPFS1",{"$f":"TEXT(Table_Query_from_Great_Plains[[#This Row],[ITEMNMBR]],0)","v":"BDPFS1"},"Custom :Petroleum Filed Services - 4070 + thermos +  mug + card  (Brian)","RETAIL",0,55.99]
["BDPFS2",{"$f":"TEXT(Table_Query_from_Great_Plains[[#This Row],[ITEMNMBR]],0)","v":"BDPFS2"},"Custom :Petroleum Filed Services - 4070 + 2 thermos +  2 mug + card  (Brian)","RETAIL",0,58.99]
["BDRAS1",{"$f":"TEXT(Table_Query_from_Great_Plains[[#This Row],[ITEMNMBR]],0)","v":"BDRAS1"},"Custom :RAS Data Svcs - Cakebread Red & White with snacks and sweets   (Brian)","RETAIL",1,469.99]
["BDSM01",{"$f":"TEXT(Table_Query_from_Great_Plains[[#This Row],[ITEMNMBR]],0)","v":"BDSM01"},"\"Custom\" Indulgent Belgian Supreme Tower","RETAIL",0,49.95]
["BDSREC",{"$f":"TEXT(Table_Query_from_Great_Plains[[#This Row],[ITEMNMBR]],0)","v":"BDSREC"},"Custom : New Twins - Bears, Snacks & Sweets   (Brian)","RETAIL",0,60]
["BDSSA1",{"$f":"TEXT(Table_Query_from_Great_Plains[[#This Row],[ITEMNMBR]],0)","v":"BDSSA1"},"Custom : Service Systems Assoc - Sauvignon Blanc cheese & crackers  (Brian)","RETAIL",1,110]
["BDSUM1",{"$f":"TEXT(Table_Query_from_Great_Plains[[#This Row],[ITEMNMBR]],0)","v":"BDSUM1"},"Custom : Summit Distributors - Christmas in LL Bean Tote  (Brian)","RETAIL",0,60]
["BDSUM2",{"$f":"TEXT(Table_Query_from_Great_Plains[[#This Row],[ITEMNMBR]],0)","v":"BDSUM2"},"Custom : Summit Distributors - Holiday Wine Basket (Brian)","RETAIL",1,60]
["BDTC01",{"$f":"TEXT(Table_Query_from_Great_Plains[[#This Row],[ITEMNMBR]],0)","v":"BDTC01"},"Custom: Tri Con Snow Removal (Brian)","RETAIL",0,150]
["BDTC02",{"$f":"TEXT(Table_Query_from_Great_Plains[[#This Row],[ITEMNMBR]],0)","v":"BDTC02"},"Custom: Tri Con Snow Removal 2 (Brian)","RETAIL",0,200]
["BDTDS1",{"$f":"TEXT(Table_Query_from_Great_Plains[[#This Row],[ITEMNMBR]],0)","v":"BDTDS1"},"Custom : TDS Telecom  - Baja Company - Welcome/Celebration - 4408  (Brian)","RETAIL",0,185.99]
["BDTDS2",{"$f":"TEXT(Table_Query_from_Great_Plains[[#This Row],[ITEMNMBR]],0)","v":"BDTDS2"},"Custom : TDS Telecom  - Baja Company - Welcome/Celebration - 4407  (Brian)","RETAIL",0,125.99]
["BDTDS3",{"$f":"TEXT(Table_Query_from_Great_Plains[[#This Row],[ITEMNMBR]],0)","v":"BDTDS3"},"Custom : TDS Telecom  - Baja Company - Welcome/Celebration - 4406  (Brian)","RETAIL",0,85.99]
["BDTDS4",{"$f":"TEXT(Table_Query_from_Great_Plains[[#This Row],[ITEMNMBR]],0)","v":"BDTDS4"},"Custom : TDS Telecom  - Baja Company - Welcome/Celebration - 5524  (Brian)","RETAIL",0,35.99]
["BDTDS5",{"$f":"TEXT(Table_Query_from_Great_Plains[[#This Row],[ITEMNMBR]],0)","v":"BDTDS5"},"Custom : TDS Telecom  - Baja Company - Welcome/Celebration - 4401  (Brian)","RETAIL",0,53.99]
["BDWE01",{"$f":"TEXT(Table_Query_from_Great_Plains[[#This Row],[ITEMNMBR]],0)","v":"BDWE01"},"Custom:Welch's - snacks and csi items (Brian)","RETAIL",0,70]
["BDWH01",{"$f":"TEXT(Table_Query_from_Great_Plains[[#This Row],[ITEMNMBR]],0)","v":"BDWH01"},"Custom : Wheel House Gifts - 5130 with added csi item -1-  (Brian)","RETAIL",1,49.99]
["BDWH02",{"$f":"TEXT(Table_Query_from_Great_Plains[[#This Row],[ITEMNMBR]],0)","v":"BDWH02"},"Custom : Wheel House Gifts - 5130 with added csi item -2-  (Brian)","RETAIL",1,49.99]
["BDWH03",{"$f":"TEXT(Table_Query_from_Great_Plains[[#This Row],[ITEMNMBR]],0)","v":"BDWH03"},"Custom : Wheel House Gifts - 5130 with added csi item -3-  (Brian)","RETAIL",1,49.99]
["BDWH04",{"$f":"TEXT(Table_Query_from_Great_Plains[[#This Row],[ITEMNMBR]],0)","v":"BDWH04"},"Custom : Wheel House Gifts - 4021 with added csi item   (Brian)","RETAIL",0,69.989999999999995]
["BDWH05",{"$f":"TEXT(Table_Query_from_Great_Plains[[#This Row],[ITEMNMBR]],0)","v":"BDWH05"},"Custom : Wheel House Gifts - 4404 with added csi items   (Brian)","RETAIL",0,79.989999999999995]
["BDWH06",{"$f":"TEXT(Table_Query_from_Great_Plains[[#This Row],[ITEMNMBR]],0)","v":"BDWH06"},"Custom : Wheel House Gifts - 5130 with added csi item -4-  (Brian)","RETAIL",1,49.99]
["BDWH07",{"$f":"TEXT(Table_Query_from_Great_Plains[[#This Row],[ITEMNMBR]],0)","v":"BDWH07"},"Custom : Wheel House Gifts - 5130 with added csi item -5-  (Brian)","RETAIL",1,49.99]
["BDWH08",{"$f":"TEXT(Table_Query_from_Great_Plains[[#This Row],[ITEMNMBR]],0)","v":"BDWH08"},"Custom : Wheel House Gifts - 5130 with added csi item -6-  (Brian)","RETAIL",1,49.99]
["BDWH09",{"$f":"TEXT(Table_Query_from_Great_Plains[[#This Row],[ITEMNMBR]],0)","v":"BDWH09"},"Custom : Wheel House Gifts - single bottle of red wine (Brian)","RETAIL",1,24.99]
["BEL005",{"$f":"TEXT(Table_Query_from_Great_Plains[[#This Row],[ITEMNMBR]],0)","v":"BEL005"},"Craft Paper Roll - Shooter Machine  2100'ft roll","RETAIL",0,100]
["BH5210",{"$f":"TEXT(Table_Query_from_Great_Plains[[#This Row],[ITEMNMBR]],0)","v":"BH5210"},"Custom Christmas Classic for New Years","RETAIL",0,59.99]
["BH5215",{"$f":"TEXT(Table_Query_from_Great_Plains[[#This Row],[ITEMNMBR]],0)","v":"BH5215"},"Custom Christmas Premium for New Years","RETAIL",0,79.989999999999995]
["BH5220",{"$f":"TEXT(Table_Query_from_Great_Plains[[#This Row],[ITEMNMBR]],0)","v":"BH5220"},"Custom Christmas Deluxe for New Years","RETAIL",0,99.99]
["BH5225",{"$f":"TEXT(Table_Query_from_Great_Plains[[#This Row],[ITEMNMBR]],0)","v":"BH5225"},"Custom Christmas Ultimate for New Years","RETAIL",0,124.99]
["BH5230",{"$f":"TEXT(Table_Query_from_Great_Plains[[#This Row],[ITEMNMBR]],0)","v":"BH5230"},"Custom Christmas Corp Showstopper for New Years","RETAIL",0,149.99]
["BHAS01",{"$f":"TEXT(Table_Query_from_Great_Plains[[#This Row],[ITEMNMBR]],0)","v":"BHAS01"},"Custom Snack Deluxe with 2 branded items (Billie)","RETAIL",0,99.99]
["BHAS02",{"$f":"TEXT(Table_Query_from_Great_Plains[[#This Row],[ITEMNMBR]],0)","v":"BHAS02"},"Custom Snack Deluxe with 1 branded item (Billie)","RETAIL",0,99.99]
["BHAS03",{"$f":"TEXT(Table_Query_from_Great_Plains[[#This Row],[ITEMNMBR]],0)","v":"BHAS03"},"Custom Halloween Basket / Popcorn","RETAIL",0,100]
["BHAS04",{"$f":"TEXT(Table_Query_from_Great_Plains[[#This Row],[ITEMNMBR]],0)","v":"BHAS04"},"Custom Halloween $100","RETAIL",0,100]
["BHAS05",{"$f":"TEXT(Table_Query_from_Great_Plains[[#This Row],[ITEMNMBR]],0)","v":"BHAS05"},"Custom Halloween $200 - Version 1","RETAIL",0,200]
["BHAS06",{"$f":"TEXT(Table_Query_from_Great_Plains[[#This Row],[ITEMNMBR]],0)","v":"BHAS06"},"Custom Halloween $200 - Version 2","RETAIL",0,200]
["BHBD01",{"$f":"TEXT(Table_Query_from_Great_Plains[[#This Row],[ITEMNMBR]],0)","v":"BHBD01"},"Custom (P-P bucket) yellow and gold (Billie)","RETAIL",0,39.99]
["BHBJ1",{"$f":"TEXT(Table_Query_from_Great_Plains[[#This Row],[ITEMNMBR]],0)","v":"BHBJ1"},"Custom -The Business Journals  basket - Allstate - Christine - Deluxe Junk Food Bucket (Billie)","RETAIL",0,59.99]
["BHBJ2",{"$f":"TEXT(Table_Query_from_Great_Plains[[#This Row],[ITEMNMBR]],0)","v":"BHBJ2"},"Custom -The Business Journals  basket - GM - Lindsey - Deluxe Junk Food Bucket (Billie)","RETAIL",0,59.99]
["BHBJ3",{"$f":"TEXT(Table_Query_from_Great_Plains[[#This Row],[ITEMNMBR]],0)","v":"BHBJ3"},"Custom -The Business Journals  basket - Lincoln - Kristen - Deluxe Junk Food Bucket (Billie)","RETAIL",0,59.99]
["BHBM01",{"$f":"TEXT(Table_Query_from_Great_Plains[[#This Row],[ITEMNMBR]],0)","v":"BHBM01"},"Custom Wine Basket","RETAIL",1,69.989999999999995]
["BHBOOZ",{"$f":"TEXT(Table_Query_from_Great_Plains[[#This Row],[ITEMNMBR]],0)","v":"BHBOOZ"},"Custom Dom and Chocolates (Billie)","RETAIL",1,200]
["BHBRX1",{"$f":"TEXT(Table_Query_from_Great_Plains[[#This Row],[ITEMNMBR]],0)","v":"BHBRX1"},"Custom Starbucks Basket (Billie)","RETAIL",0,75]
["BHCAP1",{"$f":"TEXT(Table_Query_from_Great_Plains[[#This Row],[ITEMNMBR]],0)","v":"BHCAP1"},"Custom Care Package (Billie)","RETAIL",0,30]
["BHCNN1",{"$f":"TEXT(Table_Query_from_Great_Plains[[#This Row],[ITEMNMBR]],0)","v":"BHCNN1"},"Custom Choc O Lantern with custom ribbon","RETAIL",0,34.99]
["BHCSR1",{"$f":"TEXT(Table_Query_from_Great_Plains[[#This Row],[ITEMNMBR]],0)","v":"BHCSR1"},"Custom Chocolate Basket","RETAIL",0,48]
["BHCSR2",{"$f":"TEXT(Table_Query_from_Great_Plains[[#This Row],[ITEMNMBR]],0)","v":"BHCSR2"},"custom corporate chocolates (Billie)","RETAIL",0,63]
["BHDR01",{"$f":"TEXT(Table_Query_from_Great_Plains[[#This Row],[ITEMNMBR]],0)","v":"BHDR01"},"Custom D- R- Horton -summer- (Billie)","RETAIL",0,25]
["BHDV01",{"$f":"TEXT(Table_Query_from_Great_Plains[[#This Row],[ITEMNMBR]],0)","v":"BHDV01"},"Custom Danzer $30 (no wine)","RETAIL",0,30]
["BHDV02",{"$f":"TEXT(Table_Query_from_Great_Plains[[#This Row],[ITEMNMBR]],0)","v":"BHDV02"},"Custom Danzer $50 (no wine)","RETAIL",0,50]
["BHDV03",{"$f":"TEXT(Table_Query_from_Great_Plains[[#This Row],[ITEMNMBR]],0)","v":"BHDV03"},"Custom Danzer $75 (no wine)","RETAIL",0,75]
["BHDV04",{"$f":"TEXT(Table_Query_from_Great_Plains[[#This Row],[ITEMNMBR]],0)","v":"BHDV04"},"Custom Danzer $75 (with wine)","RETAIL",1,75]
["BHDV05",{"$f":"TEXT(Table_Query_from_Great_Plains[[#This Row],[ITEMNMBR]],0)","v":"BHDV05"},"Custom Danzer $100 (no wine)","RETAIL",0,100]
["BHDV06",{"$f":"TEXT(Table_Query_from_Great_Plains[[#This Row],[ITEMNMBR]],0)","v":"BHDV06"},"Custom Danzer $100 (with wine)","RETAIL",1,100]
["BHDV07",{"$f":"TEXT(Table_Query_from_Great_Plains[[#This Row],[ITEMNMBR]],0)","v":"BHDV07"},"Custom Danzer $150 (no wine)","RETAIL",0,150]
["BHDV08",{"$f":"TEXT(Table_Query_from_Great_Plains[[#This Row],[ITEMNMBR]],0)","v":"BHDV08"},"Custom Danzer $150 (with wine)","RETAIL",1,150]
["BHEMER",{"$f":"TEXT(Table_Query_from_Great_Plains[[#This Row],[ITEMNMBR]],0)","v":"BHEMER"},"Custom * In the mood for some BBQ*  (Billie)","RETAIL",0,45]
["BHFG01",{"$f":"TEXT(Table_Query_from_Great_Plains[[#This Row],[ITEMNMBR]],0)","v":"BHFG01"},"Custom Care Pkg (Billie)","RETAIL",0,44.99]
["BHJH01",{"$f":"TEXT(Table_Query_from_Great_Plains[[#This Row],[ITEMNMBR]],0)","v":"BHJH01"},"Custom Snack Basket ( Billie )","RETAIL",0,192.3]
["BHJH02",{"$f":"TEXT(Table_Query_from_Great_Plains[[#This Row],[ITEMNMBR]],0)","v":"BHJH02"},"Custom cookie samplers plus visa cards ( Billie )","RETAIL",0,164.99]
["BHJLL1",{"$f":"TEXT(Table_Query_from_Great_Plains[[#This Row],[ITEMNMBR]],0)","v":"BHJLL1"},"Custom Xmas Stack with custom ribbon (Billie)","RETAIL",0,37.99]
["BHJLL2",{"$f":"TEXT(Table_Query_from_Great_Plains[[#This Row],[ITEMNMBR]],0)","v":"BHJLL2"},"Custom Xmas Classic with custom ribbons (Billie)","RETAIL",0,59.99]
["BHJLL3",{"$f":"TEXT(Table_Query_from_Great_Plains[[#This Row],[ITEMNMBR]],0)","v":"BHJLL3"},"Custom Xmas Deluxe with custom ribbons (Billie)","RETAIL",0,99.99]
["BHLKF",{"$f":"TEXT(Table_Query_from_Great_Plains[[#This Row],[ITEMNMBR]],0)","v":"BHLKF"},"Custom fruit & brownies ( Billie)","RETAIL",0,100]
["BHLP01",{"$f":"TEXT(Table_Query_from_Great_Plains[[#This Row],[ITEMNMBR]],0)","v":"BHLP01"},"Custom Junk Food Bucket ( Billie )","RETAIL",0,39.99]
["BHLUM1",{"$f":"TEXT(Table_Query_from_Great_Plains[[#This Row],[ITEMNMBR]],0)","v":"BHLUM1"},"Custom fruit & brownies (Billie)","RETAIL",0,100]
["BHLUM2",{"$f":"TEXT(Table_Query_from_Great_Plains[[#This Row],[ITEMNMBR]],0)","v":"BHLUM2"},"Custom fruit & brownie basket (Billie)","RETAIL",0,99.99]
["BHLUM5",{"$f":"TEXT(Table_Query_from_Great_Plains[[#This Row],[ITEMNMBR]],0)","v":"BHLUM5"},"Custom fruit & brownies (Billie)","RETAIL",0,50]
["BHLUMI",{"$f":"TEXT(Table_Query_from_Great_Plains[[#This Row],[ITEMNMBR]],0)","v":"BHLUMI"},"Custom fruit & brownie basket (Billie)","RETAIL",0,100]
["BHMAR1",{"$f":"TEXT(Table_Query_from_Great_Plains[[#This Row],[ITEMNMBR]],0)","v":"BHMAR1"},"Custom cheese crackers and dove chocolates for Mars-  (Billie)","RETAIL",0,130]
["BHMAR2",{"$f":"TEXT(Table_Query_from_Great_Plains[[#This Row],[ITEMNMBR]],0)","v":"BHMAR2"},"Custom wine cheese crackers and dove chocolates for Mars-  (Billie)","RETAIL",1,130]
["BHMAR3",{"$f":"TEXT(Table_Query_from_Great_Plains[[#This Row],[ITEMNMBR]],0)","v":"BHMAR3"},"Custom wine cheese crackers and dove chocolates for Mars-  (Billie)","RETAIL",1,75]
["BHMAR4",{"$f":"TEXT(Table_Query_from_Great_Plains[[#This Row],[ITEMNMBR]],0)","v":"BHMAR4"},"Custom cheese crackers and dove chocolates for Mars-  (Billie)","RETAIL",0,75]
["BHMCLN",{"$f":"TEXT(Table_Query_from_Great_Plains[[#This Row],[ITEMNMBR]],0)","v":"BHMCLN"},"Custom Popcorn Sampler - 7400 (Billie)","RETAIL",0,29.99]
["BHMCP1",{"$f":"TEXT(Table_Query_from_Great_Plains[[#This Row],[ITEMNMBR]],0)","v":"BHMCP1"},"Custom Care Package ( Billie )","RETAIL",0,27]
["BHMHUQ",{"$f":"TEXT(Table_Query_from_Great_Plains[[#This Row],[ITEMNMBR]],0)","v":"BHMHUQ"},"Custom cider - fruit - snacks - chocolates (Billie)","RETAIL",0,100]
["BHMP01",{"$f":"TEXT(Table_Query_from_Great_Plains[[#This Row],[ITEMNMBR]],0)","v":"BHMP01"},"Concole Law Custom Baskets","RETAIL",0,65]
["BHMWK2",{"$f":"TEXT(Table_Query_from_Great_Plains[[#This Row],[ITEMNMBR]],0)","v":"BHMWK2"},"custom snack plus csi items  (Billie)","RETAIL",0,35]
["BHMWRK",{"$f":"TEXT(Table_Query_from_Great_Plains[[#This Row],[ITEMNMBR]],0)","v":"BHMWRK"},"custom snack plus csi items  (Billie)","RETAIL",0,35]
["BHNELS",{"$f":"TEXT(Table_Query_from_Great_Plains[[#This Row],[ITEMNMBR]],0)","v":"BHNELS"},"Custom Healthy Organics (Billie)","RETAIL",0,39.99]
["BHPAN1",{"$f":"TEXT(Table_Query_from_Great_Plains[[#This Row],[ITEMNMBR]],0)","v":"BHPAN1"},"Custom : Healthy Classic (Billie)","RETAIL",0,50]
["BHPANN",{"$f":"TEXT(Table_Query_from_Great_Plains[[#This Row],[ITEMNMBR]],0)","v":"BHPANN"},"Custom : Healthy Classic (Billie)","RETAIL",0,50]
["BHPNS1",{"$f":"TEXT(Table_Query_from_Great_Plains[[#This Row],[ITEMNMBR]],0)","v":"BHPNS1"},"Custom 250 units - 9 different products (Billie)","RETAIL",0,10000]
["BHPP01",{"$f":"TEXT(Table_Query_from_Great_Plains[[#This Row],[ITEMNMBR]],0)","v":"BHPP01"},"Custom Gum Box ( Billie )","RETAIL",0,29.99]
["BHPP02",{"$f":"TEXT(Table_Query_from_Great_Plains[[#This Row],[ITEMNMBR]],0)","v":"BHPP02"},"Custom Gum Box ( Billie )","RETAIL",0,29.99]
["BHPP03",{"$f":"TEXT(Table_Query_from_Great_Plains[[#This Row],[ITEMNMBR]],0)","v":"BHPP03"},"Custom Halloween mug with jelly beans (Billie)","RETAIL",0,25.99]
["BHPP04",{"$f":"TEXT(Table_Query_from_Great_Plains[[#This Row],[ITEMNMBR]],0)","v":"BHPP04"},"Custom Halloween mug with gum  (Billie)","RETAIL",0,24.99]
["BHPW01",{"$f":"TEXT(Table_Query_from_Great_Plains[[#This Row],[ITEMNMBR]],0)","v":"BHPW01"},"Custom Basket","RETAIL",0,69.989999999999995]
["BHRAS1",{"$f":"TEXT(Table_Query_from_Great_Plains[[#This Row],[ITEMNMBR]],0)","v":"BHRAS1"},"Custom Cakebread VIneyard Tour","RETAIL",1,469.99]
["BHRD01",{"$f":"TEXT(Table_Query_from_Great_Plains[[#This Row],[ITEMNMBR]],0)","v":"BHRD01"},"Custom - 2 Wines, 6 Beers and Snacks","RETAIL",1,120]
["BHRD02",{"$f":"TEXT(Table_Query_from_Great_Plains[[#This Row],[ITEMNMBR]],0)","v":"BHRD02"},"Custom - 1 Wine, 4 Beers and Snacks","RETAIL",1,120]
["BHREN1",{"$f":"TEXT(Table_Query_from_Great_Plains[[#This Row],[ITEMNMBR]],0)","v":"BHREN1"},"Robert E Nolan Snack Basket","RETAIL",0,36]
["BHSI01",{"$f":"TEXT(Table_Query_from_Great_Plains[[#This Row],[ITEMNMBR]],0)","v":"BHSI01"},"Custom Brown & Haley Gold Truffles","RETAIL",0,5]
["BHTBJ1",{"$f":"TEXT(Table_Query_from_Great_Plains[[#This Row],[ITEMNMBR]],0)","v":"BHTBJ1"},"Custom -- The Business Journals custom basket w/ Marketing Material -- Classic Sweets (Billie)","RETAIL",0,59.99]
["BHTBJ2",{"$f":"TEXT(Table_Query_from_Great_Plains[[#This Row],[ITEMNMBR]],0)","v":"BHTBJ2"},"Custom -The Business Journals custom basket w/ Marketing Material - Deluxe Junk Food Bucket (Billie)","RETAIL",0,59.99]
["BHTBJ3",{"$f":"TEXT(Table_Query_from_Great_Plains[[#This Row],[ITEMNMBR]],0)","v":"BHTBJ3"},"Custom -The Business Journals custom basket w/ Marketing Material - Healthy Classic (Billie)","RETAIL",0,59.99]
["BHTBJ4",{"$f":"TEXT(Table_Query_from_Great_Plains[[#This Row],[ITEMNMBR]],0)","v":"BHTBJ4"},"Custom -The Business Journals customized w/ Marketing Material - Delx Junk Food Bucket (Billie)","RETAIL",0,59.99]
["BHTBJ5",{"$f":"TEXT(Table_Query_from_Great_Plains[[#This Row],[ITEMNMBR]],0)","v":"BHTBJ5"},"Custom -The Business Journals  w/ Marketing Material - Moet & sweets  in a bucket (Billie)","RETAIL",1,75]
["BHTBJ6",{"$f":"TEXT(Table_Query_from_Great_Plains[[#This Row],[ITEMNMBR]],0)","v":"BHTBJ6"},"Custom -The Business Journals custom basket w/ Marketing Material - Snack Stack (Billie)","RETAIL",0,34.99]
["BHTBJ7",{"$f":"TEXT(Table_Query_from_Great_Plains[[#This Row],[ITEMNMBR]],0)","v":"BHTBJ7"},"Custom -The Business Journals custom basket w/ Marketing Material - popcorn (Billie)","RETAIL",0,39.99]
["BHTD01",{"$f":"TEXT(Table_Query_from_Great_Plains[[#This Row],[ITEMNMBR]],0)","v":"BHTD01"},"Small Square Basket Plus Honey Mustard $44.99","RETAIL",0,44.99]
["BHTD02",{"$f":"TEXT(Table_Query_from_Great_Plains[[#This Row],[ITEMNMBR]],0)","v":"BHTD02"},"Small Square Basket Plus Honey Mustard $44.99","RETAIL",0,44.99]
["BHTDB1",{"$f":"TEXT(Table_Query_from_Great_Plains[[#This Row],[ITEMNMBR]],0)","v":"BHTDB1"},"Custom TD Bank Basket ( Billie )","RETAIL",0,49.99]
["BHTT01",{"$f":"TEXT(Table_Query_from_Great_Plains[[#This Row],[ITEMNMBR]],0)","v":"BHTT01"},"Custom Snack","RETAIL",0,26]
["BHTYS1",{"$f":"TEXT(Table_Query_from_Great_Plains[[#This Row],[ITEMNMBR]],0)","v":"BHTYS1"},"Custom Hess- cheese- crackers- nuts and chocolates  (Billie)","RETAIL",1,98.99]
["BHVAM1",{"$f":"TEXT(Table_Query_from_Great_Plains[[#This Row],[ITEMNMBR]],0)","v":"BHVAM1"},"Custom Vontobel Asset Management Chocolate Tower","RETAIL",0,99.99]
["BHWFRG",{"$f":"TEXT(Table_Query_from_Great_Plains[[#This Row],[ITEMNMBR]],0)","v":"BHWFRG"},"Custom - Tex-Mex Stack -  ribbon colors - (Billie)","RETAIL",0,34.99]
["BHWTP1",{"$f":"TEXT(Table_Query_from_Great_Plains[[#This Row],[ITEMNMBR]],0)","v":"BHWTP1"},"Custom Basket","RETAIL",0,250]
["BJ1001",{"$f":"TEXT(Table_Query_from_Great_Plains[[#This Row],[ITEMNMBR]],0)","v":"BJ1001"},"Amber Orchard Fresh Fruit Basket $49.99","RETAIL",0,33.44]
["BJ1002",{"$f":"TEXT(Table_Query_from_Great_Plains[[#This Row],[ITEMNMBR]],0)","v":"BJ1002"},"From the Orchard Gourmet Gift Basket $69.99","RETAIL",0,39]
["BJ1003",{"$f":"TEXT(Table_Query_from_Great_Plains[[#This Row],[ITEMNMBR]],0)","v":"BJ1003"},"Gourmet Harvest Fruit and Snack Basket $99.99","RETAIL",0,63.5]
["BJ1004",{"$f":"TEXT(Table_Query_from_Great_Plains[[#This Row],[ITEMNMBR]],0)","v":"BJ1004"},"Golden Harveset Fruit and Snack Basket $129.99","RETAIL",0,81]
["BJ1005",{"$f":"TEXT(Table_Query_from_Great_Plains[[#This Row],[ITEMNMBR]],0)","v":"BJ1005"},"Gourmet Harvest Tower $64.99","RETAIL",0,40.54]
["BJ1006",{"$f":"TEXT(Table_Query_from_Great_Plains[[#This Row],[ITEMNMBR]],0)","v":"BJ1006"},"Good Cheer Holiday Gift Tin $49.99","RETAIL",0,27.71]
["BJ1007",{"$f":"TEXT(Table_Query_from_Great_Plains[[#This Row],[ITEMNMBR]],0)","v":"BJ1007"},"Winter Wishes Gourmet Snack Gift Basket $59.99","RETAIL",0,31.98]
["BJ1008",{"$f":"TEXT(Table_Query_from_Great_Plains[[#This Row],[ITEMNMBR]],0)","v":"BJ1008"},"Enchanted Seasons Snack Gift Basket $79.99","RETAIL",0,44.01]
["BJ1009",{"$f":"TEXT(Table_Query_from_Great_Plains[[#This Row],[ITEMNMBR]],0)","v":"BJ1009"},"Yuletide Treats Holiday Gift Basket $99.99","RETAIL",0,56.91]
["BJ1010",{"$f":"TEXT(Table_Query_from_Great_Plains[[#This Row],[ITEMNMBR]],0)","v":"BJ1010"},"Happiest Holidays Gourmet Snack Basket $249.99","RETAIL",0,167.94]
["BJ1011",{"$f":"TEXT(Table_Query_from_Great_Plains[[#This Row],[ITEMNMBR]],0)","v":"BJ1011"},"Superior Snacks Gourmet Gift Basket $99.99","RETAIL",0,51.95]
["BJ1012",{"$f":"TEXT(Table_Query_from_Great_Plains[[#This Row],[ITEMNMBR]],0)","v":"BJ1012"},"Merry and Bright Holiday Gift Tower $39.99","RETAIL",0,20.07]
["BJ1013",{"$f":"TEXT(Table_Query_from_Great_Plains[[#This Row],[ITEMNMBR]],0)","v":"BJ1013"},"President's Choice Cheesecake Sampler","RETAIL",0,33.83]
["BJ1014",{"$f":"TEXT(Table_Query_from_Great_Plains[[#This Row],[ITEMNMBR]],0)","v":"BJ1014"},"Chocolate Lovers Cheesecake Sampler","RETAIL",0,32.04]
["BJ1015",{"$f":"TEXT(Table_Query_from_Great_Plains[[#This Row],[ITEMNMBR]],0)","v":"BJ1015"},"Gourmet Cheesecake Sampler","RETAIL",0,32.04]
["BJ1016",{"$f":"TEXT(Table_Query_from_Great_Plains[[#This Row],[ITEMNMBR]],0)","v":"BJ1016"},"Dried Fruit Platter - 20 oz. -","RETAIL",0,17.5]
["BJ1017",{"$f":"TEXT(Table_Query_from_Great_Plains[[#This Row],[ITEMNMBR]],0)","v":"BJ1017"},"Dried Fruit & Nut Platter","RETAIL",0,29.51]
["BJ1018",{"$f":"TEXT(Table_Query_from_Great_Plains[[#This Row],[ITEMNMBR]],0)","v":"BJ1018"},"Deluxe Chocolate Popcorn Sampler Tin - Triple Chocolate Caramel 3.5 Gallon","RETAIL",0,21.51]
["BJ1019",{"$f":"TEXT(Table_Query_from_Great_Plains[[#This Row],[ITEMNMBR]],0)","v":"BJ1019"},"Premium Sweet Popcorn Trio - Tuxedo, Salted Caramel, Sea Salt & Pepper Kettlecorn","RETAIL",0,21.51]
["BJS024",{"$f":"TEXT(Table_Query_from_Great_Plains[[#This Row],[ITEMNMBR]],0)","v":"BJS024"},"Special K Bar by Kellogg's  3 Variety .8oz","RETAIL",0,100]
["BNP001",{"$f":"TEXT(Table_Query_from_Great_Plains[[#This Row],[ITEMNMBR]],0)","v":"BNP001"},"Beanpod Candles Jarred Soy Candle - Beach Walk 16 oz.","RETAIL",0,100]
["BNP002",{"$f":"TEXT(Table_Query_from_Great_Plains[[#This Row],[ITEMNMBR]],0)","v":"BNP002"},"Beanpod Candles Jarred Soy Candle - Earthly Embrace 8 oz.","RETAIL",0,100]
["BNP003",{"$f":"TEXT(Table_Query_from_Great_Plains[[#This Row],[ITEMNMBR]],0)","v":"BNP003"},"Beanpod Candles Jarred Soy Candle - Cherry Almond 4.5 oz","RETAIL",0,100]
["BNP005",{"$f":"TEXT(Table_Query_from_Great_Plains[[#This Row],[ITEMNMBR]],0)","v":"BNP005"},"Bean Pod 4.5 oz Candle","RETAIL",0,100]
["BNP006",{"$f":"TEXT(Table_Query_from_Great_Plains[[#This Row],[ITEMNMBR]],0)","v":"BNP006"},"Bean Pod 8 oz Candle","RETAIL",0,100]
["BNP007",{"$f":"TEXT(Table_Query_from_Great_Plains[[#This Row],[ITEMNMBR]],0)","v":"BNP007"},"Bean Pod 16 oz Candle","RETAIL",0,100]
["BNP008",{"$f":"TEXT(Table_Query_from_Great_Plains[[#This Row],[ITEMNMBR]],0)","v":"BNP008"},"Bean Pod 25 oz Candle","RETAIL",0,100]
["BNP009",{"$f":"TEXT(Table_Query_from_Great_Plains[[#This Row],[ITEMNMBR]],0)","v":"BNP009"},"Bean Pod Serenity 8 oz Candle","RETAIL",0,100]
["BNP010",{"$f":"TEXT(Table_Query_from_Great_Plains[[#This Row],[ITEMNMBR]],0)","v":"BNP010"},"Bean Pod Lavender 8 oz Candle","RETAIL",0,100]
["BNP011",{"$f":"TEXT(Table_Query_from_Great_Plains[[#This Row],[ITEMNMBR]],0)","v":"BNP011"},"Bean Pod Ocean Mist 16 oz Candle","RETAIL",0,100]
["BNP012",{"$f":"TEXT(Table_Query_from_Great_Plains[[#This Row],[ITEMNMBR]],0)","v":"BNP012"},"Bean Pod Fresh LInen 4.5 oz Candle","RETAIL",0,100]
["BNP013",{"$f":"TEXT(Table_Query_from_Great_Plains[[#This Row],[ITEMNMBR]],0)","v":"BNP013"},"Bean Pod Earthly Embrace 4.5 oz Candle","RETAIL",0,100]
["BNP014",{"$f":"TEXT(Table_Query_from_Great_Plains[[#This Row],[ITEMNMBR]],0)","v":"BNP014"},"Bean Pod McIntosh Apple 4.5 oz Candle","RETAIL",0,100]
["BNP015",{"$f":"TEXT(Table_Query_from_Great_Plains[[#This Row],[ITEMNMBR]],0)","v":"BNP015"},"Bean Pod Lilac 4.5 oz Candle","RETAIL",0,100]
["BNP016",{"$f":"TEXT(Table_Query_from_Great_Plains[[#This Row],[ITEMNMBR]],0)","v":"BNP016"},"Bean Pod Raspberry Lemonade  4.5 oz Candle","RETAIL",0,100]
["BTN001",{"$f":"TEXT(Table_Query_from_Great_Plains[[#This Row],[ITEMNMBR]],0)","v":"BTN001"},"Kiss Me I'm Irish Buttons","RETAIL",0,100]
["BUB001",{"$f":"TEXT(Table_Query_from_Great_Plains[[#This Row],[ITEMNMBR]],0)","v":"BUB001"},"Bubba Gum Creepy Teeth","RETAIL",0,100]
["BUR003",{"$f":"TEXT(Table_Query_from_Great_Plains[[#This Row],[ITEMNMBR]],0)","v":"BUR003"},"Burton & Burton Classic Garden Tote in Beige","RETAIL",0,100]
["BUR004",{"$f":"TEXT(Table_Query_from_Great_Plains[[#This Row],[ITEMNMBR]],0)","v":"BUR004"},"Burton & Burton Pretty in Pink Garden Tote","RETAIL",0,100]
["BUR005",{"$f":"TEXT(Table_Query_from_Great_Plains[[#This Row],[ITEMNMBR]],0)","v":"BUR005"},"Burton & Burton Fishing Mug","RETAIL",0,100]
["BUR006",{"$f":"TEXT(Table_Query_from_Great_Plains[[#This Row],[ITEMNMBR]],0)","v":"BUR006"},"Burton & Burton Golf Mug","RETAIL",0,100]
["BUR007",{"$f":"TEXT(Table_Query_from_Great_Plains[[#This Row],[ITEMNMBR]],0)","v":"BUR007"},"Burton & Burton Golfer's Picture Frame","RETAIL",0,100]
["BUR008",{"$f":"TEXT(Table_Query_from_Great_Plains[[#This Row],[ITEMNMBR]],0)","v":"BUR008"},"Burton & Burton Purple Butterfly Watering Can","RETAIL",0,100]
["BUR009",{"$f":"TEXT(Table_Query_from_Great_Plains[[#This Row],[ITEMNMBR]],0)","v":"BUR009"},"Burton & Burton Butterfly Bag","RETAIL",0,100]
["BUR010",{"$f":"TEXT(Table_Query_from_Great_Plains[[#This Row],[ITEMNMBR]],0)","v":"BUR010"},"Burton & Burton 4\" Split Wood Easter Pail","RETAIL",0,100]
["BUR011",{"$f":"TEXT(Table_Query_from_Great_Plains[[#This Row],[ITEMNMBR]],0)","v":"BUR011"},"Burton & Burton Multicolored Pastel woodchip pail with handle","RETAIL",0,100]
["BUR012",{"$f":"TEXT(Table_Query_from_Great_Plains[[#This Row],[ITEMNMBR]],0)","v":"BUR012"},"Burton and Burton Tin Pail with Polka Dots 4 1/2\"","RETAIL",0,100]
["BUR013",{"$f":"TEXT(Table_Query_from_Great_Plains[[#This Row],[ITEMNMBR]],0)","v":"BUR013"},"Burton & Burton Striped Garden Tote","RETAIL",0,100]
["BUR014",{"$f":"TEXT(Table_Query_from_Great_Plains[[#This Row],[ITEMNMBR]],0)","v":"BUR014"},"Easter Bushel Basket","RETAIL",0,100]
["BUR015",{"$f":"TEXT(Table_Query_from_Great_Plains[[#This Row],[ITEMNMBR]],0)","v":"BUR015"},"Tin Pail with Butterflies - Assorted Colors","RETAIL",0,100]
["BUR018",{"$f":"TEXT(Table_Query_from_Great_Plains[[#This Row],[ITEMNMBR]],0)","v":"BUR018"},"Pink and Blue Bunny Pail","RETAIL",0,100]
["BUR019",{"$f":"TEXT(Table_Query_from_Great_Plains[[#This Row],[ITEMNMBR]],0)","v":"BUR019"},"Hip-Hop Pail 2012 - Egg Shaped Pail with Polka Dots","RETAIL",0,100]
["BUR020",{"$f":"TEXT(Table_Query_from_Great_Plains[[#This Row],[ITEMNMBR]],0)","v":"BUR020"},"Colorful Striped Tote -","RETAIL",0,100]
["BUR021",{"$f":"TEXT(Table_Query_from_Great_Plains[[#This Row],[ITEMNMBR]],0)","v":"BUR021"},"Brown and Green Leaf Pattern Garden Bag by Burton & Burton","RETAIL",0,100]
["BUR022",{"$f":"TEXT(Table_Query_from_Great_Plains[[#This Row],[ITEMNMBR]],0)","v":"BUR022"},"Hip-Hop Pail 2013 - Egg Shaped Pail with Polka Dots (light colors)","RETAIL",0,100]
["CAM029",{"$f":"TEXT(Table_Query_from_Great_Plains[[#This Row],[ITEMNMBR]],0)","v":"CAM029"},"Camille Beckman Body Powder - Camille Scent  3 oz.","RETAIL",0,100]
["CAM030",{"$f":"TEXT(Table_Query_from_Great_Plains[[#This Row],[ITEMNMBR]],0)","v":"CAM030"},"Camille Beckman Body Powder - Mango Beach  3 oz.","RETAIL",0,100]
["CAM032",{"$f":"TEXT(Table_Query_from_Great_Plains[[#This Row],[ITEMNMBR]],0)","v":"CAM032"},"Camille Beckman Body Powder 3 oz Camille Scent","RETAIL",0,100]
["CAM033",{"$f":"TEXT(Table_Query_from_Great_Plains[[#This Row],[ITEMNMBR]],0)","v":"CAM033"},"Camille Beckman Body Powder 3 oz Lavender Scent","RETAIL",0,100]
["CAM034",{"$f":"TEXT(Table_Query_from_Great_Plains[[#This Row],[ITEMNMBR]],0)","v":"CAM034"},"Camille Beckman Body Powder 3 oz Mango Beach Scent","RETAIL",0,100]
["CDAE01",{"$f":"TEXT(Table_Query_from_Great_Plains[[#This Row],[ITEMNMBR]],0)","v":"CDAE01"},"Custom Mojito Stack ( Cathie )","RETAIL",0,45]
["CDBC01",{"$f":"TEXT(Table_Query_from_Great_Plains[[#This Row],[ITEMNMBR]],0)","v":"CDBC01"},"Bain Capitol Custom Basket","RETAIL",0,90]
["CDCP01",{"$f":"TEXT(Table_Query_from_Great_Plains[[#This Row],[ITEMNMBR]],0)","v":"CDCP01"},"Custom 4594 Care Package","RETAIL",0,59.99]
["CDCP02",{"$f":"TEXT(Table_Query_from_Great_Plains[[#This Row],[ITEMNMBR]],0)","v":"CDCP02"},"Custom Care Package","RETAIL",0,34.99]
["CDCP03",{"$f":"TEXT(Table_Query_from_Great_Plains[[#This Row],[ITEMNMBR]],0)","v":"CDCP03"},"Custom Care Package","RETAIL",0,34.99]
["CDCP04",{"$f":"TEXT(Table_Query_from_Great_Plains[[#This Row],[ITEMNMBR]],0)","v":"CDCP04"},"Custom Care Package","RETAIL",0,34.99]
["CDGC01",{"$f":"TEXT(Table_Query_from_Great_Plains[[#This Row],[ITEMNMBR]],0)","v":"CDGC01"},"Custom Guy Carpenter - Snack Basket","RETAIL",0,40]
["CDGUYC",{"$f":"TEXT(Table_Query_from_Great_Plains[[#This Row],[ITEMNMBR]],0)","v":"CDGUYC"},"Custom $40 Breakfast","RETAIL",0,40]
["CDHLAW",{"$f":"TEXT(Table_Query_from_Great_Plains[[#This Row],[ITEMNMBR]],0)","v":"CDHLAW"},"Custom 12 honey mustard in care package box","RETAIL",0,60]
["CDLL01",{"$f":"TEXT(Table_Query_from_Great_Plains[[#This Row],[ITEMNMBR]],0)","v":"CDLL01"},"Custom Veuve Bottle with Card","RETAIL",0,45.99]
["CDLL05",{"$f":"TEXT(Table_Query_from_Great_Plains[[#This Row],[ITEMNMBR]],0)","v":"CDLL05"},"Custom Day in Paris - (Cathie)","RETAIL",1,125]
["CDMC01",{"$f":"TEXT(Table_Query_from_Great_Plains[[#This Row],[ITEMNMBR]],0)","v":"CDMC01"},"Custom 5320 with custom raffia","RETAIL",0,149.99]
["CDMC02",{"$f":"TEXT(Table_Query_from_Great_Plains[[#This Row],[ITEMNMBR]],0)","v":"CDMC02"},"Custom 4054 with custom raffia","RETAIL",0,149.99]
["CDMC03",{"$f":"TEXT(Table_Query_from_Great_Plains[[#This Row],[ITEMNMBR]],0)","v":"CDMC03"},"Custom 4509 with custom raffia","RETAIL",0,69.989999999999995]
["CDMC04",{"$f":"TEXT(Table_Query_from_Great_Plains[[#This Row],[ITEMNMBR]],0)","v":"CDMC04"},"Custom 5210 with custom raffia","RETAIL",0,59.99]
["CDMC05",{"$f":"TEXT(Table_Query_from_Great_Plains[[#This Row],[ITEMNMBR]],0)","v":"CDMC05"},"Custom 5318 with custom raffia","RETAIL",0,49.99]
["CDUNFL",{"$f":"TEXT(Table_Query_from_Great_Plains[[#This Row],[ITEMNMBR]],0)","v":"CDUNFL"},"Custom Wild Horse Duo with CSI","RETAIL",0,114.99]
["CDVM01",{"$f":"TEXT(Table_Query_from_Great_Plains[[#This Row],[ITEMNMBR]],0)","v":"CDVM01"},"custom 5230 no christmas decor","RETAIL",0,149.99]
["CDVMED",{"$f":"TEXT(Table_Query_from_Great_Plains[[#This Row],[ITEMNMBR]],0)","v":"CDVMED"},"Custom Wine basket","RETAIL",0,80.989999999999995]
["CHA001",{"$f":"TEXT(Table_Query_from_Great_Plains[[#This Row],[ITEMNMBR]],0)","v":"CHA001"},"Spunbun Green Wrap HALF SHEET  18x 23.5 in","RETAIL",0,100]
["CHA002",{"$f":"TEXT(Table_Query_from_Great_Plains[[#This Row],[ITEMNMBR]],0)","v":"CHA002"},"Spunbun Green Wrap FULL SHEET 36 x 23.5 in","RETAIL",0,100]
["CHI001",{"$f":"TEXT(Table_Query_from_Great_Plains[[#This Row],[ITEMNMBR]],0)","v":"CHI001"},"Child To Cherish Baby's 1st Baseball - Pink - DISCONTINUED","RETAIL",0,100]
["CHI002",{"$f":"TEXT(Table_Query_from_Great_Plains[[#This Row],[ITEMNMBR]],0)","v":"CHI002"},"Child To Cherish Baby's 1st Baseball - Blue - DISCONTINUED","RETAIL",0,100]
["CHI003",{"$f":"TEXT(Table_Query_from_Great_Plains[[#This Row],[ITEMNMBR]],0)","v":"CHI003"},"My First Baseball in PINK by Child to Cherish -","RETAIL",0,100]
["CHI004",{"$f":"TEXT(Table_Query_from_Great_Plains[[#This Row],[ITEMNMBR]],0)","v":"CHI004"},"My First Baseball in BLUE by Child to Cherish -","RETAIL",0,100]
["CHM001",{"$f":"TEXT(Table_Query_from_Great_Plains[[#This Row],[ITEMNMBR]],0)","v":"CHM001"},"Original Ginger Chews by Chimes - 5 oz. -","RETAIL",0,100]
["CHO007",{"$f":"TEXT(Table_Query_from_Great_Plains[[#This Row],[ITEMNMBR]],0)","v":"CHO007"}," Teaspoons 4.8 oz.","RETAIL",0,100]
["CS",{"$f":"TEXT(Table_Query_from_Great_Plains[[#This Row],[ITEMNMBR]],0)","v":"CS"},"Custom: wine, beer, crackers, cheese, sausage, nuts (Dave)","RETAIL",0,280.99]
["CS00001",{"$f":"TEXT(Table_Query_from_Great_Plains[[#This Row],[ITEMNMBR]],0)","v":"CS00001"},"Custom Gift Bakset","RETAIL",0,103.77]
["CS0002",{"$f":"TEXT(Table_Query_from_Great_Plains[[#This Row],[ITEMNMBR]],0)","v":"CS0002"},"Custom Gift Bakset","RETAIL",0,0.01]
["CS0003",{"$f":"TEXT(Table_Query_from_Great_Plains[[#This Row],[ITEMNMBR]],0)","v":"CS0003"},"Custom Gift Bakset","RETAIL",0,0.01]
["CS0004",{"$f":"TEXT(Table_Query_from_Great_Plains[[#This Row],[ITEMNMBR]],0)","v":"CS0004"},"Custom Gift Bakset","RETAIL",0,119.99]
["CS0005",{"$f":"TEXT(Table_Query_from_Great_Plains[[#This Row],[ITEMNMBR]],0)","v":"CS0005"},"Custom Gift Bakset","RETAIL",0,79.989999999999995]
["CS0006",{"$f":"TEXT(Table_Query_from_Great_Plains[[#This Row],[ITEMNMBR]],0)","v":"CS0006"},"Custom Gift Bakset","RETAIL",0,79.989999999999995]
["CS0007",{"$f":"TEXT(Table_Query_from_Great_Plains[[#This Row],[ITEMNMBR]],0)","v":"CS0007"},"Custom Gift Bakset","RETAIL",0,104.97]
["CS0008",{"$f":"TEXT(Table_Query_from_Great_Plains[[#This Row],[ITEMNMBR]],0)","v":"CS0008"},"Custom Gift Bakset","RETAIL",0,117.99]
["CS0009",{"$f":"TEXT(Table_Query_from_Great_Plains[[#This Row],[ITEMNMBR]],0)","v":"CS0009"},"Custom Gift Bakset","RETAIL",0,118.99]
["CS0010",{"$f":"TEXT(Table_Query_from_Great_Plains[[#This Row],[ITEMNMBR]],0)","v":"CS0010"},"Custom Gift Bakset","RETAIL",0,41.99]
["CS0011",{"$f":"TEXT(Table_Query_from_Great_Plains[[#This Row],[ITEMNMBR]],0)","v":"CS0011"},"Custom Gift Bakset","RETAIL",0,76.989999999999995]
["CS0012",{"$f":"TEXT(Table_Query_from_Great_Plains[[#This Row],[ITEMNMBR]],0)","v":"CS0012"},"Custom Gift Bakset","RETAIL",0,150.08000000000001]
["CS0013",{"$f":"TEXT(Table_Query_from_Great_Plains[[#This Row],[ITEMNMBR]],0)","v":"CS0013"},"Custom Gift Bakset","RETAIL",0,74.989999999999995]
["CS0014",{"$f":"TEXT(Table_Query_from_Great_Plains[[#This Row],[ITEMNMBR]],0)","v":"CS0014"},"Custom Gift Bakset","RETAIL",0,399.99]
["CS0015",{"$f":"TEXT(Table_Query_from_Great_Plains[[#This Row],[ITEMNMBR]],0)","v":"CS0015"},"Custom Gift Bakset","RETAIL",0,133.99]
["CS0016",{"$f":"TEXT(Table_Query_from_Great_Plains[[#This Row],[ITEMNMBR]],0)","v":"CS0016"},"Custom Gift Bakset","RETAIL",0,180.99]
["CS0017",{"$f":"TEXT(Table_Query_from_Great_Plains[[#This Row],[ITEMNMBR]],0)","v":"CS0017"},"Custom Gift Bakset","RETAIL",0,40.99]
["CS0018",{"$f":"TEXT(Table_Query_from_Great_Plains[[#This Row],[ITEMNMBR]],0)","v":"CS0018"},"Custom Gift Bakset","RETAIL",0,61.99]
["CS0019",{"$f":"TEXT(Table_Query_from_Great_Plains[[#This Row],[ITEMNMBR]],0)","v":"CS0019"},"Custom Gift Bakset","RETAIL",0,54.99]
["CS0020",{"$f":"TEXT(Table_Query_from_Great_Plains[[#This Row],[ITEMNMBR]],0)","v":"CS0020"},"Custom Gift Bakset","RETAIL",0,133.99]
["CS0021",{"$f":"TEXT(Table_Query_from_Great_Plains[[#This Row],[ITEMNMBR]],0)","v":"CS0021"},"Custom Gift Bakset","RETAIL",0,28.44]
["CS0022",{"$f":"TEXT(Table_Query_from_Great_Plains[[#This Row],[ITEMNMBR]],0)","v":"CS0022"},"Custom Gift Basket","RETAIL",0,243.99]
["CS0023",{"$f":"TEXT(Table_Query_from_Great_Plains[[#This Row],[ITEMNMBR]],0)","v":"CS0023"},"Custom Gift Basket","RETAIL",0,62.99]
["CS0024",{"$f":"TEXT(Table_Query_from_Great_Plains[[#This Row],[ITEMNMBR]],0)","v":"CS0024"},"Custom Gift Basket","RETAIL",0,76.989999999999995]
["CS0025",{"$f":"TEXT(Table_Query_from_Great_Plains[[#This Row],[ITEMNMBR]],0)","v":"CS0025"},"Custom Gift Basket","RETAIL",0,214.99]
["CS0026",{"$f":"TEXT(Table_Query_from_Great_Plains[[#This Row],[ITEMNMBR]],0)","v":"CS0026"},"Custom Gift Basket","RETAIL",0,57.99]
["CS0027",{"$f":"TEXT(Table_Query_from_Great_Plains[[#This Row],[ITEMNMBR]],0)","v":"CS0027"},"Custom Gift Basket","RETAIL",0,128.94]
["CS0028",{"$f":"TEXT(Table_Query_from_Great_Plains[[#This Row],[ITEMNMBR]],0)","v":"CS0028"},"Custom Gift Basket","RETAIL",0,119.99]
["CS0029",{"$f":"TEXT(Table_Query_from_Great_Plains[[#This Row],[ITEMNMBR]],0)","v":"CS0029"},"Custom Gift Basket","RETAIL",0,89.72]
["CS0030",{"$f":"TEXT(Table_Query_from_Great_Plains[[#This Row],[ITEMNMBR]],0)","v":"CS0030"},"Custom Gift Basket","RETAIL",0,55.62]
["CS0031",{"$f":"TEXT(Table_Query_from_Great_Plains[[#This Row],[ITEMNMBR]],0)","v":"CS0031"},"Custom Gift Basket","RETAIL",0,86.99]
["CS0032",{"$f":"TEXT(Table_Query_from_Great_Plains[[#This Row],[ITEMNMBR]],0)","v":"CS0032"},"Custom Gift Basket","RETAIL",0,66.989999999999995]
["CS0033",{"$f":"TEXT(Table_Query_from_Great_Plains[[#This Row],[ITEMNMBR]],0)","v":"CS0033"},"Custom Gift Basket","RETAIL",0,63.99]
["CS0034",{"$f":"TEXT(Table_Query_from_Great_Plains[[#This Row],[ITEMNMBR]],0)","v":"CS0034"},"Custom Gift Basket","RETAIL",0,102.99]
["CS0035",{"$f":"TEXT(Table_Query_from_Great_Plains[[#This Row],[ITEMNMBR]],0)","v":"CS0035"},"Custom Gift Basket","RETAIL",0,200.99]
["CS0036",{"$f":"TEXT(Table_Query_from_Great_Plains[[#This Row],[ITEMNMBR]],0)","v":"CS0036"},"Custom Gift Basket","RETAIL",0,73.099999999999994]
["CS0037",{"$f":"TEXT(Table_Query_from_Great_Plains[[#This Row],[ITEMNMBR]],0)","v":"CS0037"},"Custom Gift Basket","RETAIL",0,80.989999999999995]
["CS0038",{"$f":"TEXT(Table_Query_from_Great_Plains[[#This Row],[ITEMNMBR]],0)","v":"CS0038"},"Custom Gift Basket","RETAIL",0,80]
["CS0039",{"$f":"TEXT(Table_Query_from_Great_Plains[[#This Row],[ITEMNMBR]],0)","v":"CS0039"},"Custom Gift Basket","RETAIL",0,68.48]
["CS0040",{"$f":"TEXT(Table_Query_from_Great_Plains[[#This Row],[ITEMNMBR]],0)","v":"CS0040"},"Custom Gift Basket","RETAIL",0,140.31]
["CS0041",{"$f":"TEXT(Table_Query_from_Great_Plains[[#This Row],[ITEMNMBR]],0)","v":"CS0041"},"Custom Gift Basket","RETAIL",0,0]
["CS0042",{"$f":"TEXT(Table_Query_from_Great_Plains[[#This Row],[ITEMNMBR]],0)","v":"CS0042"},"Custom Gift Basket","RETAIL",0,52.99]
["CS0043",{"$f":"TEXT(Table_Query_from_Great_Plains[[#This Row],[ITEMNMBR]],0)","v":"CS0043"},"Custom Gift Basket","RETAIL",0,43.99]
["CS0044",{"$f":"TEXT(Table_Query_from_Great_Plains[[#This Row],[ITEMNMBR]],0)","v":"CS0044"},"Custom Gift Basket","RETAIL",0,48.93]
["CS0045",{"$f":"TEXT(Table_Query_from_Great_Plains[[#This Row],[ITEMNMBR]],0)","v":"CS0045"},"Custom Gift Basket","RETAIL",0,74.95]
["CS0046",{"$f":"TEXT(Table_Query_from_Great_Plains[[#This Row],[ITEMNMBR]],0)","v":"CS0046"},"Custom Gift Basket","RETAIL",0,73.53]
["CS0047",{"$f":"TEXT(Table_Query_from_Great_Plains[[#This Row],[ITEMNMBR]],0)","v":"CS0047"},"Custom Gift Basket","RETAIL",0,79.989999999999995]
["CS0048",{"$f":"TEXT(Table_Query_from_Great_Plains[[#This Row],[ITEMNMBR]],0)","v":"CS0048"},"Custom Gift Basket","RETAIL",0,71.11]
["CS0049",{"$f":"TEXT(Table_Query_from_Great_Plains[[#This Row],[ITEMNMBR]],0)","v":"CS0049"},"Custom Gift Basket","RETAIL",0,81.53]
["CS0050",{"$f":"TEXT(Table_Query_from_Great_Plains[[#This Row],[ITEMNMBR]],0)","v":"CS0050"},"Custom Gift Basket","RETAIL",0,169.99]
["CS0051",{"$f":"TEXT(Table_Query_from_Great_Plains[[#This Row],[ITEMNMBR]],0)","v":"CS0051"},"Custom Gift Basket","RETAIL",0,270.19]
["CS0052",{"$f":"TEXT(Table_Query_from_Great_Plains[[#This Row],[ITEMNMBR]],0)","v":"CS0052"},"Custom Gift Basket","RETAIL",0,107.59]
["CS0053",{"$f":"TEXT(Table_Query_from_Great_Plains[[#This Row],[ITEMNMBR]],0)","v":"CS0053"},"Custom Gift Basket","RETAIL",0,128]
["CS0054",{"$f":"TEXT(Table_Query_from_Great_Plains[[#This Row],[ITEMNMBR]],0)","v":"CS0054"},"Custom Gift Basket","RETAIL",0,76.989999999999995]
["CS0055",{"$f":"TEXT(Table_Query_from_Great_Plains[[#This Row],[ITEMNMBR]],0)","v":"CS0055"},"Custom Gift Basket","RETAIL",0,163.99]
["CS0056",{"$f":"TEXT(Table_Query_from_Great_Plains[[#This Row],[ITEMNMBR]],0)","v":"CS0056"},"Custom Gift Basket","RETAIL",0,83.99]
["CS0057",{"$f":"TEXT(Table_Query_from_Great_Plains[[#This Row],[ITEMNMBR]],0)","v":"CS0057"},"Custom Gift Basket","RETAIL",0,39.99]
["CS0058",{"$f":"TEXT(Table_Query_from_Great_Plains[[#This Row],[ITEMNMBR]],0)","v":"CS0058"},"Custom Gift Basket","RETAIL",0,100]
["CS0059",{"$f":"TEXT(Table_Query_from_Great_Plains[[#This Row],[ITEMNMBR]],0)","v":"CS0059"},"Custom Gift Basket","RETAIL",0,92.99]
["CS0060",{"$f":"TEXT(Table_Query_from_Great_Plains[[#This Row],[ITEMNMBR]],0)","v":"CS0060"},"Custom Gift Basket","RETAIL",0,59.99]
["CS0061",{"$f":"TEXT(Table_Query_from_Great_Plains[[#This Row],[ITEMNMBR]],0)","v":"CS0061"},"Custom Gift Basket","RETAIL",0,45]
["CS0062",{"$f":"TEXT(Table_Query_from_Great_Plains[[#This Row],[ITEMNMBR]],0)","v":"CS0062"},"Custom Gift Basket","RETAIL",0,114.52]
["CS0063",{"$f":"TEXT(Table_Query_from_Great_Plains[[#This Row],[ITEMNMBR]],0)","v":"CS0063"},"Custom Gift Basket","RETAIL",0,55]
["CS0064",{"$f":"TEXT(Table_Query_from_Great_Plains[[#This Row],[ITEMNMBR]],0)","v":"CS0064"},"Custom Gift Basket","RETAIL",0,119.99]
["CS0065",{"$f":"TEXT(Table_Query_from_Great_Plains[[#This Row],[ITEMNMBR]],0)","v":"CS0065"},"Custom Gift Basket","RETAIL",0,106.99]
["CS0066",{"$f":"TEXT(Table_Query_from_Great_Plains[[#This Row],[ITEMNMBR]],0)","v":"CS0066"},"Custom Gift Basket","RETAIL",0,150]
["CS0067",{"$f":"TEXT(Table_Query_from_Great_Plains[[#This Row],[ITEMNMBR]],0)","v":"CS0067"},"Custom Gift Basket","RETAIL",0,89.4]
["CS0068",{"$f":"TEXT(Table_Query_from_Great_Plains[[#This Row],[ITEMNMBR]],0)","v":"CS0068"},"Custom Gift Basket","RETAIL",0,200.78]
["CS0069",{"$f":"TEXT(Table_Query_from_Great_Plains[[#This Row],[ITEMNMBR]],0)","v":"CS0069"},"Custom Gift Basket","RETAIL",0,236.99]
["CS0070",{"$f":"TEXT(Table_Query_from_Great_Plains[[#This Row],[ITEMNMBR]],0)","v":"CS0070"},"Custom Gift Basket","RETAIL",0,170.02]
["CS0071",{"$f":"TEXT(Table_Query_from_Great_Plains[[#This Row],[ITEMNMBR]],0)","v":"CS0071"},"Custom Gift Basket","RETAIL",0,109.26]
["CS0072",{"$f":"TEXT(Table_Query_from_Great_Plains[[#This Row],[ITEMNMBR]],0)","v":"CS0072"},"Custom Gift Basket","RETAIL",0,99.99]
["CS0073",{"$f":"TEXT(Table_Query_from_Great_Plains[[#This Row],[ITEMNMBR]],0)","v":"CS0073"},"Custom Gift Basket","RETAIL",0,55]
["CS0074",{"$f":"TEXT(Table_Query_from_Great_Plains[[#This Row],[ITEMNMBR]],0)","v":"CS0074"},"Custom Gift Basket","RETAIL",0,112.99]
["CS0075",{"$f":"TEXT(Table_Query_from_Great_Plains[[#This Row],[ITEMNMBR]],0)","v":"CS0075"},"Custom Gift Basket","RETAIL",0,39.99]
["CS0076",{"$f":"TEXT(Table_Query_from_Great_Plains[[#This Row],[ITEMNMBR]],0)","v":"CS0076"},"Custom Gift Basket","RETAIL",0,59.99]
["CS0077",{"$f":"TEXT(Table_Query_from_Great_Plains[[#This Row],[ITEMNMBR]],0)","v":"CS0077"},"Custom Gift Basket","RETAIL",0,294.99]
["CS0078",{"$f":"TEXT(Table_Query_from_Great_Plains[[#This Row],[ITEMNMBR]],0)","v":"CS0078"},"Custom Gift Basket","RETAIL",0,133.19999999999999]
["CS0079",{"$f":"TEXT(Table_Query_from_Great_Plains[[#This Row],[ITEMNMBR]],0)","v":"CS0079"},"Custom Gift Basket","RETAIL",0,45.9]
["CS0080",{"$f":"TEXT(Table_Query_from_Great_Plains[[#This Row],[ITEMNMBR]],0)","v":"CS0080"},"Custom Gift Basket","RETAIL",0,162.19]
["CS0081",{"$f":"TEXT(Table_Query_from_Great_Plains[[#This Row],[ITEMNMBR]],0)","v":"CS0081"},"Custom Gift Basket","RETAIL",0,95.99]
["CS0082",{"$f":"TEXT(Table_Query_from_Great_Plains[[#This Row],[ITEMNMBR]],0)","v":"CS0082"},"Custom Gift Basket","RETAIL",0,84.99]
["CS0083",{"$f":"TEXT(Table_Query_from_Great_Plains[[#This Row],[ITEMNMBR]],0)","v":"CS0083"},"Custom Gift Basket","RETAIL",0,84.99]
["CS0084",{"$f":"TEXT(Table_Query_from_Great_Plains[[#This Row],[ITEMNMBR]],0)","v":"CS0084"},"Custom Gift Basket","RETAIL",0,309.92]
["CS0085",{"$f":"TEXT(Table_Query_from_Great_Plains[[#This Row],[ITEMNMBR]],0)","v":"CS0085"},"Custom Gift Basket","RETAIL",0,69.989999999999995]
["CS0086",{"$f":"TEXT(Table_Query_from_Great_Plains[[#This Row],[ITEMNMBR]],0)","v":"CS0086"},"Custom Gift Basket","RETAIL",0,93.73]
["CS0087",{"$f":"TEXT(Table_Query_from_Great_Plains[[#This Row],[ITEMNMBR]],0)","v":"CS0087"},"Custom Gift Basket","RETAIL",0,221.13]
["CS0088",{"$f":"TEXT(Table_Query_from_Great_Plains[[#This Row],[ITEMNMBR]],0)","v":"CS0088"},"Custom Gift Basket","RETAIL",0,152.99]
["CS0089",{"$f":"TEXT(Table_Query_from_Great_Plains[[#This Row],[ITEMNMBR]],0)","v":"CS0089"},"Custom Gift Basket","RETAIL",0,59.78]
["CS0090",{"$f":"TEXT(Table_Query_from_Great_Plains[[#This Row],[ITEMNMBR]],0)","v":"CS0090"},"Custom Gift Basket","RETAIL",0,101.35]
["CS0091",{"$f":"TEXT(Table_Query_from_Great_Plains[[#This Row],[ITEMNMBR]],0)","v":"CS0091"},"Custom Gift Basket","RETAIL",0,110.99]
["CS0092",{"$f":"TEXT(Table_Query_from_Great_Plains[[#This Row],[ITEMNMBR]],0)","v":"CS0092"},"Custom Gift Basket","RETAIL",0,124.99]
["CS0093",{"$f":"TEXT(Table_Query_from_Great_Plains[[#This Row],[ITEMNMBR]],0)","v":"CS0093"},"Custom Gift Basket","RETAIL",0,126.99]
["CS0094",{"$f":"TEXT(Table_Query_from_Great_Plains[[#This Row],[ITEMNMBR]],0)","v":"CS0094"},"Custom Gift Basket","RETAIL",0,100]
["CS0095",{"$f":"TEXT(Table_Query_from_Great_Plains[[#This Row],[ITEMNMBR]],0)","v":"CS0095"},"Custom Gift Basket","RETAIL",0,69.989999999999995]
["CS0096",{"$f":"TEXT(Table_Query_from_Great_Plains[[#This Row],[ITEMNMBR]],0)","v":"CS0096"},"Custom Gift Basket","RETAIL",0,60.68]
["CS0098",{"$f":"TEXT(Table_Query_from_Great_Plains[[#This Row],[ITEMNMBR]],0)","v":"CS0098"},"Custom Gift Basket","RETAIL",0,162.16999999999999]
["CS0099",{"$f":"TEXT(Table_Query_from_Great_Plains[[#This Row],[ITEMNMBR]],0)","v":"CS0099"},"Custom Gift Basket","RETAIL",0,257.3]
["CS0100",{"$f":"TEXT(Table_Query_from_Great_Plains[[#This Row],[ITEMNMBR]],0)","v":"CS0100"},"Custom Gift Basket","RETAIL",0,96.99]
["CS0101",{"$f":"TEXT(Table_Query_from_Great_Plains[[#This Row],[ITEMNMBR]],0)","v":"CS0101"},"Custom Gift Basket","RETAIL",0,154.74]
["CS0102",{"$f":"TEXT(Table_Query_from_Great_Plains[[#This Row],[ITEMNMBR]],0)","v":"CS0102"},"Custom Gift Basket","RETAIL",0,77.989999999999995]
["CS0103",{"$f":"TEXT(Table_Query_from_Great_Plains[[#This Row],[ITEMNMBR]],0)","v":"CS0103"},"Custom Gift Basket","RETAIL",0,93.99]
["CS0104",{"$f":"TEXT(Table_Query_from_Great_Plains[[#This Row],[ITEMNMBR]],0)","v":"CS0104"},"Custom Gift Basket","RETAIL",0,293.97000000000003]
["CS0105",{"$f":"TEXT(Table_Query_from_Great_Plains[[#This Row],[ITEMNMBR]],0)","v":"CS0105"},"Custom Gift Basket","RETAIL",0,206.87]
["CS0106",{"$f":"TEXT(Table_Query_from_Great_Plains[[#This Row],[ITEMNMBR]],0)","v":"CS0106"},"Custom Gift Basket","RETAIL",0,141.43]
["CS0107",{"$f":"TEXT(Table_Query_from_Great_Plains[[#This Row],[ITEMNMBR]],0)","v":"CS0107"},"Custom Gift Basket","RETAIL",0,188.99]
["CS0108",{"$f":"TEXT(Table_Query_from_Great_Plains[[#This Row],[ITEMNMBR]],0)","v":"CS0108"},"Custom Gift Basket","RETAIL",0,79.989999999999995]
["CS0109",{"$f":"TEXT(Table_Query_from_Great_Plains[[#This Row],[ITEMNMBR]],0)","v":"CS0109"},"Custom Gift Basket","RETAIL",0,75]
["CS0110",{"$f":"TEXT(Table_Query_from_Great_Plains[[#This Row],[ITEMNMBR]],0)","v":"CS0110"},"Custom Gift Basket","RETAIL",0,98.64]
["CS0111",{"$f":"TEXT(Table_Query_from_Great_Plains[[#This Row],[ITEMNMBR]],0)","v":"CS0111"},"Custom Gift Basket","RETAIL",0,115.48]
["CS0112",{"$f":"TEXT(Table_Query_from_Great_Plains[[#This Row],[ITEMNMBR]],0)","v":"CS0112"},"Custom Gift Basket","RETAIL",0,50.64]
["CS0113",{"$f":"TEXT(Table_Query_from_Great_Plains[[#This Row],[ITEMNMBR]],0)","v":"CS0113"},"Custom Gift Basket","RETAIL",0,99.99]
["CS0114",{"$f":"TEXT(Table_Query_from_Great_Plains[[#This Row],[ITEMNMBR]],0)","v":"CS0114"},"Custom Gift Basket","RETAIL",0,69.989999999999995]
["CS0115",{"$f":"TEXT(Table_Query_from_Great_Plains[[#This Row],[ITEMNMBR]],0)","v":"CS0115"},"Custom Gift Basket","RETAIL",0,121.09]
["CS0116",{"$f":"TEXT(Table_Query_from_Great_Plains[[#This Row],[ITEMNMBR]],0)","v":"CS0116"},"Custom Gift Basket","RETAIL",0,96.84]
["CS0117",{"$f":"TEXT(Table_Query_from_Great_Plains[[#This Row],[ITEMNMBR]],0)","v":"CS0117"},"Custom Gift Basket","RETAIL",0,90.14]
["CS0118",{"$f":"TEXT(Table_Query_from_Great_Plains[[#This Row],[ITEMNMBR]],0)","v":"CS0118"},"Custom Easter Medium Brown Bunny","RETAIL",0,102.38]
["CS0119",{"$f":"TEXT(Table_Query_from_Great_Plains[[#This Row],[ITEMNMBR]],0)","v":"CS0119"},"Custom Easter Basket No Bunny","RETAIL",0,94.34]
["CS0120",{"$f":"TEXT(Table_Query_from_Great_Plains[[#This Row],[ITEMNMBR]],0)","v":"CS0120"},"Custom Easter Basket Floppy Eared Bunny","RETAIL",0,124.24]
["CS0121",{"$f":"TEXT(Table_Query_from_Great_Plains[[#This Row],[ITEMNMBR]],0)","v":"CS0121"},"Custom Gift Basket","RETAIL",0,100]
["CS0122",{"$f":"TEXT(Table_Query_from_Great_Plains[[#This Row],[ITEMNMBR]],0)","v":"CS0122"},"Custom Gift Basket","RETAIL",0,80.84]
["CS0123",{"$f":"TEXT(Table_Query_from_Great_Plains[[#This Row],[ITEMNMBR]],0)","v":"CS0123"},"Custom Gift Basket","RETAIL",0,69.989999999999995]
["CS0124",{"$f":"TEXT(Table_Query_from_Great_Plains[[#This Row],[ITEMNMBR]],0)","v":"CS0124"},"Custom Gift Basket","RETAIL",0,105]
["CS0125",{"$f":"TEXT(Table_Query_from_Great_Plains[[#This Row],[ITEMNMBR]],0)","v":"CS0125"},"Custom Gift Basket","RETAIL",0,172.99]
["CS0126",{"$f":"TEXT(Table_Query_from_Great_Plains[[#This Row],[ITEMNMBR]],0)","v":"CS0126"},"Custom Gift Basket","RETAIL",0,100.24]
["CS0127",{"$f":"TEXT(Table_Query_from_Great_Plains[[#This Row],[ITEMNMBR]],0)","v":"CS0127"},"Custom Gift Basket","RETAIL",0,134.26]
["CS0128",{"$f":"TEXT(Table_Query_from_Great_Plains[[#This Row],[ITEMNMBR]],0)","v":"CS0128"},"Custom Gift Basket","RETAIL",0,198.92]
["CS0129",{"$f":"TEXT(Table_Query_from_Great_Plains[[#This Row],[ITEMNMBR]],0)","v":"CS0129"},"Custom Gift Basket","RETAIL",0,147.78]
["CS0130",{"$f":"TEXT(Table_Query_from_Great_Plains[[#This Row],[ITEMNMBR]],0)","v":"CS0130"},"Custom Gift Basket","RETAIL",0,129.91999999999999]
["CS0131",{"$f":"TEXT(Table_Query_from_Great_Plains[[#This Row],[ITEMNMBR]],0)","v":"CS0131"},"Custom Gift Basket","RETAIL",0,59.99]
["CS0132",{"$f":"TEXT(Table_Query_from_Great_Plains[[#This Row],[ITEMNMBR]],0)","v":"CS0132"},"Custom Gift Basket","RETAIL",0,69.989999999999995]
["CS0133",{"$f":"TEXT(Table_Query_from_Great_Plains[[#This Row],[ITEMNMBR]],0)","v":"CS0133"},"Custom Gift Basket","RETAIL",0,37.99]
["CS0134",{"$f":"TEXT(Table_Query_from_Great_Plains[[#This Row],[ITEMNMBR]],0)","v":"CS0134"},"Custom Gift Basket","RETAIL",0,42.99]
["CS0135",{"$f":"TEXT(Table_Query_from_Great_Plains[[#This Row],[ITEMNMBR]],0)","v":"CS0135"},"Custom Gift Basket","RETAIL",0,76.94]
["CS0136",{"$f":"TEXT(Table_Query_from_Great_Plains[[#This Row],[ITEMNMBR]],0)","v":"CS0136"},"Custom Gift Basket","RETAIL",0,50.99]
["CS0137",{"$f":"TEXT(Table_Query_from_Great_Plains[[#This Row],[ITEMNMBR]],0)","v":"CS0137"},"Custom Gift Basket","RETAIL",0,45.39]
["CS0138",{"$f":"TEXT(Table_Query_from_Great_Plains[[#This Row],[ITEMNMBR]],0)","v":"CS0138"},"Custom Gift Basket","RETAIL",0,119.99]
["CS0139",{"$f":"TEXT(Table_Query_from_Great_Plains[[#This Row],[ITEMNMBR]],0)","v":"CS0139"},"Custom Gift Basket","RETAIL",0,34.99]
["CS0140",{"$f":"TEXT(Table_Query_from_Great_Plains[[#This Row],[ITEMNMBR]],0)","v":"CS0140"},"Custom Gift Basket","RETAIL",0,59.99]
["CS0141",{"$f":"TEXT(Table_Query_from_Great_Plains[[#This Row],[ITEMNMBR]],0)","v":"CS0141"},"Custom Gift Basket","RETAIL",0,69.989999999999995]
["CS0142",{"$f":"TEXT(Table_Query_from_Great_Plains[[#This Row],[ITEMNMBR]],0)","v":"CS0142"},"Custom Gift Basket","RETAIL",0,250]
["CS0143",{"$f":"TEXT(Table_Query_from_Great_Plains[[#This Row],[ITEMNMBR]],0)","v":"CS0143"},"Custom Gift Basket","RETAIL",0,140.63999999999999]
["CS0144",{"$f":"TEXT(Table_Query_from_Great_Plains[[#This Row],[ITEMNMBR]],0)","v":"CS0144"},"Custom Gift Basket","RETAIL",0,76.84]
["CS0145",{"$f":"TEXT(Table_Query_from_Great_Plains[[#This Row],[ITEMNMBR]],0)","v":"CS0145"},"Custom Gift Basket","RETAIL",0,50.94]
["CS0146",{"$f":"TEXT(Table_Query_from_Great_Plains[[#This Row],[ITEMNMBR]],0)","v":"CS0146"},"Custom Gift Basket","RETAIL",0,149.99]
["CS0147",{"$f":"TEXT(Table_Query_from_Great_Plains[[#This Row],[ITEMNMBR]],0)","v":"CS0147"},"Custom Gift Basket","RETAIL",0,149.99]
["CS0149",{"$f":"TEXT(Table_Query_from_Great_Plains[[#This Row],[ITEMNMBR]],0)","v":"CS0149"},"Custom Gift Basket","RETAIL",0,51.59]
["CS0150",{"$f":"TEXT(Table_Query_from_Great_Plains[[#This Row],[ITEMNMBR]],0)","v":"CS0150"},"Custom Gift Basket","RETAIL",0,39.99]
["CS0151",{"$f":"TEXT(Table_Query_from_Great_Plains[[#This Row],[ITEMNMBR]],0)","v":"CS0151"},"Custom Gift Basket","RETAIL",0,156.21]
["CS0152",{"$f":"TEXT(Table_Query_from_Great_Plains[[#This Row],[ITEMNMBR]],0)","v":"CS0152"},"Custom Gift Basket","RETAIL",0,88.2]
["CS0153",{"$f":"TEXT(Table_Query_from_Great_Plains[[#This Row],[ITEMNMBR]],0)","v":"CS0153"},"Custom Gift Basket","RETAIL",0,192]
["CS0154",{"$f":"TEXT(Table_Query_from_Great_Plains[[#This Row],[ITEMNMBR]],0)","v":"CS0154"},"Custom Gift Basket","RETAIL",0,119.99]
["CS0155",{"$f":"TEXT(Table_Query_from_Great_Plains[[#This Row],[ITEMNMBR]],0)","v":"CS0155"},"Custom Gift Basket","RETAIL",0,215.6]
["CS0156",{"$f":"TEXT(Table_Query_from_Great_Plains[[#This Row],[ITEMNMBR]],0)","v":"CS0156"},"Custom Gift Basket","RETAIL",0,161.74]
["CS0157",{"$f":"TEXT(Table_Query_from_Great_Plains[[#This Row],[ITEMNMBR]],0)","v":"CS0157"},"Custom Gift Basket","RETAIL",0,116.16]
["CS0158",{"$f":"TEXT(Table_Query_from_Great_Plains[[#This Row],[ITEMNMBR]],0)","v":"CS0158"},"Custom Gift Basket","RETAIL",0,75.38]
["CS0159",{"$f":"TEXT(Table_Query_from_Great_Plains[[#This Row],[ITEMNMBR]],0)","v":"CS0159"},"Custom Gift Basket","RETAIL",0,195.99]
["CS0160",{"$f":"TEXT(Table_Query_from_Great_Plains[[#This Row],[ITEMNMBR]],0)","v":"CS0160"},"Custom Gift Basket","RETAIL",0,99.99]
["CS0161",{"$f":"TEXT(Table_Query_from_Great_Plains[[#This Row],[ITEMNMBR]],0)","v":"CS0161"},"Custom Gift Basket","RETAIL",0,41.99]
["CS0162",{"$f":"TEXT(Table_Query_from_Great_Plains[[#This Row],[ITEMNMBR]],0)","v":"CS0162"},"Custom Gift Basket","RETAIL",0,49.99]
["CS0163",{"$f":"TEXT(Table_Query_from_Great_Plains[[#This Row],[ITEMNMBR]],0)","v":"CS0163"},"Custom Gift Basket","RETAIL",0,154.99]
["CS0164",{"$f":"TEXT(Table_Query_from_Great_Plains[[#This Row],[ITEMNMBR]],0)","v":"CS0164"},"Custom Gift Basket","RETAIL",0,52.99]
["CS0165",{"$f":"TEXT(Table_Query_from_Great_Plains[[#This Row],[ITEMNMBR]],0)","v":"CS0165"},"Custom Gift Basket","RETAIL",0,59.99]
["CS0166",{"$f":"TEXT(Table_Query_from_Great_Plains[[#This Row],[ITEMNMBR]],0)","v":"CS0166"},"Custom Gift Basket","RETAIL",0,0]
["CS0168",{"$f":"TEXT(Table_Query_from_Great_Plains[[#This Row],[ITEMNMBR]],0)","v":"CS0168"},"Custom Gift Basket","RETAIL",0,110.99]
["CS0169",{"$f":"TEXT(Table_Query_from_Great_Plains[[#This Row],[ITEMNMBR]],0)","v":"CS0169"},"Custom Gift Basket","RETAIL",0,105.7]
["CS0170",{"$f":"TEXT(Table_Query_from_Great_Plains[[#This Row],[ITEMNMBR]],0)","v":"CS0170"},"Custom Gift Basket","RETAIL",0,62.99]
["CS0171",{"$f":"TEXT(Table_Query_from_Great_Plains[[#This Row],[ITEMNMBR]],0)","v":"CS0171"},"Custom Gift Basket","RETAIL",0,74.72]
["CS0173",{"$f":"TEXT(Table_Query_from_Great_Plains[[#This Row],[ITEMNMBR]],0)","v":"CS0173"},"Custom Gift Basket","RETAIL",0,133.38]
["CS0174",{"$f":"TEXT(Table_Query_from_Great_Plains[[#This Row],[ITEMNMBR]],0)","v":"CS0174"},"Custom Gift Basket","RETAIL",0,96.93]
["CS0175",{"$f":"TEXT(Table_Query_from_Great_Plains[[#This Row],[ITEMNMBR]],0)","v":"CS0175"},"Custom Gift Basket","RETAIL",0,84.94]
["CS0176",{"$f":"TEXT(Table_Query_from_Great_Plains[[#This Row],[ITEMNMBR]],0)","v":"CS0176"},"Custom Gift Basket","RETAIL",0,129.46]
["CS0177",{"$f":"TEXT(Table_Query_from_Great_Plains[[#This Row],[ITEMNMBR]],0)","v":"CS0177"},"Custom Gift Basket","RETAIL",0,106.99]
["CS0178",{"$f":"TEXT(Table_Query_from_Great_Plains[[#This Row],[ITEMNMBR]],0)","v":"CS0178"},"Custom Gift Basket","RETAIL",0,201.99]
["CS0179",{"$f":"TEXT(Table_Query_from_Great_Plains[[#This Row],[ITEMNMBR]],0)","v":"CS0179"},"Custom Gift Basket","RETAIL",0,179.99]
["CS0180",{"$f":"TEXT(Table_Query_from_Great_Plains[[#This Row],[ITEMNMBR]],0)","v":"CS0180"},"Custom Gift Basket","RETAIL",0,96.94]
["CS0181",{"$f":"TEXT(Table_Query_from_Great_Plains[[#This Row],[ITEMNMBR]],0)","v":"CS0181"},"Custom Gift Basket","RETAIL",0,101.99]
["CS0182",{"$f":"TEXT(Table_Query_from_Great_Plains[[#This Row],[ITEMNMBR]],0)","v":"CS0182"},"Custom Gift Basket","RETAIL",0,77.989999999999995]
["CS0184",{"$f":"TEXT(Table_Query_from_Great_Plains[[#This Row],[ITEMNMBR]],0)","v":"CS0184"},"Custom Gift Basket","RETAIL",0,102.99]
["CS0185",{"$f":"TEXT(Table_Query_from_Great_Plains[[#This Row],[ITEMNMBR]],0)","v":"CS0185"},"Custom Gift Basket","RETAIL",0,76.98]
["CS0186",{"$f":"TEXT(Table_Query_from_Great_Plains[[#This Row],[ITEMNMBR]],0)","v":"CS0186"},"Custom Gift Basket","RETAIL",0,59.99]
["CS0187",{"$f":"TEXT(Table_Query_from_Great_Plains[[#This Row],[ITEMNMBR]],0)","v":"CS0187"},"Custom Gift Basket","RETAIL",0,98.99]
["CS0188",{"$f":"TEXT(Table_Query_from_Great_Plains[[#This Row],[ITEMNMBR]],0)","v":"CS0188"},"Custom Gift Basket","RETAIL",0,78.95]
["CS0189",{"$f":"TEXT(Table_Query_from_Great_Plains[[#This Row],[ITEMNMBR]],0)","v":"CS0189"},"Custom Gift Basket","RETAIL",0,0]
["CS0190",{"$f":"TEXT(Table_Query_from_Great_Plains[[#This Row],[ITEMNMBR]],0)","v":"CS0190"},"Custom Gift Basket","RETAIL",0,149.99]
["CS0191",{"$f":"TEXT(Table_Query_from_Great_Plains[[#This Row],[ITEMNMBR]],0)","v":"CS0191"},"Custom Gift Basket","RETAIL",0,31.98]
["CS0192",{"$f":"TEXT(Table_Query_from_Great_Plains[[#This Row],[ITEMNMBR]],0)","v":"CS0192"},"Custom Gift Basket","RETAIL",0,81.99]
["CS0193",{"$f":"TEXT(Table_Query_from_Great_Plains[[#This Row],[ITEMNMBR]],0)","v":"CS0193"},"Custom Gift Basket","RETAIL",0,95.99]
["CS0194",{"$f":"TEXT(Table_Query_from_Great_Plains[[#This Row],[ITEMNMBR]],0)","v":"CS0194"},"Custom Gift Basket","RETAIL",0,220]
["CS0195",{"$f":"TEXT(Table_Query_from_Great_Plains[[#This Row],[ITEMNMBR]],0)","v":"CS0195"},"Custom Gift Basket","RETAIL",0,122.99]
["CS0196",{"$f":"TEXT(Table_Query_from_Great_Plains[[#This Row],[ITEMNMBR]],0)","v":"CS0196"},"Custom Gift Basket","RETAIL",0,99.99]
["CS0197",{"$f":"TEXT(Table_Query_from_Great_Plains[[#This Row],[ITEMNMBR]],0)","v":"CS0197"},"Custom Gift Basket","RETAIL",0,174.78]
["CS0198",{"$f":"TEXT(Table_Query_from_Great_Plains[[#This Row],[ITEMNMBR]],0)","v":"CS0198"},"Custom Gift Basket","RETAIL",0,209.99]
["CS0199",{"$f":"TEXT(Table_Query_from_Great_Plains[[#This Row],[ITEMNMBR]],0)","v":"CS0199"},"Custom Gift Basket","RETAIL",0,100]
["CS0200",{"$f":"TEXT(Table_Query_from_Great_Plains[[#This Row],[ITEMNMBR]],0)","v":"CS0200"},"Custom Gift Basket","RETAIL",0,118.89]
["CS0201",{"$f":"TEXT(Table_Query_from_Great_Plains[[#This Row],[ITEMNMBR]],0)","v":"CS0201"},"Custom Gift Basket","RETAIL",0,150.26]
["CS0202",{"$f":"TEXT(Table_Query_from_Great_Plains[[#This Row],[ITEMNMBR]],0)","v":"CS0202"},"Custom Gift Basket","RETAIL",0,100.54]
["CS0203",{"$f":"TEXT(Table_Query_from_Great_Plains[[#This Row],[ITEMNMBR]],0)","v":"CS0203"},"Custom Gift Basket","RETAIL",0,80.62]
["CS0204",{"$f":"TEXT(Table_Query_from_Great_Plains[[#This Row],[ITEMNMBR]],0)","v":"CS0204"},"Custom Gift Basket","RETAIL",0,214.04]
["CS0205",{"$f":"TEXT(Table_Query_from_Great_Plains[[#This Row],[ITEMNMBR]],0)","v":"CS0205"},"Custom Gift Basket","RETAIL",0,100.98]
["CS0206",{"$f":"TEXT(Table_Query_from_Great_Plains[[#This Row],[ITEMNMBR]],0)","v":"CS0206"},"Custom Gift Basket","RETAIL",0,119.3]
["CS0207",{"$f":"TEXT(Table_Query_from_Great_Plains[[#This Row],[ITEMNMBR]],0)","v":"CS0207"},"Custom Gift Basket","RETAIL",0,237.99]
["CS0208",{"$f":"TEXT(Table_Query_from_Great_Plains[[#This Row],[ITEMNMBR]],0)","v":"CS0208"},"Custom Gift Basket","RETAIL",0,128.97999999999999]
["CS0209",{"$f":"TEXT(Table_Query_from_Great_Plains[[#This Row],[ITEMNMBR]],0)","v":"CS0209"},"Custom Gift Basket","RETAIL",0,135.94]
["CS0210",{"$f":"TEXT(Table_Query_from_Great_Plains[[#This Row],[ITEMNMBR]],0)","v":"CS0210"},"Custom Gift Basket","RETAIL",0,55.55]
["CS0211",{"$f":"TEXT(Table_Query_from_Great_Plains[[#This Row],[ITEMNMBR]],0)","v":"CS0211"},"Custom Gift Basket","RETAIL",0,149.99]
["CS0212",{"$f":"TEXT(Table_Query_from_Great_Plains[[#This Row],[ITEMNMBR]],0)","v":"CS0212"},"Custom Gift Basket","RETAIL",0,72.37]
["CS0213",{"$f":"TEXT(Table_Query_from_Great_Plains[[#This Row],[ITEMNMBR]],0)","v":"CS0213"},"Custom Gift Basket","RETAIL",0,307.95999999999998]
["CS0214",{"$f":"TEXT(Table_Query_from_Great_Plains[[#This Row],[ITEMNMBR]],0)","v":"CS0214"},"Custom Gift Basket","RETAIL",0,79.819999999999993]
["CS0215",{"$f":"TEXT(Table_Query_from_Great_Plains[[#This Row],[ITEMNMBR]],0)","v":"CS0215"},"Custom Gift Basket","RETAIL",0,134.99]
["CS0216",{"$f":"TEXT(Table_Query_from_Great_Plains[[#This Row],[ITEMNMBR]],0)","v":"CS0216"},"Custom Gift Basket","RETAIL",0,76.989999999999995]
["CS0217",{"$f":"TEXT(Table_Query_from_Great_Plains[[#This Row],[ITEMNMBR]],0)","v":"CS0217"},"Custom Gift Basket","RETAIL",0,25]
["CS0218",{"$f":"TEXT(Table_Query_from_Great_Plains[[#This Row],[ITEMNMBR]],0)","v":"CS0218"},"Custom Gift Basket","RETAIL",0,76.94]
["CS0219",{"$f":"TEXT(Table_Query_from_Great_Plains[[#This Row],[ITEMNMBR]],0)","v":"CS0219"},"Custom Gift Basket","RETAIL",0,84.99]
["CS0220",{"$f":"TEXT(Table_Query_from_Great_Plains[[#This Row],[ITEMNMBR]],0)","v":"CS0220"},"Custom Gift Basket","RETAIL",0,46.35]
["CS0221",{"$f":"TEXT(Table_Query_from_Great_Plains[[#This Row],[ITEMNMBR]],0)","v":"CS0221"},"Custom Gift Basket","RETAIL",0,118.32]
["CS0222",{"$f":"TEXT(Table_Query_from_Great_Plains[[#This Row],[ITEMNMBR]],0)","v":"CS0222"},"Custom Gift Basket","RETAIL",0,92.26]
["CS0223",{"$f":"TEXT(Table_Query_from_Great_Plains[[#This Row],[ITEMNMBR]],0)","v":"CS0223"},"Custom Gift Basket","RETAIL",0,114.15]
["CS0224",{"$f":"TEXT(Table_Query_from_Great_Plains[[#This Row],[ITEMNMBR]],0)","v":"CS0224"},"Custom Gift Basket","RETAIL",0,96.64]
["CS0225",{"$f":"TEXT(Table_Query_from_Great_Plains[[#This Row],[ITEMNMBR]],0)","v":"CS0225"},"Custom Gift Basket","RETAIL",0,56.8]
["CS0227",{"$f":"TEXT(Table_Query_from_Great_Plains[[#This Row],[ITEMNMBR]],0)","v":"CS0227"},"Custom Gift Basket","RETAIL",0,255.99]
["CS0228",{"$f":"TEXT(Table_Query_from_Great_Plains[[#This Row],[ITEMNMBR]],0)","v":"CS0228"},"Custom Gift Basket","RETAIL",0,128.54]
["CS0229",{"$f":"TEXT(Table_Query_from_Great_Plains[[#This Row],[ITEMNMBR]],0)","v":"CS0229"},"Custom Gift Basket","RETAIL",0,114.04]
["CS0230",{"$f":"TEXT(Table_Query_from_Great_Plains[[#This Row],[ITEMNMBR]],0)","v":"CS0230"},"Custom Gift Basket","RETAIL",0,150.34]
["CS0231",{"$f":"TEXT(Table_Query_from_Great_Plains[[#This Row],[ITEMNMBR]],0)","v":"CS0231"},"Custom Gift Basket","RETAIL",0,69.989999999999995]
["CS0232",{"$f":"TEXT(Table_Query_from_Great_Plains[[#This Row],[ITEMNMBR]],0)","v":"CS0232"},"Custom Gift Basket","RETAIL",0,117.12]
["CS0233",{"$f":"TEXT(Table_Query_from_Great_Plains[[#This Row],[ITEMNMBR]],0)","v":"CS0233"},"Custom Gift Basket","RETAIL",0,100]
["CS0234",{"$f":"TEXT(Table_Query_from_Great_Plains[[#This Row],[ITEMNMBR]],0)","v":"CS0234"},"Custom Gift Basket","RETAIL",0,100.5]
["CS0235",{"$f":"TEXT(Table_Query_from_Great_Plains[[#This Row],[ITEMNMBR]],0)","v":"CS0235"},"Custom Gift Basket","RETAIL",0,60.39]
["CS0236",{"$f":"TEXT(Table_Query_from_Great_Plains[[#This Row],[ITEMNMBR]],0)","v":"CS0236"},"Custom Gift Basket","RETAIL",0,199.1]
["CS0237",{"$f":"TEXT(Table_Query_from_Great_Plains[[#This Row],[ITEMNMBR]],0)","v":"CS0237"},"Custom Gift Basket","RETAIL",0,101.88]
["CS0238",{"$f":"TEXT(Table_Query_from_Great_Plains[[#This Row],[ITEMNMBR]],0)","v":"CS0238"},"Custom Gift Basket","RETAIL",0,82.24]
["CS0239",{"$f":"TEXT(Table_Query_from_Great_Plains[[#This Row],[ITEMNMBR]],0)","v":"CS0239"},"Custom Gift Basket","RETAIL",0,54.99]
["CS0240",{"$f":"TEXT(Table_Query_from_Great_Plains[[#This Row],[ITEMNMBR]],0)","v":"CS0240"},"Custom Gift Basket","RETAIL",0,108.89]
["CS0241",{"$f":"TEXT(Table_Query_from_Great_Plains[[#This Row],[ITEMNMBR]],0)","v":"CS0241"},"Custom Gift Basket","RETAIL",0,76.94]
["CS0242",{"$f":"TEXT(Table_Query_from_Great_Plains[[#This Row],[ITEMNMBR]],0)","v":"CS0242"},"Custom Gift Basket","RETAIL",0,183.94]
["CS0243",{"$f":"TEXT(Table_Query_from_Great_Plains[[#This Row],[ITEMNMBR]],0)","v":"CS0243"},"Custom Gift Basket","RETAIL",0,78.94]
["CS0244",{"$f":"TEXT(Table_Query_from_Great_Plains[[#This Row],[ITEMNMBR]],0)","v":"CS0244"},"Custom Gift Basket","RETAIL",0,79.989999999999995]
["CS0245",{"$f":"TEXT(Table_Query_from_Great_Plains[[#This Row],[ITEMNMBR]],0)","v":"CS0245"},"Custom Gift Basket","RETAIL",0,190.92]
["CS0246",{"$f":"TEXT(Table_Query_from_Great_Plains[[#This Row],[ITEMNMBR]],0)","v":"CS0246"},"Custom Gift Basket","RETAIL",0,35]
["CS0247",{"$f":"TEXT(Table_Query_from_Great_Plains[[#This Row],[ITEMNMBR]],0)","v":"CS0247"},"Custom Gift Basket","RETAIL",0,285.58]
["CS0249",{"$f":"TEXT(Table_Query_from_Great_Plains[[#This Row],[ITEMNMBR]],0)","v":"CS0249"},"Custom Gift Basket","RETAIL",0,62.99]
["CS0250",{"$f":"TEXT(Table_Query_from_Great_Plains[[#This Row],[ITEMNMBR]],0)","v":"CS0250"},"Custom Gift Basket","RETAIL",0,129.99]
["CS0251",{"$f":"TEXT(Table_Query_from_Great_Plains[[#This Row],[ITEMNMBR]],0)","v":"CS0251"},"Custom Gift Basket","RETAIL",0,158.44999999999999]
["CS0252",{"$f":"TEXT(Table_Query_from_Great_Plains[[#This Row],[ITEMNMBR]],0)","v":"CS0252"},"Custom Gift Basket","RETAIL",0,84.99]
["CS0253",{"$f":"TEXT(Table_Query_from_Great_Plains[[#This Row],[ITEMNMBR]],0)","v":"CS0253"},"Custom Gift Basket","RETAIL",0,105.59]
["CS0254",{"$f":"TEXT(Table_Query_from_Great_Plains[[#This Row],[ITEMNMBR]],0)","v":"CS0254"},"Custom Gift Basket","RETAIL",0,51.95]
["CS0255",{"$f":"TEXT(Table_Query_from_Great_Plains[[#This Row],[ITEMNMBR]],0)","v":"CS0255"},"Custom Gift Basket","RETAIL",0,98.99]
["CS0256",{"$f":"TEXT(Table_Query_from_Great_Plains[[#This Row],[ITEMNMBR]],0)","v":"CS0256"},"Custom Gift Basket","RETAIL",0,85]
["CS0257",{"$f":"TEXT(Table_Query_from_Great_Plains[[#This Row],[ITEMNMBR]],0)","v":"CS0257"},"Custom Gift Basket","RETAIL",0,58.24]
["CS0258",{"$f":"TEXT(Table_Query_from_Great_Plains[[#This Row],[ITEMNMBR]],0)","v":"CS0258"},"Custom Gift Basket","RETAIL",0,84.99]
["CS0259",{"$f":"TEXT(Table_Query_from_Great_Plains[[#This Row],[ITEMNMBR]],0)","v":"CS0259"},"Custom Gift Basket","RETAIL",0,139.99]
["CS0260",{"$f":"TEXT(Table_Query_from_Great_Plains[[#This Row],[ITEMNMBR]],0)","v":"CS0260"},"Custom Gift Basket","RETAIL",0,48.38]
["CS0261",{"$f":"TEXT(Table_Query_from_Great_Plains[[#This Row],[ITEMNMBR]],0)","v":"CS0261"},"Custom Gift Basket","RETAIL",0,84.24]
["CS0262",{"$f":"TEXT(Table_Query_from_Great_Plains[[#This Row],[ITEMNMBR]],0)","v":"CS0262"},"Custom Gift Basket","RETAIL",0,200.54]
["CS0263",{"$f":"TEXT(Table_Query_from_Great_Plains[[#This Row],[ITEMNMBR]],0)","v":"CS0263"},"Custom Gift Basket","RETAIL",0,35.869999999999997]
["CS0264",{"$f":"TEXT(Table_Query_from_Great_Plains[[#This Row],[ITEMNMBR]],0)","v":"CS0264"},"Custom Gift Basket","RETAIL",0,312.99]
["CS0265",{"$f":"TEXT(Table_Query_from_Great_Plains[[#This Row],[ITEMNMBR]],0)","v":"CS0265"},"Custom Gift Basket","RETAIL",0,39.99]
["CS0266",{"$f":"TEXT(Table_Query_from_Great_Plains[[#This Row],[ITEMNMBR]],0)","v":"CS0266"},"Custom Gift Basket","RETAIL",0,249.99]
["CS0267",{"$f":"TEXT(Table_Query_from_Great_Plains[[#This Row],[ITEMNMBR]],0)","v":"CS0267"},"Custom Gift Basket","RETAIL",0,86.94]
["CS0268",{"$f":"TEXT(Table_Query_from_Great_Plains[[#This Row],[ITEMNMBR]],0)","v":"CS0268"},"Custom Gift Basket","RETAIL",0,59.99]
["CS0269",{"$f":"TEXT(Table_Query_from_Great_Plains[[#This Row],[ITEMNMBR]],0)","v":"CS0269"},"Custom Gift Basket","RETAIL",0,91.99]
["CS0270",{"$f":"TEXT(Table_Query_from_Great_Plains[[#This Row],[ITEMNMBR]],0)","v":"CS0270"},"Custom Gift Basket","RETAIL",0,228.99]
["CS0271",{"$f":"TEXT(Table_Query_from_Great_Plains[[#This Row],[ITEMNMBR]],0)","v":"CS0271"},"Custom Gift Basket","RETAIL",0,111.08]
["CS0272",{"$f":"TEXT(Table_Query_from_Great_Plains[[#This Row],[ITEMNMBR]],0)","v":"CS0272"},"Custom Gift Basket","RETAIL",0,109.99]
["CS0273",{"$f":"TEXT(Table_Query_from_Great_Plains[[#This Row],[ITEMNMBR]],0)","v":"CS0273"},"Custom Gift Basket","RETAIL",0,0]
["CS0274",{"$f":"TEXT(Table_Query_from_Great_Plains[[#This Row],[ITEMNMBR]],0)","v":"CS0274"},"Custom Gift Basket","RETAIL",0,149.99]
["CS0275",{"$f":"TEXT(Table_Query_from_Great_Plains[[#This Row],[ITEMNMBR]],0)","v":"CS0275"},"Custom Gift Basket","RETAIL",0,88.99]
["CS0276",{"$f":"TEXT(Table_Query_from_Great_Plains[[#This Row],[ITEMNMBR]],0)","v":"CS0276"},"Custom Gift Basket","RETAIL",0,85.3]
["CS0277",{"$f":"TEXT(Table_Query_from_Great_Plains[[#This Row],[ITEMNMBR]],0)","v":"CS0277"},"Custom Gift Basket","RETAIL",0,129.99]
["CS0278",{"$f":"TEXT(Table_Query_from_Great_Plains[[#This Row],[ITEMNMBR]],0)","v":"CS0278"},"Custom Gift Basket","RETAIL",0,144.94]
["CS0279",{"$f":"TEXT(Table_Query_from_Great_Plains[[#This Row],[ITEMNMBR]],0)","v":"CS0279"},"Custom Gift Basket","RETAIL",0,45]
["CS0280",{"$f":"TEXT(Table_Query_from_Great_Plains[[#This Row],[ITEMNMBR]],0)","v":"CS0280"},"Custom Gift Basket","RETAIL",0,134.99]
["CS0281",{"$f":"TEXT(Table_Query_from_Great_Plains[[#This Row],[ITEMNMBR]],0)","v":"CS0281"},"Custom Gift Basket","RETAIL",0,114.53]
["CS0282",{"$f":"TEXT(Table_Query_from_Great_Plains[[#This Row],[ITEMNMBR]],0)","v":"CS0282"},"Custom Gift Basket","RETAIL",0,36.99]
["CS0284",{"$f":"TEXT(Table_Query_from_Great_Plains[[#This Row],[ITEMNMBR]],0)","v":"CS0284"},"Custom Gift Basket","RETAIL",0,134.1]
["CS0285",{"$f":"TEXT(Table_Query_from_Great_Plains[[#This Row],[ITEMNMBR]],0)","v":"CS0285"},"Custom Gift Basket","RETAIL",0,118.72]
["CS0286",{"$f":"TEXT(Table_Query_from_Great_Plains[[#This Row],[ITEMNMBR]],0)","v":"CS0286"},"Custom Gift Basket","RETAIL",0,0]
["CS0287",{"$f":"TEXT(Table_Query_from_Great_Plains[[#This Row],[ITEMNMBR]],0)","v":"CS0287"},"Custom Gift Basket","RETAIL",0,49.99]
["CS0288",{"$f":"TEXT(Table_Query_from_Great_Plains[[#This Row],[ITEMNMBR]],0)","v":"CS0288"},"Custom Gift Basket","RETAIL",0,47.08]
["CS0289",{"$f":"TEXT(Table_Query_from_Great_Plains[[#This Row],[ITEMNMBR]],0)","v":"CS0289"},"Custom Gift Basket","RETAIL",0,121.98]
["CS0290",{"$f":"TEXT(Table_Query_from_Great_Plains[[#This Row],[ITEMNMBR]],0)","v":"CS0290"},"Custom Gift Basket","RETAIL",0,125.43]
["CS0291",{"$f":"TEXT(Table_Query_from_Great_Plains[[#This Row],[ITEMNMBR]],0)","v":"CS0291"},"Custom Gift Basket","RETAIL",0,157.04]
["CS0292",{"$f":"TEXT(Table_Query_from_Great_Plains[[#This Row],[ITEMNMBR]],0)","v":"CS0292"},"Custom Gift Basket","RETAIL",0,360]
["CS0293",{"$f":"TEXT(Table_Query_from_Great_Plains[[#This Row],[ITEMNMBR]],0)","v":"CS0293"},"Custom Gift Basket","RETAIL",0,52.61]
["CS0294",{"$f":"TEXT(Table_Query_from_Great_Plains[[#This Row],[ITEMNMBR]],0)","v":"CS0294"},"Custom Gift Basket","RETAIL",0,101]
["CS0295",{"$f":"TEXT(Table_Query_from_Great_Plains[[#This Row],[ITEMNMBR]],0)","v":"CS0295"},"Custom Gift Basket","RETAIL",0,149.69999999999999]
["CS0296",{"$f":"TEXT(Table_Query_from_Great_Plains[[#This Row],[ITEMNMBR]],0)","v":"CS0296"},"Custom Gift Basket","RETAIL",0,92.18]
["CS0297",{"$f":"TEXT(Table_Query_from_Great_Plains[[#This Row],[ITEMNMBR]],0)","v":"CS0297"},"Custom Gift Basket","RETAIL",0,166.41]
["CS0298",{"$f":"TEXT(Table_Query_from_Great_Plains[[#This Row],[ITEMNMBR]],0)","v":"CS0298"},"Custom Gift Basket","RETAIL",0,87.24]
["CS0299",{"$f":"TEXT(Table_Query_from_Great_Plains[[#This Row],[ITEMNMBR]],0)","v":"CS0299"},"Custom Gift Basket","RETAIL",0,72.09]
["CS0300",{"$f":"TEXT(Table_Query_from_Great_Plains[[#This Row],[ITEMNMBR]],0)","v":"CS0300"},"Custom Gift Basket","RETAIL",0,105.6]
["CS0301",{"$f":"TEXT(Table_Query_from_Great_Plains[[#This Row],[ITEMNMBR]],0)","v":"CS0301"},"Custom Gift Basket","RETAIL",0,199.99]
["CS0302",{"$f":"TEXT(Table_Query_from_Great_Plains[[#This Row],[ITEMNMBR]],0)","v":"CS0302"},"Custom Gift Basket","RETAIL",0,149.9]
["CS0303",{"$f":"TEXT(Table_Query_from_Great_Plains[[#This Row],[ITEMNMBR]],0)","v":"CS0303"},"Custom Gift Basket","RETAIL",0,542.96]
["CS0304",{"$f":"TEXT(Table_Query_from_Great_Plains[[#This Row],[ITEMNMBR]],0)","v":"CS0304"},"Custom Gift Basket","RETAIL",0,108.84]
["CS0305",{"$f":"TEXT(Table_Query_from_Great_Plains[[#This Row],[ITEMNMBR]],0)","v":"CS0305"},"Custom Gift Basket","RETAIL",0,31.99]
["CS0306",{"$f":"TEXT(Table_Query_from_Great_Plains[[#This Row],[ITEMNMBR]],0)","v":"CS0306"},"Custom Gift Basket","RETAIL",0,120.49]
["CS0307",{"$f":"TEXT(Table_Query_from_Great_Plains[[#This Row],[ITEMNMBR]],0)","v":"CS0307"},"Custom Gift Basket","RETAIL",0,86.89]
["CS0308",{"$f":"TEXT(Table_Query_from_Great_Plains[[#This Row],[ITEMNMBR]],0)","v":"CS0308"},"Custom Gift Basket","RETAIL",0,90]
["CS0309",{"$f":"TEXT(Table_Query_from_Great_Plains[[#This Row],[ITEMNMBR]],0)","v":"CS0309"},"Custom Gift Basket","RETAIL",0,447.5]
["CS0310",{"$f":"TEXT(Table_Query_from_Great_Plains[[#This Row],[ITEMNMBR]],0)","v":"CS0310"},"Custom Gift Basket","RETAIL",0,69.989999999999995]
["CS0311",{"$f":"TEXT(Table_Query_from_Great_Plains[[#This Row],[ITEMNMBR]],0)","v":"CS0311"},"Custom Gift Basket","RETAIL",0,39.99]
["CS0312",{"$f":"TEXT(Table_Query_from_Great_Plains[[#This Row],[ITEMNMBR]],0)","v":"CS0312"},"Custom Gift Basket","RETAIL",0,338.7]
["CS0313",{"$f":"TEXT(Table_Query_from_Great_Plains[[#This Row],[ITEMNMBR]],0)","v":"CS0313"},"Custom Gift Basket","RETAIL",0,144.99]
["CS0314",{"$f":"TEXT(Table_Query_from_Great_Plains[[#This Row],[ITEMNMBR]],0)","v":"CS0314"},"Custom Gift Basket","RETAIL",0,110]
["CS0315",{"$f":"TEXT(Table_Query_from_Great_Plains[[#This Row],[ITEMNMBR]],0)","v":"CS0315"},"Custom Gift Basket","RETAIL",0,152.46]
["CS0316",{"$f":"TEXT(Table_Query_from_Great_Plains[[#This Row],[ITEMNMBR]],0)","v":"CS0316"},"Custom Gift Basket","RETAIL",0,77.5]
["CS0317",{"$f":"TEXT(Table_Query_from_Great_Plains[[#This Row],[ITEMNMBR]],0)","v":"CS0317"},"Custom - Peroni Beer & Nuts","RETAIL",0,102.55]
["CS0318",{"$f":"TEXT(Table_Query_from_Great_Plains[[#This Row],[ITEMNMBR]],0)","v":"CS0318"},"Custom - wild about you with no choc","RETAIL",0,49.99]
["CS0319",{"$f":"TEXT(Table_Query_from_Great_Plains[[#This Row],[ITEMNMBR]],0)","v":"CS0319"},"Custom - candle crate with extra candle","RETAIL",0,47.98]
["CS0320",{"$f":"TEXT(Table_Query_from_Great_Plains[[#This Row],[ITEMNMBR]],0)","v":"CS0320"},"Custom - around world 6 with all guinness","RETAIL",0,98.94]
["CS0321",{"$f":"TEXT(Table_Query_from_Great_Plains[[#This Row],[ITEMNMBR]],0)","v":"CS0321"},"Custom - chocolate and nuts basket - ross","RETAIL",0,199.99]
["CS0325",{"$f":"TEXT(Table_Query_from_Great_Plains[[#This Row],[ITEMNMBR]],0)","v":"CS0325"},"Custom - Bountiful with wine, in XL basket - Dena","RETAIL",0,158.44]
["CS0327",{"$f":"TEXT(Table_Query_from_Great_Plains[[#This Row],[ITEMNMBR]],0)","v":"CS0327"},"Custom - junk food care pkg - no slim jim - dena","RETAIL",0,34.99]
["CS0328",{"$f":"TEXT(Table_Query_from_Great_Plains[[#This Row],[ITEMNMBR]],0)","v":"CS0328"},"Custom - Champagne & Truffles - Without Nuts","RETAIL",0,139.99]
["CS0329",{"$f":"TEXT(Table_Query_from_Great_Plains[[#This Row],[ITEMNMBR]],0)","v":"CS0329"},"custom","RETAIL",0,84.99]
["CS0330",{"$f":"TEXT(Table_Query_from_Great_Plains[[#This Row],[ITEMNMBR]],0)","v":"CS0330"},"custom","RETAIL",0,199.19]
["CS0331",{"$f":"TEXT(Table_Query_from_Great_Plains[[#This Row],[ITEMNMBR]],0)","v":"CS0331"},"custom","RETAIL",0,62]
["CS0332",{"$f":"TEXT(Table_Query_from_Great_Plains[[#This Row],[ITEMNMBR]],0)","v":"CS0332"},"custom","RETAIL",0,158.66]
["CS0333",{"$f":"TEXT(Table_Query_from_Great_Plains[[#This Row],[ITEMNMBR]],0)","v":"CS0333"},"custom","RETAIL",0,200.13]
["CS0334",{"$f":"TEXT(Table_Query_from_Great_Plains[[#This Row],[ITEMNMBR]],0)","v":"CS0334"},"custom","RETAIL",0,62.01]
["CS0335",{"$f":"TEXT(Table_Query_from_Great_Plains[[#This Row],[ITEMNMBR]],0)","v":"CS0335"},"Custom Care Pkg midnight snack and exam cram","RETAIL",0,74.900000000000006]
["CS0336",{"$f":"TEXT(Table_Query_from_Great_Plains[[#This Row],[ITEMNMBR]],0)","v":"CS0336"},"Custom Snack with Ham Slices","RETAIL",0,76.25]
["CS0337",{"$f":"TEXT(Table_Query_from_Great_Plains[[#This Row],[ITEMNMBR]],0)","v":"CS0337"},"Custom Golf Bag Gluten Free","RETAIL",0,82.99]
["CS0338",{"$f":"TEXT(Table_Query_from_Great_Plains[[#This Row],[ITEMNMBR]],0)","v":"CS0338"},"Custom Grilling and Beer","RETAIL",0,225.54]
["CS0339",{"$f":"TEXT(Table_Query_from_Great_Plains[[#This Row],[ITEMNMBR]],0)","v":"CS0339"},"Custom Organic Fruit","RETAIL",0,198.99]
["CS0340",{"$f":"TEXT(Table_Query_from_Great_Plains[[#This Row],[ITEMNMBR]],0)","v":"CS0340"},"Custom Fruit with Dom and Pinot Grigio","RETAIL",0,458]
["CS0341",{"$f":"TEXT(Table_Query_from_Great_Plains[[#This Row],[ITEMNMBR]],0)","v":"CS0341"},"Custom Candy and chocolate custom","RETAIL",0,121.06]
["CS0342",{"$f":"TEXT(Table_Query_from_Great_Plains[[#This Row],[ITEMNMBR]],0)","v":"CS0342"},"Custom Veuve 12 bottles","RETAIL",0,679.99]
["CS0343",{"$f":"TEXT(Table_Query_from_Great_Plains[[#This Row],[ITEMNMBR]],0)","v":"CS0343"},"Custom Veuve Moet & Truffles","RETAIL",0,224.99]
["CS0344",{"$f":"TEXT(Table_Query_from_Great_Plains[[#This Row],[ITEMNMBR]],0)","v":"CS0344"},"Custom Junk Food Care Package","RETAIL",0,51.99]
["CS0345",{"$f":"TEXT(Table_Query_from_Great_Plains[[#This Row],[ITEMNMBR]],0)","v":"CS0345"},"Custom Catena WIne","RETAIL",0,170.99]
["CS0346",{"$f":"TEXT(Table_Query_from_Great_Plains[[#This Row],[ITEMNMBR]],0)","v":"CS0346"},"Custom Gardening","RETAIL",0,74.989999999999995]
["CS0347",{"$f":"TEXT(Table_Query_from_Great_Plains[[#This Row],[ITEMNMBR]],0)","v":"CS0347"},"custom snack health bucket","RETAIL",0,50.99]
["CS0348",{"$f":"TEXT(Table_Query_from_Great_Plains[[#This Row],[ITEMNMBR]],0)","v":"CS0348"},"Custom Wine in Large Basket","RETAIL",0,108.9]
["CS0349",{"$f":"TEXT(Table_Query_from_Great_Plains[[#This Row],[ITEMNMBR]],0)","v":"CS0349"},"Custom Care Package","RETAIL",0,199.99]
["CS0350",{"$f":"TEXT(Table_Query_from_Great_Plains[[#This Row],[ITEMNMBR]],0)","v":"CS0350"},"Custom Beer Bucket","RETAIL",0,90]
["CS0351",{"$f":"TEXT(Table_Query_from_Great_Plains[[#This Row],[ITEMNMBR]],0)","v":"CS0351"},"Custom Breakfast Mini","RETAIL",0,32.99]
["CS0352",{"$f":"TEXT(Table_Query_from_Great_Plains[[#This Row],[ITEMNMBR]],0)","v":"CS0352"},"Custom 2 chai replacement","RETAIL",0,0]
["CS0353",{"$f":"TEXT(Table_Query_from_Great_Plains[[#This Row],[ITEMNMBR]],0)","v":"CS0353"},"Custom Healthy Ultimate $115","RETAIL",0,115]
["CS0354",{"$f":"TEXT(Table_Query_from_Great_Plains[[#This Row],[ITEMNMBR]],0)","v":"CS0354"},"Custom soup and crock with sweet and teddy","RETAIL",0,155.99]
["CS0355",{"$f":"TEXT(Table_Query_from_Great_Plains[[#This Row],[ITEMNMBR]],0)","v":"CS0355"},"Custom Silver Oak single Napa Valley","RETAIL",0,193.99]
["CS0356",{"$f":"TEXT(Table_Query_from_Great_Plains[[#This Row],[ITEMNMBR]],0)","v":"CS0356"},"Custom Snack Ultimate with Wildhorse","RETAIL",0,199.99]
["CS0357",{"$f":"TEXT(Table_Query_from_Great_Plains[[#This Row],[ITEMNMBR]],0)","v":"CS0357"},"Custom Day Paris no chocolate","RETAIL",0,109.99]
["CS0358",{"$f":"TEXT(Table_Query_from_Great_Plains[[#This Row],[ITEMNMBR]],0)","v":"CS0358"},"Custom Coffee Choc Classic - no chocolate","RETAIL",0,69.989999999999995]
["CS0359",{"$f":"TEXT(Table_Query_from_Great_Plains[[#This Row],[ITEMNMBR]],0)","v":"CS0359"},"Custom Micro 6 remove nuts and add more snacks","RETAIL",0,79.989999999999995]
["CS0361",{"$f":"TEXT(Table_Query_from_Great_Plains[[#This Row],[ITEMNMBR]],0)","v":"CS0361"},"Custom Veuve and Truff with Cake Merlot","RETAIL",0,239.99]
["CS0362",{"$f":"TEXT(Table_Query_from_Great_Plains[[#This Row],[ITEMNMBR]],0)","v":"CS0362"},"Custom Kosher Fruit Rosh Hashana","RETAIL",0,77.989999999999995]
["CS0363",{"$f":"TEXT(Table_Query_from_Great_Plains[[#This Row],[ITEMNMBR]],0)","v":"CS0363"},"Custom Around 12 no meat more cheese crackers","RETAIL",0,120]
["CS0364",{"$f":"TEXT(Table_Query_from_Great_Plains[[#This Row],[ITEMNMBR]],0)","v":"CS0364"},"Custom Weekend in Paris plus more with Veuve","RETAIL",0,341.99]
["CS0365",{"$f":"TEXT(Table_Query_from_Great_Plains[[#This Row],[ITEMNMBR]],0)","v":"CS0365"},"Custom Orchards no nuts","RETAIL",0,75.989999999999995]
["CS0366",{"$f":"TEXT(Table_Query_from_Great_Plains[[#This Row],[ITEMNMBR]],0)","v":"CS0366"},"Custom Snack Deluxe with Gift Card $250","RETAIL",0,396.74]
["CS0367",{"$f":"TEXT(Table_Query_from_Great_Plains[[#This Row],[ITEMNMBR]],0)","v":"CS0367"},"Custom care pkg type snacks with beer","RETAIL",0,61.99]
["CS0369",{"$f":"TEXT(Table_Query_from_Great_Plains[[#This Row],[ITEMNMBR]],0)","v":"CS0369"},"Custom 3 White Wines","RETAIL",0,359.99]
["CS0370",{"$f":"TEXT(Table_Query_from_Great_Plains[[#This Row],[ITEMNMBR]],0)","v":"CS0370"},"Custom 3 Red Wines","RETAIL",0,538.99]
["CS0371",{"$f":"TEXT(Table_Query_from_Great_Plains[[#This Row],[ITEMNMBR]],0)","v":"CS0371"},"Custom 5602 No Nuts","RETAIL",0,34.99]
["CS0372",{"$f":"TEXT(Table_Query_from_Great_Plains[[#This Row],[ITEMNMBR]],0)","v":"CS0372"},"Custom 2 Italian wines in medium tray","RETAIL",0,130]
["CS0373",{"$f":"TEXT(Table_Query_from_Great_Plains[[#This Row],[ITEMNMBR]],0)","v":"CS0373"},"Custom Tea, Cookies, Candle Stack","RETAIL",0,49.99]
["CS0374",{"$f":"TEXT(Table_Query_from_Great_Plains[[#This Row],[ITEMNMBR]],0)","v":"CS0374"},"Custom Soup Stack and Reeses in a basket","RETAIL",0,75.989999999999995]
["CS0375",{"$f":"TEXT(Table_Query_from_Great_Plains[[#This Row],[ITEMNMBR]],0)","v":"CS0375"},"Custom Witch's Cauldron NUT FREE","RETAIL",0,49.99]
["CS0376",{"$f":"TEXT(Table_Query_from_Great_Plains[[#This Row],[ITEMNMBR]],0)","v":"CS0376"},"Custom Estate Collection with Red Wine","RETAIL",0,245.99]
["CS0377",{"$f":"TEXT(Table_Query_from_Great_Plains[[#This Row],[ITEMNMBR]],0)","v":"CS0377"},"Custom HARV04 plus more","RETAIL",0,74.989999999999995]
["CS0378",{"$f":"TEXT(Table_Query_from_Great_Plains[[#This Row],[ITEMNMBR]],0)","v":"CS0378"},"Custom Caught the Big ONe","RETAIL",0,89.99]
["CS0379",{"$f":"TEXT(Table_Query_from_Great_Plains[[#This Row],[ITEMNMBR]],0)","v":"CS0379"},"Custom Guinness 6 pack with teddy bear and silk rose","RETAIL",0,82.99]
["CS0380",{"$f":"TEXT(Table_Query_from_Great_Plains[[#This Row],[ITEMNMBR]],0)","v":"CS0380"},"Custom Day in Paris with Peacock Colors","RETAIL",0,99.99]
["CS0381",{"$f":"TEXT(Table_Query_from_Great_Plains[[#This Row],[ITEMNMBR]],0)","v":"CS0381"},"Custom Red Wine cheese crackers chocolate","RETAIL",0,250]
["CS0382",{"$f":"TEXT(Table_Query_from_Great_Plains[[#This Row],[ITEMNMBR]],0)","v":"CS0382"},"Custom Coffee Classic with Milk Chocolate","RETAIL",0,70]
["CS0383",{"$f":"TEXT(Table_Query_from_Great_Plains[[#This Row],[ITEMNMBR]],0)","v":"CS0383"},"Custom Kosher all fruit","RETAIL",0,75]
["CS0384",{"$f":"TEXT(Table_Query_from_Great_Plains[[#This Row],[ITEMNMBR]],0)","v":"CS0384"},"Custom Football Tailgate with 3 beers","RETAIL",0,144.99]
["CS0385",{"$f":"TEXT(Table_Query_from_Great_Plains[[#This Row],[ITEMNMBR]],0)","v":"CS0385"},"Custom Salty & Sweet Basket $37.99","RETAIL",0,37.99]
["CS0386",{"$f":"TEXT(Table_Query_from_Great_Plains[[#This Row],[ITEMNMBR]],0)","v":"CS0386"},"Custom Bottle Board Replacement","RETAIL",0,39.99]
["CS0387",{"$f":"TEXT(Table_Query_from_Great_Plains[[#This Row],[ITEMNMBR]],0)","v":"CS0387"},"Custom Golf Bag with healthy snacks","RETAIL",0,87.99]
["CS0388",{"$f":"TEXT(Table_Query_from_Great_Plains[[#This Row],[ITEMNMBR]],0)","v":"CS0388"},"Custom - Silli Gorilli single stuffed animal","RETAIL",0,17.989999999999998]
["CS0389",{"$f":"TEXT(Table_Query_from_Great_Plains[[#This Row],[ITEMNMBR]],0)","v":"CS0389"},"Custom Orchards with White Wine","RETAIL",0,102.99]
["CS0390",{"$f":"TEXT(Table_Query_from_Great_Plains[[#This Row],[ITEMNMBR]],0)","v":"CS0390"},"Custom Red Wine and sour candies","RETAIL",0,51.99]
["CS0391",{"$f":"TEXT(Table_Query_from_Great_Plains[[#This Row],[ITEMNMBR]],0)","v":"CS0391"},"Custom Candy Crate and Ravenswood Cabernet","RETAIL",0,66.989999999999995]
["CS0392",{"$f":"TEXT(Table_Query_from_Great_Plains[[#This Row],[ITEMNMBR]],0)","v":"CS0392"},"Custom Evening of INdulgence with Crax and Ham","RETAIL",0,131.99]
["CS0393",{"$f":"TEXT(Table_Query_from_Great_Plains[[#This Row],[ITEMNMBR]],0)","v":"CS0393"},"Custom Breakfast Deluxe with Sausage","RETAIL",0,123.99]
["CS0394",{"$f":"TEXT(Table_Query_from_Great_Plains[[#This Row],[ITEMNMBR]],0)","v":"CS0394"},"Custom Champagne and truffles with Cider","RETAIL",0,96.99]
["CS0395",{"$f":"TEXT(Table_Query_from_Great_Plains[[#This Row],[ITEMNMBR]],0)","v":"CS0395"},"Custom Cookie","RETAIL",0,120.05]
["CS0396",{"$f":"TEXT(Table_Query_from_Great_Plains[[#This Row],[ITEMNMBR]],0)","v":"CS0396"},"Custom Soup stack in a bsket","RETAIL",0,69.989999999999995]
["CS0397",{"$f":"TEXT(Table_Query_from_Great_Plains[[#This Row],[ITEMNMBR]],0)","v":"CS0397"},"Custom Ultimate Dog for a BIG dog","RETAIL",0,99.99]
["CS0398",{"$f":"TEXT(Table_Query_from_Great_Plains[[#This Row],[ITEMNMBR]],0)","v":"CS0398"},"Custom Catena all White and choc sun seeds","RETAIL",0,150.99]
["CS0399",{"$f":"TEXT(Table_Query_from_Great_Plains[[#This Row],[ITEMNMBR]],0)","v":"CS0399"},"custom cakebread and chocolate","RETAIL",0,240]
["CS0400",{"$f":"TEXT(Table_Query_from_Great_Plains[[#This Row],[ITEMNMBR]],0)","v":"CS0400"},"Custom Dom, Strawberries, Chocolate, Amex Card $1000","RETAIL",0,1400]
["CS0401",{"$f":"TEXT(Table_Query_from_Great_Plains[[#This Row],[ITEMNMBR]],0)","v":"CS0401"},"Custom for Adecco PResident","RETAIL",0,77.989999999999995]
["CS0402",{"$f":"TEXT(Table_Query_from_Great_Plains[[#This Row],[ITEMNMBR]],0)","v":"CS0402"},"Custom Kosher $50","RETAIL",0,50]
["CS0403",{"$f":"TEXT(Table_Query_from_Great_Plains[[#This Row],[ITEMNMBR]],0)","v":"CS0403"},"Custom 2 Moet in a medium tray","RETAIL",0,138.99]
["CS0404",{"$f":"TEXT(Table_Query_from_Great_Plains[[#This Row],[ITEMNMBR]],0)","v":"CS0404"},"Custom Fruits, Nuts, Chocolate","RETAIL",0,100]
["CS0405",{"$f":"TEXT(Table_Query_from_Great_Plains[[#This Row],[ITEMNMBR]],0)","v":"CS0405"},"Custom Moet, Chocolates, Cheese, Crackers","RETAIL",0,100]
["CS0406",{"$f":"TEXT(Table_Query_from_Great_Plains[[#This Row],[ITEMNMBR]],0)","v":"CS0406"},"Custom Ravens Red Duo with Choc, Cheese, Biscuits, etc....","RETAIL",0,138.99]
["CS0407",{"$f":"TEXT(Table_Query_from_Great_Plains[[#This Row],[ITEMNMBR]],0)","v":"CS0407"},"Custom Naughty and Nice ribbon colors","RETAIL",0,89.99]
["CS0408",{"$f":"TEXT(Table_Query_from_Great_Plains[[#This Row],[ITEMNMBR]],0)","v":"CS0408"},"Custom Orchards with Kids Candy","RETAIL",0,99.99]
["CS0409",{"$f":"TEXT(Table_Query_from_Great_Plains[[#This Row],[ITEMNMBR]],0)","v":"CS0409"},"Custom Scrumptiously Delicious with $40 gift card","RETAIL",0,146.99]
["CS0410",{"$f":"TEXT(Table_Query_from_Great_Plains[[#This Row],[ITEMNMBR]],0)","v":"CS0410"},"Custom Fruit, Nuts, Cheese, Crackers, Chocolate","RETAIL",0,140]
["CS0411",{"$f":"TEXT(Table_Query_from_Great_Plains[[#This Row],[ITEMNMBR]],0)","v":"CS0411"},"Custom Spooktacular Sweets and Treats Mug","RETAIL",0,14.99]
["CS0412",{"$f":"TEXT(Table_Query_from_Great_Plains[[#This Row],[ITEMNMBR]],0)","v":"CS0412"},"Custom Beer 3 pack","RETAIL",0,44.99]
["CS0414",{"$f":"TEXT(Table_Query_from_Great_Plains[[#This Row],[ITEMNMBR]],0)","v":"CS0414"},"Custom Chocolate Dreams with Halloween ribbons and shred","RETAIL",0,98.94]
["CS0415",{"$f":"TEXT(Table_Query_from_Great_Plains[[#This Row],[ITEMNMBR]],0)","v":"CS0415"},"Custom Hot Affair Board Game with Hand Cuffs","RETAIL",0,228.99]
["CS0416",{"$f":"TEXT(Table_Query_from_Great_Plains[[#This Row],[ITEMNMBR]],0)","v":"CS0416"},"Custom Snack Ultimate","RETAIL",0,163.99]
["CS0417",{"$f":"TEXT(Table_Query_from_Great_Plains[[#This Row],[ITEMNMBR]],0)","v":"CS0417"},"Custom Torn Ranch SUB","RETAIL",0,59.99]
["CS0418",{"$f":"TEXT(Table_Query_from_Great_Plains[[#This Row],[ITEMNMBR]],0)","v":"CS0418"},"Custom Healthy Premium with Catena Malbec","RETAIL",0,116.99]
["CS0419",{"$f":"TEXT(Table_Query_from_Great_Plains[[#This Row],[ITEMNMBR]],0)","v":"CS0419"},"Custom Snowflake Tin","RETAIL",0,59.99]
["CS0420",{"$f":"TEXT(Table_Query_from_Great_Plains[[#This Row],[ITEMNMBR]],0)","v":"CS0420"},"Custom Mini WIne Basket","RETAIL",0,35]
["CS0421",{"$f":"TEXT(Table_Query_from_Great_Plains[[#This Row],[ITEMNMBR]],0)","v":"CS0421"},"Custom Baked Goods Sampler of all 3","RETAIL",0,106.99]
["CS0422",{"$f":"TEXT(Table_Query_from_Great_Plains[[#This Row],[ITEMNMBR]],0)","v":"CS0422"},"Custom Chocolate Stack with 2 Teas","RETAIL",0,56.99]
["CS0423",{"$f":"TEXT(Table_Query_from_Great_Plains[[#This Row],[ITEMNMBR]],0)","v":"CS0423"},"Custom Wine Duo - Chardonnay and Merlot","RETAIL",0,124.99]
["CS0424",{"$f":"TEXT(Table_Query_from_Great_Plains[[#This Row],[ITEMNMBR]],0)","v":"CS0424"},"Custom Moet & Truffles with 1 extra Moet","RETAIL",0,177.99]
["CS0425",{"$f":"TEXT(Table_Query_from_Great_Plains[[#This Row],[ITEMNMBR]],0)","v":"CS0425"},"Custom Bountiful remove sausage add salmon and cider","RETAIL",0,139.99]
["CS0426",{"$f":"TEXT(Table_Query_from_Great_Plains[[#This Row],[ITEMNMBR]],0)","v":"CS0426"},"Custom Coffee Classic with 2 wild horse","RETAIL",0,155.99]
["CS0427",{"$f":"TEXT(Table_Query_from_Great_Plains[[#This Row],[ITEMNMBR]],0)","v":"CS0427"},"Custom Tour of Italy with Wildhorse Merlot","RETAIL",0,155.99]
["CS0428",{"$f":"TEXT(Table_Query_from_Great_Plains[[#This Row],[ITEMNMBR]],0)","v":"CS0428"},"Custom Spa and CHocolate $70","RETAIL",0,70]
["CS0429",{"$f":"TEXT(Table_Query_from_Great_Plains[[#This Row],[ITEMNMBR]],0)","v":"CS0429"},"Custom Golf Bag with all giftware no food","RETAIL",0,50]
["CS0430",{"$f":"TEXT(Table_Query_from_Great_Plains[[#This Row],[ITEMNMBR]],0)","v":"CS0430"},"Custom single bottle of Wildhorse Chardonnay","RETAIL",0,0]
["CS0431",{"$f":"TEXT(Table_Query_from_Great_Plains[[#This Row],[ITEMNMBR]],0)","v":"CS0431"},"Custom Brownie Sampler, Veuve, Fruit","RETAIL",0,119.99]
["CS0432",{"$f":"TEXT(Table_Query_from_Great_Plains[[#This Row],[ITEMNMBR]],0)","v":"CS0432"},"Purely with nuts","RETAIL",0,70.989999999999995]
["CS0433",{"$f":"TEXT(Table_Query_from_Great_Plains[[#This Row],[ITEMNMBR]],0)","v":"CS0433"},"Custom Candy Bucket","RETAIL",0,49.5]
["CS0434",{"$f":"TEXT(Table_Query_from_Great_Plains[[#This Row],[ITEMNMBR]],0)","v":"CS0434"},"Custom Chocolates and Snacks high end $200 Billie","RETAIL",0,200]
["CS0435",{"$f":"TEXT(Table_Query_from_Great_Plains[[#This Row],[ITEMNMBR]],0)","v":"CS0435"},"Custom Basket for Ryan H. Veg CHips, Choc, etc...","RETAIL",0,60]
["CS0436",{"$f":"TEXT(Table_Query_from_Great_Plains[[#This Row],[ITEMNMBR]],0)","v":"CS0436"},"Custom Snack Attack","RETAIL",0,109.2]
["CS0437",{"$f":"TEXT(Table_Query_from_Great_Plains[[#This Row],[ITEMNMBR]],0)","v":"CS0437"},"Custom Cookie Sampler","RETAIL",0,0]
["CS0438",{"$f":"TEXT(Table_Query_from_Great_Plains[[#This Row],[ITEMNMBR]],0)","v":"CS0438"},"Custom Cakebread Quatro","RETAIL",0,463.99]
["CS0439",{"$f":"TEXT(Table_Query_from_Great_Plains[[#This Row],[ITEMNMBR]],0)","v":"CS0439"},"Custom Heineken Bucket","RETAIL",0,89.99]
["CS0440",{"$f":"TEXT(Table_Query_from_Great_Plains[[#This Row],[ITEMNMBR]],0)","v":"CS0440"},"Custom Care Package","RETAIL",0,60.99]
["CS0442",{"$f":"TEXT(Table_Query_from_Great_Plains[[#This Row],[ITEMNMBR]],0)","v":"CS0442"},"Custom All Liquid Basket","RETAIL",0,115.99]
["CS0443",{"$f":"TEXT(Table_Query_from_Great_Plains[[#This Row],[ITEMNMBR]],0)","v":"CS0443"},"Custom Italian Basket","RETAIL",0,222.99]
["CS0444",{"$f":"TEXT(Table_Query_from_Great_Plains[[#This Row],[ITEMNMBR]],0)","v":"CS0444"},"Custom Single Wine With Chocolate","RETAIL",0,74.989999999999995]
["CS0445",{"$f":"TEXT(Table_Query_from_Great_Plains[[#This Row],[ITEMNMBR]],0)","v":"CS0445"},"Custom Beer Bucket with Sam Adams","RETAIL",0,99.99]
["CS0446",{"$f":"TEXT(Table_Query_from_Great_Plains[[#This Row],[ITEMNMBR]],0)","v":"CS0446"},"Custom Snack Classic","RETAIL",0,59.99]
["CS0447",{"$f":"TEXT(Table_Query_from_Great_Plains[[#This Row],[ITEMNMBR]],0)","v":"CS0447"},"Custom Beer Bucket","RETAIL",0,150.99]
["CS0448",{"$f":"TEXT(Table_Query_from_Great_Plains[[#This Row],[ITEMNMBR]],0)","v":"CS0448"},"Custom 4408 with card","RETAIL",0,179.99]
["CS0449",{"$f":"TEXT(Table_Query_from_Great_Plains[[#This Row],[ITEMNMBR]],0)","v":"CS0449"},"Custom Single GOlf Bag","RETAIL",0,14.99]
["CS0450",{"$f":"TEXT(Table_Query_from_Great_Plains[[#This Row],[ITEMNMBR]],0)","v":"CS0450"},"Custom Junk Food Bucket","RETAIL",0,74.989999999999995]
["CS0451",{"$f":"TEXT(Table_Query_from_Great_Plains[[#This Row],[ITEMNMBR]],0)","v":"CS0451"},"Custom Care Package","RETAIL",0,55.99]
["CS0452",{"$f":"TEXT(Table_Query_from_Great_Plains[[#This Row],[ITEMNMBR]],0)","v":"CS0452"},"Custom Care Package with Bear","RETAIL",0,54.99]
["CS0453",{"$f":"TEXT(Table_Query_from_Great_Plains[[#This Row],[ITEMNMBR]],0)","v":"CS0453"},"Custom Fruit with Kosher Foods","RETAIL",0,59.34]
["CS0454",{"$f":"TEXT(Table_Query_from_Great_Plains[[#This Row],[ITEMNMBR]],0)","v":"CS0454"},"Custom Beer Bucket","RETAIL",0,148.99]
["CS0455",{"$f":"TEXT(Table_Query_from_Great_Plains[[#This Row],[ITEMNMBR]],0)","v":"CS0455"},"Custom Care Package","RETAIL",0,100.99]
["CS0456",{"$f":"TEXT(Table_Query_from_Great_Plains[[#This Row],[ITEMNMBR]],0)","v":"CS0456"},"Custom Executive Rose","RETAIL",0,233.99]
["CS0457",{"$f":"TEXT(Table_Query_from_Great_Plains[[#This Row],[ITEMNMBR]],0)","v":"CS0457"},"Custom Dodgers Bucket","RETAIL",0,118.99]
["CS0458",{"$f":"TEXT(Table_Query_from_Great_Plains[[#This Row],[ITEMNMBR]],0)","v":"CS0458"},"Custom Dom Basket","RETAIL",0,369.99]
["CS0459",{"$f":"TEXT(Table_Query_from_Great_Plains[[#This Row],[ITEMNMBR]],0)","v":"CS0459"},"Custom Kosher & Gluten Free","RETAIL",0,109.99]
["CS0460",{"$f":"TEXT(Table_Query_from_Great_Plains[[#This Row],[ITEMNMBR]],0)","v":"CS0460"},"Custom Junk Food Bucket with Gift Card","RETAIL",0,151.94]
["CS0461",{"$f":"TEXT(Table_Query_from_Great_Plains[[#This Row],[ITEMNMBR]],0)","v":"CS0461"},"Custom Snack Basket","RETAIL",0,68.989999999999995]
["CS0462",{"$f":"TEXT(Table_Query_from_Great_Plains[[#This Row],[ITEMNMBR]],0)","v":"CS0462"},"Custom Snack Basket with Pet Snacks","RETAIL",0,119.99]
["CS0463",{"$f":"TEXT(Table_Query_from_Great_Plains[[#This Row],[ITEMNMBR]],0)","v":"CS0463"},"Custom Easter Pail","RETAIL",0,49.99]
["CS0464",{"$f":"TEXT(Table_Query_from_Great_Plains[[#This Row],[ITEMNMBR]],0)","v":"CS0464"},"Custom Wine Basket","RETAIL",0,74.989999999999995]
["CS0465",{"$f":"TEXT(Table_Query_from_Great_Plains[[#This Row],[ITEMNMBR]],0)","v":"CS0465"},"Custom Torn Ranch","RETAIL",0,75]
["CS0466",{"$f":"TEXT(Table_Query_from_Great_Plains[[#This Row],[ITEMNMBR]],0)","v":"CS0466"},"Custom Replacements","RETAIL",0,80]
["CS0467",{"$f":"TEXT(Table_Query_from_Great_Plains[[#This Row],[ITEMNMBR]],0)","v":"CS0467"},"Custom","RETAIL",0,270.88]
["CS0468",{"$f":"TEXT(Table_Query_from_Great_Plains[[#This Row],[ITEMNMBR]],0)","v":"CS0468"},"Custom Sweets","RETAIL",0,294.99]
["CS0469",{"$f":"TEXT(Table_Query_from_Great_Plains[[#This Row],[ITEMNMBR]],0)","v":"CS0469"},"Custom Coffee & Chocolate with Fruit","RETAIL",0,69.989999999999995]
["CS0470",{"$f":"TEXT(Table_Query_from_Great_Plains[[#This Row],[ITEMNMBR]],0)","v":"CS0470"},"Custom Wine with Cider","RETAIL",0,91.99]
["CS0471",{"$f":"TEXT(Table_Query_from_Great_Plains[[#This Row],[ITEMNMBR]],0)","v":"CS0471"},"Custom Fruit, Cheese & Crackers","RETAIL",0,72.989999999999995]
["CS0472",{"$f":"TEXT(Table_Query_from_Great_Plains[[#This Row],[ITEMNMBR]],0)","v":"CS0472"},"Custom Champagne & Snack (C.D.)","RETAIL",0,80]
["CS0473",{"$f":"TEXT(Table_Query_from_Great_Plains[[#This Row],[ITEMNMBR]],0)","v":"CS0473"},"Custom Micro Bucket ( B.H.)","RETAIL",0,95.99]
["CS0474",{"$f":"TEXT(Table_Query_from_Great_Plains[[#This Row],[ITEMNMBR]],0)","v":"CS0474"},"Custom Xmas Deluxe","RETAIL",0,117.99]
["CS0475",{"$f":"TEXT(Table_Query_from_Great_Plains[[#This Row],[ITEMNMBR]],0)","v":"CS0475"},"Custom 4408 ( M.F.)","RETAIL",0,173.99]
["CS0476",{"$f":"TEXT(Table_Query_from_Great_Plains[[#This Row],[ITEMNMBR]],0)","v":"CS0476"},"Custom Wine & Chocolate (T.M.)","RETAIL",0,147.99]
["CS0477",{"$f":"TEXT(Table_Query_from_Great_Plains[[#This Row],[ITEMNMBR]],0)","v":"CS0477"},"Custom Weekend in Paris ( Dena )","RETAIL",0,108.99]
["CS0478",{"$f":"TEXT(Table_Query_from_Great_Plains[[#This Row],[ITEMNMBR]],0)","v":"CS0478"},"Custom Kosher Wine ( Dena )","RETAIL",0,110.99]
["CS0479",{"$f":"TEXT(Table_Query_from_Great_Plains[[#This Row],[ITEMNMBR]],0)","v":"CS0479"},"Custom World 6 with Light Beer ( Dena )","RETAIL",0,99.99]
["CS0480",{"$f":"TEXT(Table_Query_from_Great_Plains[[#This Row],[ITEMNMBR]],0)","v":"CS0480"},"Custom Bathe in Luxury w/Wine (R.D.)","RETAIL",0,111.99]
["CS0481",{"$f":"TEXT(Table_Query_from_Great_Plains[[#This Row],[ITEMNMBR]],0)","v":"CS0481"},"Custom Bella with Wine (C.D.)","RETAIL",0,200]
["CS0482",{"$f":"TEXT(Table_Query_from_Great_Plains[[#This Row],[ITEMNMBR]],0)","v":"CS0482"},"Custom Natures Picnic ( Dena)","RETAIL",0,89.99]
["CS0483",{"$f":"TEXT(Table_Query_from_Great_Plains[[#This Row],[ITEMNMBR]],0)","v":"CS0483"},"Custom Evening of Indulgence","RETAIL",0,156.99]
["CS0484",{"$f":"TEXT(Table_Query_from_Great_Plains[[#This Row],[ITEMNMBR]],0)","v":"CS0484"},"Custom Bountiful/Kosher (T.M.)","RETAIL",0,119.99]
["CS0485",{"$f":"TEXT(Table_Query_from_Great_Plains[[#This Row],[ITEMNMBR]],0)","v":"CS0485"},"Custom Cakebread Duo  (C.D.)","RETAIL",0,278.99]
["CS0486",{"$f":"TEXT(Table_Query_from_Great_Plains[[#This Row],[ITEMNMBR]],0)","v":"CS0486"},"Custom Showstopper with Beer (R.D.)","RETAIL",0,207.99]
["CS0487",{"$f":"TEXT(Table_Query_from_Great_Plains[[#This Row],[ITEMNMBR]],0)","v":"CS0487"},"Custom Wine & Beer (T.M)","RETAIL",0,227.99]
["CS0488",{"$f":"TEXT(Table_Query_from_Great_Plains[[#This Row],[ITEMNMBR]],0)","v":"CS0488"},"Custom Duo with Markers (C.D.)","RETAIL",0,146.99]
["CS0490",{"$f":"TEXT(Table_Query_from_Great_Plains[[#This Row],[ITEMNMBR]],0)","v":"CS0490"},"Custom BBQ no nuts","RETAIL",0,79.989999999999995]
["CS0491",{"$f":"TEXT(Table_Query_from_Great_Plains[[#This Row],[ITEMNMBR]],0)","v":"CS0491"},"Custom Ultimate Xmas with 2 Bottles of Wine","RETAIL",0,231.99]
["CS0492",{"$f":"TEXT(Table_Query_from_Great_Plains[[#This Row],[ITEMNMBR]],0)","v":"CS0492"},"Custom Vegan -Dena K.","RETAIL",0,99.99]
["CS0493",{"$f":"TEXT(Table_Query_from_Great_Plains[[#This Row],[ITEMNMBR]],0)","v":"CS0493"},"Custom Fruit Basket ( C.D. )","RETAIL",0,75.989999999999995]
["CS0494",{"$f":"TEXT(Table_Query_from_Great_Plains[[#This Row],[ITEMNMBR]],0)","v":"CS0494"},"Custom Healthy w/fruit  ( Sam)","RETAIL",0,119.99]
["CS0495",{"$f":"TEXT(Table_Query_from_Great_Plains[[#This Row],[ITEMNMBR]],0)","v":"CS0495"},"Custom Popcorn and Movies ( Dena )","RETAIL",0,129.99]
["CS0496",{"$f":"TEXT(Table_Query_from_Great_Plains[[#This Row],[ITEMNMBR]],0)","v":"CS0496"},"Custom 4042 plus 5313 ( Dena)","RETAIL",0,192.99]
["CS0497",{"$f":"TEXT(Table_Query_from_Great_Plains[[#This Row],[ITEMNMBR]],0)","v":"CS0497"},"Custom Mini Wine ( Dena)","RETAIL",0,50.99]
["CS0498",{"$f":"TEXT(Table_Query_from_Great_Plains[[#This Row],[ITEMNMBR]],0)","v":"CS0498"},"Custom: Next Filtration Services - beer bucket (Mike)","RETAIL",0,84.99]
["CS0499",{"$f":"TEXT(Table_Query_from_Great_Plains[[#This Row],[ITEMNMBR]],0)","v":"CS0499"},"Custom Breakfast ( Sam)","RETAIL",0,59.99]
["CS0500",{"$f":"TEXT(Table_Query_from_Great_Plains[[#This Row],[ITEMNMBR]],0)","v":"CS0500"},"Custom 5235 with wine","RETAIL",0,206.99]
["CS0501",{"$f":"TEXT(Table_Query_from_Great_Plains[[#This Row],[ITEMNMBR]],0)","v":"CS0501"},"Custom Blue Moon Beer Bucket","RETAIL",0,83.98]
["CS0502",{"$f":"TEXT(Table_Query_from_Great_Plains[[#This Row],[ITEMNMBR]],0)","v":"CS0502"},"Custom Wild Horse Basket","RETAIL",0,200]
["CS0503",{"$f":"TEXT(Table_Query_from_Great_Plains[[#This Row],[ITEMNMBR]],0)","v":"CS0503"},"Custom Wine Fruit & Cheese","RETAIL",0,109.99]
["CS0505",{"$f":"TEXT(Table_Query_from_Great_Plains[[#This Row],[ITEMNMBR]],0)","v":"CS0505"},"Custom Gluten Free $50","RETAIL",0,50]
["CS0506",{"$f":"TEXT(Table_Query_from_Great_Plains[[#This Row],[ITEMNMBR]],0)","v":"CS0506"},"Custom Gluten Free $70","RETAIL",0,70]
["CS0507",{"$f":"TEXT(Table_Query_from_Great_Plains[[#This Row],[ITEMNMBR]],0)","v":"CS0507"},"Custom 5225 with Wine ( Sam )","RETAIL",1,248.99]
["CS0508",{"$f":"TEXT(Table_Query_from_Great_Plains[[#This Row],[ITEMNMBR]],0)","v":"CS0508"},"Custom Tean No Sugar ( Sam)","RETAIL",0,48.99]
["CS0509",{"$f":"TEXT(Table_Query_from_Great_Plains[[#This Row],[ITEMNMBR]],0)","v":"CS0509"},"Custom Wine Duo (Billie)","RETAIL",0,150.99]
["CS0510",{"$f":"TEXT(Table_Query_from_Great_Plains[[#This Row],[ITEMNMBR]],0)","v":"CS0510"},"Custom Snacks and Wine (Cathie)","RETAIL",1,111.99]
["CS0511",{"$f":"TEXT(Table_Query_from_Great_Plains[[#This Row],[ITEMNMBR]],0)","v":"CS0511"},"Custom 4503 ( Cathie )","RETAIL",1,119.99]
["CS0512",{"$f":"TEXT(Table_Query_from_Great_Plains[[#This Row],[ITEMNMBR]],0)","v":"CS0512"},"Custom Breakfast Classic Bacon x2 (Billie)","RETAIL",0,75.94]
["CS0513",{"$f":"TEXT(Table_Query_from_Great_Plains[[#This Row],[ITEMNMBR]],0)","v":"CS0513"},"Custom $410 with wine, fruit, snacks (Tim)","RETAIL",1,409.99]
["CS0514",{"$f":"TEXT(Table_Query_from_Great_Plains[[#This Row],[ITEMNMBR]],0)","v":"CS0514"},"Custom Suitcase Duo with wine and champagne (Cathie)","RETAIL",1,148.99]
["CS0515",{"$f":"TEXT(Table_Query_from_Great_Plains[[#This Row],[ITEMNMBR]],0)","v":"CS0515"},"Custom Wildhorse Trio with extra wine and snacks","RETAIL",1,224.99]
["CS0516",{"$f":"TEXT(Table_Query_from_Great_Plains[[#This Row],[ITEMNMBR]],0)","v":"CS0516"},"Custom Snack Premium with wine cheese crackers (Sam)","RETAIL",1,114.99]
["CS0517",{"$f":"TEXT(Table_Query_from_Great_Plains[[#This Row],[ITEMNMBR]],0)","v":"CS0517"},"Custom Deluxe Bottle Board (Billie)","RETAIL",0,59.99]
["CS0518",{"$f":"TEXT(Table_Query_from_Great_Plains[[#This Row],[ITEMNMBR]],0)","v":"CS0518"},"Custom Nutcracker Drum with Coffee","RETAIL",0,67.989999999999995]
["CS0519",{"$f":"TEXT(Table_Query_from_Great_Plains[[#This Row],[ITEMNMBR]],0)","v":"CS0519"},"Custom Tailgating ( Cathie )","RETAIL",0,184.99]
["CS0520",{"$f":"TEXT(Table_Query_from_Great_Plains[[#This Row],[ITEMNMBR]],0)","v":"CS0520"},"Custom Red WIne Jumbo ( Sam )","RETAIL",0,301.99]
["CS0521",{"$f":"TEXT(Table_Query_from_Great_Plains[[#This Row],[ITEMNMBR]],0)","v":"CS0521"},"Custom Italian with WIne","RETAIL",0,178.99]
["CS0522",{"$f":"TEXT(Table_Query_from_Great_Plains[[#This Row],[ITEMNMBR]],0)","v":"CS0522"},"Custom Snack Basket for Tammy","RETAIL",0,54.99]
["CS0524",{"$f":"TEXT(Table_Query_from_Great_Plains[[#This Row],[ITEMNMBR]],0)","v":"CS0524"},"Custom Beer B Q with 12 beers from Around the World","RETAIL",0,116.99]
["CS0525",{"$f":"TEXT(Table_Query_from_Great_Plains[[#This Row],[ITEMNMBR]],0)","v":"CS0525"},"Custom Breakfast Deluxe - no meat","RETAIL",0,99.99]
["CS0526",{"$f":"TEXT(Table_Query_from_Great_Plains[[#This Row],[ITEMNMBR]],0)","v":"CS0526"},"Custom Spa Classic with fruit, snacks and chocolate (Tim)","RETAIL",0,99.99]
["CS0527",{"$f":"TEXT(Table_Query_from_Great_Plains[[#This Row],[ITEMNMBR]],0)","v":"CS0527"},"Custom 6359 and 6326 Baby Yellow Clothing and SIlver Rattle (Tim)","RETAIL",0,98.99]
["CS0528",{"$f":"TEXT(Table_Query_from_Great_Plains[[#This Row],[ITEMNMBR]],0)","v":"CS0528"},"Custom Fruit of the Month January SAMPLE (Ross)","RETAIL",0,21.99]
["CS0529",{"$f":"TEXT(Table_Query_from_Great_Plains[[#This Row],[ITEMNMBR]],0)","v":"CS0529"},"Custom 4046 with just new years ribbons and shred","RETAIL",0,79.989999999999995]
["CS0530",{"$f":"TEXT(Table_Query_from_Great_Plains[[#This Row],[ITEMNMBR]],0)","v":"CS0530"},"Custom Bountiful Harvest and Tea and Cookies (Tim)","RETAIL",0,99.99]
["CS0531",{"$f":"TEXT(Table_Query_from_Great_Plains[[#This Row],[ITEMNMBR]],0)","v":"CS0531"},"Custom Candy Bucket ( Ryan Fisher )","RETAIL",0,200.99]
["CS0532",{"$f":"TEXT(Table_Query_from_Great_Plains[[#This Row],[ITEMNMBR]],0)","v":"CS0532"},"Custom Kosher with nut crate ( Dena )","RETAIL",0,221.99]
["CS0533",{"$f":"TEXT(Table_Query_from_Great_Plains[[#This Row],[ITEMNMBR]],0)","v":"CS0533"},"Custom Breakfast ( Sam )","RETAIL",0,59.99]
["CS0534",{"$f":"TEXT(Table_Query_from_Great_Plains[[#This Row],[ITEMNMBR]],0)","v":"CS0534"},"Custom Beer &  Hot Sauce ( Sam )","RETAIL",0,101.52]
["CS0535",{"$f":"TEXT(Table_Query_from_Great_Plains[[#This Row],[ITEMNMBR]],0)","v":"CS0535"},"Custom Chocolate not nuts ( Tim)","RETAIL",0,100.99]
["CS0536",{"$f":"TEXT(Table_Query_from_Great_Plains[[#This Row],[ITEMNMBR]],0)","v":"CS0536"},"Custom 5104 plus fruit ( Dena )","RETAIL",0,183.99]
["CS0537",{"$f":"TEXT(Table_Query_from_Great_Plains[[#This Row],[ITEMNMBR]],0)","v":"CS0537"},"Custom  4802 & 4053 ( Sam )","RETAIL",0,159.97999999999999]
["CS0538",{"$f":"TEXT(Table_Query_from_Great_Plains[[#This Row],[ITEMNMBR]],0)","v":"CS0538"},"Custom Golf Bag ( Billie )","RETAIL",0,68.989999999999995]
["CS0539",{"$f":"TEXT(Table_Query_from_Great_Plains[[#This Row],[ITEMNMBR]],0)","v":"CS0539"},"Custom Bountiful Harvest","RETAIL",0,119.99]
["CS0540",{"$f":"TEXT(Table_Query_from_Great_Plains[[#This Row],[ITEMNMBR]],0)","v":"CS0540"},"Custom 5055 with fruit","RETAIL",0,69.989999999999995]
["CS0541",{"$f":"TEXT(Table_Query_from_Great_Plains[[#This Row],[ITEMNMBR]],0)","v":"CS0541"},"Custom Beer no nuts","RETAIL",1,89.99]
["CS0542",{"$f":"TEXT(Table_Query_from_Great_Plains[[#This Row],[ITEMNMBR]],0)","v":"CS0542"},"Custom Tea and Cookies Premium with coffee","RETAIL",0,129.99]
["CS0543",{"$f":"TEXT(Table_Query_from_Great_Plains[[#This Row],[ITEMNMBR]],0)","v":"CS0543"},"Custom Beer 12 pack with all Molson XXX","RETAIL",1,134.99]
["CS0544",{"$f":"TEXT(Table_Query_from_Great_Plains[[#This Row],[ITEMNMBR]],0)","v":"CS0544"},"Custom Nature's PIcnic with no nuts and extra sausage","RETAIL",0,87.99]
["CS0545",{"$f":"TEXT(Table_Query_from_Great_Plains[[#This Row],[ITEMNMBR]],0)","v":"CS0545"},"Custom Coffee & Chocolate Classic with Breakfast Items (Sam)","RETAIL",0,100.99]
["CS0546",{"$f":"TEXT(Table_Query_from_Great_Plains[[#This Row],[ITEMNMBR]],0)","v":"CS0546"},"Custom Dom, Budweiser, Fruit, Chocolate, Nuts (Doris)","RETAIL",0,315]
["CS0547",{"$f":"TEXT(Table_Query_from_Great_Plains[[#This Row],[ITEMNMBR]],0)","v":"CS0547"},"Custom Healthy with Cider ( Dena )","RETAIL",0,73.989999999999995]
["CS0548",{"$f":"TEXT(Table_Query_from_Great_Plains[[#This Row],[ITEMNMBR]],0)","v":"CS0548"},"Custom Belgian Choc Brownie ( Doris )","RETAIL",0,34.99]
["CS0549",{"$f":"TEXT(Table_Query_from_Great_Plains[[#This Row],[ITEMNMBR]],0)","v":"CS0549"},"Custom Choc. Macadamia Brownies ( Doris )","RETAIL",0,34.99]
["CS0550",{"$f":"TEXT(Table_Query_from_Great_Plains[[#This Row],[ITEMNMBR]],0)","v":"CS0550"},"Custom Italian with Chianti and extra bottle of Catena Chardonnay (Billie)","RETAIL",1,129.99]
["CS0551",{"$f":"TEXT(Table_Query_from_Great_Plains[[#This Row],[ITEMNMBR]],0)","v":"CS0551"},"Custom Gluten Free, Kosher & Organic ( Sam )","RETAIL",0,200]
["CS0552",{"$f":"TEXT(Table_Query_from_Great_Plains[[#This Row],[ITEMNMBR]],0)","v":"CS0552"},"Custom Champagne & Snacks ( Snacks )","RETAIL",0,152.99]
["CS0553",{"$f":"TEXT(Table_Query_from_Great_Plains[[#This Row],[ITEMNMBR]],0)","v":"CS0553"},"Custom Bath & Snack ( Sam )","RETAIL",0,85]
["CS0554",{"$f":"TEXT(Table_Query_from_Great_Plains[[#This Row],[ITEMNMBR]],0)","v":"CS0554"},"Custom Halloween Bucket ( Anne )","RETAIL",0,44.99]
["CS0555",{"$f":"TEXT(Table_Query_from_Great_Plains[[#This Row],[ITEMNMBR]],0)","v":"CS0555"},"Custom Care Pkg in a Basket ( Doris )","RETAIL",0,58.99]
["CS0556",{"$f":"TEXT(Table_Query_from_Great_Plains[[#This Row],[ITEMNMBR]],0)","v":"CS0556"},"Custom Bakery Basket with Alcohol ( Sam )","RETAIL",0,200.99]
["CS0557",{"$f":"TEXT(Table_Query_from_Great_Plains[[#This Row],[ITEMNMBR]],0)","v":"CS0557"},"Custom Care Package ( Mike Fowler )","RETAIL",0,44.99]
["CS0558",{"$f":"TEXT(Table_Query_from_Great_Plains[[#This Row],[ITEMNMBR]],0)","v":"CS0558"},"Custom 4611 add 2 products ( Dena )","RETAIL",0,40.98]
["CS0559",{"$f":"TEXT(Table_Query_from_Great_Plains[[#This Row],[ITEMNMBR]],0)","v":"CS0559"},"Custom 5098 ( Dena )","RETAIL",1,291.99]
["CS0560",{"$f":"TEXT(Table_Query_from_Great_Plains[[#This Row],[ITEMNMBR]],0)","v":"CS0560"},"Custom Tea & Cookies ( Sam )","RETAIL",0,99.99]
["CS0561",{"$f":"TEXT(Table_Query_from_Great_Plains[[#This Row],[ITEMNMBR]],0)","v":"CS0561"},"Custom Fruit & Chocolate Basket","RETAIL",0,149.99]
["CS0562",{"$f":"TEXT(Table_Query_from_Great_Plains[[#This Row],[ITEMNMBR]],0)","v":"CS0562"},"Custom Wine Bread Cheese (Doris)","RETAIL",0,175.99]
["CS0563",{"$f":"TEXT(Table_Query_from_Great_Plains[[#This Row],[ITEMNMBR]],0)","v":"CS0563"},"Custom Micro 6 with snacks (Doris and Sam)","RETAIL",1,78.989999999999995]
["CS0564",{"$f":"TEXT(Table_Query_from_Great_Plains[[#This Row],[ITEMNMBR]],0)","v":"CS0564"},"Custom Snack with dog treats ( Cathie )","RETAIL",0,100]
["CS0565",{"$f":"TEXT(Table_Query_from_Great_Plains[[#This Row],[ITEMNMBR]],0)","v":"CS0565"},"Custom $200 Kosher ( Mike Fowler )","RETAIL",0,200]
["CS0566",{"$f":"TEXT(Table_Query_from_Great_Plains[[#This Row],[ITEMNMBR]],0)","v":"CS0566"},"Custom 4611 with Bear ( RITS) ( Anne)","RETAIL",0,90]
["CS0567",{"$f":"TEXT(Table_Query_from_Great_Plains[[#This Row],[ITEMNMBR]],0)","v":"CS0567"},"Custom Toys & Snacks ( Anne )","RETAIL",0,150.99]
["CS0568",{"$f":"TEXT(Table_Query_from_Great_Plains[[#This Row],[ITEMNMBR]],0)","v":"CS0568"},"Custom Wine & Chocolate ( Dena )","RETAIL",0,87.99]
["CS0569",{"$f":"TEXT(Table_Query_from_Great_Plains[[#This Row],[ITEMNMBR]],0)","v":"CS0569"},"Custom Chocolate ( Tim )","RETAIL",0,140.99]
["CS0570",{"$f":"TEXT(Table_Query_from_Great_Plains[[#This Row],[ITEMNMBR]],0)","v":"CS0570"},"Custom Sympathy Basket ( Sam)","RETAIL",0,133.99]
["CS0571",{"$f":"TEXT(Table_Query_from_Great_Plains[[#This Row],[ITEMNMBR]],0)","v":"CS0571"},"Custom Baby & Snack","RETAIL",0,89.99]
["CS0572",{"$f":"TEXT(Table_Query_from_Great_Plains[[#This Row],[ITEMNMBR]],0)","v":"CS0572"},"Custom Popcorn ( Sam )","RETAIL",0,53.99]
["CS0573",{"$f":"TEXT(Table_Query_from_Great_Plains[[#This Row],[ITEMNMBR]],0)","v":"CS0573"},"Custom 4611 ( Sam )","RETAIL",0,42.5]
["CS0574",{"$f":"TEXT(Table_Query_from_Great_Plains[[#This Row],[ITEMNMBR]],0)","v":"CS0574"},"Custom 4503 with Chocolate ( Dena )","RETAIL",0,119.99]
["CS0575",{"$f":"TEXT(Table_Query_from_Great_Plains[[#This Row],[ITEMNMBR]],0)","v":"CS0575"},"Custom Wine with Snacks ( Doris )","RETAIL",0,105]
["CS0576",{"$f":"TEXT(Table_Query_from_Great_Plains[[#This Row],[ITEMNMBR]],0)","v":"CS0576"},"Custom Micro 3 pack ( Doris )","RETAIL",0,49.99]
["CS0577",{"$f":"TEXT(Table_Query_from_Great_Plains[[#This Row],[ITEMNMBR]],0)","v":"CS0577"},"Custoom 4408 No Sausage ( Sam )","RETAIL",0,174.99]
["CS0578",{"$f":"TEXT(Table_Query_from_Great_Plains[[#This Row],[ITEMNMBR]],0)","v":"CS0578"},"Custom Breakfast ( Anne R.)","RETAIL",0,145]
["CS0579",{"$f":"TEXT(Table_Query_from_Great_Plains[[#This Row],[ITEMNMBR]],0)","v":"CS0579"},"Custom Philip Frog ( Dena )","RETAIL",0,40.99]
["CS0580",{"$f":"TEXT(Table_Query_from_Great_Plains[[#This Row],[ITEMNMBR]],0)","v":"CS0580"},"Custom Care Pkg & Baby","RETAIL",0,114.99]
["CS0581",{"$f":"TEXT(Table_Query_from_Great_Plains[[#This Row],[ITEMNMBR]],0)","v":"CS0581"},"Custom 4611 with Red Bull","RETAIL",0,55.99]
["CS0582",{"$f":"TEXT(Table_Query_from_Great_Plains[[#This Row],[ITEMNMBR]],0)","v":"CS0582"},"Custom Blue Golf Bag ( Doris)","RETAIL",0,109]
["CS0583",{"$f":"TEXT(Table_Query_from_Great_Plains[[#This Row],[ITEMNMBR]],0)","v":"CS0583"},"Custom 4507 W/Fosters ( Sam )","RETAIL",0,46.99]
["CS0584",{"$f":"TEXT(Table_Query_from_Great_Plains[[#This Row],[ITEMNMBR]],0)","v":"CS0584"},"Custom Beer & Sweets ( Sam )","RETAIL",0,125.99]
["CS0585",{"$f":"TEXT(Table_Query_from_Great_Plains[[#This Row],[ITEMNMBR]],0)","v":"CS0585"},"Custom Vday Eve of Indulg ( Doris )","RETAIL",0,99.99]
["CS0586",{"$f":"TEXT(Table_Query_from_Great_Plains[[#This Row],[ITEMNMBR]],0)","v":"CS0586"},"Custom light beer 6 pack ( Mike)","RETAIL",0,69.989999999999995]
["CS0587",{"$f":"TEXT(Table_Query_from_Great_Plains[[#This Row],[ITEMNMBR]],0)","v":"CS0587"},"Custom Gorilla w/Spa & Candy ( Doris )","RETAIL",0,91.99]
["CS0588",{"$f":"TEXT(Table_Query_from_Great_Plains[[#This Row],[ITEMNMBR]],0)","v":"CS0588"},"Custom Corona  with Candy","RETAIL",0,88.99]
["CS0589",{"$f":"TEXT(Table_Query_from_Great_Plains[[#This Row],[ITEMNMBR]],0)","v":"CS0589"},"Custom Chocolate Stack ( Dena )","RETAIL",0,50]
["CS0590",{"$f":"TEXT(Table_Query_from_Great_Plains[[#This Row],[ITEMNMBR]],0)","v":"CS0590"},"Custom Care Package with Frog","RETAIL",0,48.89]
["CS0591",{"$f":"TEXT(Table_Query_from_Great_Plains[[#This Row],[ITEMNMBR]],0)","v":"CS0591"},"Custom Nostalgic with Frog","RETAIL",0,56.99]
["CS0592",{"$f":"TEXT(Table_Query_from_Great_Plains[[#This Row],[ITEMNMBR]],0)","v":"CS0592"},"Custom Nostalgic Bear","RETAIL",0,44.99]
["CS0593",{"$f":"TEXT(Table_Query_from_Great_Plains[[#This Row],[ITEMNMBR]],0)","v":"CS0593"},"Custom Tea & Cookies ( Tim )","RETAIL",0,89.99]
["CS0594",{"$f":"TEXT(Table_Query_from_Great_Plains[[#This Row],[ITEMNMBR]],0)","v":"CS0594"},"Custom wrigley bucket ( Doris )","RETAIL",0,43.99]
["CS0595",{"$f":"TEXT(Table_Query_from_Great_Plains[[#This Row],[ITEMNMBR]],0)","v":"CS0595"},"Custom Kosher with Fruit ( Ross )","RETAIL",0,115]
["CS0596",{"$f":"TEXT(Table_Query_from_Great_Plains[[#This Row],[ITEMNMBR]],0)","v":"CS0596"},"Custom Tea & Cookies ( Mike )","RETAIL",0,91.99]
["CS0597",{"$f":"TEXT(Table_Query_from_Great_Plains[[#This Row],[ITEMNMBR]],0)","v":"CS0597"},"Custom 4502 with all Corona","RETAIL",0,96.94]
["CS0598",{"$f":"TEXT(Table_Query_from_Great_Plains[[#This Row],[ITEMNMBR]],0)","v":"CS0598"},"Custom a little bit of everything (Sam)","RETAIL",1,100]
["CS0599",{"$f":"TEXT(Table_Query_from_Great_Plains[[#This Row],[ITEMNMBR]],0)","v":"CS0599"},"Custom Coors Light 12 pack with snacks (Billie)","RETAIL",1,138.5]
["CS0600",{"$f":"TEXT(Table_Query_from_Great_Plains[[#This Row],[ITEMNMBR]],0)","v":"CS0600"},"Custom for Sick Bob","RETAIL",0,23.15]
["CS0601",{"$f":"TEXT(Table_Query_from_Great_Plains[[#This Row],[ITEMNMBR]],0)","v":"CS0601"},"Custom Gluten & Dairy Free ( Sam )","RETAIL",0,62.99]
["CS0602",{"$f":"TEXT(Table_Query_from_Great_Plains[[#This Row],[ITEMNMBR]],0)","v":"CS0602"},"Custom Beer ( Sam )","RETAIL",1,86.99]
["CS0603",{"$f":"TEXT(Table_Query_from_Great_Plains[[#This Row],[ITEMNMBR]],0)","v":"CS0603"},"Custom Chcolate with Dog Toy ( Doris )","RETAIL",0,140.99]
["CS0604",{"$f":"TEXT(Table_Query_from_Great_Plains[[#This Row],[ITEMNMBR]],0)","v":"CS0604"},"Custom 12 Pack with Negro Modelo ( Doris )","RETAIL",1,119.99]
["CS0605",{"$f":"TEXT(Table_Query_from_Great_Plains[[#This Row],[ITEMNMBR]],0)","v":"CS0605"},"Custom Fruit & Chocolate ( Tim )","RETAIL",0,49.99]
["CS0606",{"$f":"TEXT(Table_Query_from_Great_Plains[[#This Row],[ITEMNMBR]],0)","v":"CS0606"},"Custom Beer 3 pack","RETAIL",1,50.99]
["CS0607",{"$f":"TEXT(Table_Query_from_Great_Plains[[#This Row],[ITEMNMBR]],0)","v":"CS0607"},"Custom Nostalgic with Game ( Dena )","RETAIL",0,75.989999999999995]
["CS0608",{"$f":"TEXT(Table_Query_from_Great_Plains[[#This Row],[ITEMNMBR]],0)","v":"CS0608"},"Custom 4071 Chex Mix ( Anne )","RETAIL",0,81.99]
["CS0609",{"$f":"TEXT(Table_Query_from_Great_Plains[[#This Row],[ITEMNMBR]],0)","v":"CS0609"},"Custom DOM basket ( Doris )","RETAIL",1,402]
["CS0610",{"$f":"TEXT(Table_Query_from_Great_Plains[[#This Row],[ITEMNMBR]],0)","v":"CS0610"},"Custom Kosher & Organic ( Mike Fowler)","RETAIL",0,250]
["CS0611",{"$f":"TEXT(Table_Query_from_Great_Plains[[#This Row],[ITEMNMBR]],0)","v":"CS0611"},"Custom Beer Bucket ( Mike Fowler )","RETAIL",1,113.99]
["CS0612",{"$f":"TEXT(Table_Query_from_Great_Plains[[#This Row],[ITEMNMBR]],0)","v":"CS0612"},"Custom Care Pkg w/People Magazine","RETAIL",0,65]
["CS0613",{"$f":"TEXT(Table_Query_from_Great_Plains[[#This Row],[ITEMNMBR]],0)","v":"CS0613"},"Custom Beer Bucket ( Tim )","RETAIL",0,80.989999999999995]
["CS0614",{"$f":"TEXT(Table_Query_from_Great_Plains[[#This Row],[ITEMNMBR]],0)","v":"CS0614"},"Custom Gluten Free with Wine ( Cathie )","RETAIL",1,128.99]
["CS0615",{"$f":"TEXT(Table_Query_from_Great_Plains[[#This Row],[ITEMNMBR]],0)","v":"CS0615"},"Custom 19th Hole (Dena)","RETAIL",1,112.99]
["CS0616",{"$f":"TEXT(Table_Query_from_Great_Plains[[#This Row],[ITEMNMBR]],0)","v":"CS0616"},"4 pears replacement fruit ( Sam )","RETAIL",0,0]
["CS0617",{"$f":"TEXT(Table_Query_from_Great_Plains[[#This Row],[ITEMNMBR]],0)","v":"CS0617"},"Custom 4408 ( Doris )","RETAIL",0,209.99]
["CS0618",{"$f":"TEXT(Table_Query_from_Great_Plains[[#This Row],[ITEMNMBR]],0)","v":"CS0618"},"Custom Wine, Moet & Truffles","RETAIL",1,112.97]
["CS0619",{"$f":"TEXT(Table_Query_from_Great_Plains[[#This Row],[ITEMNMBR]],0)","v":"CS0619"},"Custom 4322 with Sam Adams","RETAIL",1,119.99]
["CS0620",{"$f":"TEXT(Table_Query_from_Great_Plains[[#This Row],[ITEMNMBR]],0)","v":"CS0620"},"Custom wine with candy","RETAIL",1,150.99]
["CS0621",{"$f":"TEXT(Table_Query_from_Great_Plains[[#This Row],[ITEMNMBR]],0)","v":"CS0621"},"Custom Moet with Cider ( Anne )","RETAIL",1,150.99]
["CS0622",{"$f":"TEXT(Table_Query_from_Great_Plains[[#This Row],[ITEMNMBR]],0)","v":"CS0622"},"Nostalgic Candy Fix","RETAIL",0,0]
["CS0623",{"$f":"TEXT(Table_Query_from_Great_Plains[[#This Row],[ITEMNMBR]],0)","v":"CS0623"},"Custom Fruit with Cookies","RETAIL",0,60]
["CS0624",{"$f":"TEXT(Table_Query_from_Great_Plains[[#This Row],[ITEMNMBR]],0)","v":"CS0624"},"Custom replacement fruit","RETAIL",0,0]
["CS0625",{"$f":"TEXT(Table_Query_from_Great_Plains[[#This Row],[ITEMNMBR]],0)","v":"CS0625"},"Custom Nostalgic with Care Package","RETAIL",0,79.989999999999995]
["CS0626",{"$f":"TEXT(Table_Query_from_Great_Plains[[#This Row],[ITEMNMBR]],0)","v":"CS0626"},"Custom Bountiful Harvest No Sausage","RETAIL",0,115.5]
["CS0627",{"$f":"TEXT(Table_Query_from_Great_Plains[[#This Row],[ITEMNMBR]],0)","v":"CS0627"},"Custom Suitcase w/St.Pat Day Items ( Doris )","RETAIL",1,180.99]
["CS0628",{"$f":"TEXT(Table_Query_from_Great_Plains[[#This Row],[ITEMNMBR]],0)","v":"CS0628"},"Custom Fruit with 20 Apples","RETAIL",0,69.989999999999995]
["CS0629",{"$f":"TEXT(Table_Query_from_Great_Plains[[#This Row],[ITEMNMBR]],0)","v":"CS0629"},"Custom Fruit Apples only","RETAIL",0,49.99]
["CS0630",{"$f":"TEXT(Table_Query_from_Great_Plains[[#This Row],[ITEMNMBR]],0)","v":"CS0630"},"Custom Easter Breakfast ( Billie )","RETAIL",0,83]
["CS0631",{"$f":"TEXT(Table_Query_from_Great_Plains[[#This Row],[ITEMNMBR]],0)","v":"CS0631"},"Custom Chocolate Stack ( Tim Myers )","RETAIL",0,39.99]
["CS0632",{"$f":"TEXT(Table_Query_from_Great_Plains[[#This Row],[ITEMNMBR]],0)","v":"CS0632"},"Custom Blue Moon 6 Pack with Easter Stuff (Doris)","RETAIL",1,147.99]
["CS0633",{"$f":"TEXT(Table_Query_from_Great_Plains[[#This Row],[ITEMNMBR]],0)","v":"CS0633"},"Custom Cakebread Sauvignon Blanc with Wildhorse Foods","RETAIL",1,149.99]
["CS0634",{"$f":"TEXT(Table_Query_from_Great_Plains[[#This Row],[ITEMNMBR]],0)","v":"CS0634"},"Custom 5607 minus Bday cake add 4800 crate and bear","RETAIL",0,77.989999999999995]
["CS0635",{"$f":"TEXT(Table_Query_from_Great_Plains[[#This Row],[ITEMNMBR]],0)","v":"CS0635"},"custom 4322 with 2 Wildhorse and Bud Select","RETAIL",1,136.99]
["CS0636",{"$f":"TEXT(Table_Query_from_Great_Plains[[#This Row],[ITEMNMBR]],0)","v":"CS0636"},"custom 4402 with Choc Truffles","RETAIL",0,60.99]
["CS0637",{"$f":"TEXT(Table_Query_from_Great_Plains[[#This Row],[ITEMNMBR]],0)","v":"CS0637"},"Custom 5092 with 2 Cakebread Chardonnay","RETAIL",1,214.99]
["CS0638",{"$f":"TEXT(Table_Query_from_Great_Plains[[#This Row],[ITEMNMBR]],0)","v":"CS0638"},"Custom Tailgate for Billie","RETAIL",0,225.99]
["CS0639",{"$f":"TEXT(Table_Query_from_Great_Plains[[#This Row],[ITEMNMBR]],0)","v":"CS0639"},"Custom Gardening Bag ( Billie )","RETAIL",0,78.989999999999995]
["CS0640",{"$f":"TEXT(Table_Query_from_Great_Plains[[#This Row],[ITEMNMBR]],0)","v":"CS0640"},"Custom Wine Suitcase ( Doris )","RETAIL",1,190.99]
["CS0641",{"$f":"TEXT(Table_Query_from_Great_Plains[[#This Row],[ITEMNMBR]],0)","v":"CS0641"},"Custom Junk Food Bucket  ( Anne )","RETAIL",0,90.99]
["CS0642",{"$f":"TEXT(Table_Query_from_Great_Plains[[#This Row],[ITEMNMBR]],0)","v":"CS0642"},"Custom snack premium with bunny for Anne","RETAIL",0,99.99]
["CS0643",{"$f":"TEXT(Table_Query_from_Great_Plains[[#This Row],[ITEMNMBR]],0)","v":"CS0643"},"Custom  Whoopie Pie, Brownies and Cookies for Dena","RETAIL",0,277.88]
["CS0644",{"$f":"TEXT(Table_Query_from_Great_Plains[[#This Row],[ITEMNMBR]],0)","v":"CS0644"},"Custom Italian foods with bread, cheese, Salami (Doris)","RETAIL",1,150.99]
["CS0645",{"$f":"TEXT(Table_Query_from_Great_Plains[[#This Row],[ITEMNMBR]],0)","v":"CS0645"},"Custom (4645) with no nuts for Doris","RETAIL",0,159.99]
["CS0646",{"$f":"TEXT(Table_Query_from_Great_Plains[[#This Row],[ITEMNMBR]],0)","v":"CS0646"},"Custom Italian Basket ( Billie )","RETAIL",1,112.74]
["CS0647",{"$f":"TEXT(Table_Query_from_Great_Plains[[#This Row],[ITEMNMBR]],0)","v":"CS0647"},"Custom with a Variety of fruit for Doris","RETAIL",0,149.99]
["CS0648",{"$f":"TEXT(Table_Query_from_Great_Plains[[#This Row],[ITEMNMBR]],0)","v":"CS0648"},"Custom Snack Basket ( Billie )","RETAIL",1,259.99]
["CS0649",{"$f":"TEXT(Table_Query_from_Great_Plains[[#This Row],[ITEMNMBR]],0)","v":"CS0649"},"Custom Beer Bucket with Dark Chocolates for Dena","RETAIL",1,50.99]
["CS0650",{"$f":"TEXT(Table_Query_from_Great_Plains[[#This Row],[ITEMNMBR]],0)","v":"CS0650"},"Custom Gluten Free care package for Doris","RETAIL",0,53.99]
["CS0651",{"$f":"TEXT(Table_Query_from_Great_Plains[[#This Row],[ITEMNMBR]],0)","v":"CS0651"},"Custom Easter Toys & Candy ( Cathie )","RETAIL",0,89.99]
["CS0652",{"$f":"TEXT(Table_Query_from_Great_Plains[[#This Row],[ITEMNMBR]],0)","v":"CS0652"},"Custom Coors Light Bucket ( Sam )","RETAIL",1,147.99]
["CS0653",{"$f":"TEXT(Table_Query_from_Great_Plains[[#This Row],[ITEMNMBR]],0)","v":"CS0653"},"Custom 12 pack with Organic Cider ( Dena )","RETAIL",1,138]
["CS0654",{"$f":"TEXT(Table_Query_from_Great_Plains[[#This Row],[ITEMNMBR]],0)","v":"CS0654"},"Custom IPA Beer Bucket ( Anne )","RETAIL",1,84.5]
["CS0655",{"$f":"TEXT(Table_Query_from_Great_Plains[[#This Row],[ITEMNMBR]],0)","v":"CS0655"},"Custom 4505 ( Anne )","RETAIL",1,76.989999999999995]
["CS0656",{"$f":"TEXT(Table_Query_from_Great_Plains[[#This Row],[ITEMNMBR]],0)","v":"CS0656"},"Custom Nature's Picnic ( Billie )","RETAIL",0,85.99]
["CS0657",{"$f":"TEXT(Table_Query_from_Great_Plains[[#This Row],[ITEMNMBR]],0)","v":"CS0657"},"Custom Care Pkg in Basket ( Sam )","RETAIL",0,64.989999999999995]
["CS0658",{"$f":"TEXT(Table_Query_from_Great_Plains[[#This Row],[ITEMNMBR]],0)","v":"CS0658"},"Custom 4638 with a pink bunny and brown bunny (Doris)","RETAIL",0,89.99]
["CS0659",{"$f":"TEXT(Table_Query_from_Great_Plains[[#This Row],[ITEMNMBR]],0)","v":"CS0659"},"Custom SPorts Care Pkg Classic in a basket (Sam)","RETAIL",0,64.989999999999995]
["CS0660",{"$f":"TEXT(Table_Query_from_Great_Plains[[#This Row],[ITEMNMBR]],0)","v":"CS0660"},"Custom Easter Classic Extra Bunny ( Ross )","RETAIL",0,58.99]
["CS0661",{"$f":"TEXT(Table_Query_from_Great_Plains[[#This Row],[ITEMNMBR]],0)","v":"CS0661"},"Custom 4737 with Bunny ( Tim )","RETAIL",0,109.5]
["CS0662",{"$f":"TEXT(Table_Query_from_Great_Plains[[#This Row],[ITEMNMBR]],0)","v":"CS0662"},"Custom Chocolate & Organic Basket ( Tim )","RETAIL",0,97.99]
["CS0663",{"$f":"TEXT(Table_Query_from_Great_Plains[[#This Row],[ITEMNMBR]],0)","v":"CS0663"},"Custom Fruit Basket with Assorted Nuts ( Doris )","RETAIL",0,59.99]
["CS0664",{"$f":"TEXT(Table_Query_from_Great_Plains[[#This Row],[ITEMNMBR]],0)","v":"CS0664"},"Custom Chocolate Stack with UNI001 (Doris)","RETAIL",0,59.99]
["CS0665",{"$f":"TEXT(Table_Query_from_Great_Plains[[#This Row],[ITEMNMBR]],0)","v":"CS0665"},"Custom Nostalgic with Breakfast ( Dena )","RETAIL",0,138.99]
["CS0666",{"$f":"TEXT(Table_Query_from_Great_Plains[[#This Row],[ITEMNMBR]],0)","v":"CS0666"},"Custom Bountiful Harvest with Dog Treats ( Billie )","RETAIL",0,139.99]
["CS0667",{"$f":"TEXT(Table_Query_from_Great_Plains[[#This Row],[ITEMNMBR]],0)","v":"CS0667"},"Custom Easter Care Pkg with Bunny","RETAIL",0,64.989999999999995]
["CS0668",{"$f":"TEXT(Table_Query_from_Great_Plains[[#This Row],[ITEMNMBR]],0)","v":"CS0668"},"Custom Care Pkg with Wine ( Sam )","RETAIL",1,80.989999999999995]
["CS0669",{"$f":"TEXT(Table_Query_from_Great_Plains[[#This Row],[ITEMNMBR]],0)","v":"CS0669"},"Custom Popcorn with Wine ( Sam )","RETAIL",1,105.99]
["CS0670",{"$f":"TEXT(Table_Query_from_Great_Plains[[#This Row],[ITEMNMBR]],0)","v":"CS0670"},"Custom Care Pkg ion a Basket ( Sam )","RETAIL",0,100]
["CS0671",{"$f":"TEXT(Table_Query_from_Great_Plains[[#This Row],[ITEMNMBR]],0)","v":"CS0671"},"Custom 4638 with Extra Bunny ( Tim )","RETAIL",0,109.99]
["CS0672",{"$f":"TEXT(Table_Query_from_Great_Plains[[#This Row],[ITEMNMBR]],0)","v":"CS0672"},"Custom Easter Basket with 2 Bunnies and Lots of candy! (Doris)","RETAIL",0,155]
["CS0673",{"$f":"TEXT(Table_Query_from_Great_Plains[[#This Row],[ITEMNMBR]],0)","v":"CS0673"},"Custom Hippity Hoppity Stack  ( Sam )","RETAIL",0,46.99]
["CS0674",{"$f":"TEXT(Table_Query_from_Great_Plains[[#This Row],[ITEMNMBR]],0)","v":"CS0674"},"Custom Moet with Game ( Anne )","RETAIL",1,186.99]
["CS0675",{"$f":"TEXT(Table_Query_from_Great_Plains[[#This Row],[ITEMNMBR]],0)","v":"CS0675"},"Custom Easter Care Package  ( Sam )","RETAIL",0,124.99]
["CS0676",{"$f":"TEXT(Table_Query_from_Great_Plains[[#This Row],[ITEMNMBR]],0)","v":"CS0676"},"Custom Snack with No Nuts  ( Dena )","RETAIL",0,219.99]
["CS0677",{"$f":"TEXT(Table_Query_from_Great_Plains[[#This Row],[ITEMNMBR]],0)","v":"CS0677"},"Custom Wine Basket ( Billie )","RETAIL",1,219.99]
["CS0678",{"$f":"TEXT(Table_Query_from_Great_Plains[[#This Row],[ITEMNMBR]],0)","v":"CS0678"},"Custom Chocolate with Care Package items ( Cathie)","RETAIL",0,116.99]
["CS0679",{"$f":"TEXT(Table_Query_from_Great_Plains[[#This Row],[ITEMNMBR]],0)","v":"CS0679"},"Custom Healthy with 2 Waters ( Sam )","RETAIL",0,69.989999999999995]
["CS0680",{"$f":"TEXT(Table_Query_from_Great_Plains[[#This Row],[ITEMNMBR]],0)","v":"CS0680"},"Custom Easter Basket for 2 Year old Boy  ( TIm )","RETAIL",0,150]
["CS0681",{"$f":"TEXT(Table_Query_from_Great_Plains[[#This Row],[ITEMNMBR]],0)","v":"CS0681"},"Custom Easter for 9 year old girl ( Tim )","RETAIL",0,174.99]
["CS0682",{"$f":"TEXT(Table_Query_from_Great_Plains[[#This Row],[ITEMNMBR]],0)","v":"CS0682"},"Custom Easter for 11 year old boy","RETAIL",0,174.99]
["CS0683",{"$f":"TEXT(Table_Query_from_Great_Plains[[#This Row],[ITEMNMBR]],0)","v":"CS0683"},"Custom Easter for 12 year old boy","RETAIL",0,174.99]
["CS0684",{"$f":"TEXT(Table_Query_from_Great_Plains[[#This Row],[ITEMNMBR]],0)","v":"CS0684"},"Custom Veuve and single wine foods (no wine) (Dena)","RETAIL",1,119.99]
["CS0685",{"$f":"TEXT(Table_Query_from_Great_Plains[[#This Row],[ITEMNMBR]],0)","v":"CS0685"},"Custom Care Package with Bunny ( Billie )","RETAIL",0,50]
["CS0686",{"$f":"TEXT(Table_Query_from_Great_Plains[[#This Row],[ITEMNMBR]],0)","v":"CS0686"},"Custom Fruit with Bunny ( Tim )","RETAIL",0,109.99]
["CS0687",{"$f":"TEXT(Table_Query_from_Great_Plains[[#This Row],[ITEMNMBR]],0)","v":"CS0687"},"Custom Dom and Fruit for Billie","RETAIL",1,249.99]
["CS0688",{"$f":"TEXT(Table_Query_from_Great_Plains[[#This Row],[ITEMNMBR]],0)","v":"CS0688"},"Custom Junk Food for Doris","RETAIL",0,123.99]
["CS0689",{"$f":"TEXT(Table_Query_from_Great_Plains[[#This Row],[ITEMNMBR]],0)","v":"CS0689"},"Custom Amstel Light beer bucket for Sam","RETAIL",0,55.99]
["CS0690",{"$f":"TEXT(Table_Query_from_Great_Plains[[#This Row],[ITEMNMBR]],0)","v":"CS0690"},"Custom Pizza Stack and Mini Nut in a Basket for Tim","RETAIL",0,76.989999999999995]
["CS0691",{"$f":"TEXT(Table_Query_from_Great_Plains[[#This Row],[ITEMNMBR]],0)","v":"CS0691"},"Custom Dom & Chocolate ( Billie )","RETAIL",1,200]
["CS0692",{"$f":"TEXT(Table_Query_from_Great_Plains[[#This Row],[ITEMNMBR]],0)","v":"CS0692"},"Custom Bottle of Chardonnay","RETAIL",1,25]
["CS0693",{"$f":"TEXT(Table_Query_from_Great_Plains[[#This Row],[ITEMNMBR]],0)","v":"CS0693"},"Custom Care Package ( Sam )","RETAIL",0,108.93]
["CS0694",{"$f":"TEXT(Table_Query_from_Great_Plains[[#This Row],[ITEMNMBR]],0)","v":"CS0694"},"Custom Kosher with Wine for Doris","RETAIL",1,300]
["CS0695",{"$f":"TEXT(Table_Query_from_Great_Plains[[#This Row],[ITEMNMBR]],0)","v":"CS0695"},"Custom Dom and Choc with 2 candy crates for Dena","RETAIL",1,299.99]
["CS0696",{"$f":"TEXT(Table_Query_from_Great_Plains[[#This Row],[ITEMNMBR]],0)","v":"CS0696"},"Custom Cookie sampler without White Choc Mac for Billie","RETAIL",0,34.99]
["CS0697",{"$f":"TEXT(Table_Query_from_Great_Plains[[#This Row],[ITEMNMBR]],0)","v":"CS0697"},"Custom Brownie Sampler with Classic Whoopie Pie added for Billie","RETAIL",0,34.99]
["CS0698",{"$f":"TEXT(Table_Query_from_Great_Plains[[#This Row],[ITEMNMBR]],0)","v":"CS0698"},"Custom Junk Food Bucket in a basket (Billie)","RETAIL",0,125.99]
["CS0699",{"$f":"TEXT(Table_Query_from_Great_Plains[[#This Row],[ITEMNMBR]],0)","v":"CS0699"},"Custom Gluten Free no nuts for Dena","RETAIL",0,79.989999999999995]
["CS0700",{"$f":"TEXT(Table_Query_from_Great_Plains[[#This Row],[ITEMNMBR]],0)","v":"CS0700"},"Custom Golf and beer for Sam","RETAIL",0,106.99]
["CS0701",{"$f":"TEXT(Table_Query_from_Great_Plains[[#This Row],[ITEMNMBR]],0)","v":"CS0701"},"Custom 5108 with with different wines for (Dena)","RETAIL",1,144.99]
["CS0702",{"$f":"TEXT(Table_Query_from_Great_Plains[[#This Row],[ITEMNMBR]],0)","v":"CS0702"},"Custom Veuve in basket ( Cathie )","RETAIL",1,208.99]
["CS0703",{"$f":"TEXT(Table_Query_from_Great_Plains[[#This Row],[ITEMNMBR]],0)","v":"CS0703"},"Custom Bountiful Harvest plus more food (Dena)","RETAIL",0,140]
["CS0704",{"$f":"TEXT(Table_Query_from_Great_Plains[[#This Row],[ITEMNMBR]],0)","v":"CS0704"},"Custom Kosher and HEalthy (Sam)","RETAIL",0,53.99]
["CS0705",{"$f":"TEXT(Table_Query_from_Great_Plains[[#This Row],[ITEMNMBR]],0)","v":"CS0705"},"Custom Beer Bucket ( Billie )","RETAIL",0,96.99]
["CS0706",{"$f":"TEXT(Table_Query_from_Great_Plains[[#This Row],[ITEMNMBR]],0)","v":"CS0706"},"Custom Wine ( Doris )","RETAIL",1,75]
["CS0707",{"$f":"TEXT(Table_Query_from_Great_Plains[[#This Row],[ITEMNMBR]],0)","v":"CS0707"},"Custom Virgin Island for Anne","RETAIL",0,69.989999999999995]
["CS0708",{"$f":"TEXT(Table_Query_from_Great_Plains[[#This Row],[ITEMNMBR]],0)","v":"CS0708"},"Custom Fruit Basket ( Doris )","RETAIL",0,62.99]
["CS0709",{"$f":"TEXT(Table_Query_from_Great_Plains[[#This Row],[ITEMNMBR]],0)","v":"CS0709"},"Custom WIne Stack ( Doris )","RETAIL",1,62.99]
["CS0710",{"$f":"TEXT(Table_Query_from_Great_Plains[[#This Row],[ITEMNMBR]],0)","v":"CS0710"},"Custom Diabetic Basket ( Anne )","RETAIL",0,89.99]
["CS0711",{"$f":"TEXT(Table_Query_from_Great_Plains[[#This Row],[ITEMNMBR]],0)","v":"CS0711"},"Custom Kosher ( Billie )","RETAIL",0,147.99]
["CS0712",{"$f":"TEXT(Table_Query_from_Great_Plains[[#This Row],[ITEMNMBR]],0)","v":"CS0712"},"Custom Candy Crate ( Dena )","RETAIL",0,35.99]
["CS0713",{"$f":"TEXT(Table_Query_from_Great_Plains[[#This Row],[ITEMNMBR]],0)","v":"CS0713"},"Custom Fruit Basket ( sam )","RETAIL",0,52.94]
["CS0714",{"$f":"TEXT(Table_Query_from_Great_Plains[[#This Row],[ITEMNMBR]],0)","v":"CS0714"},"Custom Ice Cream ( Sam )","RETAIL",0,100.99]
["CS0715",{"$f":"TEXT(Table_Query_from_Great_Plains[[#This Row],[ITEMNMBR]],0)","v":"CS0715"},"Custom Coors Light Bucket (Doris )","RETAIL",1,61.98]
["CS0716",{"$f":"TEXT(Table_Query_from_Great_Plains[[#This Row],[ITEMNMBR]],0)","v":"CS0716"},"Custom Juice & Soup etc ( Doris )","RETAIL",0,81.99]
["CS0717",{"$f":"TEXT(Table_Query_from_Great_Plains[[#This Row],[ITEMNMBR]],0)","v":"CS0717"},"Custom Gluten Free ( Doris )","RETAIL",0,94.99]
["CS0718",{"$f":"TEXT(Table_Query_from_Great_Plains[[#This Row],[ITEMNMBR]],0)","v":"CS0718"},"Custom Ramen Noodle and Fresca Basket ( Dena )","RETAIL",0,71.989999999999995]
["CS0719",{"$f":"TEXT(Table_Query_from_Great_Plains[[#This Row],[ITEMNMBR]],0)","v":"CS0719"},"Custom Beer & Wine ( Sam )","RETAIL",1,235.99]
["CS0720",{"$f":"TEXT(Table_Query_from_Great_Plains[[#This Row],[ITEMNMBR]],0)","v":"CS0720"},"Custom Michelob Ultra ( Sam )","RETAIL",1,74.989999999999995]
["CS0721",{"$f":"TEXT(Table_Query_from_Great_Plains[[#This Row],[ITEMNMBR]],0)","v":"CS0721"},"Custom Wild About You ( Dena )","RETAIL",0,70.989999999999995]
["CS0722",{"$f":"TEXT(Table_Query_from_Great_Plains[[#This Row],[ITEMNMBR]],0)","v":"CS0722"},"Custom Fruit with Dom ( Dena )","RETAIL",1,230.99]
["CS0723",{"$f":"TEXT(Table_Query_from_Great_Plains[[#This Row],[ITEMNMBR]],0)","v":"CS0723"},"Custom Showstopper ( Dena )","RETAIL",0,149.99]
["CS0724",{"$f":"TEXT(Table_Query_from_Great_Plains[[#This Row],[ITEMNMBR]],0)","v":"CS0724"},"Custom Care Package ( Dena )","RETAIL",0,90]
["CS0725",{"$f":"TEXT(Table_Query_from_Great_Plains[[#This Row],[ITEMNMBR]],0)","v":"CS0725"},"Custom Moet & Chocolate ( Jason )","RETAIL",1,115.99]
["CS0726",{"$f":"TEXT(Table_Query_from_Great_Plains[[#This Row],[ITEMNMBR]],0)","v":"CS0726"},"Custom Toys for 5 year old Boy ( Doris )","RETAIL",0,150]
["CS0727",{"$f":"TEXT(Table_Query_from_Great_Plains[[#This Row],[ITEMNMBR]],0)","v":"CS0727"},"Custom Bountiful Harvest ( Tim )","RETAIL",0,119.99]
["CS0728",{"$f":"TEXT(Table_Query_from_Great_Plains[[#This Row],[ITEMNMBR]],0)","v":"CS0728"},"Custom Chocolate with Bear ( Doris )","RETAIL",0,99.99]
["CS0729",{"$f":"TEXT(Table_Query_from_Great_Plains[[#This Row],[ITEMNMBR]],0)","v":"CS0729"},"Custom Breakfast ( Doris )","RETAIL",0,69.989999999999995]
["CS0730",{"$f":"TEXT(Table_Query_from_Great_Plains[[#This Row],[ITEMNMBR]],0)","v":"CS0730"},"Custom Beer ( Sam )","RETAIL",1,94.99]
["CS0731",{"$f":"TEXT(Table_Query_from_Great_Plains[[#This Row],[ITEMNMBR]],0)","v":"CS0731"},"Custom 5087 ( Sam )","RETAIL",1,90.99]
["CS0732",{"$f":"TEXT(Table_Query_from_Great_Plains[[#This Row],[ITEMNMBR]],0)","v":"CS0732"},"Custom Snack with Kazoo ( Billie )","RETAIL",0,86.99]
["CS0733",{"$f":"TEXT(Table_Query_from_Great_Plains[[#This Row],[ITEMNMBR]],0)","v":"CS0733"},"Custom Beer Bucket with low sodium Snacks (Sam)","RETAIL",1,103.99]
["CS0734",{"$f":"TEXT(Table_Query_from_Great_Plains[[#This Row],[ITEMNMBR]],0)","v":"CS0734"},"Custom Kosher ( Sam )","RETAIL",0,36.99]
["CS0735",{"$f":"TEXT(Table_Query_from_Great_Plains[[#This Row],[ITEMNMBR]],0)","v":"CS0735"},"Custom Beer ( Sam )","RETAIL",1,107.99]
["CS0736",{"$f":"TEXT(Table_Query_from_Great_Plains[[#This Row],[ITEMNMBR]],0)","v":"CS0736"},"Custom Wine ( Sam )","RETAIL",0,161.99]
["CS0737",{"$f":"TEXT(Table_Query_from_Great_Plains[[#This Row],[ITEMNMBR]],0)","v":"CS0737"},"Custom Single Red Base but with NO red wine (Sam)","RETAIL",0,69.989999999999995]
["CS0738",{"$f":"TEXT(Table_Query_from_Great_Plains[[#This Row],[ITEMNMBR]],0)","v":"CS0738"},"Custom Healthy wirh Fruit ( Dena )","RETAIL",0,111.99]
["CS0739",{"$f":"TEXT(Table_Query_from_Great_Plains[[#This Row],[ITEMNMBR]],0)","v":"CS0739"},"Custom Day in Paris ( Anne )","RETAIL",0,159.99]
["CS0740",{"$f":"TEXT(Table_Query_from_Great_Plains[[#This Row],[ITEMNMBR]],0)","v":"CS0740"},"Custom Bread and Dipping Oil ( Dena )","RETAIL",0,400]
["CS0741",{"$f":"TEXT(Table_Query_from_Great_Plains[[#This Row],[ITEMNMBR]],0)","v":"CS0741"},"Custom Wine ( Dena )","RETAIL",1,111.99]
["CS0742",{"$f":"TEXT(Table_Query_from_Great_Plains[[#This Row],[ITEMNMBR]],0)","v":"CS0742"},"Custom Champagne with Fruit ( Doris)","RETAIL",1,121.99]
["CS0743",{"$f":"TEXT(Table_Query_from_Great_Plains[[#This Row],[ITEMNMBR]],0)","v":"CS0743"},"Custom Salami , Summer Sausage Crfackers ( Dena )","RETAIL",0,229.5]
["CS0744",{"$f":"TEXT(Table_Query_from_Great_Plains[[#This Row],[ITEMNMBR]],0)","v":"CS0744"},"Custom Coffee Classic with changes (Sam)","RETAIL",0,108.99]
["CS0745",{"$f":"TEXT(Table_Query_from_Great_Plains[[#This Row],[ITEMNMBR]],0)","v":"CS0745"},"Custom Snack Ultimate - no Sausage, no Jerky (Doris)","RETAIL",0,147.99]
["CS0746",{"$f":"TEXT(Table_Query_from_Great_Plains[[#This Row],[ITEMNMBR]],0)","v":"CS0746"},"Custom 6280 ( Dena )","RETAIL",0,133.99]
["CS0747",{"$f":"TEXT(Table_Query_from_Great_Plains[[#This Row],[ITEMNMBR]],0)","v":"CS0747"},"Custom Bountiful but no fresh fruit (Tim)","RETAIL",0,119.99]
["CS0748",{"$f":"TEXT(Table_Query_from_Great_Plains[[#This Row],[ITEMNMBR]],0)","v":"CS0748"},"Custom Catena Duo with Olives and Chocolate (Dena)","RETAIL",1,155]
["CS0749",{"$f":"TEXT(Table_Query_from_Great_Plains[[#This Row],[ITEMNMBR]],0)","v":"CS0749"},"Custom CHocolate Mini and Veuve in basket (Sam)","RETAIL",1,99.99]
["CS0750",{"$f":"TEXT(Table_Query_from_Great_Plains[[#This Row],[ITEMNMBR]],0)","v":"CS0750"},"Custom Garden Tote with Organic Snacks (Sam)","RETAIL",0,76.989999999999995]
["CS0751",{"$f":"TEXT(Table_Query_from_Great_Plains[[#This Row],[ITEMNMBR]],0)","v":"CS0751"},"Custom Pink Golf Bag with Organic Snacks (Sam)","RETAIL",0,75.989999999999995]
["CS0752",{"$f":"TEXT(Table_Query_from_Great_Plains[[#This Row],[ITEMNMBR]],0)","v":"CS0752"},"Custom Champagne (3 bottles) and snacks (Billie)","RETAIL",1,200.99]
["CS0753",{"$f":"TEXT(Table_Query_from_Great_Plains[[#This Row],[ITEMNMBR]],0)","v":"CS0753"},"custom snack with coffee ( cathie )","RETAIL",0,114.99]
["CS0754",{"$f":"TEXT(Table_Query_from_Great_Plains[[#This Row],[ITEMNMBR]],0)","v":"CS0754"},"Custom Chocolate with Fruit ( Dena )","RETAIL",0,46.99]
["CS0755",{"$f":"TEXT(Table_Query_from_Great_Plains[[#This Row],[ITEMNMBR]],0)","v":"CS0755"},"Custom Organic with Fruit ( Anne )","RETAIL",0,104.99]
["CS0756",{"$f":"TEXT(Table_Query_from_Great_Plains[[#This Row],[ITEMNMBR]],0)","v":"CS0756"},"Custom MD Fruit for Miguel (Anne)","RETAIL",0,78.989999999999995]
["CS0757",{"$f":"TEXT(Table_Query_from_Great_Plains[[#This Row],[ITEMNMBR]],0)","v":"CS0757"},"Custom World 12 with Golf Bag ( Cathie )","RETAIL",1,139.99]
["CS0758",{"$f":"TEXT(Table_Query_from_Great_Plains[[#This Row],[ITEMNMBR]],0)","v":"CS0758"},"Custom Dom Basket ( Billie )","RETAIL",1,253.99]
["CS0759",{"$f":"TEXT(Table_Query_from_Great_Plains[[#This Row],[ITEMNMBR]],0)","v":"CS0759"},"Custom Suitcase ( Billie )","RETAIL",1,186.25]
["CS0760",{"$f":"TEXT(Table_Query_from_Great_Plains[[#This Row],[ITEMNMBR]],0)","v":"CS0760"},"Custom Fruit, Wine & Chocolate ( Sam )","RETAIL",1,199.5]
["CS0761",{"$f":"TEXT(Table_Query_from_Great_Plains[[#This Row],[ITEMNMBR]],0)","v":"CS0761"},"Custom Replacement Snack Mini ( Dena )","RETAIL",0,24.99]
["CS0762",{"$f":"TEXT(Table_Query_from_Great_Plains[[#This Row],[ITEMNMBR]],0)","v":"CS0762"},"Custom Brownies ( Colin )","RETAIL",0,27.15]
["CS0763",{"$f":"TEXT(Table_Query_from_Great_Plains[[#This Row],[ITEMNMBR]],0)","v":"CS0763"},"Custom Salad in Basket ( Anne)","RETAIL",0,59.94]
["CS0764",{"$f":"TEXT(Table_Query_from_Great_Plains[[#This Row],[ITEMNMBR]],0)","v":"CS0764"},"Custom Coffee & Choc ( Doris )","RETAIL",0,54]
["CS0765",{"$f":"TEXT(Table_Query_from_Great_Plains[[#This Row],[ITEMNMBR]],0)","v":"CS0765"},"Custom 6 Maple Syrup ( Pat)","RETAIL",0,52.8]
["CS0766",{"$f":"TEXT(Table_Query_from_Great_Plains[[#This Row],[ITEMNMBR]],0)","v":"CS0766"},"Custom Beer & Wine ( Sam )","RETAIL",1,130.99]
["CS0767",{"$f":"TEXT(Table_Query_from_Great_Plains[[#This Row],[ITEMNMBR]],0)","v":"CS0767"},"Custom cheese cracker fruit (Cathie)","RETAIL",0,63.99]
["CS0768",{"$f":"TEXT(Table_Query_from_Great_Plains[[#This Row],[ITEMNMBR]],0)","v":"CS0768"},"Custom 3 wines (Doris)","RETAIL",1,223.99]
["CS0769",{"$f":"TEXT(Table_Query_from_Great_Plains[[#This Row],[ITEMNMBR]],0)","v":"CS0769"},"Custom Chocolate Classic Plus 2 Bears (Tim)","RETAIL",0,112.99]
["CS0770",{"$f":"TEXT(Table_Query_from_Great_Plains[[#This Row],[ITEMNMBR]],0)","v":"CS0770"},"Custom Get Well 5068 and 5070 plus dark chocolate (Sam)","RETAIL",0,87.99]
["CS0771",{"$f":"TEXT(Table_Query_from_Great_Plains[[#This Row],[ITEMNMBR]],0)","v":"CS0771"},"Custom 5600 plus 5604  (Sam)","RETAIL",0,77.98]
["CS0772",{"$f":"TEXT(Table_Query_from_Great_Plains[[#This Row],[ITEMNMBR]],0)","v":"CS0772"},"Custom candlelight plus chocolates","RETAIL",0,96.99]
["CS0773",{"$f":"TEXT(Table_Query_from_Great_Plains[[#This Row],[ITEMNMBR]],0)","v":"CS0773"},"Custom Fruit Cheese Crackers and Nuts","RETAIL",0,125]
["CS0774",{"$f":"TEXT(Table_Query_from_Great_Plains[[#This Row],[ITEMNMBR]],0)","v":"CS0774"},"custom 6348 plus 6258","RETAIL",0,186.99]
["CS0775",{"$f":"TEXT(Table_Query_from_Great_Plains[[#This Row],[ITEMNMBR]],0)","v":"CS0775"},"custom 5017 plus cookies and candy","RETAIL",0,215.99]
["CS0776",{"$f":"TEXT(Table_Query_from_Great_Plains[[#This Row],[ITEMNMBR]],0)","v":"CS0776"},"custom 4503 with more nuts and chocolate","RETAIL",0,137.99]
["CS0777",{"$f":"TEXT(Table_Query_from_Great_Plains[[#This Row],[ITEMNMBR]],0)","v":"CS0777"},"Custom Fruit, Cheese, Crackers, Chocolate Bars (Billie)","RETAIL",0,49.99]
["CS0778",{"$f":"TEXT(Table_Query_from_Great_Plains[[#This Row],[ITEMNMBR]],0)","v":"CS0778"},"Custom peanutbutter lover (Dena)","RETAIL",0,89.99]
["CS0779",{"$f":"TEXT(Table_Query_from_Great_Plains[[#This Row],[ITEMNMBR]],0)","v":"CS0779"},"Custom Cavities combo 4800 and 4206","RETAIL",0,50.99]
["CS0780",{"$f":"TEXT(Table_Query_from_Great_Plains[[#This Row],[ITEMNMBR]],0)","v":"CS0780"},"Custom Junk Food Care Package (Ryan H)","RETAIL",0,34.99]
["CS0781",{"$f":"TEXT(Table_Query_from_Great_Plains[[#This Row],[ITEMNMBR]],0)","v":"CS0781"},"custom red wine and chocolate mini (tim)","RETAIL",1,50.99]
["CS0782",{"$f":"TEXT(Table_Query_from_Great_Plains[[#This Row],[ITEMNMBR]],0)","v":"CS0782"},"custom chocolates and gummies anniversary (sam)","RETAIL",0,119.99]
["CS0783",{"$f":"TEXT(Table_Query_from_Great_Plains[[#This Row],[ITEMNMBR]],0)","v":"CS0783"},"custom cabernet and zinfandel (Doris)","RETAIL",0,300.99]
["CS0784",{"$f":"TEXT(Table_Query_from_Great_Plains[[#This Row],[ITEMNMBR]],0)","v":"CS0784"},"custom snack classic with sunflower seeds (sam)","RETAIL",0,70.989999999999995]
["CS0785",{"$f":"TEXT(Table_Query_from_Great_Plains[[#This Row],[ITEMNMBR]],0)","v":"CS0785"},"custom 4072 chocolate and fruit no coffee (sam)","RETAIL",0,134.99]
["CS0786",{"$f":"TEXT(Table_Query_from_Great_Plains[[#This Row],[ITEMNMBR]],0)","v":"CS0786"},"custom custom cabernet with snack (ann)","RETAIL",1,52.99]
["CS0787",{"$f":"TEXT(Table_Query_from_Great_Plains[[#This Row],[ITEMNMBR]],0)","v":"CS0787"},"Custom single wine basket with cider instead of wine (Anne)","RETAIL",0,69.989999999999995]
["CS0788",{"$f":"TEXT(Table_Query_from_Great_Plains[[#This Row],[ITEMNMBR]],0)","v":"CS0788"},"Custom Birthday Care Pkg in a basket (Doris)","RETAIL",0,56.99]
["CS0789",{"$f":"TEXT(Table_Query_from_Great_Plains[[#This Row],[ITEMNMBR]],0)","v":"CS0789"},"Custom Peanut Butter, Nuts (Sam)","RETAIL",0,89.99]
["CS0790",{"$f":"TEXT(Table_Query_from_Great_Plains[[#This Row],[ITEMNMBR]],0)","v":"CS0790"},"Custom Silver Oak Napa Valley Wine 2007","RETAIL",1,79.989999999999995]
["CS0791",{"$f":"TEXT(Table_Query_from_Great_Plains[[#This Row],[ITEMNMBR]],0)","v":"CS0791"},"custom 4320 golf no cookies or busciuts yes nuts (Dena)","RETAIL",0,69.989999999999995]
["CS0792",{"$f":"TEXT(Table_Query_from_Great_Plains[[#This Row],[ITEMNMBR]],0)","v":"CS0792"},"custom campfire collection (doris)","RETAIL",0,150.99]
["CS0793",{"$f":"TEXT(Table_Query_from_Great_Plains[[#This Row],[ITEMNMBR]],0)","v":"CS0793"},"custom wine lovers suitcase no chocolate (tim)","RETAIL",1,199.99]
["CS0794",{"$f":"TEXT(Table_Query_from_Great_Plains[[#This Row],[ITEMNMBR]],0)","v":"CS0794"},"custom healthy deluxe with dark chocolate (sam)","RETAIL",0,113]
["CS0795",{"$f":"TEXT(Table_Query_from_Great_Plains[[#This Row],[ITEMNMBR]],0)","v":"CS0795"},"Custom Deluxe Junk Food in a Lady Bug Tote (Anne )","RETAIL",0,82.99]
["CS0796",{"$f":"TEXT(Table_Query_from_Great_Plains[[#This Row],[ITEMNMBR]],0)","v":"CS0796"},"Custom 4051 plus sparking cider (sam)","RETAIL",0,75.52]
["CS0797",{"$f":"TEXT(Table_Query_from_Great_Plains[[#This Row],[ITEMNMBR]],0)","v":"CS0797"},"Custom 4503 no nuts for Anne","RETAIL",0,119.99]
["CS0798",{"$f":"TEXT(Table_Query_from_Great_Plains[[#This Row],[ITEMNMBR]],0)","v":"CS0798"},"Custom bottleboard with red wine and organic pb (sam)","RETAIL",1,91.99]
["CS0799",{"$f":"TEXT(Table_Query_from_Great_Plains[[#This Row],[ITEMNMBR]],0)","v":"CS0799"},"Custom Vegan with wine for Dena","RETAIL",1,100]
["CS0800",{"$f":"TEXT(Table_Query_from_Great_Plains[[#This Row],[ITEMNMBR]],0)","v":"CS0800"},"Custom apple a day pears no grannies","RETAIL",0,59.99]
["CS0801",{"$f":"TEXT(Table_Query_from_Great_Plains[[#This Row],[ITEMNMBR]],0)","v":"CS0801"},"custom Brownie sampler, cookie sampler and nut crate for Anne","RETAIL",0,85.99]
["CS0802",{"$f":"TEXT(Table_Query_from_Great_Plains[[#This Row],[ITEMNMBR]],0)","v":"CS0802"},"custom 4053 snack deluxe with chocolates (Dena)","RETAIL",0,109.99]
["CS0803",{"$f":"TEXT(Table_Query_from_Great_Plains[[#This Row],[ITEMNMBR]],0)","v":"CS0803"},"custom 4053 change out bow (doris)","RETAIL",0,104.99]
["CS0804",{"$f":"TEXT(Table_Query_from_Great_Plains[[#This Row],[ITEMNMBR]],0)","v":"CS0804"},"Custom 4321 with cookies (Doris)","RETAIL",0,70]
["CS0805",{"$f":"TEXT(Table_Query_from_Great_Plains[[#This Row],[ITEMNMBR]],0)","v":"CS0805"},"Custom organic and dog basket combo 6521 and 4042 (sam)","RETAIL",0,247.99]
["CS0806",{"$f":"TEXT(Table_Query_from_Great_Plains[[#This Row],[ITEMNMBR]],0)","v":"CS0806"},"Custom Blue Golf Bag with healthy snacks (Anne)","RETAIL",0,84.99]
["CS0807",{"$f":"TEXT(Table_Query_from_Great_Plains[[#This Row],[ITEMNMBR]],0)","v":"CS0807"},"Custom Artisan Choc Box, Nastalgic & Classic Candy, Deluxe Junk Food & Nuts (Dena)","RETAIL",0,186.99]
["CS0808",{"$f":"TEXT(Table_Query_from_Great_Plains[[#This Row],[ITEMNMBR]],0)","v":"CS0808"},"Custom Snack Stack and Micro 3 pack (Doris)","RETAIL",0,79.989999999999995]
["CS0809",{"$f":"TEXT(Table_Query_from_Great_Plains[[#This Row],[ITEMNMBR]],0)","v":"CS0809"},"Custom Ravenswood Snacks and Chocolates","RETAIL",1,120.99]
["CS0810",{"$f":"TEXT(Table_Query_from_Great_Plains[[#This Row],[ITEMNMBR]],0)","v":"CS0810"},"Custom Orchard Abundance with Million Dollar Bars (Billie)","RETAIL",0,86.99]
["CS0811",{"$f":"TEXT(Table_Query_from_Great_Plains[[#This Row],[ITEMNMBR]],0)","v":"CS0811"},"Custom breakfast snack and chocolates *5093+4053* (dena)","RETAIL",0,201.99]
["CS0812",{"$f":"TEXT(Table_Query_from_Great_Plains[[#This Row],[ITEMNMBR]],0)","v":"CS0812"},"Custom cakebread white with crackers cheese and nuts (anne)","RETAIL",1,212.99]
["CS0813",{"$f":"TEXT(Table_Query_from_Great_Plains[[#This Row],[ITEMNMBR]],0)","v":"CS0813"},"Custom estate coll. with fruit swap (billie)","RETAIL",0,187.99]
["CS0814",{"$f":"TEXT(Table_Query_from_Great_Plains[[#This Row],[ITEMNMBR]],0)","v":"CS0814"},"Custom Sausage, Mustard, chocolate, cheese biscuit (Anne)","RETAIL",0,63.99]
["CS0815",{"$f":"TEXT(Table_Query_from_Great_Plains[[#This Row],[ITEMNMBR]],0)","v":"CS0815"},"Custom healthy premium with cheese and chocolates *4022* (doris)","RETAIL",0,150]
["CS0816",{"$f":"TEXT(Table_Query_from_Great_Plains[[#This Row],[ITEMNMBR]],0)","v":"CS0816"},"Custom snacks *honeybun* (doris)","RETAIL",0,87.99]
["CS0817",{"$f":"TEXT(Table_Query_from_Great_Plains[[#This Row],[ITEMNMBR]],0)","v":"CS0817"},"Custom beer-b-q deluxe add more snacks and beers","RETAIL",1,122.99]
["CS0818",{"$f":"TEXT(Table_Query_from_Great_Plains[[#This Row],[ITEMNMBR]],0)","v":"CS0818"},"Custom sweet deluxe add red licorice (anne)","RETAIL",0,113.99]
["CS0819",{"$f":"TEXT(Table_Query_from_Great_Plains[[#This Row],[ITEMNMBR]],0)","v":"CS0819"},"Custom pizza and ice cream *5052 &5039* (sam)","RETAIL",0,124]
["CS0820",{"$f":"TEXT(Table_Query_from_Great_Plains[[#This Row],[ITEMNMBR]],0)","v":"CS0820"},"Custom Frenchie (Dena)","RETAIL",0,159.99]
["CS0821",{"$f":"TEXT(Table_Query_from_Great_Plains[[#This Row],[ITEMNMBR]],0)","v":"CS0821"},"Custom glow in the dark and microwbrew *4507&5626* (dena)","RETAIL",1,81.99]
["CS0822",{"$f":"TEXT(Table_Query_from_Great_Plains[[#This Row],[ITEMNMBR]],0)","v":"CS0822"},"Custom Sierra Nevada with organic snacks (Dena)","RETAIL",1,60]
["CS0823",{"$f":"TEXT(Table_Query_from_Great_Plains[[#This Row],[ITEMNMBR]],0)","v":"CS0823"},"Custom snack ultimate with white wine (doris)","RETAIL",1,189.99]
["CS0824",{"$f":"TEXT(Table_Query_from_Great_Plains[[#This Row],[ITEMNMBR]],0)","v":"CS0824"},"Custom Baby (Tim)","RETAIL",0,3]
["CS0825",{"$f":"TEXT(Table_Query_from_Great_Plains[[#This Row],[ITEMNMBR]],0)","v":"CS0825"},"Custom replacements (Doris)","RETAIL",1,0]
["CS0826",{"$f":"TEXT(Table_Query_from_Great_Plains[[#This Row],[ITEMNMBR]],0)","v":"CS0826"},"Custom Just a Weee bit Salty (Cathie)","RETAIL",0,99.99]
["CS0827",{"$f":"TEXT(Table_Query_from_Great_Plains[[#This Row],[ITEMNMBR]],0)","v":"CS0827"},"Custom fruit, cheese, crackers, pretzels (Billie)","RETAIL",0,195.99]
["CS0828",{"$f":"TEXT(Table_Query_from_Great_Plains[[#This Row],[ITEMNMBR]],0)","v":"CS0828"},"Custom 5019 out with Chianti in with Catena (Sam)","RETAIL",1,119.99]
["CS0829",{"$f":"TEXT(Table_Query_from_Great_Plains[[#This Row],[ITEMNMBR]],0)","v":"CS0829"},"Custom cakebread red and white (Doris)","RETAIL",1,259.99]
["CS0830",{"$f":"TEXT(Table_Query_from_Great_Plains[[#This Row],[ITEMNMBR]],0)","v":"CS0830"},"Custom candy bucket (sam)","RETAIL",0,50]
["CS0831",{"$f":"TEXT(Table_Query_from_Great_Plains[[#This Row],[ITEMNMBR]],0)","v":"CS0831"},"Custom Cakebread Suitcase (doris)","RETAIL",1,278.99]
["CS0832",{"$f":"TEXT(Table_Query_from_Great_Plains[[#This Row],[ITEMNMBR]],0)","v":"CS0832"},"Custom kid fun and candy  (doris)","RETAIL",0,120]
["CS0833",{"$f":"TEXT(Table_Query_from_Great_Plains[[#This Row],[ITEMNMBR]],0)","v":"CS0833"},"Custom 4665 no fruit (Sam)","RETAIL",0,59.99]
["CS0834",{"$f":"TEXT(Table_Query_from_Great_Plains[[#This Row],[ITEMNMBR]],0)","v":"CS0834"},"Custom light beer with peanut allergies (Sam)","RETAIL",1,69.989999999999995]
["CS0835",{"$f":"TEXT(Table_Query_from_Great_Plains[[#This Row],[ITEMNMBR]],0)","v":"CS0835"},"Custom cakebread reds *5093 remove sausage add cheese* (tim)","RETAIL",1,259.99]
["CS0836",{"$f":"TEXT(Table_Query_from_Great_Plains[[#This Row],[ITEMNMBR]],0)","v":"CS0836"},"Custom bountiful with veuve (dena)","RETAIL",1,188.99]
["CS0837",{"$f":"TEXT(Table_Query_from_Great_Plains[[#This Row],[ITEMNMBR]],0)","v":"CS0837"},"Custom nastalgic candy *4800* plus extras  (ski colors) (Sam)","RETAIL",0,69.989999999999995]
["CS0838",{"$f":"TEXT(Table_Query_from_Great_Plains[[#This Row],[ITEMNMBR]],0)","v":"CS0838"},"Custom Bush Light Bucket plus more (Sam)","RETAIL",1,135.99]
["CS0839",{"$f":"TEXT(Table_Query_from_Great_Plains[[#This Row],[ITEMNMBR]],0)","v":"CS0839"},"Custom *4052* snack premium (Sam)","RETAIL",0,91.98]
["CS0840",{"$f":"TEXT(Table_Query_from_Great_Plains[[#This Row],[ITEMNMBR]],0)","v":"CS0840"},"Custom Gluten Free Stack (Anne)","RETAIL",0,72.989999999999995]
["CS0841",{"$f":"TEXT(Table_Query_from_Great_Plains[[#This Row],[ITEMNMBR]],0)","v":"CS0841"},"Custom Snack with red wine and sausage (doris)","RETAIL",1,99.99]
["CS0842",{"$f":"TEXT(Table_Query_from_Great_Plains[[#This Row],[ITEMNMBR]],0)","v":"CS0842"},"Custom Chocolate Items (Billie)","RETAIL",0,60]
["CS0843",{"$f":"TEXT(Table_Query_from_Great_Plains[[#This Row],[ITEMNMBR]],0)","v":"CS0843"},"Custom white wine, chocolates, salty snacks and relaxing bathtime (mike)","RETAIL",1,112.99]
["CS0844",{"$f":"TEXT(Table_Query_from_Great_Plains[[#This Row],[ITEMNMBR]],0)","v":"CS0844"},"custom estate collection more cheese (doris)","RETAIL",0,202.99]
["CS0845",{"$f":"TEXT(Table_Query_from_Great_Plains[[#This Row],[ITEMNMBR]],0)","v":"CS0845"},"Custom Snack Ultimate w/ 10-$10 Starbucks cards and 6 KOP popcorn cups (Billie)","RETAIL",0,303.99]
["CS0846",{"$f":"TEXT(Table_Query_from_Great_Plains[[#This Row],[ITEMNMBR]],0)","v":"CS0846"},"custom birthday care pkg. (Ryan F.)","RETAIL",0,52.99]
["CS0847",{"$f":"TEXT(Table_Query_from_Great_Plains[[#This Row],[ITEMNMBR]],0)","v":"CS0847"},"custom summer sweet and salty snacks (Anne)","RETAIL",0,185.99]
["CS0848",{"$f":"TEXT(Table_Query_from_Great_Plains[[#This Row],[ITEMNMBR]],0)","v":"CS0848"},"custom cakebreads (anne)","RETAIL",1,271.99]
["CS0849",{"$f":"TEXT(Table_Query_from_Great_Plains[[#This Row],[ITEMNMBR]],0)","v":"CS0849"},"custom oranges (dena)","RETAIL",0,49.99]
["CS0850",{"$f":"TEXT(Table_Query_from_Great_Plains[[#This Row],[ITEMNMBR]],0)","v":"CS0850"},"custom fruit and healthy snacks (Cathie)","RETAIL",0,199.99]
["CS0851",{"$f":"TEXT(Table_Query_from_Great_Plains[[#This Row],[ITEMNMBR]],0)","v":"CS0851"},"custom blue moon beer bucket (Dena)","RETAIL",1,105.99]
["CS0852",{"$f":"TEXT(Table_Query_from_Great_Plains[[#This Row],[ITEMNMBR]],0)","v":"CS0852"},"Custom Bacon - Beer - Chocolates and Cheese basket (Sam)","RETAIL",1,99.99]
["CS0853",{"$f":"TEXT(Table_Query_from_Great_Plains[[#This Row],[ITEMNMBR]],0)","v":"CS0853"},"Custom wine & cheese (sam)","RETAIL",1,109.99]
["CS0854",{"$f":"TEXT(Table_Query_from_Great_Plains[[#This Row],[ITEMNMBR]],0)","v":"CS0854"},"Custom family basket (mike)","RETAIL",1,100]
["CS0855",{"$f":"TEXT(Table_Query_from_Great_Plains[[#This Row],[ITEMNMBR]],0)","v":"CS0855"},"Custom white wine gluten free and non gluten free (dena)","RETAIL",1,101.99]
["CS0856",{"$f":"TEXT(Table_Query_from_Great_Plains[[#This Row],[ITEMNMBR]],0)","v":"CS0856"},"Custom snack jumbo with dom red and white wines (tim)","RETAIL",1,475]
["CS0857",{"$f":"TEXT(Table_Query_from_Great_Plains[[#This Row],[ITEMNMBR]],0)","v":"CS0857"},"Custom popcorn and candy (cathie)","RETAIL",0,189.99]
["CS0858",{"$f":"TEXT(Table_Query_from_Great_Plains[[#This Row],[ITEMNMBR]],0)","v":"CS0858"},"Custom kosher (sam)","RETAIL",0,249.99]
["CS0859",{"$f":"TEXT(Table_Query_from_Great_Plains[[#This Row],[ITEMNMBR]],0)","v":"CS0859"},"Custom BBQ/ Spa/ and Candy","RETAIL",0,99.99]
["CS0860",{"$f":"TEXT(Table_Query_from_Great_Plains[[#This Row],[ITEMNMBR]],0)","v":"CS0860"},"custom ladybug tote cp with visa gc (billie)","RETAIL",0,162.29]
["CS0861",{"$f":"TEXT(Table_Query_from_Great_Plains[[#This Row],[ITEMNMBR]],0)","v":"CS0861"},"custom nostalgic candy crate  with visa gc (billie)","RETAIL",0,142.29]
["CS0862",{"$f":"TEXT(Table_Query_from_Great_Plains[[#This Row],[ITEMNMBR]],0)","v":"CS0862"},"custom beanpod candle gift crate with visa gc (billie)","RETAIL",0,152.29]
["CS0863",{"$f":"TEXT(Table_Query_from_Great_Plains[[#This Row],[ITEMNMBR]],0)","v":"CS0863"},"custom chocolates (billie)","RETAIL",0,30]
["CS0864",{"$f":"TEXT(Table_Query_from_Great_Plains[[#This Row],[ITEMNMBR]],0)","v":"CS0864"},"custom snacks plus chocolates and gummies (dena)","RETAIL",0,140]
["CS0865",{"$f":"TEXT(Table_Query_from_Great_Plains[[#This Row],[ITEMNMBR]],0)","v":"CS0865"},"custom cookies and brownies (tim)","RETAIL",0,74.989999999999995]
["CS0866",{"$f":"TEXT(Table_Query_from_Great_Plains[[#This Row],[ITEMNMBR]],0)","v":"CS0866"},"custom cakebread replacement (dena)","RETAIL",1,133.94]
["CS0867",{"$f":"TEXT(Table_Query_from_Great_Plains[[#This Row],[ITEMNMBR]],0)","v":"CS0867"},"custom veuve with truffles cookies and brownies (dena)","RETAIL",1,114.99]
["CS0868",{"$f":"TEXT(Table_Query_from_Great_Plains[[#This Row],[ITEMNMBR]],0)","v":"CS0868"},"custom fruit and snacks (Billie)","RETAIL",0,59.99]
["CS0869",{"$f":"TEXT(Table_Query_from_Great_Plains[[#This Row],[ITEMNMBR]],0)","v":"CS0869"},"custom two chardonnays (doris)","RETAIL",1,59.99]
["CS0870",{"$f":"TEXT(Table_Query_from_Great_Plains[[#This Row],[ITEMNMBR]],0)","v":"CS0870"},"custom red ravenswood plus almonds","RETAIL",1,87.99]
["CS0871",{"$f":"TEXT(Table_Query_from_Great_Plains[[#This Row],[ITEMNMBR]],0)","v":"CS0871"},"custom cakebread and kosher (tim)","RETAIL",1,450]
["CS0872",{"$f":"TEXT(Table_Query_from_Great_Plains[[#This Row],[ITEMNMBR]],0)","v":"CS0872"},"custom hot dog stand -4089- plus more sauce (doris)","RETAIL",0,45]
["CS0873",{"$f":"TEXT(Table_Query_from_Great_Plains[[#This Row],[ITEMNMBR]],0)","v":"CS0873"},"custom chocolate (billie)","RETAIL",0,30]
["CS0874",{"$f":"TEXT(Table_Query_from_Great_Plains[[#This Row],[ITEMNMBR]],0)","v":"CS0874"},"custom 4802 deluxe junk food bucket plus $100 HD/GC (Dena)","RETAIL",0,184.99]
["CS0875",{"$f":"TEXT(Table_Query_from_Great_Plains[[#This Row],[ITEMNMBR]],0)","v":"CS0875"},"custom silveroak cabernet replacement (doris)","RETAIL",1,18.7]
["CS0876",{"$f":"TEXT(Table_Query_from_Great_Plains[[#This Row],[ITEMNMBR]],0)","v":"CS0876"},"custom snack jumbo - no meats (anne)","RETAIL",0,199.99]
["CS0877",{"$f":"TEXT(Table_Query_from_Great_Plains[[#This Row],[ITEMNMBR]],0)","v":"CS0877"},"custom diabetic snacks (Cathie)","RETAIL",0,65.989999999999995]
["CS0878",{"$f":"TEXT(Table_Query_from_Great_Plains[[#This Row],[ITEMNMBR]],0)","v":"CS0878"},"custom coffee & chocolate plus (Billie)","RETAIL",0,50]
["CS0879",{"$f":"TEXT(Table_Query_from_Great_Plains[[#This Row],[ITEMNMBR]],0)","v":"CS0879"},"custom MLB METS (Dena)","RETAIL",0,104.49]
["CS0880",{"$f":"TEXT(Table_Query_from_Great_Plains[[#This Row],[ITEMNMBR]],0)","v":"CS0880"},"custom back to school (billie)","RETAIL",0,69.989999999999995]
["CS0881",{"$f":"TEXT(Table_Query_from_Great_Plains[[#This Row],[ITEMNMBR]],0)","v":"CS0881"},"custom fruit plus cookies (Billie)","RETAIL",0,52.99]
["CS0882",{"$f":"TEXT(Table_Query_from_Great_Plains[[#This Row],[ITEMNMBR]],0)","v":"CS0882"},"custom fruit plus milk chocolate bar (Billie)","RETAIL",0,52.99]
["CS0883",{"$f":"TEXT(Table_Query_from_Great_Plains[[#This Row],[ITEMNMBR]],0)","v":"CS0883"},"custom Anniversary (Anne)","RETAIL",1,174.99]
["CS0884",{"$f":"TEXT(Table_Query_from_Great_Plains[[#This Row],[ITEMNMBR]],0)","v":"CS0884"},"custom single sampler (Tim / Doris)","RETAIL",0,57.99]
["CS0885",{"$f":"TEXT(Table_Query_from_Great_Plains[[#This Row],[ITEMNMBR]],0)","v":"CS0885"},"custom Miller light bucket (doris)","RETAIL",1,126.99]
["CS0886",{"$f":"TEXT(Table_Query_from_Great_Plains[[#This Row],[ITEMNMBR]],0)","v":"CS0886"},"custom papmpered dog & cat with sympathy (Anne)","RETAIL",0,99.99]
["CS0887",{"$f":"TEXT(Table_Query_from_Great_Plains[[#This Row],[ITEMNMBR]],0)","v":"CS0887"},"custom (donation) wildhorse trio with ggb g/c (anne)","RETAIL",1,0]
["CS0888",{"$f":"TEXT(Table_Query_from_Great_Plains[[#This Row],[ITEMNMBR]],0)","v":"CS0888"},"custom Corona - Happy Birthday","RETAIL",0,57.99]
["CS0889",{"$f":"TEXT(Table_Query_from_Great_Plains[[#This Row],[ITEMNMBR]],0)","v":"CS0889"},"custom fruit & sweets (doris)","RETAIL",0,48.99]
["CS0890",{"$f":"TEXT(Table_Query_from_Great_Plains[[#This Row],[ITEMNMBR]],0)","v":"CS0890"},"custom healthy foods for WellNet (Tim)","RETAIL",0,68.989999999999995]
["CS0891",{"$f":"TEXT(Table_Query_from_Great_Plains[[#This Row],[ITEMNMBR]],0)","v":"CS0891"},"custom healthy foods for WellNet 2 (Tim)","RETAIL",0,69.989999999999995]
["CS0892",{"$f":"TEXT(Table_Query_from_Great_Plains[[#This Row],[ITEMNMBR]],0)","v":"CS0892"},"custom cookie sampler in a basket (Tim)","RETAIL",0,53.99]
["CS0893",{"$f":"TEXT(Table_Query_from_Great_Plains[[#This Row],[ITEMNMBR]],0)","v":"CS0893"},"custom dads bday combo bbq & nutcrate","RETAIL",0,86.99]
["CS0894",{"$f":"TEXT(Table_Query_from_Great_Plains[[#This Row],[ITEMNMBR]],0)","v":"CS0894"},"Custom Champagne, Chocolate, Snacks (Mike F.)","RETAIL",0,139.99]
["CS0895",{"$f":"TEXT(Table_Query_from_Great_Plains[[#This Row],[ITEMNMBR]],0)","v":"CS0895"},"Custom 5019 with 1 Catena Chardonnay (Anne)","RETAIL",1,126.99]
["CS0896",{"$f":"TEXT(Table_Query_from_Great_Plains[[#This Row],[ITEMNMBR]],0)","v":"CS0896"},"Custom Deluxe Junk Food Bucket with Cookie Brittle (Anne)","RETAIL",0,59.99]
["CS0897",{"$f":"TEXT(Table_Query_from_Great_Plains[[#This Row],[ITEMNMBR]],0)","v":"CS0897"},"Custom cakebreads with ultimate snacks (dena)","RETAIL",1,511.99]
["CS0898",{"$f":"TEXT(Table_Query_from_Great_Plains[[#This Row],[ITEMNMBR]],0)","v":"CS0898"},"Custom Irish Beer Bucket (Mike)","RETAIL",1,101.99]
["CS0899",{"$f":"TEXT(Table_Query_from_Great_Plains[[#This Row],[ITEMNMBR]],0)","v":"CS0899"},"Custom breakfast with Cakebread wines and Dom (Anne)","RETAIL",1,569.99]
["CS0900",{"$f":"TEXT(Table_Query_from_Great_Plains[[#This Row],[ITEMNMBR]],0)","v":"CS0900"},"Custom 4505, 4802, 4403 plus fruit (Cathie)","RETAIL",0,189.99]
["CS0901",{"$f":"TEXT(Table_Query_from_Great_Plains[[#This Row],[ITEMNMBR]],0)","v":"CS0901"},"Custom Fruit and Jams (Billie)","RETAIL",0,82.99]
["CS0902",{"$f":"TEXT(Table_Query_from_Great_Plains[[#This Row],[ITEMNMBR]],0)","v":"CS0902"},"Custom Snack Premium with Snacks and Activities (Billie)","RETAIL",0,124.99]
["CS0903",{"$f":"TEXT(Table_Query_from_Great_Plains[[#This Row],[ITEMNMBR]],0)","v":"CS0903"},"Custom Red Soz Small with loose toys added to ship box (Anne)","RETAIL",0,119.99]
["CS0904",{"$f":"TEXT(Table_Query_from_Great_Plains[[#This Row],[ITEMNMBR]],0)","v":"CS0904"},"Custom Peak of the Harvest with Cheese and Crackers (Anne)","RETAIL",0,95.99]
["CS0905",{"$f":"TEXT(Table_Query_from_Great_Plains[[#This Row],[ITEMNMBR]],0)","v":"CS0905"},"Custom Sweet 16 wrigleys bucket and classic candy crate (Anne)","RETAIL",0,66.989999999999995]
["CS0906",{"$f":"TEXT(Table_Query_from_Great_Plains[[#This Row],[ITEMNMBR]],0)","v":"CS0906"},"Custom signature series with more (Doris)","RETAIL",0,373.99]
["CS0907",{"$f":"TEXT(Table_Query_from_Great_Plains[[#This Row],[ITEMNMBR]],0)","v":"CS0907"},"Custom snacker (tim)","RETAIL",0,70.989999999999995]
["CS0908",{"$f":"TEXT(Table_Query_from_Great_Plains[[#This Row],[ITEMNMBR]],0)","v":"CS0908"},"Custom harvest tower - minus tower- add Veuve (anne)","RETAIL",0,141.99]
["CS0909",{"$f":"TEXT(Table_Query_from_Great_Plains[[#This Row],[ITEMNMBR]],0)","v":"CS0909"},"Custom Snacks (Billie)","RETAIL",0,85]
["CS0910",{"$f":"TEXT(Table_Query_from_Great_Plains[[#This Row],[ITEMNMBR]],0)","v":"CS0910"},"Custom Corona - Golf  (Billie)","RETAIL",1,87.99]
["CS0911",{"$f":"TEXT(Table_Query_from_Great_Plains[[#This Row],[ITEMNMBR]],0)","v":"CS0911"},"Custom 5021 ribbon change (doris)","RETAIL",0,106.99]
["CS0912",{"$f":"TEXT(Table_Query_from_Great_Plains[[#This Row],[ITEMNMBR]],0)","v":"CS0912"},"Custom Health Nut, Fruit, Tea, Coffee, Candy (Doris)","RETAIL",0,105.99]
["CS0913",{"$f":"TEXT(Table_Query_from_Great_Plains[[#This Row],[ITEMNMBR]],0)","v":"CS0913"},"Custom Miller Lite Bucket (Billie)","RETAIL",1,92.99]
["CS0914",{"$f":"TEXT(Table_Query_from_Great_Plains[[#This Row],[ITEMNMBR]],0)","v":"CS0914"},"Custom snacks for w/c (Houston)","RETAIL",0,73.989999999999995]
["CS0915",{"$f":"TEXT(Table_Query_from_Great_Plains[[#This Row],[ITEMNMBR]],0)","v":"CS0915"},"Custom Ravenswood Red (Billie)","RETAIL",1,69.989999999999995]
["CS0916",{"$f":"TEXT(Table_Query_from_Great_Plains[[#This Row],[ITEMNMBR]],0)","v":"CS0916"},"Custom chocolates to pass out (Billie)","RETAIL",0,60]
["CS0917",{"$f":"TEXT(Table_Query_from_Great_Plains[[#This Row],[ITEMNMBR]],0)","v":"CS0917"},"Custom Snack Classic for Miguel","RETAIL",0,59.99]
["CS0918",{"$f":"TEXT(Table_Query_from_Great_Plains[[#This Row],[ITEMNMBR]],0)","v":"CS0918"},"custom Starbucks (Billie)","RETAIL",0,238.99]
["CS0919",{"$f":"TEXT(Table_Query_from_Great_Plains[[#This Row],[ITEMNMBR]],0)","v":"CS0919"},"Custom snack / football/ bucket (Billie)","RETAIL",0,94.99]
["CS0920",{"$f":"TEXT(Table_Query_from_Great_Plains[[#This Row],[ITEMNMBR]],0)","v":"CS0920"},"Custom 22 (Tim)","RETAIL",0,465]
["CS0921",{"$f":"TEXT(Table_Query_from_Great_Plains[[#This Row],[ITEMNMBR]],0)","v":"CS0921"},"Custom 4108 with Moet (Doris)","RETAIL",0,113]
["CS0922",{"$f":"TEXT(Table_Query_from_Great_Plains[[#This Row],[ITEMNMBR]],0)","v":"CS0922"},"Custom snack premium with Moet (Doris)","RETAIL",1,138.99]
["CS0923",{"$f":"TEXT(Table_Query_from_Great_Plains[[#This Row],[ITEMNMBR]],0)","v":"CS0923"},"Custom Sam Adams Bucket (Doris)","RETAIL",1,104.99]
["CS0924",{"$f":"TEXT(Table_Query_from_Great_Plains[[#This Row],[ITEMNMBR]],0)","v":"CS0924"},"Custom snack jumbo with Ravenswood red and white (doris)","RETAIL",1,237.99]
["CS0925",{"$f":"TEXT(Table_Query_from_Great_Plains[[#This Row],[ITEMNMBR]],0)","v":"CS0925"},"Custom Beer Cookies and BBQ Bday (Dena)","RETAIL",1,69.989999999999995]
["CS0926",{"$f":"TEXT(Table_Query_from_Great_Plains[[#This Row],[ITEMNMBR]],0)","v":"CS0926"},"Custom Wine suitcase no Hess add Catena (Billie)","RETAIL",1,149.99]
["CS0927",{"$f":"TEXT(Table_Query_from_Great_Plains[[#This Row],[ITEMNMBR]],0)","v":"CS0927"},"Custom mini candy basket ( Anne)","RETAIL",0,27.99]
["CS0928",{"$f":"TEXT(Table_Query_from_Great_Plains[[#This Row],[ITEMNMBR]],0)","v":"CS0928"},"Custom twin boys snack deluxe (Billie)","RETAIL",0,120.99]
["CS0929",{"$f":"TEXT(Table_Query_from_Great_Plains[[#This Row],[ITEMNMBR]],0)","v":"CS0929"},"Custom beer buckets (Billie)","RETAIL",1,50.99]
["CS0930",{"$f":"TEXT(Table_Query_from_Great_Plains[[#This Row],[ITEMNMBR]],0)","v":"CS0930"},"Custom Wisconsin Basket (Tim)","RETAIL",1,149.99]
["CS0931",{"$f":"TEXT(Table_Query_from_Great_Plains[[#This Row],[ITEMNMBR]],0)","v":"CS0931"},"Custom replacement","RETAIL",1,83.99]
["CS0932",{"$f":"TEXT(Table_Query_from_Great_Plains[[#This Row],[ITEMNMBR]],0)","v":"CS0932"},"Custom Purely Fruit - 8 Pears and 4 Oranges Only - TEST (Jill)","RETAIL",0,49.99]
["CS0933",{"$f":"TEXT(Table_Query_from_Great_Plains[[#This Row],[ITEMNMBR]],0)","v":"CS0933"},"Custom Purely Fruit with Fruit from Hannafords - TEST (Jill)","RETAIL",0,49.99]
["CS0934",{"$f":"TEXT(Table_Query_from_Great_Plains[[#This Row],[ITEMNMBR]],0)","v":"CS0934"},"Custom snacks for the family","RETAIL",0,248]
["CS0935",{"$f":"TEXT(Table_Query_from_Great_Plains[[#This Row],[ITEMNMBR]],0)","v":"CS0935"},"Custom Basket with Popcorn and Get Well Items (Dena)","RETAIL",0,155.99]
["CS0936",{"$f":"TEXT(Table_Query_from_Great_Plains[[#This Row],[ITEMNMBR]],0)","v":"CS0936"},"custom Moet and chocolate (Tim)","RETAIL",1,200]
["CS0937",{"$f":"TEXT(Table_Query_from_Great_Plains[[#This Row],[ITEMNMBR]],0)","v":"CS0937"},"Custom Snack Classic with Mich Ultra (Dena)","RETAIL",1,78.989999999999995]
["CS0938",{"$f":"TEXT(Table_Query_from_Great_Plains[[#This Row],[ITEMNMBR]],0)","v":"CS0938"},"Custom Spa ( Billie)","RETAIL",0,200]
["CS0939",{"$f":"TEXT(Table_Query_from_Great_Plains[[#This Row],[ITEMNMBR]],0)","v":"CS0939"},"Custom exam cram (Anne)","RETAIL",0,60]
["CS0940",{"$f":"TEXT(Table_Query_from_Great_Plains[[#This Row],[ITEMNMBR]],0)","v":"CS0940"},"Custom Bountiful Harvest with Maple Syrup (Ryan F.)","RETAIL",0,130.99]
["CS0941",{"$f":"TEXT(Table_Query_from_Great_Plains[[#This Row],[ITEMNMBR]],0)","v":"CS0941"},"Custom Kosher Extreme (Doris)","RETAIL",0,300]
["CS0942",{"$f":"TEXT(Table_Query_from_Great_Plains[[#This Row],[ITEMNMBR]],0)","v":"CS0942"},"Custom Champagne & Truffles plus Candy","RETAIL",0,398]
["CS0943",{"$f":"TEXT(Table_Query_from_Great_Plains[[#This Row],[ITEMNMBR]],0)","v":"CS0943"},"Custom Cardinals 2X with Hoodie (Tim)","RETAIL",0,79.989999999999995]
["CS0944",{"$f":"TEXT(Table_Query_from_Great_Plains[[#This Row],[ITEMNMBR]],0)","v":"CS0944"},"Custom Kosher Bountiful Harvest (Dena)","RETAIL",0,120]
["CS0945",{"$f":"TEXT(Table_Query_from_Great_Plains[[#This Row],[ITEMNMBR]],0)","v":"CS0945"},"Custom Microbrew beer bucket (Mike)","RETAIL",1,102.99]
["CS0947",{"$f":"TEXT(Table_Query_from_Great_Plains[[#This Row],[ITEMNMBR]],0)","v":"CS0947"},"Custom Kosher stack (Dena)","RETAIL",0,34.99]
["CS0948",{"$f":"TEXT(Table_Query_from_Great_Plains[[#This Row],[ITEMNMBR]],0)","v":"CS0948"},"Custom Bloody mary Stack (Dena)","RETAIL",0,39.99]
["CS0949",{"$f":"TEXT(Table_Query_from_Great_Plains[[#This Row],[ITEMNMBR]],0)","v":"CS0949"},"Custom Wire Golf Bucket (Doris)","RETAIL",0,53]
["CS0950",{"$f":"TEXT(Table_Query_from_Great_Plains[[#This Row],[ITEMNMBR]],0)","v":"CS0950"},"Custom Steele Chardonnay Wasabi Peas","RETAIL",1,100]
["CS0951",{"$f":"TEXT(Table_Query_from_Great_Plains[[#This Row],[ITEMNMBR]],0)","v":"CS0951"},"Custom Second City Basket 3 French (Tim)","RETAIL",0,300]
["CS0952",{"$f":"TEXT(Table_Query_from_Great_Plains[[#This Row],[ITEMNMBR]],0)","v":"CS0952"},"Custom Second City Healthy Basket (Tim)","RETAIL",0,300]
["CS0953",{"$f":"TEXT(Table_Query_from_Great_Plains[[#This Row],[ITEMNMBR]],0)","v":"CS0953"},"Custom Second City Fun Basket (Tim)","RETAIL",0,300]
["CS0954",{"$f":"TEXT(Table_Query_from_Great_Plains[[#This Row],[ITEMNMBR]],0)","v":"CS0954"},"Custom Get Well (Anne)","RETAIL",0,145.99]
["CS0955",{"$f":"TEXT(Table_Query_from_Great_Plains[[#This Row],[ITEMNMBR]],0)","v":"CS0955"},"Custom Gluten Free with Fruit (Ryan F)","RETAIL",0,90]
["CS0956",{"$f":"TEXT(Table_Query_from_Great_Plains[[#This Row],[ITEMNMBR]],0)","v":"CS0956"},"Custom ravenswood with microwbeers (mike)","RETAIL",1,102.99]
["CS0957",{"$f":"TEXT(Table_Query_from_Great_Plains[[#This Row],[ITEMNMBR]],0)","v":"CS0957"},"Custom sympathy fruit plus (Dena)","RETAIL",0,125]
["CS0958",{"$f":"TEXT(Table_Query_from_Great_Plains[[#This Row],[ITEMNMBR]],0)","v":"CS0958"},"Custom Beer and Wine (Billie)","RETAIL",1,98]
["CS0959",{"$f":"TEXT(Table_Query_from_Great_Plains[[#This Row],[ITEMNMBR]],0)","v":"CS0959"},"Custom Orchard Abundance with Bananas (Tim)","RETAIL",0,95]
["CS0960",{"$f":"TEXT(Table_Query_from_Great_Plains[[#This Row],[ITEMNMBR]],0)","v":"CS0960"},"Custom Orchard Abundance sausage for caramel (R. Fisher)","RETAIL",0,77.989999999999995]
["CS0961",{"$f":"TEXT(Table_Query_from_Great_Plains[[#This Row],[ITEMNMBR]],0)","v":"CS0961"},"Custom Golf Bag with Beer and Munchies (Doris)","RETAIL",1,66.989999999999995]
["CS0962",{"$f":"TEXT(Table_Query_from_Great_Plains[[#This Row],[ITEMNMBR]],0)","v":"CS0962"},"Custom Cocktail Deluxe (Tim)","RETAIL",0,119.99]
["CS0963",{"$f":"TEXT(Table_Query_from_Great_Plains[[#This Row],[ITEMNMBR]],0)","v":"CS0963"},"Custom (Lisa)","RETAIL",0,74]
["CS0964",{"$f":"TEXT(Table_Query_from_Great_Plains[[#This Row],[ITEMNMBR]],0)","v":"CS0964"},"Custom Beer Bucket (Dena)","RETAIL",1,60]
["CS0965",{"$f":"TEXT(Table_Query_from_Great_Plains[[#This Row],[ITEMNMBR]],0)","v":"CS0965"},"Custom Automotive Advantage Chocolates (Billie)","RETAIL",0,50]
["CS0966",{"$f":"TEXT(Table_Query_from_Great_Plains[[#This Row],[ITEMNMBR]],0)","v":"CS0966"},"Custom Junk Food with Reese's (Anne)","RETAIL",0,62.99]
["CS0967",{"$f":"TEXT(Table_Query_from_Great_Plains[[#This Row],[ITEMNMBR]],0)","v":"CS0967"},"Custom Brownie Sampler (Billie)","RETAIL",0,34.99]
["CS0968",{"$f":"TEXT(Table_Query_from_Great_Plains[[#This Row],[ITEMNMBR]],0)","v":"CS0968"},"Custom Snack (Ryan H)","RETAIL",0,95]
["CS0969",{"$f":"TEXT(Table_Query_from_Great_Plains[[#This Row],[ITEMNMBR]],0)","v":"CS0969"},"Custom Bountiful no sausage add cheese (Tim)","RETAIL",0,128.99]
["CS0970",{"$f":"TEXT(Table_Query_from_Great_Plains[[#This Row],[ITEMNMBR]],0)","v":"CS0970"},"Custom Orchards with more fruit and no chocolate (Billie)","RETAIL",0,90]
["CS0971",{"$f":"TEXT(Table_Query_from_Great_Plains[[#This Row],[ITEMNMBR]],0)","v":"CS0971"},"Custom Choc O Lantern with SF Gum and Spider (Billie)","RETAIL",0,47.99]
["CS0972",{"$f":"TEXT(Table_Query_from_Great_Plains[[#This Row],[ITEMNMBR]],0)","v":"CS0972"},"Custom Season Sampler with cookies and chocolate (Billie)","RETAIL",0,53.99]
["CS0973",{"$f":"TEXT(Table_Query_from_Great_Plains[[#This Row],[ITEMNMBR]],0)","v":"CS0973"},"Custom Deluxe Beer BBQ - Stella (Billie)","RETAIL",1,75.989999999999995]
["CS0974",{"$f":"TEXT(Table_Query_from_Great_Plains[[#This Row],[ITEMNMBR]],0)","v":"CS0974"},"Custom Snack for Ryan Huston at Convention 100312","RETAIL",0,45]
["CS0975",{"$f":"TEXT(Table_Query_from_Great_Plains[[#This Row],[ITEMNMBR]],0)","v":"CS0975"},"Custom fruit and cookies (Anne)","RETAIL",0,67.989999999999995]
["CS0976",{"$f":"TEXT(Table_Query_from_Great_Plains[[#This Row],[ITEMNMBR]],0)","v":"CS0976"},"Custom Gluten Free Stack with Tea (Billie)","RETAIL",0,67.989999999999995]
["CS0977",{"$f":"TEXT(Table_Query_from_Great_Plains[[#This Row],[ITEMNMBR]],0)","v":"CS0977"},"Custom Moet with Tootsie Pops (Tim)","RETAIL",0,80]
["CS0978",{"$f":"TEXT(Table_Query_from_Great_Plains[[#This Row],[ITEMNMBR]],0)","v":"CS0978"},"Custom Wild Horse Trio snacks & sweets","RETAIL",1,198.99]
["CS0979",{"$f":"TEXT(Table_Query_from_Great_Plains[[#This Row],[ITEMNMBR]],0)","v":"CS0979"},"Custom Sampling Basket (Ryan F)","RETAIL",0,86.99]
["CS0980",{"$f":"TEXT(Table_Query_from_Great_Plains[[#This Row],[ITEMNMBR]],0)","v":"CS0980"},"Custom Beer BBQ with Boddingtons Pub Ale (Dena)","RETAIL",1,97.99]
["CS0981",{"$f":"TEXT(Table_Query_from_Great_Plains[[#This Row],[ITEMNMBR]],0)","v":"CS0981"},"Custom Around the World 6 pk no nuts more cheese (Billie)","RETAIL",1,99.99]
["CS0982",{"$f":"TEXT(Table_Query_from_Great_Plains[[#This Row],[ITEMNMBR]],0)","v":"CS0982"},"Custom Deluxe Breakfast & Kid Sports (Tim)","RETAIL",0,189.99]
["CS0983",{"$f":"TEXT(Table_Query_from_Great_Plains[[#This Row],[ITEMNMBR]],0)","v":"CS0983"},"Custom wine - chocolates - spa (Anne)","RETAIL",1,263.99]
["CS0984",{"$f":"TEXT(Table_Query_from_Great_Plains[[#This Row],[ITEMNMBR]],0)","v":"CS0984"},"Custom Moet - cheese- crackers- chocolates (Billie)","RETAIL",1,100]
["CS0985",{"$f":"TEXT(Table_Query_from_Great_Plains[[#This Row],[ITEMNMBR]],0)","v":"CS0985"},"Custom healthy deluxe plus fruit (Anne)","RETAIL",0,129.99]
["CS0986",{"$f":"TEXT(Table_Query_from_Great_Plains[[#This Row],[ITEMNMBR]],0)","v":"CS0986"},"Custom Bountiful plus (Anne)","RETAIL",0,140.32]
["CS0987",{"$f":"TEXT(Table_Query_from_Great_Plains[[#This Row],[ITEMNMBR]],0)","v":"CS0987"},"Custom Beer with peanuts (Doris)","RETAIL",1,50]
["CS0988",{"$f":"TEXT(Table_Query_from_Great_Plains[[#This Row],[ITEMNMBR]],0)","v":"CS0988"},"Custom Champ and Truffles with Moet and Veuve (Anne)","RETAIL",1,183.99]
["CS0989",{"$f":"TEXT(Table_Query_from_Great_Plains[[#This Row],[ITEMNMBR]],0)","v":"CS0989"},"Custom salad stack with chai and cookie brittle (Tim)","RETAIL",0,79.989999999999995]
["CS0990",{"$f":"TEXT(Table_Query_from_Great_Plains[[#This Row],[ITEMNMBR]],0)","v":"CS0990"},"Custom Cookie Sampler plus ss items (Billie)","RETAIL",0,79.989999999999995]
["CS0991",{"$f":"TEXT(Table_Query_from_Great_Plains[[#This Row],[ITEMNMBR]],0)","v":"CS0991"},"Custom KOP x's 5 (Billie)","RETAIL",0,20]
["CS0992",{"$f":"TEXT(Table_Query_from_Great_Plains[[#This Row],[ITEMNMBR]],0)","v":"CS0992"},"Custom wine and margarita basket (Billie)","RETAIL",1,100]
["CS0993",{"$f":"TEXT(Table_Query_from_Great_Plains[[#This Row],[ITEMNMBR]],0)","v":"CS0993"},"Custom Irish 6 Pack with all Guinness Draught (Anne)","RETAIL",1,78.989999999999995]
["CS0994",{"$f":"TEXT(Table_Query_from_Great_Plains[[#This Row],[ITEMNMBR]],0)","v":"CS0994"},"Custom Snack, Chocolate, Tea (Tim)","RETAIL",0,100]
["CS0995",{"$f":"TEXT(Table_Query_from_Great_Plains[[#This Row],[ITEMNMBR]],0)","v":"CS0995"},"Custom 8 Jack O Lantern Mugs (Anne)","RETAIL",0,40]
["CS0996",{"$f":"TEXT(Table_Query_from_Great_Plains[[#This Row],[ITEMNMBR]],0)","v":"CS0996"},"Custom Sample Foods (Billie)","RETAIL",0,35]
["CS0997",{"$f":"TEXT(Table_Query_from_Great_Plains[[#This Row],[ITEMNMBR]],0)","v":"CS0997"},"Customized Healthy Premium with $50 Cheesecake Factory Gift Card (Anne)","RETAIL",0,188.99]
["CS0998",{"$f":"TEXT(Table_Query_from_Great_Plains[[#This Row],[ITEMNMBR]],0)","v":"CS0998"},"Customized Estate Collection REMOVE SAUSAGE / NO RIBBON OR BOW (Anne)","RETAIL",0,179.99]
["CS0999",{"$f":"TEXT(Table_Query_from_Great_Plains[[#This Row],[ITEMNMBR]],0)","v":"CS0999"},"Custom Pumpkin Bucket with Mug and Candy (Doris)","RETAIL",0,69.989999999999995]
["CS1000",{"$f":"TEXT(Table_Query_from_Great_Plains[[#This Row],[ITEMNMBR]],0)","v":"CS1000"},"Custom Snack Premium with 3 Pedialyte (Dena)","RETAIL",0,153.99]
["CS1001",{"$f":"TEXT(Table_Query_from_Great_Plains[[#This Row],[ITEMNMBR]],0)","v":"CS1001"},"Custom Gluten Free with White Wine (Doris)","RETAIL",1,93.99]
["CS1002",{"$f":"TEXT(Table_Query_from_Great_Plains[[#This Row],[ITEMNMBR]],0)","v":"CS1002"},"Custom Thank You -mish mosh - (Anne)","RETAIL",1,99.99]
["CS1003",{"$f":"TEXT(Table_Query_from_Great_Plains[[#This Row],[ITEMNMBR]],0)","v":"CS1003"},"Custom seasons sampler  4401 plus ravenswood red (Anne)","RETAIL",0,63.99]
["CS1004",{"$f":"TEXT(Table_Query_from_Great_Plains[[#This Row],[ITEMNMBR]],0)","v":"CS1004"},"Custom Snack Deluxe with Fruit (Anne)","RETAIL",0,139]
["CS1005",{"$f":"TEXT(Table_Query_from_Great_Plains[[#This Row],[ITEMNMBR]],0)","v":"CS1005"},"Custom Snack plus black licorice (Doris)","RETAIL",0,128.99]
["CS1006",{"$f":"TEXT(Table_Query_from_Great_Plains[[#This Row],[ITEMNMBR]],0)","v":"CS1006"},"Custom 4408 remove meats add more fruit  (Doris)","RETAIL",0,180]
["CS1007",{"$f":"TEXT(Table_Query_from_Great_Plains[[#This Row],[ITEMNMBR]],0)","v":"CS1007"},"Custom 4046 plus fruit (Billie)","RETAIL",0,89.99]
["CS1008",{"$f":"TEXT(Table_Query_from_Great_Plains[[#This Row],[ITEMNMBR]],0)","v":"CS1008"},"Custom nostalgic candy in halloween pumpkin (Billie)","RETAIL",0,38.99]
["CS1009",{"$f":"TEXT(Table_Query_from_Great_Plains[[#This Row],[ITEMNMBR]],0)","v":"CS1009"},"Custom bella italian with wildhorse merlot (Tim)","RETAIL",1,199.99]
["CS1010",{"$f":"TEXT(Table_Query_from_Great_Plains[[#This Row],[ITEMNMBR]],0)","v":"CS1010"},"custom care package  (Anne)","RETAIL",0,48.99]
["CS1011",{"$f":"TEXT(Table_Query_from_Great_Plains[[#This Row],[ITEMNMBR]],0)","v":"CS1011"},"Custom fruit & organic (Anne)","RETAIL",0,78.989999999999995]
["CS1012",{"$f":"TEXT(Table_Query_from_Great_Plains[[#This Row],[ITEMNMBR]],0)","v":"CS1012"},"Custom 5206 plus 2 gallon popcorn tin (Billie)","RETAIL",0,50]
["CS1013",{"$f":"TEXT(Table_Query_from_Great_Plains[[#This Row],[ITEMNMBR]],0)","v":"CS1013"},"Custom wrigleys candy plus ice cream stack (Joy)","RETAIL",0,72.989999999999995]
["CS1014",{"$f":"TEXT(Table_Query_from_Great_Plains[[#This Row],[ITEMNMBR]],0)","v":"CS1014"},"Custom Xmas Snack in neutral colors (Billie)","RETAIL",0,59.99]
["CS1015",{"$f":"TEXT(Table_Query_from_Great_Plains[[#This Row],[ITEMNMBR]],0)","v":"CS1015"},"Custom Micro 6 with fruit and white wine (Joy)","RETAIL",1,104.99]
["CS1016",{"$f":"TEXT(Table_Query_from_Great_Plains[[#This Row],[ITEMNMBR]],0)","v":"CS1016"},"Custom Cookies & Cashews (Doris)","RETAIL",0,52.99]
["CS1017",{"$f":"TEXT(Table_Query_from_Great_Plains[[#This Row],[ITEMNMBR]],0)","v":"CS1017"},"Custom Supreme Popcorn Tin (Salt Choc / Smores / Bday Cake) (Tim)","RETAIL",0,59.99]
["CS1018",{"$f":"TEXT(Table_Query_from_Great_Plains[[#This Row],[ITEMNMBR]],0)","v":"CS1018"},"Custom Supreme Popcorn Tin (Maple / Coconut / Cookies Cream) (Tim)","RETAIL",0,59.99]
["CS1019",{"$f":"TEXT(Table_Query_from_Great_Plains[[#This Row],[ITEMNMBR]],0)","v":"CS1019"},"Custom Seasoned Popcorn Tin (Bacon Ched / Salt Vin / Cinnamon) (Tim)","RETAIL",0,49.99]
["CS1020",{"$f":"TEXT(Table_Query_from_Great_Plains[[#This Row],[ITEMNMBR]],0)","v":"CS1020"},"Custom Seasoned Popcorn Tin (Dill / Cheesy Ched / Too Hot) (Tim)","RETAIL",0,49.99]
["CS1021",{"$f":"TEXT(Table_Query_from_Great_Plains[[#This Row],[ITEMNMBR]],0)","v":"CS1021"},"Custom brownie sampler (R. Fisher)","RETAIL",0,34.99]
["CS1022",{"$f":"TEXT(Table_Query_from_Great_Plains[[#This Row],[ITEMNMBR]],0)","v":"CS1022"},"Custom snack classic plus dog treats (Anne)","RETAIL",0,77.989999999999995]
["CS1023",{"$f":"TEXT(Table_Query_from_Great_Plains[[#This Row],[ITEMNMBR]],0)","v":"CS1023"},"Custom Kosher with blue piggy bank (Jen)","RETAIL",0,126.99]
["CS1024",{"$f":"TEXT(Table_Query_from_Great_Plains[[#This Row],[ITEMNMBR]],0)","v":"CS1024"},"Custom birthday care pkg remove some things add 4753 (Anne)","RETAIL",0,83.99]
["CS1025",{"$f":"TEXT(Table_Query_from_Great_Plains[[#This Row],[ITEMNMBR]],0)","v":"CS1025"},"Custom Bountiful Harvest no sausage (Anne)","RETAIL",0,119.99]
["CS1026",{"$f":"TEXT(Table_Query_from_Great_Plains[[#This Row],[ITEMNMBR]],0)","v":"CS1026"},"Custom 4108 and 4202 stack no basket (Jen)","RETAIL",0,80]
["CS1027",{"$f":"TEXT(Table_Query_from_Great_Plains[[#This Row],[ITEMNMBR]],0)","v":"CS1027"},"Custom Estate remove the sausage add in cookies (Anne)","RETAIL",0,177.99]
["CS1028",{"$f":"TEXT(Table_Query_from_Great_Plains[[#This Row],[ITEMNMBR]],0)","v":"CS1028"},"Custom $350 Snack Basket (Doris)","RETAIL",0,350]
["CS1029",{"$f":"TEXT(Table_Query_from_Great_Plains[[#This Row],[ITEMNMBR]],0)","v":"CS1029"},"Custom 4802 plus items from 5608 in a bucket (Jen)","RETAIL",0,97.99]
["CS1030",{"$f":"TEXT(Table_Query_from_Great_Plains[[#This Row],[ITEMNMBR]],0)","v":"CS1030"},"Custom Kosher - Orchard Abundance (Anne)","RETAIL",0,71.989999999999995]
["CS1031",{"$f":"TEXT(Table_Query_from_Great_Plains[[#This Row],[ITEMNMBR]],0)","v":"CS1031"},"Custom Chocolate Classic with Junk Food and Candy (Joy)","RETAIL",0,99.99]
["CS1032",{"$f":"TEXT(Table_Query_from_Great_Plains[[#This Row],[ITEMNMBR]],0)","v":"CS1032"},"Custom fruit & gluten free items (Joy)","RETAIL",0,89.99]
["CS1033",{"$f":"TEXT(Table_Query_from_Great_Plains[[#This Row],[ITEMNMBR]],0)","v":"CS1033"},"Custom 5086 no gouda, add cheddar (Jen)","RETAIL",1,82.99]
["CS1034",{"$f":"TEXT(Table_Query_from_Great_Plains[[#This Row],[ITEMNMBR]],0)","v":"CS1034"},"Custom Irish Beer NO NUTS, add pepperoni (Joy)","RETAIL",1,77.989999999999995]
["CS1035",{"$f":"TEXT(Table_Query_from_Great_Plains[[#This Row],[ITEMNMBR]],0)","v":"CS1035"},"Custom more chocolates to pass out (Billie)","RETAIL",0,75]
["CS1036",{"$f":"TEXT(Table_Query_from_Great_Plains[[#This Row],[ITEMNMBR]],0)","v":"CS1036"},"Custom treats for the young broadway star (Jen)","RETAIL",0,129.99]
["CS1037",{"$f":"TEXT(Table_Query_from_Great_Plains[[#This Row],[ITEMNMBR]],0)","v":"CS1037"},"Custom white wine, gourmet foods, cheese, cookies, candies & fruit (Dena)","RETAIL",1,300]
["CS1038",{"$f":"TEXT(Table_Query_from_Great_Plains[[#This Row],[ITEMNMBR]],0)","v":"CS1038"},"Custom Beer, Wine, Candy (Jen)","RETAIL",1,100]
["CS1039",{"$f":"TEXT(Table_Query_from_Great_Plains[[#This Row],[ITEMNMBR]],0)","v":"CS1039"},"Custom Itlalian and Popcorn (Joy)","RETAIL",0,127.99]
["CS1040",{"$f":"TEXT(Table_Query_from_Great_Plains[[#This Row],[ITEMNMBR]],0)","v":"CS1040"},"Custom Heineken & Friends -- add more Heineken (Jen)","RETAIL",1,99.99]
["CS1041",{"$f":"TEXT(Table_Query_from_Great_Plains[[#This Row],[ITEMNMBR]],0)","v":"CS1041"},"Custom 5406 Signature remove sausage add crackers and fruit (Anne)","RETAIL",0,299.99]
["CS1042",{"$f":"TEXT(Table_Query_from_Great_Plains[[#This Row],[ITEMNMBR]],0)","v":"CS1042"},"Custom 4056 signature with 2 bottles of Moet (Dena)","RETAIL",1,353.99]
["CS1043",{"$f":"TEXT(Table_Query_from_Great_Plains[[#This Row],[ITEMNMBR]],0)","v":"CS1043"},"Custom Bloody mary Basket in wine duo (Ryan F)","RETAIL",1,79.989999999999995]
["CS1044",{"$f":"TEXT(Table_Query_from_Great_Plains[[#This Row],[ITEMNMBR]],0)","v":"CS1044"},"Custom Cakebread Vineyard with Chocolate (Joy)","RETAIL",1,452.99]
["CS1045",{"$f":"TEXT(Table_Query_from_Great_Plains[[#This Row],[ITEMNMBR]],0)","v":"CS1045"},"Custom combo (4024 & 5070) -  Get Well basket (Jen)","RETAIL",0,226.99]
["CS1046",{"$f":"TEXT(Table_Query_from_Great_Plains[[#This Row],[ITEMNMBR]],0)","v":"CS1046"},"Custom for the family - fruit - snacks - girl things - wine - and baby to be","RETAIL",1,160]
["CS1047",{"$f":"TEXT(Table_Query_from_Great_Plains[[#This Row],[ITEMNMBR]],0)","v":"CS1047"},"Custom Cheese, Crackers, Sausage, Nuts (Jen)","RETAIL",0,65.239999999999995]
["CS1048",{"$f":"TEXT(Table_Query_from_Great_Plains[[#This Row],[ITEMNMBR]],0)","v":"CS1048"},"Custom 4021 with Golf Items (Jen)","RETAIL",0,90.99]
["CS1049",{"$f":"TEXT(Table_Query_from_Great_Plains[[#This Row],[ITEMNMBR]],0)","v":"CS1049"},"Custom Pretzels and Mustard (Jen)","RETAIL",0,90.99]
["CS1050",{"$f":"TEXT(Table_Query_from_Great_Plains[[#This Row],[ITEMNMBR]],0)","v":"CS1050"},"Custom A&E Coffee Roastery Mini","RETAIL",0,14.7]
["CS1051",{"$f":"TEXT(Table_Query_from_Great_Plains[[#This Row],[ITEMNMBR]],0)","v":"CS1051"},"Custom A&E Coffee Roastery  - single with overhandle","RETAIL",0,29.4]
["CS1052",{"$f":"TEXT(Table_Query_from_Great_Plains[[#This Row],[ITEMNMBR]],0)","v":"CS1052"},"Custom A&E Coffee Roastery Medium","RETAIL",0,41.3]
["CS1053",{"$f":"TEXT(Table_Query_from_Great_Plains[[#This Row],[ITEMNMBR]],0)","v":"CS1053"},"Custom Snack classic add water ( Billie & Dena)","RETAIL",0,69.989999999999995]
["CS1054",{"$f":"TEXT(Table_Query_from_Great_Plains[[#This Row],[ITEMNMBR]],0)","v":"CS1054"},"Custom heineken cans plus snacks (Doris)","RETAIL",1,56]
["CS1055",{"$f":"TEXT(Table_Query_from_Great_Plains[[#This Row],[ITEMNMBR]],0)","v":"CS1055"},"Custom 4502 add oysters and pistachios (Joy)","RETAIL",1,115]
["CS1056",{"$f":"TEXT(Table_Query_from_Great_Plains[[#This Row],[ITEMNMBR]],0)","v":"CS1056"},"Custom 5089 4 bottles of cabernet sauvingon (Doris)","RETAIL",1,196.99]
["CS1057",{"$f":"TEXT(Table_Query_from_Great_Plains[[#This Row],[ITEMNMBR]],0)","v":"CS1057"},"Custom gluten free (RFisher)","RETAIL",0,50]
["CS1058",{"$f":"TEXT(Table_Query_from_Great_Plains[[#This Row],[ITEMNMBR]],0)","v":"CS1058"},"Custom fruit plus... (Anne)","RETAIL",0,100]
["CS1059",{"$f":"TEXT(Table_Query_from_Great_Plains[[#This Row],[ITEMNMBR]],0)","v":"CS1059"},"Custom Dairy Free Happy Holidays (Anne)","RETAIL",0,57.99]
["CS1060",{"$f":"TEXT(Table_Query_from_Great_Plains[[#This Row],[ITEMNMBR]],0)","v":"CS1060"},"Custom Healthy with a craving for Reese's Basket (Billie)","RETAIL",0,50]
["CS1061",{"$f":"TEXT(Table_Query_from_Great_Plains[[#This Row],[ITEMNMBR]],0)","v":"CS1061"},"Custom snacks (Tim)","RETAIL",0,66.989999999999995]
["CS1062",{"$f":"TEXT(Table_Query_from_Great_Plains[[#This Row],[ITEMNMBR]],0)","v":"CS1062"},"Custom 4071 with pretzels and potato sticks (Billie)","RETAIL",0,84.99]
["CS1063",{"$f":"TEXT(Table_Query_from_Great_Plains[[#This Row],[ITEMNMBR]],0)","v":"CS1063"},"Custom gluten free (Billie)","RETAIL",0,85.99]
["CS1064",{"$f":"TEXT(Table_Query_from_Great_Plains[[#This Row],[ITEMNMBR]],0)","v":"CS1064"},"Custom junk food care pkg plus ...... (Anne)","RETAIL",0,79.84]
["CS1065",{"$f":"TEXT(Table_Query_from_Great_Plains[[#This Row],[ITEMNMBR]],0)","v":"CS1065"},"Custom Relaxation Spa and Chocolate (Jen)","RETAIL",0,109.26]
["CS1066",{"$f":"TEXT(Table_Query_from_Great_Plains[[#This Row],[ITEMNMBR]],0)","v":"CS1066"},"Custom christmas classic - swap basket for tin (Jen - Dena)","RETAIL",0,66.989999999999995]
["CS1067",{"$f":"TEXT(Table_Query_from_Great_Plains[[#This Row],[ITEMNMBR]],0)","v":"CS1067"},"Custom 5090 slight variation (Billie)","RETAIL",1,109]
["CS1068",{"$f":"TEXT(Table_Query_from_Great_Plains[[#This Row],[ITEMNMBR]],0)","v":"CS1068"},"Custom Happy Holidays Crate with Ravenswood Red and snacks - (Anne & Doris)","RETAIL",1,74.88]
["CS1069",{"$f":"TEXT(Table_Query_from_Great_Plains[[#This Row],[ITEMNMBR]],0)","v":"CS1069"},"Custom Midnight Snack with some more items (Sam)","RETAIL",0,50]
["CS1070",{"$f":"TEXT(Table_Query_from_Great_Plains[[#This Row],[ITEMNMBR]],0)","v":"CS1070"},"Custom 5215 add a Santa hat (Anne)","RETAIL",0,93.99]
["CS1071",{"$f":"TEXT(Table_Query_from_Great_Plains[[#This Row],[ITEMNMBR]],0)","v":"CS1071"},"Custom 5106 plus Ravenswood & Catena (joy)","RETAIL",1,181.99]
["CS1072",{"$f":"TEXT(Table_Query_from_Great_Plains[[#This Row],[ITEMNMBR]],0)","v":"CS1072"},"Custom Veuve - snacks and sweets  (Jen)","RETAIL",1,152.99]
["CS1073",{"$f":"TEXT(Table_Query_from_Great_Plains[[#This Row],[ITEMNMBR]],0)","v":"CS1073"},"Custom cider, chocolates, & strawberry delight with gold ribbons (RHuston)","RETAIL",0,231.99]
["CS1074",{"$f":"TEXT(Table_Query_from_Great_Plains[[#This Row],[ITEMNMBR]],0)","v":"CS1074"},"Custom holiday sweets deluxe (Billie)","RETAIL",0,109.99]
["CS1075",{"$f":"TEXT(Table_Query_from_Great_Plains[[#This Row],[ITEMNMBR]],0)","v":"CS1075"},"Custom holiday sweets - 250  (Billie)","RETAIL",0,250]
["CS1076",{"$f":"TEXT(Table_Query_from_Great_Plains[[#This Row],[ITEMNMBR]],0)","v":"CS1076"},"Custom Sugar & Spice and Everything Nice... Baby Girl  (RFisher)","RETAIL",0,92.99]
["CS1077",{"$f":"TEXT(Table_Query_from_Great_Plains[[#This Row],[ITEMNMBR]],0)","v":"CS1077"},"Custom 5095, remove meat, add 6 fruit (Joy)","RETAIL",0,94.99]
["CS1078",{"$f":"TEXT(Table_Query_from_Great_Plains[[#This Row],[ITEMNMBR]],0)","v":"CS1078"},"Custom 5022, no meat, 3 fruit, biscuits, granola (Joy)","RETAIL",0,91.99]
["CS1079",{"$f":"TEXT(Table_Query_from_Great_Plains[[#This Row],[ITEMNMBR]],0)","v":"CS1079"},"Custom 5107 including all three champagnes (Jen)","RETAIL",1,329.99]
["CS1080",{"$f":"TEXT(Table_Query_from_Great_Plains[[#This Row],[ITEMNMBR]],0)","v":"CS1080"},"Custom 5107 including two champagnes (Jen)","RETAIL",1,291.99]
["CS1081",{"$f":"TEXT(Table_Query_from_Great_Plains[[#This Row],[ITEMNMBR]],0)","v":"CS1081"},"Custom Golf items - 4320- plus snacks and sweets in a basket  (Billie)","RETAIL",0,150]
["CS1082",{"$f":"TEXT(Table_Query_from_Great_Plains[[#This Row],[ITEMNMBR]],0)","v":"CS1082"},"Custom Gluten Free Kosher (Dena)","RETAIL",0,200]
["CS1083",{"$f":"TEXT(Table_Query_from_Great_Plains[[#This Row],[ITEMNMBR]],0)","v":"CS1083"},"Custom 5230 - no cheese or meats - (Anne)","RETAIL",0,149.99]
["CS1084",{"$f":"TEXT(Table_Query_from_Great_Plains[[#This Row],[ITEMNMBR]],0)","v":"CS1084"},"Custom Red & White Wine (Dena)","RETAIL",1,150]
["CS1085",{"$f":"TEXT(Table_Query_from_Great_Plains[[#This Row],[ITEMNMBR]],0)","v":"CS1085"},"Custom **Merry Christmas**  - care pkg (Derek)","RETAIL",0,67.989999999999995]
["CS1086",{"$f":"TEXT(Table_Query_from_Great_Plains[[#This Row],[ITEMNMBR]],0)","v":"CS1086"},"Custom **Merry Christmas**   (Derek)","RETAIL",1,85.99]
["CS1087",{"$f":"TEXT(Table_Query_from_Great_Plains[[#This Row],[ITEMNMBR]],0)","v":"CS1087"},"Custom Christmas Present for Jill","RETAIL",0,85.99]
["CS1088",{"$f":"TEXT(Table_Query_from_Great_Plains[[#This Row],[ITEMNMBR]],0)","v":"CS1088"},"Custom Heineken Light beer bucket (Doris)","RETAIL",1,89.99]
["CS1089",{"$f":"TEXT(Table_Query_from_Great_Plains[[#This Row],[ITEMNMBR]],0)","v":"CS1089"},"Custom for lisa","RETAIL",0,87.99]
["CS1090",{"$f":"TEXT(Table_Query_from_Great_Plains[[#This Row],[ITEMNMBR]],0)","v":"CS1090"},"Custom Large POP order (Anne)","RETAIL",0,379.99]
["CS1091",{"$f":"TEXT(Table_Query_from_Great_Plains[[#This Row],[ITEMNMBR]],0)","v":"CS1091"},"Custom Light Beer Bucket (Anne)","RETAIL",1,72.989999999999995]
["CS1092",{"$f":"TEXT(Table_Query_from_Great_Plains[[#This Row],[ITEMNMBR]],0)","v":"CS1092"},"Custom for Zubi - Spa and Gourmet (Ryan H.)","RETAIL",0,292.99]
["CS1093",{"$f":"TEXT(Table_Query_from_Great_Plains[[#This Row],[ITEMNMBR]],0)","v":"CS1093"},"Custom Red Wine & Chocolate Duo in Basket (Anne)","RETAIL",1,124.99]
["CS1094",{"$f":"TEXT(Table_Query_from_Great_Plains[[#This Row],[ITEMNMBR]],0)","v":"CS1094"},"Custom Popcorn Tin (empty) (Dena)","RETAIL",0,47.94]
["CS1095",{"$f":"TEXT(Table_Query_from_Great_Plains[[#This Row],[ITEMNMBR]],0)","v":"CS1095"},"Custom 5215 - Ireland - (Anne)","RETAIL",0,79.989999999999995]
["CS1096",{"$f":"TEXT(Table_Query_from_Great_Plains[[#This Row],[ITEMNMBR]],0)","v":"CS1096"},"Custom 5215 - Mexico - (Anne)","RETAIL",0,79.989999999999995]
["CS1097",{"$f":"TEXT(Table_Query_from_Great_Plains[[#This Row],[ITEMNMBR]],0)","v":"CS1097"},"Custom 4404 change out the chocolates (Anne)","RETAIL",0,78.989999999999995]
["CS1098",{"$f":"TEXT(Table_Query_from_Great_Plains[[#This Row],[ITEMNMBR]],0)","v":"CS1098"},"Custom writing breaks without distractions plus candy (Tim)","RETAIL",0,87.99]
["CS1099",{"$f":"TEXT(Table_Query_from_Great_Plains[[#This Row],[ITEMNMBR]],0)","v":"CS1099"},"Custom coffee tea & cookies (Jen)","RETAIL",0,79.989999999999995]
["CS1100",{"$f":"TEXT(Table_Query_from_Great_Plains[[#This Row],[ITEMNMBR]],0)","v":"CS1100"},"Custom Hospital Physician Partners - Sweets Classic - change basket - (Tim)","RETAIL",0,68.95]
["CS1101",{"$f":"TEXT(Table_Query_from_Great_Plains[[#This Row],[ITEMNMBR]],0)","v":"CS1101"},"Custom Cookies - (Tim)","RETAIL",0,25]
["CS1102",{"$f":"TEXT(Table_Query_from_Great_Plains[[#This Row],[ITEMNMBR]],0)","v":"CS1102"},"Custom Natures Mix Medley (Jen)","RETAIL",0,39.99]
["CS1103",{"$f":"TEXT(Table_Query_from_Great_Plains[[#This Row],[ITEMNMBR]],0)","v":"CS1103"},"Custom Bud Light (Billie)","RETAIL",1,139.99]
["CS1104",{"$f":"TEXT(Table_Query_from_Great_Plains[[#This Row],[ITEMNMBR]],0)","v":"CS1104"},"Custom 5082  plus a coke (Anne)","RETAIL",0,146.99]
["CS1105",{"$f":"TEXT(Table_Query_from_Great_Plains[[#This Row],[ITEMNMBR]],0)","v":"CS1105"},"Custom Cabernet cheese crackers -  picnic style (Dena)","RETAIL",1,267.99]
["CS1106",{"$f":"TEXT(Table_Query_from_Great_Plains[[#This Row],[ITEMNMBR]],0)","v":"CS1106"},"Custom Organic Premium plus extras(Dena)","RETAIL",0,227.99]
["CS1107",{"$f":"TEXT(Table_Query_from_Great_Plains[[#This Row],[ITEMNMBR]],0)","v":"CS1107"},"Custom Cabernet crackers cheese and chocolates (Jen)","RETAIL",1,96.99]
["CS1108",{"$f":"TEXT(Table_Query_from_Great_Plains[[#This Row],[ITEMNMBR]],0)","v":"CS1108"},"Custom Coors Light 24 - bottles - Beer-BQ (Doris)","RETAIL",1,111.99]
["CS1109",{"$f":"TEXT(Table_Query_from_Great_Plains[[#This Row],[ITEMNMBR]],0)","v":"CS1109"},"Custom Snack Classic with fruit for Tim","RETAIL",0,88.99]
["CS1110",{"$f":"TEXT(Table_Query_from_Great_Plains[[#This Row],[ITEMNMBR]],0)","v":"CS1110"},"Custom Orchard with Smoked Gouda and Jam for Jen","RETAIL",0,99.99]
["CS1111",{"$f":"TEXT(Table_Query_from_Great_Plains[[#This Row],[ITEMNMBR]],0)","v":"CS1111"},"Custom Mendocino Crate for Tim","RETAIL",0,189.95]
["CS11111",{"$f":"TEXT(Table_Query_from_Great_Plains[[#This Row],[ITEMNMBR]],0)","v":"CS11111"},"Custom - Test with 7 Digits","RETAIL",0,0]
["CS1112",{"$f":"TEXT(Table_Query_from_Great_Plains[[#This Row],[ITEMNMBR]],0)","v":"CS1112"},"4803 with a bottle of Ravenswood for Jen","RETAIL",1,72.989999999999995]
["CS1113",{"$f":"TEXT(Table_Query_from_Great_Plains[[#This Row],[ITEMNMBR]],0)","v":"CS1113"},"Custom Heiniken with two chips for Jen","RETAIL",1,85.99]
["CS1114",{"$f":"TEXT(Table_Query_from_Great_Plains[[#This Row],[ITEMNMBR]],0)","v":"CS1114"},"Custom Get Well Basket with Gatorade for Jen","RETAIL",0,57.99]
["CS1115",{"$f":"TEXT(Table_Query_from_Great_Plains[[#This Row],[ITEMNMBR]],0)","v":"CS1115"},"Custom Bountiful remove Salmon add choc for Jen","RETAIL",0,125]
["CS1116",{"$f":"TEXT(Table_Query_from_Great_Plains[[#This Row],[ITEMNMBR]],0)","v":"CS1116"},"Custom 4405 no cider for Jen","RETAIL",0,95.99]
["CS1117",{"$f":"TEXT(Table_Query_from_Great_Plains[[#This Row],[ITEMNMBR]],0)","v":"CS1117"},"Custom Baby Boy with piggy bank for Jen","RETAIL",0,126.99]
["CS1118",{"$f":"TEXT(Table_Query_from_Great_Plains[[#This Row],[ITEMNMBR]],0)","v":"CS1118"},"Custom Fruit an Choc for Anne","RETAIL",0,149.99]
["CS1119",{"$f":"TEXT(Table_Query_from_Great_Plains[[#This Row],[ITEMNMBR]],0)","v":"CS1119"},"Custom Birthday care pkg with wine for Doris","RETAIL",0,222.99]
["CS1120",{"$f":"TEXT(Table_Query_from_Great_Plains[[#This Row],[ITEMNMBR]],0)","v":"CS1120"},"Custom A Prince for a Princess (Anne / Dena)","RETAIL",0,49.99]
["CS1121",{"$f":"TEXT(Table_Query_from_Great_Plains[[#This Row],[ITEMNMBR]],0)","v":"CS1121"},"Custom 4215 (Brian)","RETAIL",0,124.99]
["CS1122",{"$f":"TEXT(Table_Query_from_Great_Plains[[#This Row],[ITEMNMBR]],0)","v":"CS1122"},"Custom chocolate handouts (Billie)","RETAIL",0,75]
["CS1123",{"$f":"TEXT(Table_Query_from_Great_Plains[[#This Row],[ITEMNMBR]],0)","v":"CS1123"},"Custom bountiful  - no sausage! (Jen)","RETAIL",0,124.99]
["CS1124",{"$f":"TEXT(Table_Query_from_Great_Plains[[#This Row],[ITEMNMBR]],0)","v":"CS1124"},"Custom get well - soup (Jen)","RETAIL",0,61.99]
["CS1125",{"$f":"TEXT(Table_Query_from_Great_Plains[[#This Row],[ITEMNMBR]],0)","v":"CS1125"},"Custom - Healthy - Fruit, Cider and Snacks (Doris)","RETAIL",0,117.99]
["CS1126",{"$f":"TEXT(Table_Query_from_Great_Plains[[#This Row],[ITEMNMBR]],0)","v":"CS1126"},"Custom - microbrew 3 pk swap beer (Doris)","RETAIL",1,46.99]
["CS1127",{"$f":"TEXT(Table_Query_from_Great_Plains[[#This Row],[ITEMNMBR]],0)","v":"CS1127"},"Custom - natures mixed medley and crispy cracker crunch purchase (Dena)","RETAIL",0,61.99]
["CS1128",{"$f":"TEXT(Table_Query_from_Great_Plains[[#This Row],[ITEMNMBR]],0)","v":"CS1128"},"Custom - Healthy Deluxe with added fruits and snacks (Jen)","RETAIL",0,139.99]
["CS1129",{"$f":"TEXT(Table_Query_from_Great_Plains[[#This Row],[ITEMNMBR]],0)","v":"CS1129"},"Custom - miller 64 pretzels and chocolates (Anne)","RETAIL",1,89.99]
["CS1130",{"$f":"TEXT(Table_Query_from_Great_Plains[[#This Row],[ITEMNMBR]],0)","v":"CS1130"},"Custom - apples, cookies and chocolates (Anne)","RETAIL",0,50.99]
["CS1131",{"$f":"TEXT(Table_Query_from_Great_Plains[[#This Row],[ITEMNMBR]],0)","v":"CS1131"},"Custom - 6pk microwbrew no jerkey - (Dena)","RETAIL",1,73.989999999999995]
["CS1132",{"$f":"TEXT(Table_Query_from_Great_Plains[[#This Row],[ITEMNMBR]],0)","v":"CS1132"},"Custom - for mom & dads anniversary (Jiffy)","RETAIL",1,193.99]
["CS1133",{"$f":"TEXT(Table_Query_from_Great_Plains[[#This Row],[ITEMNMBR]],0)","v":"CS1133"},"Custom - Birthday - (Billie)","RETAIL",1,148.99]
["CS1134",{"$f":"TEXT(Table_Query_from_Great_Plains[[#This Row],[ITEMNMBR]],0)","v":"CS1134"},"Custom - Be My Valentine plus Cabernet (Anne)","RETAIL",1,171.99]
["CS1135",{"$f":"TEXT(Table_Query_from_Great_Plains[[#This Row],[ITEMNMBR]],0)","v":"CS1135"},"Custom - Bountiful no fruit (Billie)","RETAIL",0,127.99]
["CS1136",{"$f":"TEXT(Table_Query_from_Great_Plains[[#This Row],[ITEMNMBR]],0)","v":"CS1136"},"Custom Relaxation Therapy Deluxe","RETAIL",0,89.99]
["CS1137",{"$f":"TEXT(Table_Query_from_Great_Plains[[#This Row],[ITEMNMBR]],0)","v":"CS1137"},"Custom Hole in One Remove Coffee Add White Choc (Jen)","RETAIL",0,79.989999999999995]
["CS1138",{"$f":"TEXT(Table_Query_from_Great_Plains[[#This Row],[ITEMNMBR]],0)","v":"CS1138"},"Custom Nature's Picnic with Sparkling Cider","RETAIL",0,94.99]
["CS1139",{"$f":"TEXT(Table_Query_from_Great_Plains[[#This Row],[ITEMNMBR]],0)","v":"CS1139"},"Custom Valentine Basket Donation (Dena)","RETAIL",0,70]
["CS1140",{"$f":"TEXT(Table_Query_from_Great_Plains[[#This Row],[ITEMNMBR]],0)","v":"CS1140"},"Custom 4081 with custom ribbons (Dena)","RETAIL",0,86.99]
["CS1141",{"$f":"TEXT(Table_Query_from_Great_Plains[[#This Row],[ITEMNMBR]],0)","v":"CS1141"},"Custom Candy Basket (Anne)","RETAIL",0,39.99]
["CS1142",{"$f":"TEXT(Table_Query_from_Great_Plains[[#This Row],[ITEMNMBR]],0)","v":"CS1142"},"Custom Valentine Care Package in basket","RETAIL",0,84.99]
["CS1143",{"$f":"TEXT(Table_Query_from_Great_Plains[[#This Row],[ITEMNMBR]],0)","v":"CS1143"},"Custom Cookies, Crackers, CHocolates (Dena)","RETAIL",0,49.99]
["CS1144",{"$f":"TEXT(Table_Query_from_Great_Plains[[#This Row],[ITEMNMBR]],0)","v":"CS1144"},"Custom 6252","RETAIL",0,59.99]
["CS1145",{"$f":"TEXT(Table_Query_from_Great_Plains[[#This Row],[ITEMNMBR]],0)","v":"CS1145"},"Custom -- Spa Premium -- add Dark Chocolates (Anne)","RETAIL",0,154.99]
["CS1146",{"$f":"TEXT(Table_Query_from_Great_Plains[[#This Row],[ITEMNMBR]],0)","v":"CS1146"},"Custom -- Bountiful -- no sausage -- add another salmon (Billie)","RETAIL",0,125.99]
["CS1147",{"$f":"TEXT(Table_Query_from_Great_Plains[[#This Row],[ITEMNMBR]],0)","v":"CS1147"},"Custom -- bud light 6pk beer bucket (Anne)","RETAIL",1,83.99]
["CS1148",{"$f":"TEXT(Table_Query_from_Great_Plains[[#This Row],[ITEMNMBR]],0)","v":"CS1148"},"Custom -- mens travel minus the tote -- spa & snacks in a basket (Jen)","RETAIL",0,69.989999999999995]
["CS1149",{"$f":"TEXT(Table_Query_from_Great_Plains[[#This Row],[ITEMNMBR]],0)","v":"CS1149"},"Custom -- Valentines Fruit & Candy (Jason)","RETAIL",0,50]
["CS1150",{"$f":"TEXT(Table_Query_from_Great_Plains[[#This Row],[ITEMNMBR]],0)","v":"CS1150"},"Custom -- Mini Variety (Anne)","RETAIL",0,159.99]
["CS1151",{"$f":"TEXT(Table_Query_from_Great_Plains[[#This Row],[ITEMNMBR]],0)","v":"CS1151"},"Custom NUT FREE (Doris)","RETAIL",0,79.989999999999995]
["CS1152",{"$f":"TEXT(Table_Query_from_Great_Plains[[#This Row],[ITEMNMBR]],0)","v":"CS1152"},"Custom 4509 with 2 Stella and 2 Sam Regular (Jen)","RETAIL",1,79.989999999999995]
["CS1153",{"$f":"TEXT(Table_Query_from_Great_Plains[[#This Row],[ITEMNMBR]],0)","v":"CS1153"},"Custom Peanut M&M Valentine (Dena)","RETAIL",0,99.99]
["CS1154",{"$f":"TEXT(Table_Query_from_Great_Plains[[#This Row],[ITEMNMBR]],0)","v":"CS1154"},"Custom 2 Gallon Traditional with Teddy (Mike)","RETAIL",0,54.99]
["CS1155",{"$f":"TEXT(Table_Query_from_Great_Plains[[#This Row],[ITEMNMBR]],0)","v":"CS1155"},"Custom **xoxo Valentine** (Dena)","RETAIL",0,49.99]
["CS1156",{"$f":"TEXT(Table_Query_from_Great_Plains[[#This Row],[ITEMNMBR]],0)","v":"CS1156"},"Custom -- Coors Light Beer BBQ (Jen)","RETAIL",1,176.99]
["CS1157",{"$f":"TEXT(Table_Query_from_Great_Plains[[#This Row],[ITEMNMBR]],0)","v":"CS1157"},"Custom -- Italian with two red wines & cheese (Jen)","RETAIL",0,150]
["CS1158",{"$f":"TEXT(Table_Query_from_Great_Plains[[#This Row],[ITEMNMBR]],0)","v":"CS1158"},"Custom -- Bud Select Beer-BQ add choc covered nuts (Dena)","RETAIL",1,75.989999999999995]
["CS1159",{"$f":"TEXT(Table_Query_from_Great_Plains[[#This Row],[ITEMNMBR]],0)","v":"CS1159"},"Custom -- Breakfast @ Tiffanys -- (Tim)","RETAIL",1,499.99]
["CS1160",{"$f":"TEXT(Table_Query_from_Great_Plains[[#This Row],[ITEMNMBR]],0)","v":"CS1160"},"Custom --Chocolate Stack -- items specific (Anne)","RETAIL",0,39.99]
["CS1161",{"$f":"TEXT(Table_Query_from_Great_Plains[[#This Row],[ITEMNMBR]],0)","v":"CS1161"},"Custom -- Popcorn -- (Billie)","RETAIL",0,100]
["CS1162",{"$f":"TEXT(Table_Query_from_Great_Plains[[#This Row],[ITEMNMBR]],0)","v":"CS1162"},"Custom Kosher, Gluten Free and Diary Free for Doris","RETAIL",0,97.99]
["CS1163",{"$f":"TEXT(Table_Query_from_Great_Plains[[#This Row],[ITEMNMBR]],0)","v":"CS1163"},"Custom beer bucket doubled beers -- (Billie)","RETAIL",1,86.99]
["CS1164",{"$f":"TEXT(Table_Query_from_Great_Plains[[#This Row],[ITEMNMBR]],0)","v":"CS1164"},"Custom -- Fruit Basket -- Doris","RETAIL",0,64.989999999999995]
["CS1165",{"$f":"TEXT(Table_Query_from_Great_Plains[[#This Row],[ITEMNMBR]],0)","v":"CS1165"},"Custom ChocolatePremium  add dog items (Jen)","RETAIL",0,116.99]
["CS1166",{"$f":"TEXT(Table_Query_from_Great_Plains[[#This Row],[ITEMNMBR]],0)","v":"CS1166"},"Custom Message in a Bottle DVD - White Riesling - B&BW Energy Orange Ginger spa items (Jen)","RETAIL",1,256.99]
["CS1167",{"$f":"TEXT(Table_Query_from_Great_Plains[[#This Row],[ITEMNMBR]],0)","v":"CS1167"},"Custom Heineken Beer & Snack Bucket (Jen)","RETAIL",1,68.989999999999995]
["CS1168",{"$f":"TEXT(Table_Query_from_Great_Plains[[#This Row],[ITEMNMBR]],0)","v":"CS1168"},"Custom 4022 Healthy plus extra protein bars (Doris)","RETAIL",0,95.99]
["CS1169",{"$f":"TEXT(Table_Query_from_Great_Plains[[#This Row],[ITEMNMBR]],0)","v":"CS1169"},"Custom : 4641 remove the Twizzlers and replace with M&Ms (Jen)","RETAIL",0,48.99]
["CS1170",{"$f":"TEXT(Table_Query_from_Great_Plains[[#This Row],[ITEMNMBR]],0)","v":"CS1170"},"Custom : Natures Picnic add more items - change basket (Anne)","RETAIL",0,96.99]
["CS1171",{"$f":"TEXT(Table_Query_from_Great_Plains[[#This Row],[ITEMNMBR]],0)","v":"CS1171"},"Custom : Weekend in Paris - no Moet add red & white wines (Jen)","RETAIL",1,239.99]
["CS1172",{"$f":"TEXT(Table_Query_from_Great_Plains[[#This Row],[ITEMNMBR]],0)","v":"CS1172"},"Custom : Gluten Free snacks- sweets - red wine - (Dena)","RETAIL",1,108.99]
["CS1173",{"$f":"TEXT(Table_Query_from_Great_Plains[[#This Row],[ITEMNMBR]],0)","v":"CS1173"},"Custom : meats - cheeses - crackers - fruit - snacks - sweets (Billie)","RETAIL",0,250]
["CS1174",{"$f":"TEXT(Table_Query_from_Great_Plains[[#This Row],[ITEMNMBR]],0)","v":"CS1174"},"Custom : dark chocolates - coffee & cornichons (RFisher)","RETAIL",0,99.99]
["CS1175",{"$f":"TEXT(Table_Query_from_Great_Plains[[#This Row],[ITEMNMBR]],0)","v":"CS1175"},"Custom : Breakfast  - no coffee please tea (Jen)","RETAIL",0,109.99]
["CS1176",{"$f":"TEXT(Table_Query_from_Great_Plains[[#This Row],[ITEMNMBR]],0)","v":"CS1176"},"Custom : BeerBQ Deluxe with added beers -  2 M&Ms (Anne)","RETAIL",1,79.989999999999995]
["CS1177",{"$f":"TEXT(Table_Query_from_Great_Plains[[#This Row],[ITEMNMBR]],0)","v":"CS1177"},"Custom : 50 th Birthday! (Jen)","RETAIL",0,290.99]
["CS1178",{"$f":"TEXT(Table_Query_from_Great_Plains[[#This Row],[ITEMNMBR]],0)","v":"CS1178"},"Custom : Red & White Ravenswood with chocolates (Tim)","RETAIL",1,113.99]
["CS1179",{"$f":"TEXT(Table_Query_from_Great_Plains[[#This Row],[ITEMNMBR]],0)","v":"CS1179"},"Custom : For a young girl - sweets and a bunny (Jen)","RETAIL",0,52.99]
["CS1180",{"$f":"TEXT(Table_Query_from_Great_Plains[[#This Row],[ITEMNMBR]],0)","v":"CS1180"},"Custom : candy and munchies in a golf bag (Jen)","RETAIL",0,64.989999999999995]
["CS1181",{"$f":"TEXT(Table_Query_from_Great_Plains[[#This Row],[ITEMNMBR]],0)","v":"CS1181"},"Custom : Cakebread Basket (Doris)","RETAIL",1,165.99]
["CS1182",{"$f":"TEXT(Table_Query_from_Great_Plains[[#This Row],[ITEMNMBR]],0)","v":"CS1182"},"Custom : Bountiful Harvest remove sausage (Anne)","RETAIL",0,119.99]
["CS1183",{"$f":"TEXT(Table_Query_from_Great_Plains[[#This Row],[ITEMNMBR]],0)","v":"CS1183"},"Custom : 5086 remove elk001 add chocolate! (Doris)","RETAIL",1,88.99]
["CS1184",{"$f":"TEXT(Table_Query_from_Great_Plains[[#This Row],[ITEMNMBR]],0)","v":"CS1184"},"Custom : Day in Paris w/ Veuve","RETAIL",1,172.99]
["CS1185",{"$f":"TEXT(Table_Query_from_Great_Plains[[#This Row],[ITEMNMBR]],0)","v":"CS1185"},"Custom : Dom & Chocolates (Billie)","RETAIL",1,277.99]
["CS1186",{"$f":"TEXT(Table_Query_from_Great_Plains[[#This Row],[ITEMNMBR]],0)","v":"CS1186"},"Custom : Sweets and More (Anne)","RETAIL",1,140.99]
["CS1187",{"$f":"TEXT(Table_Query_from_Great_Plains[[#This Row],[ITEMNMBR]],0)","v":"CS1187"},"Custom : St. Patrick's Day (Anne)","RETAIL",0,73.989999999999995]
["CS1188",{"$f":"TEXT(Table_Query_from_Great_Plains[[#This Row],[ITEMNMBR]],0)","v":"CS1188"},"Custom : Spicy! (Doris)","RETAIL",0,99.99]
["CS1189",{"$f":"TEXT(Table_Query_from_Great_Plains[[#This Row],[ITEMNMBR]],0)","v":"CS1189"},"Custom : For the Family (Billie)","RETAIL",0,12.99]
["CS1190",{"$f":"TEXT(Table_Query_from_Great_Plains[[#This Row],[ITEMNMBR]],0)","v":"CS1190"},"Custom : New Baby Girl (Jen)","RETAIL",1,86.99]
["CS1191",{"$f":"TEXT(Table_Query_from_Great_Plains[[#This Row],[ITEMNMBR]],0)","v":"CS1191"},"Custom Charcoal Connoisseur with Moet & Chandon (Anne)","RETAIL",1,213.98]
["CS1192",{"$f":"TEXT(Table_Query_from_Great_Plains[[#This Row],[ITEMNMBR]],0)","v":"CS1192"},"Custom fruit & chocolate ( Tim)","RETAIL",0,24.99]
["CS1193",{"$f":"TEXT(Table_Query_from_Great_Plains[[#This Row],[ITEMNMBR]],0)","v":"CS1193"},"custom chips cookies brownies popcorn & twizzlers (Anne)","RETAIL",0,50]
["CS1194",{"$f":"TEXT(Table_Query_from_Great_Plains[[#This Row],[ITEMNMBR]],0)","v":"CS1194"},"Custom : Look what the Easter Bunny brought (Jen)","RETAIL",0,189.99]
["CS1195",{"$f":"TEXT(Table_Query_from_Great_Plains[[#This Row],[ITEMNMBR]],0)","v":"CS1195"},"Custom Coffee Chocolate Activities (Tim)","RETAIL",0,75.989999999999995]
["CS1196",{"$f":"TEXT(Table_Query_from_Great_Plains[[#This Row],[ITEMNMBR]],0)","v":"CS1196"},"Custom : look what the easter bunny brought (Tim)","RETAIL",0,149.99]
["CS1197",{"$f":"TEXT(Table_Query_from_Great_Plains[[#This Row],[ITEMNMBR]],0)","v":"CS1197"},"Custom Hippity Hoppity with Chocolate Bunny (Jen)","RETAIL",0,40.99]
["CS1198",{"$f":"TEXT(Table_Query_from_Great_Plains[[#This Row],[ITEMNMBR]],0)","v":"CS1198"},"Custom Honeymoon Basket with 2 Cab, Cheese, Crax, Choc (Anne)","RETAIL",1,122.99]
["CS1199",{"$f":"TEXT(Table_Query_from_Great_Plains[[#This Row],[ITEMNMBR]],0)","v":"CS1199"},"Custom : fruit, chocolates, snacks and red wine","RETAIL",1,140]
["CS1200",{"$f":"TEXT(Table_Query_from_Great_Plains[[#This Row],[ITEMNMBR]],0)","v":"CS1200"},"Custom Hippity Hoppity with Buttercream Bunny (Tim)","RETAIL",0,39.99]
["CS1201",{"$f":"TEXT(Table_Query_from_Great_Plains[[#This Row],[ITEMNMBR]],0)","v":"CS1201"},"Custom : Harry Hare bunny with treats (Doris)","RETAIL",0,64.989999999999995]
["CS1202",{"$f":"TEXT(Table_Query_from_Great_Plains[[#This Row],[ITEMNMBR]],0)","v":"CS1202"},"Custom : Double Bunny (Jen)","RETAIL",0,119.99]
["CS1203",{"$f":"TEXT(Table_Query_from_Great_Plains[[#This Row],[ITEMNMBR]],0)","v":"CS1203"},"Custom : Triple Bunnies - Easter Basket (Tim)","RETAIL",0,147.99]
["CS1204",{"$f":"TEXT(Table_Query_from_Great_Plains[[#This Row],[ITEMNMBR]],0)","v":"CS1204"},"Custom Easter Classic with Black/White Bunny (Anne)","RETAIL",0,51.97]
["CS1205",{"$f":"TEXT(Table_Query_from_Great_Plains[[#This Row],[ITEMNMBR]],0)","v":"CS1205"},"Custom : Hippity Hop (Jen)","RETAIL",0,36.99]
["CS1206",{"$f":"TEXT(Table_Query_from_Great_Plains[[#This Row],[ITEMNMBR]],0)","v":"CS1206"},"Custom : Easter Sweets & Treats extra chocolates (Mike)","RETAIL",0,69.989999999999995]
["CS1207",{"$f":"TEXT(Table_Query_from_Great_Plains[[#This Row],[ITEMNMBR]],0)","v":"CS1207"},"Custom : Chocolate Premium plus Easter Bunny (Billie)","RETAIL",0,121.99]
["CS1208",{"$f":"TEXT(Table_Query_from_Great_Plains[[#This Row],[ITEMNMBR]],0)","v":"CS1208"},"Custom : golf bag with activities snacks and sweets  (Tim/ Jen)","RETAIL",0,69.989999999999995]
["CS1209",{"$f":"TEXT(Table_Query_from_Great_Plains[[#This Row],[ITEMNMBR]],0)","v":"CS1209"},"Custom : snickers, chocolates, dried fruit, nuts (RHuston)","RETAIL",0,71.989999999999995]
["CS1210",{"$f":"TEXT(Table_Query_from_Great_Plains[[#This Row],[ITEMNMBR]],0)","v":"CS1210"},"Custom : Wine Trio (switching wines) (Billie)","RETAIL",1,193.99]
["CS1211",{"$f":"TEXT(Table_Query_from_Great_Plains[[#This Row],[ITEMNMBR]],0)","v":"CS1211"},"Custom : Easter Care pkg - add a bunny (Anne)","RETAIL",0,66.98]
["CS1212",{"$f":"TEXT(Table_Query_from_Great_Plains[[#This Row],[ITEMNMBR]],0)","v":"CS1212"},"Custom : Easter Basket for 6 month old boy (Billie)","RETAIL",0,80]
["CS1213",{"$f":"TEXT(Table_Query_from_Great_Plains[[#This Row],[ITEMNMBR]],0)","v":"CS1213"},"Custom : Dom & Wild Horse Cabernet Duo (Tim)","RETAIL",1,295.99]
["CS1214",{"$f":"TEXT(Table_Query_from_Great_Plains[[#This Row],[ITEMNMBR]],0)","v":"CS1214"},"Custom Easter Items for Jill to take home","RETAIL",0,21.92]
["CS1215",{"$f":"TEXT(Table_Query_from_Great_Plains[[#This Row],[ITEMNMBR]],0)","v":"CS1215"},"Custom: Easter - glow cpkg plus some of 4641 in a basket (Anne / Jen)","RETAIL",0,68.78]
["CS1216",{"$f":"TEXT(Table_Query_from_Great_Plains[[#This Row],[ITEMNMBR]],0)","v":"CS1216"},"Custom : More Bubbly (Dena)","RETAIL",1,183.99]
["CS1217",{"$f":"TEXT(Table_Query_from_Great_Plains[[#This Row],[ITEMNMBR]],0)","v":"CS1217"},"Custom : Healthy Basket (Jen)","RETAIL",0,145]
["CS1218",{"$f":"TEXT(Table_Query_from_Great_Plains[[#This Row],[ITEMNMBR]],0)","v":"CS1218"},"Custom : Snack Ultimate plus 6pk heineken (Billie)","RETAIL",0,167.99]
["CS1219",{"$f":"TEXT(Table_Query_from_Great_Plains[[#This Row],[ITEMNMBR]],0)","v":"CS1219"},"Custom : Fishing - Caught the big one - swap coffee for tea (Anne)","RETAIL",0,86.99]
["CS1220",{"$f":"TEXT(Table_Query_from_Great_Plains[[#This Row],[ITEMNMBR]],0)","v":"CS1220"},"Custom : KOP MAC - just the bags (Jen)","RETAIL",0,80]
["CS1221",{"$f":"TEXT(Table_Query_from_Great_Plains[[#This Row],[ITEMNMBR]],0)","v":"CS1221"},"Custom : Kosher (Jen)","RETAIL",0,200]
["CS1222",{"$f":"TEXT(Table_Query_from_Great_Plains[[#This Row],[ITEMNMBR]],0)","v":"CS1222"},"Custom : care pkg (Tim)","RETAIL",0,90]
["CS1223",{"$f":"TEXT(Table_Query_from_Great_Plains[[#This Row],[ITEMNMBR]],0)","v":"CS1223"},"Custom : cookie sampler in a basket (Tim)","RETAIL",0,50]
["CS1224",{"$f":"TEXT(Table_Query_from_Great_Plains[[#This Row],[ITEMNMBR]],0)","v":"CS1224"},"Custom : red wine- fruit- nuts- golfballs (Tim / Jen)","RETAIL",1,95.99]
["CS1225",{"$f":"TEXT(Table_Query_from_Great_Plains[[#This Row],[ITEMNMBR]],0)","v":"CS1225"},"Custom : Bountiful with wine (Jen)","RETAIL",1,195.99]
["CS1226",{"$f":"TEXT(Table_Query_from_Great_Plains[[#This Row],[ITEMNMBR]],0)","v":"CS1226"},"Custom : Snack Ultimate - Italy (Anne)","RETAIL",0,149.99]
["CS1227",{"$f":"TEXT(Table_Query_from_Great_Plains[[#This Row],[ITEMNMBR]],0)","v":"CS1227"},"Custom : Snack Ultimate -  (Anne)","RETAIL",0,159.99]
["CS1228",{"$f":"TEXT(Table_Query_from_Great_Plains[[#This Row],[ITEMNMBR]],0)","v":"CS1228"},"Custom : Wrigleys candy bucket (Jen / Doris)","RETAIL",0,44.99]
["CS1229",{"$f":"TEXT(Table_Query_from_Great_Plains[[#This Row],[ITEMNMBR]],0)","v":"CS1229"},"Custom : Spa and Snack (Jen)","RETAIL",0,174.99]
["CS1230",{"$f":"TEXT(Table_Query_from_Great_Plains[[#This Row],[ITEMNMBR]],0)","v":"CS1230"},"Custom : Golf / Orchard  (Jen)","RETAIL",0,99.99]
["CS1231",{"$f":"TEXT(Table_Query_from_Great_Plains[[#This Row],[ITEMNMBR]],0)","v":"CS1231"},"Custom : assorted trail mixes (Doris / Anne)","RETAIL",0,50]
["CS1232",{"$f":"TEXT(Table_Query_from_Great_Plains[[#This Row],[ITEMNMBR]],0)","v":"CS1232"},"Custom : Chianti and Dark Chocolates (Huston)","RETAIL",1,77]
["CS1233",{"$f":"TEXT(Table_Query_from_Great_Plains[[#This Row],[ITEMNMBR]],0)","v":"CS1233"},"Custom : tea, coconut and healthy items,cookies and chocolates (Anne)","RETAIL",0,182.99]
["CS1234",{"$f":"TEXT(Table_Query_from_Great_Plains[[#This Row],[ITEMNMBR]],0)","v":"CS1234"},"Custom : New Baby (Jen)","RETAIL",1,299.99]
["CS1235",{"$f":"TEXT(Table_Query_from_Great_Plains[[#This Row],[ITEMNMBR]],0)","v":"CS1235"},"Custom : Golf & Budlight (Doris)","RETAIL",1,107.99]
["CS1236",{"$f":"TEXT(Table_Query_from_Great_Plains[[#This Row],[ITEMNMBR]],0)","v":"CS1236"},"Custom : Snack Classic (Tim)","RETAIL",0,66.989999999999995]
["CS1237",{"$f":"TEXT(Table_Query_from_Great_Plains[[#This Row],[ITEMNMBR]],0)","v":"CS1237"},"Custom : microbrew 6pk (Tim)","RETAIL",1,69.989999999999995]
["CS1238",{"$f":"TEXT(Table_Query_from_Great_Plains[[#This Row],[ITEMNMBR]],0)","v":"CS1238"},"Custom : Dog and Wine (Jen)","RETAIL",1,93.99]
["CS1239",{"$f":"TEXT(Table_Query_from_Great_Plains[[#This Row],[ITEMNMBR]],0)","v":"CS1239"},"Custom : Margarita Maddness (Corona platter) Anne","RETAIL",0,79.989999999999995]
["CS1240",{"$f":"TEXT(Table_Query_from_Great_Plains[[#This Row],[ITEMNMBR]],0)","v":"CS1240"},"Custom : Sweets Stack ( Anne)","RETAIL",0,42.99]
["CS1241",{"$f":"TEXT(Table_Query_from_Great_Plains[[#This Row],[ITEMNMBR]],0)","v":"CS1241"},"Custom : 5601cp plus balloons (Tim)","RETAIL",0,45.99]
["CS1242",{"$f":"TEXT(Table_Query_from_Great_Plains[[#This Row],[ITEMNMBR]],0)","v":"CS1242"},"Custom : Gluten Free plus fruit (Jen)","RETAIL",0,69.989999999999995]
["CS1243",{"$f":"TEXT(Table_Query_from_Great_Plains[[#This Row],[ITEMNMBR]],0)","v":"CS1243"},"Custom : New Baby Boy (Jen)","RETAIL",0,200]
["CS1244",{"$f":"TEXT(Table_Query_from_Great_Plains[[#This Row],[ITEMNMBR]],0)","v":"CS1244"},"Custom : Kosher stack with fruit (Jen)","RETAIL",0,89.99]
["CS1245",{"$f":"TEXT(Table_Query_from_Great_Plains[[#This Row],[ITEMNMBR]],0)","v":"CS1245"},"Custom 4012 with Fruit, Holland Mints, Gorilla (Anne)","RETAIL",0,199.99]
["CS1246",{"$f":"TEXT(Table_Query_from_Great_Plains[[#This Row],[ITEMNMBR]],0)","v":"CS1246"},"Custom : 4502 add crackers, cheese, sausage, pretzels and dip (Jen)","RETAIL",1,140.99]
["CS1247",{"$f":"TEXT(Table_Query_from_Great_Plains[[#This Row],[ITEMNMBR]],0)","v":"CS1247"},"Custom : Extreme Tailgating with added Canadian beer and snacks (Doris)","RETAIL",1,249.99]
["CS1248",{"$f":"TEXT(Table_Query_from_Great_Plains[[#This Row],[ITEMNMBR]],0)","v":"CS1248"},"Custom : Healthy snacks (Doris)","RETAIL",0,62.99]
["CS1249",{"$f":"TEXT(Table_Query_from_Great_Plains[[#This Row],[ITEMNMBR]],0)","v":"CS1249"},"Custom : Healthy snacks  2 (Doris)","RETAIL",0,89.99]
["CS1250",{"$f":"TEXT(Table_Query_from_Great_Plains[[#This Row],[ITEMNMBR]],0)","v":"CS1250"},"Custom : Kosher - Nut Free (Anne)","RETAIL",0,59.99]
["CS1251",{"$f":"TEXT(Table_Query_from_Great_Plains[[#This Row],[ITEMNMBR]],0)","v":"CS1251"},"Custom : Candy Box (Mike)","RETAIL",0,45.99]
["CS1252",{"$f":"TEXT(Table_Query_from_Great_Plains[[#This Row],[ITEMNMBR]],0)","v":"CS1252"},"Custom : 4021 plus white wine and chocolates (Doris)","RETAIL",1,150]
["CS1253",{"$f":"TEXT(Table_Query_from_Great_Plains[[#This Row],[ITEMNMBR]],0)","v":"CS1253"},"Custom : fruit and unsalted nuts (Dave)","RETAIL",0,148.99]
["CS1254",{"$f":"TEXT(Table_Query_from_Great_Plains[[#This Row],[ITEMNMBR]],0)","v":"CS1254"},"Custom : For Mom (Lisa)","RETAIL",0,53.99]
["CS1255",{"$f":"TEXT(Table_Query_from_Great_Plains[[#This Row],[ITEMNMBR]],0)","v":"CS1255"},"Custom : 5090 remove meat & cheese add nut variety (Doris)","RETAIL",1,107.99]
["CS1256",{"$f":"TEXT(Table_Query_from_Great_Plains[[#This Row],[ITEMNMBR]],0)","v":"CS1256"},"Jen's Custom","RETAIL",0,41.99]
["CS1257",{"$f":"TEXT(Table_Query_from_Great_Plains[[#This Row],[ITEMNMBR]],0)","v":"CS1257"},"Custom Orchard with more fruit (Anne)","RETAIL",0,87.99]
["CS1258",{"$f":"TEXT(Table_Query_from_Great_Plains[[#This Row],[ITEMNMBR]],0)","v":"CS1258"},"Custom Around the World 12 plus healthy snacks (Jen)","RETAIL",1,155.99]
["CS1259",{"$f":"TEXT(Table_Query_from_Great_Plains[[#This Row],[ITEMNMBR]],0)","v":"CS1259"},"Custom: Celebrity Chef plus specified beers and added bbq sauce (Jen)","RETAIL",1,227.99]
["CS1260",{"$f":"TEXT(Table_Query_from_Great_Plains[[#This Row],[ITEMNMBR]],0)","v":"CS1260"},"Custom: ice cream (Tim)","RETAIL",0,43]
["CS1261",{"$f":"TEXT(Table_Query_from_Great_Plains[[#This Row],[ITEMNMBR]],0)","v":"CS1261"},"Custom: candy crate and care pkg (Jen)","RETAIL",0,95.99]
["CS1262",{"$f":"TEXT(Table_Query_from_Great_Plains[[#This Row],[ITEMNMBR]],0)","v":"CS1262"},"Custom: Cakebread Whites (Anne)","RETAIL",1,258.99]
["CS1263",{"$f":"TEXT(Table_Query_from_Great_Plains[[#This Row],[ITEMNMBR]],0)","v":"CS1263"},"Custom: Timeless TreatsTower  - swap cheese (Anne)","RETAIL",0,49.99]
["CS1265",{"$f":"TEXT(Table_Query_from_Great_Plains[[#This Row],[ITEMNMBR]],0)","v":"CS1265"},"Custom:5600 in a basket (Doris)","RETAIL",0,47.99]
["CS1266",{"$f":"TEXT(Table_Query_from_Great_Plains[[#This Row],[ITEMNMBR]],0)","v":"CS1266"},"Custom:classic golf  (Doris)","RETAIL",0,71.989999999999995]
["CS1267",{"$f":"TEXT(Table_Query_from_Great_Plains[[#This Row],[ITEMNMBR]],0)","v":"CS1267"},"Custom:4408 remove selected items add more fruit (Lu)","RETAIL",0,154.99]
["CS1268",{"$f":"TEXT(Table_Query_from_Great_Plains[[#This Row],[ITEMNMBR]],0)","v":"CS1268"},"Custom:baked goods samplers cookies, brownies, whoopies (Lu)","RETAIL",0,184.99]
["CS1269",{"$f":"TEXT(Table_Query_from_Great_Plains[[#This Row],[ITEMNMBR]],0)","v":"CS1269"},"Custom: Purely Fruit - remove apple add more pears (Anne)","RETAIL",0,53.99]
["CS1270",{"$f":"TEXT(Table_Query_from_Great_Plains[[#This Row],[ITEMNMBR]],0)","v":"CS1270"},"Custom: for the soon to be Groom (Lu)","RETAIL",0,72.989999999999995]
["CS1271",{"$f":"TEXT(Table_Query_from_Great_Plains[[#This Row],[ITEMNMBR]],0)","v":"CS1271"},"Custom: Moet - Flutes - and kid friendly snacks and sweets suitcase  (Doris)","RETAIL",1,200]
["CS1272",{"$f":"TEXT(Table_Query_from_Great_Plains[[#This Row],[ITEMNMBR]],0)","v":"CS1272"},"Custom: Bella plus sparkling water and fruit (Anne)","RETAIL",0,181.99]
["CS1273",{"$f":"TEXT(Table_Query_from_Great_Plains[[#This Row],[ITEMNMBR]],0)","v":"CS1273"},"Custom: Michelob ultra beer bucket","RETAIL",1,73.989999999999995]
["CS1274",{"$f":"TEXT(Table_Query_from_Great_Plains[[#This Row],[ITEMNMBR]],0)","v":"CS1274"},"Custom: Super Bowl Tailgating  - Oklahoma - (Tim)","RETAIL",0,199.99]
["CS1275",{"$f":"TEXT(Table_Query_from_Great_Plains[[#This Row],[ITEMNMBR]],0)","v":"CS1275"},"Custom: Super Bowl Tailgating  - Canada - (Tim)","RETAIL",0,144.99]
["CS1276",{"$f":"TEXT(Table_Query_from_Great_Plains[[#This Row],[ITEMNMBR]],0)","v":"CS1276"},"Custom: Housewarming Basket (Anne)","RETAIL",1,80]
["CS1277",{"$f":"TEXT(Table_Query_from_Great_Plains[[#This Row],[ITEMNMBR]],0)","v":"CS1277"},"Custom: just because ... spa and chocolates (Dena)","RETAIL",0,40]
["CS1278",{"$f":"TEXT(Table_Query_from_Great_Plains[[#This Row],[ITEMNMBR]],0)","v":"CS1278"},"Custom: just because ... spa and chocolates (Dena)","RETAIL",0,40]
["CS1279",{"$f":"TEXT(Table_Query_from_Great_Plains[[#This Row],[ITEMNMBR]],0)","v":"CS1279"},"Custom: white zinfandel wine basket (Dave)","RETAIL",1,275.99]
["CS1280",{"$f":"TEXT(Table_Query_from_Great_Plains[[#This Row],[ITEMNMBR]],0)","v":"CS1280"},"Custom: 4500 (no jerky & popcorn add chips and salsa) (Jen)","RETAIL",0,76.989999999999995]
["CS1281",{"$f":"TEXT(Table_Query_from_Great_Plains[[#This Row],[ITEMNMBR]],0)","v":"CS1281"},"Custom:decadent fruit tower in a basket (anne)","RETAIL",0,69.989999999999995]
["CS1282",{"$f":"TEXT(Table_Query_from_Great_Plains[[#This Row],[ITEMNMBR]],0)","v":"CS1282"},"Custom:4503 remove meats add trail mixes (anne)","RETAIL",1,109.99]
["CS1283",{"$f":"TEXT(Table_Query_from_Great_Plains[[#This Row],[ITEMNMBR]],0)","v":"CS1283"},"Custom: 4665 doubled (Lu)","RETAIL",0,102.99]
["CS1284",{"$f":"TEXT(Table_Query_from_Great_Plains[[#This Row],[ITEMNMBR]],0)","v":"CS1284"},"Custom:4051 add fiona (anne)","RETAIL",0,75.989999999999995]
["CS1285",{"$f":"TEXT(Table_Query_from_Great_Plains[[#This Row],[ITEMNMBR]],0)","v":"CS1285"},"Custom: 4407 add Dom & Cider (Jen)","RETAIL",0,333.99]
["CS1286",{"$f":"TEXT(Table_Query_from_Great_Plains[[#This Row],[ITEMNMBR]],0)","v":"CS1286"},"Custom: orchards abundance  - ribbon change - (Brian)","RETAIL",0,75.989999999999995]
["CS1287",{"$f":"TEXT(Table_Query_from_Great_Plains[[#This Row],[ITEMNMBR]],0)","v":"CS1287"},"Custom: snacks from ladybug tote, choc popcorn sampler, cookies & pretzels (Lu)","RETAIL",0,136.99]
["CS1288",{"$f":"TEXT(Table_Query_from_Great_Plains[[#This Row],[ITEMNMBR]],0)","v":"CS1288"},"Custom: ultimate exam cram (Anne)","RETAIL",0,105]
["CS1289",{"$f":"TEXT(Table_Query_from_Great_Plains[[#This Row],[ITEMNMBR]],0)","v":"CS1289"},"Custom: ice cream and popcorn (Jen)","RETAIL",1,247.99]
["CS1290",{"$f":"TEXT(Table_Query_from_Great_Plains[[#This Row],[ITEMNMBR]],0)","v":"CS1290"},"Custom: ravenswood red plus snacks for the family - new hire - (Tim)","RETAIL",1,100]
["CS1291",{"$f":"TEXT(Table_Query_from_Great_Plains[[#This Row],[ITEMNMBR]],0)","v":"CS1291"},"Custom: Irish Beer Bucket - specified beers (Lu)","RETAIL",1,73.989999999999995]
["CS1292",{"$f":"TEXT(Table_Query_from_Great_Plains[[#This Row],[ITEMNMBR]],0)","v":"CS1292"},"Custom: golf - fruit - healthy snacks (Anne)","RETAIL",0,99.99]
["CS1293",{"$f":"TEXT(Table_Query_from_Great_Plains[[#This Row],[ITEMNMBR]],0)","v":"CS1293"},"Custom: Tailgate (Tim)","RETAIL",0,109.99]
["CS1294",{"$f":"TEXT(Table_Query_from_Great_Plains[[#This Row],[ITEMNMBR]],0)","v":"CS1294"},"Custom:4502 around the world 6 molson xxx specific (Doris)","RETAIL",1,98.99]
["CS1295",{"$f":"TEXT(Table_Query_from_Great_Plains[[#This Row],[ITEMNMBR]],0)","v":"CS1295"},"Custom:crackers, cheese, nuts, and oranges","RETAIL",0,60.99]
["CS1296",{"$f":"TEXT(Table_Query_from_Great_Plains[[#This Row],[ITEMNMBR]],0)","v":"CS1296"},"Custom : Snack Basket (Jen / Doris)","RETAIL",0,398.99]
["CS1297",{"$f":"TEXT(Table_Query_from_Great_Plains[[#This Row],[ITEMNMBR]],0)","v":"CS1297"},"Custom:healthy snacks with 3 microbrews","RETAIL",1,61.99]
["CS1298",{"$f":"TEXT(Table_Query_from_Great_Plains[[#This Row],[ITEMNMBR]],0)","v":"CS1298"},"Custom:stuffed animals and snacks for 3yr old girl (Doris)","RETAIL",0,54.99]
["CS1299",{"$f":"TEXT(Table_Query_from_Great_Plains[[#This Row],[ITEMNMBR]],0)","v":"CS1299"},"Custom:wine beer and nuts","RETAIL",1,69.989999999999995]
["CS1300",{"$f":"TEXT(Table_Query_from_Great_Plains[[#This Row],[ITEMNMBR]],0)","v":"CS1300"},"Custom: kosher with fruit (Anne)","RETAIL",0,120]
["CS1301",{"$f":"TEXT(Table_Query_from_Great_Plains[[#This Row],[ITEMNMBR]],0)","v":"CS1301"},"Custom:(Ccoors) light 6pk beer bucket (Jen)","RETAIL",1,88.99]
["CS1302",{"$f":"TEXT(Table_Query_from_Great_Plains[[#This Row],[ITEMNMBR]],0)","v":"CS1302"},"Custom:4053  - pink -  with stuffed animal for baby girl (Doris)","RETAIL",0,129.99]
["CS1303",{"$f":"TEXT(Table_Query_from_Great_Plains[[#This Row],[ITEMNMBR]],0)","v":"CS1303"},"Custom:Golfing, Chocolates & Dom in a basket (Jen)","RETAIL",1,246.99]
["CS1304",{"$f":"TEXT(Table_Query_from_Great_Plains[[#This Row],[ITEMNMBR]],0)","v":"CS1304"},"Custom:4053  - new child to the family healthy and not so healthy snacks (Anne)","RETAIL",0,55]
["CS1305",{"$f":"TEXT(Table_Query_from_Great_Plains[[#This Row],[ITEMNMBR]],0)","v":"CS1305"},"Custom:La Crema Chardonnay with dried fruit and nuts (Dave)","RETAIL",1,194.99]
["CS1306",{"$f":"TEXT(Table_Query_from_Great_Plains[[#This Row],[ITEMNMBR]],0)","v":"CS1306"},"Custom bountiful  - no sausage! add more granola (Doris)","RETAIL",0,124.99]
["CS1307",{"$f":"TEXT(Table_Query_from_Great_Plains[[#This Row],[ITEMNMBR]],0)","v":"CS1307"},"Custom: housewarming (Sue)","RETAIL",0,56.99]
["CS1308",{"$f":"TEXT(Table_Query_from_Great_Plains[[#This Row],[ITEMNMBR]],0)","v":"CS1308"},"Custom: Wine Duo - Albola Pinot Grigio (Tim)","RETAIL",1,118.99]
["CS1309",{"$f":"TEXT(Table_Query_from_Great_Plains[[#This Row],[ITEMNMBR]],0)","v":"CS1309"},"Custom: Super Tailgate (Tim)","RETAIL",0,125]
["CS1310",{"$f":"TEXT(Table_Query_from_Great_Plains[[#This Row],[ITEMNMBR]],0)","v":"CS1310"},"Custom: Healthy non dairy plus fruit (Doris)","RETAIL",0,118.99]
["CS1311",{"$f":"TEXT(Table_Query_from_Great_Plains[[#This Row],[ITEMNMBR]],0)","v":"CS1311"},"Custom:Dom Duo suitcase (Jen / Anne)","RETAIL",1,533.99]
["CS1312",{"$f":"TEXT(Table_Query_from_Great_Plains[[#This Row],[ITEMNMBR]],0)","v":"CS1312"},"Custom:camp fun care package (Jen)","RETAIL",0,74.95]
["CS1313",{"$f":"TEXT(Table_Query_from_Great_Plains[[#This Row],[ITEMNMBR]],0)","v":"CS1313"},"Custom: Snack Basket  (R.Huston)","RETAIL",0,100]
["CS1314",{"$f":"TEXT(Table_Query_from_Great_Plains[[#This Row],[ITEMNMBR]],0)","v":"CS1314"},"Custom: wine snacks and fruit (Doris)","RETAIL",1,150.99]
["CS1315",{"$f":"TEXT(Table_Query_from_Great_Plains[[#This Row],[ITEMNMBR]],0)","v":"CS1315"},"Custom: truffles, crackers, cheese, sausage (Jen)","RETAIL",0,93.99]
["CS1316",{"$f":"TEXT(Table_Query_from_Great_Plains[[#This Row],[ITEMNMBR]],0)","v":"CS1316"},"Custom: wine, beer, crackers, cheese, sausage, nuts (Dave)","RETAIL",1,280.99]
["CS1317",{"$f":"TEXT(Table_Query_from_Great_Plains[[#This Row],[ITEMNMBR]],0)","v":"CS1317"},"Custom 4215 with Baby item for Tim","RETAIL",0,150]
["CS1318",{"$f":"TEXT(Table_Query_from_Great_Plains[[#This Row],[ITEMNMBR]],0)","v":"CS1318"},"Custom 4215 with more snacks for Tim","RETAIL",0,150]
["CS1319",{"$f":"TEXT(Table_Query_from_Great_Plains[[#This Row],[ITEMNMBR]],0)","v":"CS1319"},"Custom 6357 with snacks for Doris","RETAIL",0,148.30000000000001]
["CS1320",{"$f":"TEXT(Table_Query_from_Great_Plains[[#This Row],[ITEMNMBR]],0)","v":"CS1320"},"Custom: Bountiful with Guitar shaped Bamboo Cutting Board  (Doris)","RETAIL",0,204.99]
["CS1321",{"$f":"TEXT(Table_Query_from_Great_Plains[[#This Row],[ITEMNMBR]],0)","v":"CS1321"},"Custom: 6266 with teddy bear (Anne)","RETAIL",0,82.99]
["CS1322",{"$f":"TEXT(Table_Query_from_Great_Plains[[#This Row],[ITEMNMBR]],0)","v":"CS1322"},"Custom: Savory & Salty (Anne)","RETAIL",0,88.99]
["CS1323",{"$f":"TEXT(Table_Query_from_Great_Plains[[#This Row],[ITEMNMBR]],0)","v":"CS1323"},"Custom Care Package in Basket for Kids (Jen)","RETAIL",0,146.99]
["CS1324",{"$f":"TEXT(Table_Query_from_Great_Plains[[#This Row],[ITEMNMBR]],0)","v":"CS1324"},"Custom Midnight Snack Care Package (Tim)","RETAIL",0,43.99]
["CS1325",{"$f":"TEXT(Table_Query_from_Great_Plains[[#This Row],[ITEMNMBR]],0)","v":"CS1325"},"Custom Chardonnay (Brian)","RETAIL",1,56.99]
["CS1326",{"$f":"TEXT(Table_Query_from_Great_Plains[[#This Row],[ITEMNMBR]],0)","v":"CS1326"},"Custom Cookies 'n Cream 1 Gallon Tin (RH)","RETAIL",0,19.989999999999998]
["CS1327",{"$f":"TEXT(Table_Query_from_Great_Plains[[#This Row],[ITEMNMBR]],0)","v":"CS1327"},"Custom Peanut Butter Cup 1 Gallon Tin (RH)","RETAIL",0,19.989999999999998]
["CS1328",{"$f":"TEXT(Table_Query_from_Great_Plains[[#This Row],[ITEMNMBR]],0)","v":"CS1328"},"Custom Caramel 1 Gallon Tin (RH)","RETAIL",0,19.989999999999998]
["CS1329",{"$f":"TEXT(Table_Query_from_Great_Plains[[#This Row],[ITEMNMBR]],0)","v":"CS1329"},"Custom for Jiffys Parents","RETAIL",1,122.99]
["CS1330",{"$f":"TEXT(Table_Query_from_Great_Plains[[#This Row],[ITEMNMBR]],0)","v":"CS1330"},"Shipping to Denas Sister","RETAIL",1,0]
["CS1331",{"$f":"TEXT(Table_Query_from_Great_Plains[[#This Row],[ITEMNMBR]],0)","v":"CS1331"},"Custom: Kosher Stack  (Anne)","RETAIL",0,53.99]
["CS1332",{"$f":"TEXT(Table_Query_from_Great_Plains[[#This Row],[ITEMNMBR]],0)","v":"CS1332"},"Custom: Just a little Something (Jen)","RETAIL",0,37.99]
["CS1333",{"$f":"TEXT(Table_Query_from_Great_Plains[[#This Row],[ITEMNMBR]],0)","v":"CS1333"},"Custom Catena plus snacks (Anne)","RETAIL",1,96.99]
["CS1334",{"$f":"TEXT(Table_Query_from_Great_Plains[[#This Row],[ITEMNMBR]],0)","v":"CS1334"},"Custom; bountiful (Tim)","RETAIL",0,139.99]
["CS1335",{"$f":"TEXT(Table_Query_from_Great_Plains[[#This Row],[ITEMNMBR]],0)","v":"CS1335"},"Custom: popcorn sampler","RETAIL",0,0]
["CS1336",{"$f":"TEXT(Table_Query_from_Great_Plains[[#This Row],[ITEMNMBR]],0)","v":"CS1336"},"Custom: 4409 plus sparkling cider (Brian)","RETAIL",0,89.99]
["CS1337",{"$f":"TEXT(Table_Query_from_Great_Plains[[#This Row],[ITEMNMBR]],0)","v":"CS1337"},"Custom: Birthday Boy (Anne)","RETAIL",0,50]
["CS1338",{"$f":"TEXT(Table_Query_from_Great_Plains[[#This Row],[ITEMNMBR]],0)","v":"CS1338"},"Custom: Champagne, chocolates and candy (Brian)","RETAIL",1,310.99]
["CS1339",{"$f":"TEXT(Table_Query_from_Great_Plains[[#This Row],[ITEMNMBR]],0)","v":"CS1339"},"Custom: 5602 with hots (Dena)","RETAIL",0,44.99]
["CS1340",{"$f":"TEXT(Table_Query_from_Great_Plains[[#This Row],[ITEMNMBR]],0)","v":"CS1340"},"Custom: 5087 remove sausage.. (Jen)","RETAIL",1,73.989999999999995]
["CS1341",{"$f":"TEXT(Table_Query_from_Great_Plains[[#This Row],[ITEMNMBR]],0)","v":"CS1341"},"Custom: Three 1gal popcorn tins in a box - caramel, ch. cheddar, sea salt & pepper - (Tim)","RETAIL",0,0]
["CS1342",{"$f":"TEXT(Table_Query_from_Great_Plains[[#This Row],[ITEMNMBR]],0)","v":"CS1342"},"Custom: 4405  - pears only - (Lu)","RETAIL",0,88.99]
["CS1343",{"$f":"TEXT(Table_Query_from_Great_Plains[[#This Row],[ITEMNMBR]],0)","v":"CS1343"},"Custom: orchard witrh veuve (Anne)","RETAIL",1,127]
["CS1344",{"$f":"TEXT(Table_Query_from_Great_Plains[[#This Row],[ITEMNMBR]],0)","v":"CS1344"},"Custom: REPLACEMENT WINE (Anne)","RETAIL",1,0]
["CS1345",{"$f":"TEXT(Table_Query_from_Great_Plains[[#This Row],[ITEMNMBR]],0)","v":"CS1345"},"Custom: Last Day @ Camp  (Anne)","RETAIL",0,63.99]
["CS1346",{"$f":"TEXT(Table_Query_from_Great_Plains[[#This Row],[ITEMNMBR]],0)","v":"CS1346"},"Custom: Fruit nuts and snacks (Dave)","RETAIL",0,81.99]
["CS1347",{"$f":"TEXT(Table_Query_from_Great_Plains[[#This Row],[ITEMNMBR]],0)","v":"CS1347"},"Custom: Fosters beer bucket (Brian)","RETAIL",1,128.99]
["CS1348",{"$f":"TEXT(Table_Query_from_Great_Plains[[#This Row],[ITEMNMBR]],0)","v":"CS1348"},"Custom: 5087 remove sausage add cheese (Dena)","RETAIL",1,79.989999999999995]
["CS1349",{"$f":"TEXT(Table_Query_from_Great_Plains[[#This Row],[ITEMNMBR]],0)","v":"CS1349"},"Custom:fruit & sweet snacks  - no nuts - (Jen)","RETAIL",0,110.99]
["CS1350",{"$f":"TEXT(Table_Query_from_Great_Plains[[#This Row],[ITEMNMBR]],0)","v":"CS1350"},"Custom:exec suite no chocolates (Dena)","RETAIL",0,249.99]
["CS1351",{"$f":"TEXT(Table_Query_from_Great_Plains[[#This Row],[ITEMNMBR]],0)","v":"CS1351"},"Custom:exam cram and activity care pk combo  (Dena)","RETAIL",0,89.99]
["CS1352",{"$f":"TEXT(Table_Query_from_Great_Plains[[#This Row],[ITEMNMBR]],0)","v":"CS1352"},"Custom:crackers, cheese, sausage, salmon (Jen)","RETAIL",0,104.99]
["CS1353",{"$f":"TEXT(Table_Query_from_Great_Plains[[#This Row],[ITEMNMBR]],0)","v":"CS1353"},"Custom:new baby ( Jen / Anne)","RETAIL",1,115.99]
["CS1354",{"$f":"TEXT(Table_Query_from_Great_Plains[[#This Row],[ITEMNMBR]],0)","v":"CS1354"},"Custom: Bud Select, Cabernet, fruit, crackers, cheese, snacks (Anne)","RETAIL",1,171.99]
["CS1355",{"$f":"TEXT(Table_Query_from_Great_Plains[[#This Row],[ITEMNMBR]],0)","v":"CS1355"},"Custom: Molson xxx, Cabernet, fruit, crackers, cheese, snacks (Anne)","RETAIL",1,171.99]
["CS1356",{"$f":"TEXT(Table_Query_from_Great_Plains[[#This Row],[ITEMNMBR]],0)","v":"CS1356"},"Custom Christmas Care Package (Dena)","RETAIL",0,49.99]
["CS1357",{"$f":"TEXT(Table_Query_from_Great_Plains[[#This Row],[ITEMNMBR]],0)","v":"CS1357"},"Custom: Wine Trio plus chocolates (Jen)","RETAIL",1,207.99]
["CS1358",{"$f":"TEXT(Table_Query_from_Great_Plains[[#This Row],[ITEMNMBR]],0)","v":"CS1358"},"Custom: 5090 remove sausage and bruschetta add cashews and almonds (Jen)","RETAIL",1,105.99]
["CS1359",{"$f":"TEXT(Table_Query_from_Great_Plains[[#This Row],[ITEMNMBR]],0)","v":"CS1359"},"Custom: golf theme for teenage boy (Anne)","RETAIL",0,76.989999999999995]
["CS1360",{"$f":"TEXT(Table_Query_from_Great_Plains[[#This Row],[ITEMNMBR]],0)","v":"CS1360"},"Custom: 12 microbrew beer bucket (Anne / Jen)","RETAIL",1,88.99]
["CS1361",{"$f":"TEXT(Table_Query_from_Great_Plains[[#This Row],[ITEMNMBR]],0)","v":"CS1361"},"Custom: Dairy and Gluten Free (Jen)","RETAIL",0,79.989999999999995]
["CS1362",{"$f":"TEXT(Table_Query_from_Great_Plains[[#This Row],[ITEMNMBR]],0)","v":"CS1362"},"Custom: Heiniken and fruit (Jen)","RETAIL",1,68.989999999999995]
["CS1363",{"$f":"TEXT(Table_Query_from_Great_Plains[[#This Row],[ITEMNMBR]],0)","v":"CS1363"},"Custom: Fruit & Nuts (Anne)","RETAIL",0,119.99]
["CS1365",{"$f":"TEXT(Table_Query_from_Great_Plains[[#This Row],[ITEMNMBR]],0)","v":"CS1365"},"Custom: Fruit Basket (Dena)","RETAIL",0,80]
["CS1366",{"$f":"TEXT(Table_Query_from_Great_Plains[[#This Row],[ITEMNMBR]],0)","v":"CS1366"},"Custom: Wine Lovers Suitcase (Anne)","RETAIL",1,364.32]
["CS1367",{"$f":"TEXT(Table_Query_from_Great_Plains[[#This Row],[ITEMNMBR]],0)","v":"CS1367"},"Custom: orchards with candle (Anne)","RETAIL",0,91.99]
["CS1368",{"$f":"TEXT(Table_Query_from_Great_Plains[[#This Row],[ITEMNMBR]],0)","v":"CS1368"},"Custom: margarita stack with cheese (Anne)","RETAIL",0,46.99]
["CS1369",{"$f":"TEXT(Table_Query_from_Great_Plains[[#This Row],[ITEMNMBR]],0)","v":"CS1369"},"Custom:4051 adding cookies (Anne)","RETAIL",0,88.99]
["CS1370",{"$f":"TEXT(Table_Query_from_Great_Plains[[#This Row],[ITEMNMBR]],0)","v":"CS1370"},"Custom:Cabernet with Chocolates (Brian)","RETAIL",1,100]
["CS1371",{"$f":"TEXT(Table_Query_from_Great_Plains[[#This Row],[ITEMNMBR]],0)","v":"CS1371"},"Custom:Italian for Mountains Community Hospital Foundation (Tim)","RETAIL",0,104.99]
["CS1372",{"$f":"TEXT(Table_Query_from_Great_Plains[[#This Row],[ITEMNMBR]],0)","v":"CS1372"},"Custom:Veuve and Chocolates  for Mountains Community Hospital Foundation (Tim)","RETAIL",1,130.99]
["CS1373",{"$f":"TEXT(Table_Query_from_Great_Plains[[#This Row],[ITEMNMBR]],0)","v":"CS1373"},"Custom: snacks (Dena)","RETAIL",0,54.99]
["CS1374",{"$f":"TEXT(Table_Query_from_Great_Plains[[#This Row],[ITEMNMBR]],0)","v":"CS1374"},"Custom: fresh & dried fruit (Brian)","RETAIL",0,40]
["CS1375",{"$f":"TEXT(Table_Query_from_Great_Plains[[#This Row],[ITEMNMBR]],0)","v":"CS1375"},"Custom: popcorn lovers - swap seasoning for oil (Katie / Doris)","RETAIL",0,37.99]
["CS1376",{"$f":"TEXT(Table_Query_from_Great_Plains[[#This Row],[ITEMNMBR]],0)","v":"CS1376"},"Custom: gluten free plus fruit (Jen)","RETAIL",0,210]
["CS1377",{"$f":"TEXT(Table_Query_from_Great_Plains[[#This Row],[ITEMNMBR]],0)","v":"CS1377"},"Custom: fruit and nuts (Brian)","RETAIL",0,40.99]
["CS1378",{"$f":"TEXT(Table_Query_from_Great_Plains[[#This Row],[ITEMNMBR]],0)","v":"CS1378"},"Custom: pinot noir - coffee and dark chocolates (Jen)","RETAIL",1,149.99]
["CS1379",{"$f":"TEXT(Table_Query_from_Great_Plains[[#This Row],[ITEMNMBR]],0)","v":"CS1379"},"Custom: microbrew doubled up (Jen)","RETAIL",1,95.99]
["CS1380",{"$f":"TEXT(Table_Query_from_Great_Plains[[#This Row],[ITEMNMBR]],0)","v":"CS1380"},"Custom: Catena - fruit - crackers - cheese  ( Anne / Jen)","RETAIL",0,116]
["CS1381",{"$f":"TEXT(Table_Query_from_Great_Plains[[#This Row],[ITEMNMBR]],0)","v":"CS1381"},"Custom: for sue","RETAIL",0,62.64]
["CS1382",{"$f":"TEXT(Table_Query_from_Great_Plains[[#This Row],[ITEMNMBR]],0)","v":"CS1382"},"Custom Dog Stack with Cupcake Sprinkles (jen)","RETAIL",0,29.99]
["CS1383",{"$f":"TEXT(Table_Query_from_Great_Plains[[#This Row],[ITEMNMBR]],0)","v":"CS1383"},"Custom: fruit wine snacks candy","RETAIL",0,150]
["CS1384",{"$f":"TEXT(Table_Query_from_Great_Plains[[#This Row],[ITEMNMBR]],0)","v":"CS1384"},"Custom: Healthy (Dena)","RETAIL",0,146.99]
["CS1385",{"$f":"TEXT(Table_Query_from_Great_Plains[[#This Row],[ITEMNMBR]],0)","v":"CS1385"},"Custom: 4056 plus Mike & Ike (Anne)","RETAIL",0,269.99]
["CS1386",{"$f":"TEXT(Table_Query_from_Great_Plains[[#This Row],[ITEMNMBR]],0)","v":"CS1386"},"Custom: 5602 with added card (Dave)","RETAIL",0,279.99]
["CS1387",{"$f":"TEXT(Table_Query_from_Great_Plains[[#This Row],[ITEMNMBR]],0)","v":"CS1387"},"Custom: Crackers and cheese (Lu)","RETAIL",0,80.989999999999995]
["CS1388",{"$f":"TEXT(Table_Query_from_Great_Plains[[#This Row],[ITEMNMBR]],0)","v":"CS1388"},"Custom: Italian Inspired (Brian)","RETAIL",1,134.99]
["CS1389",{"$f":"TEXT(Table_Query_from_Great_Plains[[#This Row],[ITEMNMBR]],0)","v":"CS1389"},"Custom: All Fruit (Brian)","RETAIL",0,100]
["CS1390",{"$f":"TEXT(Table_Query_from_Great_Plains[[#This Row],[ITEMNMBR]],0)","v":"CS1390"},"Custom: Red wine & Cookies (Anne)","RETAIL",1,166.99]
["CS1391",{"$f":"TEXT(Table_Query_from_Great_Plains[[#This Row],[ITEMNMBR]],0)","v":"CS1391"},"Custom:Country Inn -no ham - yes jam (Jen)","RETAIL",0,87.99]
["CS1392",{"$f":"TEXT(Table_Query_from_Great_Plains[[#This Row],[ITEMNMBR]],0)","v":"CS1392"},"Custom: Sports Enthusiast (Brian)","RETAIL",0,79.989999999999995]
["CS1393",{"$f":"TEXT(Table_Query_from_Great_Plains[[#This Row],[ITEMNMBR]],0)","v":"CS1393"},"Custom: 4405 remove cider add red wine (Anne)","RETAIL",1,91.99]
["CS1394",{"$f":"TEXT(Table_Query_from_Great_Plains[[#This Row],[ITEMNMBR]],0)","v":"CS1394"},"Custom:  4056 with white wine and more cheese (Anne)","RETAIL",1,280]
["CS1395",{"$f":"TEXT(Table_Query_from_Great_Plains[[#This Row],[ITEMNMBR]],0)","v":"CS1395"},"Custom:  Orchard abundance plus G/C (Lu)","RETAIL",0,589.99]
["CS1396",{"$f":"TEXT(Table_Query_from_Great_Plains[[#This Row],[ITEMNMBR]],0)","v":"CS1396"},"Custom:  Wine, Chocolates, Candle, Baby Boy Items (Brian)","RETAIL",1,146.99]
["CS1397",{"$f":"TEXT(Table_Query_from_Great_Plains[[#This Row],[ITEMNMBR]],0)","v":"CS1397"},"Custom:  Care pkg to Australia (Brian)","RETAIL",0,182.99]
["CS1398",{"$f":"TEXT(Table_Query_from_Great_Plains[[#This Row],[ITEMNMBR]],0)","v":"CS1398"},"Custom: Nature's Picnic and Vueve (Jen)","RETAIL",1,134.99]
["CS1399",{"$f":"TEXT(Table_Query_from_Great_Plains[[#This Row],[ITEMNMBR]],0)","v":"CS1399"},"Custom: Custom Wild Horse Trio snacks & sweets (Brian)","RETAIL",1,198.99]
["CS1400",{"$f":"TEXT(Table_Query_from_Great_Plains[[#This Row],[ITEMNMBR]],0)","v":"CS1400"},"Custom: Amdocs 1 (Dave)","RETAIL",0,23]
["CS1401",{"$f":"TEXT(Table_Query_from_Great_Plains[[#This Row],[ITEMNMBR]],0)","v":"CS1401"},"Custom: Amdocs 2 (Dave)","RETAIL",0,23]
["CS1402",{"$f":"TEXT(Table_Query_from_Great_Plains[[#This Row],[ITEMNMBR]],0)","v":"CS1402"},"Custom: Amdocs 3 (Dave)","RETAIL",0,40]
["CS1403",{"$f":"TEXT(Table_Query_from_Great_Plains[[#This Row],[ITEMNMBR]],0)","v":"CS1403"},"Custom: gourmet snacks (for adults) and candy (for kids) - (Brian)","RETAIL",0,163.99]
["CS1404",{"$f":"TEXT(Table_Query_from_Great_Plains[[#This Row],[ITEMNMBR]],0)","v":"CS1404"},"Custom: 4052 plus wine (Dena)","RETAIL",1,123.99]
["CS1405",{"$f":"TEXT(Table_Query_from_Great_Plains[[#This Row],[ITEMNMBR]],0)","v":"CS1405"},"Custom: 4507 -  just sierra (Jen)","RETAIL",1,47.99]
["CS1406",{"$f":"TEXT(Table_Query_from_Great_Plains[[#This Row],[ITEMNMBR]],0)","v":"CS1406"},"Custom: Gluten Free Halloween (Anne)","RETAIL",0,58.99]
["CS1407",{"$f":"TEXT(Table_Query_from_Great_Plains[[#This Row],[ITEMNMBR]],0)","v":"CS1407"},"Custom: Halloween - Merlot plus snacks, candy & glow toys","RETAIL",1,105.99]
["CS1408",{"$f":"TEXT(Table_Query_from_Great_Plains[[#This Row],[ITEMNMBR]],0)","v":"CS1408"},"Custom:Patron, Jo Mallo Candles, Highball glasses, Ipod Nanos (Lu)","RETAIL",1,1052.23]
["CS1409",{"$f":"TEXT(Table_Query_from_Great_Plains[[#This Row],[ITEMNMBR]],0)","v":"CS1409"},"Custom:Penton Commerical Aviaton  snacks no meats or perishables (Dave)","RETAIL",0,199.99]
["CS1410",{"$f":"TEXT(Table_Query_from_Great_Plains[[#This Row],[ITEMNMBR]],0)","v":"CS1410"},"Custom:replacements","RETAIL",0,0]
["CS1411",{"$f":"TEXT(Table_Query_from_Great_Plains[[#This Row],[ITEMNMBR]],0)","v":"CS1411"},"Custom:19th Hole swapping Heneken for Michelob Ultra (Jen)","RETAIL",0,110.99]
["CS1412",{"$f":"TEXT(Table_Query_from_Great_Plains[[#This Row],[ITEMNMBR]],0)","v":"CS1412"},"Custom:Ravenswood Cabernet (Brian)","RETAIL",1,113.99]
["CS1413",{"$f":"TEXT(Table_Query_from_Great_Plains[[#This Row],[ITEMNMBR]],0)","v":"CS1413"},"Custom Around the World with Sams only (Tim)","RETAIL",1,128.99]
["CS1414",{"$f":"TEXT(Table_Query_from_Great_Plains[[#This Row],[ITEMNMBR]],0)","v":"CS1414"},"Custom: Wild Horse Chardonnay (Jen)","RETAIL",1,170.99]
["CS1415",{"$f":"TEXT(Table_Query_from_Great_Plains[[#This Row],[ITEMNMBR]],0)","v":"CS1415"},"Custom: fruit snacks and puzzle books (Dena)","RETAIL",0,51.99]
["CS1416",{"$f":"TEXT(Table_Query_from_Great_Plains[[#This Row],[ITEMNMBR]],0)","v":"CS1416"},"Custom:Italian gift basket (Jen)","RETAIL",1,148.99]
["CS1417",{"$f":"TEXT(Table_Query_from_Great_Plains[[#This Row],[ITEMNMBR]],0)","v":"CS1417"},"Custom:fruits and nuts (Lu)","RETAIL",0,75]
["CS1418",{"$f":"TEXT(Table_Query_from_Great_Plains[[#This Row],[ITEMNMBR]],0)","v":"CS1418"},"Custom Cat Basket with Champagne (Jen)","RETAIL",1,156.99]
["CS1419",{"$f":"TEXT(Table_Query_from_Great_Plains[[#This Row],[ITEMNMBR]],0)","v":"CS1419"},"Custom: Amstel Light Beer Bucket (Lu)","RETAIL",0,128.99]
["CS1420",{"$f":"TEXT(Table_Query_from_Great_Plains[[#This Row],[ITEMNMBR]],0)","v":"CS1420"},"Custom Critics Sampler - no cherry, add PB cup (Tim)","RETAIL",0,34.99]
["CS1421",{"$f":"TEXT(Table_Query_from_Great_Plains[[#This Row],[ITEMNMBR]],0)","v":"CS1421"},"Custom: Fruit and snacks (Lu)","RETAIL",0,79.989999999999995]
["CS1422",{"$f":"TEXT(Table_Query_from_Great_Plains[[#This Row],[ITEMNMBR]],0)","v":"CS1422"},"Custom: 5104 remove sausage add cheese (Dave)","RETAIL",1,139.99]
["CS1423",{"$f":"TEXT(Table_Query_from_Great_Plains[[#This Row],[ITEMNMBR]],0)","v":"CS1423"},"Custom: 4503 - light beers (Doris)","RETAIL",1,129.99]
["CS1424",{"$f":"TEXT(Table_Query_from_Great_Plains[[#This Row],[ITEMNMBR]],0)","v":"CS1424"},"Custom: 5017 with wildhorse merlot (Doris)","RETAIL",1,192.99]
["CS1425",{"$f":"TEXT(Table_Query_from_Great_Plains[[#This Row],[ITEMNMBR]],0)","v":"CS1425"},"Custom: Get Well Soon  - Soup Basket (Anne)","RETAIL",0,75.989999999999995]
["CS1426",{"$f":"TEXT(Table_Query_from_Great_Plains[[#This Row],[ITEMNMBR]],0)","v":"CS1426"},"Custom: fruit snacks chocolates and heineken (Anne)","RETAIL",1,83.99]
["CS1427",{"$f":"TEXT(Table_Query_from_Great_Plains[[#This Row],[ITEMNMBR]],0)","v":"CS1427"},"Custom: bountiful plus tea and cookies (Anne)","RETAIL",0,144.99]
["CS1428",{"$f":"TEXT(Table_Query_from_Great_Plains[[#This Row],[ITEMNMBR]],0)","v":"CS1428"},"Custom: 5016 plus red and white wines (Jen)","RETAIL",1,169.99]
["CS1429",{"$f":"TEXT(Table_Query_from_Great_Plains[[#This Row],[ITEMNMBR]],0)","v":"CS1429"},"Custom: 4755 candies in halloween bucket no chocolates (Anne)","RETAIL",0,51.99]
["CS1430",{"$f":"TEXT(Table_Query_from_Great_Plains[[#This Row],[ITEMNMBR]],0)","v":"CS1430"},"Custom: custom kosher (Anne)","RETAIL",0,200]
["CS1431",{"$f":"TEXT(Table_Query_from_Great_Plains[[#This Row],[ITEMNMBR]],0)","v":"CS1431"},"Custom: custom red wine, chocolates ,baby boy items (Jen)","RETAIL",1,115]
["CS1432",{"$f":"TEXT(Table_Query_from_Great_Plains[[#This Row],[ITEMNMBR]],0)","v":"CS1432"},"Custom: 5104 - chardonnay only (Anne)","RETAIL",1,141.99]
["CS1433",{"$f":"TEXT(Table_Query_from_Great_Plains[[#This Row],[ITEMNMBR]],0)","v":"CS1433"},"Custom: Microbrew Beer Bucket (Lu)","RETAIL",1,85.99]
["CS1434",{"$f":"TEXT(Table_Query_from_Great_Plains[[#This Row],[ITEMNMBR]],0)","v":"CS1434"},"Custom: Sour Skittles in Halloween Bucket (Anne)","RETAIL",0,56.99]
["CS1435",{"$f":"TEXT(Table_Query_from_Great_Plains[[#This Row],[ITEMNMBR]],0)","v":"CS1435"},"Custom: Healthy Snacks in Golf Bag (Anne)","RETAIL",0,75]
["CS1436",{"$f":"TEXT(Table_Query_from_Great_Plains[[#This Row],[ITEMNMBR]],0)","v":"CS1436"},"Custom: added BBQ sause and seasoning (Mike)","RETAIL",0,14.99]
["CS1437",{"$f":"TEXT(Table_Query_from_Great_Plains[[#This Row],[ITEMNMBR]],0)","v":"CS1437"},"Custom: golf and wine (Anne)","RETAIL",1,157.99]
["CS1438",{"$f":"TEXT(Table_Query_from_Great_Plains[[#This Row],[ITEMNMBR]],0)","v":"CS1438"},"Custom: Fruit & Chocolates - Kosher (Doris)","RETAIL",0,206]
["CS1439",{"$f":"TEXT(Table_Query_from_Great_Plains[[#This Row],[ITEMNMBR]],0)","v":"CS1439"},"Custom:orchards with red ravenswood wine (Lu)","RETAIL",1,106.99]
["CS1440",{"$f":"TEXT(Table_Query_from_Great_Plains[[#This Row],[ITEMNMBR]],0)","v":"CS1440"},"Custom:Heineken (Jen)","RETAIL",1,96.99]
["CS1441",{"$f":"TEXT(Table_Query_from_Great_Plains[[#This Row],[ITEMNMBR]],0)","v":"CS1441"},"Custom : Chardonnay, fruit, cheese, & crackers (Anne)","RETAIL",1,224.99]
["CS1442",{"$f":"TEXT(Table_Query_from_Great_Plains[[#This Row],[ITEMNMBR]],0)","v":"CS1442"},"Custom:White Wine (Anne)","RETAIL",1,198.99]
["CS1443",{"$f":"TEXT(Table_Query_from_Great_Plains[[#This Row],[ITEMNMBR]],0)","v":"CS1443"},"Custom:Wine and Fruit (Koie)","RETAIL",1,150]
["CS1444",{"$f":"TEXT(Table_Query_from_Great_Plains[[#This Row],[ITEMNMBR]],0)","v":"CS1444"},"Custom 6902 with extra cup noodles, choc chip cookies, cocoa (not Santa) - Jen","RETAIL",0,61.99]
["CS1445",{"$f":"TEXT(Table_Query_from_Great_Plains[[#This Row],[ITEMNMBR]],0)","v":"CS1445"},"Custom Junk Food type Snacks, Chocolate, Popcorn in Basket - Dave L.","RETAIL",0,92.99]
["CS1446",{"$f":"TEXT(Table_Query_from_Great_Plains[[#This Row],[ITEMNMBR]],0)","v":"CS1446"},"Custom: Champagne with snacks and chocolates (Dena)","RETAIL",1,126.99]
["CS1447",{"$f":"TEXT(Table_Query_from_Great_Plains[[#This Row],[ITEMNMBR]],0)","v":"CS1447"},"Custom:Estate with added Diet Coke (Jen)","RETAIL",0,197.99]
["CS1448",{"$f":"TEXT(Table_Query_from_Great_Plains[[#This Row],[ITEMNMBR]],0)","v":"CS1448"},"Custom:Bountiful - no cheese (Jen)","RETAIL",0,135]
["CS1449",{"$f":"TEXT(Table_Query_from_Great_Plains[[#This Row],[ITEMNMBR]],0)","v":"CS1449"},"Custom:Christmas Executive Suite plus red & white wines (Anne)","RETAIL",1,300]
["CS1450",{"$f":"TEXT(Table_Query_from_Great_Plains[[#This Row],[ITEMNMBR]],0)","v":"CS1450"},"Custom : Moet dark choc truffles, cheese and crackers (Jen)","RETAIL",1,151.99]
["CS1451",{"$f":"TEXT(Table_Query_from_Great_Plains[[#This Row],[ITEMNMBR]],0)","v":"CS1451"},"Custom : gluten free snacks and cat items (Dena)","RETAIL",0,52.99]
["CS1452",{"$f":"TEXT(Table_Query_from_Great_Plains[[#This Row],[ITEMNMBR]],0)","v":"CS1452"},"Custom : Newer Ventures -Dom- & Chocolate Suitcase (Dave)","RETAIL",1,352.99]
["CS1453",{"$f":"TEXT(Table_Query_from_Great_Plains[[#This Row],[ITEMNMBR]],0)","v":"CS1453"},"Custom : Table in Tuscany plus Cookies Sampler (Anne)","RETAIL",0,149.99]
["CS1454",{"$f":"TEXT(Table_Query_from_Great_Plains[[#This Row],[ITEMNMBR]],0)","v":"CS1454"},"Custom : care package combo (Jen)","RETAIL",0,75]
["CS1455",{"$f":"TEXT(Table_Query_from_Great_Plains[[#This Row],[ITEMNMBR]],0)","v":"CS1455"},"Custom : Au Natural Popcorn - bulk (Koie / Jen)","RETAIL",0,104.99]
["CS1456",{"$f":"TEXT(Table_Query_from_Great_Plains[[#This Row],[ITEMNMBR]],0)","v":"CS1456"},"Custom : Miniature Popcorn Bags  - Bacon Flavor (Tim)","RETAIL",0,350]
["CS1457",{"$f":"TEXT(Table_Query_from_Great_Plains[[#This Row],[ITEMNMBR]],0)","v":"CS1457"},"Custom : snacks and more for 7yr old girl (Doris)","RETAIL",0,100]
["CS1458",{"$f":"TEXT(Table_Query_from_Great_Plains[[#This Row],[ITEMNMBR]],0)","v":"CS1458"},"Custom : snacks and more for 10yr old girl (Doris)","RETAIL",0,100]
["CS1459",{"$f":"TEXT(Table_Query_from_Great_Plains[[#This Row],[ITEMNMBR]],0)","v":"CS1459"},"Custom : snacks and more for 11yr old girl (Doris)","RETAIL",0,100]
["CS1460",{"$f":"TEXT(Table_Query_from_Great_Plains[[#This Row],[ITEMNMBR]],0)","v":"CS1460"},"Custom : snacks and more for 18yr old girl (Doris)","RETAIL",0,100]
["CS1461",{"$f":"TEXT(Table_Query_from_Great_Plains[[#This Row],[ITEMNMBR]],0)","v":"CS1461"},"Custom : Red wine with organic snacks (Jen)","RETAIL",1,175.99]
["CS1462",{"$f":"TEXT(Table_Query_from_Great_Plains[[#This Row],[ITEMNMBR]],0)","v":"CS1462"},"Custom : Cakebread (Anne)","RETAIL",1,287.99]
["CS1463",{"$f":"TEXT(Table_Query_from_Great_Plains[[#This Row],[ITEMNMBR]],0)","v":"CS1463"},"Custom - Baked Goods Tower (sub tower boxes)","RETAIL",0,59.99]
["CS1464",{"$f":"TEXT(Table_Query_from_Great_Plains[[#This Row],[ITEMNMBR]],0)","v":"CS1464"},"Custom Chocolate handouts (Tim)","RETAIL",0,85]
["CS1465",{"$f":"TEXT(Table_Query_from_Great_Plains[[#This Row],[ITEMNMBR]],0)","v":"CS1465"},"Custom: Opus One Red Cabernet (Doris)","RETAIL",1,784.99]
["CS1466",{"$f":"TEXT(Table_Query_from_Great_Plains[[#This Row],[ITEMNMBR]],0)","v":"CS1466"},"Custom: showstopper plus fruit (Tim)","RETAIL",0,199.99]
["CS1467",{"$f":"TEXT(Table_Query_from_Great_Plains[[#This Row],[ITEMNMBR]],0)","v":"CS1467"},"Custom: 4047 plus Ravenswood Cabernet Sauvignon Vinters Blend (Doris)","RETAIL",1,156.99]
["CS1468",{"$f":"TEXT(Table_Query_from_Great_Plains[[#This Row],[ITEMNMBR]],0)","v":"CS1468"},"Custom: 5230 remove meat and cheese (Dena)","RETAIL",0,171.99]
["CS1469",{"$f":"TEXT(Table_Query_from_Great_Plains[[#This Row],[ITEMNMBR]],0)","v":"CS1469"},"Custom Popcorn, Snacks, Junk Food (Mike F)","RETAIL",0,400]
["CS1470",{"$f":"TEXT(Table_Query_from_Great_Plains[[#This Row],[ITEMNMBR]],0)","v":"CS1470"},"Custom: Bloody Mary - Breakfast, Snack &  Chocolate (Tim)","RETAIL",0,120]
["CS1471",{"$f":"TEXT(Table_Query_from_Great_Plains[[#This Row],[ITEMNMBR]],0)","v":"CS1471"},"Custom: OESGI  - 5207 - plus santa Hat - care package for 2 little girls (Tim)","RETAIL",0,80.989999999999995]
["CS1472",{"$f":"TEXT(Table_Query_from_Great_Plains[[#This Row],[ITEMNMBR]],0)","v":"CS1472"},"Custom: OESGI - 6014 - plus santa hat (Tim)","RETAIL",0,58.99]
["CS1473",{"$f":"TEXT(Table_Query_from_Great_Plains[[#This Row],[ITEMNMBR]],0)","v":"CS1473"},"Custom: OESGI - 5107c plus bottle of Cakebread Cabernet (Tim)","RETAIL",1,378.99]
["CS1474",{"$f":"TEXT(Table_Query_from_Great_Plains[[#This Row],[ITEMNMBR]],0)","v":"CS1474"},"Custom : 5021 no bacon added items (Anne)","RETAIL",0,126.99]
["CS1475",{"$f":"TEXT(Table_Query_from_Great_Plains[[#This Row],[ITEMNMBR]],0)","v":"CS1475"},"Custom : 4404 - gluten free crackers (Anne)","RETAIL",0,92.99]
["CS1476",{"$f":"TEXT(Table_Query_from_Great_Plains[[#This Row],[ITEMNMBR]],0)","v":"CS1476"},"Custom : 5022 (Doris)","RETAIL",0,91.99]
["CS1477",{"$f":"TEXT(Table_Query_from_Great_Plains[[#This Row],[ITEMNMBR]],0)","v":"CS1477"},"Custom : 5087 - Catena - (Doris)","RETAIL",1,120.99]
["CS1478",{"$f":"TEXT(Table_Query_from_Great_Plains[[#This Row],[ITEMNMBR]],0)","v":"CS1478"},"Custom : 5087 with Catena  (Doris)","RETAIL",1,120.99]
["CS1479",{"$f":"TEXT(Table_Query_from_Great_Plains[[#This Row],[ITEMNMBR]],0)","v":"CS1479"},"Custom : Beer Bucket with Chocolates (Sam / Anne)","RETAIL",1,113.99]
["CS1480",{"$f":"TEXT(Table_Query_from_Great_Plains[[#This Row],[ITEMNMBR]],0)","v":"CS1480"},"Custom : christmas ultimate with added fondue set (Tim)","RETAIL",0,149.99]
["CS1481",{"$f":"TEXT(Table_Query_from_Great_Plains[[#This Row],[ITEMNMBR]],0)","v":"CS1481"},"Custom : items for Jill","RETAIL",0,29.99]
["CS1482",{"$f":"TEXT(Table_Query_from_Great_Plains[[#This Row],[ITEMNMBR]],0)","v":"CS1482"},"Custom : PR (Madeline)","RETAIL",0,0]
["CS1483",{"$f":"TEXT(Table_Query_from_Great_Plains[[#This Row],[ITEMNMBR]],0)","v":"CS1483"},"Custom: 5107c plus one more Dom (Tim)","RETAIL",1,430.99]
["CS1484",{"$f":"TEXT(Table_Query_from_Great_Plains[[#This Row],[ITEMNMBR]],0)","v":"CS1484"},"Custom: fruit and red wine basket (Anne)","RETAIL",1,99.99]
["CS1485",{"$f":"TEXT(Table_Query_from_Great_Plains[[#This Row],[ITEMNMBR]],0)","v":"CS1485"},"Custom: 4025 plus dog treats (Anne)","RETAIL",0,211.99]
["CS1486",{"$f":"TEXT(Table_Query_from_Great_Plains[[#This Row],[ITEMNMBR]],0)","v":"CS1486"},"Custom:Oranges in a basket (Dena)","RETAIL",0,83.99]
["CS1487",{"$f":"TEXT(Table_Query_from_Great_Plains[[#This Row],[ITEMNMBR]],0)","v":"CS1487"},"Custom:Bountiful with pasta and sauce (Tim)","RETAIL",0,138.99]
["CS1488",{"$f":"TEXT(Table_Query_from_Great_Plains[[#This Row],[ITEMNMBR]],0)","v":"CS1488"},"Custom: welcome, new employee, for family..Cabernet, Teddy Bear, and Chocolates (Brian)","RETAIL",1,138.99]
["CS1489",{"$f":"TEXT(Table_Query_from_Great_Plains[[#This Row],[ITEMNMBR]],0)","v":"CS1489"},"Custom: Organic products in suitcase (Jen)","RETAIL",0,216]
["CS1490",{"$f":"TEXT(Table_Query_from_Great_Plains[[#This Row],[ITEMNMBR]],0)","v":"CS1490"},"Custom:Cardinals Fan (Koie / Dena)","RETAIL",0,67.989999999999995]
["CS1491",{"$f":"TEXT(Table_Query_from_Great_Plains[[#This Row],[ITEMNMBR]],0)","v":"CS1491"},"Custom:Picnic - Booz & Company (Brian)","RETAIL",1,200]
["CS1492",{"$f":"TEXT(Table_Query_from_Great_Plains[[#This Row],[ITEMNMBR]],0)","v":"CS1492"},"Custom: chocolate handouts 2014 (Tim)","RETAIL",0,100]
["CS1493",{"$f":"TEXT(Table_Query_from_Great_Plains[[#This Row],[ITEMNMBR]],0)","v":"CS1493"},"Custom: Price Waterhouse Coopers - Congratulations - (Brian)","RETAIL",0,70]
["CS1494",{"$f":"TEXT(Table_Query_from_Great_Plains[[#This Row],[ITEMNMBR]],0)","v":"CS1494"},"Custom Micro 6 pk with just Leinenkugel for Dena","RETAIL",1,94.99]
["CS1495",{"$f":"TEXT(Table_Query_from_Great_Plains[[#This Row],[ITEMNMBR]],0)","v":"CS1495"},"Custom 5099 remove one red wine add a white wine for Dena","RETAIL",1,450.99]
["CS1496",{"$f":"TEXT(Table_Query_from_Great_Plains[[#This Row],[ITEMNMBR]],0)","v":"CS1496"},"Custom: Baby Basket - blue (Brian)","RETAIL",0,93.99]
["CS1497",{"$f":"TEXT(Table_Query_from_Great_Plains[[#This Row],[ITEMNMBR]],0)","v":"CS1497"},"Custom: lady bug tote plus playing cards (Dena)","RETAIL",0,96.99]
["CS1498",{"$f":"TEXT(Table_Query_from_Great_Plains[[#This Row],[ITEMNMBR]],0)","v":"CS1498"},"Custom: Graphic Controls - snacks & sweets  - going to Mexico (Brian)","RETAIL",0,222.99]
["CS1499",{"$f":"TEXT(Table_Query_from_Great_Plains[[#This Row],[ITEMNMBR]],0)","v":"CS1499"},"Custom: replacement - Wildhorse Reds - (Dena)","RETAIL",1,0]
["CS1500",{"$f":"TEXT(Table_Query_from_Great_Plains[[#This Row],[ITEMNMBR]],0)","v":"CS1500"},"Custom: 4502 - beer specific - (Koie)","RETAIL",1,143.99]
["CS1501",{"$f":"TEXT(Table_Query_from_Great_Plains[[#This Row],[ITEMNMBR]],0)","v":"CS1501"},"Custom: 4505 - doubled beers - (Anne)","RETAIL",1,99.99]
["CS1502",{"$f":"TEXT(Table_Query_from_Great_Plains[[#This Row],[ITEMNMBR]],0)","v":"CS1502"},"Custom: catena melbec replacement (Koie)","RETAIL",1,0]
["CS1503",{"$f":"TEXT(Table_Query_from_Great_Plains[[#This Row],[ITEMNMBR]],0)","v":"CS1503"},"Custom: Golf Theme with snacks and apples(Doris)","RETAIL",0,75.989999999999995]
["CS1504",{"$f":"TEXT(Table_Query_from_Great_Plains[[#This Row],[ITEMNMBR]],0)","v":"CS1504"},"Custom: Golf Theme with snacks and apples(Doris)","RETAIL",0,75.989999999999995]
["CS1505",{"$f":"TEXT(Table_Query_from_Great_Plains[[#This Row],[ITEMNMBR]],0)","v":"CS1505"},"Custom: corona extra with snacks  (Doris)","RETAIL",1,109.99]
["CS1506",{"$f":"TEXT(Table_Query_from_Great_Plains[[#This Row],[ITEMNMBR]],0)","v":"CS1506"},"Custom: snack mini (Anne)","RETAIL",0,61.99]
["CS1507",{"$f":"TEXT(Table_Query_from_Great_Plains[[#This Row],[ITEMNMBR]],0)","v":"CS1507"},"Custom: activity, games, and puzzles care package (Doris)","RETAIL",0,82.99]
["CS1508",{"$f":"TEXT(Table_Query_from_Great_Plains[[#This Row],[ITEMNMBR]],0)","v":"CS1508"},"Custom: Maximum Energy (Anne)","RETAIL",0,772.99]
["CS1509",{"$f":"TEXT(Table_Query_from_Great_Plains[[#This Row],[ITEMNMBR]],0)","v":"CS1509"},"Custom: golf and beer (Dena)","RETAIL",1,130.99]
["CS1510",{"$f":"TEXT(Table_Query_from_Great_Plains[[#This Row],[ITEMNMBR]],0)","v":"CS1510"},"Custom: Valentines tower swapped chocoates (Anne)","RETAIL",0,74.989999999999995]
["CS1511",{"$f":"TEXT(Table_Query_from_Great_Plains[[#This Row],[ITEMNMBR]],0)","v":"CS1511"},"Custom: Cakebread snacks and chocolates for Valentine's  (Anne)","RETAIL",1,120]
["CS1512",{"$f":"TEXT(Table_Query_from_Great_Plains[[#This Row],[ITEMNMBR]],0)","v":"CS1512"},"Custom: beer bucket remove some items add salmon (Koie)","RETAIL",1,140.9]
["CS1513",{"$f":"TEXT(Table_Query_from_Great_Plains[[#This Row],[ITEMNMBR]],0)","v":"CS1513"},"Custom: Heineken Bucket (Dena)","RETAIL",1,121.99]
["CS1514",{"$f":"TEXT(Table_Query_from_Great_Plains[[#This Row],[ITEMNMBR]],0)","v":"CS1514"},"Custom - Replacment Silver Oak Alex Valley","RETAIL",1,0]
["CS1515",{"$f":"TEXT(Table_Query_from_Great_Plains[[#This Row],[ITEMNMBR]],0)","v":"CS1515"},"Custom - Replacment Ravenswood Cabernet","RETAIL",1,0]
["CS1516",{"$f":"TEXT(Table_Query_from_Great_Plains[[#This Row],[ITEMNMBR]],0)","v":"CS1516"},"Custom - Valentine's Day Fruit with added Teddy, crackers and cheese (Dena)","RETAIL",0,112.99]
["CS1517",{"$f":"TEXT(Table_Query_from_Great_Plains[[#This Row],[ITEMNMBR]],0)","v":"CS1517"},"Custom - Nostalgic Candy Crate (Doris)","RETAIL",0,50]
["CS1518",{"$f":"TEXT(Table_Query_from_Great_Plains[[#This Row],[ITEMNMBR]],0)","v":"CS1518"},"Custom - Replacements (Doris)","RETAIL",0,0]
["CS1519",{"$f":"TEXT(Table_Query_from_Great_Plains[[#This Row],[ITEMNMBR]],0)","v":"CS1519"},"Custom - Replacements (Koie)","RETAIL",1,0]
["CS1520",{"$f":"TEXT(Table_Query_from_Great_Plains[[#This Row],[ITEMNMBR]],0)","v":"CS1520"},"Custom - Replacements (Dena)","RETAIL",0,0]
["CS1521",{"$f":"TEXT(Table_Query_from_Great_Plains[[#This Row],[ITEMNMBR]],0)","v":"CS1521"},"Custom - 21rst Bday (Anne)","RETAIL",1,140.99]
["CS1522",{"$f":"TEXT(Table_Query_from_Great_Plains[[#This Row],[ITEMNMBR]],0)","v":"CS1522"},"Custom - Replacements (Dena)","RETAIL",0,0]
["CS1523",{"$f":"TEXT(Table_Query_from_Great_Plains[[#This Row],[ITEMNMBR]],0)","v":"CS1523"},"Custom: seasons sampler swapped crackers (Lu)","RETAIL",0,68.989999999999995]
["CS1524",{"$f":"TEXT(Table_Query_from_Great_Plains[[#This Row],[ITEMNMBR]],0)","v":"CS1524"},"Custom: bountiful.. (Tim)","RETAIL",0,90]
["CS1525",{"$f":"TEXT(Table_Query_from_Great_Plains[[#This Row],[ITEMNMBR]],0)","v":"CS1525"},"Custom: Around the world plus Merlot (Dena)","RETAIL",1,130.99]
["CS1526",{"$f":"TEXT(Table_Query_from_Great_Plains[[#This Row],[ITEMNMBR]],0)","v":"CS1526"},"Custom:Brownie sampler (Tim)","RETAIL",0,122.99]
["CS1527",{"$f":"TEXT(Table_Query_from_Great_Plains[[#This Row],[ITEMNMBR]],0)","v":"CS1527"},"Custom:Day in Paris with White Wine (Doris)","RETAIL",1,153.99]
["CS1528",{"$f":"TEXT(Table_Query_from_Great_Plains[[#This Row],[ITEMNMBR]],0)","v":"CS1528"},"Custom: Breakfast plus dog lover (Koie)","RETAIL",0,115.99]
["CS1529",{"$f":"TEXT(Table_Query_from_Great_Plains[[#This Row],[ITEMNMBR]],0)","v":"CS1529"},"Custom: Fruit and Organic (Koie)","RETAIL",0,97.99]
["CS1530",{"$f":"TEXT(Table_Query_from_Great_Plains[[#This Row],[ITEMNMBR]],0)","v":"CS1530"},"Custom: Brian","RETAIL",1,75]
["CS1531",{"$f":"TEXT(Table_Query_from_Great_Plains[[#This Row],[ITEMNMBR]],0)","v":"CS1531"},"Custom:Wine trio (Mike)","RETAIL",1,228.99]
["CS1532",{"$f":"TEXT(Table_Query_from_Great_Plains[[#This Row],[ITEMNMBR]],0)","v":"CS1532"},"Custom: fruit and kosher snacks (Anne)","RETAIL",0,64.989999999999995]
["CS1533",{"$f":"TEXT(Table_Query_from_Great_Plains[[#This Row],[ITEMNMBR]],0)","v":"CS1533"},"Custom: Red Wine, Veuve, Chocolates & Truffles (Doris)","RETAIL",1,319.99]
["CS1534",{"$f":"TEXT(Table_Query_from_Great_Plains[[#This Row],[ITEMNMBR]],0)","v":"CS1534"},"Custom: candy crate (Anne)","RETAIL",0,49.99]
["CS1535",{"$f":"TEXT(Table_Query_from_Great_Plains[[#This Row],[ITEMNMBR]],0)","v":"CS1535"},"Custom: some of Easter Sweets & Treats with a bottle of red & white wine (Doris)","RETAIL",1,108.99]
["CS1536",{"$f":"TEXT(Table_Query_from_Great_Plains[[#This Row],[ITEMNMBR]],0)","v":"CS1536"},"Custom: Bag o Popcorn 2 Gallon Non Supreme","RETAIL",0,30]
["CS1537",{"$f":"TEXT(Table_Query_from_Great_Plains[[#This Row],[ITEMNMBR]],0)","v":"CS1537"},"Custom: Bag o Popcorn 2 Gallon Supreme","RETAIL",0,40]
["CS1538",{"$f":"TEXT(Table_Query_from_Great_Plains[[#This Row],[ITEMNMBR]],0)","v":"CS1538"},"Custom: Bag o Popcorn 3.5 Gallon  Non Supreme","RETAIL",0,40]
["CS1539",{"$f":"TEXT(Table_Query_from_Great_Plains[[#This Row],[ITEMNMBR]],0)","v":"CS1539"},"Custom: Bag o Popcorn 3.5 Gallon Supreme","RETAIL",0,50]
["CS1540",{"$f":"TEXT(Table_Query_from_Great_Plains[[#This Row],[ITEMNMBR]],0)","v":"CS1540"},"Custom:Gift for 6yr old Girl (Dena)","RETAIL",0,99.99]
["CS1541",{"$f":"TEXT(Table_Query_from_Great_Plains[[#This Row],[ITEMNMBR]],0)","v":"CS1541"},"Custom:Gift for 4 yr old Boy (Dena)","RETAIL",0,99.99]
["CS1542",{"$f":"TEXT(Table_Query_from_Great_Plains[[#This Row],[ITEMNMBR]],0)","v":"CS1542"},"Custom:Gift for 4 yr old Girl (Dena)","RETAIL",0,99.99]
["CS1543",{"$f":"TEXT(Table_Query_from_Great_Plains[[#This Row],[ITEMNMBR]],0)","v":"CS1543"},"Custom:Gifts for Easter- (Dena- personal)","RETAIL",0,38.99]
["CS1544",{"$f":"TEXT(Table_Query_from_Great_Plains[[#This Row],[ITEMNMBR]],0)","v":"CS1544"},"Custom:Gifts for Easter-just items alone- (Dena- personal)","RETAIL",0,67]
["CS1545",{"$f":"TEXT(Table_Query_from_Great_Plains[[#This Row],[ITEMNMBR]],0)","v":"CS1545"},"Custom: Evening of Indulgence (Anne)","RETAIL",1,139.99]
["CS1546",{"$f":"TEXT(Table_Query_from_Great_Plains[[#This Row],[ITEMNMBR]],0)","v":"CS1546"},"Custom: Cabernet Savignon by Silver Oak Alexander Valley (Doris)","RETAIL",1,115.55]
["CS1547",{"$f":"TEXT(Table_Query_from_Great_Plains[[#This Row],[ITEMNMBR]],0)","v":"CS1547"},"Custom: Dom, Snacks & Chocolates (Doris)","RETAIL",1,400]
["CS1548",{"$f":"TEXT(Table_Query_from_Great_Plains[[#This Row],[ITEMNMBR]],0)","v":"CS1548"},"Custom: Baby Boy (Jean)","RETAIL",0,125]
["CS1549",{"$f":"TEXT(Table_Query_from_Great_Plains[[#This Row],[ITEMNMBR]],0)","v":"CS1549"},"Custom: Tea, Cookies, Coffee, & Nuts (Dave)","RETAIL",0,115]
["CS1550",{"$f":"TEXT(Table_Query_from_Great_Plains[[#This Row],[ITEMNMBR]],0)","v":"CS1550"},"Custom: 5090 plus added chocolates (Doris)","RETAIL",1,154.99]
["CS1551",{"$f":"TEXT(Table_Query_from_Great_Plains[[#This Row],[ITEMNMBR]],0)","v":"CS1551"},"Custom: Around the World -24- (Anne)","RETAIL",1,154.99]
["CS1552",{"$f":"TEXT(Table_Query_from_Great_Plains[[#This Row],[ITEMNMBR]],0)","v":"CS1552"},"Custom: 5604+5603+4803  all in one basket (Koie)","RETAIL",0,131.99]
["CS1553",{"$f":"TEXT(Table_Query_from_Great_Plains[[#This Row],[ITEMNMBR]],0)","v":"CS1553"},"Custom 4503 + Microbrew beers, no jerky, add popcorn - Koie","RETAIL",1,164.99]
["CS1554",{"$f":"TEXT(Table_Query_from_Great_Plains[[#This Row],[ITEMNMBR]],0)","v":"CS1554"},"Custom: Cakebread basket - (Koie)","RETAIL",1,504.99]
["CS1555",{"$f":"TEXT(Table_Query_from_Great_Plains[[#This Row],[ITEMNMBR]],0)","v":"CS1555"},"Custom: Birthday - (Koie)","RETAIL",1,146.99]
["CS1556",{"$f":"TEXT(Table_Query_from_Great_Plains[[#This Row],[ITEMNMBR]],0)","v":"CS1556"},"Custom: Hippity Hoppity - 16in bunny - yellow & green - (Koie)","RETAIL",0,64.989999999999995]
["CS1557",{"$f":"TEXT(Table_Query_from_Great_Plains[[#This Row],[ITEMNMBR]],0)","v":"CS1557"},"Custom: Hippity Hoppity - 12in bunny - purple & pink A - (Koie)","RETAIL",0,54.99]
["CS1558",{"$f":"TEXT(Table_Query_from_Great_Plains[[#This Row],[ITEMNMBR]],0)","v":"CS1558"},"Custom: Hippity Hoppity - 12in bunny - purple & pink B - (Koie)","RETAIL",0,54.99]
["CS1559",{"$f":"TEXT(Table_Query_from_Great_Plains[[#This Row],[ITEMNMBR]],0)","v":"CS1559"},"Custom: Hippity Hoppity - 12in bunny - Blue A - (Koie)","RETAIL",0,54.99]
["CS1560",{"$f":"TEXT(Table_Query_from_Great_Plains[[#This Row],[ITEMNMBR]],0)","v":"CS1560"},"Custom: Hippity Hoppity - 12in bunny - Blue B - (Koie)","RETAIL",0,54.99]
["CS1561",{"$f":"TEXT(Table_Query_from_Great_Plains[[#This Row],[ITEMNMBR]],0)","v":"CS1561"},"Custom: Easter Basket (Dena)","RETAIL",0,79.989999999999995]
["CS1562",{"$f":"TEXT(Table_Query_from_Great_Plains[[#This Row],[ITEMNMBR]],0)","v":"CS1562"},"Custom: Cakebreads red & white (Koie)","RETAIL",1,284.99]
["CS1563",{"$f":"TEXT(Table_Query_from_Great_Plains[[#This Row],[ITEMNMBR]],0)","v":"CS1563"},"Custom: Chocolate Bunnies in a box (Doris)","RETAIL",0,35]
["CS1564",{"$f":"TEXT(Table_Query_from_Great_Plains[[#This Row],[ITEMNMBR]],0)","v":"CS1564"},"Custom: Easter Triple Bunny Basket (Koie)","RETAIL",0,149.99]
["CS1565",{"$f":"TEXT(Table_Query_from_Great_Plains[[#This Row],[ITEMNMBR]],0)","v":"CS1565"},"Custom: Easter 4637 - 1251  add bunny (Anne)","RETAIL",0,104.99]
["CS1566",{"$f":"TEXT(Table_Query_from_Great_Plains[[#This Row],[ITEMNMBR]],0)","v":"CS1566"},"Custom: Easter - 4646 red & white Ravenswood (Doris)","RETAIL",1,149.99]
["CS1567",{"$f":"TEXT(Table_Query_from_Great_Plains[[#This Row],[ITEMNMBR]],0)","v":"CS1567"},"Custom: Healthy Ultimate (Tim)","RETAIL",0,167.99]
["CS1568",{"$f":"TEXT(Table_Query_from_Great_Plains[[#This Row],[ITEMNMBR]],0)","v":"CS1568"},"Custom: Baby Boy & Chocolates (Dave)","RETAIL",0,150]
["CS1569",{"$f":"TEXT(Table_Query_from_Great_Plains[[#This Row],[ITEMNMBR]],0)","v":"CS1569"},"Custom: In Appreciation (Tasha &Kami)","RETAIL",0,71.989999999999995]
["CS1570",{"$f":"TEXT(Table_Query_from_Great_Plains[[#This Row],[ITEMNMBR]],0)","v":"CS1570"},"Custom: Nostalgic Candy Crate (Doris)","RETAIL",0,66.989999999999995]
["CS1571",{"$f":"TEXT(Table_Query_from_Great_Plains[[#This Row],[ITEMNMBR]],0)","v":"CS1571"},"Custom: Baby Boy & Parents (Tim)","RETAIL",1,200]
["CS1572",{"$f":"TEXT(Table_Query_from_Great_Plains[[#This Row],[ITEMNMBR]],0)","v":"CS1572"},"Custom 5 Gallons Caramel KOP (Anne)","RETAIL",0,50]
["CS1573",{"$f":"TEXT(Table_Query_from_Great_Plains[[#This Row],[ITEMNMBR]],0)","v":"CS1573"},"Custom 4, 1 Gallons KOP (Anne)","RETAIL",0,54.96]
["CS1574",{"$f":"TEXT(Table_Query_from_Great_Plains[[#This Row],[ITEMNMBR]],0)","v":"CS1574"},"Custom: 5087 and 4100 (Tim)","RETAIL",0,130.99]
["CS1575",{"$f":"TEXT(Table_Query_from_Great_Plains[[#This Row],[ITEMNMBR]],0)","v":"CS1575"},"Custom: aclaro softworks, inc  4072 + 5092 (Tim)","RETAIL",1,300]
["CS1576",{"$f":"TEXT(Table_Query_from_Great_Plains[[#This Row],[ITEMNMBR]],0)","v":"CS1576"},"Custom:Gluten Free with Red & White Wine (Anne)","RETAIL",1,279.99]
["CS1577",{"$f":"TEXT(Table_Query_from_Great_Plains[[#This Row],[ITEMNMBR]],0)","v":"CS1577"},"Custom:Snacks with bottle of Moet (Dave)","RETAIL",1,200]
["CS1578",{"$f":"TEXT(Table_Query_from_Great_Plains[[#This Row],[ITEMNMBR]],0)","v":"CS1578"},"Custom: Organic snacks with Cakebread Sauvignon blanc (Anne)","RETAIL",1,197.99]
["CS1579",{"$f":"TEXT(Table_Query_from_Great_Plains[[#This Row],[ITEMNMBR]],0)","v":"CS1579"},"Custom: Irish beer bucket - doubled beers- lower sodium type snacks - (Koie)","RETAIL",1,112.99]
["CS1580",{"$f":"TEXT(Table_Query_from_Great_Plains[[#This Row],[ITEMNMBR]],0)","v":"CS1580"},"Custom:Wildhorse Duo with Tucker the Bear (Doris)","RETAIL",1,154.99]
["CS1581",{"$f":"TEXT(Table_Query_from_Great_Plains[[#This Row],[ITEMNMBR]],0)","v":"CS1581"},"Custom: Medtronic - Red Wine trio and snacks (Tim)","RETAIL",1,200]
["CS1582",{"$f":"TEXT(Table_Query_from_Great_Plains[[#This Row],[ITEMNMBR]],0)","v":"CS1582"},"Custom: Medtronic - Red Wine trio and snacks (Tim)","RETAIL",0,200]
["CS1583",{"$f":"TEXT(Table_Query_from_Great_Plains[[#This Row],[ITEMNMBR]],0)","v":"CS1583"},"Custom: Guinness Golf (Anne)","RETAIL",1,129.99]
["CS1584",{"$f":"TEXT(Table_Query_from_Great_Plains[[#This Row],[ITEMNMBR]],0)","v":"CS1584"},"Custom: Fruit Estate (Koie)","RETAIL",0,226.99]
["CS1585",{"$f":"TEXT(Table_Query_from_Great_Plains[[#This Row],[ITEMNMBR]],0)","v":"CS1585"},"Custom: GC, Magazines, Snacks, Bud Light (Koie)","RETAIL",1,307.99]
["CS1586",{"$f":"TEXT(Table_Query_from_Great_Plains[[#This Row],[ITEMNMBR]],0)","v":"CS1586"},"Custom: 4500 + 3 cigars and 2 extra beers (Koie)","RETAIL",1,159.99]
["CS1587",{"$f":"TEXT(Table_Query_from_Great_Plains[[#This Row],[ITEMNMBR]],0)","v":"CS1587"},"Custom: Baby Girl - keepsake rattle, chocolates and snacks (Dave)","RETAIL",0,85]
["CS1588",{"$f":"TEXT(Table_Query_from_Great_Plains[[#This Row],[ITEMNMBR]],0)","v":"CS1588"},"Custom: Oxford Exchange - candy - nut - pretzel crate (Brian)","RETAIL",0,29.99]
["CS1589",{"$f":"TEXT(Table_Query_from_Great_Plains[[#This Row],[ITEMNMBR]],0)","v":"CS1589"},"Custom: 4402  * No Ribbon * (Doris)","RETAIL",0,59.99]
["CS1590",{"$f":"TEXT(Table_Query_from_Great_Plains[[#This Row],[ITEMNMBR]],0)","v":"CS1590"},"Custom: Get Well - chocolates, games, activities, snacks (Dena)","RETAIL",0,86.39]
["CS1591",{"$f":"TEXT(Table_Query_from_Great_Plains[[#This Row],[ITEMNMBR]],0)","v":"CS1591"},"Custom: Bountiful plus Torn Ranch (Koie)","RETAIL",0,210.99]
["CS1592",{"$f":"TEXT(Table_Query_from_Great_Plains[[#This Row],[ITEMNMBR]],0)","v":"CS1592"},"Custom: micro brew 6 plus cookies and popcorn (Anne)","RETAIL",0,114.99]
["CS1593",{"$f":"TEXT(Table_Query_from_Great_Plains[[#This Row],[ITEMNMBR]],0)","v":"CS1593"},"Custom: 5090 - two reds - (Doris)","RETAIL",1,130.99]
["CS1594",{"$f":"TEXT(Table_Query_from_Great_Plains[[#This Row],[ITEMNMBR]],0)","v":"CS1594"},"Custom: Care Package (Koie /Doris)","RETAIL",0,100]
["CS1595",{"$f":"TEXT(Table_Query_from_Great_Plains[[#This Row],[ITEMNMBR]],0)","v":"CS1595"},"Custom: 12\" large chocolate chip cookie (Dave)","RETAIL",0,34.99]
["CS1596",{"$f":"TEXT(Table_Query_from_Great_Plains[[#This Row],[ITEMNMBR]],0)","v":"CS1596"},"Custom: Ravenswood Cabernet with Lays Classic Chips (Koie)","RETAIL",1,196.99]
["CS1597",{"$f":"TEXT(Table_Query_from_Great_Plains[[#This Row],[ITEMNMBR]],0)","v":"CS1597"},"Custom:Weekend in Paris with Montrachet (Dave)","RETAIL",1,324.99]
["CS1598",{"$f":"TEXT(Table_Query_from_Great_Plains[[#This Row],[ITEMNMBR]],0)","v":"CS1598"},"Custom:Healthy and Comfort (Doris)","RETAIL",0,150]
["CS1599",{"$f":"TEXT(Table_Query_from_Great_Plains[[#This Row],[ITEMNMBR]],0)","v":"CS1599"},"Custom:4741 plus cigar - no snacks (Koie)","RETAIL",1,104.99]
["CS1600",{"$f":"TEXT(Table_Query_from_Great_Plains[[#This Row],[ITEMNMBR]],0)","v":"CS1600"},"Custom:Care Package with Popcorn (Tim)","RETAIL",0,0]
["CS1601",{"$f":"TEXT(Table_Query_from_Great_Plains[[#This Row],[ITEMNMBR]],0)","v":"CS1601"},"Custom:Silver Oak single (Tim)","RETAIL",1,74.989999999999995]
["CS1602",{"$f":"TEXT(Table_Query_from_Great_Plains[[#This Row],[ITEMNMBR]],0)","v":"CS1602"},"Custom:5108pm (Anne)","RETAIL",1,270.99]
["CS1603",{"$f":"TEXT(Table_Query_from_Great_Plains[[#This Row],[ITEMNMBR]],0)","v":"CS1603"},"Custom:Snacks, Chocolates, Beers and BBQ (Tim)","RETAIL",1,160]
["CS1604",{"$f":"TEXT(Table_Query_from_Great_Plains[[#This Row],[ITEMNMBR]],0)","v":"CS1604"},"Custom Snack and Choc for Anne","RETAIL",0,174.99]
["CS1605",{"$f":"TEXT(Table_Query_from_Great_Plains[[#This Row],[ITEMNMBR]],0)","v":"CS1605"},"Custom World 12 pk with 48 beers for Anne","RETAIL",0,110]
["CS1606",{"$f":"TEXT(Table_Query_from_Great_Plains[[#This Row],[ITEMNMBR]],0)","v":"CS1606"},"Custon Wine ,fruit and baked goods for Anne","RETAIL",1,134.99]
["CS1607",{"$f":"TEXT(Table_Query_from_Great_Plains[[#This Row],[ITEMNMBR]],0)","v":"CS1607"},"Custom: Wine, Cigar, Chocolates (Anne/ Koie)","RETAIL",1,115]
["CS1608",{"$f":"TEXT(Table_Query_from_Great_Plains[[#This Row],[ITEMNMBR]],0)","v":"CS1608"},"Custom Exam cram 5600 ( Koie)","RETAIL",0,65]
["CS1609",{"$f":"TEXT(Table_Query_from_Great_Plains[[#This Row],[ITEMNMBR]],0)","v":"CS1609"},"Custom: Tea (Anne)","RETAIL",0,101.99]
["CS1610",{"$f":"TEXT(Table_Query_from_Great_Plains[[#This Row],[ITEMNMBR]],0)","v":"CS1610"},"Custom: 19th Hole snack mix  (Doris)","RETAIL",0,24]
["CS1611",{"$f":"TEXT(Table_Query_from_Great_Plains[[#This Row],[ITEMNMBR]],0)","v":"CS1611"},"Custom:purchase golf bags (Koie)","RETAIL",0,24]
["CS1612",{"$f":"TEXT(Table_Query_from_Great_Plains[[#This Row],[ITEMNMBR]],0)","v":"CS1612"},"Custom:Jiffy's parents","RETAIL",0,120]
["CS1613",{"$f":"TEXT(Table_Query_from_Great_Plains[[#This Row],[ITEMNMBR]],0)","v":"CS1613"},"Custom:Jiffy's Shower Raffle","RETAIL",0,80]
["CS1614",{"$f":"TEXT(Table_Query_from_Great_Plains[[#This Row],[ITEMNMBR]],0)","v":"CS1614"},"Custom: Baked Goods (no nuts) (Anne)","RETAIL",0,74.989999999999995]
["CS1615",{"$f":"TEXT(Table_Query_from_Great_Plains[[#This Row],[ITEMNMBR]],0)","v":"CS1615"},"Custom: 2 - 3.5 gal bags of KOP (1-caramel / 1- au natural) (Koie)","RETAIL",0,79.989999999999995]
["CS1616",{"$f":"TEXT(Table_Query_from_Great_Plains[[#This Row],[ITEMNMBR]],0)","v":"CS1616"},"Custom:5090 ((switch wine to Bordeaux))  (Koie)","RETAIL",1,170]
["CS1617",{"$f":"TEXT(Table_Query_from_Great_Plains[[#This Row],[ITEMNMBR]],0)","v":"CS1617"},"Custom - Sauvignon Blanc by Cakebread Sellers (Tim)","RETAIL",1,50.99]
["CS1618",{"$f":"TEXT(Table_Query_from_Great_Plains[[#This Row],[ITEMNMBR]],0)","v":"CS1618"},"Custom -  pub picks in Halloween Spooky Eyes 2 gal popcorn tin  (Tim)","RETAIL",0,0]
["CS1619",{"$f":"TEXT(Table_Query_from_Great_Plains[[#This Row],[ITEMNMBR]],0)","v":"CS1619"},"Custom: Kosher Cornucopia with added fruit (Anne)","RETAIL",0,184.99]
["CS1620",{"$f":"TEXT(Table_Query_from_Great_Plains[[#This Row],[ITEMNMBR]],0)","v":"CS1620"},"Custom:popcorn sampler (Tim)","RETAIL",0,36.99]
["CS1621",{"$f":"TEXT(Table_Query_from_Great_Plains[[#This Row],[ITEMNMBR]],0)","v":"CS1621"},"Custom:crispy cracker crunch and butter toffee peanuts (Brian)","RETAIL",0,170.38]
["CS1622",{"$f":"TEXT(Table_Query_from_Great_Plains[[#This Row],[ITEMNMBR]],0)","v":"CS1622"},"Custom:Catena Malbec, Popcorn , Peanut M&Ms  (Anne)","RETAIL",0,87.99]
["CS1623",{"$f":"TEXT(Table_Query_from_Great_Plains[[#This Row],[ITEMNMBR]],0)","v":"CS1623"},"Custom:Pinot Grigio, Snacks and Chocolates  (Anne)","RETAIL",0,212.99]
["CS1624",{"$f":"TEXT(Table_Query_from_Great_Plains[[#This Row],[ITEMNMBR]],0)","v":"CS1624"},"Custom: Beer Bucket (Koie)","RETAIL",1,174.99]
["CS1625",{"$f":"TEXT(Table_Query_from_Great_Plains[[#This Row],[ITEMNMBR]],0)","v":"CS1625"},"Custom:Ravenwood with sweet & salty snacks, dog toy and treat (Anne)","RETAIL",1,94.99]
["CS1626",{"$f":"TEXT(Table_Query_from_Great_Plains[[#This Row],[ITEMNMBR]],0)","v":"CS1626"},"Custom: The Horgan Group Healthy Deluxe (Tim)","RETAIL",0,99.99]
["CS1627",{"$f":"TEXT(Table_Query_from_Great_Plains[[#This Row],[ITEMNMBR]],0)","v":"CS1627"},"Custom: The Horgan Group Snack Classic (Tim)","RETAIL",0,59.99]
["CS1628",{"$f":"TEXT(Table_Query_from_Great_Plains[[#This Row],[ITEMNMBR]],0)","v":"CS1628"},"Custom: The Horgan Group Snack Premium (Tim)","RETAIL",0,79.989999999999995]
["CS1629",{"$f":"TEXT(Table_Query_from_Great_Plains[[#This Row],[ITEMNMBR]],0)","v":"CS1629"},"Custom:Healthy with Zinfandel (Koie)","RETAIL",0,118.99]
["CS1630",{"$f":"TEXT(Table_Query_from_Great_Plains[[#This Row],[ITEMNMBR]],0)","v":"CS1630"},"Custom:Gluten Free snacks and added fruit (Koie)","RETAIL",0,150]
["CS1631",{"$f":"TEXT(Table_Query_from_Great_Plains[[#This Row],[ITEMNMBR]],0)","v":"CS1631"},"Custom:fruits and snacks (Doris / Jen)","RETAIL",0,93.99]
["CS1632",{"$f":"TEXT(Table_Query_from_Great_Plains[[#This Row],[ITEMNMBR]],0)","v":"CS1632"},"Custom:chocolate replacements from 5107b (Tim)","RETAIL",0,0]
["CS1633",{"$f":"TEXT(Table_Query_from_Great_Plains[[#This Row],[ITEMNMBR]],0)","v":"CS1633"},"Custom:spa, wine, teas and snacks (Koie)","RETAIL",1,149.99]
["CS1634",{"$f":"TEXT(Table_Query_from_Great_Plains[[#This Row],[ITEMNMBR]],0)","v":"CS1634"},"Custom: Catena snacks and dog treat (Anne)","RETAIL",1,128.99]
["CS1635",{"$f":"TEXT(Table_Query_from_Great_Plains[[#This Row],[ITEMNMBR]],0)","v":"CS1635"},"Custom: Beer Bucket (Anne)","RETAIL",1,173.99]
["CS1636",{"$f":"TEXT(Table_Query_from_Great_Plains[[#This Row],[ITEMNMBR]],0)","v":"CS1636"},"Custom: Beer Bucket - bud light & labatt blue (Doris)","RETAIL",1,212]
["CS1637",{"$f":"TEXT(Table_Query_from_Great_Plains[[#This Row],[ITEMNMBR]],0)","v":"CS1637"},"Custom:   one each -3.5gal bag of white cheddar, Garlic Parmesan & Zesty Ranch Popcorn (Koie)","RETAIL",0,120]
["CS1638",{"$f":"TEXT(Table_Query_from_Great_Plains[[#This Row],[ITEMNMBR]],0)","v":"CS1638"},"Custom - Afternoon in Paris","RETAIL",0,159.99]
["CS1639",{"$f":"TEXT(Table_Query_from_Great_Plains[[#This Row],[ITEMNMBR]],0)","v":"CS1639"},"Custom: combination of 5601 & 5602 with added red bulls in a basket (Jen)","RETAIL",0,239.99]
["CS1640",{"$f":"TEXT(Table_Query_from_Great_Plains[[#This Row],[ITEMNMBR]],0)","v":"CS1640"},"Custom: tea & cookies with added fruit (Koie)","RETAIL",0,147.99]
["CS1641",{"$f":"TEXT(Table_Query_from_Great_Plains[[#This Row],[ITEMNMBR]],0)","v":"CS1641"},"Custom: Kosher Basket (Dave)","RETAIL",0,50]
["CS1642",{"$f":"TEXT(Table_Query_from_Great_Plains[[#This Row],[ITEMNMBR]],0)","v":"CS1642"},"Custom: Kosher Basket with Wine (Dave)","RETAIL",1,80]
["CS1643",{"$f":"TEXT(Table_Query_from_Great_Plains[[#This Row],[ITEMNMBR]],0)","v":"CS1643"},"Custom: Diabetic with Wine (Dave)","RETAIL",1,95]
["CS1644",{"$f":"TEXT(Table_Query_from_Great_Plains[[#This Row],[ITEMNMBR]],0)","v":"CS1644"},"Custom: Red Sox Bucket (Tim)","RETAIL",0,60]
["CS1645",{"$f":"TEXT(Table_Query_from_Great_Plains[[#This Row],[ITEMNMBR]],0)","v":"CS1645"},"Custom: Gift for Piper (Anne)","RETAIL",0,100]
["CS1646",{"$f":"TEXT(Table_Query_from_Great_Plains[[#This Row],[ITEMNMBR]],0)","v":"CS1646"},"Custom: Gift for Wynter (Anne)","RETAIL",0,100]
["CS1647",{"$f":"TEXT(Table_Query_from_Great_Plains[[#This Row],[ITEMNMBR]],0)","v":"CS1647"},"Custom: Gift for Hunter (Anne)","RETAIL",0,100]
["CS1648",{"$f":"TEXT(Table_Query_from_Great_Plains[[#This Row],[ITEMNMBR]],0)","v":"CS1648"},"Custom: White Wine Basket  (Anne)","RETAIL",1,172.99]
["CS1649",{"$f":"TEXT(Table_Query_from_Great_Plains[[#This Row],[ITEMNMBR]],0)","v":"CS1649"},"Custom: Kosher Basket (Dave)","RETAIL",0,100]
["CS1650",{"$f":"TEXT(Table_Query_from_Great_Plains[[#This Row],[ITEMNMBR]],0)","v":"CS1650"},"Custom: Halloween (Anne)","RETAIL",0,117.95]
["CS1651",{"$f":"TEXT(Table_Query_from_Great_Plains[[#This Row],[ITEMNMBR]],0)","v":"CS1651"},"Custom: Organic (Koie)","RETAIL",0,139.99]
["CS1652",{"$f":"TEXT(Table_Query_from_Great_Plains[[#This Row],[ITEMNMBR]],0)","v":"CS1652"},"Custom: Timeless Treats Tower (Tim)","RETAIL",0,69.989999999999995]
["CS1653",{"$f":"TEXT(Table_Query_from_Great_Plains[[#This Row],[ITEMNMBR]],0)","v":"CS1653"},"Custom: Additional Gatorade for Footlocker (Mike)","RETAIL",0,14]
["CS1654",{"$f":"TEXT(Table_Query_from_Great_Plains[[#This Row],[ITEMNMBR]],0)","v":"CS1654"},"Custom: Perskie & Flendt Law - Microbrew Philadelphia Fliers Mug & Tube of Tennis Balls (Dave)","RETAIL",1,60]
["CS1655",{"$f":"TEXT(Table_Query_from_Great_Plains[[#This Row],[ITEMNMBR]],0)","v":"CS1655"},"Custom: Perskie & Flendt Law - Bucket O' Candy with Yankees Mug & Hat (Dave)","RETAIL",0,60]
["CS1656",{"$f":"TEXT(Table_Query_from_Great_Plains[[#This Row],[ITEMNMBR]],0)","v":"CS1656"},"Custom: Halloween Care Package (Colleen)","RETAIL",0,141.35]
["CS1657",{"$f":"TEXT(Table_Query_from_Great_Plains[[#This Row],[ITEMNMBR]],0)","v":"CS1657"},"Custom:Chardonnay , Pinot Noir with crackers cheese and sausage (Doris)","RETAIL",1,434.99]
["CS1658",{"$f":"TEXT(Table_Query_from_Great_Plains[[#This Row],[ITEMNMBR]],0)","v":"CS1658"},"Custom: Around the World 18  (Doris)","RETAIL",1,177.99]
["CS1659",{"$f":"TEXT(Table_Query_from_Great_Plains[[#This Row],[ITEMNMBR]],0)","v":"CS1659"},"Custom: Halloween Gluten Free Tower  (Doris)","RETAIL",0,116.99]
["CS1660",{"$f":"TEXT(Table_Query_from_Great_Plains[[#This Row],[ITEMNMBR]],0)","v":"CS1660"},"Custom: healthy and soup (4022 & 5070 combo)  (Doris)","RETAIL",0,203.99]
["CS1661",{"$f":"TEXT(Table_Query_from_Great_Plains[[#This Row],[ITEMNMBR]],0)","v":"CS1661"},"Custom:Soup & Crock with added tea and snacks (Jen)","RETAIL",0,124.99]
["CS1662",{"$f":"TEXT(Table_Query_from_Great_Plains[[#This Row],[ITEMNMBR]],0)","v":"CS1662"},"Custom:Snacks in 3.5gal Halloween Tin (Tim)","RETAIL",0,79.989999999999995]
["CS1663",{"$f":"TEXT(Table_Query_from_Great_Plains[[#This Row],[ITEMNMBR]],0)","v":"CS1663"},"Custom: Healthy Care Pkg items in cute Lady Bug Tote (Jen)","RETAIL",0,68.989999999999995]
["CS1664",{"$f":"TEXT(Table_Query_from_Great_Plains[[#This Row],[ITEMNMBR]],0)","v":"CS1664"},"Custom: Healthy Stack (Tim)","RETAIL",0,34.99]
["CS1665",{"$f":"TEXT(Table_Query_from_Great_Plains[[#This Row],[ITEMNMBR]],0)","v":"CS1665"},"Custom: snack & chocolate with dog lovers (Jen)","RETAIL",0,140.99]
["CS1666",{"$f":"TEXT(Table_Query_from_Great_Plains[[#This Row],[ITEMNMBR]],0)","v":"CS1666"},"Custom: Breakfast for Sue","RETAIL",0,59.99]
["CS1667",{"$f":"TEXT(Table_Query_from_Great_Plains[[#This Row],[ITEMNMBR]],0)","v":"CS1667"},"Custom: Beers and Cookies (Brian)","RETAIL",0,70]
["CS1668",{"$f":"TEXT(Table_Query_from_Great_Plains[[#This Row],[ITEMNMBR]],0)","v":"CS1668"},"Custom: Purely Fruit Basket (Tim)","RETAIL",0,90]
["CS1669",{"$f":"TEXT(Table_Query_from_Great_Plains[[#This Row],[ITEMNMBR]],0)","v":"CS1669"},"Custom: Dom with assorted crackers, cheese, dried fruits, and nuts","RETAIL",1,500]
["CS1670",{"$f":"TEXT(Table_Query_from_Great_Plains[[#This Row],[ITEMNMBR]],0)","v":"CS1670"},"Custom:  pink golf bags","RETAIL",0,23.98]
["CS1671",{"$f":"TEXT(Table_Query_from_Great_Plains[[#This Row],[ITEMNMBR]],0)","v":"CS1671"},"Custom:Gluten free and no nuts (Doris)","RETAIL",0,200]
["CS1672",{"$f":"TEXT(Table_Query_from_Great_Plains[[#This Row],[ITEMNMBR]],0)","v":"CS1672"},"Custom: Chocolate Handouts 2014","RETAIL",0,80]
["CS1673",{"$f":"TEXT(Table_Query_from_Great_Plains[[#This Row],[ITEMNMBR]],0)","v":"CS1673"},"Custom: Holiday Gift (Mike G.)","RETAIL",0,100]
["CS1674",{"$f":"TEXT(Table_Query_from_Great_Plains[[#This Row],[ITEMNMBR]],0)","v":"CS1674"},"Custom:5406 remove sausage add nuts (Doris)","RETAIL",0,264.99]
["CS1675",{"$f":"TEXT(Table_Query_from_Great_Plains[[#This Row],[ITEMNMBR]],0)","v":"CS1675"},"Custom:5107b with added Veuve (Trudy)","RETAIL",1,240]
["CS1676",{"$f":"TEXT(Table_Query_from_Great_Plains[[#This Row],[ITEMNMBR]],0)","v":"CS1676"},"custom: Chianti and chocolate (Sue)","RETAIL",1,50]
["CS1677",{"$f":"TEXT(Table_Query_from_Great_Plains[[#This Row],[ITEMNMBR]],0)","v":"CS1677"},"Custom: Breakfast for Sue","RETAIL",0,59.99]
["CS1678",{"$f":"TEXT(Table_Query_from_Great_Plains[[#This Row],[ITEMNMBR]],0)","v":"CS1678"},"Custom:5108 plus AMEXGC (Jen)","RETAIL",1,509.99]
["CS1679",{"$f":"TEXT(Table_Query_from_Great_Plains[[#This Row],[ITEMNMBR]],0)","v":"CS1679"},"custom: 5112 removing the sausage (Doris)","RETAIL",1,419.99]
["CS1680",{"$f":"TEXT(Table_Query_from_Great_Plains[[#This Row],[ITEMNMBR]],0)","v":"CS1680"},"custom: 5107 Veuve x's2 (Amy)","RETAIL",1,245.99]
["CS1681",{"$f":"TEXT(Table_Query_from_Great_Plains[[#This Row],[ITEMNMBR]],0)","v":"CS1681"},"Custom 12 pack Coors Light & Bass Pro Shops Gift Card (Amy)","RETAIL",1,445]
["CS1682",{"$f":"TEXT(Table_Query_from_Great_Plains[[#This Row],[ITEMNMBR]],0)","v":"CS1682"},"Custom:  Wine & Champagne (Anne / Amy)","RETAIL",1,149.99]
["CS1683",{"$f":"TEXT(Table_Query_from_Great_Plains[[#This Row],[ITEMNMBR]],0)","v":"CS1683"},"Custom: beer bucket (RHuston)","RETAIL",0,129.99]
["CS1684",{"$f":"TEXT(Table_Query_from_Great_Plains[[#This Row],[ITEMNMBR]],0)","v":"CS1684"},"Custom:Nature's Picic with La Marca ( Amy)","RETAIL",1,110.99]
["CS1685",{"$f":"TEXT(Table_Query_from_Great_Plains[[#This Row],[ITEMNMBR]],0)","v":"CS1685"},"Custom:Nature's Picic with La Marca ( Amy)","RETAIL",0,110.99]
["CS1686",{"$f":"TEXT(Table_Query_from_Great_Plains[[#This Row],[ITEMNMBR]],0)","v":"CS1686"},"Custom: For His 40th Birthday","RETAIL",1,320.99]
["CS1687",{"$f":"TEXT(Table_Query_from_Great_Plains[[#This Row],[ITEMNMBR]],0)","v":"CS1687"},"Custom:4046 - Gluten free snacks and bottle of White Wine","RETAIL",1,152.99]
["CS1688",{"$f":"TEXT(Table_Query_from_Great_Plains[[#This Row],[ITEMNMBR]],0)","v":"CS1688"},"Custom:Mountain Dew and Snacks Bucket (Doris / Sue Ellen)","RETAIL",0,121.99]
["CS1689",{"$f":"TEXT(Table_Query_from_Great_Plains[[#This Row],[ITEMNMBR]],0)","v":"CS1689"},"Custom: Red Bulls, Tea, Coffee, Cheese, Crackers, Chocolate (Dave)","RETAIL",0,104.99]
["CS1690",{"$f":"TEXT(Table_Query_from_Great_Plains[[#This Row],[ITEMNMBR]],0)","v":"CS1690"},"Custom 5106B with Red, White, Blue Raffia","RETAIL",1,134.99]
["CS1691",{"$f":"TEXT(Table_Query_from_Great_Plains[[#This Row],[ITEMNMBR]],0)","v":"CS1691"},"Custom Breakfast Classic with non-flavored coffee and white chocolate (Anne)","RETAIL",0,88.99]
["CS1692",{"$f":"TEXT(Table_Query_from_Great_Plains[[#This Row],[ITEMNMBR]],0)","v":"CS1692"},"Custom: Pizza and Red Wines (Sue Ellen)","RETAIL",1,240.99]
["CS1693",{"$f":"TEXT(Table_Query_from_Great_Plains[[#This Row],[ITEMNMBR]],0)","v":"CS1693"},"Custom: Champagne & Chocolates (Dave)","RETAIL",1,75]
["CS1694",{"$f":"TEXT(Table_Query_from_Great_Plains[[#This Row],[ITEMNMBR]],0)","v":"CS1694"},"Custom: Red Wine & Snacks (Brian)","RETAIL",1,126.99]
["CS1695",{"$f":"TEXT(Table_Query_from_Great_Plains[[#This Row],[ITEMNMBR]],0)","v":"CS1695"},"Custom: 5141 with fruit (Tim)","RETAIL",1,99.99]
["CS1696",{"$f":"TEXT(Table_Query_from_Great_Plains[[#This Row],[ITEMNMBR]],0)","v":"CS1696"},"Custom: Chianti Basket (Sue Ellen)","RETAIL",1,162.99]
["CS1697",{"$f":"TEXT(Table_Query_from_Great_Plains[[#This Row],[ITEMNMBR]],0)","v":"CS1697"},"Custom: Get Well Basket (Tim)","RETAIL",0,135.99]
["CS1698",{"$f":"TEXT(Table_Query_from_Great_Plains[[#This Row],[ITEMNMBR]],0)","v":"CS1698"},"Custom:Valentine's Fruit Basket with added chocolates and brownies (Jen)","RETAIL",0,130.99]
["CS1699",{"$f":"TEXT(Table_Query_from_Great_Plains[[#This Row],[ITEMNMBR]],0)","v":"CS1699"},"Custom:Dom Suitcase with Champagne Flutes (Amy)","RETAIL",1,500]
["CS1700",{"$f":"TEXT(Table_Query_from_Great_Plains[[#This Row],[ITEMNMBR]],0)","v":"CS1700"},"Custom:Dom Suitcase with Champagne Flutes (Amy)","RETAIL",1,500]
["CS1701",{"$f":"TEXT(Table_Query_from_Great_Plains[[#This Row],[ITEMNMBR]],0)","v":"CS1701"},"Custom:Happy Birthday (Sue)","RETAIL",0,30]
["CS1702",{"$f":"TEXT(Table_Query_from_Great_Plains[[#This Row],[ITEMNMBR]],0)","v":"CS1702"},"Custom: Gluten free Premium adding a teddy bear  (Amy)","RETAIL",0,177.99]
["CS1703",{"$f":"TEXT(Table_Query_from_Great_Plains[[#This Row],[ITEMNMBR]],0)","v":"CS1703"},"Custom: Chocolate Handouts Winter 2015","RETAIL",0,90]
["CS1704",{"$f":"TEXT(Table_Query_from_Great_Plains[[#This Row],[ITEMNMBR]],0)","v":"CS1704"},"Custom: Thank You  - Wine & Snacks Suitcase (Amy)","RETAIL",1,215.99]
["CS1705",{"$f":"TEXT(Table_Query_from_Great_Plains[[#This Row],[ITEMNMBR]],0)","v":"CS1705"},"Custom: Birhtday Merlot and Chocolates (Doris)","RETAIL",1,650.99]
["CS1706",{"$f":"TEXT(Table_Query_from_Great_Plains[[#This Row],[ITEMNMBR]],0)","v":"CS1706"},"Custom: Port Wine, Snacks & Sweets (Sue Ellen)","RETAIL",1,250]
["CS1707",{"$f":"TEXT(Table_Query_from_Great_Plains[[#This Row],[ITEMNMBR]],0)","v":"CS1707"},"Custom: Care Package (Sue Ellen)","RETAIL",0,67.989999999999995]
["CS1708",{"$f":"TEXT(Table_Query_from_Great_Plains[[#This Row],[ITEMNMBR]],0)","v":"CS1708"},"Custom: Healthy Snacks and Fun Activities (Anne)","RETAIL",0,174.99]
["CS1709",{"$f":"TEXT(Table_Query_from_Great_Plains[[#This Row],[ITEMNMBR]],0)","v":"CS1709"},"Custom: Red Wine & Snacks (Dave)","RETAIL",1,105]
["CS1710",{"$f":"TEXT(Table_Query_from_Great_Plains[[#This Row],[ITEMNMBR]],0)","v":"CS1710"},"Custom: 5143 swap out two bottles for two LaMarca (Tim / Jen)","RETAIL",1,194.99]
["CS1711",{"$f":"TEXT(Table_Query_from_Great_Plains[[#This Row],[ITEMNMBR]],0)","v":"CS1711"},"Custom: Adorable Basket for Young Girl  - snacks, treats, toys (Jen)","RETAIL",0,100]
["CS1712",{"$f":"TEXT(Table_Query_from_Great_Plains[[#This Row],[ITEMNMBR]],0)","v":"CS1712"},"Custom: Adorable Basket for Young Girl -2 - snacks, treats, toys (Jen)","RETAIL",0,100]
["CS1713",{"$f":"TEXT(Table_Query_from_Great_Plains[[#This Row],[ITEMNMBR]],0)","v":"CS1713"},"Custom: Adorable Basket for Young Boy - snacks, treats, toys (Jen)","RETAIL",0,100]
["CS1714",{"$f":"TEXT(Table_Query_from_Great_Plains[[#This Row],[ITEMNMBR]],0)","v":"CS1714"},"Custom: Cakebread plus bunnies (Jen)","RETAIL",1,329.99]
["CS1715",{"$f":"TEXT(Table_Query_from_Great_Plains[[#This Row],[ITEMNMBR]],0)","v":"CS1715"},"Custom: Silveroak Reds plus snacks and chocolates (Sue Ellen)","RETAIL",1,387.99]
["CS1716",{"$f":"TEXT(Table_Query_from_Great_Plains[[#This Row],[ITEMNMBR]],0)","v":"CS1716"},"Custom: Fruit with Bunny (Anne)","RETAIL",0,71.989999999999995]
["CS1717",{"$f":"TEXT(Table_Query_from_Great_Plains[[#This Row],[ITEMNMBR]],0)","v":"CS1717"},"Custom: rioja red & white with chrackers, cheese & nuts (Tim)","RETAIL",1,210.99]
["CS1718",{"$f":"TEXT(Table_Query_from_Great_Plains[[#This Row],[ITEMNMBR]],0)","v":"CS1718"},"Custom: Grilling Basket (Dave)","RETAIL",0,99.99]
["CS1719",{"$f":"TEXT(Table_Query_from_Great_Plains[[#This Row],[ITEMNMBR]],0)","v":"CS1719"},"Letty's Basket - Custom","RETAIL",0,129.99]
["CS1720",{"$f":"TEXT(Table_Query_from_Great_Plains[[#This Row],[ITEMNMBR]],0)","v":"CS1720"},"Piper's Basket - Custom","RETAIL",0,131.49]
["CS1721",{"$f":"TEXT(Table_Query_from_Great_Plains[[#This Row],[ITEMNMBR]],0)","v":"CS1721"},"Hunter's Basket - Custom","RETAIL",0,132.99]
["CS1722",{"$f":"TEXT(Table_Query_from_Great_Plains[[#This Row],[ITEMNMBR]],0)","v":"CS1722"},"Wynter's Basket - Custom","RETAIL",0,132.99]
["CS1723",{"$f":"TEXT(Table_Query_from_Great_Plains[[#This Row],[ITEMNMBR]],0)","v":"CS1723"},"Taylor's Basket - Custom","RETAIL",0,134.99]
["CS1724",{"$f":"TEXT(Table_Query_from_Great_Plains[[#This Row],[ITEMNMBR]],0)","v":"CS1724"},"Customized Ultimate Pampered Dog Gift Basket (Anne)","RETAIL",0,100]
["CS1725",{"$f":"TEXT(Table_Query_from_Great_Plains[[#This Row],[ITEMNMBR]],0)","v":"CS1725"},"Custom: Easter Basket (Anne)","RETAIL",0,109.99]
["CS1726",{"$f":"TEXT(Table_Query_from_Great_Plains[[#This Row],[ITEMNMBR]],0)","v":"CS1726"},"Custom: 4500 - special labels added (Dave)","RETAIL",1,69.989999999999995]
["CS1727",{"$f":"TEXT(Table_Query_from_Great_Plains[[#This Row],[ITEMNMBR]],0)","v":"CS1727"},"Custom: 5090 - wine (Jen)","RETAIL",1,130.99]
["CS1728",{"$f":"TEXT(Table_Query_from_Great_Plains[[#This Row],[ITEMNMBR]],0)","v":"CS1728"},"Custom: Easter Basket (Brian)","RETAIL",0,99.99]
["CS1729",{"$f":"TEXT(Table_Query_from_Great_Plains[[#This Row],[ITEMNMBR]],0)","v":"CS1729"},"Custom:Wine & Savory Snacks (Amy)","RETAIL",1,194.99]
["CS1730",{"$f":"TEXT(Table_Query_from_Great_Plains[[#This Row],[ITEMNMBR]],0)","v":"CS1730"},"Custom: Anniversary - spa & snacks (Doris)","RETAIL",0,149.99]
["CS1731",{"$f":"TEXT(Table_Query_from_Great_Plains[[#This Row],[ITEMNMBR]],0)","v":"CS1731"},"Custom: Silver Oak, Crackers, Cheese, Fruits, & Chocolates (Brian)","RETAIL",0,199.99]
["CS1732",{"$f":"TEXT(Table_Query_from_Great_Plains[[#This Row],[ITEMNMBR]],0)","v":"CS1732"},"Custom: 8952 - baked goods doubled (Jen)","RETAIL",0,179.99]
["CS1733",{"$f":"TEXT(Table_Query_from_Great_Plains[[#This Row],[ITEMNMBR]],0)","v":"CS1733"},"Custom: 8952 - baked goods quadrupled (Jen)","RETAIL",0,310.99]
["CS1734",{"$f":"TEXT(Table_Query_from_Great_Plains[[#This Row],[ITEMNMBR]],0)","v":"CS1734"},"custom cheesy cheddar & pretzels (Tim)","RETAIL",0,0]
["CS1735",{"$f":"TEXT(Table_Query_from_Great_Plains[[#This Row],[ITEMNMBR]],0)","v":"CS1735"},"Custom: Around the World  (Jen)","RETAIL",1,164.99]
["CS1736",{"$f":"TEXT(Table_Query_from_Great_Plains[[#This Row],[ITEMNMBR]],0)","v":"CS1736"},"Custom: fruit basket --no candies-- add coffee (Amy)","RETAIL",0,64.989999999999995]
["CS1737",{"$f":"TEXT(Table_Query_from_Great_Plains[[#This Row],[ITEMNMBR]],0)","v":"CS1737"},"Custom: 4042 with Prosecco (Amy)","RETAIL",1,199.99]
["CS1738",{"$f":"TEXT(Table_Query_from_Great_Plains[[#This Row],[ITEMNMBR]],0)","v":"CS1738"},"Custom: 4081 grilling basket (Dave)","RETAIL",0,99.99]
["CS1739",{"$f":"TEXT(Table_Query_from_Great_Plains[[#This Row],[ITEMNMBR]],0)","v":"CS1739"},"Custom: Red Wine, Snacks & Chocolates (TIM)","RETAIL",1,99]
["CS1740",{"$f":"TEXT(Table_Query_from_Great_Plains[[#This Row],[ITEMNMBR]],0)","v":"CS1740"},"Custom 4611 and 4803 in basket (Amy)","RETAIL",0,74.989999999999995]
["CS1741",{"$f":"TEXT(Table_Query_from_Great_Plains[[#This Row],[ITEMNMBR]],0)","v":"CS1741"},"Custom: 4022 with dried fruit platter added (TIM)","RETAIL",0,158.99]
["CS1742",{"$f":"TEXT(Table_Query_from_Great_Plains[[#This Row],[ITEMNMBR]],0)","v":"CS1742"},"Custom: 4056 - remove ribbons & bows (Doris)","RETAIL",0,269.99]
["CS1743",{"$f":"TEXT(Table_Query_from_Great_Plains[[#This Row],[ITEMNMBR]],0)","v":"CS1743"},"Custom: dried fruits, fruits, and snacks","RETAIL",0,152.99]
["CS1744",{"$f":"TEXT(Table_Query_from_Great_Plains[[#This Row],[ITEMNMBR]],0)","v":"CS1744"},"Custom: Post College Survial Kit with a Deck of Cards (Anne)","RETAIL",0,62.99]
["CS1745",{"$f":"TEXT(Table_Query_from_Great_Plains[[#This Row],[ITEMNMBR]],0)","v":"CS1745"},"Custom:4021 - add sausage & cheese (Tim)","RETAIL",0,85]
["CS1746",{"$f":"TEXT(Table_Query_from_Great_Plains[[#This Row],[ITEMNMBR]],0)","v":"CS1746"},"Custom:4321 - with added fruits and chocolates (Amy)","RETAIL",0,109.99]
["CS1747",{"$f":"TEXT(Table_Query_from_Great_Plains[[#This Row],[ITEMNMBR]],0)","v":"CS1747"},"Custom:Crackers, Meats & Cheeses (Tim)","RETAIL",0,100]
["CS1748",{"$f":"TEXT(Table_Query_from_Great_Plains[[#This Row],[ITEMNMBR]],0)","v":"CS1748"},"Custom:Beer, BBQ, Crackers,Snacks, Meats & Cheeses (Tim)","RETAIL",1,150]
["CS1749",{"$f":"TEXT(Table_Query_from_Great_Plains[[#This Row],[ITEMNMBR]],0)","v":"CS1749"},"Custom:Cabernet, Coffee, snacks and chocolates (Amy)","RETAIL",1,150]
["CS1750",{"$f":"TEXT(Table_Query_from_Great_Plains[[#This Row],[ITEMNMBR]],0)","v":"CS1750"},"Custom: Wine for Mom Cookies and Candy Assortment for the Kids (Anne)","RETAIL",1,89]
["CS1751",{"$f":"TEXT(Table_Query_from_Great_Plains[[#This Row],[ITEMNMBR]],0)","v":"CS1751"},"Custom: Wine, Beer & Snacks (Anne)","RETAIL",1,136]
["CS1752",{"$f":"TEXT(Table_Query_from_Great_Plains[[#This Row],[ITEMNMBR]],0)","v":"CS1752"},"Custom: Combo of Fishing, Golfing & Italian (Anne)","RETAIL",0,149.99]
["CS1753",{"$f":"TEXT(Table_Query_from_Great_Plains[[#This Row],[ITEMNMBR]],0)","v":"CS1753"},"Custom: 5107c with CSI Gift Certificate (Doris)","RETAIL",1,294.99]
["CS1754",{"$f":"TEXT(Table_Query_from_Great_Plains[[#This Row],[ITEMNMBR]],0)","v":"CS1754"},"Custom: Wine, Microbrews and snacks (Anne)","RETAIL",1,94.99]
["CS1755",{"$f":"TEXT(Table_Query_from_Great_Plains[[#This Row],[ITEMNMBR]],0)","v":"CS1755"},"Custom: M&Ms and Pretzels (Doris)","RETAIL",0,150]
["CS1756",{"$f":"TEXT(Table_Query_from_Great_Plains[[#This Row],[ITEMNMBR]],0)","v":"CS1756"},"Custom: Orchards Abundance  (Dave)","RETAIL",0,99.99]
["CS1757",{"$f":"TEXT(Table_Query_from_Great_Plains[[#This Row],[ITEMNMBR]],0)","v":"CS1757"},"Custom: 4321 with mug and coffee (Doris)","RETAIL",0,103.99]
["CS1758",{"$f":"TEXT(Table_Query_from_Great_Plains[[#This Row],[ITEMNMBR]],0)","v":"CS1758"},"Custom: 5600 - (Jen)","RETAIL",0,64.989999999999995]
["CS1759",{"$f":"TEXT(Table_Query_from_Great_Plains[[#This Row],[ITEMNMBR]],0)","v":"CS1759"},"Custom: 5602 & 5622 in a basket for young boy (Anne)","RETAIL",0,111.99]
["CS1760",{"$f":"TEXT(Table_Query_from_Great_Plains[[#This Row],[ITEMNMBR]],0)","v":"CS1760"},"Custom: 5140 - all gold ribbon  (Anne)","RETAIL",1,94.99]
["CS1761",{"$f":"TEXT(Table_Query_from_Great_Plains[[#This Row],[ITEMNMBR]],0)","v":"CS1761"},"Custom: 5106 - white wine - (Anne)","RETAIL",1,119.99]
["CS1762",{"$f":"TEXT(Table_Query_from_Great_Plains[[#This Row],[ITEMNMBR]],0)","v":"CS1762"},"Custom: Nostalgic Candy Crate with Teddy Bear Stack (Jen)","RETAIL",0,85.99]
["CS1763",{"$f":"TEXT(Table_Query_from_Great_Plains[[#This Row],[ITEMNMBR]],0)","v":"CS1763"},"Custom: meat, cheese, crackers, chocolates (Doris)","RETAIL",0,150]
["CS1764",{"$f":"TEXT(Table_Query_from_Great_Plains[[#This Row],[ITEMNMBR]],0)","v":"CS1764"},"Custom: New Arrival (Amy)","RETAIL",0,157.99]
["CS1765",{"$f":"TEXT(Table_Query_from_Great_Plains[[#This Row],[ITEMNMBR]],0)","v":"CS1765"},"Custom: Dom Perignon, Heineken, and Chocolate (Anne)","RETAIL",0,308.99]
["CS1766",{"$f":"TEXT(Table_Query_from_Great_Plains[[#This Row],[ITEMNMBR]],0)","v":"CS1766"},"Custom: Dom Perignon, San Pellegrino, and Trail Mix (Anne)","RETAIL",0,308.99]
["CS1767",{"$f":"TEXT(Table_Query_from_Great_Plains[[#This Row],[ITEMNMBR]],0)","v":"CS1767"},"Custom: Tower swap - 6806 in 6802 (Tim)","RETAIL",0,49.99]
["CS1768",{"$f":"TEXT(Table_Query_from_Great_Plains[[#This Row],[ITEMNMBR]],0)","v":"CS1768"},"Custom:custom snack jumbo (Tim)","RETAIL",0,199.99]
["CS1769",{"$f":"TEXT(Table_Query_from_Great_Plains[[#This Row],[ITEMNMBR]],0)","v":"CS1769"},"Custom 6.5 gallon Snowflake Tin - Traditional","RETAIL",0,0]
["CS1770",{"$f":"TEXT(Table_Query_from_Great_Plains[[#This Row],[ITEMNMBR]],0)","v":"CS1770"},"Custom:SilverOak Basket (Doris)","RETAIL",1,355.99]
["CS1771",{"$f":"TEXT(Table_Query_from_Great_Plains[[#This Row],[ITEMNMBR]],0)","v":"CS1771"},"Custom:Beer Bucket with Game Tickets (Jen)","RETAIL",1,530.99]
["CS1772",{"$f":"TEXT(Table_Query_from_Great_Plains[[#This Row],[ITEMNMBR]],0)","v":"CS1772"},"Custom:Chocolate Lovers (Tim)","RETAIL",0,99.99]
["CS1773",{"$f":"TEXT(Table_Query_from_Great_Plains[[#This Row],[ITEMNMBR]],0)","v":"CS1773"},"Custom:Estate Collection - (Dave)","RETAIL",0,149.99]
["CS1774",{"$f":"TEXT(Table_Query_from_Great_Plains[[#This Row],[ITEMNMBR]],0)","v":"CS1774"},"Custom:5107 Dom Suitcase (Doris / Anne)","RETAIL",1,377.99]
["CS2000",{"$f":"TEXT(Table_Query_from_Great_Plains[[#This Row],[ITEMNMBR]],0)","v":"CS2000"},"Custom : activities, games, & candies","RETAIL",0,54.99]
["CSO061",{"$f":"TEXT(Table_Query_from_Great_Plains[[#This Row],[ITEMNMBR]],0)","v":"CSO061"},"Custom Gift Basket","RETAIL",0,45]
["CSO944",{"$f":"TEXT(Table_Query_from_Great_Plains[[#This Row],[ITEMNMBR]],0)","v":"CSO944"},"Custom Kosher Bountiful Harvest","RETAIL",0,120]
["CUS168",{"$f":"TEXT(Table_Query_from_Great_Plains[[#This Row],[ITEMNMBR]],0)","v":"CUS168"},"Chicago Mix Popcorn Bag by KingofPop.com - 4.5 oz. -","RETAIL",0,3]
["CUS185",{"$f":"TEXT(Table_Query_from_Great_Plains[[#This Row],[ITEMNMBR]],0)","v":"CUS185"},"White 1 gallon Tin","RETAIL",0,100]
["CUST-001",{"$f":"TEXT(Table_Query_from_Great_Plains[[#This Row],[ITEMNMBR]],0)","v":"CUST-001"},"Hole in one golf bag","RETAIL",0,69.989999999999995]
["CUSTOM",{"$f":"TEXT(Table_Query_from_Great_Plains[[#This Row],[ITEMNMBR]],0)","v":"CUSTOM"},"Custom Gift Basket","RETAIL",0,1]
["CW-60",{"$f":"TEXT(Table_Query_from_Great_Plains[[#This Row],[ITEMNMBR]],0)","v":"CW-60"},"A Dozen Roses Arranged In A Cylinder Vase With Greens","RETAIL",0,124.99]
["DAR001",{"$f":"TEXT(Table_Query_from_Great_Plains[[#This Row],[ITEMNMBR]],0)","v":"DAR001"},"Gold Wicker Sleigh","RETAIL",0,100]
["DAR002",{"$f":"TEXT(Table_Query_from_Great_Plains[[#This Row],[ITEMNMBR]],0)","v":"DAR002"},"Happy Holiday's Red/Green Crate","RETAIL",0,100]
["DAR003",{"$f":"TEXT(Table_Query_from_Great_Plains[[#This Row],[ITEMNMBR]],0)","v":"DAR003"},"Red Poinsettia Pick- Cut 1 1/2 inches below the Calyx","RETAIL",0,100]
["DAR004",{"$f":"TEXT(Table_Query_from_Great_Plains[[#This Row],[ITEMNMBR]],0)","v":"DAR004"},"White Poinsettia Pick- Cut 1 1/2 inches below the Calyx","RETAIL",0,100]
["DAR005",{"$f":"TEXT(Table_Query_from_Great_Plains[[#This Row],[ITEMNMBR]],0)","v":"DAR005"},"Pine Picks","RETAIL",0,100]
["DAR006",{"$f":"TEXT(Table_Query_from_Great_Plains[[#This Row],[ITEMNMBR]],0)","v":"DAR006"},"Burgundy Poinsettia Pick- Cut 1 1/2 inches below the Calyx","RETAIL",0,100]
["DAR007",{"$f":"TEXT(Table_Query_from_Great_Plains[[#This Row],[ITEMNMBR]],0)","v":"DAR007"},"Holly Berry Pick","RETAIL",0,100]
["DAR008",{"$f":"TEXT(Table_Query_from_Great_Plains[[#This Row],[ITEMNMBR]],0)","v":"DAR008"},"Grape Bunch Picks","RETAIL",0,100]
["DAR009",{"$f":"TEXT(Table_Query_from_Great_Plains[[#This Row],[ITEMNMBR]],0)","v":"DAR009"},"Berry Spray shiny red DS-901-02","RETAIL",0,100]
["DAR010",{"$f":"TEXT(Table_Query_from_Great_Plains[[#This Row],[ITEMNMBR]],0)","v":"DAR010"},"Burgundy Berry Spray DS-903-69","RETAIL",0,100]
["DAR011",{"$f":"TEXT(Table_Query_from_Great_Plains[[#This Row],[ITEMNMBR]],0)","v":"DAR011"},"Glass Bead and Raspberry Assorted Colors","RETAIL",0,100]
["DAR012",{"$f":"TEXT(Table_Query_from_Great_Plains[[#This Row],[ITEMNMBR]],0)","v":"DAR012"},"Fall Maple Leaf picks","RETAIL",0,100]
["DAR013",{"$f":"TEXT(Table_Query_from_Great_Plains[[#This Row],[ITEMNMBR]],0)","v":"DAR013"},"13\" Acorn with Oak Leaves Picks","RETAIL",0,100]
["DAR014",{"$f":"TEXT(Table_Query_from_Great_Plains[[#This Row],[ITEMNMBR]],0)","v":"DAR014"},"13\" Fall Mum Bush","RETAIL",0,100]
["DAR015",{"$f":"TEXT(Table_Query_from_Great_Plains[[#This Row],[ITEMNMBR]],0)","v":"DAR015"},"Diamond Rose Dewdrop Flowers","RETAIL",0,100]
["DAR016",{"$f":"TEXT(Table_Query_from_Great_Plains[[#This Row],[ITEMNMBR]],0)","v":"DAR016"},"Assorted Mix Spring Rose pick","RETAIL",0,100]
["DAR017",{"$f":"TEXT(Table_Query_from_Great_Plains[[#This Row],[ITEMNMBR]],0)","v":"DAR017"},"Lilly with Berries bush 17\" x 12","RETAIL",0,100]
["DAR018",{"$f":"TEXT(Table_Query_from_Great_Plains[[#This Row],[ITEMNMBR]],0)","v":"DAR018"},"Sunflower Pick","RETAIL",0,100]
["DAR019",{"$f":"TEXT(Table_Query_from_Great_Plains[[#This Row],[ITEMNMBR]],0)","v":"DAR019"},"French Basket Flowers","RETAIL",0,100]
["DAR020",{"$f":"TEXT(Table_Query_from_Great_Plains[[#This Row],[ITEMNMBR]],0)","v":"DAR020"},"Poppies w/ Babies Breath Pick","RETAIL",0,100]
["DAR021",{"$f":"TEXT(Table_Query_from_Great_Plains[[#This Row],[ITEMNMBR]],0)","v":"DAR021"},"Purple Pansy Bush 12\" x 7","RETAIL",0,100]
["DAR022",{"$f":"TEXT(Table_Query_from_Great_Plains[[#This Row],[ITEMNMBR]],0)","v":"DAR022"},"Mixed Cosmos Filler Bush Cream 19\"","RETAIL",0,100]
["DAR023",{"$f":"TEXT(Table_Query_from_Great_Plains[[#This Row],[ITEMNMBR]],0)","v":"DAR023"},"Sunflower Bush 2 styles 13\"","RETAIL",0,100]
["DAR024",{"$f":"TEXT(Table_Query_from_Great_Plains[[#This Row],[ITEMNMBR]],0)","v":"DAR024"},"Daisy baby breath bush 16\" 10 heads","RETAIL",0,100]
["DAR025",{"$f":"TEXT(Table_Query_from_Great_Plains[[#This Row],[ITEMNMBR]],0)","v":"DAR025"},"Faux Banana","RETAIL",0,100]
["DAR026",{"$f":"TEXT(Table_Query_from_Great_Plains[[#This Row],[ITEMNMBR]],0)","v":"DAR026"},"Faux Pear","RETAIL",0,100]
["DAR027",{"$f":"TEXT(Table_Query_from_Great_Plains[[#This Row],[ITEMNMBR]],0)","v":"DAR027"},"12\" Fall Berry Bush x 7 heads","RETAIL",0,100]
["DAR028",{"$f":"TEXT(Table_Query_from_Great_Plains[[#This Row],[ITEMNMBR]],0)","v":"DAR028"},"Faux Lemon","RETAIL",0,100]
["DAR029",{"$f":"TEXT(Table_Query_from_Great_Plains[[#This Row],[ITEMNMBR]],0)","v":"DAR029"},"Wooden sled with runners","RETAIL",0,100]
["DAR030",{"$f":"TEXT(Table_Query_from_Great_Plains[[#This Row],[ITEMNMBR]],0)","v":"DAR030"},"Easter Egg Foamie Kit","RETAIL",0,100]
["DAR031",{"$f":"TEXT(Table_Query_from_Great_Plains[[#This Row],[ITEMNMBR]],0)","v":"DAR031"},"Easter Egg Poster","RETAIL",0,100]
["DAR032",{"$f":"TEXT(Table_Query_from_Great_Plains[[#This Row],[ITEMNMBR]],0)","v":"DAR032"},"DARICE HOT DOG TRAY","RETAIL",0,100]
["DAR045",{"$f":"TEXT(Table_Query_from_Great_Plains[[#This Row],[ITEMNMBR]],0)","v":"DAR045"},"Glow in the Dark Eye Glasses -","RETAIL",0,100]
["DAR052",{"$f":"TEXT(Table_Query_from_Great_Plains[[#This Row],[ITEMNMBR]],0)","v":"DAR052"},"Glow in Dark Neclace 11\" 2pack","RETAIL",0,100]
["DAR053",{"$f":"TEXT(Table_Query_from_Great_Plains[[#This Row],[ITEMNMBR]],0)","v":"DAR053"},"Glow Straw Stick 6 Pk","RETAIL",0,100]
["DAR077",{"$f":"TEXT(Table_Query_from_Great_Plains[[#This Row],[ITEMNMBR]],0)","v":"DAR077"},"Purple / Lavender Pansies - single stem","RETAIL",0,100]
["DAR078",{"$f":"TEXT(Table_Query_from_Great_Plains[[#This Row],[ITEMNMBR]],0)","v":"DAR078"},"Orange / Cream Pansies - single stem","RETAIL",0,100]
["DAR081",{"$f":"TEXT(Table_Query_from_Great_Plains[[#This Row],[ITEMNMBR]],0)","v":"DAR081"},"Red Rose Bush Picks - Cut 1.5 inches below Calyx","RETAIL",0,100]
["DELUXE",{"$f":"TEXT(Table_Query_from_Great_Plains[[#This Row],[ITEMNMBR]],0)","v":"DELUXE"},"Deluxe","RETAIL",0,0]
["DII001",{"$f":"TEXT(Table_Query_from_Great_Plains[[#This Row],[ITEMNMBR]],0)","v":"DII001"},"DII - Design Imports Checkers Flame Red Dishtowel","RETAIL",0,100]
["DII002",{"$f":"TEXT(Table_Query_from_Great_Plains[[#This Row],[ITEMNMBR]],0)","v":"DII002"},"DII - Design Imports Classic Stripe Cobalt Blue Dishtowel","RETAIL",0,100]
["DII003",{"$f":"TEXT(Table_Query_from_Great_Plains[[#This Row],[ITEMNMBR]],0)","v":"DII003"},"DII - Design Imports Nantucket Check Cobalt Blue Dishtowel","RETAIL",0,100]
["DII004",{"$f":"TEXT(Table_Query_from_Great_Plains[[#This Row],[ITEMNMBR]],0)","v":"DII004"},"DII - Design Imports Classic Stripe Forest Green Dishtowel","RETAIL",0,100]
["DII005",{"$f":"TEXT(Table_Query_from_Great_Plains[[#This Row],[ITEMNMBR]],0)","v":"DII005"},"DII - Design Imports Nantucket Check Forest Green Dishtowel","RETAIL",0,100]
["DII006",{"$f":"TEXT(Table_Query_from_Great_Plains[[#This Row],[ITEMNMBR]],0)","v":"DII006"},"DII - Design Imports ProCheck Sage Green Dishtowel","RETAIL",0,100]
["DII007",{"$f":"TEXT(Table_Query_from_Great_Plains[[#This Row],[ITEMNMBR]],0)","v":"DII007"},"DII - Design Imports ProPlaid Sage Green Dishtowel","RETAIL",0,100]
["DII008",{"$f":"TEXT(Table_Query_from_Great_Plains[[#This Row],[ITEMNMBR]],0)","v":"DII008"},"DII - Design Imports ProCheck Deep Red Dishtowel","RETAIL",0,100]
["DII009",{"$f":"TEXT(Table_Query_from_Great_Plains[[#This Row],[ITEMNMBR]],0)","v":"DII009"},"DII - Design Imports ProPlaid Deep Red Dishtowel","RETAIL",0,100]
["DII010",{"$f":"TEXT(Table_Query_from_Great_Plains[[#This Row],[ITEMNMBR]],0)","v":"DII010"},"DII - Design Imports Red  Nantucket Check","RETAIL",0,100]
["DII011",{"$f":"TEXT(Table_Query_from_Great_Plains[[#This Row],[ITEMNMBR]],0)","v":"DII011"},"Design Imports Daffodil Twill Stripe Dishtowel","RETAIL",0,100]
["DII012",{"$f":"TEXT(Table_Query_from_Great_Plains[[#This Row],[ITEMNMBR]],0)","v":"DII012"},"Design Imports Petite Pane Dishtowel Spice","RETAIL",0,100]
["DII013",{"$f":"TEXT(Table_Query_from_Great_Plains[[#This Row],[ITEMNMBR]],0)","v":"DII013"},"Design Imports Petite Pane Dishtowel Sage","RETAIL",0,100]
["DII020",{"$f":"TEXT(Table_Query_from_Great_Plains[[#This Row],[ITEMNMBR]],0)","v":"DII020"},"Vineyard Green Window Pane Dishtowell by DII -","RETAIL",0,100]
["DII021",{"$f":"TEXT(Table_Query_from_Great_Plains[[#This Row],[ITEMNMBR]],0)","v":"DII021"},"Home Chef Tango Dishtowel by DII","RETAIL",0,100]
["DII022",{"$f":"TEXT(Table_Query_from_Great_Plains[[#This Row],[ITEMNMBR]],0)","v":"DII022"},"Grass Green Striped Towel by Design Imports","RETAIL",0,100]
["DLBHS1",{"$f":"TEXT(Table_Query_from_Great_Plains[[#This Row],[ITEMNMBR]],0)","v":"DLBHS1"},"Custom: snack  (Dave)","RETAIL",0,50]
["DLCB01",{"$f":"TEXT(Table_Query_from_Great_Plains[[#This Row],[ITEMNMBR]],0)","v":"DLCB01"},"Custom: Festive Favorites with added csi - usb battery back-up (Dave)","RETAIL",0,39.99]
["DLCP01",{"$f":"TEXT(Table_Query_from_Great_Plains[[#This Row],[ITEMNMBR]],0)","v":"DLCP01"},"Custom: Circles - Popcorn in Snowman Tin -  2gal (Dave)","RETAIL",0,47.49]
["DLCP02",{"$f":"TEXT(Table_Query_from_Great_Plains[[#This Row],[ITEMNMBR]],0)","v":"DLCP02"},"Custom: Circles - Popcorn in Snowman Tin - 3.5gal (Dave)","RETAIL",0,56.99]
["DLCP03",{"$f":"TEXT(Table_Query_from_Great_Plains[[#This Row],[ITEMNMBR]],0)","v":"DLCP03"},"Custom: Circles - Popcorn in Snowflake Tin -  6.5gal (Dave)","RETAIL",0,66.489999999999995]
["DLEQF1",{"$f":"TEXT(Table_Query_from_Great_Plains[[#This Row],[ITEMNMBR]],0)","v":"DLEQF1"},"Custom: Ravenswood  - Gluten free items  (Dave)","RETAIL",1,69.989999999999995]
["DLGC15",{"$f":"TEXT(Table_Query_from_Great_Plains[[#This Row],[ITEMNMBR]],0)","v":"DLGC15"},"Custom: GC Racing - Snack Classic (Dave)","RETAIL",0,59.99]
["DLIC25",{"$f":"TEXT(Table_Query_from_Great_Plains[[#This Row],[ITEMNMBR]],0)","v":"DLIC25"},"Custom: Care Package (Dave)","RETAIL",0,27]
["DLJSR1",{"$f":"TEXT(Table_Query_from_Great_Plains[[#This Row],[ITEMNMBR]],0)","v":"DLJSR1"},"Custom: Janine Stevens Reality - Cakebread Basket (Dave)","RETAIL",1,305.99]
["DLJSR2",{"$f":"TEXT(Table_Query_from_Great_Plains[[#This Row],[ITEMNMBR]],0)","v":"DLJSR2"},"Custom: Janine Stevens Reality - Cakebread Basket 2  (Dave)","RETAIL",1,282.99]
["DLNA01",{"$f":"TEXT(Table_Query_from_Great_Plains[[#This Row],[ITEMNMBR]],0)","v":"DLNA01"},"Custom: Nurses Appreciation Basket - large (Dave)","RETAIL",0,78]
["DLNA02",{"$f":"TEXT(Table_Query_from_Great_Plains[[#This Row],[ITEMNMBR]],0)","v":"DLNA02"},"Custom: Champagne & Truffles (Dave)","RETAIL",1,139.99]
["DLPBC1",{"$f":"TEXT(Table_Query_from_Great_Plains[[#This Row],[ITEMNMBR]],0)","v":"DLPBC1"},"Custom:PEB inc. - Cristal,  Dried Fruits, Nuts & Chocolates - 2 glasses  (Dave)","RETAIL",1,463.98]
["DLPBD1",{"$f":"TEXT(Table_Query_from_Great_Plains[[#This Row],[ITEMNMBR]],0)","v":"DLPBD1"},"Custom:PEB inc. - Dom, Dried Fruits, Nuts & Chocolates - 1 glass (Dave)","RETAIL",1,319.98]
["DLPBD2",{"$f":"TEXT(Table_Query_from_Great_Plains[[#This Row],[ITEMNMBR]],0)","v":"DLPBD2"},"Custom:PEB inc. - Dom, Dried Fruits, Nuts & Chocolates - 2 glasses  (Dave)","RETAIL",1,322.98]
["DLR001",{"$f":"TEXT(Table_Query_from_Great_Plains[[#This Row],[ITEMNMBR]],0)","v":"DLR001"},"Glider Airplane 19\"","RETAIL",0,100]
["DLR002",{"$f":"TEXT(Table_Query_from_Great_Plains[[#This Row],[ITEMNMBR]],0)","v":"DLR002"},"Sudoku Puzzle Book","RETAIL",0,100]
["DLR003",{"$f":"TEXT(Table_Query_from_Great_Plains[[#This Row],[ITEMNMBR]],0)","v":"DLR003"},"Instant Hand Sanitizer","RETAIL",0,100]
["DLR004",{"$f":"TEXT(Table_Query_from_Great_Plains[[#This Row],[ITEMNMBR]],0)","v":"DLR004"},"Plastic LED Flashlights, 5\"","RETAIL",0,100]
["DLR005",{"$f":"TEXT(Table_Query_from_Great_Plains[[#This Row],[ITEMNMBR]],0)","v":"DLR005"},"Panasonic  AA Alkaline Plus Batteries","RETAIL",0,100]
["DLR006",{"$f":"TEXT(Table_Query_from_Great_Plains[[#This Row],[ITEMNMBR]],0)","v":"DLR006"},"Colgate Easy to Grip Medium Toothbrush","RETAIL",0,100]
["DLR007",{"$f":"TEXT(Table_Query_from_Great_Plains[[#This Row],[ITEMNMBR]],0)","v":"DLR007"},"2.7oz Colgate Junior Bubble Fruit Toothpaste","RETAIL",0,100]
["DLR008",{"$f":"TEXT(Table_Query_from_Great_Plains[[#This Row],[ITEMNMBR]],0)","v":"DLR008"},"2 pk Splash and Swim Goggles","RETAIL",0,100]
["DLR010",{"$f":"TEXT(Table_Query_from_Great_Plains[[#This Row],[ITEMNMBR]],0)","v":"DLR010"},"AAA Batteries","RETAIL",0,100]
["DLRMX1",{"$f":"TEXT(Table_Query_from_Great_Plains[[#This Row],[ITEMNMBR]],0)","v":"DLRMX1"},"Custom: Remax - Snack Classic  (Dave)","RETAIL",0,59.99]
["DLRMX2",{"$f":"TEXT(Table_Query_from_Great_Plains[[#This Row],[ITEMNMBR]],0)","v":"DLRMX2"},"Custom: Remax - Classic Champagne  (Dave)","RETAIL",1,64.989999999999995]
["DLSR01",{"$f":"TEXT(Table_Query_from_Great_Plains[[#This Row],[ITEMNMBR]],0)","v":"DLSR01"},"Custom - Stevens Realty -  Weekend in Paris - Dom xs 2","RETAIL",1,527.99]
["DLTT15",{"$f":"TEXT(Table_Query_from_Great_Plains[[#This Row],[ITEMNMBR]],0)","v":"DLTT15"},"Custom: Ticker Tags - Champagne and Snacks with CSI- ( t shirt & book) (Dave)","RETAIL",1,64.989999999999995]
["DLWHDS",{"$f":"TEXT(Table_Query_from_Great_Plains[[#This Row],[ITEMNMBR]],0)","v":"DLWHDS"},"Custom: Whyte Hirschboeck Dudek S.C - snack basket (Dave)","RETAIL",0,65.989999999999995]
["DOR001",{"$f":"TEXT(Table_Query_from_Great_Plains[[#This Row],[ITEMNMBR]],0)","v":"DOR001"},"Dorothy Biddle Service Good Grip Garden Gloves N/A","RETAIL",0,100]
["DRALS1",{"$f":"TEXT(Table_Query_from_Great_Plains[[#This Row],[ITEMNMBR]],0)","v":"DRALS1"},"Custom 5087 with wildhorse merlot ( Dave)","RETAIL",1,92.99]
["DRCARO",{"$f":"TEXT(Table_Query_from_Great_Plains[[#This Row],[ITEMNMBR]],0)","v":"DRCARO"},"Custom Easter for Caroline","RETAIL",0,149.99]
["DRCG01",{"$f":"TEXT(Table_Query_from_Great_Plains[[#This Row],[ITEMNMBR]],0)","v":"DRCG01"},"Custom : Cleary Gottlieb Steen & Hamilton LLP -  Spa (Dave / R.Huston)","RETAIL",1,100]
["DRCOLE",{"$f":"TEXT(Table_Query_from_Great_Plains[[#This Row],[ITEMNMBR]],0)","v":"DRCOLE"},"Custom : Easter Basket for Cole (Billie / Dave)","RETAIL",0,150]
["DRDUF1",{"$f":"TEXT(Table_Query_from_Great_Plains[[#This Row],[ITEMNMBR]],0)","v":"DRDUF1"},"Custom Fruit with Candy for David","RETAIL",0,60.99]
["DRHA01",{"$f":"TEXT(Table_Query_from_Great_Plains[[#This Row],[ITEMNMBR]],0)","v":"DRHA01"},"Custom BBQ- Golf - Snacks & Wine (Dave)","RETAIL",1,238]
["DRKAT1",{"$f":"TEXT(Table_Query_from_Great_Plains[[#This Row],[ITEMNMBR]],0)","v":"DRKAT1"},"Custom Bountiful swapping items (Dave)","RETAIL",0,134.99]
["DRKATI",{"$f":"TEXT(Table_Query_from_Great_Plains[[#This Row],[ITEMNMBR]],0)","v":"DRKATI"},"Custom Easter for Katie","RETAIL",0,149.99]
["DRLAB1",{"$f":"TEXT(Table_Query_from_Great_Plains[[#This Row],[ITEMNMBR]],0)","v":"DRLAB1"},"Custom : Candy!!! (Dave)","RETAIL",0,34]
["DRMEL1",{"$f":"TEXT(Table_Query_from_Great_Plains[[#This Row],[ITEMNMBR]],0)","v":"DRMEL1"},"Custom Moet & Snacks ( Dave)","RETAIL",1,125]
["DRNICH",{"$f":"TEXT(Table_Query_from_Great_Plains[[#This Row],[ITEMNMBR]],0)","v":"DRNICH"},"Custom Easter for Nicholas","RETAIL",0,149.99]
["DRTOMM",{"$f":"TEXT(Table_Query_from_Great_Plains[[#This Row],[ITEMNMBR]],0)","v":"DRTOMM"},"Custom : Easter Basket for Tommy  (Billie / Dave)","RETAIL",0,150]
["DRUBS1",{"$f":"TEXT(Table_Query_from_Great_Plains[[#This Row],[ITEMNMBR]],0)","v":"DRUBS1"},"Custom corp. showstopper with 2 Ravenswood ( Dave)","RETAIL",1,174.99]
["DRWILL",{"$f":"TEXT(Table_Query_from_Great_Plains[[#This Row],[ITEMNMBR]],0)","v":"DRWILL"},"Custom : Easter Basket for William (Billie / Dave)","RETAIL",0,150]
["EDU001",{"$f":"TEXT(Table_Query_from_Great_Plains[[#This Row],[ITEMNMBR]],0)","v":"EDU001"},"Camp Kids' Activity Book by Education Outdoors - 48 pages -","RETAIL",0,100]
["EDU002",{"$f":"TEXT(Table_Query_from_Great_Plains[[#This Row],[ITEMNMBR]],0)","v":"EDU002"},"S'Mores Card Game by Education Outdoors - 69 cards plus Instruction card -","RETAIL",0,100]
["EMKP10",{"$f":"TEXT(Table_Query_from_Great_Plains[[#This Row],[ITEMNMBR]],0)","v":"EMKP10"},"Employee Candied Fruit Fusion","RETAIL",0,15.99]
["EMKP11",{"$f":"TEXT(Table_Query_from_Great_Plains[[#This Row],[ITEMNMBR]],0)","v":"EMKP11"},"Employee Backyard BBQ Sampler","RETAIL",0,15.99]
["EMKP12",{"$f":"TEXT(Table_Query_from_Great_Plains[[#This Row],[ITEMNMBR]],0)","v":"EMKP12"},"Employee Holiday Samp","RETAIL",0,16.989999999999998]
["EMKP13",{"$f":"TEXT(Table_Query_from_Great_Plains[[#This Row],[ITEMNMBR]],0)","v":"EMKP13"},"Employee Chocolate Sampler","RETAIL",0,19.989999999999998]
["EMKP14",{"$f":"TEXT(Table_Query_from_Great_Plains[[#This Row],[ITEMNMBR]],0)","v":"EMKP14"},"Employee Purchased 1 Gallon Non Supreme Popcorn Tin","RETAIL",0,12.99]
["EMKP15",{"$f":"TEXT(Table_Query_from_Great_Plains[[#This Row],[ITEMNMBR]],0)","v":"EMKP15"},"Employee Purchased 1 Gallon Supreme Popcorn Tin","RETAIL",0,14.99]
["EMKP16",{"$f":"TEXT(Table_Query_from_Great_Plains[[#This Row],[ITEMNMBR]],0)","v":"EMKP16"},"Employee Bag o Popcorn 1 Gallon Non Supreme","RETAIL",0,6.99]
["EMKP17",{"$f":"TEXT(Table_Query_from_Great_Plains[[#This Row],[ITEMNMBR]],0)","v":"EMKP17"},"Employee Bag o Popcorn 1 Gallon Supreme","RETAIL",0,9.99]
["EMKP18",{"$f":"TEXT(Table_Query_from_Great_Plains[[#This Row],[ITEMNMBR]],0)","v":"EMKP18"},"Employee Thanksgiving Sampler","RETAIL",0,15.99]
["EMPKP1",{"$f":"TEXT(Table_Query_from_Great_Plains[[#This Row],[ITEMNMBR]],0)","v":"EMPKP1"},"Employee Purchased 2 Gallon Non Supreme Popcorn Tin","RETAIL",0,15.99]
["EMPKP2",{"$f":"TEXT(Table_Query_from_Great_Plains[[#This Row],[ITEMNMBR]],0)","v":"EMPKP2"},"Employee Purchased 2 Gallon Supreme Popcorn Tin","RETAIL",0,19.989999999999998]
["EMPKP3",{"$f":"TEXT(Table_Query_from_Great_Plains[[#This Row],[ITEMNMBR]],0)","v":"EMPKP3"},"Employee Purchased 3.5 Gallon Non Supreme Popcorn Tin","RETAIL",0,19.989999999999998]
["EMPKP4",{"$f":"TEXT(Table_Query_from_Great_Plains[[#This Row],[ITEMNMBR]],0)","v":"EMPKP4"},"Employee Purchased 3.5 Gallon Supreme Popcorn Tin","RETAIL",0,23.99]
["EMPKP5",{"$f":"TEXT(Table_Query_from_Great_Plains[[#This Row],[ITEMNMBR]],0)","v":"EMPKP5"},"Employee Bag o Popcorn 2 Gallon Non Supreme","RETAIL",0,9.99]
["EMPKP6",{"$f":"TEXT(Table_Query_from_Great_Plains[[#This Row],[ITEMNMBR]],0)","v":"EMPKP6"},"Employee Bag o Popcorn 2 Gallon Supreme","RETAIL",0,13.99]
["EMPKP7",{"$f":"TEXT(Table_Query_from_Great_Plains[[#This Row],[ITEMNMBR]],0)","v":"EMPKP7"},"Employee Bag o Popcorn 3.5 Gallon Non Supreme","RETAIL",0,12.99]
["EMPKP8",{"$f":"TEXT(Table_Query_from_Great_Plains[[#This Row],[ITEMNMBR]],0)","v":"EMPKP8"},"Employee Bag o Popcorn 3.5 Gallon Supreme","RETAIL",0,16.989999999999998]
["EMPKP9",{"$f":"TEXT(Table_Query_from_Great_Plains[[#This Row],[ITEMNMBR]],0)","v":"EMPKP9"},"Employee Critic's Choice Sampler","RETAIL",0,15.99]
["FAM001",{"$f":"TEXT(Table_Query_from_Great_Plains[[#This Row],[ITEMNMBR]],0)","v":"FAM001"},"\"Silli Gorilli\" Stuffed Gorilla -","RETAIL",0,100]
["FAM003",{"$f":"TEXT(Table_Query_from_Great_Plains[[#This Row],[ITEMNMBR]],0)","v":"FAM003"},"Beaumont","RETAIL",0,100]
["FAM004",{"$f":"TEXT(Table_Query_from_Great_Plains[[#This Row],[ITEMNMBR]],0)","v":"FAM004"},"Phillip the Frog Prince - 6\" sitting -","RETAIL",0,100]
["FAM006",{"$f":"TEXT(Table_Query_from_Great_Plains[[#This Row],[ITEMNMBR]],0)","v":"FAM006"},"Budder Bears 10\"","RETAIL",0,7.99]
["FAM007",{"$f":"TEXT(Table_Query_from_Great_Plains[[#This Row],[ITEMNMBR]],0)","v":"FAM007"},"Brown Bears with  Plaid Bow (FAM006)","RETAIL",0,8.99]
["FAM008",{"$f":"TEXT(Table_Query_from_Great_Plains[[#This Row],[ITEMNMBR]],0)","v":"FAM008"},"Tan Bears with plaid Bow (FAM006)","RETAIL",0,8.99]
["FB1005",{"$f":"TEXT(Table_Query_from_Great_Plains[[#This Row],[ITEMNMBR]],0)","v":"FB1005"},"Birthday Celebration","RETAIL",0,10]
["FB4206",{"$f":"TEXT(Table_Query_from_Great_Plains[[#This Row],[ITEMNMBR]],0)","v":"FB4206"},"Classic Candy Gift Crate","RETAIL",0,24.99]
["FB5022",{"$f":"TEXT(Table_Query_from_Great_Plains[[#This Row],[ITEMNMBR]],0)","v":"FB5022"},"New England Breakfast Gift Basket Classic","RETAIL",0,59.99]
["FB5521",{"$f":"TEXT(Table_Query_from_Great_Plains[[#This Row],[ITEMNMBR]],0)","v":"FB5521"},"'Mini' Snack Gift Basket","RETAIL",0,24.99]
["FB6801",{"$f":"TEXT(Table_Query_from_Great_Plains[[#This Row],[ITEMNMBR]],0)","v":"FB6801"},"Timeless Treats Gift Tower","RETAIL",0,39.99]
["FB7700",{"$f":"TEXT(Table_Query_from_Great_Plains[[#This Row],[ITEMNMBR]],0)","v":"FB7700"},"Ghost Chile Popcorn","RETAIL",0,4.99]
["FEX001",{"$f":"TEXT(Table_Query_from_Great_Plains[[#This Row],[ITEMNMBR]],0)","v":"FEX001"},"Shamrock Beaded Necklace - 33\" -","RETAIL",0,100]
["FEX002",{"$f":"TEXT(Table_Query_from_Great_Plains[[#This Row],[ITEMNMBR]],0)","v":"FEX002"},"Colorful Bright Assorted Plastic Easter Eggs -","RETAIL",0,100]
["FFI",{"$f":"TEXT(Table_Query_from_Great_Plains[[#This Row],[ITEMNMBR]],0)","v":"FFI"},"Fine Foods International sevruga caviar 2 oz","RETAIL",0,300]
["FIE001",{"$f":"TEXT(Table_Query_from_Great_Plains[[#This Row],[ITEMNMBR]],0)","v":"FIE001"},"Fiesta Toy Sitting Bunny with Carrot Patch Belly 10.5 oz","RETAIL",0,100]
["FIE002",{"$f":"TEXT(Table_Query_from_Great_Plains[[#This Row],[ITEMNMBR]],0)","v":"FIE002"},"11\" 2 Asst Sitting Bunnies, Beige, Brown","RETAIL",0,100]
["FIS001",{"$f":"TEXT(Table_Query_from_Great_Plains[[#This Row],[ITEMNMBR]],0)","v":"FIS001"},"Plastic Cultivator by Fiskars 10.5\"","RETAIL",0,100]
["FIS002",{"$f":"TEXT(Table_Query_from_Great_Plains[[#This Row],[ITEMNMBR]],0)","v":"FIS002"},"Plastic Trowel by Fiskars 11.5\"","RETAIL",0,100]
["FIS003",{"$f":"TEXT(Table_Query_from_Great_Plains[[#This Row],[ITEMNMBR]],0)","v":"FIS003"},"Plastic Transplanter by Fiskers","RETAIL",0,100]
["FLOWERS",{"$f":"TEXT(Table_Query_from_Great_Plains[[#This Row],[ITEMNMBR]],0)","v":"FLOWERS"},"Flowers Describe:","RETAIL",0,100]
["FOX003",{"$f":"TEXT(Table_Query_from_Great_Plains[[#This Row],[ITEMNMBR]],0)","v":"FOX003"},"Ice Cream Scooper by Fox Run Kitchens Super Dooper","RETAIL",0,100]
["FOX004",{"$f":"TEXT(Table_Query_from_Great_Plains[[#This Row],[ITEMNMBR]],0)","v":"FOX004"},"Fox Run Kitchens Earthenware Soup Crock with Lid","RETAIL",0,100]
["FOX005",{"$f":"TEXT(Table_Query_from_Great_Plains[[#This Row],[ITEMNMBR]],0)","v":"FOX005"},"Ironwood Gourmet Bread Board with Dipping Bowl 12\"x9.5\"x.5\"","RETAIL",0,100]
["FOX006",{"$f":"TEXT(Table_Query_from_Great_Plains[[#This Row],[ITEMNMBR]],0)","v":"FOX006"},"Fox Run Kitchens 12\" Pizza Stone Set 21\"","RETAIL",0,100]
["FOX007",{"$f":"TEXT(Table_Query_from_Great_Plains[[#This Row],[ITEMNMBR]],0)","v":"FOX007"},"Fox Run Kitchens Party Stnd Bake Cup","RETAIL",0,100]
["FOX008",{"$f":"TEXT(Table_Query_from_Great_Plains[[#This Row],[ITEMNMBR]],0)","v":"FOX008"},"Fox Run Kitchens Cupcake to Go","RETAIL",0,100]
["FOX009",{"$f":"TEXT(Table_Query_from_Great_Plains[[#This Row],[ITEMNMBR]],0)","v":"FOX009"},"Fox Run Kitchens Non-stick Cupcake Pan 12ct cups","RETAIL",0,100]
["FOX010",{"$f":"TEXT(Table_Query_from_Great_Plains[[#This Row],[ITEMNMBR]],0)","v":"FOX010"},"Touch of Oil Sprayer","RETAIL",0,100]
["FOXWOODS1",{"$f":"TEXT(Table_Query_from_Great_Plains[[#This Row],[ITEMNMBR]],0)","v":"FOXWOODS1"},"Foxwoods Custom Basket 1","RETAIL",0,21]
["FOXWOODS5",{"$f":"TEXT(Table_Query_from_Great_Plains[[#This Row],[ITEMNMBR]],0)","v":"FOXWOODS5"},"Foxwoods Custom Basket 5","RETAIL",0,37]
["GAR001",{"$f":"TEXT(Table_Query_from_Great_Plains[[#This Row],[ITEMNMBR]],0)","v":"GAR001"},"Garden Works Dutch Watering Can Yellow or White","RETAIL",0,15]
["GAR002",{"$f":"TEXT(Table_Query_from_Great_Plains[[#This Row],[ITEMNMBR]],0)","v":"GAR002"},"English Style Watering Can in Green","RETAIL",0,100]
["GAR003",{"$f":"TEXT(Table_Query_from_Great_Plains[[#This Row],[ITEMNMBR]],0)","v":"GAR003"},"Gardening Tool Set","RETAIL",0,100]
["GAR004",{"$f":"TEXT(Table_Query_from_Great_Plains[[#This Row],[ITEMNMBR]],0)","v":"GAR004"},"Watering Can in Duck Egg Blue by Gardman -","RETAIL",0,100]
["GB-SAMEDAY",{"$f":"TEXT(Table_Query_from_Great_Plains[[#This Row],[ITEMNMBR]],0)","v":"GB-SAMEDAY"},"GGB Same Day Item","RETAIL",0,100]
["GBOS",{"$f":"TEXT(Table_Query_from_Great_Plains[[#This Row],[ITEMNMBR]],0)","v":"GBOS"},"Gift Baskets Overseas","RETAIL",0,0]
["GEOTEMPS1",{"$f":"TEXT(Table_Query_from_Great_Plains[[#This Row],[ITEMNMBR]],0)","v":"GEOTEMPS1"},"Corporate Custom 38","RETAIL",0,38]
["GEOTEMPS2",{"$f":"TEXT(Table_Query_from_Great_Plains[[#This Row],[ITEMNMBR]],0)","v":"GEOTEMPS2"},"Corporate Custom Christmas Classic","RETAIL",0,59.99]
["GFP001",{"$f":"TEXT(Table_Query_from_Great_Plains[[#This Row],[ITEMNMBR]],0)","v":"GFP001"},"GFP Cat Pail 8\"","RETAIL",0,100]
["GFP002",{"$f":"TEXT(Table_Query_from_Great_Plains[[#This Row],[ITEMNMBR]],0)","v":"GFP002"},"GFP Pumpkin Bucket 8\"","RETAIL",0,100]
["GFP003",{"$f":"TEXT(Table_Query_from_Great_Plains[[#This Row],[ITEMNMBR]],0)","v":"GFP003"},"Black Cauldron 8\"","RETAIL",0,100]
["GGB018",{"$f":"TEXT(Table_Query_from_Great_Plains[[#This Row],[ITEMNMBR]],0)","v":"GGB018"},"GGB Sour Apple Stick Candy .5 oz","RETAIL",0,100]
["GIF001",{"$f":"TEXT(Table_Query_from_Great_Plains[[#This Row],[ITEMNMBR]],0)","v":"GIF001"},"Gift Card $10","RETAIL",0,0]
["GIF002",{"$f":"TEXT(Table_Query_from_Great_Plains[[#This Row],[ITEMNMBR]],0)","v":"GIF002"},"Gift Card $25","RETAIL",0,0]
["GIF003",{"$f":"TEXT(Table_Query_from_Great_Plains[[#This Row],[ITEMNMBR]],0)","v":"GIF003"},"Gift Card $50","RETAIL",0,0]
["GIF004",{"$f":"TEXT(Table_Query_from_Great_Plains[[#This Row],[ITEMNMBR]],0)","v":"GIF004"},"Gift Card $75","RETAIL",0,0]
["GIF005",{"$f":"TEXT(Table_Query_from_Great_Plains[[#This Row],[ITEMNMBR]],0)","v":"GIF005"},"Gift Card $100","RETAIL",0,0]
["GIFTCERTIFICATE",{"$f":"TEXT(Table_Query_from_Great_Plains[[#This Row],[ITEMNMBR]],0)","v":"GIFTCERTIFICATE"},"Gift Certificate","RETAIL",0,0]
["GIL001",{"$f":"TEXT(Table_Query_from_Great_Plains[[#This Row],[ITEMNMBR]],0)","v":"GIL001"},"Grand Illusions Pit and Pendulum Small Slate","RETAIL",0,99.98]
["GIL002",{"$f":"TEXT(Table_Query_from_Great_Plains[[#This Row],[ITEMNMBR]],0)","v":"GIL002"},"Grand Illusions Pit and Pendulum Large Slate","RETAIL",0,114.25]
["GIL003",{"$f":"TEXT(Table_Query_from_Great_Plains[[#This Row],[ITEMNMBR]],0)","v":"GIL003"},"Grand Illusions Pit and Pendulum Small Chrome","RETAIL",0,99.98]
["GIL004",{"$f":"TEXT(Table_Query_from_Great_Plains[[#This Row],[ITEMNMBR]],0)","v":"GIL004"},"Grand Illusions Pit and Pendulum Large Chrome","RETAIL",0,92.28]
["GLV001",{"$f":"TEXT(Table_Query_from_Great_Plains[[#This Row],[ITEMNMBR]],0)","v":"GLV001"},"Go Green Bamboo Gloves XL","RETAIL",0,100]
["GNZ001",{"$f":"TEXT(Table_Query_from_Great_Plains[[#This Row],[ITEMNMBR]],0)","v":"GNZ001"},"Rose Bath Petals","RETAIL",0,100]
["GOOGLE",{"$f":"TEXT(Table_Query_from_Great_Plains[[#This Row],[ITEMNMBR]],0)","v":"GOOGLE"},"Custom: Google (Jason)","RETAIL",0,0]
["GRB001",{"$f":"TEXT(Table_Query_from_Great_Plains[[#This Row],[ITEMNMBR]],0)","v":"GRB001"},"GourmetGiftBaskets.com All in One Forms","RETAIL",0,100]
["GRB002",{"$f":"TEXT(Table_Query_from_Great_Plains[[#This Row],[ITEMNMBR]],0)","v":"GRB002"},"GourmetGiftBaskets.com Hang Tags","RETAIL",0,100]
["GUN001",{"$f":"TEXT(Table_Query_from_Great_Plains[[#This Row],[ITEMNMBR]],0)","v":"GUN001"},"Gund Baby \"My First Teddy\" - Pink","RETAIL",0,100]
["GUN002",{"$f":"TEXT(Table_Query_from_Great_Plains[[#This Row],[ITEMNMBR]],0)","v":"GUN002"},"Gund Baby \"My First Teddy\" - Blue","RETAIL",0,100]
["GUN003",{"$f":"TEXT(Table_Query_from_Great_Plains[[#This Row],[ITEMNMBR]],0)","v":"GUN003"},"Gund Baby Nighty Night Musical Bear - Pink","RETAIL",0,100]
["GUN004",{"$f":"TEXT(Table_Query_from_Great_Plains[[#This Row],[ITEMNMBR]],0)","v":"GUN004"},"Gund Baby Nighty Night Musical Bear - Blue","RETAIL",0,100]
["GUN006",{"$f":"TEXT(Table_Query_from_Great_Plains[[#This Row],[ITEMNMBR]],0)","v":"GUN006"},"Gund Garstang the Love Gorilla","RETAIL",0,100]
["GUN009",{"$f":"TEXT(Table_Query_from_Great_Plains[[#This Row],[ITEMNMBR]],0)","v":"GUN009"},"Gund Prince Kiss-a-Lot","RETAIL",0,100]
["GUN010",{"$f":"TEXT(Table_Query_from_Great_Plains[[#This Row],[ITEMNMBR]],0)","v":"GUN010"},"Gund Singing Justabunny 11.5\"","RETAIL",0,44.99]
["GUN011",{"$f":"TEXT(Table_Query_from_Great_Plains[[#This Row],[ITEMNMBR]],0)","v":"GUN011"},"Gund Carlyle Medium Easter Bunny 18\"","RETAIL",0,100]
["GUN012",{"$f":"TEXT(Table_Query_from_Great_Plains[[#This Row],[ITEMNMBR]],0)","v":"GUN012"},"Gund Dulce Bunny 5\"","RETAIL",0,100]
["GUN013",{"$f":"TEXT(Table_Query_from_Great_Plains[[#This Row],[ITEMNMBR]],0)","v":"GUN013"},"Gund Citrine Bunny 12\"","RETAIL",0,100]
["HAL001",{"$f":"TEXT(Table_Query_from_Great_Plains[[#This Row],[ITEMNMBR]],0)","v":"HAL001"},"Orange Halloween Mug","RETAIL",0,100]
["HAL003",{"$f":"TEXT(Table_Query_from_Great_Plains[[#This Row],[ITEMNMBR]],0)","v":"HAL003"},"Halloween Pumpkin Bucket","RETAIL",0,100]
["HAL004",{"$f":"TEXT(Table_Query_from_Great_Plains[[#This Row],[ITEMNMBR]],0)","v":"HAL004"},"Black Spider Decoration","RETAIL",0,100]
["HAL006",{"$f":"TEXT(Table_Query_from_Great_Plains[[#This Row],[ITEMNMBR]],0)","v":"HAL006"},"Orange Halloween Cats & Hats Mug","RETAIL",0,100]
["HAL007",{"$f":"TEXT(Table_Query_from_Great_Plains[[#This Row],[ITEMNMBR]],0)","v":"HAL007"},"Orange Halloween Mug with Custom Pumpkin Face","RETAIL",0,100]
["HAL008",{"$f":"TEXT(Table_Query_from_Great_Plains[[#This Row],[ITEMNMBR]],0)","v":"HAL008"},"Orange Mug - Pumpkin Face with Solid Triangle Eyes by Jacobson -","RETAIL",0,100]
["HAL009",{"$f":"TEXT(Table_Query_from_Great_Plains[[#This Row],[ITEMNMBR]],0)","v":"HAL009"},"Black Mug with Orange Pumpkins by Jacobson -","RETAIL",0,100]
["HAL010",{"$f":"TEXT(Table_Query_from_Great_Plains[[#This Row],[ITEMNMBR]],0)","v":"HAL010"},"Orange Mug with Hats and Boots by Jacobson -","RETAIL",0,100]
["HAN002",{"$f":"TEXT(Table_Query_from_Great_Plains[[#This Row],[ITEMNMBR]],0)","v":"HAN002"},"Ladybug Lunch Tote","RETAIL",0,100]
["HARV00",{"$f":"TEXT(Table_Query_from_Great_Plains[[#This Row],[ITEMNMBR]],0)","v":"HARV00"},"Harvard Fall Finals","RETAIL",0,34.99]
["HARV01",{"$f":"TEXT(Table_Query_from_Great_Plains[[#This Row],[ITEMNMBR]],0)","v":"HARV01"},"Harvard Spring Midterms","RETAIL",0,34.99]
["HARV02",{"$f":"TEXT(Table_Query_from_Great_Plains[[#This Row],[ITEMNMBR]],0)","v":"HARV02"},"Harvard Birthday Celebration","RETAIL",0,34.99]
["HARV03",{"$f":"TEXT(Table_Query_from_Great_Plains[[#This Row],[ITEMNMBR]],0)","v":"HARV03"},"Harvard Fall Finals","RETAIL",0,34.99]
["HARV04",{"$f":"TEXT(Table_Query_from_Great_Plains[[#This Row],[ITEMNMBR]],0)","v":"HARV04"},"Harvard Fall Midterms","RETAIL",0,34.99]
["HED001",{"$f":"TEXT(Table_Query_from_Great_Plains[[#This Row],[ITEMNMBR]],0)","v":"HED001"},"Mini Squirt Guns - 4 pack -","RETAIL",0,100]
["HED002",{"$f":"TEXT(Table_Query_from_Great_Plains[[#This Row],[ITEMNMBR]],0)","v":"HED002"},"Basketball Hoop and Ball -","RETAIL",0,100]
["HED003",{"$f":"TEXT(Table_Query_from_Great_Plains[[#This Row],[ITEMNMBR]],0)","v":"HED003"},"G2Air Rubber Playground Ball -","RETAIL",0,100]
["HED004",{"$f":"TEXT(Table_Query_from_Great_Plains[[#This Row],[ITEMNMBR]],0)","v":"HED004"},"G2Air Jr. Foam Throwing Balls - Assorted Colors and Shapes -","RETAIL",0,100]
["HED005",{"$f":"TEXT(Table_Query_from_Great_Plains[[#This Row],[ITEMNMBR]],0)","v":"HED005"},"G2Air Flying Disc - Assorted Colors -","RETAIL",0,100]
["HED006",{"$f":"TEXT(Table_Query_from_Great_Plains[[#This Row],[ITEMNMBR]],0)","v":"HED006"},"Large Football with Tail -","RETAIL",0,100]
["HED007",{"$f":"TEXT(Table_Query_from_Great_Plains[[#This Row],[ITEMNMBR]],0)","v":"HED007"},"Sling Toss Game with Wiffle Ball -","RETAIL",0,100]
["HED008",{"$f":"TEXT(Table_Query_from_Great_Plains[[#This Row],[ITEMNMBR]],0)","v":"HED008"},"Disc-N-Throw Game with Tennis Ball -","RETAIL",0,100]
["HED009",{"$f":"TEXT(Table_Query_from_Great_Plains[[#This Row],[ITEMNMBR]],0)","v":"HED009"},"Ookie Ball -","RETAIL",0,100]
["HED010",{"$f":"TEXT(Table_Query_from_Great_Plains[[#This Row],[ITEMNMBR]],0)","v":"HED010"},"Sidewalk Chalk - 6 pack -","RETAIL",0,100]
["HED011",{"$f":"TEXT(Table_Query_from_Great_Plains[[#This Row],[ITEMNMBR]],0)","v":"HED011"},"Temporary Tattoos -","RETAIL",0,100]
["HED012",{"$f":"TEXT(Table_Query_from_Great_Plains[[#This Row],[ITEMNMBR]],0)","v":"HED012"},"Glow in the Dark Bumple Ball - 9\" -","RETAIL",0,100]
["HED013",{"$f":"TEXT(Table_Query_from_Great_Plains[[#This Row],[ITEMNMBR]],0)","v":"HED013"},"Wind Raiders Air Missiles","RETAIL",0,100]
["HED014",{"$f":"TEXT(Table_Query_from_Great_Plains[[#This Row],[ITEMNMBR]],0)","v":"HED014"},"Wind Raiders Foam Sling Shooter","RETAIL",0,100]
["HED015",{"$f":"TEXT(Table_Query_from_Great_Plains[[#This Row],[ITEMNMBR]],0)","v":"HED015"},"Balloon Launcher","RETAIL",0,100]
["HIC001",{"$f":"TEXT(Table_Query_from_Great_Plains[[#This Row],[ITEMNMBR]],0)","v":"HIC001"},"Harold Import Co., Inc. Strawberry Kitchen Towel N/A","RETAIL",0,100]
["HIC002",{"$f":"TEXT(Table_Query_from_Great_Plains[[#This Row],[ITEMNMBR]],0)","v":"HIC002"},"Harold Import Co., Inc. Strawberry Colander 7\" diam","RETAIL",0,100]
["ICEBAG",{"$f":"TEXT(Table_Query_from_Great_Plains[[#This Row],[ITEMNMBR]],0)","v":"ICEBAG"},"IceBag","RETAIL",0,2.99]
["ID",{"$f":"TEXT(Table_Query_from_Great_Plains[[#This Row],[ITEMNMBR]],0)","v":"ID"},"ID Check","RETAIL",0,3.99]
["JAC009",{"$f":"TEXT(Table_Query_from_Great_Plains[[#This Row],[ITEMNMBR]],0)","v":"JAC009"},"Jacobson  Dark Yellow Raffia 100 yd","RETAIL",0,100]
["JAC010",{"$f":"TEXT(Table_Query_from_Great_Plains[[#This Row],[ITEMNMBR]],0)","v":"JAC010"},"Jacobson  Light Yellow Raffia 100 yd","RETAIL",0,100]
["JAC078",{"$f":"TEXT(Table_Query_from_Great_Plains[[#This Row],[ITEMNMBR]],0)","v":"JAC078"},"Jacobson  Xlg Rockport Light Brn 22x16.5x4.5","RETAIL",0,100]
["JAC088",{"$f":"TEXT(Table_Query_from_Great_Plains[[#This Row],[ITEMNMBR]],0)","v":"JAC088"},"Jacobsons 11\" Rect. Snowflake Tin","RETAIL",0,100]
["JAC089",{"$f":"TEXT(Table_Query_from_Great_Plains[[#This Row],[ITEMNMBR]],0)","v":"JAC089"},"Jacobsons Metal Drum 9\"","RETAIL",0,100]
["JAC097",{"$f":"TEXT(Table_Query_from_Great_Plains[[#This Row],[ITEMNMBR]],0)","v":"JAC097"},"Red and Green Striped Holiday Tin","RETAIL",0,100]
["JAC114",{"$f":"TEXT(Table_Query_from_Great_Plains[[#This Row],[ITEMNMBR]],0)","v":"JAC114"},"Caramel Bunny with Saphire Bow Tie","RETAIL",0,8.99]
["JAC115",{"$f":"TEXT(Table_Query_from_Great_Plains[[#This Row],[ITEMNMBR]],0)","v":"JAC115"},"Chocolate Bear with Red Ribbon Bow Tie","RETAIL",0,7.5]
["JBAD01",{"$f":"TEXT(Table_Query_from_Great_Plains[[#This Row],[ITEMNMBR]],0)","v":"JBAD01"},"Custom Disney Adecco","RETAIL",0,47.99]
["JBAD02",{"$f":"TEXT(Table_Query_from_Great_Plains[[#This Row],[ITEMNMBR]],0)","v":"JBAD02"},"Custom Adecco Snack Stack","RETAIL",0,37.99]
["JBAD03",{"$f":"TEXT(Table_Query_from_Great_Plains[[#This Row],[ITEMNMBR]],0)","v":"JBAD03"},"Custom: Adecco Snacks and Chocolate (Jason)","RETAIL",0,60]
["JBAF01",{"$f":"TEXT(Table_Query_from_Great_Plains[[#This Row],[ITEMNMBR]],0)","v":"JBAF01"},"Custom Tax Survival Kit ( Jason )","RETAIL",0,40]
["JBBK01",{"$f":"TEXT(Table_Query_from_Great_Plains[[#This Row],[ITEMNMBR]],0)","v":"JBBK01"},"Custom Christmas Classic with Shiraz","RETAIL",1,79.599999999999994]
["JBBM01",{"$f":"TEXT(Table_Query_from_Great_Plains[[#This Row],[ITEMNMBR]],0)","v":"JBBM01"},"$200.00 Gift #1","RETAIL",0,200]
["JBBM02",{"$f":"TEXT(Table_Query_from_Great_Plains[[#This Row],[ITEMNMBR]],0)","v":"JBBM02"},"CUSTOM $92.00 Gift #2","RETAIL",0,92]
["JBBM03",{"$f":"TEXT(Table_Query_from_Great_Plains[[#This Row],[ITEMNMBR]],0)","v":"JBBM03"},"CUSTOM $32.00 - Gift #3","RETAIL",0,32]
["JBBM04",{"$f":"TEXT(Table_Query_from_Great_Plains[[#This Row],[ITEMNMBR]],0)","v":"JBBM04"},"CUSTOM $50.00 each Vendor Gift","RETAIL",0,50]
["JBCV006",{"$f":"TEXT(Table_Query_from_Great_Plains[[#This Row],[ITEMNMBR]],0)","v":"JBCV006"},"Custom Strawberry Shortcake KOP","RETAIL",0,4.25]
["JBCV01",{"$f":"TEXT(Table_Query_from_Great_Plains[[#This Row],[ITEMNMBR]],0)","v":"JBCV01"},"CVent Custom Snack and Coffee Mug","RETAIL",0,63]
["JBCV02",{"$f":"TEXT(Table_Query_from_Great_Plains[[#This Row],[ITEMNMBR]],0)","v":"JBCV02"},"Custom CVent Back to Basics 2011","RETAIL",0,48.5]
["JBCV03",{"$f":"TEXT(Table_Query_from_Great_Plains[[#This Row],[ITEMNMBR]],0)","v":"JBCV03"},"Custom CVent Mini Wine","RETAIL",0,50]
["JBCV04",{"$f":"TEXT(Table_Query_from_Great_Plains[[#This Row],[ITEMNMBR]],0)","v":"JBCV04"},"Custom CVent Bucket ( Jason )","RETAIL",0,48.5]
["JBCV05",{"$f":"TEXT(Table_Query_from_Great_Plains[[#This Row],[ITEMNMBR]],0)","v":"JBCV05"},"Custom CVent Coffee Premium & Choc Pop Sampler ( Jason )","RETAIL",0,148.99]
["JBCV06",{"$f":"TEXT(Table_Query_from_Great_Plains[[#This Row],[ITEMNMBR]],0)","v":"JBCV06"},"Custom Exam Cram","RETAIL",0,34.99]
["JBCV07",{"$f":"TEXT(Table_Query_from_Great_Plains[[#This Row],[ITEMNMBR]],0)","v":"JBCV07"},"Custom Strawberry Shortcake KOP","RETAIL",0,4.25]
["JBCV08",{"$f":"TEXT(Table_Query_from_Great_Plains[[#This Row],[ITEMNMBR]],0)","v":"JBCV08"},"Custom Cinnamon Bun KOP","RETAIL",0,4.25]
["JBCV09",{"$f":"TEXT(Table_Query_from_Great_Plains[[#This Row],[ITEMNMBR]],0)","v":"JBCV09"},"Custom : Cvent New Hire Basket (Jason)","RETAIL",0,52]
["JBCV10",{"$f":"TEXT(Table_Query_from_Great_Plains[[#This Row],[ITEMNMBR]],0)","v":"JBCV10"},"Custom CVent App-solutely Mobile - Crowd Torch","RETAIL",0,45]
["JBCV11",{"$f":"TEXT(Table_Query_from_Great_Plains[[#This Row],[ITEMNMBR]],0)","v":"JBCV11"},"Custom CVent App-solutely Mobile - Crowd Compass","RETAIL",0,45]
["JBCV12",{"$f":"TEXT(Table_Query_from_Great_Plains[[#This Row],[ITEMNMBR]],0)","v":"JBCV12"},"Custom CVent - Coffee & Chocolate (Jason)","RETAIL",0,69.989999999999995]
["JBCV13",{"$f":"TEXT(Table_Query_from_Great_Plains[[#This Row],[ITEMNMBR]],0)","v":"JBCV13"},"Custom CVent - Coffee & Chocolate 2 (Jason)","RETAIL",0,69.989999999999995]
["JBCV14",{"$f":"TEXT(Table_Query_from_Great_Plains[[#This Row],[ITEMNMBR]],0)","v":"JBCV14"},"Custom CVent - Nostalgic Candy Crate with added CSIs (Jason)","RETAIL",0,29.99]
["JBCV15",{"$f":"TEXT(Table_Query_from_Great_Plains[[#This Row],[ITEMNMBR]],0)","v":"JBCV15"},"Custom CVent -  Fall Themed Basket with added custom items (Jason)","RETAIL",0,64.989999999999995]
["JBCV16",{"$f":"TEXT(Table_Query_from_Great_Plains[[#This Row],[ITEMNMBR]],0)","v":"JBCV16"},"Custom CVent -  Champagne & Chocolates with added custom items (Jason)","RETAIL",1,159.99]
["JBCV17",{"$f":"TEXT(Table_Query_from_Great_Plains[[#This Row],[ITEMNMBR]],0)","v":"JBCV17"},"Custom CVent -  Champagne & Chocolates with added custom items (Jason)","RETAIL",1,114.99]
["JBCV18",{"$f":"TEXT(Table_Query_from_Great_Plains[[#This Row],[ITEMNMBR]],0)","v":"JBCV18"},"Custom CVent -  Champagne & Chocolates with added custom items2 (Jason)","RETAIL",0,114.99]
["JBDF01",{"$f":"TEXT(Table_Query_from_Great_Plains[[#This Row],[ITEMNMBR]],0)","v":"JBDF01"},"Custom Derryfield Basket","RETAIL",0,35]
["JBDF03",{"$f":"TEXT(Table_Query_from_Great_Plains[[#This Row],[ITEMNMBR]],0)","v":"JBDF03"},"Custom Derryfield Basket - February 2012","RETAIL",0,35]
["JBDF04",{"$f":"TEXT(Table_Query_from_Great_Plains[[#This Row],[ITEMNMBR]],0)","v":"JBDF04"},"Derryfield Custom 04-30-12 ( Jason )","RETAIL",0,89.99]
["JBDF05",{"$f":"TEXT(Table_Query_from_Great_Plains[[#This Row],[ITEMNMBR]],0)","v":"JBDF05"},"Derryfield Custom 05-01-12 - Jason","RETAIL",0,49.99]
["JBEB01",{"$f":"TEXT(Table_Query_from_Great_Plains[[#This Row],[ITEMNMBR]],0)","v":"JBEB01"},"Custom Enterprise Bank $100","RETAIL",0,100]
["JBEB02",{"$f":"TEXT(Table_Query_from_Great_Plains[[#This Row],[ITEMNMBR]],0)","v":"JBEB02"},"Custom Enterprise Bank $65.00","RETAIL",0,65]
["JBEB03",{"$f":"TEXT(Table_Query_from_Great_Plains[[#This Row],[ITEMNMBR]],0)","v":"JBEB03"},"Custom Enterprise Bank Suitcase","RETAIL",0,173.99]
["JBEB04",{"$f":"TEXT(Table_Query_from_Great_Plains[[#This Row],[ITEMNMBR]],0)","v":"JBEB04"},"Custom Enterprise Bank Wine Basket","RETAIL",0,104.99]
["JBFR01",{"$f":"TEXT(Table_Query_from_Great_Plains[[#This Row],[ITEMNMBR]],0)","v":"JBFR01"},"Custom Robbie Flexibles #1","RETAIL",0,140]
["JBFR02",{"$f":"TEXT(Table_Query_from_Great_Plains[[#This Row],[ITEMNMBR]],0)","v":"JBFR02"},"Custom Robbie Flexibles #2","RETAIL",0,180]
["JBGW01",{"$f":"TEXT(Table_Query_from_Great_Plains[[#This Row],[ITEMNMBR]],0)","v":"JBGW01"},"Custom Basket for Disaster Relief","RETAIL",0,0]
["JBHH01",{"$f":"TEXT(Table_Query_from_Great_Plains[[#This Row],[ITEMNMBR]],0)","v":"JBHH01"},"Custom Gift Basket","RETAIL",0,109.99]
["JBHI01",{"$f":"TEXT(Table_Query_from_Great_Plains[[#This Row],[ITEMNMBR]],0)","v":"JBHI01"},"Custom","RETAIL",0,524.99]
["JBHI04",{"$f":"TEXT(Table_Query_from_Great_Plains[[#This Row],[ITEMNMBR]],0)","v":"JBHI04"},"Custom HISS $83.99","RETAIL",0,83.99]
["JBHI05",{"$f":"TEXT(Table_Query_from_Great_Plains[[#This Row],[ITEMNMBR]],0)","v":"JBHI05"},"Custom HI Wine( Jason)","RETAIL",0,66.989999999999995]
["JBKM01",{"$f":"TEXT(Table_Query_from_Great_Plains[[#This Row],[ITEMNMBR]],0)","v":"JBKM01"},"custom candy and snack (jason)","RETAIL",0,99.99]
["JBKN01",{"$f":"TEXT(Table_Query_from_Great_Plains[[#This Row],[ITEMNMBR]],0)","v":"JBKN01"},"Custom KNotice $46.99","RETAIL",0,46.99]
["JBKN02",{"$f":"TEXT(Table_Query_from_Great_Plains[[#This Row],[ITEMNMBR]],0)","v":"JBKN02"},"Custom KNotice $75.99","RETAIL",0,75.989999999999995]
["JBKN03",{"$f":"TEXT(Table_Query_from_Great_Plains[[#This Row],[ITEMNMBR]],0)","v":"JBKN03"},"Custom KNotice $99.99","RETAIL",0,99.99]
["JBKN04",{"$f":"TEXT(Table_Query_from_Great_Plains[[#This Row],[ITEMNMBR]],0)","v":"JBKN04"},"Custom KNotice 3 pack Goose Island 2012","RETAIL",1,59.99]
["JBKN05",{"$f":"TEXT(Table_Query_from_Great_Plains[[#This Row],[ITEMNMBR]],0)","v":"JBKN05"},"Custom KNotice 6 pack Goose Island 2012","RETAIL",1,89.99]
["JBKN06",{"$f":"TEXT(Table_Query_from_Great_Plains[[#This Row],[ITEMNMBR]],0)","v":"JBKN06"},"Custom KNotice 12 pack Goose Island 2012","RETAIL",1,119.99]
["JBKN07",{"$f":"TEXT(Table_Query_from_Great_Plains[[#This Row],[ITEMNMBR]],0)","v":"JBKN07"},"Custom: KNotice -  3 pack -  Goose Island - 2013 (Jason)","RETAIL",1,59.99]
["JBKN08",{"$f":"TEXT(Table_Query_from_Great_Plains[[#This Row],[ITEMNMBR]],0)","v":"JBKN08"},"Custom:  KNotice -  6 pack Goose Island  - 2013 (Jason)","RETAIL",1,89.99]
["JBKN09",{"$f":"TEXT(Table_Query_from_Great_Plains[[#This Row],[ITEMNMBR]],0)","v":"JBKN09"},"Custom:  KNotice -  12 pack Goose Island  - 2013 (Jason)","RETAIL",1,119.99]
["JBKN10",{"$f":"TEXT(Table_Query_from_Great_Plains[[#This Row],[ITEMNMBR]],0)","v":"JBKN10"},"Custom: Ignition One -  3 pack -  Goose Island - 2014 (Jason)","RETAIL",1,59.99]
["JBKN11",{"$f":"TEXT(Table_Query_from_Great_Plains[[#This Row],[ITEMNMBR]],0)","v":"JBKN11"},"Custom: Ignition One -  6 pack Goose Island  - 2014 (Jason)","RETAIL",1,89.99]
["JBKN12",{"$f":"TEXT(Table_Query_from_Great_Plains[[#This Row],[ITEMNMBR]],0)","v":"JBKN12"},"Custom:  Ignition One -  12 pack Goose Island  - 2014 (Jason)","RETAIL",1,119.99]
["JBLS01",{"$f":"TEXT(Table_Query_from_Great_Plains[[#This Row],[ITEMNMBR]],0)","v":"JBLS01"},"LaserShip Custom","RETAIL",0,49.99]
["JBNHD1",{"$f":"TEXT(Table_Query_from_Great_Plains[[#This Row],[ITEMNMBR]],0)","v":"JBNHD1"},"NH Dental Society - New England Theme","RETAIL",0,39.99]
["JBNHDS",{"$f":"TEXT(Table_Query_from_Great_Plains[[#This Row],[ITEMNMBR]],0)","v":"JBNHDS"},"NH Dental Society","RETAIL",0,51.99]
["JBON01",{"$f":"TEXT(Table_Query_from_Great_Plains[[#This Row],[ITEMNMBR]],0)","v":"JBON01"},"Custom Wine and Chocolate","RETAIL",0,91.99]
["JBPC01",{"$f":"TEXT(Table_Query_from_Great_Plains[[#This Row],[ITEMNMBR]],0)","v":"JBPC01"},"Pepsi Fruit Custom","RETAIL",0,114.99]
["JBPC02",{"$f":"TEXT(Table_Query_from_Great_Plains[[#This Row],[ITEMNMBR]],0)","v":"JBPC02"},"Pepsi Snack Custom","RETAIL",0,280.99]
["JBPP01",{"$f":"TEXT(Table_Query_from_Great_Plains[[#This Row],[ITEMNMBR]],0)","v":"JBPP01"},"Custom $325.00 Basket","RETAIL",0,325]
["JBPP02",{"$f":"TEXT(Table_Query_from_Great_Plains[[#This Row],[ITEMNMBR]],0)","v":"JBPP02"},"Custom $400.00 Basket","RETAIL",0,400]
["JBPP03",{"$f":"TEXT(Table_Query_from_Great_Plains[[#This Row],[ITEMNMBR]],0)","v":"JBPP03"},"Custom $200.00","RETAIL",0,200]
["JBPS01",{"$f":"TEXT(Table_Query_from_Great_Plains[[#This Row],[ITEMNMBR]],0)","v":"JBPS01"},"Pepsi Snack Custom","RETAIL",0,115]
["JBPT01",{"$f":"TEXT(Table_Query_from_Great_Plains[[#This Row],[ITEMNMBR]],0)","v":"JBPT01"},"Custom Peach Tree","RETAIL",0,69.989999999999995]
["JBQK01",{"$f":"TEXT(Table_Query_from_Great_Plains[[#This Row],[ITEMNMBR]],0)","v":"JBQK01"},"Custom 6.5 Gallon Popcorn Tin - Quaker (Jason)","RETAIL",0,55.99]
["JBRF01",{"$f":"TEXT(Table_Query_from_Great_Plains[[#This Row],[ITEMNMBR]],0)","v":"JBRF01"},"Custom Robbie Flexibles 1","RETAIL",0,140]
["JBRF02",{"$f":"TEXT(Table_Query_from_Great_Plains[[#This Row],[ITEMNMBR]],0)","v":"JBRF02"},"Custom Robbie Flexibles #2","RETAIL",0,180]
["JBRF03",{"$f":"TEXT(Table_Query_from_Great_Plains[[#This Row],[ITEMNMBR]],0)","v":"JBRF03"},"Custom Robbie Flexibles Corp Show with 7450","RETAIL",0,179.99]
["JBRF04",{"$f":"TEXT(Table_Query_from_Great_Plains[[#This Row],[ITEMNMBR]],0)","v":"JBRF04"},"Custom Robbie Flexibles Xmas Exec Suite with 7450","RETAIL",0,299.99]
["JBRF05",{"$f":"TEXT(Table_Query_from_Great_Plains[[#This Row],[ITEMNMBR]],0)","v":"JBRF05"},"Custom Corporate Showstopper with Bottle Board Gift","RETAIL",0,189.99]
["JBSG01",{"$f":"TEXT(Table_Query_from_Great_Plains[[#This Row],[ITEMNMBR]],0)","v":"JBSG01"},"CUSTOM Go Green Cleaning Bucket","RETAIL",0,46.48]
["JBSLS1",{"$f":"TEXT(Table_Query_from_Great_Plains[[#This Row],[ITEMNMBR]],0)","v":"JBSLS1"},"Custom Sears Stack - 3 items","RETAIL",0,10]
["JBTC01",{"$f":"TEXT(Table_Query_from_Great_Plains[[#This Row],[ITEMNMBR]],0)","v":"JBTC01"},"custom tricon (1) (jason)","RETAIL",0,79.989999999999995]
["JBTC02",{"$f":"TEXT(Table_Query_from_Great_Plains[[#This Row],[ITEMNMBR]],0)","v":"JBTC02"},"custom tricon (2) (jason)","RETAIL",0,149.99]
["JBTC03",{"$f":"TEXT(Table_Query_from_Great_Plains[[#This Row],[ITEMNMBR]],0)","v":"JBTC03"},"custom tricon (3) (jason)","RETAIL",0,199.99]
["JBTC04",{"$f":"TEXT(Table_Query_from_Great_Plains[[#This Row],[ITEMNMBR]],0)","v":"JBTC04"},"custom tricon (4) (jason)","RETAIL",0,149.99]
["JBTC05",{"$f":"TEXT(Table_Query_from_Great_Plains[[#This Row],[ITEMNMBR]],0)","v":"JBTC05"},"custom tricon (5) (jason)","RETAIL",0,199.99]
["JBTC06",{"$f":"TEXT(Table_Query_from_Great_Plains[[#This Row],[ITEMNMBR]],0)","v":"JBTC06"},"custom tricon (2014 vs 6) (jason)","RETAIL",0,149.99]
["JBTC07",{"$f":"TEXT(Table_Query_from_Great_Plains[[#This Row],[ITEMNMBR]],0)","v":"JBTC07"},"custom tricon (2014 vs 7) (jason)","RETAIL",0,199.99]
["JBTC08",{"$f":"TEXT(Table_Query_from_Great_Plains[[#This Row],[ITEMNMBR]],0)","v":"JBTC08"},"custom tricon (2014 vs 8) (jason)","RETAIL",0,299.99]
["JBTD01",{"$f":"TEXT(Table_Query_from_Great_Plains[[#This Row],[ITEMNMBR]],0)","v":"JBTD01"},"Custom 5106B w TDI gear","RETAIL",0,99.99]
["JBTD02",{"$f":"TEXT(Table_Query_from_Great_Plains[[#This Row],[ITEMNMBR]],0)","v":"JBTD02"},"Custom 5104 w TDI gear","RETAIL",0,129.99]
["JBTD03",{"$f":"TEXT(Table_Query_from_Great_Plains[[#This Row],[ITEMNMBR]],0)","v":"JBTD03"},"Custom 4052 w TDI gear","RETAIL",0,79.989999999999995]
["JBTD04",{"$f":"TEXT(Table_Query_from_Great_Plains[[#This Row],[ITEMNMBR]],0)","v":"JBTD04"},"Custom 5318 w TDI gear","RETAIL",0,49.99]
["JBTD05",{"$f":"TEXT(Table_Query_from_Great_Plains[[#This Row],[ITEMNMBR]],0)","v":"JBTD05"},"Custom Xmas Classic with tshirt and Mug 2011","RETAIL",0,59.99]
["JBVI01",{"$f":"TEXT(Table_Query_from_Great_Plains[[#This Row],[ITEMNMBR]],0)","v":"JBVI01"},"Custom Vibram $500","RETAIL",0,500]
["JBWW01",{"$f":"TEXT(Table_Query_from_Great_Plains[[#This Row],[ITEMNMBR]],0)","v":"JBWW01"},"Custom Wine Suit Case","RETAIL",0,417.99]
["JBWW02",{"$f":"TEXT(Table_Query_from_Great_Plains[[#This Row],[ITEMNMBR]],0)","v":"JBWW02"},"Custom: Worldwide Express - 5116 with Dom","RETAIL",1,317.99]
["JBWW03",{"$f":"TEXT(Table_Query_from_Great_Plains[[#This Row],[ITEMNMBR]],0)","v":"JBWW03"},"Custom: Worldwide Express - 4053 with Dom","RETAIL",1,266.99]
["JBWW04",{"$f":"TEXT(Table_Query_from_Great_Plains[[#This Row],[ITEMNMBR]],0)","v":"JBWW04"},"Custom: Worldwide Express - 4053 with Moet (Jason)","RETAIL",1,152.99]
["JRU001",{"$f":"TEXT(Table_Query_from_Great_Plains[[#This Row],[ITEMNMBR]],0)","v":"JRU001"},"Rocket Flyer -","RETAIL",0,100]
["JRU002",{"$f":"TEXT(Table_Query_from_Great_Plains[[#This Row],[ITEMNMBR]],0)","v":"JRU002"},"Catch Ball Game -","RETAIL",0,100]
["JRU003",{"$f":"TEXT(Table_Query_from_Great_Plains[[#This Row],[ITEMNMBR]],0)","v":"JRU003"},"Extreme Flyer - DISCONTINUED","RETAIL",0,100]
["JRU004",{"$f":"TEXT(Table_Query_from_Great_Plains[[#This Row],[ITEMNMBR]],0)","v":"JRU004"},"Boom Racket Set - DISCONTINUED","RETAIL",0,100]
["JRU005",{"$f":"TEXT(Table_Query_from_Great_Plains[[#This Row],[ITEMNMBR]],0)","v":"JRU005"},"Silly Shotz","RETAIL",0,100]
["JRU006",{"$f":"TEXT(Table_Query_from_Great_Plains[[#This Row],[ITEMNMBR]],0)","v":"JRU006"},"Sports Stick Em Ball/Football","RETAIL",0,100]
["JRU007",{"$f":"TEXT(Table_Query_from_Great_Plains[[#This Row],[ITEMNMBR]],0)","v":"JRU007"},"Hoop Shot Game","RETAIL",0,100]
["JRU009",{"$f":"TEXT(Table_Query_from_Great_Plains[[#This Row],[ITEMNMBR]],0)","v":"JRU009"},"Travel Games Brainteasers - DISCONTINUED","RETAIL",0,100]
["JRU010",{"$f":"TEXT(Table_Query_from_Great_Plains[[#This Row],[ITEMNMBR]],0)","v":"JRU010"},"Neon Scribble Slate - DISCONTINUED","RETAIL",0,100]
["JRU011",{"$f":"TEXT(Table_Query_from_Great_Plains[[#This Row],[ITEMNMBR]],0)","v":"JRU011"},"Sprial Art","RETAIL",0,100]
["JRU046",{"$f":"TEXT(Table_Query_from_Great_Plains[[#This Row],[ITEMNMBR]],0)","v":"JRU046"},"Water Game Pirate Chest - DISCONTINUED","RETAIL",0,100]
["JRU048",{"$f":"TEXT(Table_Query_from_Great_Plains[[#This Row],[ITEMNMBR]],0)","v":"JRU048"},"Neon Scribble Slate -","RETAIL",0,100]
["JRU049",{"$f":"TEXT(Table_Query_from_Great_Plains[[#This Row],[ITEMNMBR]],0)","v":"JRU049"},"Glow in the Dark Glo Flyer -","RETAIL",0,100]
["JRU050",{"$f":"TEXT(Table_Query_from_Great_Plains[[#This Row],[ITEMNMBR]],0)","v":"JRU050"},"Mega Party Popper -","RETAIL",0,100]
["JRU051",{"$f":"TEXT(Table_Query_from_Great_Plains[[#This Row],[ITEMNMBR]],0)","v":"JRU051"},"Make Your Own Sticker Kit -","RETAIL",0,100]
["JUSTRIGHTAUTOSALES",{"$f":"TEXT(Table_Query_from_Great_Plains[[#This Row],[ITEMNMBR]],0)","v":"JUSTRIGHTAUTOSALES"},"Just Right Auto Sales - Dom and Chocolates","RETAIL",0,200]
["KAM001",{"$f":"TEXT(Table_Query_from_Great_Plains[[#This Row],[ITEMNMBR]],0)","v":"KAM001"},"Cupid's Collection","RETAIL",0,100]
["KAM002",{"$f":"TEXT(Table_Query_from_Great_Plains[[#This Row],[ITEMNMBR]],0)","v":"KAM002"},"Strawberry Sweet Heart Box","RETAIL",0,100]
["KAM003",{"$f":"TEXT(Table_Query_from_Great_Plains[[#This Row],[ITEMNMBR]],0)","v":"KAM003"},"Lovers Body Paint- Milk Chocolate","RETAIL",0,100]
["KAM004",{"$f":"TEXT(Table_Query_from_Great_Plains[[#This Row],[ITEMNMBR]],0)","v":"KAM004"},"Lovers Body Paint-Dark Chocolate Raspberry","RETAIL",0,100]
["KAM005",{"$f":"TEXT(Table_Query_from_Great_Plains[[#This Row],[ITEMNMBR]],0)","v":"KAM005"},"Treasure Trove - Straw Champagne","RETAIL",0,100]
["KAM006",{"$f":"TEXT(Table_Query_from_Great_Plains[[#This Row],[ITEMNMBR]],0)","v":"KAM006"},"Treasure Trove - Rasp Kiss","RETAIL",0,100]
["KHE001",{"$f":"TEXT(Table_Query_from_Great_Plains[[#This Row],[ITEMNMBR]],0)","v":"KHE001"},"A Hot Affair Board Game","RETAIL",0,100]
["KP0001",{"$f":"TEXT(Table_Query_from_Great_Plains[[#This Row],[ITEMNMBR]],0)","v":"KP0001"},"King of Pop Custom 2 Gallon Tin","RETAIL",0,49.99]
["KP0002",{"$f":"TEXT(Table_Query_from_Great_Plains[[#This Row],[ITEMNMBR]],0)","v":"KP0002"},"King of Pop Custom- 3.5 Gallon","RETAIL",0,59.99]
["KP0003",{"$f":"TEXT(Table_Query_from_Great_Plains[[#This Row],[ITEMNMBR]],0)","v":"KP0003"},"King of Pop Custom- 2 Gallon Premium","RETAIL",0,59.99]
["KP0004",{"$f":"TEXT(Table_Query_from_Great_Plains[[#This Row],[ITEMNMBR]],0)","v":"KP0004"},"King of Pop Custom- 3.5 Gallon premium","RETAIL",0,69.989999999999995]
["KP0300",{"$f":"TEXT(Table_Query_from_Great_Plains[[#This Row],[ITEMNMBR]],0)","v":"KP0300"},"King of Pop Custom 1 Gallon Tin - (non - supreme)","RETAIL",0,29.99]
["KP0301",{"$f":"TEXT(Table_Query_from_Great_Plains[[#This Row],[ITEMNMBR]],0)","v":"KP0301"},"King of Pop Custom 1 Gallon Tin - (supreme)","RETAIL",0,34.99]
["KP0400",{"$f":"TEXT(Table_Query_from_Great_Plains[[#This Row],[ITEMNMBR]],0)","v":"KP0400"},"Custom McLean Mortgage - 1 gallon - with sticker (Tim)","RETAIL",0,19.989999999999998]
["KP0401",{"$f":"TEXT(Table_Query_from_Great_Plains[[#This Row],[ITEMNMBR]],0)","v":"KP0401"},"Custom McLean Mortgage - 1 gallon  (Tim)","RETAIL",0,19.989999999999998]
["KP0402",{"$f":"TEXT(Table_Query_from_Great_Plains[[#This Row],[ITEMNMBR]],0)","v":"KP0402"},"Custom Element Funding - 1 gallon  (Tim)","RETAIL",0,19.989999999999998]
["KPA002",{"$f":"TEXT(Table_Query_from_Great_Plains[[#This Row],[ITEMNMBR]],0)","v":"KPA002"},"Cheesy Cheddar Popcorn - Single Serve","RETAIL",0,2.99]
["KPA005",{"$f":"TEXT(Table_Query_from_Great_Plains[[#This Row],[ITEMNMBR]],0)","v":"KPA005"},"Honey Mustard Popcorn - Single Serve","RETAIL",0,2.99]
["KPA018",{"$f":"TEXT(Table_Query_from_Great_Plains[[#This Row],[ITEMNMBR]],0)","v":"KPA018"},"Caramel Popcorn - Single Serve","RETAIL",0,2.99]
["KPA021",{"$f":"TEXT(Table_Query_from_Great_Plains[[#This Row],[ITEMNMBR]],0)","v":"KPA021"},"Sea Salt & Cracked Pepper Popcorn - Single Serve","RETAIL",0,2.99]
["KPB000-CASE",{"$f":"TEXT(Table_Query_from_Great_Plains[[#This Row],[ITEMNMBR]],0)","v":"KPB000-CASE"},"Batch of Au Natural Popcorn - Case","RETAIL",0,35]
["KPB001",{"$f":"TEXT(Table_Query_from_Great_Plains[[#This Row],[ITEMNMBR]],0)","v":"KPB001"},"Honey Mustard Sampler Bag","RETAIL",0,1.5]
["KPB001-CASE",{"$f":"TEXT(Table_Query_from_Great_Plains[[#This Row],[ITEMNMBR]],0)","v":"KPB001-CASE"},"Batch of Bacon Cheddar Popcorn - Case","RETAIL",0,23.1]
["KPB002",{"$f":"TEXT(Table_Query_from_Great_Plains[[#This Row],[ITEMNMBR]],0)","v":"KPB002"},"Cheesy Cheddar Sampler Bag","RETAIL",0,1.5]
["KPB002-CASE",{"$f":"TEXT(Table_Query_from_Great_Plains[[#This Row],[ITEMNMBR]],0)","v":"KPB002-CASE"},"Batch of Cheddar Cheese Popcorn - Case","RETAIL",0,35.99]
["KPB003",{"$f":"TEXT(Table_Query_from_Great_Plains[[#This Row],[ITEMNMBR]],0)","v":"KPB003"},"Cookies & Cream Sampler Bag","RETAIL",0,1.5]
["KPB004",{"$f":"TEXT(Table_Query_from_Great_Plains[[#This Row],[ITEMNMBR]],0)","v":"KPB004"},"Sea Salt & Cracked Pepper Sampler Bag","RETAIL",0,1.5]
["KPB004-CASE",{"$f":"TEXT(Table_Query_from_Great_Plains[[#This Row],[ITEMNMBR]],0)","v":"KPB004-CASE"},"Batch of GarlicParmesan Popcorn - Case","RETAIL",0,19.100000000000001]
["KPB005",{"$f":"TEXT(Table_Query_from_Great_Plains[[#This Row],[ITEMNMBR]],0)","v":"KPB005"},"Tuxedo Sampler Bag","RETAIL",0,1.5]
["KPB005-CASE",{"$f":"TEXT(Table_Query_from_Great_Plains[[#This Row],[ITEMNMBR]],0)","v":"KPB005-CASE"},"Batch of Honey Mustard  Popcorn - Case","RETAIL",0,19.100000000000001]
["KPB007-CASE",{"$f":"TEXT(Table_Query_from_Great_Plains[[#This Row],[ITEMNMBR]],0)","v":"KPB007-CASE"},"Batch of Buttered Popcorn - CASE","RETAIL",0,40]
["KPB008",{"$f":"TEXT(Table_Query_from_Great_Plains[[#This Row],[ITEMNMBR]],0)","v":"KPB008"},"Zesty Ranch Batch Bag","RETAIL",0,1.5]
["KPB008-CASE",{"$f":"TEXT(Table_Query_from_Great_Plains[[#This Row],[ITEMNMBR]],0)","v":"KPB008-CASE"},"Batch of Zesty Ranch Popcorn - Case","RETAIL",0,19.100000000000001]
["KPB010-CASE",{"$f":"TEXT(Table_Query_from_Great_Plains[[#This Row],[ITEMNMBR]],0)","v":"KPB010-CASE"},"Batch of Salt & Vinegar Popcorn - Case","RETAIL",0,19.100000000000001]
["KPB011-CASE",{"$f":"TEXT(Table_Query_from_Great_Plains[[#This Row],[ITEMNMBR]],0)","v":"KPB011-CASE"},"Batch of Sour Cream & Chive Popcorn - Case","RETAIL",0,19.100000000000001]
["KPB013-CASE",{"$f":"TEXT(Table_Query_from_Great_Plains[[#This Row],[ITEMNMBR]],0)","v":"KPB013-CASE"},"Batch of White Cheddar Popcorn - Case","RETAIL",0,35.99]
["KPB017-CASE",{"$f":"TEXT(Table_Query_from_Great_Plains[[#This Row],[ITEMNMBR]],0)","v":"KPB017-CASE"},"Batch of Buffalo Popcorn - Case","RETAIL",0,19.100000000000001]
["KPB018-CASE",{"$f":"TEXT(Table_Query_from_Great_Plains[[#This Row],[ITEMNMBR]],0)","v":"KPB018-CASE"},"Batch of Caramel Popcorn - CASE","RETAIL",0,40]
["KPB019-CASE",{"$f":"TEXT(Table_Query_from_Great_Plains[[#This Row],[ITEMNMBR]],0)","v":"KPB019-CASE"},"Batch of Cinnamon & Brown Sugar Kettle Corn - Case","RETAIL",0,19.100000000000001]
["KPB020-CASE",{"$f":"TEXT(Table_Query_from_Great_Plains[[#This Row],[ITEMNMBR]],0)","v":"KPB020-CASE"},"Batch of Kettle Corn - Case","RETAIL",0,16.89]
["KPB021-CASE",{"$f":"TEXT(Table_Query_from_Great_Plains[[#This Row],[ITEMNMBR]],0)","v":"KPB021-CASE"},"Batch of Sea Salt & Cracked Pepper - Case","RETAIL",0,16.89]
["KPB035-CASE",{"$f":"TEXT(Table_Query_from_Great_Plains[[#This Row],[ITEMNMBR]],0)","v":"KPB035-CASE"},"Batch of Cherry Popcorn - Case","RETAIL",0,29.59]
["KPB050-CASE",{"$f":"TEXT(Table_Query_from_Great_Plains[[#This Row],[ITEMNMBR]],0)","v":"KPB050-CASE"},"Batch of Cookies & Cream Popcorn - Case","RETAIL",0,45.03]
["KPB052-CASE",{"$f":"TEXT(Table_Query_from_Great_Plains[[#This Row],[ITEMNMBR]],0)","v":"KPB052-CASE"},"Batch of Peanut Butter Cup Popcorn - Case","RETAIL",0,45.03]
["KPB055-CASE",{"$f":"TEXT(Table_Query_from_Great_Plains[[#This Row],[ITEMNMBR]],0)","v":"KPB055-CASE"},"Batch of Strawberry Cheesecake Popcorn - Case","RETAIL",0,45.03]
["KPB057-CASE",{"$f":"TEXT(Table_Query_from_Great_Plains[[#This Row],[ITEMNMBR]],0)","v":"KPB057-CASE"},"Batch of White Chocolate Pineapple Popcorn - Case","RETAIL",0,45.03]
["KPB062-CASE",{"$f":"TEXT(Table_Query_from_Great_Plains[[#This Row],[ITEMNMBR]],0)","v":"KPB062-CASE"},"Batch of Birthday Cake Popcorn - Case","RETAIL",0,45.03]
["KPB063",{"$f":"TEXT(Table_Query_from_Great_Plains[[#This Row],[ITEMNMBR]],0)","v":"KPB063"},"Batch of Dark Chocolate Caramel Popcorn","RETAIL",0,47.86]
["KPB063-CASE",{"$f":"TEXT(Table_Query_from_Great_Plains[[#This Row],[ITEMNMBR]],0)","v":"KPB063-CASE"},"Batch of Dark Chocolate Caramel Popcorn - Case","RETAIL",0,47.86]
["KPB064",{"$f":"TEXT(Table_Query_from_Great_Plains[[#This Row],[ITEMNMBR]],0)","v":"KPB064"},"Batch of Milk Chocolate Caramel Popcorn","RETAIL",0,47.86]
["KPB064-CASE",{"$f":"TEXT(Table_Query_from_Great_Plains[[#This Row],[ITEMNMBR]],0)","v":"KPB064-CASE"},"Batch of Milk Chocolate Caramel Popcorn - Case","RETAIL",0,47.86]
["KPB066-CASE",{"$f":"TEXT(Table_Query_from_Great_Plains[[#This Row],[ITEMNMBR]],0)","v":"KPB066-CASE"},"Batch of Tuxedo Popcorn - Case","RETAIL",0,45.03]
["KPB071-CASE",{"$f":"TEXT(Table_Query_from_Great_Plains[[#This Row],[ITEMNMBR]],0)","v":"KPB071-CASE"},"Batch of Creamy Dill Popcorn - Case","RETAIL",0,19.100000000000001]
["KPB076-CASE",{"$f":"TEXT(Table_Query_from_Great_Plains[[#This Row],[ITEMNMBR]],0)","v":"KPB076-CASE"},"Batch of Confetti Popcorn - Case","RETAIL",0,29.59]
["KPB092-CASE",{"$f":"TEXT(Table_Query_from_Great_Plains[[#This Row],[ITEMNMBR]],0)","v":"KPB092-CASE"},"Batch of White Chocolate Strawberry Popcorn - Case","RETAIL",0,52.18]
["KPD001",{"$f":"TEXT(Table_Query_from_Great_Plains[[#This Row],[ITEMNMBR]],0)","v":"KPD001"},"KingOfPOP.com Display - Quarter Pallet - 270 Assorted Snack Bags","RETAIL",0,170.1]
["KPD002",{"$f":"TEXT(Table_Query_from_Great_Plains[[#This Row],[ITEMNMBR]],0)","v":"KPD002"},"KingOfPOP.com Display - Quarter Pallet - 270 Assorted Snack Bags Holiday","RETAIL",0,170.1]
["KPGR-SC12",{"$f":"TEXT(Table_Query_from_Great_Plains[[#This Row],[ITEMNMBR]],0)","v":"KPGR-SC12"},"KingOfPOP Grocery Sampler Case","RETAIL",0,12.42]
["KPGR005",{"$f":"TEXT(Table_Query_from_Great_Plains[[#This Row],[ITEMNMBR]],0)","v":"KPGR005"},"Honey Mustard Grocery Bag","RETAIL",0,3.49]
["KPGR005-C12",{"$f":"TEXT(Table_Query_from_Great_Plains[[#This Row],[ITEMNMBR]],0)","v":"KPGR005-C12"},"Honey Mustard Popcorn - 5 oz. - Case / 12","RETAIL",0,24.6]
["KPGR017",{"$f":"TEXT(Table_Query_from_Great_Plains[[#This Row],[ITEMNMBR]],0)","v":"KPGR017"},"Buffalo Grocery Bag","RETAIL",0,3.49]
["KPGR017-C12",{"$f":"TEXT(Table_Query_from_Great_Plains[[#This Row],[ITEMNMBR]],0)","v":"KPGR017-C12"},"Buffalo Popcorn - 5 oz. - Case / 12","RETAIL",0,24.6]
["KPGR019",{"$f":"TEXT(Table_Query_from_Great_Plains[[#This Row],[ITEMNMBR]],0)","v":"KPGR019"},"Cinnamon & Brown Sugar Kettle Corn Grocery Bag","RETAIL",0,3.49]
["KPGR019-C12",{"$f":"TEXT(Table_Query_from_Great_Plains[[#This Row],[ITEMNMBR]],0)","v":"KPGR019-C12"},"Cinnamon & Brown Sugar Kettle Corn Popcorn - 6.2 oz. - Case / 12","RETAIL",0,24.6]
["KPGR019-C6",{"$f":"TEXT(Table_Query_from_Great_Plains[[#This Row],[ITEMNMBR]],0)","v":"KPGR019-C6"},"Cinnamon & Brown Sugar Kettle Corn Popcorn - 6.2 oz. - Case / 6","RETAIL",0,23.94]
["KPGR021",{"$f":"TEXT(Table_Query_from_Great_Plains[[#This Row],[ITEMNMBR]],0)","v":"KPGR021"},"Sea Salt & Cracked Pepper Kettle Corn Grocery Bag","RETAIL",0,3.49]
["KPGR021-C12",{"$f":"TEXT(Table_Query_from_Great_Plains[[#This Row],[ITEMNMBR]],0)","v":"KPGR021-C12"},"Sea Salt & Cracked Pepper Kettle Corn Popcorn - 6.2 oz. - Case / 12","RETAIL",0,24.6]
["KPGR096",{"$f":"TEXT(Table_Query_from_Great_Plains[[#This Row],[ITEMNMBR]],0)","v":"KPGR096"},"Sweet Onion Popcorn Grocery Bag","RETAIL",0,3.49]
["KPGR096-C12",{"$f":"TEXT(Table_Query_from_Great_Plains[[#This Row],[ITEMNMBR]],0)","v":"KPGR096-C12"},"Sweet Onion Popcorn - Case / 12","RETAIL",0,24.6]
["KPGR097",{"$f":"TEXT(Table_Query_from_Great_Plains[[#This Row],[ITEMNMBR]],0)","v":"KPGR097"},"Hickory Maple Bacon Popcorn Grocery Bag","RETAIL",0,3.49]
["KPGR097-C12",{"$f":"TEXT(Table_Query_from_Great_Plains[[#This Row],[ITEMNMBR]],0)","v":"KPGR097-C12"},"Hickory Maple Bacon Popcorn - Case / 12","RETAIL",0,24.6]
["KPS018",{"$f":"TEXT(Table_Query_from_Great_Plains[[#This Row],[ITEMNMBR]],0)","v":"KPS018"},"Caramel Popcorn Sampler Bag - Manufacturing","RETAIL",0,1.5]
["KPS043-C24",{"$f":"TEXT(Table_Query_from_Great_Plains[[#This Row],[ITEMNMBR]],0)","v":"KPS043-C24"},"Key Lime Pie - Case/24","RETAIL",0,36.479999999999997]
["KPS066",{"$f":"TEXT(Table_Query_from_Great_Plains[[#This Row],[ITEMNMBR]],0)","v":"KPS066"},"Tuxedo (Double Chocolate Drizzled Caramel) Sampler Bag - Manufacturing","RETAIL",0,1.5]
["KPS094",{"$f":"TEXT(Table_Query_from_Great_Plains[[#This Row],[ITEMNMBR]],0)","v":"KPS094"},"Pink Himalayan Salt Caramel Popcorn - Purdy's","RETAIL",0,2.09]
["KPS094-C12",{"$f":"TEXT(Table_Query_from_Great_Plains[[#This Row],[ITEMNMBR]],0)","v":"KPS094-C12"},"Pink Himalayan Salt Caramel Popcorn","RETAIL",0,20.9]
["KPSG000",{"$f":"TEXT(Table_Query_from_Great_Plains[[#This Row],[ITEMNMBR]],0)","v":"KPSG000"},"Au Natural Popcorn Generic Bag","RETAIL",0,0]
["KPSG001",{"$f":"TEXT(Table_Query_from_Great_Plains[[#This Row],[ITEMNMBR]],0)","v":"KPSG001"},"Bacon Cheddar Popcorn Generic Bag","RETAIL",0,0]
["KPSG001-C24",{"$f":"TEXT(Table_Query_from_Great_Plains[[#This Row],[ITEMNMBR]],0)","v":"KPSG001-C24"},"Bacon Cheddar Generic - Case/24","RETAIL",0,16.8]
["KPSG002",{"$f":"TEXT(Table_Query_from_Great_Plains[[#This Row],[ITEMNMBR]],0)","v":"KPSG002"},"Cheesy Cheddar Popcorn Generic Bag","RETAIL",0,0]
["KPSG003",{"$f":"TEXT(Table_Query_from_Great_Plains[[#This Row],[ITEMNMBR]],0)","v":"KPSG003"},"Dill Pickle Popcorn Generic Bag","RETAIL",0,0]
["KPSG004",{"$f":"TEXT(Table_Query_from_Great_Plains[[#This Row],[ITEMNMBR]],0)","v":"KPSG004"},"Garlic Parmesan Popcorn Generic Bag","RETAIL",0,0]
["KPSG004-C24",{"$f":"TEXT(Table_Query_from_Great_Plains[[#This Row],[ITEMNMBR]],0)","v":"KPSG004-C24"},"Garlic Parmesan Generic - Case/24","RETAIL",0,16.8]
["KPSG005",{"$f":"TEXT(Table_Query_from_Great_Plains[[#This Row],[ITEMNMBR]],0)","v":"KPSG005"},"Honey Mustard Popcorn Generic Bag","RETAIL",0,0]
["KPSG006",{"$f":"TEXT(Table_Query_from_Great_Plains[[#This Row],[ITEMNMBR]],0)","v":"KPSG006"},"BBQ Popcorn Generic Bag","RETAIL",0,0]
["KPSG007",{"$f":"TEXT(Table_Query_from_Great_Plains[[#This Row],[ITEMNMBR]],0)","v":"KPSG007"},"Buttered Popcorn Generic Bag","RETAIL",0,0]
["KPSG007-C18",{"$f":"TEXT(Table_Query_from_Great_Plains[[#This Row],[ITEMNMBR]],0)","v":"KPSG007-C18"},"Buttered Popcorn (Generic Bag) - case / 18","RETAIL",0,14.4]
["KPSG008",{"$f":"TEXT(Table_Query_from_Great_Plains[[#This Row],[ITEMNMBR]],0)","v":"KPSG008"},"Zesty Ranch Popcorn Generic Bag","RETAIL",0,0]
["KPSG008-C24",{"$f":"TEXT(Table_Query_from_Great_Plains[[#This Row],[ITEMNMBR]],0)","v":"KPSG008-C24"},"Zesty Ranch Generic - Case/24","RETAIL",0,16.8]
["KPSG009",{"$f":"TEXT(Table_Query_from_Great_Plains[[#This Row],[ITEMNMBR]],0)","v":"KPSG009"},"Pizza Time Popcorn Generic Bag","RETAIL",0,0]
["KPSG010",{"$f":"TEXT(Table_Query_from_Great_Plains[[#This Row],[ITEMNMBR]],0)","v":"KPSG010"},"Salt n Vinegar Popcorn Generic Bag","RETAIL",0,0]
["KPSG011",{"$f":"TEXT(Table_Query_from_Great_Plains[[#This Row],[ITEMNMBR]],0)","v":"KPSG011"},"Sour Cream n Chive Popcorn Generic Bag","RETAIL",0,0]
["KPSG012",{"$f":"TEXT(Table_Query_from_Great_Plains[[#This Row],[ITEMNMBR]],0)","v":"KPSG012"},"Too Hot to Handle Popcorn Generic Bag","RETAIL",0,0]
["KPSG013",{"$f":"TEXT(Table_Query_from_Great_Plains[[#This Row],[ITEMNMBR]],0)","v":"KPSG013"},"White Cheddar Popcorn Generic Bag","RETAIL",0,0]
["KPSG013-C18",{"$f":"TEXT(Table_Query_from_Great_Plains[[#This Row],[ITEMNMBR]],0)","v":"KPSG013-C18"},"White Cheddar Popcorn (Generic Bag) - case / 18","RETAIL",0,14.4]
["KPSG014",{"$f":"TEXT(Table_Query_from_Great_Plains[[#This Row],[ITEMNMBR]],0)","v":"KPSG014"},"Cajun Popcorn Generic Bag","RETAIL",0,0]
["KPSG015",{"$f":"TEXT(Table_Query_from_Great_Plains[[#This Row],[ITEMNMBR]],0)","v":"KPSG015"},"Chipotle BBQ Popcorn Generic Bag","RETAIL",0,0.8]
["KPSG015-C18",{"$f":"TEXT(Table_Query_from_Great_Plains[[#This Row],[ITEMNMBR]],0)","v":"KPSG015-C18"},"Chipotle BBQ Popcorn - case / 18","RETAIL",0,14.4]
["KPSG016",{"$f":"TEXT(Table_Query_from_Great_Plains[[#This Row],[ITEMNMBR]],0)","v":"KPSG016"},"Nacho cheese Popcorn Generic Bag","RETAIL",0,0]
["KPSG017",{"$f":"TEXT(Table_Query_from_Great_Plains[[#This Row],[ITEMNMBR]],0)","v":"KPSG017"},"Buffalo Popcorn Generic Bag","RETAIL",0,0]
["KPSG017-C18",{"$f":"TEXT(Table_Query_from_Great_Plains[[#This Row],[ITEMNMBR]],0)","v":"KPSG017-C18"},"Buffalo Popcorn (Generic Bag) - case / 18","RETAIL",0,14.4]
["KPSG018",{"$f":"TEXT(Table_Query_from_Great_Plains[[#This Row],[ITEMNMBR]],0)","v":"KPSG018"},"Caramel Popcorn Generic Bag","RETAIL",0,0]
["KPSG019",{"$f":"TEXT(Table_Query_from_Great_Plains[[#This Row],[ITEMNMBR]],0)","v":"KPSG019"},"Cinnamon & Brown Sugar Kettlecorn (CinnamonToast) Popcorn Generic Bag","RETAIL",0,0]
["KPSG019-C18",{"$f":"TEXT(Table_Query_from_Great_Plains[[#This Row],[ITEMNMBR]],0)","v":"KPSG019-C18"},"Cinnamon & Brown Sugar Kettlecorn (Generic Bag) - case / 18","RETAIL",0,14.4]
["KPSG020",{"$f":"TEXT(Table_Query_from_Great_Plains[[#This Row],[ITEMNMBR]],0)","v":"KPSG020"},"Kettle Corn Popcorn Generic Bag","RETAIL",0,0]
["KPSG020-C18",{"$f":"TEXT(Table_Query_from_Great_Plains[[#This Row],[ITEMNMBR]],0)","v":"KPSG020-C18"},"Kettle Corn Popcorn (Generic Bag) - case / 18","RETAIL",0,14.4]
["KPSG021",{"$f":"TEXT(Table_Query_from_Great_Plains[[#This Row],[ITEMNMBR]],0)","v":"KPSG021"},"Sea Salt n Cracked Pepper Popcorn Generic Bag","RETAIL",0,0]
["KPSG022",{"$f":"TEXT(Table_Query_from_Great_Plains[[#This Row],[ITEMNMBR]],0)","v":"KPSG022"},"Banana Popcorn Generic Bag","RETAIL",0,0]
["KPSG023",{"$f":"TEXT(Table_Query_from_Great_Plains[[#This Row],[ITEMNMBR]],0)","v":"KPSG023"},"Grape Popcorn Generic Bag","RETAIL",0,0]
["KPSG024",{"$f":"TEXT(Table_Query_from_Great_Plains[[#This Row],[ITEMNMBR]],0)","v":"KPSG024"},"Watermelon Popcorn Generic Bag","RETAIL",0,0]
["KPSG025",{"$f":"TEXT(Table_Query_from_Great_Plains[[#This Row],[ITEMNMBR]],0)","v":"KPSG025"},"Strawberry Popcorn Generic Bag","RETAIL",0,0]
["KPSG026",{"$f":"TEXT(Table_Query_from_Great_Plains[[#This Row],[ITEMNMBR]],0)","v":"KPSG026"},"Cinnamon Popcorn Generic Bag","RETAIL",0,0]
["KPSG027",{"$f":"TEXT(Table_Query_from_Great_Plains[[#This Row],[ITEMNMBR]],0)","v":"KPSG027"},"Black Cherry Popcorn Generic Bag","RETAIL",0,0]
["KPSG028",{"$f":"TEXT(Table_Query_from_Great_Plains[[#This Row],[ITEMNMBR]],0)","v":"KPSG028"},"Orange Popcorn Generic Bag","RETAIL",0,0]
["KPSG029",{"$f":"TEXT(Table_Query_from_Great_Plains[[#This Row],[ITEMNMBR]],0)","v":"KPSG029"},"Blue Raspberry Popcorn Generic Bag","RETAIL",0,0]
["KPSG030",{"$f":"TEXT(Table_Query_from_Great_Plains[[#This Row],[ITEMNMBR]],0)","v":"KPSG030"},"Toffee Popcorn Generic Bag","RETAIL",0,0]
["KPSG031",{"$f":"TEXT(Table_Query_from_Great_Plains[[#This Row],[ITEMNMBR]],0)","v":"KPSG031"},"Green Apple Popcorn Generic Bag","RETAIL",0,0]
["KPSG032",{"$f":"TEXT(Table_Query_from_Great_Plains[[#This Row],[ITEMNMBR]],0)","v":"KPSG032"},"Vanilla Popcorn Generic Bag","RETAIL",0,0]
["KPSG033",{"$f":"TEXT(Table_Query_from_Great_Plains[[#This Row],[ITEMNMBR]],0)","v":"KPSG033"},"Candy Pina Colada Popcorn Generic Bag","RETAIL",0,0]
["KPSG034",{"$f":"TEXT(Table_Query_from_Great_Plains[[#This Row],[ITEMNMBR]],0)","v":"KPSG034"},"Lemon Popcorn Generic Bag","RETAIL",0,0]
["KPSG035",{"$f":"TEXT(Table_Query_from_Great_Plains[[#This Row],[ITEMNMBR]],0)","v":"KPSG035"},"Cherry Popcorn Generic Bag","RETAIL",0,0]
["KPSG036",{"$f":"TEXT(Table_Query_from_Great_Plains[[#This Row],[ITEMNMBR]],0)","v":"KPSG036"},"Blueberry Popcorn Generic Bag","RETAIL",0,0]
["KPSG037",{"$f":"TEXT(Table_Query_from_Great_Plains[[#This Row],[ITEMNMBR]],0)","v":"KPSG037"},"Bubble Gum Popcorn Generic Bag","RETAIL",0,0]
["KPSG038",{"$f":"TEXT(Table_Query_from_Great_Plains[[#This Row],[ITEMNMBR]],0)","v":"KPSG038"},"Banana Cream Pie Popcorn Generic Bag","RETAIL",0,0]
["KPSG039",{"$f":"TEXT(Table_Query_from_Great_Plains[[#This Row],[ITEMNMBR]],0)","v":"KPSG039"},"Bueberry Graham Popcorn Generic Bag","RETAIL",0,0]
["KPSG040",{"$f":"TEXT(Table_Query_from_Great_Plains[[#This Row],[ITEMNMBR]],0)","v":"KPSG040"},"Coffee Berry Popcorn Generic Bag","RETAIL",0,0]
["KPSG041",{"$f":"TEXT(Table_Query_from_Great_Plains[[#This Row],[ITEMNMBR]],0)","v":"KPSG041"},"Coffee n' Cream Popcorn Generic Bag","RETAIL",0,0]
["KPSG042",{"$f":"TEXT(Table_Query_from_Great_Plains[[#This Row],[ITEMNMBR]],0)","v":"KPSG042"},"Dark Chocolate Chile Popcorn Generic Bag","RETAIL",0,0]
["KPSG043",{"$f":"TEXT(Table_Query_from_Great_Plains[[#This Row],[ITEMNMBR]],0)","v":"KPSG043"},"Key Lime Pie Popcorn Generic Bag","RETAIL",0,0]
["KPSG044",{"$f":"TEXT(Table_Query_from_Great_Plains[[#This Row],[ITEMNMBR]],0)","v":"KPSG044"},"Granite State Maple Popcorn Generic Bag","RETAIL",0,0]
["KPSG045",{"$f":"TEXT(Table_Query_from_Great_Plains[[#This Row],[ITEMNMBR]],0)","v":"KPSG045"},"Island Coconut Generic Bag","RETAIL",0,1.1000000000000001]
["KPSG045-C18",{"$f":"TEXT(Table_Query_from_Great_Plains[[#This Row],[ITEMNMBR]],0)","v":"KPSG045-C18"},"Island Coconut Popcorn - case / 18","RETAIL",0,19.8]
["KPSG046",{"$f":"TEXT(Table_Query_from_Great_Plains[[#This Row],[ITEMNMBR]],0)","v":"KPSG046"},"Eggnog Popcorn Generic Bag","RETAIL",0,0]
["KPSG047",{"$f":"TEXT(Table_Query_from_Great_Plains[[#This Row],[ITEMNMBR]],0)","v":"KPSG047"},"Dark Chocolate Cherry Popcorn Generic Bag","RETAIL",0,0]
["KPSG048",{"$f":"TEXT(Table_Query_from_Great_Plains[[#This Row],[ITEMNMBR]],0)","v":"KPSG048"},"Mint Chocolate Chip Popcorn Generic Bag","RETAIL",0,0]
["KPSG049",{"$f":"TEXT(Table_Query_from_Great_Plains[[#This Row],[ITEMNMBR]],0)","v":"KPSG049"},"White Chocolate Cranberry Popcorn Generic Bag","RETAIL",0,0]
["KPSG050",{"$f":"TEXT(Table_Query_from_Great_Plains[[#This Row],[ITEMNMBR]],0)","v":"KPSG050"},"Cookies & Cream Popcorn Generic Bag","RETAIL",0,0]
["KPSG051",{"$f":"TEXT(Table_Query_from_Great_Plains[[#This Row],[ITEMNMBR]],0)","v":"KPSG051"},"Mint Cookie Mayhem Popcorn Generic Bag","RETAIL",0,0]
["KPSG052",{"$f":"TEXT(Table_Query_from_Great_Plains[[#This Row],[ITEMNMBR]],0)","v":"KPSG052"},"Peanut Butter Cup Popcorn Generic Bag","RETAIL",0,0]
["KPSG053",{"$f":"TEXT(Table_Query_from_Great_Plains[[#This Row],[ITEMNMBR]],0)","v":"KPSG053"},"Pina Colada Popcorn Generic Bag","RETAIL",0,0]
["KPSG054",{"$f":"TEXT(Table_Query_from_Great_Plains[[#This Row],[ITEMNMBR]],0)","v":"KPSG054"},"Salted Chocolate Popcorn Generic Bag","RETAIL",0,0]
["KPSG055",{"$f":"TEXT(Table_Query_from_Great_Plains[[#This Row],[ITEMNMBR]],0)","v":"KPSG055"},"Strawberry Cheesecake Popcorn Generic Bag","RETAIL",0,0]
["KPSG056",{"$f":"TEXT(Table_Query_from_Great_Plains[[#This Row],[ITEMNMBR]],0)","v":"KPSG056"},"Toasted Coconut Crunch Popcorn Generic Bag","RETAIL",0,0]
["KPSG057",{"$f":"TEXT(Table_Query_from_Great_Plains[[#This Row],[ITEMNMBR]],0)","v":"KPSG057"},"White Chocolate Pineapple Popcorn Generic Bag","RETAIL",0,0]
["KPSG058",{"$f":"TEXT(Table_Query_from_Great_Plains[[#This Row],[ITEMNMBR]],0)","v":"KPSG058"},"Champagne & Strawberries Popcorn Generic Bag","RETAIL",0,0]
["KPSG059",{"$f":"TEXT(Table_Query_from_Great_Plains[[#This Row],[ITEMNMBR]],0)","v":"KPSG059"},"Funky Monkey Popcorn Generic Bag","RETAIL",0,1.1000000000000001]
["KPSG059-C18",{"$f":"TEXT(Table_Query_from_Great_Plains[[#This Row],[ITEMNMBR]],0)","v":"KPSG059-C18"},"Funky Monkey Popcorn - case / 18","RETAIL",0,19.8]
["KPSG060",{"$f":"TEXT(Table_Query_from_Great_Plains[[#This Row],[ITEMNMBR]],0)","v":"KPSG060"},"Smore's Popcorn Generic Bag","RETAIL",0,0]
["KPSG061",{"$f":"TEXT(Table_Query_from_Great_Plains[[#This Row],[ITEMNMBR]],0)","v":"KPSG061"},"Cinnamon Bun Popcorn Generic Bag","RETAIL",0,0]
["KPSG062",{"$f":"TEXT(Table_Query_from_Great_Plains[[#This Row],[ITEMNMBR]],0)","v":"KPSG062"},"Birthday Cake Popcorn Generic Bag","RETAIL",0,0]
["KPSG063",{"$f":"TEXT(Table_Query_from_Great_Plains[[#This Row],[ITEMNMBR]],0)","v":"KPSG063"},"Dark Chocolate Drizzle Caramel Popcorn Generic Bag","RETAIL",0,0]
["KPSG064",{"$f":"TEXT(Table_Query_from_Great_Plains[[#This Row],[ITEMNMBR]],0)","v":"KPSG064"},"Milk Chocolate Drizzle Caramel Popcorn Generic Bag","RETAIL",0,0]
["KPSG065",{"$f":"TEXT(Table_Query_from_Great_Plains[[#This Row],[ITEMNMBR]],0)","v":"KPSG065"},"Salted Chocolate Drizzle Caramel Popcorn Generic Bag","RETAIL",0,0]
["KPSG066",{"$f":"TEXT(Table_Query_from_Great_Plains[[#This Row],[ITEMNMBR]],0)","v":"KPSG066"},"Tuxedo (Dark & White Chocolate Drizzle Caramel) Popcorn Generic Bag","RETAIL",0,0]
["KPSG067",{"$f":"TEXT(Table_Query_from_Great_Plains[[#This Row],[ITEMNMBR]],0)","v":"KPSG067"},"White Chocolate Caramel Popcorn Generic Bag","RETAIL",0,0]
["KPSG068",{"$f":"TEXT(Table_Query_from_Great_Plains[[#This Row],[ITEMNMBR]],0)","v":"KPSG068"},"Turtle Popcorn Generic Bag","RETAIL",0,0]
["KPSG069",{"$f":"TEXT(Table_Query_from_Great_Plains[[#This Row],[ITEMNMBR]],0)","v":"KPSG069"},"Caramel Apple Popcorn Generic Bag","RETAIL",0,0]
["KPSG070",{"$f":"TEXT(Table_Query_from_Great_Plains[[#This Row],[ITEMNMBR]],0)","v":"KPSG070"},"Ketchup Popcorn Generic Bag","RETAIL",0,0]
["KPSG071",{"$f":"TEXT(Table_Query_from_Great_Plains[[#This Row],[ITEMNMBR]],0)","v":"KPSG071"},"Creamy Dill Popcorn Generic Bag","RETAIL",0,0]
["KPSG072",{"$f":"TEXT(Table_Query_from_Great_Plains[[#This Row],[ITEMNMBR]],0)","v":"KPSG072"},"Sun Dried Tomato Basil Popcorn by KingOfPOP.com - 1.1 oz. -","RETAIL",0,0]
["KPSG073",{"$f":"TEXT(Table_Query_from_Great_Plains[[#This Row],[ITEMNMBR]],0)","v":"KPSG073"},"BBQ Ribs Popcorn Generic Bag","RETAIL",0,0.8]
["KPSG073-C18",{"$f":"TEXT(Table_Query_from_Great_Plains[[#This Row],[ITEMNMBR]],0)","v":"KPSG073-C18"},"BBQ Ribs Popcorn - case /18","RETAIL",0,14.4]
["KPSG074",{"$f":"TEXT(Table_Query_from_Great_Plains[[#This Row],[ITEMNMBR]],0)","v":"KPSG074"},"Dark Chocolate Peppermint Popcorn Generic Bag","RETAIL",0,0]
["KPSG075",{"$f":"TEXT(Table_Query_from_Great_Plains[[#This Row],[ITEMNMBR]],0)","v":"KPSG075"},"Strawberry Banana Confetti Popcorn Generic Bag","RETAIL",0,0]
["KPSG076",{"$f":"TEXT(Table_Query_from_Great_Plains[[#This Row],[ITEMNMBR]],0)","v":"KPSG076"}," Confetti Popcorn Generic Bag","RETAIL",0,0]
["KPSG077",{"$f":"TEXT(Table_Query_from_Great_Plains[[#This Row],[ITEMNMBR]],0)","v":"KPSG077"},"Halloween Confetti Popcorn Generic Bag","RETAIL",0,0]
["KPSG078",{"$f":"TEXT(Table_Query_from_Great_Plains[[#This Row],[ITEMNMBR]],0)","v":"KPSG078"},"Caramel Nut Crunch Popcorn Generic Bag","RETAIL",0,0]
["KPSG079",{"$f":"TEXT(Table_Query_from_Great_Plains[[#This Row],[ITEMNMBR]],0)","v":"KPSG079"},"Chocolate Caramel Nut Crunch Popcorn Generic Bag","RETAIL",0,0]
["KPSG080",{"$f":"TEXT(Table_Query_from_Great_Plains[[#This Row],[ITEMNMBR]],0)","v":"KPSG080"},"Christmas Confetti (Red & Green Candycorn & Caramel Corn) Popcorn Generic Bag","RETAIL",0,0]
["KPSG081",{"$f":"TEXT(Table_Query_from_Great_Plains[[#This Row],[ITEMNMBR]],0)","v":"KPSG081"},"Gingerbread Popcorn Generic Bag","RETAIL",0,0]
["KPSG082",{"$f":"TEXT(Table_Query_from_Great_Plains[[#This Row],[ITEMNMBR]],0)","v":"KPSG082"},"Turkey Popcorn Generic Bag","RETAIL",0,0]
["KPSG083",{"$f":"TEXT(Table_Query_from_Great_Plains[[#This Row],[ITEMNMBR]],0)","v":"KPSG083"},"Stuffing Popcorn Generic Bag","RETAIL",0,0]
["KPSG084",{"$f":"TEXT(Table_Query_from_Great_Plains[[#This Row],[ITEMNMBR]],0)","v":"KPSG084"},"Gravy Popcorn Generic Bag","RETAIL",0,0]
["KPSG085",{"$f":"TEXT(Table_Query_from_Great_Plains[[#This Row],[ITEMNMBR]],0)","v":"KPSG085"},"Sweet Potato Popcorn Generic Bag","RETAIL",0,0]
["KPSG086",{"$f":"TEXT(Table_Query_from_Great_Plains[[#This Row],[ITEMNMBR]],0)","v":"KPSG086"},"Pumpkin Pie Popcorn Generic Bag","RETAIL",0,0]
["KPSG087",{"$f":"TEXT(Table_Query_from_Great_Plains[[#This Row],[ITEMNMBR]],0)","v":"KPSG087"},"Apple Pie Popcorn Generic Bag","RETAIL",0,0]
["KPSG088",{"$f":"TEXT(Table_Query_from_Great_Plains[[#This Row],[ITEMNMBR]],0)","v":"KPSG088"},"Cranberry Sauce Popcorn Generic Bag","RETAIL",0,0]
["KPSG089",{"$f":"TEXT(Table_Query_from_Great_Plains[[#This Row],[ITEMNMBR]],0)","v":"KPSG089"},"White Chocolate Peppermint Popcorn Generic Bag","RETAIL",0,0]
["KPSG090",{"$f":"TEXT(Table_Query_from_Great_Plains[[#This Row],[ITEMNMBR]],0)","v":"KPSG090"}," Anise Cookie Popcorn Generic Bag","RETAIL",0,0]
["KPSG091",{"$f":"TEXT(Table_Query_from_Great_Plains[[#This Row],[ITEMNMBR]],0)","v":"KPSG091"},"Dark Chocolate Orange Popcorn Generic Bag","RETAIL",0,0]
["KPSG093",{"$f":"TEXT(Table_Query_from_Great_Plains[[#This Row],[ITEMNMBR]],0)","v":"KPSG093"},"Milk Chocolate Drizzle Kettlecorn Generic Bag","RETAIL",0,0]
["KPSG095",{"$f":"TEXT(Table_Query_from_Great_Plains[[#This Row],[ITEMNMBR]],0)","v":"KPSG095"},"Garlic Mashed Potatoes Sampler Bag","RETAIL",0,0]
["KPSG096",{"$f":"TEXT(Table_Query_from_Great_Plains[[#This Row],[ITEMNMBR]],0)","v":"KPSG096"},"Pink Himalayan Sea Salt Caramel Popcorn by KingOfPOP.com - 3.14 oz. -","RETAIL",0,0]
["KPSG097",{"$f":"TEXT(Table_Query_from_Great_Plains[[#This Row],[ITEMNMBR]],0)","v":"KPSG097"},"Confetti Cake Popcorn by KingOfPOP.com -","RETAIL",0,0]
["KPSG098",{"$f":"TEXT(Table_Query_from_Great_Plains[[#This Row],[ITEMNMBR]],0)","v":"KPSG098"},"Chocolate Hazelnut Popcorn by KingOfPOP.com -","RETAIL",0,0]
["KPSG099",{"$f":"TEXT(Table_Query_from_Great_Plains[[#This Row],[ITEMNMBR]],0)","v":"KPSG099"},"Buttered Corn on the Cob Popcorn by KingOfPOP.com -","RETAIL",0,0]
["KPSG100",{"$f":"TEXT(Table_Query_from_Great_Plains[[#This Row],[ITEMNMBR]],0)","v":"KPSG100"},"Sweet Onion Popcorn by KingOfPOP.com -","RETAIL",0,0]
["KPSG101",{"$f":"TEXT(Table_Query_from_Great_Plains[[#This Row],[ITEMNMBR]],0)","v":"KPSG101"},"Hickory Maple Bacon Popcorn by KingOfPOP.com -","RETAIL",0,0]
["KPSG102",{"$f":"TEXT(Table_Query_from_Great_Plains[[#This Row],[ITEMNMBR]],0)","v":"KPSG102"},"Candy Cane Peppermint Kettlecorn Generic Bag","RETAIL",0,0]
["KPSR002",{"$f":"TEXT(Table_Query_from_Great_Plains[[#This Row],[ITEMNMBR]],0)","v":"KPSR002"},"Cheesy Cheddar Popcorn Retail Sampler Bag","RETAIL",0,0.7]
["KPSR002-C18",{"$f":"TEXT(Table_Query_from_Great_Plains[[#This Row],[ITEMNMBR]],0)","v":"KPSR002-C18"},"Cheesy Cheddar Popcorn - case / 18","RETAIL",0,15.3]
["KPSR002-C24",{"$f":"TEXT(Table_Query_from_Great_Plains[[#This Row],[ITEMNMBR]],0)","v":"KPSR002-C24"},"Cheesy Cheddar Popcorn - case / 24","RETAIL",0,20.399999999999999]
["KPSR004",{"$f":"TEXT(Table_Query_from_Great_Plains[[#This Row],[ITEMNMBR]],0)","v":"KPSR004"},"Garlic Parmesan Popcorn by KingOfPOP.com - 1.1 oz. -","RETAIL",0,0.7]
["KPSR004-C24",{"$f":"TEXT(Table_Query_from_Great_Plains[[#This Row],[ITEMNMBR]],0)","v":"KPSR004-C24"},"Garlic Parmesan Popcorn - Case / 24","RETAIL",0,16.8]
["KPSR005",{"$f":"TEXT(Table_Query_from_Great_Plains[[#This Row],[ITEMNMBR]],0)","v":"KPSR005"},"Honey Mustard Popcorn by KingOfPOP.com - 1.1 oz. -","RETAIL",0,0.7]
["KPSR005-C18",{"$f":"TEXT(Table_Query_from_Great_Plains[[#This Row],[ITEMNMBR]],0)","v":"KPSR005-C18"},"Honey Mustard Popcorn - case / 18","RETAIL",0,12.6]
["KPSR005-C24",{"$f":"TEXT(Table_Query_from_Great_Plains[[#This Row],[ITEMNMBR]],0)","v":"KPSR005-C24"},"Honey Mustard Popcorn - Case / 24","RETAIL",0,16.8]
["KPSR008",{"$f":"TEXT(Table_Query_from_Great_Plains[[#This Row],[ITEMNMBR]],0)","v":"KPSR008"},"Zesty Ranch Popcorn by KingOfPOP.com - 1.1 oz. -","RETAIL",0,0.7]
["KPSR008-C24",{"$f":"TEXT(Table_Query_from_Great_Plains[[#This Row],[ITEMNMBR]],0)","v":"KPSR008-C24"},"Zesty Ranch Popcorn - Case / 24","RETAIL",0,16.8]
["KPSR017",{"$f":"TEXT(Table_Query_from_Great_Plains[[#This Row],[ITEMNMBR]],0)","v":"KPSR017"},"Buffalo Popcorn by KingOfPOP.com - 1.1 oz. -","RETAIL",0,0.7]
["KPSR017-C18",{"$f":"TEXT(Table_Query_from_Great_Plains[[#This Row],[ITEMNMBR]],0)","v":"KPSR017-C18"},"Buffalo Popcorn - case / 18","RETAIL",0,0]
["KPSR017-C24",{"$f":"TEXT(Table_Query_from_Great_Plains[[#This Row],[ITEMNMBR]],0)","v":"KPSR017-C24"},"Buffalo Popcorn - Case / 24","RETAIL",0,16.8]
["KPSR018",{"$f":"TEXT(Table_Query_from_Great_Plains[[#This Row],[ITEMNMBR]],0)","v":"KPSR018"},"Caramel Popcorn Retail Sampler Bag","RETAIL",0,0.7]
["KPSR018-C18",{"$f":"TEXT(Table_Query_from_Great_Plains[[#This Row],[ITEMNMBR]],0)","v":"KPSR018-C18"},"Caramel Popcorn - case / 18","RETAIL",0,12.6]
["KPSR018-C24",{"$f":"TEXT(Table_Query_from_Great_Plains[[#This Row],[ITEMNMBR]],0)","v":"KPSR018-C24"},"Caramel Popcorn - case / 24","RETAIL",0,16.8]
["KPSR019",{"$f":"TEXT(Table_Query_from_Great_Plains[[#This Row],[ITEMNMBR]],0)","v":"KPSR019"},"Cinnamon & Brown Sugar Kettle Corn by KingOfPOP.com - 1.4 oz. -","RETAIL",0,0.7]
["KPSR019-C18",{"$f":"TEXT(Table_Query_from_Great_Plains[[#This Row],[ITEMNMBR]],0)","v":"KPSR019-C18"},"Cinnamon & Brown Sugar Kettle Corn Popcorn - case / 18","RETAIL",0,0]
["KPSR019-C24",{"$f":"TEXT(Table_Query_from_Great_Plains[[#This Row],[ITEMNMBR]],0)","v":"KPSR019-C24"},"Cinnamon & Brown Sugar Kettle Corn Popcorn - Case / 24","RETAIL",0,16.8]
["KPSR021",{"$f":"TEXT(Table_Query_from_Great_Plains[[#This Row],[ITEMNMBR]],0)","v":"KPSR021"},"Sea Salt & Cracked Pepper Kettle Corn by KingOfPOP.com - 1.4 oz. -","RETAIL",0,0.7]
["KPSR021-C18",{"$f":"TEXT(Table_Query_from_Great_Plains[[#This Row],[ITEMNMBR]],0)","v":"KPSR021-C18"},"Sea Salt & Cracked Pepper Popcorn - case / 18","RETAIL",0,12.6]
["KPSR021-C24",{"$f":"TEXT(Table_Query_from_Great_Plains[[#This Row],[ITEMNMBR]],0)","v":"KPSR021-C24"},"Sea Salt & Cracked Pepper Popcorn - Case / 24","RETAIL",0,16.8]
["KPSR050",{"$f":"TEXT(Table_Query_from_Great_Plains[[#This Row],[ITEMNMBR]],0)","v":"KPSR050"},"Cookies & Cream Popcorn Retail Sampler Bag","RETAIL",0,1.1000000000000001]
["KPSR050-C18",{"$f":"TEXT(Table_Query_from_Great_Plains[[#This Row],[ITEMNMBR]],0)","v":"KPSR050-C18"},"Cookies & Cream Popcorn - case / 18","RETAIL",0,19.8]
["KPSR050-C24",{"$f":"TEXT(Table_Query_from_Great_Plains[[#This Row],[ITEMNMBR]],0)","v":"KPSR050-C24"},"Cookies & Cream Popcorn - case / 24","RETAIL",0,26.4]
["KPSR066",{"$f":"TEXT(Table_Query_from_Great_Plains[[#This Row],[ITEMNMBR]],0)","v":"KPSR066"},"Double Chocolate Drizzle Popcorn Retail Sampler Bag","RETAIL",0,1.1000000000000001]
["KPSR066-C18",{"$f":"TEXT(Table_Query_from_Great_Plains[[#This Row],[ITEMNMBR]],0)","v":"KPSR066-C18"},"Double Chocolate Drizzle Popcorn - case / 18","RETAIL",0,19.8]
["KPSR066-C24",{"$f":"TEXT(Table_Query_from_Great_Plains[[#This Row],[ITEMNMBR]],0)","v":"KPSR066-C24"},"Double Chocolate Drizzle Popcorn - case / 24","RETAIL",0,26.4]
["KPSR076",{"$f":"TEXT(Table_Query_from_Great_Plains[[#This Row],[ITEMNMBR]],0)","v":"KPSR076"},"Confetti Popcorn Retail Sampler Bag","RETAIL",0,0.7]
["KPSR076-C18",{"$f":"TEXT(Table_Query_from_Great_Plains[[#This Row],[ITEMNMBR]],0)","v":"KPSR076-C18"},"Confetti Popcorn - case / 18","RETAIL",0,12.6]
["KPSR076-C24",{"$f":"TEXT(Table_Query_from_Great_Plains[[#This Row],[ITEMNMBR]],0)","v":"KPSR076-C24"},"Confetti Popcorn - case / 24","RETAIL",0,20.399999999999999]
["KPSR096",{"$f":"TEXT(Table_Query_from_Great_Plains[[#This Row],[ITEMNMBR]],0)","v":"KPSR096"},"Sweet Onion Popcorn Retail Snack Bag","RETAIL",0,0.7]
["KPSR096-C24",{"$f":"TEXT(Table_Query_from_Great_Plains[[#This Row],[ITEMNMBR]],0)","v":"KPSR096-C24"},"Sweet OnionPopcorn - Case / 24","RETAIL",0,16.8]
["KPSR097",{"$f":"TEXT(Table_Query_from_Great_Plains[[#This Row],[ITEMNMBR]],0)","v":"KPSR097"},"Hickory Maple Bacon Popcorn Retail Snack Bag","RETAIL",0,0.7]
["KPSR097-C24",{"$f":"TEXT(Table_Query_from_Great_Plains[[#This Row],[ITEMNMBR]],0)","v":"KPSR097-C24"},"Hickory Maple Bacon Popcorn - Case / 24","RETAIL",0,16.8]
["KPSRFFWS-C18",{"$f":"TEXT(Table_Query_from_Great_Plains[[#This Row],[ITEMNMBR]],0)","v":"KPSRFFWS-C18"},"King Of Pop Sampler - Case / 18","RETAIL",0,0]
["KPSRFFWS-C24",{"$f":"TEXT(Table_Query_from_Great_Plains[[#This Row],[ITEMNMBR]],0)","v":"KPSRFFWS-C24"},"King Of Pop Sampler - Case / 24","RETAIL",0,9.56]
["KR1001",{"$f":"TEXT(Table_Query_from_Great_Plains[[#This Row],[ITEMNMBR]],0)","v":"KR1001"},"Kroger Quarter Pallet - 270 Assorted Snack Bags","RETAIL",0,170.1]
["LAD001",{"$f":"TEXT(Table_Query_from_Great_Plains[[#This Row],[ITEMNMBR]],0)","v":"LAD001"},"Small Inner Box","RETAIL",0,100]
["LAD002",{"$f":"TEXT(Table_Query_from_Great_Plains[[#This Row],[ITEMNMBR]],0)","v":"LAD002"},"Large Inner Cheesecake Box","RETAIL",0,100]
["LFL010",{"$f":"TEXT(Table_Query_from_Great_Plains[[#This Row],[ITEMNMBR]],0)","v":"LFL010"},"Elite-Carrot Cake","RETAIL",0,100]
["LFL011",{"$f":"TEXT(Table_Query_from_Great_Plains[[#This Row],[ITEMNMBR]],0)","v":"LFL011"},"Colossal- Chocolate Layer Mousse Cake","RETAIL",0,100]
["LFL012",{"$f":"TEXT(Table_Query_from_Great_Plains[[#This Row],[ITEMNMBR]],0)","v":"LFL012"},"Colossal-Chocolate Cake","RETAIL",0,100]
["LFL013",{"$f":"TEXT(Table_Query_from_Great_Plains[[#This Row],[ITEMNMBR]],0)","v":"LFL013"},"Colossal-Chocolate Eruption","RETAIL",0,100]
["LFL014",{"$f":"TEXT(Table_Query_from_Great_Plains[[#This Row],[ITEMNMBR]],0)","v":"LFL014"},"Colossal-Chocolate Grande","RETAIL",0,100]
["LFL015",{"$f":"TEXT(Table_Query_from_Great_Plains[[#This Row],[ITEMNMBR]],0)","v":"LFL015"},"Colossal-Italian Cream Cake","RETAIL",0,100]
["LFL016",{"$f":"TEXT(Table_Query_from_Great_Plains[[#This Row],[ITEMNMBR]],0)","v":"LFL016"},"Colossal-Raspberry Eruption","RETAIL",0,100]
["LFL017",{"$f":"TEXT(Table_Query_from_Great_Plains[[#This Row],[ITEMNMBR]],0)","v":"LFL017"},"Colossal-Old- Fashioned Chocolate Cake","RETAIL",0,100]
["LFL018",{"$f":"TEXT(Table_Query_from_Great_Plains[[#This Row],[ITEMNMBR]],0)","v":"LFL018"},"Colossal-White & Dark Chocolate Mousse","RETAIL",0,100]
["LFL019",{"$f":"TEXT(Table_Query_from_Great_Plains[[#This Row],[ITEMNMBR]],0)","v":"LFL019"},"Colossal- Carrot Cake","RETAIL",0,100]
["LFL022",{"$f":"TEXT(Table_Query_from_Great_Plains[[#This Row],[ITEMNMBR]],0)","v":"LFL022"},"Carrot Cake Box","RETAIL",0,100]
["LFL023",{"$f":"TEXT(Table_Query_from_Great_Plains[[#This Row],[ITEMNMBR]],0)","v":"LFL023"},"Elite- Chocolate Layer Mousse Cake","RETAIL",0,100]
["LFL024",{"$f":"TEXT(Table_Query_from_Great_Plains[[#This Row],[ITEMNMBR]],0)","v":"LFL024"},"Elite- Chocolate Pecan Cluster","RETAIL",0,100]
["LFL025",{"$f":"TEXT(Table_Query_from_Great_Plains[[#This Row],[ITEMNMBR]],0)","v":"LFL025"},"Elite- Italian Cream Cake","RETAIL",0,100]
["LFL026",{"$f":"TEXT(Table_Query_from_Great_Plains[[#This Row],[ITEMNMBR]],0)","v":"LFL026"},"Elite- White and Dark Chocolate","RETAIL",0,100]
["LND006",{"$f":"TEXT(Table_Query_from_Great_Plains[[#This Row],[ITEMNMBR]],0)","v":"LND006"},"Lindor Milk Chocolate Truffles in Heart Box by Lindt & Sprungli - 8 truffles -","RETAIL",0,4.99]
["LND009",{"$f":"TEXT(Table_Query_from_Great_Plains[[#This Row],[ITEMNMBR]],0)","v":"LND009"},"Lindor Milk Chocolate Truffles in Heart Box by Lindt & Sprungli - 8 truffles -","RETAIL",0,100]
["LOG001",{"$f":"TEXT(Table_Query_from_Great_Plains[[#This Row],[ITEMNMBR]],0)","v":"LOG001"},"Logo Loc GGB Bottle Opener","RETAIL",0,100]
["LOG002",{"$f":"TEXT(Table_Query_from_Great_Plains[[#This Row],[ITEMNMBR]],0)","v":"LOG002"},"Nike (R) Mojo  Golf Balls 3 per Sleeve -","RETAIL",0,100]
["LOG003",{"$f":"TEXT(Table_Query_from_Great_Plains[[#This Row],[ITEMNMBR]],0)","v":"LOG003"},"12oz Blue D.R.Horton Mug","RETAIL",0,100]
["LOG004",{"$f":"TEXT(Table_Query_from_Great_Plains[[#This Row],[ITEMNMBR]],0)","v":"LOG004"},"12oz White D.R.Horton Mug","RETAIL",0,100]
["LON001",{"$f":"TEXT(Table_Query_from_Great_Plains[[#This Row],[ITEMNMBR]],0)","v":"LON001"},"Country Inn Breakfast Basket","RETAIL",0,100]
["LON002",{"$f":"TEXT(Table_Query_from_Great_Plains[[#This Row],[ITEMNMBR]],0)","v":"LON002"},"Breakfast Deluxe Basket","RETAIL",0,100]
["LON003",{"$f":"TEXT(Table_Query_from_Great_Plains[[#This Row],[ITEMNMBR]],0)","v":"LON003"},"Barefoot Basket - Medium","RETAIL",0,100]
["LON004",{"$f":"TEXT(Table_Query_from_Great_Plains[[#This Row],[ITEMNMBR]],0)","v":"LON004"},"Barefoot Basket - Large","RETAIL",0,100]
["LON005",{"$f":"TEXT(Table_Query_from_Great_Plains[[#This Row],[ITEMNMBR]],0)","v":"LON005"},"Easter Classic Basket (White)","RETAIL",0,100]
["LON006",{"$f":"TEXT(Table_Query_from_Great_Plains[[#This Row],[ITEMNMBR]],0)","v":"LON006"},"Small Oval Two Tone","RETAIL",0,100]
["LON007",{"$f":"TEXT(Table_Query_from_Great_Plains[[#This Row],[ITEMNMBR]],0)","v":"LON007"},"Longhorn Imports Father's Day Grilling Tray","RETAIL",0,100]
["LON008",{"$f":"TEXT(Table_Query_from_Great_Plains[[#This Row],[ITEMNMBR]],0)","v":"LON008"},"Longhorn Imports Burgundy Kitchen Towel","RETAIL",0,100]
["LON009",{"$f":"TEXT(Table_Query_from_Great_Plains[[#This Row],[ITEMNMBR]],0)","v":"LON009"},"Longhorn Imports Pumpkin Kitchen Towel","RETAIL",0,100]
["LON010",{"$f":"TEXT(Table_Query_from_Great_Plains[[#This Row],[ITEMNMBR]],0)","v":"LON010"},"Longhorn Imports sm tray 81013","RETAIL",0,100]
["LON011",{"$f":"TEXT(Table_Query_from_Great_Plains[[#This Row],[ITEMNMBR]],0)","v":"LON011"},"Longhorn Imports MED TRAY 81013","RETAIL",0,100]
["LON012",{"$f":"TEXT(Table_Query_from_Great_Plains[[#This Row],[ITEMNMBR]],0)","v":"LON012"},"Longhorn Imports LARGE TRAY 81013","RETAIL",0,100]
["LON013",{"$f":"TEXT(Table_Query_from_Great_Plains[[#This Row],[ITEMNMBR]],0)","v":"LON013"},"Longhorn Imports XLARGE TRAY 81013","RETAIL",0,100]
["LON014",{"$f":"TEXT(Table_Query_from_Great_Plains[[#This Row],[ITEMNMBR]],0)","v":"LON014"},"SM TRAY B-spiral","RETAIL",0,100]
["LON015",{"$f":"TEXT(Table_Query_from_Great_Plains[[#This Row],[ITEMNMBR]],0)","v":"LON015"},"MED TRAY B-spiral","RETAIL",0,100]
["LON016",{"$f":"TEXT(Table_Query_from_Great_Plains[[#This Row],[ITEMNMBR]],0)","v":"LON016"},"LARGE TRAY B-spiral","RETAIL",0,100]
["LON017",{"$f":"TEXT(Table_Query_from_Great_Plains[[#This Row],[ITEMNMBR]],0)","v":"LON017"},"XLARGE TRAY B-spiral","RETAIL",0,100]
["LON018",{"$f":"TEXT(Table_Query_from_Great_Plains[[#This Row],[ITEMNMBR]],0)","v":"LON018"},"XXLARGE TRAY B-spiral","RETAIL",0,100]
["LON019",{"$f":"TEXT(Table_Query_from_Great_Plains[[#This Row],[ITEMNMBR]],0)","v":"LON019"},"SM TRAY C-rope","RETAIL",0,100]
["LON020",{"$f":"TEXT(Table_Query_from_Great_Plains[[#This Row],[ITEMNMBR]],0)","v":"LON020"},"MED TRAY C-rope","RETAIL",0,100]
["LON021",{"$f":"TEXT(Table_Query_from_Great_Plains[[#This Row],[ITEMNMBR]],0)","v":"LON021"},"LARGE TRAY C-rope","RETAIL",0,100]
["LON022",{"$f":"TEXT(Table_Query_from_Great_Plains[[#This Row],[ITEMNMBR]],0)","v":"LON022"},"XLARGE TRAY C-rope","RETAIL",0,100]
["LON023",{"$f":"TEXT(Table_Query_from_Great_Plains[[#This Row],[ITEMNMBR]],0)","v":"LON023"},"XX LARGE TRAY C-rope","RETAIL",0,100]
["LON024",{"$f":"TEXT(Table_Query_from_Great_Plains[[#This Row],[ITEMNMBR]],0)","v":"LON024"},"SM TRAY D-simple","RETAIL",0,100]
["LON025",{"$f":"TEXT(Table_Query_from_Great_Plains[[#This Row],[ITEMNMBR]],0)","v":"LON025"},"MED TRAY D-simple","RETAIL",0,100]
["LON026",{"$f":"TEXT(Table_Query_from_Great_Plains[[#This Row],[ITEMNMBR]],0)","v":"LON026"},"LARGE TRAY D-simple","RETAIL",0,100]
["LON027",{"$f":"TEXT(Table_Query_from_Great_Plains[[#This Row],[ITEMNMBR]],0)","v":"LON027"},"XLG TRAY D-simple","RETAIL",0,100]
["LON028",{"$f":"TEXT(Table_Query_from_Great_Plains[[#This Row],[ITEMNMBR]],0)","v":"LON028"},"XXLarge Tray D-simple","RETAIL",0,100]
["LON029",{"$f":"TEXT(Table_Query_from_Great_Plains[[#This Row],[ITEMNMBR]],0)","v":"LON029"},"Barefoot Basket - Small","RETAIL",0,100]
["LON030",{"$f":"TEXT(Table_Query_from_Great_Plains[[#This Row],[ITEMNMBR]],0)","v":"LON030"},"Small Square Dark Willow with Wooden Ear Handles","RETAIL",0,100]
["LON031",{"$f":"TEXT(Table_Query_from_Great_Plains[[#This Row],[ITEMNMBR]],0)","v":"LON031"},"Double Wine Carrier","RETAIL",0,100]
["LON032",{"$f":"TEXT(Table_Query_from_Great_Plains[[#This Row],[ITEMNMBR]],0)","v":"LON032"},"Chipwood - Small","RETAIL",0,100]
["LON033",{"$f":"TEXT(Table_Query_from_Great_Plains[[#This Row],[ITEMNMBR]],0)","v":"LON033"},"Chipwood - Medium","RETAIL",0,100]
["LON034",{"$f":"TEXT(Table_Query_from_Great_Plains[[#This Row],[ITEMNMBR]],0)","v":"LON034"},"Chipwood - Large","RETAIL",0,100]
["LON035",{"$f":"TEXT(Table_Query_from_Great_Plains[[#This Row],[ITEMNMBR]],0)","v":"LON035"},"Golf Cooler Bag - Green/White","RETAIL",0,100]
["LON036",{"$f":"TEXT(Table_Query_from_Great_Plains[[#This Row],[ITEMNMBR]],0)","v":"LON036"},"Single Wine Basket Dark Willow with OverHandle","RETAIL",0,100]
["LON037",{"$f":"TEXT(Table_Query_from_Great_Plains[[#This Row],[ITEMNMBR]],0)","v":"LON037"},"Longhorn Basket - small square seagrass","RETAIL",0,100]
["LON038",{"$f":"TEXT(Table_Query_from_Great_Plains[[#This Row],[ITEMNMBR]],0)","v":"LON038"},"Mini Basket","RETAIL",0,100]
["LON039",{"$f":"TEXT(Table_Query_from_Great_Plains[[#This Row],[ITEMNMBR]],0)","v":"LON039"},"Golf Cooler Bag - Pink/White","RETAIL",0,100]
["LON040",{"$f":"TEXT(Table_Query_from_Great_Plains[[#This Row],[ITEMNMBR]],0)","v":"LON040"},"Fishing Creel","RETAIL",0,100]
["LON041",{"$f":"TEXT(Table_Query_from_Great_Plains[[#This Row],[ITEMNMBR]],0)","v":"LON041"},"Golf Wire Bucket","RETAIL",0,100]
["LON042",{"$f":"TEXT(Table_Query_from_Great_Plains[[#This Row],[ITEMNMBR]],0)","v":"LON042"},"Golf Cooler Bag - Blue/White","RETAIL",0,100]
["LON043",{"$f":"TEXT(Table_Query_from_Great_Plains[[#This Row],[ITEMNMBR]],0)","v":"LON043"},"Pink and White Gingham Basket (Baby Girl Basket)","RETAIL",0,100]
["LON044",{"$f":"TEXT(Table_Query_from_Great_Plains[[#This Row],[ITEMNMBR]],0)","v":"LON044"},"Blue and White Gingham Basket (Baby Boy Basket)","RETAIL",0,100]
["LWAM01",{"$f":"TEXT(Table_Query_from_Great_Plains[[#This Row],[ITEMNMBR]],0)","v":"LWAM01"},"Custom 6.5 Gallon Popcorn Tin - Asset Marketing Inc.","RETAIL",0,64.84]
["LWAM02",{"$f":"TEXT(Table_Query_from_Great_Plains[[#This Row],[ITEMNMBR]],0)","v":"LWAM02"},"Custom 6.5 Gallon Popcorn Tin - Asset Marketing Inc.","RETAIL",0,64.84]
["LWAM03",{"$f":"TEXT(Table_Query_from_Great_Plains[[#This Row],[ITEMNMBR]],0)","v":"LWAM03"},"Custom 3.5 Gallon Popcorn Tin - Asset Marketing Inc.","RETAIL",0,54.84]
["LWAP01",{"$f":"TEXT(Table_Query_from_Great_Plains[[#This Row],[ITEMNMBR]],0)","v":"LWAP01"},"Custom: Apple - Healthy Theme - XLG","RETAIL",0,180]
["LWAP02",{"$f":"TEXT(Table_Query_from_Great_Plains[[#This Row],[ITEMNMBR]],0)","v":"LWAP02"},"Custom: Apple - Healthy Theme - XXLG","RETAIL",0,380]
["LWAP03",{"$f":"TEXT(Table_Query_from_Great_Plains[[#This Row],[ITEMNMBR]],0)","v":"LWAP03"},"Custom: Apple - College Theme - XLG","RETAIL",0,180]
["LWAP04",{"$f":"TEXT(Table_Query_from_Great_Plains[[#This Row],[ITEMNMBR]],0)","v":"LWAP04"},"Custom: Apple - College Theme - XXLG","RETAIL",0,380]
["LWAP05",{"$f":"TEXT(Table_Query_from_Great_Plains[[#This Row],[ITEMNMBR]],0)","v":"LWAP05"},"Custom: Apple - Baked Goods Theme - XLG","RETAIL",0,180]
["LWAP06",{"$f":"TEXT(Table_Query_from_Great_Plains[[#This Row],[ITEMNMBR]],0)","v":"LWAP06"},"Custom: Apple - Baked Goods Theme - XXLG","RETAIL",0,380]
["LWAP07",{"$f":"TEXT(Table_Query_from_Great_Plains[[#This Row],[ITEMNMBR]],0)","v":"LWAP07"},"Custom Apple GGB baked goods XXL","RETAIL",0,360]
["LWBI01",{"$f":"TEXT(Table_Query_from_Great_Plains[[#This Row],[ITEMNMBR]],0)","v":"LWBI01"},"Custom 6.5 Gallon Popcorn Tin - 550 Biltmore","RETAIL",0,51.32]
["LWBP01",{"$f":"TEXT(Table_Query_from_Great_Plains[[#This Row],[ITEMNMBR]],0)","v":"LWBP01"},"Custom 6.5 Gallon Popcorn Tin - Center Point Business Park","RETAIL",0,56.18]
["LWCP01",{"$f":"TEXT(Table_Query_from_Great_Plains[[#This Row],[ITEMNMBR]],0)","v":"LWCP01"},"Custom: Circles - popcorn tin 2g (Lu)","RETAIL",0,47.49]
["LWCP02",{"$f":"TEXT(Table_Query_from_Great_Plains[[#This Row],[ITEMNMBR]],0)","v":"LWCP02"},"Custom: Circles - popcorn tin 3.5g (Lu)","RETAIL",0,56.99]
["LWCP03",{"$f":"TEXT(Table_Query_from_Great_Plains[[#This Row],[ITEMNMBR]],0)","v":"LWCP03"},"Custom: Circles - popcorn tin 6.5g (Lu)","RETAIL",0,66.489999999999995]
["LWDO01",{"$f":"TEXT(Table_Query_from_Great_Plains[[#This Row],[ITEMNMBR]],0)","v":"LWDO01"},"Custom: Dex One - Sports Enthusiast CP -  plus magnet","RETAIL",0,34.99]
["LWGD01",{"$f":"TEXT(Table_Query_from_Great_Plains[[#This Row],[ITEMNMBR]],0)","v":"LWGD01"},"Custom 3 Gallon Popcorn Tin -","RETAIL",0,44.68]
["LWGD02",{"$f":"TEXT(Table_Query_from_Great_Plains[[#This Row],[ITEMNMBR]],0)","v":"LWGD02"},"Custom 3 Gallon Popcorn Tin -","RETAIL",0,44.68]
["LWHC01",{"$f":"TEXT(Table_Query_from_Great_Plains[[#This Row],[ITEMNMBR]],0)","v":"LWHC01"},"Custom 6.5 Gallon Popcorn Tin - Huntington Centre","RETAIL",0,56.18]
["LWHM01",{"$f":"TEXT(Table_Query_from_Great_Plains[[#This Row],[ITEMNMBR]],0)","v":"LWHM01"},"Custom: Assets Marketing - 6.5 gallon Winter Pine Tin - Dark Chocolate Peppermint Popcorn (Lu)","RETAIL",0,0]
["LWJR01",{"$f":"TEXT(Table_Query_from_Great_Plains[[#This Row],[ITEMNMBR]],0)","v":"LWJR01"},"Custom Wine & Popcorn","RETAIL",1,77.989999999999995]
["LWMC01",{"$f":"TEXT(Table_Query_from_Great_Plains[[#This Row],[ITEMNMBR]],0)","v":"LWMC01"},"Custom 6.5 Gallon Popcorn Tin - Miramar Centre","RETAIL",0,56.18]
["LWMFL1",{"$f":"TEXT(Table_Query_from_Great_Plains[[#This Row],[ITEMNMBR]],0)","v":"LWMFL1"},"Custom: Morrison & Foerster Law Firm -student - coffee - cocoa - snacks (Lu)","RETAIL",0,25.99]
["LWMLF1",{"$f":"TEXT(Table_Query_from_Great_Plains[[#This Row],[ITEMNMBR]],0)","v":"LWMLF1"},"Custom: Maple Leaf Farms - Cakebreads (Lu)","RETAIL",1,277.99]
["LWMLF2",{"$f":"TEXT(Table_Query_from_Great_Plains[[#This Row],[ITEMNMBR]],0)","v":"LWMLF2"},"Custom: Maple Leaf Farms - Cakebreads 2 (Lu)","RETAIL",1,261.99]
["LWMP01",{"$f":"TEXT(Table_Query_from_Great_Plains[[#This Row],[ITEMNMBR]],0)","v":"LWMP01"},"Custom 6.5 Gallon Popcorn Tin - Compliments of Multi Property","RETAIL",0,51.32]
["LWOT01",{"$f":"TEXT(Table_Query_from_Great_Plains[[#This Row],[ITEMNMBR]],0)","v":"LWOT01"},"Custom 6.5 Gallon Popcorn Tin - One Town Center","RETAIL",0,66.34]
["LWPC01",{"$f":"TEXT(Table_Query_from_Great_Plains[[#This Row],[ITEMNMBR]],0)","v":"LWPC01"},"Custom 3.5 Gallon Popcorn Tin -","RETAIL",0,44.68]
["LWPZ01",{"$f":"TEXT(Table_Query_from_Great_Plains[[#This Row],[ITEMNMBR]],0)","v":"LWPZ01"},"Custom 6.5 Gallon Popcorn Tin - The Plaza Logo","RETAIL",0,66.34]
["LWRAS1",{"$f":"TEXT(Table_Query_from_Great_Plains[[#This Row],[ITEMNMBR]],0)","v":"LWRAS1"},"Custom:  RAS Data Services - Cakebread VIneyard Tour (Lu)","RETAIL",1,469.99]
["LWRFZC",{"$f":"TEXT(Table_Query_from_Great_Plains[[#This Row],[ITEMNMBR]],0)","v":"LWRFZC"},"Custom: Hotel Conference Gift Basket (Lu)","RETAIL",0,20]
["LWSKA1",{"$f":"TEXT(Table_Query_from_Great_Plains[[#This Row],[ITEMNMBR]],0)","v":"LWSKA1"},"Custom: SKA International  - bottle of Cabernet (Lu)","RETAIL",1,28.8]
["LWST01",{"$f":"TEXT(Table_Query_from_Great_Plains[[#This Row],[ITEMNMBR]],0)","v":"LWST01"},"Custom: SMI Travel - tower (Lu)","RETAIL",0,34.99]
["LWTA01",{"$f":"TEXT(Table_Query_from_Great_Plains[[#This Row],[ITEMNMBR]],0)","v":"LWTA01"},"Custom 6.5 Gallon Popcorn Tin - Tampa Distribution Center","RETAIL",0,51.32]
["LWVC01",{"$f":"TEXT(Table_Query_from_Great_Plains[[#This Row],[ITEMNMBR]],0)","v":"LWVC01"},"Custom 6.5 Gallon Popcorn Tin - Venture Corporate Center","RETAIL",0,76.28]
["LWWA01",{"$f":"TEXT(Table_Query_from_Great_Plains[[#This Row],[ITEMNMBR]],0)","v":"LWWA01"},"Custom 6.5 Gallon Popcorn Tin - Waterford","RETAIL",0,51.32]
["LWWA02",{"$f":"TEXT(Table_Query_from_Great_Plains[[#This Row],[ITEMNMBR]],0)","v":"LWWA02"},"Custom 3.5 Gallon Popcorn Tin - Waterford","RETAIL",0,41.32]
["LWWA03",{"$f":"TEXT(Table_Query_from_Great_Plains[[#This Row],[ITEMNMBR]],0)","v":"LWWA03"},"Custom 3.5 Gallon Popcorn Tin - Waterford","RETAIL",0,46.18]
["LWWA04",{"$f":"TEXT(Table_Query_from_Great_Plains[[#This Row],[ITEMNMBR]],0)","v":"LWWA04"},"Custom 3.5 Gallon Popcorn Tin - Waterford","RETAIL",0,46.18]
["LWWA05",{"$f":"TEXT(Table_Query_from_Great_Plains[[#This Row],[ITEMNMBR]],0)","v":"LWWA05"},"Custom 6.5 Gallon Popcorn Tin - Waterford","RETAIL",0,51.32]
["LWWA06",{"$f":"TEXT(Table_Query_from_Great_Plains[[#This Row],[ITEMNMBR]],0)","v":"LWWA06"},"Custom 3.5 Gallon Popcorn Tin - Waterford","RETAIL",0,41.32]
["LWWF01",{"$f":"TEXT(Table_Query_from_Great_Plains[[#This Row],[ITEMNMBR]],0)","v":"LWWF01"},"Custom 6.5 Gallon Popcorn Tin - Wells Fargo Center","RETAIL",0,56.18]
["LWWF02",{"$f":"TEXT(Table_Query_from_Great_Plains[[#This Row],[ITEMNMBR]],0)","v":"LWWF02"},"Custom 6.5 Gallon Popcorn Tin - Wells Fargo Center","RETAIL",0,60.93]
["LWWF03",{"$f":"TEXT(Table_Query_from_Great_Plains[[#This Row],[ITEMNMBR]],0)","v":"LWWF03"},"Custom 6.5 Gallon Popcorn Tin - Wells Fargo Center","RETAIL",0,64.13]
["LWWF04",{"$f":"TEXT(Table_Query_from_Great_Plains[[#This Row],[ITEMNMBR]],0)","v":"LWWF04"},"Custom 6.5 Gallon Popcorn Tin - Wells Fargo Center","RETAIL",0,64.13]
["LWWG01",{"$f":"TEXT(Table_Query_from_Great_Plains[[#This Row],[ITEMNMBR]],0)","v":"LWWG01"},"Custom:The Weiss Group - whimsical  triple chocolate popcorn (Lu)","RETAIL",0,24.99]
["LWWHS1",{"$f":"TEXT(Table_Query_from_Great_Plains[[#This Row],[ITEMNMBR]],0)","v":"LWWHS1"},"Custom:Wild Horse Suitcase  (Lu)","RETAIL",1,164.99]
["LWWSC1",{"$f":"TEXT(Table_Query_from_Great_Plains[[#This Row],[ITEMNMBR]],0)","v":"LWWSC1"},"Custom: WSC -  Toddler Gift Basket (Lu)","RETAIL",0,77.989999999999995]
["MAI005",{"$f":"TEXT(Table_Query_from_Great_Plains[[#This Row],[ITEMNMBR]],0)","v":"MAI005"},"Fireworks Popcorn Fork","RETAIL",0,100]
["MAR040",{"$f":"TEXT(Table_Query_from_Great_Plains[[#This Row],[ITEMNMBR]],0)","v":"MAR040"},"Chocolate Covered Blueberries by Marich - 10 oz. -","RETAIL",0,100]
["MAR041",{"$f":"TEXT(Table_Query_from_Great_Plains[[#This Row],[ITEMNMBR]],0)","v":"MAR041"},"Chocolate Covered Espresso Beans by Marich - 10 oz.","RETAIL",0,100]
["MAR042",{"$f":"TEXT(Table_Query_from_Great_Plains[[#This Row],[ITEMNMBR]],0)","v":"MAR042"},"Triple Chocolate Toffee Almonds by Marich - 10 oz. -","RETAIL",0,100]
["MAS001",{"$f":"TEXT(Table_Query_from_Great_Plains[[#This Row],[ITEMNMBR]],0)","v":"MAS001"},"Chocolate Fondue Set - RED","RETAIL",0,100]
["MFAB01",{"$f":"TEXT(Table_Query_from_Great_Plains[[#This Row],[ITEMNMBR]],0)","v":"MFAB01"},"Custom Family Basket","RETAIL",0,300]
["MFAD01",{"$f":"TEXT(Table_Query_from_Great_Plains[[#This Row],[ITEMNMBR]],0)","v":"MFAD01"},"Custom 5232 No Sausage","RETAIL",0,249.99]
["MFAD02",{"$f":"TEXT(Table_Query_from_Great_Plains[[#This Row],[ITEMNMBR]],0)","v":"MFAD02"},"Custom 4508 custom beer selection (Mike F.)","RETAIL",1,39.99]
["MFADP1",{"$f":"TEXT(Table_Query_from_Great_Plains[[#This Row],[ITEMNMBR]],0)","v":"MFADP1"},"Custom :  ADP Wine & Choc (Mike)","RETAIL",0,65]
["MFAG01",{"$f":"TEXT(Table_Query_from_Great_Plains[[#This Row],[ITEMNMBR]],0)","v":"MFAG01"},"Custom 5016 with wine for Mike","RETAIL",1,163.99]
["MFAG02",{"$f":"TEXT(Table_Query_from_Great_Plains[[#This Row],[ITEMNMBR]],0)","v":"MFAG02"},"Custom: Roll Out The Red Carpet with Gift Card (Mike)","RETAIL",0,133.99]
["MFALC1",{"$f":"TEXT(Table_Query_from_Great_Plains[[#This Row],[ITEMNMBR]],0)","v":"MFALC1"},"Custom: Alacon - snack classic with two bottles of stone ipa beer (Mike)","RETAIL",0,76.989999999999995]
["MFALZ1",{"$f":"TEXT(Table_Query_from_Great_Plains[[#This Row],[ITEMNMBR]],0)","v":"MFALZ1"},"Custom: 2 gal Traditional Popcorn (Caramel/Butter/Cheesy Cheddar) (Mike)","RETAIL",0,51.49]
["MFAP01",{"$f":"TEXT(Table_Query_from_Great_Plains[[#This Row],[ITEMNMBR]],0)","v":"MFAP01"},"Custom Cocktail Basket (Mike F.)","RETAIL",0,69.989999999999995]
["MFAP02",{"$f":"TEXT(Table_Query_from_Great_Plains[[#This Row],[ITEMNMBR]],0)","v":"MFAP02"},"Custom Grilling basket.. (Mike F.)","RETAIL",0,149.99]
["MFAP03",{"$f":"TEXT(Table_Query_from_Great_Plains[[#This Row],[ITEMNMBR]],0)","v":"MFAP03"},"Custom 4090","RETAIL",0,69.989999999999995]
["MFAS01",{"$f":"TEXT(Table_Query_from_Great_Plains[[#This Row],[ITEMNMBR]],0)","v":"MFAS01"},"Custom Wine Suitcase ( Mike )","RETAIL",1,173.5]
["MFASUR",{"$f":"TEXT(Table_Query_from_Great_Plains[[#This Row],[ITEMNMBR]],0)","v":"MFASUR"},"Custom pinot - crackers - cheese- dark chocolates ( Mike )","RETAIL",1,125.99]
["MFBB01",{"$f":"TEXT(Table_Query_from_Great_Plains[[#This Row],[ITEMNMBR]],0)","v":"MFBB01"},"Custom -- Back Bay Hotel  -- Boston  (Mike)","RETAIL",0,50]
["MFBD01",{"$f":"TEXT(Table_Query_from_Great_Plains[[#This Row],[ITEMNMBR]],0)","v":"MFBD01"},"Custom -- Wine - Microbrews - Dark Chocolates (Mike)","RETAIL",1,101]
["MFBD02",{"$f":"TEXT(Table_Query_from_Great_Plains[[#This Row],[ITEMNMBR]],0)","v":"MFBD02"},"Custom: junk food bucket  (Mike)","RETAIL",0,30]
["MFBD03",{"$f":"TEXT(Table_Query_from_Great_Plains[[#This Row],[ITEMNMBR]],0)","v":"MFBD03"},"Custom: Healthy Snacks with Cookies Stack  (Mike)","RETAIL",0,22]
["MFBD04",{"$f":"TEXT(Table_Query_from_Great_Plains[[#This Row],[ITEMNMBR]],0)","v":"MFBD04"},"Custom: Gluten Free Stack with added candies (Mike)","RETAIL",0,49.99]
["MFBI01",{"$f":"TEXT(Table_Query_from_Great_Plains[[#This Row],[ITEMNMBR]],0)","v":"MFBI01"},"Brother International Custom Basket","RETAIL",0,149.99]
["MFCC01",{"$f":"TEXT(Table_Query_from_Great_Plains[[#This Row],[ITEMNMBR]],0)","v":"MFCC01"},"Custom 4500 W/Candy Bar","RETAIL",0,66.989999999999995]
["MFCE01",{"$f":"TEXT(Table_Query_from_Great_Plains[[#This Row],[ITEMNMBR]],0)","v":"MFCE01"},"Custom: 4636 - add one small bunny (Mike)","RETAIL",0,93.99]
["MFCE02",{"$f":"TEXT(Table_Query_from_Great_Plains[[#This Row],[ITEMNMBR]],0)","v":"MFCE02"},"Custom: 4636 - add chocolate bunny plus candy (Mike)","RETAIL",0,110.99]
["MFCE03",{"$f":"TEXT(Table_Query_from_Great_Plains[[#This Row],[ITEMNMBR]],0)","v":"MFCE03"},"Custom: 4636 - plus extra candy (Mike)","RETAIL",0,116.99]
["MFCE04",{"$f":"TEXT(Table_Query_from_Great_Plains[[#This Row],[ITEMNMBR]],0)","v":"MFCE04"},"Custom: 4404 add 2 bunnies and chocolates (Mike)","RETAIL",0,132.99]
["MFCE05",{"$f":"TEXT(Table_Query_from_Great_Plains[[#This Row],[ITEMNMBR]],0)","v":"MFCE05"},"Custom: 4401 remove chese add candy (Mike)","RETAIL",0,64.989999999999995]
["MFCE06",{"$f":"TEXT(Table_Query_from_Great_Plains[[#This Row],[ITEMNMBR]],0)","v":"MFCE06"},"Custom: 4637 remove regular candies and more easter related candies (Mike)","RETAIL",0,103.99]
["MFCE07",{"$f":"TEXT(Table_Query_from_Great_Plains[[#This Row],[ITEMNMBR]],0)","v":"MFCE07"},"Custom: 4401 seasons sampler  + 4700 artisan chocolates  (Mike)","RETAIL",0,85.99]
["MFCE08",{"$f":"TEXT(Table_Query_from_Great_Plains[[#This Row],[ITEMNMBR]],0)","v":"MFCE08"},"Custom: 4321 plus almond roca  (Mike)","RETAIL",0,59.99]
["MFCE09",{"$f":"TEXT(Table_Query_from_Great_Plains[[#This Row],[ITEMNMBR]],0)","v":"MFCE09"},"Custom: Centerline Electric - Gluten & Dairy Free for young girl  (Mike)","RETAIL",0,59.99]
["MFCF01",{"$f":"TEXT(Table_Query_from_Great_Plains[[#This Row],[ITEMNMBR]],0)","v":"MFCF01"},"Custom snack premium plus kid items (Mike)","RETAIL",0,99.99]
["MFCH01",{"$f":"TEXT(Table_Query_from_Great_Plains[[#This Row],[ITEMNMBR]],0)","v":"MFCH01"},"Custom Snack with Red Wine ( Mike Fowler )","RETAIL",1,109.99]
["MFCH02",{"$f":"TEXT(Table_Query_from_Great_Plains[[#This Row],[ITEMNMBR]],0)","v":"MFCH02"},"Custom Snack with White Wine ( Mike Fowler )","RETAIL",1,109.99]
["MFCI01",{"$f":"TEXT(Table_Query_from_Great_Plains[[#This Row],[ITEMNMBR]],0)","v":"MFCI01"},"Custom --Cakebread, fruit, waters and candy (Mike)","RETAIL",1,329.99]
["MFCL01",{"$f":"TEXT(Table_Query_from_Great_Plains[[#This Row],[ITEMNMBR]],0)","v":"MFCL01"},"custom halloween no wheat or dairy (Mike)","RETAIL",0,79.989999999999995]
["MFCL02",{"$f":"TEXT(Table_Query_from_Great_Plains[[#This Row],[ITEMNMBR]],0)","v":"MFCL02"},"Custom 4381 add chocolates (Mike)","RETAIL",0,79.989999999999995]
["MFCL03",{"$f":"TEXT(Table_Query_from_Great_Plains[[#This Row],[ITEMNMBR]],0)","v":"MFCL03"},"Custom 4381 no wheat or dairy (Mike)","RETAIL",0,79.989999999999995]
["MFCL04",{"$f":"TEXT(Table_Query_from_Great_Plains[[#This Row],[ITEMNMBR]],0)","v":"MFCL04"},"Custom 4381 with extra candy (Mike)","RETAIL",0,79.989999999999995]
["MFCL05",{"$f":"TEXT(Table_Query_from_Great_Plains[[#This Row],[ITEMNMBR]],0)","v":"MFCL05"},"Custom: 5210 with  fruit & extra chocolates (Mike)","RETAIL",0,79.989999999999995]
["MFCL06",{"$f":"TEXT(Table_Query_from_Great_Plains[[#This Row],[ITEMNMBR]],0)","v":"MFCL06"},"Custom: fruit  - wheat and dairy free snacks (Mike)","RETAIL",0,79.989999999999995]
["MFCL07",{"$f":"TEXT(Table_Query_from_Great_Plains[[#This Row],[ITEMNMBR]],0)","v":"MFCL07"},"Custom 5210 with extra candy (Mike)","RETAIL",0,79.989999999999995]
["MFCL08",{"$f":"TEXT(Table_Query_from_Great_Plains[[#This Row],[ITEMNMBR]],0)","v":"MFCL08"},"Custom: Fruit Basket (Mike)","RETAIL",0,50]
["MFCL09",{"$f":"TEXT(Table_Query_from_Great_Plains[[#This Row],[ITEMNMBR]],0)","v":"MFCL09"},"Custom:Easter Fruit Basket (Mike)","RETAIL",0,69.989999999999995]
["MFCL10",{"$f":"TEXT(Table_Query_from_Great_Plains[[#This Row],[ITEMNMBR]],0)","v":"MFCL10"},"Custom:Centerline Electric - Breakfast Basket (Mike)","RETAIL",0,134.99]
["MFCL11",{"$f":"TEXT(Table_Query_from_Great_Plains[[#This Row],[ITEMNMBR]],0)","v":"MFCL11"},"Custom: Centerline Electric - Fruit & Gluten Free Snacks (Mike)","RETAIL",0,64.989999999999995]
["MFCL12",{"$f":"TEXT(Table_Query_from_Great_Plains[[#This Row],[ITEMNMBR]],0)","v":"MFCL12"},"Custom: Centerline Electric - Halloween Care Package -(( no spider)) (Mike)","RETAIL",0,79.989999999999995]
["MFCM01",{"$f":"TEXT(Table_Query_from_Great_Plains[[#This Row],[ITEMNMBR]],0)","v":"MFCM01"},"Custom: Conway Mackenzie - Wine & Snacks Family Style (Mike)","RETAIL",1,89.99]
["MFCM02",{"$f":"TEXT(Table_Query_from_Great_Plains[[#This Row],[ITEMNMBR]],0)","v":"MFCM02"},"Custom: Conway Mackenzie - Snacks Family Style (Mike)","RETAIL",0,89.99]
["MFCO01",{"$f":"TEXT(Table_Query_from_Great_Plains[[#This Row],[ITEMNMBR]],0)","v":"MFCO01"},"Custom: Silver Oak  (Mike)","RETAIL",1,202.99]
["MFCP01",{"$f":"TEXT(Table_Query_from_Great_Plains[[#This Row],[ITEMNMBR]],0)","v":"MFCP01"},"Custom:  Coyne PR - Happy Holiday Snacker x3 (Mike)","RETAIL",1,150]
["MFCP02",{"$f":"TEXT(Table_Query_from_Great_Plains[[#This Row],[ITEMNMBR]],0)","v":"MFCP02"},"Custom:  Coyne PR - Happy Holiday Snacker x6 (Mike)","RETAIL",1,150]
["MFCS01",{"$f":"TEXT(Table_Query_from_Great_Plains[[#This Row],[ITEMNMBR]],0)","v":"MFCS01"},"Dog Items, Snack and Sweets - Mike F.","RETAIL",0,167.99]
["MFCS02",{"$f":"TEXT(Table_Query_from_Great_Plains[[#This Row],[ITEMNMBR]],0)","v":"MFCS02"},"Custom:  Snacks and Sweets (with csi oils) -1 - (Mike)","RETAIL",0,50]
["MFCS03",{"$f":"TEXT(Table_Query_from_Great_Plains[[#This Row],[ITEMNMBR]],0)","v":"MFCS03"},"Custom:  Snacks and Sweets (with csi oils) -2 - (Mike)","RETAIL",0,75]
["MFCS04",{"$f":"TEXT(Table_Query_from_Great_Plains[[#This Row],[ITEMNMBR]],0)","v":"MFCS04"},"Custom:  Snacks and Sweets (with csi oils) -3 - (Mike)","RETAIL",0,100]
["MFCT01",{"$f":"TEXT(Table_Query_from_Great_Plains[[#This Row],[ITEMNMBR]],0)","v":"MFCT01"},"Custom:Carahsoft Gift Tower - 6801 plus 2 csi  (Mike)","RETAIL",0,39.99]
["MFCW01",{"$f":"TEXT(Table_Query_from_Great_Plains[[#This Row],[ITEMNMBR]],0)","v":"MFCW01"},"Custom Bountiful Harvest no Meat or Cheese (Mike F.)","RETAIL",0,115.99]
["MFCW02",{"$f":"TEXT(Table_Query_from_Great_Plains[[#This Row],[ITEMNMBR]],0)","v":"MFCW02"},"Custom: Wine - Golf - Snacks  (Mike F.)","RETAIL",1,100]
["MFCW03",{"$f":"TEXT(Table_Query_from_Great_Plains[[#This Row],[ITEMNMBR]],0)","v":"MFCW03"},"Custom:Baby Boy Gift basket with gourmet snacks (Mike)","RETAIL",0,124.99]
["MFCW04",{"$f":"TEXT(Table_Query_from_Great_Plains[[#This Row],[ITEMNMBR]],0)","v":"MFCW04"},"Custom:Baby Girl Gift basket with gourmet snacks (Mike)","RETAIL",0,180]
["MFCW05",{"$f":"TEXT(Table_Query_from_Great_Plains[[#This Row],[ITEMNMBR]],0)","v":"MFCW05"},"Custom: Snacks and Sweets (Mike)","RETAIL",0,225]
["MFCW06",{"$f":"TEXT(Table_Query_from_Great_Plains[[#This Row],[ITEMNMBR]],0)","v":"MFCW06"},"Custom: chocolate stack (Mike)","RETAIL",0,61.99]
["MFCW07",{"$f":"TEXT(Table_Query_from_Great_Plains[[#This Row],[ITEMNMBR]],0)","v":"MFCW07"},"Custom:C&WDirect -  Chocolate (Mike)","RETAIL",0,55]
["MFCW08",{"$f":"TEXT(Table_Query_from_Great_Plains[[#This Row],[ITEMNMBR]],0)","v":"MFCW08"},"Custom:C&WDirect -  baby girl plus snacks  (Mike)","RETAIL",0,79.989999999999995]
["MFCW09",{"$f":"TEXT(Table_Query_from_Great_Plains[[#This Row],[ITEMNMBR]],0)","v":"MFCW09"},"Custom:C&WDirect -  Get Well Basket (Mike)","RETAIL",0,141.99]
["MFCW10",{"$f":"TEXT(Table_Query_from_Great_Plains[[#This Row],[ITEMNMBR]],0)","v":"MFCW10"},"Custom:C&WDirect -  teas, nuts, chocolates & fruits (Mike)","RETAIL",0,199.99]
["MFCW11",{"$f":"TEXT(Table_Query_from_Great_Plains[[#This Row],[ITEMNMBR]],0)","v":"MFCW11"},"Custom:C&WDirect - Dried Fruit, Nuts, Jams, & Chocolates (Mike)","RETAIL",0,80]
["MFCW4",{"$f":"TEXT(Table_Query_from_Great_Plains[[#This Row],[ITEMNMBR]],0)","v":"MFCW4"},"Custom - The Care Package","RETAIL",0,315]
["MFDE01",{"$f":"TEXT(Table_Query_from_Great_Plains[[#This Row],[ITEMNMBR]],0)","v":"MFDE01"},"Custom - Wine, Cheese, Crackers, New Baby Boy  (Mike)","RETAIL",0,129.99]
["MFDN01",{"$f":"TEXT(Table_Query_from_Great_Plains[[#This Row],[ITEMNMBR]],0)","v":"MFDN01"},"Custom -- Red wine basket  (Mike)","RETAIL",1,99.99]
["MFEP01",{"$f":"TEXT(Table_Query_from_Great_Plains[[#This Row],[ITEMNMBR]],0)","v":"MFEP01"},"Custom : Epromos - Silver Oak-Alexander Valley  plus snacks  (Mike)","RETAIL",1,138.99]
["MFES01",{"$f":"TEXT(Table_Query_from_Great_Plains[[#This Row],[ITEMNMBR]],0)","v":"MFES01"},"Custom Fruit Basket ( Mike Fowler )","RETAIL",0,83.99]
["MFFA01",{"$f":"TEXT(Table_Query_from_Great_Plains[[#This Row],[ITEMNMBR]],0)","v":"MFFA01"},"Custom :  First American Tile - Holiday Popcorn  (Mike)","RETAIL",0,59.99]
["MFFC01",{"$f":"TEXT(Table_Query_from_Great_Plains[[#This Row],[ITEMNMBR]],0)","v":"MFFC01"},"Custom Round to Remember ( Mike Fowler )","RETAIL",0,116.99]
["MFFC02",{"$f":"TEXT(Table_Query_from_Great_Plains[[#This Row],[ITEMNMBR]],0)","v":"MFFC02"},"Custom Baby Basket ( Mike )","RETAIL",1,197.32]
["MFFC03",{"$f":"TEXT(Table_Query_from_Great_Plains[[#This Row],[ITEMNMBR]],0)","v":"MFFC03"},"Custom Spa (Mike)","RETAIL",0,90]
["MFFL01",{"$f":"TEXT(Table_Query_from_Great_Plains[[#This Row],[ITEMNMBR]],0)","v":"MFFL01"},"Custom: healthy with oranges and choc cherries ( Mike )","RETAIL",0,154.99]
["MFFL02",{"$f":"TEXT(Table_Query_from_Great_Plains[[#This Row],[ITEMNMBR]],0)","v":"MFFL02"},"Custom: The New England Architectural Center - breakfast ( Mike )","RETAIL",0,101.99]
["MFFT01",{"$f":"TEXT(Table_Query_from_Great_Plains[[#This Row],[ITEMNMBR]],0)","v":"MFFT01"},"Custom: Frontline Technologies - stack (Mike F.)","RETAIL",0,15]
["MFFT02",{"$f":"TEXT(Table_Query_from_Great_Plains[[#This Row],[ITEMNMBR]],0)","v":"MFFT02"},"Custom: Frontline Technologies - mini  (Mike F.)","RETAIL",0,20]
["MFFT03",{"$f":"TEXT(Table_Query_from_Great_Plains[[#This Row],[ITEMNMBR]],0)","v":"MFFT03"},"Custom: Frontline Technologies - Coffee Break w/ Mug (Mike F.)","RETAIL",0,34.99]
["MFFT04",{"$f":"TEXT(Table_Query_from_Great_Plains[[#This Row],[ITEMNMBR]],0)","v":"MFFT04"},"Custom: Frontline Technologies - Snack Premium w/ Mugs (Mike F.)","RETAIL",0,79.989999999999995]
["MFFT05",{"$f":"TEXT(Table_Query_from_Great_Plains[[#This Row],[ITEMNMBR]],0)","v":"MFFT05"},"Custom: Frontline Technologies - stack- 2 mugs (Mike F.)","RETAIL",0,15]
["MFFT06",{"$f":"TEXT(Table_Query_from_Great_Plains[[#This Row],[ITEMNMBR]],0)","v":"MFFT06"},"Custom: Frontline Technologies - Tea & Cookies - 2 mugs (Mike F.)","RETAIL",0,79.989999999999995]
["MFFT07",{"$f":"TEXT(Table_Query_from_Great_Plains[[#This Row],[ITEMNMBR]],0)","v":"MFFT07"},"Custom: Frontline Technologies - March Madness Snacks &Treats Plus  (Mike F.)","RETAIL",0,75]
["MFFT08",{"$f":"TEXT(Table_Query_from_Great_Plains[[#This Row],[ITEMNMBR]],0)","v":"MFFT08"},"Custom: Frontline Technologies - 2 mugs chai and cookies  (Mike F.)","RETAIL",0,29.99]
["MFFT09",{"$f":"TEXT(Table_Query_from_Great_Plains[[#This Row],[ITEMNMBR]],0)","v":"MFFT09"},"Custom: Frontline Technologies - Tea & Cookies - 1mug (Mike F.)","RETAIL",0,79.989999999999995]
["MFFT10",{"$f":"TEXT(Table_Query_from_Great_Plains[[#This Row],[ITEMNMBR]],0)","v":"MFFT10"},"Custom: Frontline Technologies - 4061 with two csi items (Mike F.)","RETAIL",0,69.989999999999995]
["MFFTL1",{"$f":"TEXT(Table_Query_from_Great_Plains[[#This Row],[ITEMNMBR]],0)","v":"MFFTL1"},"Custom: Foot Locker - Football Theme (Mike)","RETAIL",0,125]
["MFFTL2",{"$f":"TEXT(Table_Query_from_Great_Plains[[#This Row],[ITEMNMBR]],0)","v":"MFFTL2"},"Custom: Foot Locker - care package 1 (Mike)","RETAIL",0,140]
["MFFTL3",{"$f":"TEXT(Table_Query_from_Great_Plains[[#This Row],[ITEMNMBR]],0)","v":"MFFTL3"},"Custom: Foot Locker - care package 2 (Mike)","RETAIL",0,150]
["MFFTL4",{"$f":"TEXT(Table_Query_from_Great_Plains[[#This Row],[ITEMNMBR]],0)","v":"MFFTL4"},"Custom: Foot Locker - Energy booster - Gatorade, protein bars, popcorn (Mike)","RETAIL",0,67.5]
["MFFTL5",{"$f":"TEXT(Table_Query_from_Great_Plains[[#This Row],[ITEMNMBR]],0)","v":"MFFTL5"},"Custom: Foot Locker - Snack Basket  (Mike)","RETAIL",0,175]
["MFFTL6",{"$f":"TEXT(Table_Query_from_Great_Plains[[#This Row],[ITEMNMBR]],0)","v":"MFFTL6"},"Custom: Foot Locker - Snack Ultimate Care Package  (Mike)","RETAIL",0,149.99]
["MFGA01",{"$f":"TEXT(Table_Query_from_Great_Plains[[#This Row],[ITEMNMBR]],0)","v":"MFGA01"},"Custom: Gavilon - holiday triple chocolate caramel popcorn tin - (Mike)","RETAIL",0,24.99]
["MFGB01",{"$f":"TEXT(Table_Query_from_Great_Plains[[#This Row],[ITEMNMBR]],0)","v":"MFGB01"},"Custom Corona Bucket ( Mike )","RETAIL",1,79.989999999999995]
["MFGC01",{"$f":"TEXT(Table_Query_from_Great_Plains[[#This Row],[ITEMNMBR]],0)","v":"MFGC01"},"Custom Guy Carpenter Coffee Choc Basket","RETAIL",0,47]
["MFGC02",{"$f":"TEXT(Table_Query_from_Great_Plains[[#This Row],[ITEMNMBR]],0)","v":"MFGC02"},"Custom Guy Carpenter Chocolate Tower (Mike)","RETAIL",0,50]
["MFGT01",{"$f":"TEXT(Table_Query_from_Great_Plains[[#This Row],[ITEMNMBR]],0)","v":"MFGT01"},"Custom Sweets & Treats ( Mike Fowler )","RETAIL",0,51.99]
["MFGT02",{"$f":"TEXT(Table_Query_from_Great_Plains[[#This Row],[ITEMNMBR]],0)","v":"MFGT02"},"Custom: Soup ( Mike Fowler )","RETAIL",0,80.989999999999995]
["MFHB01",{"$f":"TEXT(Table_Query_from_Great_Plains[[#This Row],[ITEMNMBR]],0)","v":"MFHB01"},"Custom - HBO - Fruits and Snacks (Mike)","RETAIL",0,156.99]
["MFHBO1",{"$f":"TEXT(Table_Query_from_Great_Plains[[#This Row],[ITEMNMBR]],0)","v":"MFHBO1"},"Custom --Twizzers & Chocolates (Mike)","RETAIL",0,60]
["MFHD01",{"$f":"TEXT(Table_Query_from_Great_Plains[[#This Row],[ITEMNMBR]],0)","v":"MFHD01"},"Custom - Red Wine, Cigar and Chocolate Basket (Mike)","RETAIL",1,100]
["MFHD02",{"$f":"TEXT(Table_Query_from_Great_Plains[[#This Row],[ITEMNMBR]],0)","v":"MFHD02"},"Custom - Snacks & Sweets Basket (Mike)","RETAIL",0,400]
["MFHI01",{"$f":"TEXT(Table_Query_from_Great_Plains[[#This Row],[ITEMNMBR]],0)","v":"MFHI01"},"Custom","RETAIL",0,84.08]
["MFHL01",{"$f":"TEXT(Table_Query_from_Great_Plains[[#This Row],[ITEMNMBR]],0)","v":"MFHL01"},"Custom -  Hagan Law Group - Boxed Dom (Mike)","RETAIL",1,158.99]
["MFHN01",{"$f":"TEXT(Table_Query_from_Great_Plains[[#This Row],[ITEMNMBR]],0)","v":"MFHN01"},"Custom - serendipty - calming / relaxation spa - (Mike)","RETAIL",0,183.99]
["MFHN02",{"$f":"TEXT(Table_Query_from_Great_Plains[[#This Row],[ITEMNMBR]],0)","v":"MFHN02"},"Custom Body Creams ~lotions~(Mike)","RETAIL",0,63.99]
["MFHZ01",{"$f":"TEXT(Table_Query_from_Great_Plains[[#This Row],[ITEMNMBR]],0)","v":"MFHZ01"},"Custom: snack ultimate  (Mike)","RETAIL",0,149.99]
["MFIN01",{"$f":"TEXT(Table_Query_from_Great_Plains[[#This Row],[ITEMNMBR]],0)","v":"MFIN01"},"Custom : red wine snacks and chocolates (Mike)","RETAIL",1,99.99]
["MFIZ01",{"$f":"TEXT(Table_Query_from_Great_Plains[[#This Row],[ITEMNMBR]],0)","v":"MFIZ01"},"Custom : snack classic w/ black & white ribbon (Mike)","RETAIL",0,68.989999999999995]
["MFJM01",{"$f":"TEXT(Table_Query_from_Great_Plains[[#This Row],[ITEMNMBR]],0)","v":"MFJM01"},"Custom deck the halls with/out chocolates (Mike)","RETAIL",0,58.99]
["MFJS01",{"$f":"TEXT(Table_Query_from_Great_Plains[[#This Row],[ITEMNMBR]],0)","v":"MFJS01"},"Custom wine basket (Mike)","RETAIL",1,133.99]
["MFKA01",{"$f":"TEXT(Table_Query_from_Great_Plains[[#This Row],[ITEMNMBR]],0)","v":"MFKA01"},"Custom: Bistango Restaurant - 5090 with gift card (Mike)","RETAIL",1,89.99]
["MFKA02",{"$f":"TEXT(Table_Query_from_Great_Plains[[#This Row],[ITEMNMBR]],0)","v":"MFKA02"},"Custom: Aureolo Restaurant - 5090 with gift card (Mike)","RETAIL",1,89.99]
["MFKO01",{"$f":"TEXT(Table_Query_from_Great_Plains[[#This Row],[ITEMNMBR]],0)","v":"MFKO01"},"Custom: Natures Picnic  (Mike)","RETAIL",0,75]
["MFKO02",{"$f":"TEXT(Table_Query_from_Great_Plains[[#This Row],[ITEMNMBR]],0)","v":"MFKO02"},"Custom: Fruit Basket  (Mike)","RETAIL",0,100]
["MFKO03",{"$f":"TEXT(Table_Query_from_Great_Plains[[#This Row],[ITEMNMBR]],0)","v":"MFKO03"},"Custom: Kalamazoo Orthodontics - 5140 - swap wine out for sparking cider  (Mike)","RETAIL",0,59.99]
["MFLG01",{"$f":"TEXT(Table_Query_from_Great_Plains[[#This Row],[ITEMNMBR]],0)","v":"MFLG01"},"Custom: fruit and snacks ( Mike )","RETAIL",0,100]
["MFLL01",{"$f":"TEXT(Table_Query_from_Great_Plains[[#This Row],[ITEMNMBR]],0)","v":"MFLL01"},"Custom Irish Beer Bucket ( Mike Fowler )","RETAIL",1,78.989999999999995]
["MFLUM1",{"$f":"TEXT(Table_Query_from_Great_Plains[[#This Row],[ITEMNMBR]],0)","v":"MFLUM1"},"Custom: Luminations - fruit, snacks - whoopies - (Mike)","RETAIL",0,56.99]
["MFLUM2",{"$f":"TEXT(Table_Query_from_Great_Plains[[#This Row],[ITEMNMBR]],0)","v":"MFLUM2"},"Custom: Luminations - fruit, snacks - baked goods  (Mike)","RETAIL",0,113.99]
["MFLUM3",{"$f":"TEXT(Table_Query_from_Great_Plains[[#This Row],[ITEMNMBR]],0)","v":"MFLUM3"},"Custom: Luminations - fruit, snacks - baked goods  (Mike)","RETAIL",0,113.99]
["MFLUM4",{"$f":"TEXT(Table_Query_from_Great_Plains[[#This Row],[ITEMNMBR]],0)","v":"MFLUM4"},"Custom: Luminations - fruit, snacks - baked goods  (Mike)","RETAIL",0,113.99]
["MFLUM5",{"$f":"TEXT(Table_Query_from_Great_Plains[[#This Row],[ITEMNMBR]],0)","v":"MFLUM5"},"Custom: Luminations - Healthy Snacks and Fruit   (Mike)","RETAIL",0,109.99]
["MFLUM6",{"$f":"TEXT(Table_Query_from_Great_Plains[[#This Row],[ITEMNMBR]],0)","v":"MFLUM6"},"Custom: Luminations - Fruit, Snacks, Chocolates & Baked Goods with added Spice Jars mid lev   (Mike)","RETAIL",0,50]
["MFLUM7",{"$f":"TEXT(Table_Query_from_Great_Plains[[#This Row],[ITEMNMBR]],0)","v":"MFLUM7"},"Custom: Luminations - Fruit, Snacks, Chocolates & Baked Goods with added Spice Jars up lev   (Mike)","RETAIL",0,100]
["MFLUM8",{"$f":"TEXT(Table_Query_from_Great_Plains[[#This Row],[ITEMNMBR]],0)","v":"MFLUM8"},"Custom: Luminations - Fruit, Snacks, Chocolates & Baked Goods with added Spice Jars up lev   (Mike)","RETAIL",0,100]
["MFLUM9",{"$f":"TEXT(Table_Query_from_Great_Plains[[#This Row],[ITEMNMBR]],0)","v":"MFLUM9"},"Custom: Luminations - cookie brittle  (Mike)","RETAIL",0,0]
["MFMCS1",{"$f":"TEXT(Table_Query_from_Great_Plains[[#This Row],[ITEMNMBR]],0)","v":"MFMCS1"},"Custom: Rose Champagne , Coffee & Chocolates ( Mike )","RETAIL",1,160.99]
["MFML01",{"$f":"TEXT(Table_Query_from_Great_Plains[[#This Row],[ITEMNMBR]],0)","v":"MFML01"},"Custom Exam Cram (Mike F.)","RETAIL",0,46.99]
["MFMM01",{"$f":"TEXT(Table_Query_from_Great_Plains[[#This Row],[ITEMNMBR]],0)","v":"MFMM01"},"Custom:Madison Mott - Day in Paris - with glasses (Mike)","RETAIL",0,109.99]
["MFMR01",{"$f":"TEXT(Table_Query_from_Great_Plains[[#This Row],[ITEMNMBR]],0)","v":"MFMR01"},"Custom 4503 no peanuts or peanut butter pretzels for Mike","RETAIL",1,144.99]
["MFMT01",{"$f":"TEXT(Table_Query_from_Great_Plains[[#This Row],[ITEMNMBR]],0)","v":"MFMT01"},"Custom: popcorn ( Mike )","RETAIL",0,990]
["MFMT02",{"$f":"TEXT(Table_Query_from_Great_Plains[[#This Row],[ITEMNMBR]],0)","v":"MFMT02"},"Custom: New Baby Boy - Spa and Chocolates for Mom  (Mike)","RETAIL",0,100]
["MFNA01",{"$f":"TEXT(Table_Query_from_Great_Plains[[#This Row],[ITEMNMBR]],0)","v":"MFNA01"},"custom italian mini (different basket) (Mike)","RETAIL",0,20]
["MFNE01",{"$f":"TEXT(Table_Query_from_Great_Plains[[#This Row],[ITEMNMBR]],0)","v":"MFNE01"},"Custom : coffee- tea- snacks - chocolates","RETAIL",0,69.989999999999995]
["MFNE02",{"$f":"TEXT(Table_Query_from_Great_Plains[[#This Row],[ITEMNMBR]],0)","v":"MFNE02"},"Custom snack basket for MIke","RETAIL",0,51.99]
["MFNET1",{"$f":"TEXT(Table_Query_from_Great_Plains[[#This Row],[ITEMNMBR]],0)","v":"MFNET1"},"Custom - Orchards Abundance with wine (Mike)","RETAIL",1,179.99]
["MFNM01",{"$f":"TEXT(Table_Query_from_Great_Plains[[#This Row],[ITEMNMBR]],0)","v":"MFNM01"},"Custom: 4047 plus wild horse merlot and chardonnay ( Mike )","RETAIL",1,189.99]
["MFNP01",{"$f":"TEXT(Table_Query_from_Great_Plains[[#This Row],[ITEMNMBR]],0)","v":"MFNP01"},"Custom Snack 1 Mug ( Mike )","RETAIL",0,59.99]
["MFNP02",{"$f":"TEXT(Table_Query_from_Great_Plains[[#This Row],[ITEMNMBR]],0)","v":"MFNP02"},"Custom Snack 2 Mugs ( Mike )","RETAIL",0,59.99]
["MFNP03",{"$f":"TEXT(Table_Query_from_Great_Plains[[#This Row],[ITEMNMBR]],0)","v":"MFNP03"},"Custom Snack 4 Mugs ( Mike )","RETAIL",0,59.99]
["MFNP04",{"$f":"TEXT(Table_Query_from_Great_Plains[[#This Row],[ITEMNMBR]],0)","v":"MFNP04"},"Custom nova point of sales chocolate ultimate for *Yossi* (mike)","RETAIL",0,179.99]
["MFNP05",{"$f":"TEXT(Table_Query_from_Great_Plains[[#This Row],[ITEMNMBR]],0)","v":"MFNP05"},"Custom nova point of sales chocolate premium for *Efrat* (mike)","RETAIL",0,99.99]
["MFNP06",{"$f":"TEXT(Table_Query_from_Great_Plains[[#This Row],[ITEMNMBR]],0)","v":"MFNP06"},"Custom nova point of sales chocolate premium for*Avi* (mike)","RETAIL",0,99.99]
["MFNP07",{"$f":"TEXT(Table_Query_from_Great_Plains[[#This Row],[ITEMNMBR]],0)","v":"MFNP07"},"Custom Nova Point Classic Snack with 2 mugs and card ( Mike )","RETAIL",0,59.99]
["MFNP08",{"$f":"TEXT(Table_Query_from_Great_Plains[[#This Row],[ITEMNMBR]],0)","v":"MFNP08"},"Custom Nova Point of Sales Snack Classic with 4 mugs for Gala & Jason ( Mike )","RETAIL",0,59.99]
["MFNP09",{"$f":"TEXT(Table_Query_from_Great_Plains[[#This Row],[ITEMNMBR]],0)","v":"MFNP09"},"Custom Nova Point of Sales Snack Classic with 2 mugs for Vicki ( Mike )","RETAIL",0,59.99]
["MFNP10",{"$f":"TEXT(Table_Query_from_Great_Plains[[#This Row],[ITEMNMBR]],0)","v":"MFNP10"},"Custom Nova Point of Sales Snack Classic with 2 mugs for Doris ( Mike )","RETAIL",0,59.99]
["MFNP11",{"$f":"TEXT(Table_Query_from_Great_Plains[[#This Row],[ITEMNMBR]],0)","v":"MFNP11"},"Custom Nova Point of Sales Snack Classic with 2 mugs for Leeta ( Mike )","RETAIL",0,59.99]
["MFNP12",{"$f":"TEXT(Table_Query_from_Great_Plains[[#This Row],[ITEMNMBR]],0)","v":"MFNP12"},"Custom Nova Point of Sales - Chocolate Mini plus customer supplied items (Mike)","RETAIL",0,24.99]
["MFNP13",{"$f":"TEXT(Table_Query_from_Great_Plains[[#This Row],[ITEMNMBR]],0)","v":"MFNP13"},"Custom Nova Point of Sales - Chocolate Mini plus customer supplied items (Mike)","RETAIL",0,24.99]
["MFNP14",{"$f":"TEXT(Table_Query_from_Great_Plains[[#This Row],[ITEMNMBR]],0)","v":"MFNP14"},"Custom Nova Point of Sales -  Sweets & Treats Gift Tower - plus white mug (Mike)","RETAIL",0,39.99]
["MFNP15",{"$f":"TEXT(Table_Query_from_Great_Plains[[#This Row],[ITEMNMBR]],0)","v":"MFNP15"},"Custom Nova Point of Sales -  Sweets & Treats Gift Tower - plus black mug (Mike)","RETAIL",0,39.99]
["MFNP16",{"$f":"TEXT(Table_Query_from_Great_Plains[[#This Row],[ITEMNMBR]],0)","v":"MFNP16"},"Custom Nova Point of Sales -  Moet, cookies,coffee, chocolates with black& white mug (Mike)","RETAIL",1,100]
["MFNP17",{"$f":"TEXT(Table_Query_from_Great_Plains[[#This Row],[ITEMNMBR]],0)","v":"MFNP17"},"Custom Nova Point of Sales - pretzels, popcorn, pepsi, and a black mug (Mike)","RETAIL",0,60]
["MFNP18",{"$f":"TEXT(Table_Query_from_Great_Plains[[#This Row],[ITEMNMBR]],0)","v":"MFNP18"},"Custom Nova Point of Sales - Valentines 2014 (Mike)","RETAIL",0,92.99]
["MFNPT01",{"$f":"TEXT(Table_Query_from_Great_Plains[[#This Row],[ITEMNMBR]],0)","v":"MFNPT01"},"Custom WC snacks and chocolate (Mike)","RETAIL",0,55]
["MFNR01",{"$f":"TEXT(Table_Query_from_Great_Plains[[#This Row],[ITEMNMBR]],0)","v":"MFNR01"},"Custom get well basket (Mike)","RETAIL",0,98.99]
["MFNS01",{"$f":"TEXT(Table_Query_from_Great_Plains[[#This Row],[ITEMNMBR]],0)","v":"MFNS01"},"Custom:  Nelsons  - healthy  / organic ( Mike )","RETAIL",0,39.99]
["MFOM01",{"$f":"TEXT(Table_Query_from_Great_Plains[[#This Row],[ITEMNMBR]],0)","v":"MFOM01"},"Custom: snack classic.. color change ( Mike )","RETAIL",0,59.99]
["MFOS01",{"$f":"TEXT(Table_Query_from_Great_Plains[[#This Row],[ITEMNMBR]],0)","v":"MFOS01"},"Custom Champagne trio and chocolates Mike)","RETAIL",1,329.99]
["MFOS02",{"$f":"TEXT(Table_Query_from_Great_Plains[[#This Row],[ITEMNMBR]],0)","v":"MFOS02"},"Custom Champagne quatro and chocolates Mike)","RETAIL",1,659.99]
["MFPC01",{"$f":"TEXT(Table_Query_from_Great_Plains[[#This Row],[ITEMNMBR]],0)","v":"MFPC01"},"Custom healthy deluxe remove the salsa... (Mike)","RETAIL",0,99.99]
["MFPD01",{"$f":"TEXT(Table_Query_from_Great_Plains[[#This Row],[ITEMNMBR]],0)","v":"MFPD01"},"Custom: Power Disigns Inc snacks and csi (Mike)","RETAIL",0,49.99]
["MFPD02",{"$f":"TEXT(Table_Query_from_Great_Plains[[#This Row],[ITEMNMBR]],0)","v":"MFPD02"},"Custom: Power Disigns Inc snacks and csi 2 (Mike)","RETAIL",0,29.99]
["MFPD03",{"$f":"TEXT(Table_Query_from_Great_Plains[[#This Row],[ITEMNMBR]],0)","v":"MFPD03"},"Custom: Power Disigns Inc snacks (Mike)","RETAIL",0,29.99]
["MFPH01",{"$f":"TEXT(Table_Query_from_Great_Plains[[#This Row],[ITEMNMBR]],0)","v":"MFPH01"},"Custom Cakebread White Wine ( Mike Fowler )","RETAIL",1,149.99]
["MFPH02",{"$f":"TEXT(Table_Query_from_Great_Plains[[#This Row],[ITEMNMBR]],0)","v":"MFPH02"},"Custom Cakebread Red  Wine ( Mike Fowler )","RETAIL",1,207.99]
["MFPH03",{"$f":"TEXT(Table_Query_from_Great_Plains[[#This Row],[ITEMNMBR]],0)","v":"MFPH03"},"Custom Tour of Italy with cakebread wine for (Mike)","RETAIL",1,321.99]
["MFPT01",{"$f":"TEXT(Table_Query_from_Great_Plains[[#This Row],[ITEMNMBR]],0)","v":"MFPT01"},"Custom WC snacks and chocolate (Mike)","RETAIL",0,55]
["MFPU01",{"$f":"TEXT(Table_Query_from_Great_Plains[[#This Row],[ITEMNMBR]],0)","v":"MFPU01"},"Custom -42 sampler Popcorn Bags of Cheesy Cheddar (Mike)","RETAIL",0,168]
["MFPU02",{"$f":"TEXT(Table_Query_from_Great_Plains[[#This Row],[ITEMNMBR]],0)","v":"MFPU02"},"Custom -50 sampler Popcorn Bags of Cookies and Cream (Mike)","RETAIL",0,225]
["MFPU03",{"$f":"TEXT(Table_Query_from_Great_Plains[[#This Row],[ITEMNMBR]],0)","v":"MFPU03"},"Custom -49 sampler Popcorn Bags of Salt & Vinegar (Mike)","RETAIL",0,196]
["MFRS01",{"$f":"TEXT(Table_Query_from_Great_Plains[[#This Row],[ITEMNMBR]],0)","v":"MFRS01"},"Custom **Italian Holiday** (Mike)","RETAIL",0,140]
["MFRS02",{"$f":"TEXT(Table_Query_from_Great_Plains[[#This Row],[ITEMNMBR]],0)","v":"MFRS02"},"Custom **Pizza Making Fun for the Holiday** (Mike)","RETAIL",0,175]
["MFSA01",{"$f":"TEXT(Table_Query_from_Great_Plains[[#This Row],[ITEMNMBR]],0)","v":"MFSA01"},"Custom: Tower with Thanksgiving Theme Snacks (Mike)","RETAIL",0,59.99]
["MFSB01",{"$f":"TEXT(Table_Query_from_Great_Plains[[#This Row],[ITEMNMBR]],0)","v":"MFSB01"},"Custom: snacks  (Mike)","RETAIL",0,62]
["MFSC01",{"$f":"TEXT(Table_Query_from_Great_Plains[[#This Row],[ITEMNMBR]],0)","v":"MFSC01"},"Custom: Savant Capital  - snack one ( Mike )","RETAIL",0,50]
["MFSC02",{"$f":"TEXT(Table_Query_from_Great_Plains[[#This Row],[ITEMNMBR]],0)","v":"MFSC02"},"Custom: Savant Capital  - snack two ( Mike )","RETAIL",0,50]
["MFSC03",{"$f":"TEXT(Table_Query_from_Great_Plains[[#This Row],[ITEMNMBR]],0)","v":"MFSC03"},"Custom: Savant Capital  - snack three ( Mike )","RETAIL",0,20]
["MFSC04",{"$f":"TEXT(Table_Query_from_Great_Plains[[#This Row],[ITEMNMBR]],0)","v":"MFSC04"},"Custom: Savant Capital  - snack four ( Mike )","RETAIL",0,20]
["MFSC05",{"$f":"TEXT(Table_Query_from_Great_Plains[[#This Row],[ITEMNMBR]],0)","v":"MFSC05"},"Custom: Savant Capital  - 20 -( Mike )","RETAIL",0,20]
["MFSC06",{"$f":"TEXT(Table_Query_from_Great_Plains[[#This Row],[ITEMNMBR]],0)","v":"MFSC06"},"Custom: Savant Capital  - 50 -( Mike )","RETAIL",0,50]
["MFSC07",{"$f":"TEXT(Table_Query_from_Great_Plains[[#This Row],[ITEMNMBR]],0)","v":"MFSC07"},"Custom: Savant Capital  - Veuve -( Mike )","RETAIL",1,65]
["MFSC08",{"$f":"TEXT(Table_Query_from_Great_Plains[[#This Row],[ITEMNMBR]],0)","v":"MFSC08"},"Custom: Savant Capital  - snack - 8 - ( Mike )","RETAIL",0,20]
["MFSC09",{"$f":"TEXT(Table_Query_from_Great_Plains[[#This Row],[ITEMNMBR]],0)","v":"MFSC09"},"Custom: Savant Capital  - snack - 9 - ( Mike )","RETAIL",0,20]
["MFSC10",{"$f":"TEXT(Table_Query_from_Great_Plains[[#This Row],[ITEMNMBR]],0)","v":"MFSC10"},"Custom: Savant Capital  - snack - 10 - ( Mike )","RETAIL",0,50]
["MFSC11",{"$f":"TEXT(Table_Query_from_Great_Plains[[#This Row],[ITEMNMBR]],0)","v":"MFSC11"},"Custom: Savant Capital  - snack - 11 - ( Mike )","RETAIL",0,50]
["MFSC12",{"$f":"TEXT(Table_Query_from_Great_Plains[[#This Row],[ITEMNMBR]],0)","v":"MFSC12"},"Custom: Savant Capital  - snack - 12 - ( Mike )","RETAIL",0,21]
["MFSC13",{"$f":"TEXT(Table_Query_from_Great_Plains[[#This Row],[ITEMNMBR]],0)","v":"MFSC13"},"Custom: Savant Capital  - snack - 13 - ( Mike )","RETAIL",0,50]
["MFSC14",{"$f":"TEXT(Table_Query_from_Great_Plains[[#This Row],[ITEMNMBR]],0)","v":"MFSC14"},"Custom: Savant Capital  -  Moet & Snacks","RETAIL",1,80]
["MFSC15",{"$f":"TEXT(Table_Query_from_Great_Plains[[#This Row],[ITEMNMBR]],0)","v":"MFSC15"},"Custom: Savant Capital  - snack basket - ( Mike )","RETAIL",0,20]
["MFSC16",{"$f":"TEXT(Table_Query_from_Great_Plains[[#This Row],[ITEMNMBR]],0)","v":"MFSC16"},"Custom: Savant Capital  - snack basket 2- ( Mike )","RETAIL",0,50]
["MFSC17",{"$f":"TEXT(Table_Query_from_Great_Plains[[#This Row],[ITEMNMBR]],0)","v":"MFSC17"},"Custom: Savant Capital  - fruit snacks and sweets ( Mike )","RETAIL",0,50]
["MFSCC1",{"$f":"TEXT(Table_Query_from_Great_Plains[[#This Row],[ITEMNMBR]],0)","v":"MFSCC1"},"Custom:  Cookies in small tower box - 2D - (Mike)","RETAIL",0,35]
["MFSCC2",{"$f":"TEXT(Table_Query_from_Great_Plains[[#This Row],[ITEMNMBR]],0)","v":"MFSCC2"},"Custom:  Cookies in small tower box - 3D - (Mike)","RETAIL",0,45]
["MFSCC3",{"$f":"TEXT(Table_Query_from_Great_Plains[[#This Row],[ITEMNMBR]],0)","v":"MFSCC3"},"Custom:  Cookies in small tower box - 4D - (Mike)","RETAIL",0,55]
["MFSCC4",{"$f":"TEXT(Table_Query_from_Great_Plains[[#This Row],[ITEMNMBR]],0)","v":"MFSCC4"},"Custom:  Cookies in small tower box - 8D - (Mike)","RETAIL",0,100]
["MFSCC5",{"$f":"TEXT(Table_Query_from_Great_Plains[[#This Row],[ITEMNMBR]],0)","v":"MFSCC5"},"Custom:  Cookies in small tower box - 17D - (Mike)","RETAIL",0,205]
["MFSCC6",{"$f":"TEXT(Table_Query_from_Great_Plains[[#This Row],[ITEMNMBR]],0)","v":"MFSCC6"},"Custom:  Cookies in small tower box - 5D - (Mike)","RETAIL",0,65]
["MFSCC7",{"$f":"TEXT(Table_Query_from_Great_Plains[[#This Row],[ITEMNMBR]],0)","v":"MFSCC7"},"Custom:  Cookies in small tower box - 1D - (Mike)","RETAIL",0,18]
["MFSCC8",{"$f":"TEXT(Table_Query_from_Great_Plains[[#This Row],[ITEMNMBR]],0)","v":"MFSCC8"},"Custom:  Cookies in small tower box - 1&1/2 D - (Mike)","RETAIL",0,25]
["MFSD01",{"$f":"TEXT(Table_Query_from_Great_Plains[[#This Row],[ITEMNMBR]],0)","v":"MFSD01"},"Custom Basket for 20 Employees","RETAIL",0,299.99]
["MFSE01",{"$f":"TEXT(Table_Query_from_Great_Plains[[#This Row],[ITEMNMBR]],0)","v":"MFSE01"},"Custom Snack Classic","RETAIL",0,69.989999999999995]
["MFSG01",{"$f":"TEXT(Table_Query_from_Great_Plains[[#This Row],[ITEMNMBR]],0)","v":"MFSG01"},"Custom : Coors Light Tailgate fun  ( Mike )","RETAIL",0,171.99]
["MFSH01",{"$f":"TEXT(Table_Query_from_Great_Plains[[#This Row],[ITEMNMBR]],0)","v":"MFSH01"},"Custom red wine and snacks - small bucket (Mike)","RETAIL",1,70]
["MFSH02",{"$f":"TEXT(Table_Query_from_Great_Plains[[#This Row],[ITEMNMBR]],0)","v":"MFSH02"},"Custom white wine and snacks - small bucket (Mike)","RETAIL",1,70]
["MFSL01",{"$f":"TEXT(Table_Query_from_Great_Plains[[#This Row],[ITEMNMBR]],0)","v":"MFSL01"},"custom: Sleepy's - care package w/ csi  (mike)","RETAIL",0,19]
["MFSL02",{"$f":"TEXT(Table_Query_from_Great_Plains[[#This Row],[ITEMNMBR]],0)","v":"MFSL02"},"custom: Sleepy's - care package2 w/ csi  (mike)","RETAIL",0,19]
["MFSO01",{"$f":"TEXT(Table_Query_from_Great_Plains[[#This Row],[ITEMNMBR]],0)","v":"MFSO01"},"Custom: Peroni beer plus snacks (Mke)","RETAIL",1,165.99]
["MFSO02",{"$f":"TEXT(Table_Query_from_Great_Plains[[#This Row],[ITEMNMBR]],0)","v":"MFSO02"},"Custom: Peroni beer plus snacks (Mke)","RETAIL",1,158.99]
["MFSO03",{"$f":"TEXT(Table_Query_from_Great_Plains[[#This Row],[ITEMNMBR]],0)","v":"MFSO03"},"Custom: Bear hugzz care pkg  (Mke)","RETAIL",0,59.99]
["MFSO04",{"$f":"TEXT(Table_Query_from_Great_Plains[[#This Row],[ITEMNMBR]],0)","v":"MFSO04"},"Custom: Peroni beer plus gluten free snacks (Mke)","RETAIL",1,165.99]
["MFSP01",{"$f":"TEXT(Table_Query_from_Great_Plains[[#This Row],[ITEMNMBR]],0)","v":"MFSP01"},"Custom: Midnight Snack and Health Nut Combo ( Mike )","RETAIL",0,97.99]
["MFSS01",{"$f":"TEXT(Table_Query_from_Great_Plains[[#This Row],[ITEMNMBR]],0)","v":"MFSS01"},"Custom Italian with Chianti","RETAIL",1,149.99]
["MFST01",{"$f":"TEXT(Table_Query_from_Great_Plains[[#This Row],[ITEMNMBR]],0)","v":"MFST01"},"Custom: SDI Technologies - coffee tea and cookies - (Mike)","RETAIL",0,79.989999999999995]
["MFST02",{"$f":"TEXT(Table_Query_from_Great_Plains[[#This Row],[ITEMNMBR]],0)","v":"MFST02"},"Custom: SDI Technologies - coffee tea and cookies larger - (Mike / Tim)","RETAIL",0,100]
["MFST03",{"$f":"TEXT(Table_Query_from_Great_Plains[[#This Row],[ITEMNMBR]],0)","v":"MFST03"},"Custom Tea & Cookie Small for Mike","RETAIL",0,69.989999999999995]
["MFSU01",{"$f":"TEXT(Table_Query_from_Great_Plains[[#This Row],[ITEMNMBR]],0)","v":"MFSU01"},"Custom: SRI Trang - baked goods ( Mike )","RETAIL",0,73.989999999999995]
["MFSU02",{"$f":"TEXT(Table_Query_from_Great_Plains[[#This Row],[ITEMNMBR]],0)","v":"MFSU02"},"Custom: SRI Trang - baked goods  plus nut mini ( Mike )","RETAIL",0,81.99]
["MFTP01",{"$f":"TEXT(Table_Query_from_Great_Plains[[#This Row],[ITEMNMBR]],0)","v":"MFTP01"},"Custom Junk Food Bucket","RETAIL",0,39.99]
["MFTS01",{"$f":"TEXT(Table_Query_from_Great_Plains[[#This Row],[ITEMNMBR]],0)","v":"MFTS01"},"Custom: Estate Collection *removing sausage*  ( Mike )","RETAIL",0,183.99]
["MFUO01",{"$f":"TEXT(Table_Query_from_Great_Plains[[#This Row],[ITEMNMBR]],0)","v":"MFUO01"},"Custom Popcorn, Snacks, Junk Food (Mike F)","RETAIL",0,400]
["MFUS01",{"$f":"TEXT(Table_Query_from_Great_Plains[[#This Row],[ITEMNMBR]],0)","v":"MFUS01"},"Custom: U.S. Diagnostics - 5230 - with added Snow Globe ( Mike )","RETAIL",0,149.99]
["MFUS02",{"$f":"TEXT(Table_Query_from_Great_Plains[[#This Row],[ITEMNMBR]],0)","v":"MFUS02"},"Custom: U.S. Diagnostics - 5342 - with added Snow Globe ( Mike )","RETAIL",0,59.99]
["MFUS03",{"$f":"TEXT(Table_Query_from_Great_Plains[[#This Row],[ITEMNMBR]],0)","v":"MFUS03"},"Custom: U.S. Diagnostics - 6822 - with added Snow Globe ( Mike )","RETAIL",0,39.99]
["MFVE01",{"$f":"TEXT(Table_Query_from_Great_Plains[[#This Row],[ITEMNMBR]],0)","v":"MFVE01"},"Custom Easter Jumbo ( Mike Fowler )","RETAIL",0,200]
["MFVP01",{"$f":"TEXT(Table_Query_from_Great_Plains[[#This Row],[ITEMNMBR]],0)","v":"MFVP01"},"Custom:Silver Oak Trio with snacks and sweets (Mike F.)","RETAIL",1,399.99]
["MFVP02",{"$f":"TEXT(Table_Query_from_Great_Plains[[#This Row],[ITEMNMBR]],0)","v":"MFVP02"},"Custom:Silver Oak Trio with snacks and sweets Kosher version (Mike F.)","RETAIL",1,399.99]
["MFVPO1",{"$f":"TEXT(Table_Query_from_Great_Plains[[#This Row],[ITEMNMBR]],0)","v":"MFVPO1"},"Custom:Silver Oak Trio with snacks and sweets (Mike F.)","RETAIL",1,399.99]
["MFWB01",{"$f":"TEXT(Table_Query_from_Great_Plains[[#This Row],[ITEMNMBR]],0)","v":"MFWB01"},"Custom Bountiful with no sausage","RETAIL",0,122.99]
["MFWC01",{"$f":"TEXT(Table_Query_from_Great_Plains[[#This Row],[ITEMNMBR]],0)","v":"MFWC01"},"Custom: Weill Cornell Imaging - chocolate classic added items ( Mike )","RETAIL",0,79.989999999999995]
["MFWC02",{"$f":"TEXT(Table_Query_from_Great_Plains[[#This Row],[ITEMNMBR]],0)","v":"MFWC02"},"Custom: Weill Cornell Imaging - chocolate classic  adjusted items ( Mike )","RETAIL",0,59.99]
["MFWC03",{"$f":"TEXT(Table_Query_from_Great_Plains[[#This Row],[ITEMNMBR]],0)","v":"MFWC03"},"Custom: Weill Cornell Imaging - chocolate premium- color change ( Mike )","RETAIL",0,99.99]
["MFWC04",{"$f":"TEXT(Table_Query_from_Great_Plains[[#This Row],[ITEMNMBR]],0)","v":"MFWC04"},"Custom: Weill Cornell Imaging - festive favorites - color change ( Mike )","RETAIL",0,39.99]
["MFWC05",{"$f":"TEXT(Table_Query_from_Great_Plains[[#This Row],[ITEMNMBR]],0)","v":"MFWC05"},"Custom:Weill Cornell Imaging- Healthy Classic Style ( Mike )","RETAIL",0,59.99]
["MFWC06",{"$f":"TEXT(Table_Query_from_Great_Plains[[#This Row],[ITEMNMBR]],0)","v":"MFWC06"},"Custom: Weill Cornell Imaging -Timeless Treats  - no cheese  ( Mike )","RETAIL",0,39.99]
["MFWC07",{"$f":"TEXT(Table_Query_from_Great_Plains[[#This Row],[ITEMNMBR]],0)","v":"MFWC07"},"Custom: Weill Cornell Imaging -Christmas Deluxe - No Cheese  ( Mike )","RETAIL",0,99.99]
["MFWC08",{"$f":"TEXT(Table_Query_from_Great_Plains[[#This Row],[ITEMNMBR]],0)","v":"MFWC08"},"Custom: Weill Cornell Imaging -Christmas Premium - No Cheese  ( Mike )","RETAIL",0,79.989999999999995]
["MFWC09",{"$f":"TEXT(Table_Query_from_Great_Plains[[#This Row],[ITEMNMBR]],0)","v":"MFWC09"},"Custom: Weill Cornell Imaging -Christmas Classic- No Cheese  ( Mike )","RETAIL",0,59.99]
["MFWC10",{"$f":"TEXT(Table_Query_from_Great_Plains[[#This Row],[ITEMNMBR]],0)","v":"MFWC10"},"Custom: Weill Cornell Imaging -5220   ( Mike )","RETAIL",0,99.99]
["MFWC11",{"$f":"TEXT(Table_Query_from_Great_Plains[[#This Row],[ITEMNMBR]],0)","v":"MFWC11"},"Custom: Weill Cornell Imaging -4101   ( Mike )","RETAIL",0,49.99]
["MFWS01",{"$f":"TEXT(Table_Query_from_Great_Plains[[#This Row],[ITEMNMBR]],0)","v":"MFWS01"},"Custom:Cakebread Red Wine Countryside ( Mike )","RETAIL",1,124.99]
["MGD64",{"$f":"TEXT(Table_Query_from_Great_Plains[[#This Row],[ITEMNMBR]],0)","v":"MGD64"},"MGD64 - Custom Basket","RETAIL",0,19.989999999999998]
["MIC001",{"$f":"TEXT(Table_Query_from_Great_Plains[[#This Row],[ITEMNMBR]],0)","v":"MIC001"},"Baby Dear Blue Baby Gown","RETAIL",0,100]
["MIC002",{"$f":"TEXT(Table_Query_from_Great_Plains[[#This Row],[ITEMNMBR]],0)","v":"MIC002"},"Baby Dear Pink Baby Gown","RETAIL",0,100]
["MIC003",{"$f":"TEXT(Table_Query_from_Great_Plains[[#This Row],[ITEMNMBR]],0)","v":"MIC003"},"Baby Dear Yellow Baby Gown","RETAIL",0,100]
["MIC004",{"$f":"TEXT(Table_Query_from_Great_Plains[[#This Row],[ITEMNMBR]],0)","v":"MIC004"},"Baby Dear Blue Bib","RETAIL",0,100]
["MIC005",{"$f":"TEXT(Table_Query_from_Great_Plains[[#This Row],[ITEMNMBR]],0)","v":"MIC005"},"Baby Dear Pink Bib","RETAIL",0,100]
["MIC006",{"$f":"TEXT(Table_Query_from_Great_Plains[[#This Row],[ITEMNMBR]],0)","v":"MIC006"},"Baby Dear Yellow Bib","RETAIL",0,100]
["MIC007",{"$f":"TEXT(Table_Query_from_Great_Plains[[#This Row],[ITEMNMBR]],0)","v":"MIC007"},"Baby Dear Blue Baby Burp Cloth","RETAIL",0,100]
["MIC008",{"$f":"TEXT(Table_Query_from_Great_Plains[[#This Row],[ITEMNMBR]],0)","v":"MIC008"},"Baby Dear Pink Baby Burp CLoth","RETAIL",0,100]
["MIC009",{"$f":"TEXT(Table_Query_from_Great_Plains[[#This Row],[ITEMNMBR]],0)","v":"MIC009"},"Baby Dear Yellow Baby Burp Cloth","RETAIL",0,100]
["MIC010",{"$f":"TEXT(Table_Query_from_Great_Plains[[#This Row],[ITEMNMBR]],0)","v":"MIC010"},"Baby Dear Blue Baby Recieving Blanket","RETAIL",0,100]
["MIC011",{"$f":"TEXT(Table_Query_from_Great_Plains[[#This Row],[ITEMNMBR]],0)","v":"MIC011"},"Baby Dear Pink Baby Recieving Blanket","RETAIL",0,100]
["MIC012",{"$f":"TEXT(Table_Query_from_Great_Plains[[#This Row],[ITEMNMBR]],0)","v":"MIC012"},"Baby Dear Yellow Baby Recieving Blanket","RETAIL",0,100]
["MIC013",{"$f":"TEXT(Table_Query_from_Great_Plains[[#This Row],[ITEMNMBR]],0)","v":"MIC013"},"Baby Dear Blue Towel Gift Set","RETAIL",0,100]
["MIC014",{"$f":"TEXT(Table_Query_from_Great_Plains[[#This Row],[ITEMNMBR]],0)","v":"MIC014"},"Baby Dear Pink Towel Gift Set","RETAIL",0,100]
["MIC015",{"$f":"TEXT(Table_Query_from_Great_Plains[[#This Row],[ITEMNMBR]],0)","v":"MIC015"},"Baby Dear Yellow Towel Gift Set","RETAIL",0,100]
["MISC-FRUIT&GOURMET",{"$f":"TEXT(Table_Query_from_Great_Plains[[#This Row],[ITEMNMBR]],0)","v":"MISC-FRUIT&GOURMET"},"Misc - Fruit & Gourmet","RETAIL",0,0]
["MKR001",{"$f":"TEXT(Table_Query_from_Great_Plains[[#This Row],[ITEMNMBR]],0)","v":"MKR001"},"GourmetGiftBaskets.com Fruit Stickers","RETAIL",0,100]
["MNNP02",{"$f":"TEXT(Table_Query_from_Great_Plains[[#This Row],[ITEMNMBR]],0)","v":"MNNP02"},"Custom Snack 2 Mugs ( Mike )","RETAIL",0,59.99]
["NAP001",{"$f":"TEXT(Table_Query_from_Great_Plains[[#This Row],[ITEMNMBR]],0)","v":"NAP001"},"Napco Watering Can Assorted Colors 5.5\"","RETAIL",0,100]
["NAS001",{"$f":"TEXT(Table_Query_from_Great_Plains[[#This Row],[ITEMNMBR]],0)","v":"NAS001"},"Nashville Wraps Cello Bag 16 x 24","RETAIL",0,100]
["NAS002",{"$f":"TEXT(Table_Query_from_Great_Plains[[#This Row],[ITEMNMBR]],0)","v":"NAS002"},"Nashville Wraps 20 x 30 Cello Bag","RETAIL",0,100]
["NAS003",{"$f":"TEXT(Table_Query_from_Great_Plains[[#This Row],[ITEMNMBR]],0)","v":"NAS003"},"Nashville Wraps 12 x 4 x 20 Cello Bag","RETAIL",0,100]
["NAS004",{"$f":"TEXT(Table_Query_from_Great_Plains[[#This Row],[ITEMNMBR]],0)","v":"NAS004"},"Nashville Wraps 8 x 4 x 18 Cello Bag","RETAIL",0,100]
["NAS005",{"$f":"TEXT(Table_Query_from_Great_Plains[[#This Row],[ITEMNMBR]],0)","v":"NAS005"},"Nashville Wraps 25 x 30 Cello Bag","RETAIL",0,100]
["NAS006",{"$f":"TEXT(Table_Query_from_Great_Plains[[#This Row],[ITEMNMBR]],0)","v":"NAS006"},"Nashville Wraps 18x30 Cello Bag","RETAIL",0,100]
["NAS007",{"$f":"TEXT(Table_Query_from_Great_Plains[[#This Row],[ITEMNMBR]],0)","v":"NAS007"},"3M Clear Tape 2\" x 55yds- DO NOT ORDER FROM HERE-taa","RETAIL",0,100]
["NEW025",{"$f":"TEXT(Table_Query_from_Great_Plains[[#This Row],[ITEMNMBR]],0)","v":"NEW025"},"Ketel One Vodka","RETAIL",0,100]
["NF00CP",{"$f":"TEXT(Table_Query_from_Great_Plains[[#This Row],[ITEMNMBR]],0)","v":"NF00CP"},"Custom Nut Free Spring FInals CP","RETAIL",0,39.99]
["NF01CP",{"$f":"TEXT(Table_Query_from_Great_Plains[[#This Row],[ITEMNMBR]],0)","v":"NF01CP"},"Custom Nut Free Spring Midterms CP","RETAIL",0,39.99]
["NF02CP",{"$f":"TEXT(Table_Query_from_Great_Plains[[#This Row],[ITEMNMBR]],0)","v":"NF02CP"},"Custom Nut Free Back to School CP","RETAIL",0,39.99]
["NF03CP",{"$f":"TEXT(Table_Query_from_Great_Plains[[#This Row],[ITEMNMBR]],0)","v":"NF03CP"},"Custom Nut Free Fall Finals CP","RETAIL",0,39.99]
["NF04CP",{"$f":"TEXT(Table_Query_from_Great_Plains[[#This Row],[ITEMNMBR]],0)","v":"NF04CP"},"Custom Nut Free Fall Midterms CP","RETAIL",0,39.99]
["NF07CP",{"$f":"TEXT(Table_Query_from_Great_Plains[[#This Row],[ITEMNMBR]],0)","v":"NF07CP"},"Custom Nut Free Birthday CP","RETAIL",0,49.99]
["NF10CP",{"$f":"TEXT(Table_Query_from_Great_Plains[[#This Row],[ITEMNMBR]],0)","v":"NF10CP"},"Custom Nut Free Valentine's CP","RETAIL",0,39.99]
["NF11CP",{"$f":"TEXT(Table_Query_from_Great_Plains[[#This Row],[ITEMNMBR]],0)","v":"NF11CP"},"Custom Nut Free Spring Sunrise CP","RETAIL",0,39.99]
["NFHWCP",{"$f":"TEXT(Table_Query_from_Great_Plains[[#This Row],[ITEMNMBR]],0)","v":"NFHWCP"},"Custom Nut Free Halloween CP","RETAIL",0,39.99]
["NOR004",{"$f":"TEXT(Table_Query_from_Great_Plains[[#This Row],[ITEMNMBR]],0)","v":"NOR004"},"Smoked Sausage by Northwoods - 7 oz. -","RETAIL",0,100]
["NOR008",{"$f":"TEXT(Table_Query_from_Great_Plains[[#This Row],[ITEMNMBR]],0)","v":"NOR008"},"Summer Sausage by Northwoods - 3 oz. -","RETAIL",0,100]
["NOR010",{"$f":"TEXT(Table_Query_from_Great_Plains[[#This Row],[ITEMNMBR]],0)","v":"NOR010"},"Salami by Northwoods - 3 oz. -","RETAIL",0,100]
["NYYHLG",{"$f":"TEXT(Table_Query_from_Great_Plains[[#This Row],[ITEMNMBR]],0)","v":"NYYHLG"},"Yankees Hoodie Large","RETAIL",0,100]
["OLD005",{"$f":"TEXT(Table_Query_from_Great_Plains[[#This Row],[ITEMNMBR]],0)","v":"OLD005"},"Double Dipped Peanuts by Old Dominion Peanut Company - 3 oz. -","RETAIL",0,100]
["ORI001",{"$f":"TEXT(Table_Query_from_Great_Plains[[#This Row],[ITEMNMBR]],0)","v":"ORI001"},"Oriental Trading Co. Crayola Colored Pencils 12 ct","RETAIL",0,100]
["ORI006",{"$f":"TEXT(Table_Query_from_Great_Plains[[#This Row],[ITEMNMBR]],0)","v":"ORI006"},"Oriental Trading Co. Breast Cancer Awareness Ribbon Car Magnet 8\"","RETAIL",0,100]
["ORI007",{"$f":"TEXT(Table_Query_from_Great_Plains[[#This Row],[ITEMNMBR]],0)","v":"ORI007"},"Oriental Trading Co. Breast Cancer Awareness Tote Bag 8 3/4\"","RETAIL",0,100]
["ORI008",{"$f":"TEXT(Table_Query_from_Great_Plains[[#This Row],[ITEMNMBR]],0)","v":"ORI008"},"Oriental Trading Co. Breast Cancer Sayings Bracelet 8\"","RETAIL",0,100]
["ORI009",{"$f":"TEXT(Table_Query_from_Great_Plains[[#This Row],[ITEMNMBR]],0)","v":"ORI009"},"Oriental Trading Co. Plastic Bright Patterned Easter Eggs 2.33\"","RETAIL",0,100]
["ORI010",{"$f":"TEXT(Table_Query_from_Great_Plains[[#This Row],[ITEMNMBR]],0)","v":"ORI010"},"Oriental Trading Co. Plastic Toy Filled Eggs 2.25\"","RETAIL",0,100]
["ORI011",{"$f":"TEXT(Table_Query_from_Great_Plains[[#This Row],[ITEMNMBR]],0)","v":"ORI011"},"Oriental Trading Co. Pacon Sunworks Construction Paper 50 ct","RETAIL",0,100]
["ORI012",{"$f":"TEXT(Table_Query_from_Great_Plains[[#This Row],[ITEMNMBR]],0)","v":"ORI012"},"Oriental Trading Co. Crayola Crayons 8 pack","RETAIL",0,100]
["ORI013",{"$f":"TEXT(Table_Query_from_Great_Plains[[#This Row],[ITEMNMBR]],0)","v":"ORI013"},"Oriental Trading Co. Skittles Pastels Fun Size 1 oz","RETAIL",0,100]
["ORI015",{"$f":"TEXT(Table_Query_from_Great_Plains[[#This Row],[ITEMNMBR]],0)","v":"ORI015"},"Oriental Trading Co. Easter Mini Beach Ball","RETAIL",0,100]
["ORI016",{"$f":"TEXT(Table_Query_from_Great_Plains[[#This Row],[ITEMNMBR]],0)","v":"ORI016"},"Oriental Trading Co.Springtime Activity Pad Assortment","RETAIL",0,100]
["ORI017",{"$f":"TEXT(Table_Query_from_Great_Plains[[#This Row],[ITEMNMBR]],0)","v":"ORI017"},"Oriental Trading Co. Carrot Candy Containers","RETAIL",0,100]
["ORI019",{"$f":"TEXT(Table_Query_from_Great_Plains[[#This Row],[ITEMNMBR]],0)","v":"ORI019"},"Glow in the Dark Vampire Fangs","RETAIL",0,100]
["ORI020",{"$f":"TEXT(Table_Query_from_Great_Plains[[#This Row],[ITEMNMBR]],0)","v":"ORI020"},"Colorful Spider Ring","RETAIL",0,100]
["PEA001",{"$f":"TEXT(Table_Query_from_Great_Plains[[#This Row],[ITEMNMBR]],0)","v":"PEA001"},"Peachtree Card","RETAIL",0,0]
["PEA003",{"$f":"TEXT(Table_Query_from_Great_Plains[[#This Row],[ITEMNMBR]],0)","v":"PEA003"},"Peach Tree Silver Boxed Pen","RETAIL",0,100]
["PEA004",{"$f":"TEXT(Table_Query_from_Great_Plains[[#This Row],[ITEMNMBR]],0)","v":"PEA004"},"Peach Tree Ice Scraper","RETAIL",0,100]
["PEA006",{"$f":"TEXT(Table_Query_from_Great_Plains[[#This Row],[ITEMNMBR]],0)","v":"PEA006"},"Peach Tree Notepad","RETAIL",0,100]
["PEN001",{"$f":"TEXT(Table_Query_from_Great_Plains[[#This Row],[ITEMNMBR]],0)","v":"PEN001"},"Pendergrass 5 Piece Men's Grooming Kit","RETAIL",0,100]
["PEN002",{"$f":"TEXT(Table_Query_from_Great_Plains[[#This Row],[ITEMNMBR]],0)","v":"PEN002"},"Pendergrass Back Scrubber Massager","RETAIL",0,100]
["PEN003",{"$f":"TEXT(Table_Query_from_Great_Plains[[#This Row],[ITEMNMBR]],0)","v":"PEN003"},"Pendergrass White Shell  pillow","RETAIL",0,100]
["PEN004",{"$f":"TEXT(Table_Query_from_Great_Plains[[#This Row],[ITEMNMBR]],0)","v":"PEN004"},"Pendergrass Boar Bristle Shaving Brush and Wood Soap Dish","RETAIL",0,100]
["PEN005",{"$f":"TEXT(Table_Query_from_Great_Plains[[#This Row],[ITEMNMBR]],0)","v":"PEN005"},"Pendergrass Body Net Buttercream","RETAIL",0,100]
["PEN006",{"$f":"TEXT(Table_Query_from_Great_Plains[[#This Row],[ITEMNMBR]],0)","v":"PEN006"},"Pendergrass Cherry Stone Thermal Wrap","RETAIL",0,100]
["PEN008",{"$f":"TEXT(Table_Query_from_Great_Plains[[#This Row],[ITEMNMBR]],0)","v":"PEN008"},"Pendergrass Cotton Waffle Loofah Backstrap","RETAIL",0,100]
["PEN009",{"$f":"TEXT(Table_Query_from_Great_Plains[[#This Row],[ITEMNMBR]],0)","v":"PEN009"},"Pendergrass Cotton Waffle Loofah Mitt-White","RETAIL",0,100]
["PEN010",{"$f":"TEXT(Table_Query_from_Great_Plains[[#This Row],[ITEMNMBR]],0)","v":"PEN010"},"Pendergrass Cotton Waffle Spa Slippers (Med/Large)","RETAIL",0,100]
["PEN011",{"$f":"TEXT(Table_Query_from_Great_Plains[[#This Row],[ITEMNMBR]],0)","v":"PEN011"},"Pendergrass Clear Relaxing Eye Mask-Assorted","RETAIL",0,100]
["PEN012",{"$f":"TEXT(Table_Query_from_Great_Plains[[#This Row],[ITEMNMBR]],0)","v":"PEN012"},"Pendergrass Foot Brush with Pedicure File Sage","RETAIL",0,100]
["PEN013",{"$f":"TEXT(Table_Query_from_Great_Plains[[#This Row],[ITEMNMBR]],0)","v":"PEN013"},"Pendergrass Foot Brush with Frosted Handle","RETAIL",0,100]
["PEN014",{"$f":"TEXT(Table_Query_from_Great_Plains[[#This Row],[ITEMNMBR]],0)","v":"PEN014"},"Pendergrass Foot Roller Massager","RETAIL",0,100]
["PEN015",{"$f":"TEXT(Table_Query_from_Great_Plains[[#This Row],[ITEMNMBR]],0)","v":"PEN015"},"Pendergrass Hair Brush-Wood","RETAIL",0,100]
["PEN016",{"$f":"TEXT(Table_Query_from_Great_Plains[[#This Row],[ITEMNMBR]],0)","v":"PEN016"},"Pendergrass Image Maker 4 Essentail Grooming Tools","RETAIL",0,100]
["PEN017",{"$f":"TEXT(Table_Query_from_Great_Plains[[#This Row],[ITEMNMBR]],0)","v":"PEN017"},"Pendergrass BODY MASSAGE BRUSH WITH GRIP-Blue","RETAIL",0,100]
["PEN018",{"$f":"TEXT(Table_Query_from_Great_Plains[[#This Row],[ITEMNMBR]],0)","v":"PEN018"},"Pendergrass Massage Mouse","RETAIL",0,100]
["PEN019",{"$f":"TEXT(Table_Query_from_Great_Plains[[#This Row],[ITEMNMBR]],0)","v":"PEN019"},"Pendergrass Men's Turkish Cotton Wrap","RETAIL",0,100]
["PEN020",{"$f":"TEXT(Table_Query_from_Great_Plains[[#This Row],[ITEMNMBR]],0)","v":"PEN020"},"Pendergrass Mirror - wood","RETAIL",0,100]
["PEN021",{"$f":"TEXT(Table_Query_from_Great_Plains[[#This Row],[ITEMNMBR]],0)","v":"PEN021"},"Pendergrass Moisterizing Manicure Gloves","RETAIL",0,100]
["PEN022",{"$f":"TEXT(Table_Query_from_Great_Plains[[#This Row],[ITEMNMBR]],0)","v":"PEN022"},"Pendergrass Moisturizing Pedicure Socks","RETAIL",0,100]
["PEN023",{"$f":"TEXT(Table_Query_from_Great_Plains[[#This Row],[ITEMNMBR]],0)","v":"PEN023"},"Pendergrass Nail Brush","RETAIL",0,100]
["PEN024",{"$f":"TEXT(Table_Query_from_Great_Plains[[#This Row],[ITEMNMBR]],0)","v":"PEN024"},"Pendergrass Pedicure Toe Separators-Pink","RETAIL",0,100]
["PEN025",{"$f":"TEXT(Table_Query_from_Great_Plains[[#This Row],[ITEMNMBR]],0)","v":"PEN025"},"Pendergrass Sandalwood Body Bar","RETAIL",0,100]
["PEN026",{"$f":"TEXT(Table_Query_from_Great_Plains[[#This Row],[ITEMNMBR]],0)","v":"PEN026"},"Pendergrass Sandalwood Body Wash 330 ml","RETAIL",0,100]
["PEN027",{"$f":"TEXT(Table_Query_from_Great_Plains[[#This Row],[ITEMNMBR]],0)","v":"PEN027"},"Pendergrass Sandalwood Shaving Soap","RETAIL",0,100]
["PEN028",{"$f":"TEXT(Table_Query_from_Great_Plains[[#This Row],[ITEMNMBR]],0)","v":"PEN028"},"Pendergrass Sisal Exfoliating Backstrap","RETAIL",0,100]
["PEN029",{"$f":"TEXT(Table_Query_from_Great_Plains[[#This Row],[ITEMNMBR]],0)","v":"PEN029"},"Pendergrass Turkish Cotton Spa Robe (Extra Large)","RETAIL",0,100]
["PEN030",{"$f":"TEXT(Table_Query_from_Great_Plains[[#This Row],[ITEMNMBR]],0)","v":"PEN030"},"Pendergrass Turkish Cotton Spa Robe (Large-one size fits most)","RETAIL",0,100]
["PEN031",{"$f":"TEXT(Table_Query_from_Great_Plains[[#This Row],[ITEMNMBR]],0)","v":"PEN031"},"Bathtime  Ducks & Family","RETAIL",0,100]
["PEN032",{"$f":"TEXT(Table_Query_from_Great_Plains[[#This Row],[ITEMNMBR]],0)","v":"PEN032"},"Terry Headband","RETAIL",0,100]
["PEN033",{"$f":"TEXT(Table_Query_from_Great_Plains[[#This Row],[ITEMNMBR]],0)","v":"PEN033"},"Pendergrass Bay Commander Black Leather Scent Gift Set","RETAIL",0,100]
["PEN034",{"$f":"TEXT(Table_Query_from_Great_Plains[[#This Row],[ITEMNMBR]],0)","v":"PEN034"},"Pendergrass Cotton Waffle Loofah Complection Pad","RETAIL",0,100]
["PEN035",{"$f":"TEXT(Table_Query_from_Great_Plains[[#This Row],[ITEMNMBR]],0)","v":"PEN035"},"Pendergrass Sisal Soap Bag","RETAIL",0,100]
["PEN036",{"$f":"TEXT(Table_Query_from_Great_Plains[[#This Row],[ITEMNMBR]],0)","v":"PEN036"},"Pendergrass Blue/Turquoise Relaxing Eye Mask","RETAIL",0,100]
["PEN037",{"$f":"TEXT(Table_Query_from_Great_Plains[[#This Row],[ITEMNMBR]],0)","v":"PEN037"},"Pendergrass Relax 'n' Snooze Glitter Eye Mask","RETAIL",0,100]
["PEN038",{"$f":"TEXT(Table_Query_from_Great_Plains[[#This Row],[ITEMNMBR]],0)","v":"PEN038"},"Pendergrass Terry/Vinal Shell Shaped Bath pillow","RETAIL",0,100]
["PEN039",{"$f":"TEXT(Table_Query_from_Great_Plains[[#This Row],[ITEMNMBR]],0)","v":"PEN039"},"Pendergrass Foot Brush with Pedicure File Pink","RETAIL",0,100]
["PEN040",{"$f":"TEXT(Table_Query_from_Great_Plains[[#This Row],[ITEMNMBR]],0)","v":"PEN040"},"Pendergrass Tropical Cotton Waffle Spa Slippers Pink (Med/Large)","RETAIL",0,100]
["PEN041",{"$f":"TEXT(Table_Query_from_Great_Plains[[#This Row],[ITEMNMBR]],0)","v":"PEN041"},"Pendergrass Tropical Cotton Waffle Spa Slippers Fuchsia (Med/Large)","RETAIL",0,100]
["PEN042",{"$f":"TEXT(Table_Query_from_Great_Plains[[#This Row],[ITEMNMBR]],0)","v":"PEN042"},"Pendergrass Body Net Jade","RETAIL",0,100]
["PEN043",{"$f":"TEXT(Table_Query_from_Great_Plains[[#This Row],[ITEMNMBR]],0)","v":"PEN043"},"Pendergrass Body Net Fuchsia","RETAIL",0,100]
["PEN044",{"$f":"TEXT(Table_Query_from_Great_Plains[[#This Row],[ITEMNMBR]],0)","v":"PEN044"},"Pendergrass Massage Roller","RETAIL",0,100]
["PEN045",{"$f":"TEXT(Table_Query_from_Great_Plains[[#This Row],[ITEMNMBR]],0)","v":"PEN045"},"Pendergrass Pink Relaxing Eye Mask","RETAIL",0,100]
["PEN046",{"$f":"TEXT(Table_Query_from_Great_Plains[[#This Row],[ITEMNMBR]],0)","v":"PEN046"},"Pendergrass Green Relaxing Eye Mask","RETAIL",0,100]
["PEN047",{"$f":"TEXT(Table_Query_from_Great_Plains[[#This Row],[ITEMNMBR]],0)","v":"PEN047"},"Pendergrass Terry Cloth Slippers","RETAIL",0,100]
["PEN048",{"$f":"TEXT(Table_Query_from_Great_Plains[[#This Row],[ITEMNMBR]],0)","v":"PEN048"},"Pendergrass Wood Hand Massager","RETAIL",0,100]
["PEN049",{"$f":"TEXT(Table_Query_from_Great_Plains[[#This Row],[ITEMNMBR]],0)","v":"PEN049"},"Slippers","RETAIL",0,100]
["PEN050",{"$f":"TEXT(Table_Query_from_Great_Plains[[#This Row],[ITEMNMBR]],0)","v":"PEN050"},"Pendergrass Tropical Cotton Waffle Spa Slippers White Large","RETAIL",0,100]
["PEN057",{"$f":"TEXT(Table_Query_from_Great_Plains[[#This Row],[ITEMNMBR]],0)","v":"PEN057"},"Lilac/purple/lavender Body Net -","RETAIL",0,100]
["PEN058",{"$f":"TEXT(Table_Query_from_Great_Plains[[#This Row],[ITEMNMBR]],0)","v":"PEN058"},"Beige Body Net -","RETAIL",0,100]
["PEN059",{"$f":"TEXT(Table_Query_from_Great_Plains[[#This Row],[ITEMNMBR]],0)","v":"PEN059"},"Black Cellulite Massager","RETAIL",0,100]
["PEN060",{"$f":"TEXT(Table_Query_from_Great_Plains[[#This Row],[ITEMNMBR]],0)","v":"PEN060"},"Foot Massager with Grip -","RETAIL",0,100]
["PEN061",{"$f":"TEXT(Table_Query_from_Great_Plains[[#This Row],[ITEMNMBR]],0)","v":"PEN061"},"Bamboo Massager -","RETAIL",0,100]
["PEN062",{"$f":"TEXT(Table_Query_from_Great_Plains[[#This Row],[ITEMNMBR]],0)","v":"PEN062"},"Pendergrass Cotton Waffle Loofah Mitt-White","RETAIL",0,100]
["PEN063",{"$f":"TEXT(Table_Query_from_Great_Plains[[#This Row],[ITEMNMBR]],0)","v":"PEN063"},"Bamboo Bristle Nail Brush with Handle","RETAIL",0,100]
["PEN064",{"$f":"TEXT(Table_Query_from_Great_Plains[[#This Row],[ITEMNMBR]],0)","v":"PEN064"},"Sage Slippers (DISCONTINUED Selection)","RETAIL",0,100]
["PET001",{"$f":"TEXT(Table_Query_from_Great_Plains[[#This Row],[ITEMNMBR]],0)","v":"PET001"},"PetEdge Bad Cuz","RETAIL",0,100]
["PET002",{"$f":"TEXT(Table_Query_from_Great_Plains[[#This Row],[ITEMNMBR]],0)","v":"PET002"},"PetEdge Good Cuz","RETAIL",0,100]
["PET003",{"$f":"TEXT(Table_Query_from_Great_Plains[[#This Row],[ITEMNMBR]],0)","v":"PET003"},"Zanies Zanies Skedaddles","RETAIL",0,100]
["PET004",{"$f":"TEXT(Table_Query_from_Great_Plains[[#This Row],[ITEMNMBR]],0)","v":"PET004"},"Zanies Zanies Kitty Catnip Creatures","RETAIL",0,100]
["PET006",{"$f":"TEXT(Table_Query_from_Great_Plains[[#This Row],[ITEMNMBR]],0)","v":"PET006"},"Zanies Rainbow Mice","RETAIL",0,100]
["PET007",{"$f":"TEXT(Table_Query_from_Great_Plains[[#This Row],[ITEMNMBR]],0)","v":"PET007"},"Zanies Monkeys Fist Knot Rope Toys","RETAIL",0,100]
["PET008",{"$f":"TEXT(Table_Query_from_Great_Plains[[#This Row],[ITEMNMBR]],0)","v":"PET008"},"Zanies Zanies Berber Bears","RETAIL",0,100]
["PET009",{"$f":"TEXT(Table_Query_from_Great_Plains[[#This Row],[ITEMNMBR]],0)","v":"PET009"},"Zanies Zanies Celestial Smiles Toys","RETAIL",0,100]
["PET010",{"$f":"TEXT(Table_Query_from_Great_Plains[[#This Row],[ITEMNMBR]],0)","v":"PET010"},"Ranch Rewards Smoked Porkhide Pressed Bone","RETAIL",0,100]
["PET011",{"$f":"TEXT(Table_Query_from_Great_Plains[[#This Row],[ITEMNMBR]],0)","v":"PET011"},"Zanies Peek-A-Boo Sisal Balls Purple","RETAIL",0,100]
["PET012",{"$f":"TEXT(Table_Query_from_Great_Plains[[#This Row],[ITEMNMBR]],0)","v":"PET012"},"Zanies Mylar Cat Ball Canister","RETAIL",0,100]
["PET013",{"$f":"TEXT(Table_Query_from_Great_Plains[[#This Row],[ITEMNMBR]],0)","v":"PET013"},"PetEdge Rawhide Baseball","RETAIL",0,100]
["PET014",{"$f":"TEXT(Table_Query_from_Great_Plains[[#This Row],[ITEMNMBR]],0)","v":"PET014"},"PetEdge Beefy Knuckle Bone","RETAIL",0,100]
["PET015",{"$f":"TEXT(Table_Query_from_Great_Plains[[#This Row],[ITEMNMBR]],0)","v":"PET015"},"Feline Greenies Savory Salmon Cat Treats","RETAIL",0,100]
["PET016",{"$f":"TEXT(Table_Query_from_Great_Plains[[#This Row],[ITEMNMBR]],0)","v":"PET016"},"Guardian Gear Laser Pointer Exercise Beam","RETAIL",0,100]
["PET018",{"$f":"TEXT(Table_Query_from_Great_Plains[[#This Row],[ITEMNMBR]],0)","v":"PET018"},"Zanies Tweety Tumblers Display","RETAIL",0,100]
["PMC001",{"$f":"TEXT(Table_Query_from_Great_Plains[[#This Row],[ITEMNMBR]],0)","v":"PMC001"},"Torpedo Golden Cigar","RETAIL",0,20]
["PMC002",{"$f":"TEXT(Table_Query_from_Great_Plains[[#This Row],[ITEMNMBR]],0)","v":"PMC002"},"Torito Lite Cigar","RETAIL",0,20]
["PMC003",{"$f":"TEXT(Table_Query_from_Great_Plains[[#This Row],[ITEMNMBR]],0)","v":"PMC003"},"Churchill Golden Cigar","RETAIL",0,20]
["PMC004",{"$f":"TEXT(Table_Query_from_Great_Plains[[#This Row],[ITEMNMBR]],0)","v":"PMC004"},"Torpedo Barber Cigar","RETAIL",0,20]
["PMC005",{"$f":"TEXT(Table_Query_from_Great_Plains[[#This Row],[ITEMNMBR]],0)","v":"PMC005"},"60 Ring Stainless Cigar Cutter","RETAIL",0,17.559999999999999]
["PMC006",{"$f":"TEXT(Table_Query_from_Great_Plains[[#This Row],[ITEMNMBR]],0)","v":"PMC006"},"3 Cigar Travel Humidor, Cedar Lined","RETAIL",0,29.54]
["PRETICKET",{"$f":"TEXT(Table_Query_from_Great_Plains[[#This Row],[ITEMNMBR]],0)","v":"PRETICKET"},"Preticketing","RETAIL",0,0]
["PRG001",{"$f":"TEXT(Table_Query_from_Great_Plains[[#This Row],[ITEMNMBR]],0)","v":"PRG001"},"Progressive Plush Harold Harry Rabbit","RETAIL",0,100]
["PRG002",{"$f":"TEXT(Table_Query_from_Great_Plains[[#This Row],[ITEMNMBR]],0)","v":"PRG002"},"Progressive Plush Becca & Baby Ducky","RETAIL",0,100]
["PRI001",{"$f":"TEXT(Table_Query_from_Great_Plains[[#This Row],[ITEMNMBR]],0)","v":"PRI001"},"Laid-Back Frog","RETAIL",0,100]
["RDAB01",{"$f":"TEXT(Table_Query_from_Great_Plains[[#This Row],[ITEMNMBR]],0)","v":"RDAB01"},"Custom Non-Alcoholic Eve of Indulg ( Ross)","RETAIL",0,69.989999999999995]
["RDAE01",{"$f":"TEXT(Table_Query_from_Great_Plains[[#This Row],[ITEMNMBR]],0)","v":"RDAE01"},"Custom Gorilla & Chocolate ( Ross )","RETAIL",0,95]
["RDAE02",{"$f":"TEXT(Table_Query_from_Great_Plains[[#This Row],[ITEMNMBR]],0)","v":"RDAE02"},"Custom Gorilla, Chocolate & Snacks ( Ross )","RETAIL",0,95]
["RDAG01",{"$f":"TEXT(Table_Query_from_Great_Plains[[#This Row],[ITEMNMBR]],0)","v":"RDAG01"},"Custom St.Patty's Day Baskets ( Ross )","RETAIL",0,105.99]
["RDAL01",{"$f":"TEXT(Table_Query_from_Great_Plains[[#This Row],[ITEMNMBR]],0)","v":"RDAL01"},"Custom Wine & Chocolate ( Ross Dupont )","RETAIL",1,324]
["RDAT01",{"$f":"TEXT(Table_Query_from_Great_Plains[[#This Row],[ITEMNMBR]],0)","v":"RDAT01"},"Custom 4506","RETAIL",0,39.99]
["RDBC01",{"$f":"TEXT(Table_Query_from_Great_Plains[[#This Row],[ITEMNMBR]],0)","v":"RDBC01"},"Fina l4 Gift Box","RETAIL",0,30]
["RDBC02",{"$f":"TEXT(Table_Query_from_Great_Plains[[#This Row],[ITEMNMBR]],0)","v":"RDBC02"},"custom","RETAIL",0,184.55]
["RDBC03",{"$f":"TEXT(Table_Query_from_Great_Plains[[#This Row],[ITEMNMBR]],0)","v":"RDBC03"},"Custom Care Package items in Basket","RETAIL",0,150.86000000000001]
["RDBC04",{"$f":"TEXT(Table_Query_from_Great_Plains[[#This Row],[ITEMNMBR]],0)","v":"RDBC04"},"Custom Dom Cheese Cracker","RETAIL",0,230]
["RDBC05",{"$f":"TEXT(Table_Query_from_Great_Plains[[#This Row],[ITEMNMBR]],0)","v":"RDBC05"},"Custom Veuve","RETAIL",0,119.99]
["RDBC06",{"$f":"TEXT(Table_Query_from_Great_Plains[[#This Row],[ITEMNMBR]],0)","v":"RDBC06"},"Custom Veuve","RETAIL",0,128.99]
["RDBL01",{"$f":"TEXT(Table_Query_from_Great_Plains[[#This Row],[ITEMNMBR]],0)","v":"RDBL01"},"Custom Wine","RETAIL",0,250]
["RDBU01",{"$f":"TEXT(Table_Query_from_Great_Plains[[#This Row],[ITEMNMBR]],0)","v":"RDBU01"},"Custom Blue and White Ribbon","RETAIL",0,79.989999999999995]
["RDC01",{"$f":"TEXT(Table_Query_from_Great_Plains[[#This Row],[ITEMNMBR]],0)","v":"RDC01"},"Custom Gift Basket","RETAIL",0,102.1]
["RDCE01",{"$f":"TEXT(Table_Query_from_Great_Plains[[#This Row],[ITEMNMBR]],0)","v":"RDCE01"},"Custom Scrumptious Fruit Basket","RETAIL",0,88.99]
["RDCE02",{"$f":"TEXT(Table_Query_from_Great_Plains[[#This Row],[ITEMNMBR]],0)","v":"RDCE02"},"Custom Easter Jumbo ( Ross )","RETAIL",0,149.99]
["RDCE03",{"$f":"TEXT(Table_Query_from_Great_Plains[[#This Row],[ITEMNMBR]],0)","v":"RDCE03"},"Custom Easter Ultimate ( Ross )","RETAIL",0,99.99]
["RDCE04",{"$f":"TEXT(Table_Query_from_Great_Plains[[#This Row],[ITEMNMBR]],0)","v":"RDCE04"},"Custom Easter Care Pkg In Basket $59.99","RETAIL",0,59.99]
["RDCR01",{"$f":"TEXT(Table_Query_from_Great_Plains[[#This Row],[ITEMNMBR]],0)","v":"RDCR01"},"7 year old basket","RETAIL",0,72]
["RDCR02",{"$f":"TEXT(Table_Query_from_Great_Plains[[#This Row],[ITEMNMBR]],0)","v":"RDCR02"},"2 year old basket","RETAIL",0,70]
["RDCT01",{"$f":"TEXT(Table_Query_from_Great_Plains[[#This Row],[ITEMNMBR]],0)","v":"RDCT01"},"Custom Napa Valley Basket","RETAIL",0,211.99]
["RDCZ01",{"$f":"TEXT(Table_Query_from_Great_Plains[[#This Row],[ITEMNMBR]],0)","v":"RDCZ01"},"Custom Christmas Healthy Stack","RETAIL",0,34.99]
["RDDR01",{"$f":"TEXT(Table_Query_from_Great_Plains[[#This Row],[ITEMNMBR]],0)","v":"RDDR01"},"Custom Coffee Mug Stack (no espresso beans) (Ross)","RETAIL",0,25]
["RDDR02",{"$f":"TEXT(Table_Query_from_Great_Plains[[#This Row],[ITEMNMBR]],0)","v":"RDDR02"},"Custom Coffee Mug Stack (no choc) (Ross)","RETAIL",0,25]
["RDEV01",{"$f":"TEXT(Table_Query_from_Great_Plains[[#This Row],[ITEMNMBR]],0)","v":"RDEV01"},"Custom Green Tray Family Basket","RETAIL",0,55]
["RDFF01",{"$f":"TEXT(Table_Query_from_Great_Plains[[#This Row],[ITEMNMBR]],0)","v":"RDFF01"},"Custom Healthy & Snack","RETAIL",0,55]
["RDFF02",{"$f":"TEXT(Table_Query_from_Great_Plains[[#This Row],[ITEMNMBR]],0)","v":"RDFF02"},"Custom Kosher","RETAIL",0,50.93]
["RDFM01",{"$f":"TEXT(Table_Query_from_Great_Plains[[#This Row],[ITEMNMBR]],0)","v":"RDFM01"},"Fruit of the Month Club - January - D'Anjou Pears (Custom)","RETAIL",0,29.99]
["RDFM02",{"$f":"TEXT(Table_Query_from_Great_Plains[[#This Row],[ITEMNMBR]],0)","v":"RDFM02"},"Fruit of the Month Club - February - Fuji Apples (Custom)","RETAIL",0,29.99]
["RDFM03",{"$f":"TEXT(Table_Query_from_Great_Plains[[#This Row],[ITEMNMBR]],0)","v":"RDFM03"},"Fruit of the Month Club - March - Tangelo Oranges (Custom)","RETAIL",0,29.99]
["RDFM04",{"$f":"TEXT(Table_Query_from_Great_Plains[[#This Row],[ITEMNMBR]],0)","v":"RDFM04"},"Fruit of the Month Club - April - Ruby Red Grapefruit (Custom)","RETAIL",0,29.99]
["RDFM05",{"$f":"TEXT(Table_Query_from_Great_Plains[[#This Row],[ITEMNMBR]],0)","v":"RDFM05"},"Fruit of the Month Club - May - Pineapple (Custom)","RETAIL",0,29.99]
["RDFM06",{"$f":"TEXT(Table_Query_from_Great_Plains[[#This Row],[ITEMNMBR]],0)","v":"RDFM06"},"Fruit of the Month Club - June - Cherries (Custom)","RETAIL",0,29.99]
["RDFM09",{"$f":"TEXT(Table_Query_from_Great_Plains[[#This Row],[ITEMNMBR]],0)","v":"RDFM09"},"Fruit of the Month Club - September - White Peaches (Custom)","RETAIL",0,29.99]
["RDFM10",{"$f":"TEXT(Table_Query_from_Great_Plains[[#This Row],[ITEMNMBR]],0)","v":"RDFM10"},"Fruit of the Month Club - October - Bartlett Pears (Custom)","RETAIL",0,29.99]
["RDFM11",{"$f":"TEXT(Table_Query_from_Great_Plains[[#This Row],[ITEMNMBR]],0)","v":"RDFM11"},"Fruit of the Month Club - November - Gala Apples (Custom)","RETAIL",0,29.99]
["RDIC01",{"$f":"TEXT(Table_Query_from_Great_Plains[[#This Row],[ITEMNMBR]],0)","v":"RDIC01"},"Custom In Charge Coffee and Tea Basket $40","RETAIL",0,40]
["RDIC03",{"$f":"TEXT(Table_Query_from_Great_Plains[[#This Row],[ITEMNMBR]],0)","v":"RDIC03"},"Custom In Charge Debt Solutions ( Ross )","RETAIL",0,40]
["RDIC04",{"$f":"TEXT(Table_Query_from_Great_Plains[[#This Row],[ITEMNMBR]],0)","v":"RDIC04"},"Custom In Charge Debt Solutions ( Ross )","RETAIL",0,100]
["RDIT01",{"$f":"TEXT(Table_Query_from_Great_Plains[[#This Row],[ITEMNMBR]],0)","v":"RDIT01"},"Custom Hawaiin Basket","RETAIL",0,85]
["RDJA01",{"$f":"TEXT(Table_Query_from_Great_Plains[[#This Row],[ITEMNMBR]],0)","v":"RDJA01"},"Custom Kosher and Cakebread","RETAIL",0,245]
["RDJA02",{"$f":"TEXT(Table_Query_from_Great_Plains[[#This Row],[ITEMNMBR]],0)","v":"RDJA02"},"Custom Cakebread","RETAIL",0,489]
["RDJL01",{"$f":"TEXT(Table_Query_from_Great_Plains[[#This Row],[ITEMNMBR]],0)","v":"RDJL01"},"Custom Baskets @ $250.00 (with champagne)","RETAIL",0,249.99]
["RDLA01",{"$f":"TEXT(Table_Query_from_Great_Plains[[#This Row],[ITEMNMBR]],0)","v":"RDLA01"},"Custom Estate Collection remove chocolate add fruit (Ross)","RETAIL",0,179.99]
["RDLL01",{"$f":"TEXT(Table_Query_from_Great_Plains[[#This Row],[ITEMNMBR]],0)","v":"RDLL01"},"5087 with Almonds and Chocolate Covered Pretzels - Ross D.","RETAIL",0,109.99]
["RDMC01",{"$f":"TEXT(Table_Query_from_Great_Plains[[#This Row],[ITEMNMBR]],0)","v":"RDMC01"},"Custom Fruit Basket (Mars)","RETAIL",0,210]
["RDMG01",{"$f":"TEXT(Table_Query_from_Great_Plains[[#This Row],[ITEMNMBR]],0)","v":"RDMG01"},"Custom Fruit Basket ( Ross )","RETAIL",0,158.99]
["RDMS01",{"$f":"TEXT(Table_Query_from_Great_Plains[[#This Row],[ITEMNMBR]],0)","v":"RDMS01"},"Custom Micro Strategy","RETAIL",0,480.3]
["RDMS02",{"$f":"TEXT(Table_Query_from_Great_Plains[[#This Row],[ITEMNMBR]],0)","v":"RDMS02"},"Custom Micro Strategy","RETAIL",0,199.99]
["RDMS03",{"$f":"TEXT(Table_Query_from_Great_Plains[[#This Row],[ITEMNMBR]],0)","v":"RDMS03"},"Custom Micro Strategy $300","RETAIL",0,300]
["RDPB01",{"$f":"TEXT(Table_Query_from_Great_Plains[[#This Row],[ITEMNMBR]],0)","v":"RDPB01"},"Custom","RETAIL",0,250]
["RDRC01",{"$f":"TEXT(Table_Query_from_Great_Plains[[#This Row],[ITEMNMBR]],0)","v":"RDRC01"},"Custom","RETAIL",0,485]
["RDSC01",{"$f":"TEXT(Table_Query_from_Great_Plains[[#This Row],[ITEMNMBR]],0)","v":"RDSC01"},"Custom DOM Basket","RETAIL",0,1024.99]
["RDSD01",{"$f":"TEXT(Table_Query_from_Great_Plains[[#This Row],[ITEMNMBR]],0)","v":"RDSD01"},"Custom Tea & Cookies","RETAIL",0,79.989999999999995]
["RDSD02",{"$f":"TEXT(Table_Query_from_Great_Plains[[#This Row],[ITEMNMBR]],0)","v":"RDSD02"},"Custom Tea & Cookies Stack ( Ross )","RETAIL",0,50.99]
["RDSO01",{"$f":"TEXT(Table_Query_from_Great_Plains[[#This Row],[ITEMNMBR]],0)","v":"RDSO01"},"Custom Sweets Classic","RETAIL",0,0]
["RDTD01",{"$f":"TEXT(Table_Query_from_Great_Plains[[#This Row],[ITEMNMBR]],0)","v":"RDTD01"},"Custom","RETAIL",0,99.99]
["RDUS01",{"$f":"TEXT(Table_Query_from_Great_Plains[[#This Row],[ITEMNMBR]],0)","v":"RDUS01"},"Custom Snack Deluxe with Shirts ( Ross)","RETAIL",0,99.99]
["RDUS02",{"$f":"TEXT(Table_Query_from_Great_Plains[[#This Row],[ITEMNMBR]],0)","v":"RDUS02"},"Custom Snack Ult with Shirts ( Ross )","RETAIL",0,99.99]
["RDVW01",{"$f":"TEXT(Table_Query_from_Great_Plains[[#This Row],[ITEMNMBR]],0)","v":"RDVW01"},"Custom Catena Suitcase ( Ross )","RETAIL",1,174.99]
["RDVW02",{"$f":"TEXT(Table_Query_from_Great_Plains[[#This Row],[ITEMNMBR]],0)","v":"RDVW02"},"Custom Catena Chardonnay Suitcase ( Ross )","RETAIL",1,169.99]
["RDVW03",{"$f":"TEXT(Table_Query_from_Great_Plains[[#This Row],[ITEMNMBR]],0)","v":"RDVW03"},"Custom  Moet Suitcase ( Ross )","RETAIL",1,190.99]
["RDWG01",{"$f":"TEXT(Table_Query_from_Great_Plains[[#This Row],[ITEMNMBR]],0)","v":"RDWG01"},"Custom soup and crock","RETAIL",0,129.99]
["REFUND",{"$f":"TEXT(Table_Query_from_Great_Plains[[#This Row],[ITEMNMBR]],0)","v":"REFUND"},"REFUND FRUIT & GOURMET","RETAIL",0,0]
["REFUND DROP SHIP",{"$f":"TEXT(Table_Query_from_Great_Plains[[#This Row],[ITEMNMBR]],0)","v":"REFUND DROP SHIP"},"REFUND DROP SHIP","RETAIL",0,0]
["REFUND FRUIT & GOURMET",{"$f":"TEXT(Table_Query_from_Great_Plains[[#This Row],[ITEMNMBR]],0)","v":"REFUND FRUIT & GOURMET"},"REFUND FRUIT & GOURMET","RETAIL",0,0]
["REFUND GIFTWARE",{"$f":"TEXT(Table_Query_from_Great_Plains[[#This Row],[ITEMNMBR]],0)","v":"REFUND GIFTWARE"},"REFUND GIFTWARE","RETAIL",0,0]
["REFUND WIRE OUT",{"$f":"TEXT(Table_Query_from_Great_Plains[[#This Row],[ITEMNMBR]],0)","v":"REFUND WIRE OUT"},"REFUND WIRE OUT","RETAIL",0,0]
["REFUND WIRE OUT FEE",{"$f":"TEXT(Table_Query_from_Great_Plains[[#This Row],[ITEMNMBR]],0)","v":"REFUND WIRE OUT FEE"},"REFUND WIRE OUT FEE","RETAIL",0,0]
["REFUND-SHIPPING",{"$f":"TEXT(Table_Query_from_Great_Plains[[#This Row],[ITEMNMBR]],0)","v":"REFUND-SHIPPING"},"REFUND-SHIPPING","RETAIL",0,0]
["RFBBH",{"$f":"TEXT(Table_Query_from_Great_Plains[[#This Row],[ITEMNMBR]],0)","v":"RFBBH"},"Custom Boston Beer Bucket (Fisher)","RETAIL",1,46.99]
["RFBF01",{"$f":"TEXT(Table_Query_from_Great_Plains[[#This Row],[ITEMNMBR]],0)","v":"RFBF01"},"Custom Breakfast with Tea not coffee","RETAIL",0,67.989999999999995]
["RFBOS1",{"$f":"TEXT(Table_Query_from_Great_Plains[[#This Row],[ITEMNMBR]],0)","v":"RFBOS1"},"Custom Boston Basket (Fisher)","RETAIL",0,108.99]
["RFBOS2",{"$f":"TEXT(Table_Query_from_Great_Plains[[#This Row],[ITEMNMBR]],0)","v":"RFBOS2"},"Custom Boston Basket (Fisher)","RETAIL",0,108.99]
["RFBOST1",{"$f":"TEXT(Table_Query_from_Great_Plains[[#This Row],[ITEMNMBR]],0)","v":"RFBOST1"},"Custom Boston Basket (Fisher)","RETAIL",0,108.99]
["RFBOST2",{"$f":"TEXT(Table_Query_from_Great_Plains[[#This Row],[ITEMNMBR]],0)","v":"RFBOST2"},"Custom Boston Basket (Fisher)","RETAIL",0,108.99]
["RFCAN",{"$f":"TEXT(Table_Query_from_Great_Plains[[#This Row],[ITEMNMBR]],0)","v":"RFCAN"},"Custom Hole in One in Blue golf bag w/ logo (R.Fisher)","RETAIL",0,76.489999999999995]
["RFCB01",{"$f":"TEXT(Table_Query_from_Great_Plains[[#This Row],[ITEMNMBR]],0)","v":"RFCB01"},"Custom 4507 Beer Bucket with CSI","RETAIL",0,49.99]
["RFCW01",{"$f":"TEXT(Table_Query_from_Great_Plains[[#This Row],[ITEMNMBR]],0)","v":"RFCW01"},"Custom fruit and gourmet (RFisher)","RETAIL",0,66.989999999999995]
["RFCW2",{"$f":"TEXT(Table_Query_from_Great_Plains[[#This Row],[ITEMNMBR]],0)","v":"RFCW2"},"Custom signature with extras - no fruit  (RFisher)","RETAIL",0,300]
["RFCW4",{"$f":"TEXT(Table_Query_from_Great_Plains[[#This Row],[ITEMNMBR]],0)","v":"RFCW4"},"Custom - The Care Package (RFisher)","RETAIL",0,300]
["RFCWB",{"$f":"TEXT(Table_Query_from_Great_Plains[[#This Row],[ITEMNMBR]],0)","v":"RFCWB"},"Custom baby boy and snacks  (RFisher)","RETAIL",0,100]
["RFCWBG",{"$f":"TEXT(Table_Query_from_Great_Plains[[#This Row],[ITEMNMBR]],0)","v":"RFCWBG"},"Custom Baby Girl with snacks (RFisher)","RETAIL",0,200]
["RFCWP",{"$f":"TEXT(Table_Query_from_Great_Plains[[#This Row],[ITEMNMBR]],0)","v":"RFCWP"},"Custom* twins* boy and girl and snacks  (RFisher)","RETAIL",0,150]
["RFEC01",{"$f":"TEXT(Table_Query_from_Great_Plains[[#This Row],[ITEMNMBR]],0)","v":"RFEC01"},"Custom Mini Red Wine Basket","RETAIL",1,49.99]
["RFEC02",{"$f":"TEXT(Table_Query_from_Great_Plains[[#This Row],[ITEMNMBR]],0)","v":"RFEC02"},"Custom Mini White Wine Basket","RETAIL",0,49.99]
["RFEC03",{"$f":"TEXT(Table_Query_from_Great_Plains[[#This Row],[ITEMNMBR]],0)","v":"RFEC03"},"Custom Beer Bucket","RETAIL",0,39.99]
["RFEC04",{"$f":"TEXT(Table_Query_from_Great_Plains[[#This Row],[ITEMNMBR]],0)","v":"RFEC04"},"Custom Grilling & beer","RETAIL",0,79.989999999999995]
["RFFI01",{"$f":"TEXT(Table_Query_from_Great_Plains[[#This Row],[ITEMNMBR]],0)","v":"RFFI01"},"Custom Duo Suitcase","RETAIL",0,208.99]
["RFGD01",{"$f":"TEXT(Table_Query_from_Great_Plains[[#This Row],[ITEMNMBR]],0)","v":"RFGD01"},"Custom Ice Cream, Glow in dark, Candy","RETAIL",0,79.989999999999995]
["RFGN1",{"$f":"TEXT(Table_Query_from_Great_Plains[[#This Row],[ITEMNMBR]],0)","v":"RFGN1"},"Custom Ravenswood White  plus bubble gum (Fisher)","RETAIL",1,83.99]
["RFGN2",{"$f":"TEXT(Table_Query_from_Great_Plains[[#This Row],[ITEMNMBR]],0)","v":"RFGN2"},"Custom Ravenswood Red plus True Blood Season 4 DVD (Fisher)","RETAIL",1,83.99]
["RFGN3",{"$f":"TEXT(Table_Query_from_Great_Plains[[#This Row],[ITEMNMBR]],0)","v":"RFGN3"},"Custom Ravenswood World Championship items (Fisher)","RETAIL",1,83.99]
["RFGN4",{"$f":"TEXT(Table_Query_from_Great_Plains[[#This Row],[ITEMNMBR]],0)","v":"RFGN4"},"Custom Tea & Cookies plus Ravenswood Red (Fisher)","RETAIL",1,95.99]
["RFGOLF",{"$f":"TEXT(Table_Query_from_Great_Plains[[#This Row],[ITEMNMBR]],0)","v":"RFGOLF"},"Custom Golfer (Fisher)","RETAIL",0,93.99]
["RFHD01",{"$f":"TEXT(Table_Query_from_Great_Plains[[#This Row],[ITEMNMBR]],0)","v":"RFHD01"},"Custom Snack and Pet Basket with Fruit","RETAIL",0,152.99]
["RFJS01",{"$f":"TEXT(Table_Query_from_Great_Plains[[#This Row],[ITEMNMBR]],0)","v":"RFJS01"},"Custom $500 basket","RETAIL",0,499.99]
["RFKBCT",{"$f":"TEXT(Table_Query_from_Great_Plains[[#This Row],[ITEMNMBR]],0)","v":"RFKBCT"},"Custom - Kosher-300 - (Fisher)","RETAIL",0,300]
["RFMS1",{"$f":"TEXT(Table_Query_from_Great_Plains[[#This Row],[ITEMNMBR]],0)","v":"RFMS1"},"Custom Coffee & Chocolates  in red & brown box (R.Fisher)","RETAIL",0,40]
["RFMT1",{"$f":"TEXT(Table_Query_from_Great_Plains[[#This Row],[ITEMNMBR]],0)","v":"RFMT1"},"Custom Flaghill Winery Red & White (R.Fisher)","RETAIL",1,225]
["RFMWV1",{"$f":"TEXT(Table_Query_from_Great_Plains[[#This Row],[ITEMNMBR]],0)","v":"RFMWV1"},"Custom St.Pat's ( Ryan Fisher )","RETAIL",0,99.99]
["RFMWV2",{"$f":"TEXT(Table_Query_from_Great_Plains[[#This Row],[ITEMNMBR]],0)","v":"RFMWV2"},"Custom St.Pat's - Grn & White ( Ryan Fisher )","RETAIL",0,99.99]
["RFMWV3",{"$f":"TEXT(Table_Query_from_Great_Plains[[#This Row],[ITEMNMBR]],0)","v":"RFMWV3"},"Custom St.Pat's - Grn & Silver  ( Ryan Fisher )","RETAIL",0,99.99]
["RFMWV4",{"$f":"TEXT(Table_Query_from_Great_Plains[[#This Row],[ITEMNMBR]],0)","v":"RFMWV4"},"Custom St.Pat's - Grn, Silver & Gold  ( Ryan Fisher )","RETAIL",0,99.99]
["RFORGW",{"$f":"TEXT(Table_Query_from_Great_Plains[[#This Row],[ITEMNMBR]],0)","v":"RFORGW"},"Custom organic with Ravenswood Red Wine (R. Fisher)","RETAIL",1,80.989999999999995]
["RFPE01",{"$f":"TEXT(Table_Query_from_Great_Plains[[#This Row],[ITEMNMBR]],0)","v":"RFPE01"},"Custom Scrumptious w/ 2 Gift Cards","RETAIL",0,69.989999999999995]
["RFPE02",{"$f":"TEXT(Table_Query_from_Great_Plains[[#This Row],[ITEMNMBR]],0)","v":"RFPE02"}," Scrumptious w/ B.Ball Tickets","RETAIL",0,69.989999999999995]
["RFPE03",{"$f":"TEXT(Table_Query_from_Great_Plains[[#This Row],[ITEMNMBR]],0)","v":"RFPE03"}," Scrumptious w/ 3 Toy Story Tickets","RETAIL",0,69.989999999999995]
["RFPF1",{"$f":"TEXT(Table_Query_from_Great_Plains[[#This Row],[ITEMNMBR]],0)","v":"RFPF1"},"Custom Bloody Mary Stack (R.Fisher)","RETAIL",0,50]
["RFPF2",{"$f":"TEXT(Table_Query_from_Great_Plains[[#This Row],[ITEMNMBR]],0)","v":"RFPF2"},"Custom Bloody Mary Basket  (R.Fisher)","RETAIL",0,115]
["RFPF3",{"$f":"TEXT(Table_Query_from_Great_Plains[[#This Row],[ITEMNMBR]],0)","v":"RFPF3"},"Bloody Mary Gift Basket plus added cards & brochure (RFisher)","RETAIL",0,79.989999999999995]
["RFPREP",{"$f":"TEXT(Table_Query_from_Great_Plains[[#This Row],[ITEMNMBR]],0)","v":"RFPREP"},"Custom Junk Food Bucket Classic with Business Cards","RETAIL",0,39.99]
["RFPU1",{"$f":"TEXT(Table_Query_from_Great_Plains[[#This Row],[ITEMNMBR]],0)","v":"RFPU1"},"Custom --  Passover with Challah Bread Cover  (RFisher)","RETAIL",0,30]
["RFREGN",{"$f":"TEXT(Table_Query_from_Great_Plains[[#This Row],[ITEMNMBR]],0)","v":"RFREGN"},"Custom cookies cookies cookies ( RFisher)","RETAIL",0,40]
["RFSC1",{"$f":"TEXT(Table_Query_from_Great_Plains[[#This Row],[ITEMNMBR]],0)","v":"RFSC1"},"Custom snack classic - savant capital (Ryan F)","RETAIL",0,50]
["RFSC2",{"$f":"TEXT(Table_Query_from_Great_Plains[[#This Row],[ITEMNMBR]],0)","v":"RFSC2"},"Custom snack mini - savant capital (Mike)","RETAIL",0,20]
["RFSCC1",{"$f":"TEXT(Table_Query_from_Great_Plains[[#This Row],[ITEMNMBR]],0)","v":"RFSCC1"},"Custom cookies in tower box (Ryan F)","RETAIL",0,16.989999999999998]
["RFSCC2",{"$f":"TEXT(Table_Query_from_Great_Plains[[#This Row],[ITEMNMBR]],0)","v":"RFSCC2"},"Custom cookies in tower box (Ryan F)","RETAIL",0,33.979999999999997]
["RFSCC3",{"$f":"TEXT(Table_Query_from_Great_Plains[[#This Row],[ITEMNMBR]],0)","v":"RFSCC3"},"Custom cookies in tower box (Ryan F)","RETAIL",0,169.9]
["RFSD12",{"$f":"TEXT(Table_Query_from_Great_Plains[[#This Row],[ITEMNMBR]],0)","v":"RFSD12"},"Custom coffee & nuts (R. Fisher)","RETAIL",0,75]
["RFSPA01",{"$f":"TEXT(Table_Query_from_Great_Plains[[#This Row],[ITEMNMBR]],0)","v":"RFSPA01"},"custom spa (ryan f)","RETAIL",0,250]
["RFSPA1",{"$f":"TEXT(Table_Query_from_Great_Plains[[#This Row],[ITEMNMBR]],0)","v":"RFSPA1"},"custom spa (TIM)","RETAIL",0,250]
["RFTL01",{"$f":"TEXT(Table_Query_from_Great_Plains[[#This Row],[ITEMNMBR]],0)","v":"RFTL01"},"Custom BBQ and Wine Bucket","RETAIL",0,60.99]
["RFTS1",{"$f":"TEXT(Table_Query_from_Great_Plains[[#This Row],[ITEMNMBR]],0)","v":"RFTS1"},"Custom 5090 (change basket add 2 mugs) (RFisher)","RETAIL",1,109.99]
["RFTX01",{"$f":"TEXT(Table_Query_from_Great_Plains[[#This Row],[ITEMNMBR]],0)","v":"RFTX01"},"Custom Baby Basket ( Ryan Fisher )","RETAIL",0,250]
["RFVIP1",{"$f":"TEXT(Table_Query_from_Great_Plains[[#This Row],[ITEMNMBR]],0)","v":"RFVIP1"},"Custom 4507 no nuts (RFisher)","RETAIL",1,44.99]
["RFVP1",{"$f":"TEXT(Table_Query_from_Great_Plains[[#This Row],[ITEMNMBR]],0)","v":"RFVP1"},"Custom Christmas Classic -  remove feridies add marich -  (R.Fisher)","RETAIL",0,66.989999999999995]
["RFVP2",{"$f":"TEXT(Table_Query_from_Great_Plains[[#This Row],[ITEMNMBR]],0)","v":"RFVP2"},"Custom Christmas Premium -  remove feridies add marich -  (R.Fisher)","RETAIL",0,87.99]
["RFVP3",{"$f":"TEXT(Table_Query_from_Great_Plains[[#This Row],[ITEMNMBR]],0)","v":"RFVP3"},"Custom Christmas Deluxe -  remove feridies add marich -  (R.Fisher)","RETAIL",0,108.99]
["RFVP4",{"$f":"TEXT(Table_Query_from_Great_Plains[[#This Row],[ITEMNMBR]],0)","v":"RFVP4"},"Custom fruit, crackers and cheese (R.Fisher)","RETAIL",0,50]
["RFWH01",{"$f":"TEXT(Table_Query_from_Great_Plains[[#This Row],[ITEMNMBR]],0)","v":"RFWH01"},"Custom Baby Basket ( Ryan Fisher )","RETAIL",1,250]
["RHAG01",{"$f":"TEXT(Table_Query_from_Great_Plains[[#This Row],[ITEMNMBR]],0)","v":"RHAG01"},"Custom Agentrics Stack","RETAIL",0,26]
["RHAG02",{"$f":"TEXT(Table_Query_from_Great_Plains[[#This Row],[ITEMNMBR]],0)","v":"RHAG02"},"Custom Agentrics Stack (all CSI)","RETAIL",0,10]
["RHAP01",{"$f":"TEXT(Table_Query_from_Great_Plains[[#This Row],[ITEMNMBR]],0)","v":"RHAP01"},"Custom: Apple - World's Best Theme - XLG","RETAIL",0,180]
["RHAP02",{"$f":"TEXT(Table_Query_from_Great_Plains[[#This Row],[ITEMNMBR]],0)","v":"RHAP02"},"Custom: Apple - World's Best Theme - XXLG","RETAIL",0,380]
["RHAP03",{"$f":"TEXT(Table_Query_from_Great_Plains[[#This Row],[ITEMNMBR]],0)","v":"RHAP03"},"Custom: Apple - Holiday Snacks Theme - XLG","RETAIL",0,180]
["RHAP04",{"$f":"TEXT(Table_Query_from_Great_Plains[[#This Row],[ITEMNMBR]],0)","v":"RHAP04"},"Custom: Apple - Holiday Snacks Theme -X XLG","RETAIL",0,380]
["RHAP05",{"$f":"TEXT(Table_Query_from_Great_Plains[[#This Row],[ITEMNMBR]],0)","v":"RHAP05"},"Custom: Apple - Healthy Snacks Theme - XLG","RETAIL",0,180]
["RHAP06",{"$f":"TEXT(Table_Query_from_Great_Plains[[#This Row],[ITEMNMBR]],0)","v":"RHAP06"},"Custom: Apple - Healthy Snacks Theme - XXLG","RETAIL",0,380]
["RHAP07",{"$f":"TEXT(Table_Query_from_Great_Plains[[#This Row],[ITEMNMBR]],0)","v":"RHAP07"},"Custom: Apple - Gourmet Snacks Theme - XLG","RETAIL",0,180]
["RHAP08",{"$f":"TEXT(Table_Query_from_Great_Plains[[#This Row],[ITEMNMBR]],0)","v":"RHAP08"},"Custom: Apple - Gourmet Snacks Theme - XXLG","RETAIL",0,380]
["RHAP09",{"$f":"TEXT(Table_Query_from_Great_Plains[[#This Row],[ITEMNMBR]],0)","v":"RHAP09"},"Custom: Apple - Healthy/Revitalizing/Chinese New Year Theme - XLG","RETAIL",0,180]
["RHAP10",{"$f":"TEXT(Table_Query_from_Great_Plains[[#This Row],[ITEMNMBR]],0)","v":"RHAP10"},"Custom: Apple - Healthy/Revitalizing/Chinese New Year Theme - XXLG","RETAIL",0,380]
["RHAP11",{"$f":"TEXT(Table_Query_from_Great_Plains[[#This Row],[ITEMNMBR]],0)","v":"RHAP11"},"Custom: Apple -  Healthy Snacks  - XXLG","RETAIL",0,380]
["RHAP12",{"$f":"TEXT(Table_Query_from_Great_Plains[[#This Row],[ITEMNMBR]],0)","v":"RHAP12"},"Custom: Apple - Healthy Snacks  - XLG","RETAIL",0,180]
["RHAP13",{"$f":"TEXT(Table_Query_from_Great_Plains[[#This Row],[ITEMNMBR]],0)","v":"RHAP13"},"Custom: Apple - Savory Snacks  - XXLG","RETAIL",0,380]
["RHAP14",{"$f":"TEXT(Table_Query_from_Great_Plains[[#This Row],[ITEMNMBR]],0)","v":"RHAP14"},"Custom: Apple - Savory Snacks  - XLG","RETAIL",0,180]
["RHAP15",{"$f":"TEXT(Table_Query_from_Great_Plains[[#This Row],[ITEMNMBR]],0)","v":"RHAP15"},"Custom: Apple - Sweet Endings  - XXLG","RETAIL",0,380]
["RHAP16",{"$f":"TEXT(Table_Query_from_Great_Plains[[#This Row],[ITEMNMBR]],0)","v":"RHAP16"},"Custom: Apple - Sweet Endings  - XLG","RETAIL",0,180]
["RHAP17",{"$f":"TEXT(Table_Query_from_Great_Plains[[#This Row],[ITEMNMBR]],0)","v":"RHAP17"},"Custom: Apple - Chinese New Year  - XXLG","RETAIL",0,380]
["RHAP18",{"$f":"TEXT(Table_Query_from_Great_Plains[[#This Row],[ITEMNMBR]],0)","v":"RHAP18"},"Custom: Apple - Chinese New Year  - XLG","RETAIL",0,180]
["RHAS01",{"$f":"TEXT(Table_Query_from_Great_Plains[[#This Row],[ITEMNMBR]],0)","v":"RHAS01"},"Custom -  ALLSCRIPTS - non alcohol - snacks and csi items (Ryan H)","RETAIL",0,150]
["RHAS02",{"$f":"TEXT(Table_Query_from_Great_Plains[[#This Row],[ITEMNMBR]],0)","v":"RHAS02"},"Custom -  ALLSCRIPTS - Moet - snacks and csi items (Ryan H)","RETAIL",1,150]
["RHAS03",{"$f":"TEXT(Table_Query_from_Great_Plains[[#This Row],[ITEMNMBR]],0)","v":"RHAS03"},"Custom -  ALLSCRIPTS - Champagne and snacks   (Ryan H)","RETAIL",0,100]
["RHAS04",{"$f":"TEXT(Table_Query_from_Great_Plains[[#This Row],[ITEMNMBR]],0)","v":"RHAS04"},"Custom -  ALLSCRIPTS -  San Pellergrino and snacks Ryan H)","RETAIL",0,100]
["RHAV01",{"$f":"TEXT(Table_Query_from_Great_Plains[[#This Row],[ITEMNMBR]],0)","v":"RHAV01"},"Custom -  Deck the Halls - customized with a sticker (Ryan H)","RETAIL",0,49.99]
["RHAX01",{"$f":"TEXT(Table_Query_from_Great_Plains[[#This Row],[ITEMNMBR]],0)","v":"RHAX01"},"Custom: Veuve Snacks & Sweets  (RyanH)","RETAIL",1,400]
["RHBB01",{"$f":"TEXT(Table_Query_from_Great_Plains[[#This Row],[ITEMNMBR]],0)","v":"RHBB01"},"Custom Gift Basket","RETAIL",0,278]
["RHBG01",{"$f":"TEXT(Table_Query_from_Great_Plains[[#This Row],[ITEMNMBR]],0)","v":"RHBG01"},"Custom Wine Country - 6-a (Ryan H)","RETAIL",0,60]
["RHBG02",{"$f":"TEXT(Table_Query_from_Great_Plains[[#This Row],[ITEMNMBR]],0)","v":"RHBG02"},"Custom Wine Country - 8 - b (Ryan H)","RETAIL",0,80]
["RHBG03",{"$f":"TEXT(Table_Query_from_Great_Plains[[#This Row],[ITEMNMBR]],0)","v":"RHBG03"},"Custom Wine Country - 10 - c (Ryan H)","RETAIL",0,100]
["RHBGI1",{"$f":"TEXT(Table_Query_from_Great_Plains[[#This Row],[ITEMNMBR]],0)","v":"RHBGI1"},"Custom Best Games Inc. 1 (RHuston)","RETAIL",0,80]
["RHBGI2",{"$f":"TEXT(Table_Query_from_Great_Plains[[#This Row],[ITEMNMBR]],0)","v":"RHBGI2"},"Custom Best Games Inc. 2  (RHuston)","RETAIL",1,125]
["RHBGI3",{"$f":"TEXT(Table_Query_from_Great_Plains[[#This Row],[ITEMNMBR]],0)","v":"RHBGI3"},"Custom: Best Games Inc. 3  (RHuston)","RETAIL",0,60]
["RHBGI4",{"$f":"TEXT(Table_Query_from_Great_Plains[[#This Row],[ITEMNMBR]],0)","v":"RHBGI4"},"Custom Best Games Inc. 4 (RHuston)","RETAIL",0,80]
["RHBGI5",{"$f":"TEXT(Table_Query_from_Great_Plains[[#This Row],[ITEMNMBR]],0)","v":"RHBGI5"},"Custom: Best Games Inc. ( champagne - wine - sweets - snacks)  (RHuston)","RETAIL",1,150]
["RHBGI6",{"$f":"TEXT(Table_Query_from_Great_Plains[[#This Row],[ITEMNMBR]],0)","v":"RHBGI6"},"Custom: Best Games Inc. (snacks)  (RHuston)","RETAIL",0,50]
["RHBGI7",{"$f":"TEXT(Table_Query_from_Great_Plains[[#This Row],[ITEMNMBR]],0)","v":"RHBGI7"},"Custom: Best Games Inc.- Moet with Snacks & Sweets  (RHuston)","RETAIL",1,125]
["RHBN01",{"$f":"TEXT(Table_Query_from_Great_Plains[[#This Row],[ITEMNMBR]],0)","v":"RHBN01"},"Custom Jingle all the way w/ Gum ball","RETAIL",0,47.99]
["RHBN02",{"$f":"TEXT(Table_Query_from_Great_Plains[[#This Row],[ITEMNMBR]],0)","v":"RHBN02"},"Custom Super Bowl Basket #2","RETAIL",0,124.99]
["RHBN03",{"$f":"TEXT(Table_Query_from_Great_Plains[[#This Row],[ITEMNMBR]],0)","v":"RHBN03"},"Custom","RETAIL",0,69.989999999999995]
["RHBN04",{"$f":"TEXT(Table_Query_from_Great_Plains[[#This Row],[ITEMNMBR]],0)","v":"RHBN04"},"Custom","RETAIL",0,69.989999999999995]
["RHBN05",{"$f":"TEXT(Table_Query_from_Great_Plains[[#This Row],[ITEMNMBR]],0)","v":"RHBN05"},"Custom","RETAIL",0,59.99]
["RHBN06",{"$f":"TEXT(Table_Query_from_Great_Plains[[#This Row],[ITEMNMBR]],0)","v":"RHBN06"},"Custom","RETAIL",0,59.99]
["RHBN07",{"$f":"TEXT(Table_Query_from_Great_Plains[[#This Row],[ITEMNMBR]],0)","v":"RHBN07"},"Custom Coffee Mini","RETAIL",0,24.99]
["RHBN08",{"$f":"TEXT(Table_Query_from_Great_Plains[[#This Row],[ITEMNMBR]],0)","v":"RHBN08"},"Custom Coffee & Chocolates (Ryan H.)","RETAIL",0,50]
["RHCC01",{"$f":"TEXT(Table_Query_from_Great_Plains[[#This Row],[ITEMNMBR]],0)","v":"RHCC01"},"Custom Snacks for Coca Cola - Sams Hubby","RETAIL",0,72.989999999999995]
["RHCCC1",{"$f":"TEXT(Table_Query_from_Great_Plains[[#This Row],[ITEMNMBR]],0)","v":"RHCCC1"},"Custom Greater Columbus Convention Center- small (RHuston)","RETAIL",0,59.99]
["RHCCC2",{"$f":"TEXT(Table_Query_from_Great_Plains[[#This Row],[ITEMNMBR]],0)","v":"RHCCC2"},"Custom Greater Columbus Convention Center- medium (RHuston)","RETAIL",0,75]
["RHCE01",{"$f":"TEXT(Table_Query_from_Great_Plains[[#This Row],[ITEMNMBR]],0)","v":"RHCE01"},"Custom -New Years Champagne Splits (Ryan H)","RETAIL",1,30]
["RHCI01",{"$f":"TEXT(Table_Query_from_Great_Plains[[#This Row],[ITEMNMBR]],0)","v":"RHCI01"},"Custom Snack","RETAIL",0,44.99]
["RHCL01",{"$f":"TEXT(Table_Query_from_Great_Plains[[#This Row],[ITEMNMBR]],0)","v":"RHCL01"},"Custom Easter Orchards with Bunny ( Ryan Huston )","RETAIL",0,100]
["RHCL02",{"$f":"TEXT(Table_Query_from_Great_Plains[[#This Row],[ITEMNMBR]],0)","v":"RHCL02"},"Custom Easter Fruit & Spa ( Ryan Huston )","RETAIL",0,100]
["RHCR01",{"$f":"TEXT(Table_Query_from_Great_Plains[[#This Row],[ITEMNMBR]],0)","v":"RHCR01"},"Custom Golf HOle in one with chocolate","RETAIL",0,69.989999999999995]
["RHCR02",{"$f":"TEXT(Table_Query_from_Great_Plains[[#This Row],[ITEMNMBR]],0)","v":"RHCR02"},"Custom Halloween Bucket","RETAIL",0,34.99]
["RHCR03",{"$f":"TEXT(Table_Query_from_Great_Plains[[#This Row],[ITEMNMBR]],0)","v":"RHCR03"},"Custom Halloween Cauldron","RETAIL",0,47.99]
["RHCR04",{"$f":"TEXT(Table_Query_from_Great_Plains[[#This Row],[ITEMNMBR]],0)","v":"RHCR04"},"Custom: Wine & Snacks (RHuston)","RETAIL",1,299.99]
["RHDA01",{"$f":"TEXT(Table_Query_from_Great_Plains[[#This Row],[ITEMNMBR]],0)","v":"RHDA01"},"Single bottle cakebread Cab","RETAIL",0,129.99]
["RHDL01",{"$f":"TEXT(Table_Query_from_Great_Plains[[#This Row],[ITEMNMBR]],0)","v":"RHDL01"},"Custom Brut Rose Champagne","RETAIL",0,51.99]
["RHDO01",{"$f":"TEXT(Table_Query_from_Great_Plains[[#This Row],[ITEMNMBR]],0)","v":"RHDO01"},"Custom Suitcase with Cakebread &Silveroak (RHouston)","RETAIL",1,0]
["RHDS01",{"$f":"TEXT(Table_Query_from_Great_Plains[[#This Row],[ITEMNMBR]],0)","v":"RHDS01"},"Custom 5220 with Ravenswood Red (Ryan H)","RETAIL",1,125.99]
["RHEB01",{"$f":"TEXT(Table_Query_from_Great_Plains[[#This Row],[ITEMNMBR]],0)","v":"RHEB01"},"Custom -- SC Snacks & Treats -  Enterprise  - (RHuston)","RETAIL",0,75]
["RHEB02",{"$f":"TEXT(Table_Query_from_Great_Plains[[#This Row],[ITEMNMBR]],0)","v":"RHEB02"},"Custom -- SC Snacks & Treats -  Enterprise  -** (RHuston)","RETAIL",0,75]
["RHEG01",{"$f":"TEXT(Table_Query_from_Great_Plains[[#This Row],[ITEMNMBR]],0)","v":"RHEG01"},"Custom - Evergreen Construction Corp -  snacks and custom items (RHuston)","RETAIL",0,0]
["RHEH01",{"$f":"TEXT(Table_Query_from_Great_Plains[[#This Row],[ITEMNMBR]],0)","v":"RHEH01"},"Custom champagne, snacks, and chocolates for Enterprise (RHuston)","RETAIL",1,100]
["RHEH02",{"$f":"TEXT(Table_Query_from_Great_Plains[[#This Row],[ITEMNMBR]],0)","v":"RHEH02"},"Custom: Poker Time Snacker for Enterprise (RHuston)","RETAIL",0,150]
["RHELV1",{"$f":"TEXT(Table_Query_from_Great_Plains[[#This Row],[ITEMNMBR]],0)","v":"RHELV1"},"Custom Chocolate Deluxe","RETAIL",0,103.77]
["RHELV2",{"$f":"TEXT(Table_Query_from_Great_Plains[[#This Row],[ITEMNMBR]],0)","v":"RHELV2"},"ELV Custom Chocolate Classic","RETAIL",0,69.989999999999995]
["RHELV5",{"$f":"TEXT(Table_Query_from_Great_Plains[[#This Row],[ITEMNMBR]],0)","v":"RHELV5"},"Custom: ELV Chocolate Classic","RETAIL",0,69.989999999999995]
["RHELV6",{"$f":"TEXT(Table_Query_from_Great_Plains[[#This Row],[ITEMNMBR]],0)","v":"RHELV6"},"Custom : ELV  Chocolate Premium","RETAIL",0,99.99]
["RHFD01",{"$f":"TEXT(Table_Query_from_Great_Plains[[#This Row],[ITEMNMBR]],0)","v":"RHFD01"},"Custom Corporate Snack Basket","RETAIL",0,45]
["RHFF01",{"$f":"TEXT(Table_Query_from_Great_Plains[[#This Row],[ITEMNMBR]],0)","v":"RHFF01"},"Ultimate Custom Baby Basket","RETAIL",0,214.78]
["RHFF02",{"$f":"TEXT(Table_Query_from_Great_Plains[[#This Row],[ITEMNMBR]],0)","v":"RHFF02"},"Custom Gift Basket","RETAIL",0,93.99]
["RHFF03",{"$f":"TEXT(Table_Query_from_Great_Plains[[#This Row],[ITEMNMBR]],0)","v":"RHFF03"},"Custom Gift Basket","RETAIL",0,132.87]
["RHFF04",{"$f":"TEXT(Table_Query_from_Great_Plains[[#This Row],[ITEMNMBR]],0)","v":"RHFF04"},"Custom Baby Basket","RETAIL",0,143.99]
["RHFF06",{"$f":"TEXT(Table_Query_from_Great_Plains[[#This Row],[ITEMNMBR]],0)","v":"RHFF06"},"Custom Fondue ( Ryan H. )","RETAIL",0,75.989999999999995]
["RHFF07",{"$f":"TEXT(Table_Query_from_Great_Plains[[#This Row],[ITEMNMBR]],0)","v":"RHFF07"},"Custom Sugar Free ( Ryan H.)","RETAIL",0,54.99]
["RHFF10",{"$f":"TEXT(Table_Query_from_Great_Plains[[#This Row],[ITEMNMBR]],0)","v":"RHFF10"},"Custom for baby boy ( Ryan Huston)","RETAIL",0,110]
["RHFF11",{"$f":"TEXT(Table_Query_from_Great_Plains[[#This Row],[ITEMNMBR]],0)","v":"RHFF11"},"Custom for Baby Girl ( Ryan Huston)","RETAIL",0,200]
["RHFF12",{"$f":"TEXT(Table_Query_from_Great_Plains[[#This Row],[ITEMNMBR]],0)","v":"RHFF12"},"Custom for Baby Boy (Ryan Huston)","RETAIL",0,220]
["RHFF13",{"$f":"TEXT(Table_Query_from_Great_Plains[[#This Row],[ITEMNMBR]],0)","v":"RHFF13"},"Custom for Baby Girl (Ryan Huston)","RETAIL",0,139.99]
["RHFF14",{"$f":"TEXT(Table_Query_from_Great_Plains[[#This Row],[ITEMNMBR]],0)","v":"RHFF14"},"Custom Baby Girl","RETAIL",0,224.99]
["RHFF15",{"$f":"TEXT(Table_Query_from_Great_Plains[[#This Row],[ITEMNMBR]],0)","v":"RHFF15"},"Custom Baby Stack Pink for Ryan H.","RETAIL",0,141.99]
["RHFF16",{"$f":"TEXT(Table_Query_from_Great_Plains[[#This Row],[ITEMNMBR]],0)","v":"RHFF16"},"Custom: Healthy Basket (R.Huston)","RETAIL",0,50]
["RHFF17",{"$f":"TEXT(Table_Query_from_Great_Plains[[#This Row],[ITEMNMBR]],0)","v":"RHFF17"},"Custom: Kosher (R.Huston)","RETAIL",0,50]
["RHFF18",{"$f":"TEXT(Table_Query_from_Great_Plains[[#This Row],[ITEMNMBR]],0)","v":"RHFF18"},"Custom: Healthy Basket (R.Huston)","RETAIL",0,50]
["RHFF19",{"$f":"TEXT(Table_Query_from_Great_Plains[[#This Row],[ITEMNMBR]],0)","v":"RHFF19"},"Custom: Healthy snacks in golf bag (R.Huston)","RETAIL",0,79.989999999999995]
["RHFS01",{"$f":"TEXT(Table_Query_from_Great_Plains[[#This Row],[ITEMNMBR]],0)","v":"RHFS01"},"Custom Cabernet, crackers, cheese and honey (Ryan Huston)","RETAIL",1,175]
["RHFW01",{"$f":"TEXT(Table_Query_from_Great_Plains[[#This Row],[ITEMNMBR]],0)","v":"RHFW01"},"Foxwoods Custom Basket 1","RETAIL",0,21]
["RHFW05",{"$f":"TEXT(Table_Query_from_Great_Plains[[#This Row],[ITEMNMBR]],0)","v":"RHFW05"},"Foxwoods Custom Basket 5","RETAIL",0,37]
["RHFW06",{"$f":"TEXT(Table_Query_from_Great_Plains[[#This Row],[ITEMNMBR]],0)","v":"RHFW06"},"Custom: Foxwoods  - tower of snacks and treats  (Ryan H)","RETAIL",0,50]
["RHFW07",{"$f":"TEXT(Table_Query_from_Great_Plains[[#This Row],[ITEMNMBR]],0)","v":"RHFW07"},"Custom: Foxwoods - Chinese New Year","RETAIL",0,35]
["RHFW08",{"$f":"TEXT(Table_Query_from_Great_Plains[[#This Row],[ITEMNMBR]],0)","v":"RHFW08"},"Custom: Foxwoods - Easter","RETAIL",0,14]
["RHGS01",{"$f":"TEXT(Table_Query_from_Great_Plains[[#This Row],[ITEMNMBR]],0)","v":"RHGS01"},"Custom Basket","RETAIL",0,196.72]
["RHGS02",{"$f":"TEXT(Table_Query_from_Great_Plains[[#This Row],[ITEMNMBR]],0)","v":"RHGS02"},"Custom Basket","RETAIL",0,100]
["RHGT01",{"$f":"TEXT(Table_Query_from_Great_Plains[[#This Row],[ITEMNMBR]],0)","v":"RHGT01"},"Custom Geo Temps $54.99","RETAIL",0,54.99]
["RHGT02",{"$f":"TEXT(Table_Query_from_Great_Plains[[#This Row],[ITEMNMBR]],0)","v":"RHGT02"},"Custom Geo Temps $84.99","RETAIL",0,84.99]
["RHHH01",{"$f":"TEXT(Table_Query_from_Great_Plains[[#This Row],[ITEMNMBR]],0)","v":"RHHH01"},"Custom TexMex Basket #1","RETAIL",0,77.61]
["RHHH02",{"$f":"TEXT(Table_Query_from_Great_Plains[[#This Row],[ITEMNMBR]],0)","v":"RHHH02"},"Custom TexMex Basket #2","RETAIL",0,108.11]
["RHI001",{"$f":"TEXT(Table_Query_from_Great_Plains[[#This Row],[ITEMNMBR]],0)","v":"RHI001"},"7 pc Utensil Set with Case","RETAIL",0,100]
["RHI003",{"$f":"TEXT(Table_Query_from_Great_Plains[[#This Row],[ITEMNMBR]],0)","v":"RHI003"},"10 Color Fine Line Markers","RETAIL",0,100]
["RHI005",{"$f":"TEXT(Table_Query_from_Great_Plains[[#This Row],[ITEMNMBR]],0)","v":"RHI005"},"Bold + Pastel Easter Eggs","RETAIL",0,100]
["RHJJ01",{"$f":"TEXT(Table_Query_from_Great_Plains[[#This Row],[ITEMNMBR]],0)","v":"RHJJ01"},"Custom Cocktail Deluxe","RETAIL",1,159.99]
["RHLA01",{"$f":"TEXT(Table_Query_from_Great_Plains[[#This Row],[ITEMNMBR]],0)","v":"RHLA01"},"Custom Sigature Snack ( Ryan Huston)","RETAIL",0,297.99]
["RHLL01",{"$f":"TEXT(Table_Query_from_Great_Plains[[#This Row],[ITEMNMBR]],0)","v":"RHLL01"},"Custom Health Nut Care Package","RETAIL",0,25]
["RHLL02",{"$f":"TEXT(Table_Query_from_Great_Plains[[#This Row],[ITEMNMBR]],0)","v":"RHLL02"},"Custom Wine Stack","RETAIL",0,40]
["RHLV02",{"$f":"TEXT(Table_Query_from_Great_Plains[[#This Row],[ITEMNMBR]],0)","v":"RHLV02"},"Custom Basket","RETAIL",0,200]
["RHLVO2",{"$f":"TEXT(Table_Query_from_Great_Plains[[#This Row],[ITEMNMBR]],0)","v":"RHLVO2"},"Custom Basket","RETAIL",0,200]
["RHMB01",{"$f":"TEXT(Table_Query_from_Great_Plains[[#This Row],[ITEMNMBR]],0)","v":"RHMB01"},"Custom: McCarthy Builders - large tier - three mugs  (RHuston)","RETAIL",0,100]
["RHMB02",{"$f":"TEXT(Table_Query_from_Great_Plains[[#This Row],[ITEMNMBR]],0)","v":"RHMB02"},"Custom: McCarthy Builders - medium tier - two mugs  (RHuston)","RETAIL",0,75]
["RHMB03",{"$f":"TEXT(Table_Query_from_Great_Plains[[#This Row],[ITEMNMBR]],0)","v":"RHMB03"},"Custom: McCarthy Builders - small tier - one mug  (RHuston)","RETAIL",0,50]
["RHMC01",{"$f":"TEXT(Table_Query_from_Great_Plains[[#This Row],[ITEMNMBR]],0)","v":"RHMC01"},"Custom - Christmas - The Corporate Showstopper - w/ customized ribbon- (RHuston)","RETAIL",0,167.99]
["RHMC02",{"$f":"TEXT(Table_Query_from_Great_Plains[[#This Row],[ITEMNMBR]],0)","v":"RHMC02"},"-Custom - Christmas - Deluxe - w/ customized ribbon - (RHuston)","RETAIL",0,99.99]
["RHMK01",{"$f":"TEXT(Table_Query_from_Great_Plains[[#This Row],[ITEMNMBR]],0)","v":"RHMK01"},"Custom Gift Basket","RETAIL",0,139]
["RHMON1",{"$f":"TEXT(Table_Query_from_Great_Plains[[#This Row],[ITEMNMBR]],0)","v":"RHMON1"},"Custom Marich Truffles","RETAIL",0,7]
["RHMON2",{"$f":"TEXT(Table_Query_from_Great_Plains[[#This Row],[ITEMNMBR]],0)","v":"RHMON2"},"Custom Soup & Crocks Gift Basket","RETAIL",0,87.99]
["RHMON3",{"$f":"TEXT(Table_Query_from_Great_Plains[[#This Row],[ITEMNMBR]],0)","v":"RHMON3"},"Custom Bath & Snack Gift Basket","RETAIL",0,74.989999999999995]
["RHMS01",{"$f":"TEXT(Table_Query_from_Great_Plains[[#This Row],[ITEMNMBR]],0)","v":"RHMS01"},"Custom Signature Series Fruit Basket - $314.99","RETAIL",0,314.99]
["RHMS02",{"$f":"TEXT(Table_Query_from_Great_Plains[[#This Row],[ITEMNMBR]],0)","v":"RHMS02"},"Custom Signature Series Fruit Basket - $329.99","RETAIL",1,329.99]
["RHMVE1",{"$f":"TEXT(Table_Query_from_Great_Plains[[#This Row],[ITEMNMBR]],0)","v":"RHMVE1"},"Custom - 5087 with added wine cooler bag (Ryan H)","RETAIL",1,69.989999999999995]
["RHMVE2",{"$f":"TEXT(Table_Query_from_Great_Plains[[#This Row],[ITEMNMBR]],0)","v":"RHMVE2"},"Custom - 5140 with added wine cooler bag (Ryan H)","RETAIL",1,69.989999999999995]
["RHNB01",{"$f":"TEXT(Table_Query_from_Great_Plains[[#This Row],[ITEMNMBR]],0)","v":"RHNB01"},"Custom Jingle all the way w/ Gum ball","RETAIL",0,47.99]
["RHNB02",{"$f":"TEXT(Table_Query_from_Great_Plains[[#This Row],[ITEMNMBR]],0)","v":"RHNB02"},"Custom Xmas Snack with Gum ball","RETAIL",0,124.99]
["RHNB03",{"$f":"TEXT(Table_Query_from_Great_Plains[[#This Row],[ITEMNMBR]],0)","v":"RHNB03"},"Custom Never Blue Christmas Stack items with CSI - Towel with logo (R.Huston)","RETAIL",0,34.99]
["RHNB04",{"$f":"TEXT(Table_Query_from_Great_Plains[[#This Row],[ITEMNMBR]],0)","v":"RHNB04"},"Custom Never Blue Coffee & Chocolate items with CSI - Towel with logo (R.Huston)","RETAIL",0,70]
["RHNB05",{"$f":"TEXT(Table_Query_from_Great_Plains[[#This Row],[ITEMNMBR]],0)","v":"RHNB05"},"Custom Never Blue Coffee & Chocolate items with CSI - Towel with logo (R.Huston)","RETAIL",0,85]
["RHNB06",{"$f":"TEXT(Table_Query_from_Great_Plains[[#This Row],[ITEMNMBR]],0)","v":"RHNB06"},"Custom Never Blue - Champagne & Chocolates (R.Huston)","RETAIL",1,450]
["RHPC01",{"$f":"TEXT(Table_Query_from_Great_Plains[[#This Row],[ITEMNMBR]],0)","v":"RHPC01"},"Custom Christmas Snack Classic Basket","RETAIL",0,59.99]
["RHPC02",{"$f":"TEXT(Table_Query_from_Great_Plains[[#This Row],[ITEMNMBR]],0)","v":"RHPC02"},"Custom Christmas Snack Premium Basket","RETAIL",0,79.989999999999995]
["RHPC05",{"$f":"TEXT(Table_Query_from_Great_Plains[[#This Row],[ITEMNMBR]],0)","v":"RHPC05"},"Parrish Const. Xmas Ult.","RETAIL",0,124.99]
["RHPC06",{"$f":"TEXT(Table_Query_from_Great_Plains[[#This Row],[ITEMNMBR]],0)","v":"RHPC06"},"Parrish Const. Xmas Classic","RETAIL",0,59.99]
["RHPC07",{"$f":"TEXT(Table_Query_from_Great_Plains[[#This Row],[ITEMNMBR]],0)","v":"RHPC07"},"Parrish Const. Sweets & Treats","RETAIL",0,49.99]
["RHPC08",{"$f":"TEXT(Table_Query_from_Great_Plains[[#This Row],[ITEMNMBR]],0)","v":"RHPC08"},"Parrish Const. Xmas Stack","RETAIL",0,34.99]
["RHPC09",{"$f":"TEXT(Table_Query_from_Great_Plains[[#This Row],[ITEMNMBR]],0)","v":"RHPC09"},"Custom Parrish Construction Group- tote- A (RHuston)","RETAIL",0,35]
["RHPC10",{"$f":"TEXT(Table_Query_from_Great_Plains[[#This Row],[ITEMNMBR]],0)","v":"RHPC10"},"Custom Parrish Construction Group- tote- B (RHuston)","RETAIL",0,50]
["RHPC11",{"$f":"TEXT(Table_Query_from_Great_Plains[[#This Row],[ITEMNMBR]],0)","v":"RHPC11"},"Custom Parrish Construction Group- tote- C (RHuston)","RETAIL",0,75]
["RHPRM1",{"$f":"TEXT(Table_Query_from_Great_Plains[[#This Row],[ITEMNMBR]],0)","v":"RHPRM1"},"Custom:  one gallon white tin  ½ white choc pineapple  ½ island coconut  (RHuston)","RETAIL",0,30.51]
["RHPS01",{"$f":"TEXT(Table_Query_from_Great_Plains[[#This Row],[ITEMNMBR]],0)","v":"RHPS01"},"Custom Basket","RETAIL",0,500.72]
["RHPS02",{"$f":"TEXT(Table_Query_from_Great_Plains[[#This Row],[ITEMNMBR]],0)","v":"RHPS02"},"Custom Cakebread","RETAIL",0,249.99]
["RHPS03",{"$f":"TEXT(Table_Query_from_Great_Plains[[#This Row],[ITEMNMBR]],0)","v":"RHPS03"},"custom signature fruit $250","RETAIL",0,250]
["RHPS04",{"$f":"TEXT(Table_Query_from_Great_Plains[[#This Row],[ITEMNMBR]],0)","v":"RHPS04"},"Custom","RETAIL",0,94.99]
["RHPT01",{"$f":"TEXT(Table_Query_from_Great_Plains[[#This Row],[ITEMNMBR]],0)","v":"RHPT01"},"custom popcorn tin w/ caramel cheesy cheddar sour cream & chive (Ryan H)","RETAIL",0,0]
["RHPT02",{"$f":"TEXT(Table_Query_from_Great_Plains[[#This Row],[ITEMNMBR]],0)","v":"RHPT02"},"custom popcrn tin w/ honey mustard, sun dried tomatoe basil, cookies & cream (Ryan H)","RETAIL",0,0]
["RHPT03",{"$f":"TEXT(Table_Query_from_Great_Plains[[#This Row],[ITEMNMBR]],0)","v":"RHPT03"},"Custom PetSmart Option 3 (Ryan Huston)","RETAIL",0,180]
["RHSB01",{"$f":"TEXT(Table_Query_from_Great_Plains[[#This Row],[ITEMNMBR]],0)","v":"RHSB01"},"Custom Foxwoods Sample","RETAIL",0,40]
["RHSB02",{"$f":"TEXT(Table_Query_from_Great_Plains[[#This Row],[ITEMNMBR]],0)","v":"RHSB02"},"Custom Foxwoods Sample","RETAIL",0,25]
["RHSW01",{"$f":"TEXT(Table_Query_from_Great_Plains[[#This Row],[ITEMNMBR]],0)","v":"RHSW01"},"Custom Fruit Basket ( Ryan Huston)","RETAIL",0,220.99]
["RHTB01",{"$f":"TEXT(Table_Query_from_Great_Plains[[#This Row],[ITEMNMBR]],0)","v":"RHTB01"},"Custom Toll Brothers - branded items - (RHuston)","RETAIL",0,100]
["RHTB02",{"$f":"TEXT(Table_Query_from_Great_Plains[[#This Row],[ITEMNMBR]],0)","v":"RHTB02"},"Custom Toll Brothers Weekend in Paris with Wine","RETAIL",0,269]
["RHTB03",{"$f":"TEXT(Table_Query_from_Great_Plains[[#This Row],[ITEMNMBR]],0)","v":"RHTB03"},"Custom Toll Brothers weekend in paris NO alcohol","RETAIL",0,160]
["RHTB04",{"$f":"TEXT(Table_Query_from_Great_Plains[[#This Row],[ITEMNMBR]],0)","v":"RHTB04"},"Custom Toll Brothers","RETAIL",0,79.989999999999995]
["RHTB05",{"$f":"TEXT(Table_Query_from_Great_Plains[[#This Row],[ITEMNMBR]],0)","v":"RHTB05"},"Custom thank you - red wine & chocolates (RHuston)","RETAIL",1,199.99]
["RHTB06",{"$f":"TEXT(Table_Query_from_Great_Plains[[#This Row],[ITEMNMBR]],0)","v":"RHTB06"},"Custom - Snacks - Toll Brothers (RHuston)","RETAIL",0,125]
["RHTB07",{"$f":"TEXT(Table_Query_from_Great_Plains[[#This Row],[ITEMNMBR]],0)","v":"RHTB07"},"Custom Toll Brothers - generic items - (RHuston)","RETAIL",0,100]
["RHVF01",{"$f":"TEXT(Table_Query_from_Great_Plains[[#This Row],[ITEMNMBR]],0)","v":"RHVF01"},"Custom - 4056 slight changes - (RHuston)","RETAIL",0,249.99]
["RHVF02",{"$f":"TEXT(Table_Query_from_Great_Plains[[#This Row],[ITEMNMBR]],0)","v":"RHVF02"},"Custom - 5230 slight changes - (RHuston)","RETAIL",0,149.99]
["RHVF03",{"$f":"TEXT(Table_Query_from_Great_Plains[[#This Row],[ITEMNMBR]],0)","v":"RHVF03"},"Custom - Tower with snacks - (RHuston)","RETAIL",0,75]
["RHVL01",{"$f":"TEXT(Table_Query_from_Great_Plains[[#This Row],[ITEMNMBR]],0)","v":"RHVL01"},"Custom Basket","RETAIL",0,200]
["RHVL03",{"$f":"TEXT(Table_Query_from_Great_Plains[[#This Row],[ITEMNMBR]],0)","v":"RHVL03"},"Custom Gift Basket","RETAIL",0,213.99]
["RHVL04",{"$f":"TEXT(Table_Query_from_Great_Plains[[#This Row],[ITEMNMBR]],0)","v":"RHVL04"},"Custom Gift Basket","RETAIL",0,199.99]
["RHVL05",{"$f":"TEXT(Table_Query_from_Great_Plains[[#This Row],[ITEMNMBR]],0)","v":"RHVL05"},"Custom Gift Basket","RETAIL",0,199.99]
["RHVL06",{"$f":"TEXT(Table_Query_from_Great_Plains[[#This Row],[ITEMNMBR]],0)","v":"RHVL06"},"Custom Beer & Seafood","RETAIL",1,279.99]
["RHVL07",{"$f":"TEXT(Table_Query_from_Great_Plains[[#This Row],[ITEMNMBR]],0)","v":"RHVL07"},"Custom Baby Girl & Snacks","RETAIL",0,245.99]
["RHVL08",{"$f":"TEXT(Table_Query_from_Great_Plains[[#This Row],[ITEMNMBR]],0)","v":"RHVL08"},"Custom Wine & Beer","RETAIL",1,238.99]
["RHVL09",{"$f":"TEXT(Table_Query_from_Great_Plains[[#This Row],[ITEMNMBR]],0)","v":"RHVL09"},"Custom white wine organic snacks chocolates and kid friendly","RETAIL",1,100]
["RHWG04",{"$f":"TEXT(Table_Query_from_Great_Plains[[#This Row],[ITEMNMBR]],0)","v":"RHWG04"},"Custom Wolf & Greenfield -  Bountiful (RHuston)","RETAIL",0,100.99]
["RHWGLD",{"$f":"TEXT(Table_Query_from_Great_Plains[[#This Row],[ITEMNMBR]],0)","v":"RHWGLD"},"Custom W. Greenfield $150.00","RETAIL",0,150]
["RHWGLI",{"$f":"TEXT(Table_Query_from_Great_Plains[[#This Row],[ITEMNMBR]],0)","v":"RHWGLI"},"Custom W. Greenfield $150.00","RETAIL",0,150]
["RHWGMD",{"$f":"TEXT(Table_Query_from_Great_Plains[[#This Row],[ITEMNMBR]],0)","v":"RHWGMD"},"Custom W. Greenfield $100.00","RETAIL",0,100]
["RHWGMI",{"$f":"TEXT(Table_Query_from_Great_Plains[[#This Row],[ITEMNMBR]],0)","v":"RHWGMI"},"Custom W. Greenfield $75.00","RETAIL",0,75]
["RHWGSD",{"$f":"TEXT(Table_Query_from_Great_Plains[[#This Row],[ITEMNMBR]],0)","v":"RHWGSD"},"Custom W. Greenfield $75.00","RETAIL",0,75]
["RHWGSI",{"$f":"TEXT(Table_Query_from_Great_Plains[[#This Row],[ITEMNMBR]],0)","v":"RHWGSI"},"Custom W. Greenfield $50.00","RETAIL",0,50]
["RIBBON",{"$f":"TEXT(Table_Query_from_Great_Plains[[#This Row],[ITEMNMBR]],0)","v":"RIBBON"},"Customer Ribbon","RETAIL",0,0]
["RIT001",{"$f":"TEXT(Table_Query_from_Great_Plains[[#This Row],[ITEMNMBR]],0)","v":"RIT001"},"Die Cast Toy Car","RETAIL",0,100]
["ROD001",{"$f":"TEXT(Table_Query_from_Great_Plains[[#This Row],[ITEMNMBR]],0)","v":"ROD001"},"Roden Surplus Imports Golf Bucket with Practice Balls","RETAIL",0,100]
["ROD002",{"$f":"TEXT(Table_Query_from_Great_Plains[[#This Row],[ITEMNMBR]],0)","v":"ROD002"},"Roden Surplus Imports Golf Practice Balls","RETAIL",0,100]
["ROY001",{"$f":"TEXT(Table_Query_from_Great_Plains[[#This Row],[ITEMNMBR]],0)","v":"ROY001"},"DRY ICE POLLY BAGS","RETAIL",0,100]
["S0996",{"$f":"TEXT(Table_Query_from_Great_Plains[[#This Row],[ITEMNMBR]],0)","v":"S0996"},"Custom 8 Jack O Lantern Mugs (Anne)","RETAIL",0,40]
["SAB001",{"$f":"TEXT(Table_Query_from_Great_Plains[[#This Row],[ITEMNMBR]],0)","v":"SAB001"},"Tipsy Cocktail Stirrers by Sable & Rosenfeld - 9.7oz. -","RETAIL",0,100]
["SAB002",{"$f":"TEXT(Table_Query_from_Great_Plains[[#This Row],[ITEMNMBR]],0)","v":"SAB002"},"Tipsy Cherries by Sable & Rosenfeld - 10 oz. -","RETAIL",0,100]
["SAM001",{"$f":"TEXT(Table_Query_from_Great_Plains[[#This Row],[ITEMNMBR]],0)","v":"SAM001"},"Samar Distributors Fiesta Grande Margarita Glasses","RETAIL",0,100]
["SAM049",{"$f":"TEXT(Table_Query_from_Great_Plains[[#This Row],[ITEMNMBR]],0)","v":"SAM049"},"Wonka Mix Ups - 48 ounce bag","RETAIL",0,100]
["SAM056",{"$f":"TEXT(Table_Query_from_Great_Plains[[#This Row],[ITEMNMBR]],0)","v":"SAM056"},"Dum Dum Lollipops","RETAIL",0,100]
["SBC024",{"$f":"TEXT(Table_Query_from_Great_Plains[[#This Row],[ITEMNMBR]],0)","v":"SBC024"},"Key Lime Moravian Cookies by Salem Baking - 1 oz. -","RETAIL",0,100]
["SCO001",{"$f":"TEXT(Table_Query_from_Great_Plains[[#This Row],[ITEMNMBR]],0)","v":"SCO001"},"Sconza Assorted Sunlights 7oz","RETAIL",0,100]
["SHIPPING",{"$f":"TEXT(Table_Query_from_Great_Plains[[#This Row],[ITEMNMBR]],0)","v":"SHIPPING"},"Shipping","RETAIL",0,0]
["SHOWPOP",{"$f":"TEXT(Table_Query_from_Great_Plains[[#This Row],[ITEMNMBR]],0)","v":"SHOWPOP"},"Popcorn Sold At A Venue","RETAIL",0,0]
["SKP001",{"$f":"TEXT(Table_Query_from_Great_Plains[[#This Row],[ITEMNMBR]],0)","v":"SKP001"},"S & K Products Company 10 Quart Galvanized Steel Bucket 10 QT","RETAIL",0,100]
["SKP002",{"$f":"TEXT(Table_Query_from_Great_Plains[[#This Row],[ITEMNMBR]],0)","v":"SKP002"},"S & K Products Company 5 Quart Galvanized Steel Bucket 5 QT","RETAIL",0,100]
["SKP003",{"$f":"TEXT(Table_Query_from_Great_Plains[[#This Row],[ITEMNMBR]],0)","v":"SKP003"},"S & K Products Company 16 Quart Galvanized Steel Bucket 16 QT","RETAIL",0,100]
["SMR001",{"$f":"TEXT(Table_Query_from_Great_Plains[[#This Row],[ITEMNMBR]],0)","v":"SMR001"},"Samar Distributors Fiesta Grande Margarita Glasses","RETAIL",0,100]
["SMR002",{"$f":"TEXT(Table_Query_from_Great_Plains[[#This Row],[ITEMNMBR]],0)","v":"SMR002"},"Samar Distributors Libbey Blue Baronrita glasses","RETAIL",0,100]
["STA001",{"$f":"TEXT(Table_Query_from_Great_Plains[[#This Row],[ITEMNMBR]],0)","v":"STA001"},"Sports Themed Wooden Peg Games Assorted Themes","RETAIL",0,100]
["STA002",{"$f":"TEXT(Table_Query_from_Great_Plains[[#This Row],[ITEMNMBR]],0)","v":"STA002"},"Standard Playing Cards","RETAIL",0,100]
["STA003",{"$f":"TEXT(Table_Query_from_Great_Plains[[#This Row],[ITEMNMBR]],0)","v":"STA003"},"Puzzle Shapes Assorted Games","RETAIL",0,100]
["STA004",{"$f":"TEXT(Table_Query_from_Great_Plains[[#This Row],[ITEMNMBR]],0)","v":"STA004"},"16\" Tye Dye beach ball","RETAIL",0,100]
["STE001",{"$f":"TEXT(Table_Query_from_Great_Plains[[#This Row],[ITEMNMBR]],0)","v":"STE001"},"Stephan Baby Rattle Post - Rose","RETAIL",0,100]
["STE002",{"$f":"TEXT(Table_Query_from_Great_Plains[[#This Row],[ITEMNMBR]],0)","v":"STE002"},"Stephan Baby Rattle Post - Blue Blocks","RETAIL",0,100]
["STE003",{"$f":"TEXT(Table_Query_from_Great_Plains[[#This Row],[ITEMNMBR]],0)","v":"STE003"},"Stephan Baby Bottle Bank - Pink Flowers","RETAIL",0,100]
["STE004",{"$f":"TEXT(Table_Query_from_Great_Plains[[#This Row],[ITEMNMBR]],0)","v":"STE004"},"Stephan Baby Bottle Bank - Blue Cars","RETAIL",0,100]
["STE005",{"$f":"TEXT(Table_Query_from_Great_Plains[[#This Row],[ITEMNMBR]],0)","v":"STE005"},"Stephan Baby Tooth Fairy Pillow - Pink","RETAIL",0,100]
["STE006",{"$f":"TEXT(Table_Query_from_Great_Plains[[#This Row],[ITEMNMBR]],0)","v":"STE006"},"Stephan Baby Tooth Fairy Pillow - Blue","RETAIL",0,100]
["STE008",{"$f":"TEXT(Table_Query_from_Great_Plains[[#This Row],[ITEMNMBR]],0)","v":"STE008"},"Stephan Baby Keepsake Box - Cup/Fork/Spoon","RETAIL",0,100]
["STE009",{"$f":"TEXT(Table_Query_from_Great_Plains[[#This Row],[ITEMNMBR]],0)","v":"STE009"},"Stephan Baby Fleece Blanket - Pink","RETAIL",0,100]
["STE010",{"$f":"TEXT(Table_Query_from_Great_Plains[[#This Row],[ITEMNMBR]],0)","v":"STE010"},"Stephan Baby Fleece Blanket - Blue","RETAIL",0,100]
["STE011",{"$f":"TEXT(Table_Query_from_Great_Plains[[#This Row],[ITEMNMBR]],0)","v":"STE011"},"Stephan Baby Shawl Blanket - Pink","RETAIL",0,100]
["STE012",{"$f":"TEXT(Table_Query_from_Great_Plains[[#This Row],[ITEMNMBR]],0)","v":"STE012"},"Stephan Baby Shawl Blanket - Blue","RETAIL",0,100]
["STE013",{"$f":"TEXT(Table_Query_from_Great_Plains[[#This Row],[ITEMNMBR]],0)","v":"STE013"},"Stephan Baby Keepsake Memory Set - Birth Cert, Hair, Tooth","RETAIL",0,100]
["STE014",{"$f":"TEXT(Table_Query_from_Great_Plains[[#This Row],[ITEMNMBR]],0)","v":"STE014"},"Stephan Baby Keepsake Silver Rattle","RETAIL",0,100]
["STE015",{"$f":"TEXT(Table_Query_from_Great_Plains[[#This Row],[ITEMNMBR]],0)","v":"STE015"},"Blue Piggy Bank Polka Dot 8\"","RETAIL",0,100]
["STE016",{"$f":"TEXT(Table_Query_from_Great_Plains[[#This Row],[ITEMNMBR]],0)","v":"STE016"},"PInk Piggy Bank Polka Dot  8\"","RETAIL",0,100]
["STE018",{"$f":"TEXT(Table_Query_from_Great_Plains[[#This Row],[ITEMNMBR]],0)","v":"STE018"},"Stephan Baby Duck Decal Terry Robe","RETAIL",0,100]
["T10-3A",{"$f":"TEXT(Table_Query_from_Great_Plains[[#This Row],[ITEMNMBR]],0)","v":"T10-3A"},"A Little Pink Me Up","RETAIL",0,80]
["T100-3A",{"$f":"TEXT(Table_Query_from_Great_Plains[[#This Row],[ITEMNMBR]],0)","v":"T100-3A"},"Serene Retreat","RETAIL",0,74.989999999999995]
["T105-1A",{"$f":"TEXT(Table_Query_from_Great_Plains[[#This Row],[ITEMNMBR]],0)","v":"T105-1A"},"Simply Elegant Spathiphyllum - Small","RETAIL",0,42.99]
["T105-2A",{"$f":"TEXT(Table_Query_from_Great_Plains[[#This Row],[ITEMNMBR]],0)","v":"T105-2A"},"Simply Elegant Spathiphyllum","RETAIL",0,57.99]
["T11Z100A",{"$f":"TEXT(Table_Query_from_Great_Plains[[#This Row],[ITEMNMBR]],0)","v":"T11Z100A"},"Hugs and Kisses","RETAIL",0,50]
["T11Z105A",{"$f":"TEXT(Table_Query_from_Great_Plains[[#This Row],[ITEMNMBR]],0)","v":"T11Z105A"},"Daisy Daydreams","RETAIL",0,40]
["T128-2A",{"$f":"TEXT(Table_Query_from_Great_Plains[[#This Row],[ITEMNMBR]],0)","v":"T128-2A"},"Be My Love","RETAIL",0,60]
["T145-1A",{"$f":"TEXT(Table_Query_from_Great_Plains[[#This Row],[ITEMNMBR]],0)","v":"T145-1A"},"Teleflora's Possibly Pink","RETAIL",0,60]
["T148-2A",{"$f":"TEXT(Table_Query_from_Great_Plains[[#This Row],[ITEMNMBR]],0)","v":"T148-2A"},"Passionate Purple Tulips","RETAIL",0,55]
["T152-2A",{"$f":"TEXT(Table_Query_from_Great_Plains[[#This Row],[ITEMNMBR]],0)","v":"T152-2A"},"Sunny Sunflowers","RETAIL",0,55]
["T156-1A",{"$f":"TEXT(Table_Query_from_Great_Plains[[#This Row],[ITEMNMBR]],0)","v":"T156-1A"},"Gerbera Bright","RETAIL",0,60]
["T157-2A",{"$f":"TEXT(Table_Query_from_Great_Plains[[#This Row],[ITEMNMBR]],0)","v":"T157-2A"},"End of the Rainbow","RETAIL",0,75]
["T209-3A",{"$f":"TEXT(Table_Query_from_Great_Plains[[#This Row],[ITEMNMBR]],0)","v":"T209-3A"},"Beautiful In Blue","RETAIL",0,75]
["T211-1A",{"$f":"TEXT(Table_Query_from_Great_Plains[[#This Row],[ITEMNMBR]],0)","v":"T211-1A"},"A Full Life","RETAIL",0,105]
["T212-2A",{"$f":"TEXT(Table_Query_from_Great_Plains[[#This Row],[ITEMNMBR]],0)","v":"T212-2A"},"Medium Dish Garden","RETAIL",0,82.99]
["T218-3A",{"$f":"TEXT(Table_Query_from_Great_Plains[[#This Row],[ITEMNMBR]],0)","v":"T218-3A"},"Basket of Memories","RETAIL",0,95]
["T228-1A",{"$f":"TEXT(Table_Query_from_Great_Plains[[#This Row],[ITEMNMBR]],0)","v":"T228-1A"},"Peaceful White Lilies Basket","RETAIL",0,90]
["T246-2A",{"$f":"TEXT(Table_Query_from_Great_Plains[[#This Row],[ITEMNMBR]],0)","v":"T246-2A"},"Ocean Breeze Spray","RETAIL",0,165]
["T249-2A",{"$f":"TEXT(Table_Query_from_Great_Plains[[#This Row],[ITEMNMBR]],0)","v":"T249-2A"},"Pink Tribute Spray","RETAIL",0,105]
["T27-2A",{"$f":"TEXT(Table_Query_from_Great_Plains[[#This Row],[ITEMNMBR]],0)","v":"T27-2A"},"Basket Full of Wishes","RETAIL",0,65]
["T28-1A",{"$f":"TEXT(Table_Query_from_Great_Plains[[#This Row],[ITEMNMBR]],0)","v":"T28-1A"},"Teleflora's Brilliant Birthday Blooms","RETAIL",0,55]
["T37-1A",{"$f":"TEXT(Table_Query_from_Great_Plains[[#This Row],[ITEMNMBR]],0)","v":"T37-1A"},"Cotton Candy","RETAIL",0,55]
["T41-1A",{"$f":"TEXT(Table_Query_from_Great_Plains[[#This Row],[ITEMNMBR]],0)","v":"T41-1A"},"Garden Parade","RETAIL",0,70]
["T42-1A",{"$f":"TEXT(Table_Query_from_Great_Plains[[#This Row],[ITEMNMBR]],0)","v":"T42-1A"},"Teleflora's Sunny Smiles","RETAIL",0,55]
["T43-1A",{"$f":"TEXT(Table_Query_from_Great_Plains[[#This Row],[ITEMNMBR]],0)","v":"T43-1A"},"Teleflora's Be Happy Bouquet","RETAIL",0,50]
["T43-1B",{"$f":"TEXT(Table_Query_from_Great_Plains[[#This Row],[ITEMNMBR]],0)","v":"T43-1B"},"Teleflora's Be Happy Bouquet Deluxe","RETAIL",0,70]
["T46-1A",{"$f":"TEXT(Table_Query_from_Great_Plains[[#This Row],[ITEMNMBR]],0)","v":"T46-1A"},"How Sweet It Is","RETAIL",0,50]
["T46-1B",{"$f":"TEXT(Table_Query_from_Great_Plains[[#This Row],[ITEMNMBR]],0)","v":"T46-1B"},"How Sweet It Is Deluxe","RETAIL",0,70]
["T47-2A",{"$f":"TEXT(Table_Query_from_Great_Plains[[#This Row],[ITEMNMBR]],0)","v":"T47-2A"},"Fiery Lily and Rose","RETAIL",0,80]
["T47-3A",{"$f":"TEXT(Table_Query_from_Great_Plains[[#This Row],[ITEMNMBR]],0)","v":"T47-3A"},"Teleflora's Uniquely Chic","RETAIL",0,70]
["T48-1A",{"$f":"TEXT(Table_Query_from_Great_Plains[[#This Row],[ITEMNMBR]],0)","v":"T48-1A"},"Jumping For Joy","RETAIL",0,47.5]
["T5-1A",{"$f":"TEXT(Table_Query_from_Great_Plains[[#This Row],[ITEMNMBR]],0)","v":"T5-1A"},"Lavish Love","RETAIL",0,95]
["T50-1A",{"$f":"TEXT(Table_Query_from_Great_Plains[[#This Row],[ITEMNMBR]],0)","v":"T50-1A"},"Enchanted Cottage","RETAIL",0,65]
["T50-2A",{"$f":"TEXT(Table_Query_from_Great_Plains[[#This Row],[ITEMNMBR]],0)","v":"T50-2A"},"Sweet As Sugar by Teleflora","RETAIL",0,75]
["T50-3A",{"$f":"TEXT(Table_Query_from_Great_Plains[[#This Row],[ITEMNMBR]],0)","v":"T50-3A"},"Love and Laughter","RETAIL",0,60]
["T55-2A",{"$f":"TEXT(Table_Query_from_Great_Plains[[#This Row],[ITEMNMBR]],0)","v":"T55-2A"},"Arrive In Style","RETAIL",0,50]
["T55-3A",{"$f":"TEXT(Table_Query_from_Great_Plains[[#This Row],[ITEMNMBR]],0)","v":"T55-3A"},"Isle of White","RETAIL",0,70]
["T64-1A",{"$f":"TEXT(Table_Query_from_Great_Plains[[#This Row],[ITEMNMBR]],0)","v":"T64-1A"},"Always On My Mind","RETAIL",0,85]
["T68-3A",{"$f":"TEXT(Table_Query_from_Great_Plains[[#This Row],[ITEMNMBR]],0)","v":"T68-3A"},"Teleflora's Morning Melody","RETAIL",0,50]
["T8-1A",{"$f":"TEXT(Table_Query_from_Great_Plains[[#This Row],[ITEMNMBR]],0)","v":"T8-1A"},"Always A Lady","RETAIL",0,90]
["T81-1A",{"$f":"TEXT(Table_Query_from_Great_Plains[[#This Row],[ITEMNMBR]],0)","v":"T81-1A"},"Zen Artistry","RETAIL",0,60]
["T9-1A",{"$f":"TEXT(Table_Query_from_Great_Plains[[#This Row],[ITEMNMBR]],0)","v":"T9-1A"},"Isn't It Romantic","RETAIL",0,105]
["T92-3A",{"$f":"TEXT(Table_Query_from_Great_Plains[[#This Row],[ITEMNMBR]],0)","v":"T92-3A"},"Violets and Butterflies","RETAIL",0,50]
["T93-1A",{"$f":"TEXT(Table_Query_from_Great_Plains[[#This Row],[ITEMNMBR]],0)","v":"T93-1A"},"Spring Has Sprung","RETAIL",0,59.99]
["TAG001",{"$f":"TEXT(Table_Query_from_Great_Plains[[#This Row],[ITEMNMBR]],0)","v":"TAG001"},"Taggies Taggie Crib Blanket - Sunny Day","RETAIL",0,100]
["TAG002",{"$f":"TEXT(Table_Query_from_Great_Plains[[#This Row],[ITEMNMBR]],0)","v":"TAG002"},"Taggies Taggie Pillow - Sunny Day","RETAIL",0,100]
["TAG003",{"$f":"TEXT(Table_Query_from_Great_Plains[[#This Row],[ITEMNMBR]],0)","v":"TAG003"},"Taggies Taggie \"Sweet Dreams\" Book","RETAIL",0,100]
["TAP001",{"$f":"TEXT(Table_Query_from_Great_Plains[[#This Row],[ITEMNMBR]],0)","v":"TAP001"},"Milk Chocolate Covered Pretzels by Tapestry - 6 oz. -","RETAIL",0,100]
["TF1-1",{"$f":"TEXT(Table_Query_from_Great_Plains[[#This Row],[ITEMNMBR]],0)","v":"TF1-1"},"Cover Arrangement","RETAIL",0,100]
["TF10-1",{"$f":"TEXT(Table_Query_from_Great_Plains[[#This Row],[ITEMNMBR]],0)","v":"TF10-1"},"Fresh Memories","RETAIL",0,100]
["TF100-1",{"$f":"TEXT(Table_Query_from_Great_Plains[[#This Row],[ITEMNMBR]],0)","v":"TF100-1"},"Permanent Wreath","RETAIL",0,100]
["TF101-1",{"$f":"TEXT(Table_Query_from_Great_Plains[[#This Row],[ITEMNMBR]],0)","v":"TF101-1"},"Permanent Centerpiece","RETAIL",0,100]
["TF101-2",{"$f":"TEXT(Table_Query_from_Great_Plains[[#This Row],[ITEMNMBR]],0)","v":"TF101-2"},"Permanent Angel Arrangement","RETAIL",0,100]
["TF102-1",{"$f":"TEXT(Table_Query_from_Great_Plains[[#This Row],[ITEMNMBR]],0)","v":"TF102-1"},"Holiday Planter Basket","RETAIL",0,100]
["TF102-2",{"$f":"TEXT(Table_Query_from_Great_Plains[[#This Row],[ITEMNMBR]],0)","v":"TF102-2"},"Winter Greens Basket","RETAIL",0,100]
["TF102-3",{"$f":"TEXT(Table_Query_from_Great_Plains[[#This Row],[ITEMNMBR]],0)","v":"TF102-3"},"Christmas Cactus","RETAIL",0,100]
["TF102-4",{"$f":"TEXT(Table_Query_from_Great_Plains[[#This Row],[ITEMNMBR]],0)","v":"TF102-4"},"Paperwhite Narcissus","RETAIL",0,100]
["TF103-1",{"$f":"TEXT(Table_Query_from_Great_Plains[[#This Row],[ITEMNMBR]],0)","v":"TF103-1"},"Large Red Poinsettia","RETAIL",0,100]
["TF103-2",{"$f":"TEXT(Table_Query_from_Great_Plains[[#This Row],[ITEMNMBR]],0)","v":"TF103-2"},"White Poinsettia","RETAIL",0,100]
["TF103-3",{"$f":"TEXT(Table_Query_from_Great_Plains[[#This Row],[ITEMNMBR]],0)","v":"TF103-3"},"Poinsettia Basket","RETAIL",0,100]
["TF104-1",{"$f":"TEXT(Table_Query_from_Great_Plains[[#This Row],[ITEMNMBR]],0)","v":"TF104-1"},"Fabulous Fruit Basket","RETAIL",0,100]
["TF104-2",{"$f":"TEXT(Table_Query_from_Great_Plains[[#This Row],[ITEMNMBR]],0)","v":"TF104-2"},"Tower of Fruit","RETAIL",0,100]
["TF104-3",{"$f":"TEXT(Table_Query_from_Great_Plains[[#This Row],[ITEMNMBR]],0)","v":"TF104-3"},"Fruit & Gourmet Basket","RETAIL",0,100]
["TF107-1",{"$f":"TEXT(Table_Query_from_Great_Plains[[#This Row],[ITEMNMBR]],0)","v":"TF107-1"},"Brighten Your Day","RETAIL",0,100]
["TF108-1",{"$f":"TEXT(Table_Query_from_Great_Plains[[#This Row],[ITEMNMBR]],0)","v":"TF108-1"},"Balloons & A Boost","RETAIL",0,100]
["TF109-2",{"$f":"TEXT(Table_Query_from_Great_Plains[[#This Row],[ITEMNMBR]],0)","v":"TF109-2"},"Be Happy Bouquet","RETAIL",0,0]
["TF109-3",{"$f":"TEXT(Table_Query_from_Great_Plains[[#This Row],[ITEMNMBR]],0)","v":"TF109-3"},"Yellow Flower Basket","RETAIL",0,100]
["TF11-1",{"$f":"TEXT(Table_Query_from_Great_Plains[[#This Row],[ITEMNMBR]],0)","v":"TF11-1"},"Touch of Butterflies","RETAIL",0,100]
["TF11-2",{"$f":"TEXT(Table_Query_from_Great_Plains[[#This Row],[ITEMNMBR]],0)","v":"TF11-2"},"Bring on the Cheer","RETAIL",0,100]
["TF11-3",{"$f":"TEXT(Table_Query_from_Great_Plains[[#This Row],[ITEMNMBR]],0)","v":"TF11-3"},"Sunny Days","RETAIL",0,100]
["TF110-1",{"$f":"TEXT(Table_Query_from_Great_Plains[[#This Row],[ITEMNMBR]],0)","v":"TF110-1"},"Wishing You Well","RETAIL",0,100]
["TF111-1",{"$f":"TEXT(Table_Query_from_Great_Plains[[#This Row],[ITEMNMBR]],0)","v":"TF111-1"},"Pink Roses Teacup Bouquet","RETAIL",0,100]
["TF111-2",{"$f":"TEXT(Table_Query_from_Great_Plains[[#This Row],[ITEMNMBR]],0)","v":"TF111-2"},"Garden Comforts","RETAIL",0,100]
["TF112-1",{"$f":"TEXT(Table_Query_from_Great_Plains[[#This Row],[ITEMNMBR]],0)","v":"TF112-1"},"Orchid Cheer","RETAIL",0,100]
["TF115-1",{"$f":"TEXT(Table_Query_from_Great_Plains[[#This Row],[ITEMNMBR]],0)","v":"TF115-1"},"Red Roses & Stargazers","RETAIL",0,100]
["TF116-1",{"$f":"TEXT(Table_Query_from_Great_Plains[[#This Row],[ITEMNMBR]],0)","v":"TF116-1"},"White Roses","RETAIL",0,100]
["TF117-1",{"$f":"TEXT(Table_Query_from_Great_Plains[[#This Row],[ITEMNMBR]],0)","v":"TF117-1"},"Two Dozen Red Roses","RETAIL",0,100]
["TF117-2",{"$f":"TEXT(Table_Query_from_Great_Plains[[#This Row],[ITEMNMBR]],0)","v":"TF117-2"},"Red Roses & Dendrobiums","RETAIL",0,100]
["TF117-3",{"$f":"TEXT(Table_Query_from_Great_Plains[[#This Row],[ITEMNMBR]],0)","v":"TF117-3"},"White Roses & Lilies","RETAIL",0,100]
["TF118-1",{"$f":"TEXT(Table_Query_from_Great_Plains[[#This Row],[ITEMNMBR]],0)","v":"TF118-1"},"Dinner Table Centerpiece","RETAIL",0,100]
["TF118-2",{"$f":"TEXT(Table_Query_from_Great_Plains[[#This Row],[ITEMNMBR]],0)","v":"TF118-2"},"White & Blue Bouquet","RETAIL",0,100]
["TF118-3",{"$f":"TEXT(Table_Query_from_Great_Plains[[#This Row],[ITEMNMBR]],0)","v":"TF118-3"},"Phalaenopsis Orchid Plant","RETAIL",0,100]
["TF119-1",{"$f":"TEXT(Table_Query_from_Great_Plains[[#This Row],[ITEMNMBR]],0)","v":"TF119-1"},"Anniversary Bouquet","RETAIL",0,100]
["TF119-2",{"$f":"TEXT(Table_Query_from_Great_Plains[[#This Row],[ITEMNMBR]],0)","v":"TF119-2"},"Silver Mint Julep Bouquet","RETAIL",0,100]
["TF12-1",{"$f":"TEXT(Table_Query_from_Great_Plains[[#This Row],[ITEMNMBR]],0)","v":"TF12-1"},"Hot Pink Basket","RETAIL",0,100]
["TF12-2",{"$f":"TEXT(Table_Query_from_Great_Plains[[#This Row],[ITEMNMBR]],0)","v":"TF12-2"},"Basket of Smiles","RETAIL",0,100]
["TF120-1",{"$f":"TEXT(Table_Query_from_Great_Plains[[#This Row],[ITEMNMBR]],0)","v":"TF120-1"},"Thank You Basket","RETAIL",0,100]
["TF121-1",{"$f":"TEXT(Table_Query_from_Great_Plains[[#This Row],[ITEMNMBR]],0)","v":"TF121-1"},"Spathiphyllum Plant","RETAIL",0,100]
["TF121-2",{"$f":"TEXT(Table_Query_from_Great_Plains[[#This Row],[ITEMNMBR]],0)","v":"TF121-2"},"Mixed Bouquet in Ivy Bowl","RETAIL",0,100]
["TF121-3",{"$f":"TEXT(Table_Query_from_Great_Plains[[#This Row],[ITEMNMBR]],0)","v":"TF121-3"},"Plant & Flower Combination","RETAIL",0,100]
["TF122-1",{"$f":"TEXT(Table_Query_from_Great_Plains[[#This Row],[ITEMNMBR]],0)","v":"TF122-1"},"Parallel Vegetative","RETAIL",0,100]
["TF125-1",{"$f":"TEXT(Table_Query_from_Great_Plains[[#This Row],[ITEMNMBR]],0)","v":"TF125-1"},"Deluxe European Garden Basket","RETAIL",0,100]
["TF126-1",{"$f":"TEXT(Table_Query_from_Great_Plains[[#This Row],[ITEMNMBR]],0)","v":"TF126-1"},"Azalea Attraction Garden Basket","RETAIL",0,100]
["TF127-1",{"$f":"TEXT(Table_Query_from_Great_Plains[[#This Row],[ITEMNMBR]],0)","v":"TF127-1"},"European Garden Basket","RETAIL",0,100]
["TF127-2",{"$f":"TEXT(Table_Query_from_Great_Plains[[#This Row],[ITEMNMBR]],0)","v":"TF127-2"},"Petite European Basket","RETAIL",0,100]
["TF128-1",{"$f":"TEXT(Table_Query_from_Great_Plains[[#This Row],[ITEMNMBR]],0)","v":"TF128-1"},"Purple African Violet","RETAIL",0,100]
["TF128-2",{"$f":"TEXT(Table_Query_from_Great_Plains[[#This Row],[ITEMNMBR]],0)","v":"TF128-2"},"Mixed African Violet Basket","RETAIL",0,100]
["TF128-3",{"$f":"TEXT(Table_Query_from_Great_Plains[[#This Row],[ITEMNMBR]],0)","v":"TF128-3"},"Terrarium","RETAIL",0,100]
["TF129-1",{"$f":"TEXT(Table_Query_from_Great_Plains[[#This Row],[ITEMNMBR]],0)","v":"TF129-1"},"Blue Hydrangea","RETAIL",0,100]
["TF13-1",{"$f":"TEXT(Table_Query_from_Great_Plains[[#This Row],[ITEMNMBR]],0)","v":"TF13-1"},"Delphinium Dreams","RETAIL",0,100]
["TF130-1",{"$f":"TEXT(Table_Query_from_Great_Plains[[#This Row],[ITEMNMBR]],0)","v":"TF130-1"},"Sensational Cyclamen","RETAIL",0,100]
["TF130-2",{"$f":"TEXT(Table_Query_from_Great_Plains[[#This Row],[ITEMNMBR]],0)","v":"TF130-2"},"Vivacious Violets","RETAIL",0,100]
["TF131-1",{"$f":"TEXT(Table_Query_from_Great_Plains[[#This Row],[ITEMNMBR]],0)","v":"TF131-1"},"Pink Kalanchoe","RETAIL",0,100]
["TF131-2",{"$f":"TEXT(Table_Query_from_Great_Plains[[#This Row],[ITEMNMBR]],0)","v":"TF131-2"},"Azalea Topiary","RETAIL",0,100]
["TF131-3",{"$f":"TEXT(Table_Query_from_Great_Plains[[#This Row],[ITEMNMBR]],0)","v":"TF131-3"},"Pink Azalea","RETAIL",0,100]
["TF132-1",{"$f":"TEXT(Table_Query_from_Great_Plains[[#This Row],[ITEMNMBR]],0)","v":"TF132-1"},"Yellow Miniature Roses","RETAIL",0,100]
["TF132-2",{"$f":"TEXT(Table_Query_from_Great_Plains[[#This Row],[ITEMNMBR]],0)","v":"TF132-2"},"Purple Chrysanthemum","RETAIL",0,100]
["TF132-3",{"$f":"TEXT(Table_Query_from_Great_Plains[[#This Row],[ITEMNMBR]],0)","v":"TF132-3"},"Lavender Chrysanthemum","RETAIL",0,100]
["TF133-1",{"$f":"TEXT(Table_Query_from_Great_Plains[[#This Row],[ITEMNMBR]],0)","v":"TF133-1"},"Large Spathiphyllum Plant","RETAIL",0,100]
["TF133-2",{"$f":"TEXT(Table_Query_from_Great_Plains[[#This Row],[ITEMNMBR]],0)","v":"TF133-2"},"Small Spathiphyllum Plant","RETAIL",0,100]
["TF133-3",{"$f":"TEXT(Table_Query_from_Great_Plains[[#This Row],[ITEMNMBR]],0)","v":"TF133-3"},"Medium Spathiphyllum Plant","RETAIL",0,100]
["TF134-1",{"$f":"TEXT(Table_Query_from_Great_Plains[[#This Row],[ITEMNMBR]],0)","v":"TF134-1"},"Xanadu Philodendron","RETAIL",0,100]
["TF134-2",{"$f":"TEXT(Table_Query_from_Great_Plains[[#This Row],[ITEMNMBR]],0)","v":"TF134-2"},"Proud Pothos","RETAIL",0,100]
["TF135-1",{"$f":"TEXT(Table_Query_from_Great_Plains[[#This Row],[ITEMNMBR]],0)","v":"TF135-1"},"Ivy Topiary","RETAIL",0,100]
["TF135-2",{"$f":"TEXT(Table_Query_from_Great_Plains[[#This Row],[ITEMNMBR]],0)","v":"TF135-2"},"Dieffenbachia","RETAIL",0,100]
["TF135-3",{"$f":"TEXT(Table_Query_from_Great_Plains[[#This Row],[ITEMNMBR]],0)","v":"TF135-3"},"Aglaonema","RETAIL",0,100]
["TF136-1",{"$f":"TEXT(Table_Query_from_Great_Plains[[#This Row],[ITEMNMBR]],0)","v":"TF136-1"},"Decorative Fern","RETAIL",0,100]
["TF136-2",{"$f":"TEXT(Table_Query_from_Great_Plains[[#This Row],[ITEMNMBR]],0)","v":"TF136-2"},"Parlor Palm","RETAIL",0,100]
["TF136-3",{"$f":"TEXT(Table_Query_from_Great_Plains[[#This Row],[ITEMNMBR]],0)","v":"TF136-3"},"Areca Palm","RETAIL",0,100]
["TF136-4",{"$f":"TEXT(Table_Query_from_Great_Plains[[#This Row],[ITEMNMBR]],0)","v":"TF136-4"},"Ficus Tree","RETAIL",0,100]
["TF136-5",{"$f":"TEXT(Table_Query_from_Great_Plains[[#This Row],[ITEMNMBR]],0)","v":"TF136-5"},"Ficus Bush","RETAIL",0,100]
["TF137-1",{"$f":"TEXT(Table_Query_from_Great_Plains[[#This Row],[ITEMNMBR]],0)","v":"TF137-1"},"Arboricola","RETAIL",0,100]
["TF137-2",{"$f":"TEXT(Table_Query_from_Great_Plains[[#This Row],[ITEMNMBR]],0)","v":"TF137-2"},"Schefflera","RETAIL",0,100]
["TF138-1",{"$f":"TEXT(Table_Query_from_Great_Plains[[#This Row],[ITEMNMBR]],0)","v":"TF138-1"},"Large Basket Garden","RETAIL",0,100]
["TF138-2",{"$f":"TEXT(Table_Query_from_Great_Plains[[#This Row],[ITEMNMBR]],0)","v":"TF138-2"},"Medium Dish Garden","RETAIL",0,100]
["TF138-3",{"$f":"TEXT(Table_Query_from_Great_Plains[[#This Row],[ITEMNMBR]],0)","v":"TF138-3"},"Small Garden Dish","RETAIL",0,100]
["TF139-1",{"$f":"TEXT(Table_Query_from_Great_Plains[[#This Row],[ITEMNMBR]],0)","v":"TF139-1"},"Kalanchoe & Ivy Basket","RETAIL",0,100]
["TF139-2",{"$f":"TEXT(Table_Query_from_Great_Plains[[#This Row],[ITEMNMBR]],0)","v":"TF139-2"},"White Garden","RETAIL",0,100]
["TF139-3",{"$f":"TEXT(Table_Query_from_Great_Plains[[#This Row],[ITEMNMBR]],0)","v":"TF139-3"},"Dish Garden with Pinks","RETAIL",0,100]
["TF14-1",{"$f":"TEXT(Table_Query_from_Great_Plains[[#This Row],[ITEMNMBR]],0)","v":"TF14-1"},"French Countryside","RETAIL",0,100]
["TF140-1",{"$f":"TEXT(Table_Query_from_Great_Plains[[#This Row],[ITEMNMBR]],0)","v":"TF140-1"},"Dendrobium Orchid","RETAIL",0,100]
["TF140-2",{"$f":"TEXT(Table_Query_from_Great_Plains[[#This Row],[ITEMNMBR]],0)","v":"TF140-2"},"Yellow Oncidium Orchid","RETAIL",0,100]
["TF141-1",{"$f":"TEXT(Table_Query_from_Great_Plains[[#This Row],[ITEMNMBR]],0)","v":"TF141-1"},"White Phalaenopsis Orchid","RETAIL",0,100]
["TF141-2",{"$f":"TEXT(Table_Query_from_Great_Plains[[#This Row],[ITEMNMBR]],0)","v":"TF141-2"},"Lavender Phalaenopsis Orchid","RETAIL",0,100]
["TF142-1",{"$f":"TEXT(Table_Query_from_Great_Plains[[#This Row],[ITEMNMBR]],0)","v":"TF142-1"},"Exotic Bromeliad","RETAIL",0,100]
["TF142-2",{"$f":"TEXT(Table_Query_from_Great_Plains[[#This Row],[ITEMNMBR]],0)","v":"TF142-2"},"Cactus Garden","RETAIL",0,100]
["TF142-3",{"$f":"TEXT(Table_Query_from_Great_Plains[[#This Row],[ITEMNMBR]],0)","v":"TF142-3"},"Tropical Bromeliad","RETAIL",0,100]
["TF145-1",{"$f":"TEXT(Table_Query_from_Great_Plains[[#This Row],[ITEMNMBR]],0)","v":"TF145-1"},"Distinguished Delphinium","RETAIL",0,100]
["TF146-1",{"$f":"TEXT(Table_Query_from_Great_Plains[[#This Row],[ITEMNMBR]],0)","v":"TF146-1"},"Iris Garden","RETAIL",0,100]
["TF147-1",{"$f":"TEXT(Table_Query_from_Great_Plains[[#This Row],[ITEMNMBR]],0)","v":"TF147-1"},"Red Gerbera Collection","RETAIL",0,100]
["TF147-2",{"$f":"TEXT(Table_Query_from_Great_Plains[[#This Row],[ITEMNMBR]],0)","v":"TF147-2"},"Yellow Garden Rows","RETAIL",0,100]
["TF147-3",{"$f":"TEXT(Table_Query_from_Great_Plains[[#This Row],[ITEMNMBR]],0)","v":"TF147-3"},"Shades of Green","RETAIL",0,100]
["TF148-1",{"$f":"TEXT(Table_Query_from_Great_Plains[[#This Row],[ITEMNMBR]],0)","v":"TF148-1"},"Memories of Paradise","RETAIL",0,100]
["TF148-2",{"$f":"TEXT(Table_Query_from_Great_Plains[[#This Row],[ITEMNMBR]],0)","v":"TF148-2"},"Simplicity of Anthuriums","RETAIL",0,100]
["TF148-3",{"$f":"TEXT(Table_Query_from_Great_Plains[[#This Row],[ITEMNMBR]],0)","v":"TF148-3"},"Protea Paradise","RETAIL",0,100]
["TF149-1",{"$f":"TEXT(Table_Query_from_Great_Plains[[#This Row],[ITEMNMBR]],0)","v":"TF149-1"},"Tropical Beauty","RETAIL",0,100]
["TF15-1",{"$f":"TEXT(Table_Query_from_Great_Plains[[#This Row],[ITEMNMBR]],0)","v":"TF15-1"},"Simple Pleasures","RETAIL",0,100]
["TF15-2",{"$f":"TEXT(Table_Query_from_Great_Plains[[#This Row],[ITEMNMBR]],0)","v":"TF15-2"},"Yellow & Lavender Delight","RETAIL",0,100]
["TF15-3",{"$f":"TEXT(Table_Query_from_Great_Plains[[#This Row],[ITEMNMBR]],0)","v":"TF15-3"},"Sweet Sentiments","RETAIL",0,100]
["TF150-1",{"$f":"TEXT(Table_Query_from_Great_Plains[[#This Row],[ITEMNMBR]],0)","v":"TF150-1"},"Artful Orchids","RETAIL",0,100]
["TF151-1",{"$f":"TEXT(Table_Query_from_Great_Plains[[#This Row],[ITEMNMBR]],0)","v":"TF151-1"},"Gracious Curve","RETAIL",0,100]
["TF151-2",{"$f":"TEXT(Table_Query_from_Great_Plains[[#This Row],[ITEMNMBR]],0)","v":"TF151-2"},"Pavé Texture Square","RETAIL",0,100]
["TF151-3",{"$f":"TEXT(Table_Query_from_Great_Plains[[#This Row],[ITEMNMBR]],0)","v":"TF151-3"},"Bronze Callas","RETAIL",0,100]
["TF152-1",{"$f":"TEXT(Table_Query_from_Great_Plains[[#This Row],[ITEMNMBR]],0)","v":"TF152-1"},"Gloriosa Under Glass","RETAIL",0,100]
["TF152-2",{"$f":"TEXT(Table_Query_from_Great_Plains[[#This Row],[ITEMNMBR]],0)","v":"TF152-2"},"Tulip Under Glass","RETAIL",0,100]
["TF155-1",{"$f":"TEXT(Table_Query_from_Great_Plains[[#This Row],[ITEMNMBR]],0)","v":"TF155-1"},"Classic Fruit & Gourmet","RETAIL",0,100]
["TF156-1",{"$f":"TEXT(Table_Query_from_Great_Plains[[#This Row],[ITEMNMBR]],0)","v":"TF156-1"},"Grande Gourmet Fruit Basket","RETAIL",0,100]
["TF157-1",{"$f":"TEXT(Table_Query_from_Great_Plains[[#This Row],[ITEMNMBR]],0)","v":"TF157-1"},"Gourmet Picnic Basket","RETAIL",0,100]
["TF157-2",{"$f":"TEXT(Table_Query_from_Great_Plains[[#This Row],[ITEMNMBR]],0)","v":"TF157-2"},"Plant and Fruit Basket","RETAIL",0,100]
["TF157-3",{"$f":"TEXT(Table_Query_from_Great_Plains[[#This Row],[ITEMNMBR]],0)","v":"TF157-3"},"Chocolate Lovers Basket","RETAIL",0,100]
["TF157-4",{"$f":"TEXT(Table_Query_from_Great_Plains[[#This Row],[ITEMNMBR]],0)","v":"TF157-4"},"Fruits and Flowers Basket","RETAIL",0,100]
["TF158-1",{"$f":"TEXT(Table_Query_from_Great_Plains[[#This Row],[ITEMNMBR]],0)","v":"TF158-1"},"Delightful Fruit Tray","RETAIL",0,100]
["TF158-2",{"$f":"TEXT(Table_Query_from_Great_Plains[[#This Row],[ITEMNMBR]],0)","v":"TF158-2"},"Junk Food Bucket","RETAIL",0,100]
["TF158-3",{"$f":"TEXT(Table_Query_from_Great_Plains[[#This Row],[ITEMNMBR]],0)","v":"TF158-3"},"Healthy Gourmet Basket","RETAIL",0,100]
["TF16-1",{"$f":"TEXT(Table_Query_from_Great_Plains[[#This Row],[ITEMNMBR]],0)","v":"TF16-1"},"Sunshine Thoughts","RETAIL",0,100]
["TF16-2",{"$f":"TEXT(Table_Query_from_Great_Plains[[#This Row],[ITEMNMBR]],0)","v":"TF16-2"},"Blues for You","RETAIL",0,100]
["TF16-3",{"$f":"TEXT(Table_Query_from_Great_Plains[[#This Row],[ITEMNMBR]],0)","v":"TF16-3"},"Passionate Reds","RETAIL",0,100]
["TF17-1",{"$f":"TEXT(Table_Query_from_Great_Plains[[#This Row],[ITEMNMBR]],0)","v":"TF17-1"},"Colorful Sensation","RETAIL",0,100]
["TF18-1",{"$f":"TEXT(Table_Query_from_Great_Plains[[#This Row],[ITEMNMBR]],0)","v":"TF18-1"},"Sweet Reminder","RETAIL",0,100]
["TF18-2",{"$f":"TEXT(Table_Query_from_Great_Plains[[#This Row],[ITEMNMBR]],0)","v":"TF18-2"},"Flower Surge","RETAIL",0,100]
["TF183-1",{"$f":"TEXT(Table_Query_from_Great_Plains[[#This Row],[ITEMNMBR]],0)","v":"TF183-1"},"Most Memorable Tribute","RETAIL",0,100]
["TF184-1",{"$f":"TEXT(Table_Query_from_Great_Plains[[#This Row],[ITEMNMBR]],0)","v":"TF184-1"},"Sentiments Bouquet","RETAIL",0,100]
["TF184-2",{"$f":"TEXT(Table_Query_from_Great_Plains[[#This Row],[ITEMNMBR]],0)","v":"TF184-2"},"Caring Touch","RETAIL",0,100]
["TF184-3",{"$f":"TEXT(Table_Query_from_Great_Plains[[#This Row],[ITEMNMBR]],0)","v":"TF184-3"},"Warm Thoughts Arrangement","RETAIL",0,100]
["TF185-1",{"$f":"TEXT(Table_Query_from_Great_Plains[[#This Row],[ITEMNMBR]],0)","v":"TF185-1"},"Vivid Sentiments","RETAIL",0,100]
["TF185-2",{"$f":"TEXT(Table_Query_from_Great_Plains[[#This Row],[ITEMNMBR]],0)","v":"TF185-2"},"Loving Memories","RETAIL",0,100]
["TF185-3",{"$f":"TEXT(Table_Query_from_Great_Plains[[#This Row],[ITEMNMBR]],0)","v":"TF185-3"},"Elaborate Expressions Vase","RETAIL",0,100]
["TF185-4",{"$f":"TEXT(Table_Query_from_Great_Plains[[#This Row],[ITEMNMBR]],0)","v":"TF185-4"},"Thoughtful Expressions","RETAIL",0,100]
["TF185-5",{"$f":"TEXT(Table_Query_from_Great_Plains[[#This Row],[ITEMNMBR]],0)","v":"TF185-5"},"Colorful Comfort","RETAIL",0,100]
["TF185-6",{"$f":"TEXT(Table_Query_from_Great_Plains[[#This Row],[ITEMNMBR]],0)","v":"TF185-6"},"Bright Messages","RETAIL",0,100]
["TF185-7",{"$f":"TEXT(Table_Query_from_Great_Plains[[#This Row],[ITEMNMBR]],0)","v":"TF185-7"},"Loving Tribute","RETAIL",0,100]
["TF186-1",{"$f":"TEXT(Table_Query_from_Great_Plains[[#This Row],[ITEMNMBR]],0)","v":"TF186-1"},"Spring Remembrance Basket","RETAIL",0,100]
["TF186-2",{"$f":"TEXT(Table_Query_from_Great_Plains[[#This Row],[ITEMNMBR]],0)","v":"TF186-2"},"Lavender Reminder Basket","RETAIL",0,100]
["TF186-3",{"$f":"TEXT(Table_Query_from_Great_Plains[[#This Row],[ITEMNMBR]],0)","v":"TF186-3"},"White Simplicity Basket","RETAIL",0,100]
["TF187-1",{"$f":"TEXT(Table_Query_from_Great_Plains[[#This Row],[ITEMNMBR]],0)","v":"TF187-1"},"Hopeful Pink Basket","RETAIL",0,100]
["TF187-2",{"$f":"TEXT(Table_Query_from_Great_Plains[[#This Row],[ITEMNMBR]],0)","v":"TF187-2"},"Vibrant Yellow Basket","RETAIL",0,100]
["TF187-3",{"$f":"TEXT(Table_Query_from_Great_Plains[[#This Row],[ITEMNMBR]],0)","v":"TF187-3"},"Ray of Hope Arrangement","RETAIL",0,100]
["TF187-4",{"$f":"TEXT(Table_Query_from_Great_Plains[[#This Row],[ITEMNMBR]],0)","v":"TF187-4"},"Basket of Faith","RETAIL",0,100]
["TF187-5",{"$f":"TEXT(Table_Query_from_Great_Plains[[#This Row],[ITEMNMBR]],0)","v":"TF187-5"},"Tropical Reflections","RETAIL",0,100]
["TF187-6",{"$f":"TEXT(Table_Query_from_Great_Plains[[#This Row],[ITEMNMBR]],0)","v":"TF187-6"},"Rainbow Basket","RETAIL",0,100]
["TF187-7",{"$f":"TEXT(Table_Query_from_Great_Plains[[#This Row],[ITEMNMBR]],0)","v":"TF187-7"},"Garden Gathering Basket","RETAIL",0,100]
["TF187-8",{"$f":"TEXT(Table_Query_from_Great_Plains[[#This Row],[ITEMNMBR]],0)","v":"TF187-8"},"Fireside Basket","RETAIL",0,100]
["TF188-1",{"$f":"TEXT(Table_Query_from_Great_Plains[[#This Row],[ITEMNMBR]],0)","v":"TF188-1"},"Yellow Dawn Spray","RETAIL",0,100]
["TF188-2",{"$f":"TEXT(Table_Query_from_Great_Plains[[#This Row],[ITEMNMBR]],0)","v":"TF188-2"},"White Promises Spray","RETAIL",0,100]
["TF188-3",{"$f":"TEXT(Table_Query_from_Great_Plains[[#This Row],[ITEMNMBR]],0)","v":"TF188-3"},"Gentle Thoughts Spray","RETAIL",0,100]
["TF189-1",{"$f":"TEXT(Table_Query_from_Great_Plains[[#This Row],[ITEMNMBR]],0)","v":"TF189-1"},"Pastel Crescent Spray","RETAIL",0,100]
["TF189-2",{"$f":"TEXT(Table_Query_from_Great_Plains[[#This Row],[ITEMNMBR]],0)","v":"TF189-2"},"Sentimental Gladioli Spray","RETAIL",0,100]
["TF189-3",{"$f":"TEXT(Table_Query_from_Great_Plains[[#This Row],[ITEMNMBR]],0)","v":"TF189-3"},"Hope & Harmony Spray","RETAIL",0,100]
["TF189-4",{"$f":"TEXT(Table_Query_from_Great_Plains[[#This Row],[ITEMNMBR]],0)","v":"TF189-4"},"Remembering Forever","RETAIL",0,100]
["TF189-5",{"$f":"TEXT(Table_Query_from_Great_Plains[[#This Row],[ITEMNMBR]],0)","v":"TF189-5"},"Shining Sentiments Spray","RETAIL",0,100]
["TF189-6",{"$f":"TEXT(Table_Query_from_Great_Plains[[#This Row],[ITEMNMBR]],0)","v":"TF189-6"},"Stargazer & Gerbera Spray","RETAIL",0,100]
["TF189-7",{"$f":"TEXT(Table_Query_from_Great_Plains[[#This Row],[ITEMNMBR]],0)","v":"TF189-7"},"Tribute Heart","RETAIL",0,100]
["TF189-8",{"$f":"TEXT(Table_Query_from_Great_Plains[[#This Row],[ITEMNMBR]],0)","v":"TF189-8"},"Eternity Wreath","RETAIL",0,100]
["TF19-1",{"$f":"TEXT(Table_Query_from_Great_Plains[[#This Row],[ITEMNMBR]],0)","v":"TF19-1"},"Stylish Thoughts","RETAIL",0,100]
["TF19-2",{"$f":"TEXT(Table_Query_from_Great_Plains[[#This Row],[ITEMNMBR]],0)","v":"TF19-2"},"Bear Hug","RETAIL",0,100]
["TF19-3",{"$f":"TEXT(Table_Query_from_Great_Plains[[#This Row],[ITEMNMBR]],0)","v":"TF19-3"},"Stylish Reflections","RETAIL",0,100]
["TF190-1",{"$f":"TEXT(Table_Query_from_Great_Plains[[#This Row],[ITEMNMBR]],0)","v":"TF190-1"},"Tender Thoughts Teacup","RETAIL",0,100]
["TF190-2",{"$f":"TEXT(Table_Query_from_Great_Plains[[#This Row],[ITEMNMBR]],0)","v":"TF190-2"},"Gentle Comfort Basket","RETAIL",0,100]
["TF191-1",{"$f":"TEXT(Table_Query_from_Great_Plains[[#This Row],[ITEMNMBR]],0)","v":"TF191-1"},"Blooming Garden Basket","RETAIL",0,100]
["TF191-2",{"$f":"TEXT(Table_Query_from_Great_Plains[[#This Row],[ITEMNMBR]],0)","v":"TF191-2"},"Spathiphyllum Plant","RETAIL",0,100]
["TF191-3",{"$f":"TEXT(Table_Query_from_Great_Plains[[#This Row],[ITEMNMBR]],0)","v":"TF191-3"},"Classic Fruit Basket","RETAIL",0,100]
["TF192-1",{"$f":"TEXT(Table_Query_from_Great_Plains[[#This Row],[ITEMNMBR]],0)","v":"TF192-1"},"Green Garden Basket Deluxe","RETAIL",0,100]
["TF192-2",{"$f":"TEXT(Table_Query_from_Great_Plains[[#This Row],[ITEMNMBR]],0)","v":"TF192-2"},"Green Garden Bowl","RETAIL",0,100]
["TF192-3",{"$f":"TEXT(Table_Query_from_Great_Plains[[#This Row],[ITEMNMBR]],0)","v":"TF192-3"},"Green Garden Dish","RETAIL",0,100]
["TF194-1",{"$f":"TEXT(Table_Query_from_Great_Plains[[#This Row],[ITEMNMBR]],0)","v":"TF194-1"},"Pure White Casket Spray","RETAIL",0,100]
["TF194-2",{"$f":"TEXT(Table_Query_from_Great_Plains[[#This Row],[ITEMNMBR]],0)","v":"TF194-2"},"White Impressions","RETAIL",0,100]
["TF194-3",{"$f":"TEXT(Table_Query_from_Great_Plains[[#This Row],[ITEMNMBR]],0)","v":"TF194-3"},"Basket of Light","RETAIL",0,100]
["TF195-1",{"$f":"TEXT(Table_Query_from_Great_Plains[[#This Row],[ITEMNMBR]],0)","v":"TF195-1"},"White Expressions Basket","RETAIL",0,100]
["TF195-2",{"$f":"TEXT(Table_Query_from_Great_Plains[[#This Row],[ITEMNMBR]],0)","v":"TF195-2"},"Faithful Fern","RETAIL",0,100]
["TF195-3",{"$f":"TEXT(Table_Query_from_Great_Plains[[#This Row],[ITEMNMBR]],0)","v":"TF195-3"},"Deluxe Pure White Casket Spray","RETAIL",0,100]
["TF196-1",{"$f":"TEXT(Table_Query_from_Great_Plains[[#This Row],[ITEMNMBR]],0)","v":"TF196-1"},"Peach Comfort Half-Couch Spray","RETAIL",0,100]
["TF196-2",{"$f":"TEXT(Table_Query_from_Great_Plains[[#This Row],[ITEMNMBR]],0)","v":"TF196-2"},"Peach Comfort Wreath","RETAIL",0,100]
["TF196-3",{"$f":"TEXT(Table_Query_from_Great_Plains[[#This Row],[ITEMNMBR]],0)","v":"TF196-3"},"Peach Tribute Garden","RETAIL",0,100]
["TF197-1",{"$f":"TEXT(Table_Query_from_Great_Plains[[#This Row],[ITEMNMBR]],0)","v":"TF197-1"},"Eternal Spring Half-Couch Spray","RETAIL",0,100]
["TF197-2",{"$f":"TEXT(Table_Query_from_Great_Plains[[#This Row],[ITEMNMBR]],0)","v":"TF197-2"},"Spring Hope Vase","RETAIL",0,100]
["TF197-3",{"$f":"TEXT(Table_Query_from_Great_Plains[[#This Row],[ITEMNMBR]],0)","v":"TF197-3"},"Circle of Peace","RETAIL",0,100]
["TF198-1",{"$f":"TEXT(Table_Query_from_Great_Plains[[#This Row],[ITEMNMBR]],0)","v":"TF198-1"},"Pink Promise Spray","RETAIL",0,100]
["TF198-2",{"$f":"TEXT(Table_Query_from_Great_Plains[[#This Row],[ITEMNMBR]],0)","v":"TF198-2"},"Pink Bouquet Cross","RETAIL",0,100]
["TF198-3",{"$f":"TEXT(Table_Query_from_Great_Plains[[#This Row],[ITEMNMBR]],0)","v":"TF198-3"},"Classic Carnation Arrangement","RETAIL",0,100]
["TF198-4",{"$f":"TEXT(Table_Query_from_Great_Plains[[#This Row],[ITEMNMBR]],0)","v":"TF198-4"},"Delicate Pink Casket Spray","RETAIL",0,100]
["TF199-1",{"$f":"TEXT(Table_Query_from_Great_Plains[[#This Row],[ITEMNMBR]],0)","v":"TF199-1"},"Pink Reverence Arrangement","RETAIL",0,100]
["TF199-2",{"$f":"TEXT(Table_Query_from_Great_Plains[[#This Row],[ITEMNMBR]],0)","v":"TF199-2"},"Heavenly Pink Casket Spray","RETAIL",0,100]
["TF199-3",{"$f":"TEXT(Table_Query_from_Great_Plains[[#This Row],[ITEMNMBR]],0)","v":"TF199-3"},"Respectful Pink Wreath","RETAIL",0,100]
["TF199-4",{"$f":"TEXT(Table_Query_from_Great_Plains[[#This Row],[ITEMNMBR]],0)","v":"TF199-4"},"Loving Heart Tribute","RETAIL",0,100]
["TF199-5",{"$f":"TEXT(Table_Query_from_Great_Plains[[#This Row],[ITEMNMBR]],0)","v":"TF199-5"},"Spring Hope Arrangement","RETAIL",0,100]
["TF199-6",{"$f":"TEXT(Table_Query_from_Great_Plains[[#This Row],[ITEMNMBR]],0)","v":"TF199-6"},"Spring Satin Pillow Cluster","RETAIL",0,100]
["TF199-7",{"$f":"TEXT(Table_Query_from_Great_Plains[[#This Row],[ITEMNMBR]],0)","v":"TF199-7"},"Blooming Glory Casket Spray","RETAIL",0,100]
["TF199-8",{"$f":"TEXT(Table_Query_from_Great_Plains[[#This Row],[ITEMNMBR]],0)","v":"TF199-8"},"Springtime Splendor","RETAIL",0,100]
["TF199-9",{"$f":"TEXT(Table_Query_from_Great_Plains[[#This Row],[ITEMNMBR]],0)","v":"TF199-9"},"Springtime Basket","RETAIL",0,100]
["TF20-1",{"$f":"TEXT(Table_Query_from_Great_Plains[[#This Row],[ITEMNMBR]],0)","v":"TF20-1"},"Grand Gerberas","RETAIL",0,100]
["TF20-2",{"$f":"TEXT(Table_Query_from_Great_Plains[[#This Row],[ITEMNMBR]],0)","v":"TF20-2"},"Blossoming Orange","RETAIL",0,100]
["TF20-3",{"$f":"TEXT(Table_Query_from_Great_Plains[[#This Row],[ITEMNMBR]],0)","v":"TF20-3"},"Asiatic Lilies","RETAIL",0,100]
["TF200-1",{"$f":"TEXT(Table_Query_from_Great_Plains[[#This Row],[ITEMNMBR]],0)","v":"TF200-1"},"Triumphant Casket Spray","RETAIL",0,100]
["TF200-2",{"$f":"TEXT(Table_Query_from_Great_Plains[[#This Row],[ITEMNMBR]],0)","v":"TF200-2"},"Triumphant Triangle","RETAIL",0,100]
["TF200-3",{"$f":"TEXT(Table_Query_from_Great_Plains[[#This Row],[ITEMNMBR]],0)","v":"TF200-3"},"Grapevine Wreath","RETAIL",0,100]
["TF201-1",{"$f":"TEXT(Table_Query_from_Great_Plains[[#This Row],[ITEMNMBR]],0)","v":"TF201-1"},"Graceful Tribute Casket Spray","RETAIL",0,100]
["TF201-2",{"$f":"TEXT(Table_Query_from_Great_Plains[[#This Row],[ITEMNMBR]],0)","v":"TF201-2"},"Graceful Tribute Heart","RETAIL",0,100]
["TF201-3",{"$f":"TEXT(Table_Query_from_Great_Plains[[#This Row],[ITEMNMBR]],0)","v":"TF201-3"},"Lush Lavenders Bouquet","RETAIL",0,100]
["TF202-1",{"$f":"TEXT(Table_Query_from_Great_Plains[[#This Row],[ITEMNMBR]],0)","v":"TF202-1"},"Vibrant Summer Casket Spray","RETAIL",0,100]
["TF202-2",{"$f":"TEXT(Table_Query_from_Great_Plains[[#This Row],[ITEMNMBR]],0)","v":"TF202-2"},"Uplifting Gerbera Basket","RETAIL",0,100]
["TF202-3",{"$f":"TEXT(Table_Query_from_Great_Plains[[#This Row],[ITEMNMBR]],0)","v":"TF202-3"},"Uplifting Gerbera Pillow","RETAIL",0,100]
["TF202-4",{"$f":"TEXT(Table_Query_from_Great_Plains[[#This Row],[ITEMNMBR]],0)","v":"TF202-4"},"Uplifting Thoughts Casket Spray","RETAIL",0,100]
["TF203-1",{"$f":"TEXT(Table_Query_from_Great_Plains[[#This Row],[ITEMNMBR]],0)","v":"TF203-1"},"Summer Sentiments Arrangement","RETAIL",0,100]
["TF203-10",{"$f":"TEXT(Table_Query_from_Great_Plains[[#This Row],[ITEMNMBR]],0)","v":"TF203-10"},"Celebration Wreath","RETAIL",0,100]
["TF203-11",{"$f":"TEXT(Table_Query_from_Great_Plains[[#This Row],[ITEMNMBR]],0)","v":"TF203-11"},"Sunshine Basket","RETAIL",0,100]
["TF203-2",{"$f":"TEXT(Table_Query_from_Great_Plains[[#This Row],[ITEMNMBR]],0)","v":"TF203-2"},"Summer Sentiments Casket Spray","RETAIL",0,100]
["TF203-3",{"$f":"TEXT(Table_Query_from_Great_Plains[[#This Row],[ITEMNMBR]],0)","v":"TF203-3"},"Ring of Hope Wreath","RETAIL",0,100]
["TF203-4",{"$f":"TEXT(Table_Query_from_Great_Plains[[#This Row],[ITEMNMBR]],0)","v":"TF203-4"},"Birch Compassion Cross","RETAIL",0,100]
["TF203-5",{"$f":"TEXT(Table_Query_from_Great_Plains[[#This Row],[ITEMNMBR]],0)","v":"TF203-5"},"Grand Sentiments","RETAIL",0,100]
["TF203-6",{"$f":"TEXT(Table_Query_from_Great_Plains[[#This Row],[ITEMNMBR]],0)","v":"TF203-6"},"Personal Message Tribute","RETAIL",0,100]
["TF203-7",{"$f":"TEXT(Table_Query_from_Great_Plains[[#This Row],[ITEMNMBR]],0)","v":"TF203-7"},"Celebration of Life Casket Spray","RETAIL",0,100]
["TF203-8",{"$f":"TEXT(Table_Query_from_Great_Plains[[#This Row],[ITEMNMBR]],0)","v":"TF203-8"},"Celebration of Life Standing Spray","RETAIL",0,100]
["TF203-9",{"$f":"TEXT(Table_Query_from_Great_Plains[[#This Row],[ITEMNMBR]],0)","v":"TF203-9"},"Celebration of Life Arrangement","RETAIL",0,100]
["TF204-1",{"$f":"TEXT(Table_Query_from_Great_Plains[[#This Row],[ITEMNMBR]],0)","v":"TF204-1"},"Friendship Rose Heart","RETAIL",0,100]
["TF204-2",{"$f":"TEXT(Table_Query_from_Great_Plains[[#This Row],[ITEMNMBR]],0)","v":"TF204-2"},"Loving Beauty Bouquet","RETAIL",0,100]
["TF204-3",{"$f":"TEXT(Table_Query_from_Great_Plains[[#This Row],[ITEMNMBR]],0)","v":"TF204-3"},"Eternal Hope Casket Spray","RETAIL",0,100]
["TF205-1",{"$f":"TEXT(Table_Query_from_Great_Plains[[#This Row],[ITEMNMBR]],0)","v":"TF205-1"},"Amethyst and Ruby Casket Spray","RETAIL",0,100]
["TF205-2",{"$f":"TEXT(Table_Query_from_Great_Plains[[#This Row],[ITEMNMBR]],0)","v":"TF205-2"},"Amethyst and Ruby Standing Spray","RETAIL",0,100]
["TF205-3",{"$f":"TEXT(Table_Query_from_Great_Plains[[#This Row],[ITEMNMBR]],0)","v":"TF205-3"},"Amethyst and Ruby Hinge Spray","RETAIL",0,100]
["TF206-1",{"$f":"TEXT(Table_Query_from_Great_Plains[[#This Row],[ITEMNMBR]],0)","v":"TF206-1"},"Hope & Honor Basket","RETAIL",0,100]
["TF206-2",{"$f":"TEXT(Table_Query_from_Great_Plains[[#This Row],[ITEMNMBR]],0)","v":"TF206-2"},"Red Regards Spray","RETAIL",0,100]
["TF206-3",{"$f":"TEXT(Table_Query_from_Great_Plains[[#This Row],[ITEMNMBR]],0)","v":"TF206-3"},"Hope and Honor Casket Spray","RETAIL",0,100]
["TF206-4",{"$f":"TEXT(Table_Query_from_Great_Plains[[#This Row],[ITEMNMBR]],0)","v":"TF206-4"},"Hope & Honor Cross","RETAIL",0,100]
["TF207-1",{"$f":"TEXT(Table_Query_from_Great_Plains[[#This Row],[ITEMNMBR]],0)","v":"TF207-1"},"Red Regards Casket Spray","RETAIL",0,100]
["TF207-2",{"$f":"TEXT(Table_Query_from_Great_Plains[[#This Row],[ITEMNMBR]],0)","v":"TF207-2"},"Hope & Honor Wreath","RETAIL",0,100]
["TF207-3",{"$f":"TEXT(Table_Query_from_Great_Plains[[#This Row],[ITEMNMBR]],0)","v":"TF207-3"},"Red Regards Wreath","RETAIL",0,100]
["TF207-4",{"$f":"TEXT(Table_Query_from_Great_Plains[[#This Row],[ITEMNMBR]],0)","v":"TF207-4"},"Cherished Moments Arrangement","RETAIL",0,100]
["TF207-5",{"$f":"TEXT(Table_Query_from_Great_Plains[[#This Row],[ITEMNMBR]],0)","v":"TF207-5"},"Touch of Red Roses","RETAIL",0,100]
["TF207-6",{"$f":"TEXT(Table_Query_from_Great_Plains[[#This Row],[ITEMNMBR]],0)","v":"TF207-6"},"Cherished Moments Casket Spray","RETAIL",0,100]
["TF207-7",{"$f":"TEXT(Table_Query_from_Great_Plains[[#This Row],[ITEMNMBR]],0)","v":"TF207-7"},"Cherished Moments Spray","RETAIL",0,100]
["TF207-8",{"$f":"TEXT(Table_Query_from_Great_Plains[[#This Row],[ITEMNMBR]],0)","v":"TF207-8"},"Cherished Moments Fireside Basket","RETAIL",0,100]
["TF208-1",{"$f":"TEXT(Table_Query_from_Great_Plains[[#This Row],[ITEMNMBR]],0)","v":"TF208-1"},"Red Rose Tribute Vase","RETAIL",0,100]
["TF208-2",{"$f":"TEXT(Table_Query_from_Great_Plains[[#This Row],[ITEMNMBR]],0)","v":"TF208-2"},"Red Rose Tribute Casket Spray","RETAIL",0,100]
["TF208-3",{"$f":"TEXT(Table_Query_from_Great_Plains[[#This Row],[ITEMNMBR]],0)","v":"TF208-3"},"Broken Heart","RETAIL",0,100]
["TF209-1",{"$f":"TEXT(Table_Query_from_Great_Plains[[#This Row],[ITEMNMBR]],0)","v":"TF209-1"},"Rosary of Red Roses","RETAIL",0,100]
["TF209-2",{"$f":"TEXT(Table_Query_from_Great_Plains[[#This Row],[ITEMNMBR]],0)","v":"TF209-2"},"Our Lady of Grace","RETAIL",0,100]
["TF209-3",{"$f":"TEXT(Table_Query_from_Great_Plains[[#This Row],[ITEMNMBR]],0)","v":"TF209-3"},"Blooming Red Roses Basket","RETAIL",0,100]
["TF209-4",{"$f":"TEXT(Table_Query_from_Great_Plains[[#This Row],[ITEMNMBR]],0)","v":"TF209-4"},"Blooming Red Roses Casket Spray","RETAIL",0,100]
["TF21-1",{"$f":"TEXT(Table_Query_from_Great_Plains[[#This Row],[ITEMNMBR]],0)","v":"TF21-1"},"Glorious Gladioli","RETAIL",0,100]
["TF210-1",{"$f":"TEXT(Table_Query_from_Great_Plains[[#This Row],[ITEMNMBR]],0)","v":"TF210-1"},"Autumn Faith Casket Spray","RETAIL",0,100]
["TF210-2",{"$f":"TEXT(Table_Query_from_Great_Plains[[#This Row],[ITEMNMBR]],0)","v":"TF210-2"},"Yellow Hope Chrysanthemum","RETAIL",0,100]
["TF210-3",{"$f":"TEXT(Table_Query_from_Great_Plains[[#This Row],[ITEMNMBR]],0)","v":"TF210-3"},"Harvest of Hope Sheaf","RETAIL",0,100]
["TF211-1",{"$f":"TEXT(Table_Query_from_Great_Plains[[#This Row],[ITEMNMBR]],0)","v":"TF211-1"},"Brighter Blessings Casket Spray","RETAIL",0,100]
["TF211-2",{"$f":"TEXT(Table_Query_from_Great_Plains[[#This Row],[ITEMNMBR]],0)","v":"TF211-2"},"Brighter Blessings Spray","RETAIL",0,100]
["TF211-3",{"$f":"TEXT(Table_Query_from_Great_Plains[[#This Row],[ITEMNMBR]],0)","v":"TF211-3"},"Brighter Blessings Arrangement","RETAIL",0,100]
["TF212-1",{"$f":"TEXT(Table_Query_from_Great_Plains[[#This Row],[ITEMNMBR]],0)","v":"TF212-1"},"White Orchid Spray","RETAIL",0,100]
["TF212-2",{"$f":"TEXT(Table_Query_from_Great_Plains[[#This Row],[ITEMNMBR]],0)","v":"TF212-2"},"White Orchid Plant","RETAIL",0,100]
["TF213-1",{"$f":"TEXT(Table_Query_from_Great_Plains[[#This Row],[ITEMNMBR]],0)","v":"TF213-1"},"Tropical Paradise Casket Spray","RETAIL",0,100]
["TF213-2",{"$f":"TEXT(Table_Query_from_Great_Plains[[#This Row],[ITEMNMBR]],0)","v":"TF213-2"},"Tropical Paradise Arrangement","RETAIL",0,100]
["TF213-3",{"$f":"TEXT(Table_Query_from_Great_Plains[[#This Row],[ITEMNMBR]],0)","v":"TF213-3"},"Tropical Paradise Spray","RETAIL",0,100]
["TF214-1",{"$f":"TEXT(Table_Query_from_Great_Plains[[#This Row],[ITEMNMBR]],0)","v":"TF214-1"},"Glory & Grace Arrangement","RETAIL",0,100]
["TF214-2",{"$f":"TEXT(Table_Query_from_Great_Plains[[#This Row],[ITEMNMBR]],0)","v":"TF214-2"},"Basket of Comfort","RETAIL",0,100]
["TF215-1",{"$f":"TEXT(Table_Query_from_Great_Plains[[#This Row],[ITEMNMBR]],0)","v":"TF215-1"},"Patriotic Spirit Wreath","RETAIL",0,100]
["TF215-2",{"$f":"TEXT(Table_Query_from_Great_Plains[[#This Row],[ITEMNMBR]],0)","v":"TF215-2"},"Patriotic Spirit Cluster","RETAIL",0,100]
["TF215-3",{"$f":"TEXT(Table_Query_from_Great_Plains[[#This Row],[ITEMNMBR]],0)","v":"TF215-3"},"Patriotic Spirit Spray","RETAIL",0,100]
["TF216-1",{"$f":"TEXT(Table_Query_from_Great_Plains[[#This Row],[ITEMNMBR]],0)","v":"TF216-1"},"Sentimental Setting","RETAIL",0,100]
["TF217-1",{"$f":"TEXT(Table_Query_from_Great_Plains[[#This Row],[ITEMNMBR]],0)","v":"TF217-1"},"Vibrant Memorial","RETAIL",0,100]
["TF217-2",{"$f":"TEXT(Table_Query_from_Great_Plains[[#This Row],[ITEMNMBR]],0)","v":"TF217-2"},"Vibrant Basket Arrangement","RETAIL",0,100]
["TF217-3",{"$f":"TEXT(Table_Query_from_Great_Plains[[#This Row],[ITEMNMBR]],0)","v":"TF217-3"},"Forever Yours","RETAIL",0,100]
["TF218-1",{"$f":"TEXT(Table_Query_from_Great_Plains[[#This Row],[ITEMNMBR]],0)","v":"TF218-1"},"Cremation Urn Wreath","RETAIL",0,100]
["TF219-1",{"$f":"TEXT(Table_Query_from_Great_Plains[[#This Row],[ITEMNMBR]],0)","v":"TF219-1"},"Rose Radiance","RETAIL",0,100]
["TF219-2",{"$f":"TEXT(Table_Query_from_Great_Plains[[#This Row],[ITEMNMBR]],0)","v":"TF219-2"},"Gathering of Roses","RETAIL",0,100]
["TF219-3",{"$f":"TEXT(Table_Query_from_Great_Plains[[#This Row],[ITEMNMBR]],0)","v":"TF219-3"},"White Expressions","RETAIL",0,100]
["TF219-4",{"$f":"TEXT(Table_Query_from_Great_Plains[[#This Row],[ITEMNMBR]],0)","v":"TF219-4"},"Miniature Lavender Orchid","RETAIL",0,100]
["TF219-5",{"$f":"TEXT(Table_Query_from_Great_Plains[[#This Row],[ITEMNMBR]],0)","v":"TF219-5"},"Lavender Moth Orchid","RETAIL",0,100]
["TF219-6",{"$f":"TEXT(Table_Query_from_Great_Plains[[#This Row],[ITEMNMBR]],0)","v":"TF219-6"},"Orchid in Large Bowl","RETAIL",0,100]
["TF219-7",{"$f":"TEXT(Table_Query_from_Great_Plains[[#This Row],[ITEMNMBR]],0)","v":"TF219-7"},"Lavender Orchid in Small Bowl","RETAIL",0,100]
["TF22-1",{"$f":"TEXT(Table_Query_from_Great_Plains[[#This Row],[ITEMNMBR]],0)","v":"TF22-1"},"Sparkling Alstroemeria","RETAIL",0,100]
["TF220-1",{"$f":"TEXT(Table_Query_from_Great_Plains[[#This Row],[ITEMNMBR]],0)","v":"TF220-1"},"Pastel Dreams with Angel (Unavailable)","RETAIL",0,100]
["TF220-2",{"$f":"TEXT(Table_Query_from_Great_Plains[[#This Row],[ITEMNMBR]],0)","v":"TF220-2"},"Pastel Dreams","RETAIL",0,100]
["TF220-3",{"$f":"TEXT(Table_Query_from_Great_Plains[[#This Row],[ITEMNMBR]],0)","v":"TF220-3"},"Heavenly Heart","RETAIL",0,100]
["TF220-4",{"$f":"TEXT(Table_Query_from_Great_Plains[[#This Row],[ITEMNMBR]],0)","v":"TF220-4"},"Heavenly Casket Spray","RETAIL",0,100]
["TF220-5",{"$f":"TEXT(Table_Query_from_Great_Plains[[#This Row],[ITEMNMBR]],0)","v":"TF220-5"},"Heavenly Spray","RETAIL",0,100]
["TF221-1",{"$f":"TEXT(Table_Query_from_Great_Plains[[#This Row],[ITEMNMBR]],0)","v":"TF221-1"},"Drop of Sunshine Casket Spray","RETAIL",0,100]
["TF221-2",{"$f":"TEXT(Table_Query_from_Great_Plains[[#This Row],[ITEMNMBR]],0)","v":"TF221-2"},"Drop of Sunshine Bowl","RETAIL",0,100]
["TF221-3",{"$f":"TEXT(Table_Query_from_Great_Plains[[#This Row],[ITEMNMBR]],0)","v":"TF221-3"},"Drop of Sunshine Wreath","RETAIL",0,100]
["TF221-4",{"$f":"TEXT(Table_Query_from_Great_Plains[[#This Row],[ITEMNMBR]],0)","v":"TF221-4"},"Drop of Sunshine Basket","RETAIL",0,100]
["TF222-1",{"$f":"TEXT(Table_Query_from_Great_Plains[[#This Row],[ITEMNMBR]],0)","v":"TF222-1"},"Rose Touch","RETAIL",0,100]
["TF222-2",{"$f":"TEXT(Table_Query_from_Great_Plains[[#This Row],[ITEMNMBR]],0)","v":"TF222-2"},"Graveside Remembrances","RETAIL",0,100]
["TF222-3",{"$f":"TEXT(Table_Query_from_Great_Plains[[#This Row],[ITEMNMBR]],0)","v":"TF222-3"},"Monument Memorial Flowers","RETAIL",0,100]
["TF23",{"$f":"TEXT(Table_Query_from_Great_Plains[[#This Row],[ITEMNMBR]],0)","v":"TF23"},"Sunshine Express","RETAIL",0,100]
["TF23-1",{"$f":"TEXT(Table_Query_from_Great_Plains[[#This Row],[ITEMNMBR]],0)","v":"TF23-1"},"Sunshine Express","RETAIL",0,100]
["TF23-2",{"$f":"TEXT(Table_Query_from_Great_Plains[[#This Row],[ITEMNMBR]],0)","v":"TF23-2"},"Lily Topiary","RETAIL",0,50]
["TF23-3",{"$f":"TEXT(Table_Query_from_Great_Plains[[#This Row],[ITEMNMBR]],0)","v":"TF23-3"},"Dashing Daisies","RETAIL",0,100]
["TF24-1",{"$f":"TEXT(Table_Query_from_Great_Plains[[#This Row],[ITEMNMBR]],0)","v":"TF24-1"},"Perfect White Lilies","RETAIL",0,100]
["TF24-2",{"$f":"TEXT(Table_Query_from_Great_Plains[[#This Row],[ITEMNMBR]],0)","v":"TF24-2"},"Simply White","RETAIL",0,100]
["TF24-3",{"$f":"TEXT(Table_Query_from_Great_Plains[[#This Row],[ITEMNMBR]],0)","v":"TF24-3"},"Stylish Stock","RETAIL",0,100]
["TF25-1",{"$f":"TEXT(Table_Query_from_Great_Plains[[#This Row],[ITEMNMBR]],0)","v":"TF25-1"},"White Callas","RETAIL",0,100]
["TF26-1",{"$f":"TEXT(Table_Query_from_Great_Plains[[#This Row],[ITEMNMBR]],0)","v":"TF26-1"},"Grand Bouquet","RETAIL",0,100]
["TF29-1",{"$f":"TEXT(Table_Query_from_Great_Plains[[#This Row],[ITEMNMBR]],0)","v":"TF29-1"},"Perfect Pastel Roses","RETAIL",0,100]
["TF3-1",{"$f":"TEXT(Table_Query_from_Great_Plains[[#This Row],[ITEMNMBR]],0)","v":"TF3-1"},"Every Day Counts","RETAIL",0,100]
["TF30-1",{"$f":"TEXT(Table_Query_from_Great_Plains[[#This Row],[ITEMNMBR]],0)","v":"TF30-1"},"Three Dozen Red Roses","RETAIL",0,100]
["TF31-1",{"$f":"TEXT(Table_Query_from_Great_Plains[[#This Row],[ITEMNMBR]],0)","v":"TF31-1"},"A Dozen Red Roses","RETAIL",0,100]
["TF31-2",{"$f":"TEXT(Table_Query_from_Great_Plains[[#This Row],[ITEMNMBR]],0)","v":"TF31-2"},"Two Dozen Red Roses","RETAIL",0,100]
["TF32-1",{"$f":"TEXT(Table_Query_from_Great_Plains[[#This Row],[ITEMNMBR]],0)","v":"TF32-1"},"Expression of Love","RETAIL",0,100]
["TF32-2",{"$f":"TEXT(Table_Query_from_Great_Plains[[#This Row],[ITEMNMBR]],0)","v":"TF32-2"},"Tender Trio","RETAIL",0,100]
["TF32-3",{"$f":"TEXT(Table_Query_from_Great_Plains[[#This Row],[ITEMNMBR]],0)","v":"TF32-3"},"A Pretty Pink Dozen","RETAIL",0,100]
["TF32-4",{"$f":"TEXT(Table_Query_from_Great_Plains[[#This Row],[ITEMNMBR]],0)","v":"TF32-4"},"A Lavender Dozen","RETAIL",0,100]
["TF32-5",{"$f":"TEXT(Table_Query_from_Great_Plains[[#This Row],[ITEMNMBR]],0)","v":"TF32-5"},"A Dozen Multi-Colored Roses","RETAIL",0,100]
["TF33-1",{"$f":"TEXT(Table_Query_from_Great_Plains[[#This Row],[ITEMNMBR]],0)","v":"TF33-1"},"A Dozen Pink Roses","RETAIL",0,100]
["TF34-1",{"$f":"TEXT(Table_Query_from_Great_Plains[[#This Row],[ITEMNMBR]],0)","v":"TF34-1"},"Perfectly Peachy Roses","RETAIL",0,100]
["TF34-2",{"$f":"TEXT(Table_Query_from_Great_Plains[[#This Row],[ITEMNMBR]],0)","v":"TF34-2"},"A Dozen Pale Peach Roses","RETAIL",0,100]
["TF35-1",{"$f":"TEXT(Table_Query_from_Great_Plains[[#This Row],[ITEMNMBR]],0)","v":"TF35-1"},"Rose & Lily Splendor","RETAIL",0,100]
["TF35-2",{"$f":"TEXT(Table_Query_from_Great_Plains[[#This Row],[ITEMNMBR]],0)","v":"TF35-2"},"A Dozen White Roses","RETAIL",0,100]
["TF35-3",{"$f":"TEXT(Table_Query_from_Great_Plains[[#This Row],[ITEMNMBR]],0)","v":"TF35-3"},"Rose Topiary","RETAIL",0,100]
["TF36-1",{"$f":"TEXT(Table_Query_from_Great_Plains[[#This Row],[ITEMNMBR]],0)","v":"TF36-1"},"Blazing Sunshine","RETAIL",0,100]
["TF36-2",{"$f":"TEXT(Table_Query_from_Great_Plains[[#This Row],[ITEMNMBR]],0)","v":"TF36-2"},"Joyful Roses & Daisies","RETAIL",0,100]
["TF36-3",{"$f":"TEXT(Table_Query_from_Great_Plains[[#This Row],[ITEMNMBR]],0)","v":"TF36-3"},"Yellow Rose Bravo!","RETAIL",0,100]
["TF37-1",{"$f":"TEXT(Table_Query_from_Great_Plains[[#This Row],[ITEMNMBR]],0)","v":"TF37-1"},"A Dozen Yellow Roses","RETAIL",0,100]
["TF38-1",{"$f":"TEXT(Table_Query_from_Great_Plains[[#This Row],[ITEMNMBR]],0)","v":"TF38-1"},"Simply Roses","RETAIL",0,100]
["TF38-2",{"$f":"TEXT(Table_Query_from_Great_Plains[[#This Row],[ITEMNMBR]],0)","v":"TF38-2"},"Everything Rosy","RETAIL",0,100]
["TF38-3",{"$f":"TEXT(Table_Query_from_Great_Plains[[#This Row],[ITEMNMBR]],0)","v":"TF38-3"},"Roses with River Rocks","RETAIL",0,100]
["TF4-1",{"$f":"TEXT(Table_Query_from_Great_Plains[[#This Row],[ITEMNMBR]],0)","v":"TF4-1"},"Garden Fresh Blooms","RETAIL",0,100]
["TF41-1",{"$f":"TEXT(Table_Query_from_Great_Plains[[#This Row],[ITEMNMBR]],0)","v":"TF41-1"},"Birthday Celebration!","RETAIL",0,100]
["TF42-1",{"$f":"TEXT(Table_Query_from_Great_Plains[[#This Row],[ITEMNMBR]],0)","v":"TF42-1"},"Birthday Balloon Bouquet!","RETAIL",0,100]
["TF43-1",{"$f":"TEXT(Table_Query_from_Great_Plains[[#This Row],[ITEMNMBR]],0)","v":"TF43-1"},"Cheerful Flowers in a Mug","RETAIL",0,100]
["TF43-2",{"$f":"TEXT(Table_Query_from_Great_Plains[[#This Row],[ITEMNMBR]],0)","v":"TF43-2"},"Birthday Fireworks","RETAIL",0,100]
["TF43-3",{"$f":"TEXT(Table_Query_from_Great_Plains[[#This Row],[ITEMNMBR]],0)","v":"TF43-3"},"Party Bear","RETAIL",0,100]
["TF44-1",{"$f":"TEXT(Table_Query_from_Great_Plains[[#This Row],[ITEMNMBR]],0)","v":"TF44-1"},"Floral Teacup & Saucer","RETAIL",0,100]
["TF44-2",{"$f":"TEXT(Table_Query_from_Great_Plains[[#This Row],[ITEMNMBR]],0)","v":"TF44-2"},"Pink Birthday Roses","RETAIL",0,100]
["TF44-3",{"$f":"TEXT(Table_Query_from_Great_Plains[[#This Row],[ITEMNMBR]],0)","v":"TF44-3"},"Pink & Lavender Basket","RETAIL",0,100]
["TF45-1",{"$f":"TEXT(Table_Query_from_Great_Plains[[#This Row],[ITEMNMBR]],0)","v":"TF45-1"},"Timeless Pastels","RETAIL",0,100]
["TF46-1",{"$f":"TEXT(Table_Query_from_Great_Plains[[#This Row],[ITEMNMBR]],0)","v":"TF46-1"},"Birthday Balloon Basket","RETAIL",0,100]
["TF46-2",{"$f":"TEXT(Table_Query_from_Great_Plains[[#This Row],[ITEMNMBR]],0)","v":"TF46-2"},"Birthday Wishes","RETAIL",0,100]
["TF46-3",{"$f":"TEXT(Table_Query_from_Great_Plains[[#This Row],[ITEMNMBR]],0)","v":"TF46-3"},"Birthday Butterflies","RETAIL",0,100]
["TF47-1",{"$f":"TEXT(Table_Query_from_Great_Plains[[#This Row],[ITEMNMBR]],0)","v":"TF47-1"},"Roses with Eucalyptus","RETAIL",0,100]
["TF47-2",{"$f":"TEXT(Table_Query_from_Great_Plains[[#This Row],[ITEMNMBR]],0)","v":"TF47-2"},"Baby Block","RETAIL",0,100]
["TF47-3",{"$f":"TEXT(Table_Query_from_Great_Plains[[#This Row],[ITEMNMBR]],0)","v":"TF47-3"},"Bear Hug","RETAIL",0,100]
["TF47-4",{"$f":"TEXT(Table_Query_from_Great_Plains[[#This Row],[ITEMNMBR]],0)","v":"TF47-4"},"Its a Boy! Basket","RETAIL",0,100]
["TF47-5",{"$f":"TEXT(Table_Query_from_Great_Plains[[#This Row],[ITEMNMBR]],0)","v":"TF47-5"},"Bear In A Basket","RETAIL",0,100]
["TF47-6",{"$f":"TEXT(Table_Query_from_Great_Plains[[#This Row],[ITEMNMBR]],0)","v":"TF47-6"},"Baby’s First Wagon","RETAIL",0,100]
["TF48-1",{"$f":"TEXT(Table_Query_from_Great_Plains[[#This Row],[ITEMNMBR]],0)","v":"TF48-1"},"Pastels in White Basket","RETAIL",0,100]
["TF48-2",{"$f":"TEXT(Table_Query_from_Great_Plains[[#This Row],[ITEMNMBR]],0)","v":"TF48-2"},"Celebrating Baby Girl","RETAIL",0,100]
["TF48-3",{"$f":"TEXT(Table_Query_from_Great_Plains[[#This Row],[ITEMNMBR]],0)","v":"TF48-3"},"Pink & White Basket","RETAIL",0,100]
["TF5-1",{"$f":"TEXT(Table_Query_from_Great_Plains[[#This Row],[ITEMNMBR]],0)","v":"TF5-1"},"Large Sunshine & Smiles","RETAIL",0,100]
["TF5-2",{"$f":"TEXT(Table_Query_from_Great_Plains[[#This Row],[ITEMNMBR]],0)","v":"TF5-2"},"Small Sunshine & Smiles","RETAIL",0,100]
["TF5-3",{"$f":"TEXT(Table_Query_from_Great_Plains[[#This Row],[ITEMNMBR]],0)","v":"TF5-3"},"Medium Sunshine & Smiles","RETAIL",0,100]
["TF51-1",{"$f":"TEXT(Table_Query_from_Great_Plains[[#This Row],[ITEMNMBR]],0)","v":"TF51-1"},"Spirited Spring","RETAIL",0,100]
["TF52-1",{"$f":"TEXT(Table_Query_from_Great_Plains[[#This Row],[ITEMNMBR]],0)","v":"TF52-1"},"Pink Tulip Bouquet","RETAIL",0,100]
["TF53-1",{"$f":"TEXT(Table_Query_from_Great_Plains[[#This Row],[ITEMNMBR]],0)","v":"TF53-1"},"Basket of Spring","RETAIL",0,100]
["TF53-2",{"$f":"TEXT(Table_Query_from_Great_Plains[[#This Row],[ITEMNMBR]],0)","v":"TF53-2"},"Cheerful Carnations","RETAIL",0,100]
["TF54-1",{"$f":"TEXT(Table_Query_from_Great_Plains[[#This Row],[ITEMNMBR]],0)","v":"TF54-1"},"Alstroemeria Topiary","RETAIL",0,100]
["TF54-2",{"$f":"TEXT(Table_Query_from_Great_Plains[[#This Row],[ITEMNMBR]],0)","v":"TF54-2"},"Pink Spring Bouquet","RETAIL",0,100]
["TF55-1",{"$f":"TEXT(Table_Query_from_Great_Plains[[#This Row],[ITEMNMBR]],0)","v":"TF55-1"},"Classic Spring Bouquet","RETAIL",0,100]
["TF57-1",{"$f":"TEXT(Table_Query_from_Great_Plains[[#This Row],[ITEMNMBR]],0)","v":"TF57-1"},"Floral Delight","RETAIL",0,100]
["TF57-2",{"$f":"TEXT(Table_Query_from_Great_Plains[[#This Row],[ITEMNMBR]],0)","v":"TF57-2"},"Merry Tangerine","RETAIL",0,100]
["TF58-1",{"$f":"TEXT(Table_Query_from_Great_Plains[[#This Row],[ITEMNMBR]],0)","v":"TF58-1"},"Smiling Floral Basket","RETAIL",0,100]
["TF58-2",{"$f":"TEXT(Table_Query_from_Great_Plains[[#This Row],[ITEMNMBR]],0)","v":"TF58-2"},"Fragrant Spring Ivy Bowl","RETAIL",0,100]
["TF58-3",{"$f":"TEXT(Table_Query_from_Great_Plains[[#This Row],[ITEMNMBR]],0)","v":"TF58-3"},"Daisy Cheer","RETAIL",0,100]
["TF59-1",{"$f":"TEXT(Table_Query_from_Great_Plains[[#This Row],[ITEMNMBR]],0)","v":"TF59-1"},"Incredible Iris","RETAIL",0,100]
["TF6-1",{"$f":"TEXT(Table_Query_from_Great_Plains[[#This Row],[ITEMNMBR]],0)","v":"TF6-1"},"Pink & Purple Inspiration","RETAIL",0,100]
["TF60-1",{"$f":"TEXT(Table_Query_from_Great_Plains[[#This Row],[ITEMNMBR]],0)","v":"TF60-1"},"Easter Lily Plant","RETAIL",0,100]
["TF61-1",{"$f":"TEXT(Table_Query_from_Great_Plains[[#This Row],[ITEMNMBR]],0)","v":"TF61-1"},"Potted Yellow Tulips","RETAIL",0,100]
["TF61-2",{"$f":"TEXT(Table_Query_from_Great_Plains[[#This Row],[ITEMNMBR]],0)","v":"TF61-2"},"Hyacinth Planter","RETAIL",0,100]
["TF62-1",{"$f":"TEXT(Table_Query_from_Great_Plains[[#This Row],[ITEMNMBR]],0)","v":"TF62-1"},"Spring Moments","RETAIL",0,100]
["TF62-2",{"$f":"TEXT(Table_Query_from_Great_Plains[[#This Row],[ITEMNMBR]],0)","v":"TF62-2"},"Springtime Centerpiece","RETAIL",0,100]
["TF65-1",{"$f":"TEXT(Table_Query_from_Great_Plains[[#This Row],[ITEMNMBR]],0)","v":"TF65-1"},"Summertime Sensation","RETAIL",0,100]
["TF66-1",{"$f":"TEXT(Table_Query_from_Great_Plains[[#This Row],[ITEMNMBR]],0)","v":"TF66-1"},"Shining Sunflowers","RETAIL",0,100]
["TF67-1",{"$f":"TEXT(Table_Query_from_Great_Plains[[#This Row],[ITEMNMBR]],0)","v":"TF67-1"},"Burst of Yellow","RETAIL",0,100]
["TF67-2",{"$f":"TEXT(Table_Query_from_Great_Plains[[#This Row],[ITEMNMBR]],0)","v":"TF67-2"},"A Pot of Sunflowers","RETAIL",0,100]
["TF68-1",{"$f":"TEXT(Table_Query_from_Great_Plains[[#This Row],[ITEMNMBR]],0)","v":"TF68-1"},"Perfect Pink Harmony","RETAIL",0,100]
["TF68-2",{"$f":"TEXT(Table_Query_from_Great_Plains[[#This Row],[ITEMNMBR]],0)","v":"TF68-2"},"Hot Pink with Limes","RETAIL",0,100]
["TF68-3",{"$f":"TEXT(Table_Query_from_Great_Plains[[#This Row],[ITEMNMBR]],0)","v":"TF68-3"},"Multi-Colored Roses","RETAIL",0,100]
["TF69-1",{"$f":"TEXT(Table_Query_from_Great_Plains[[#This Row],[ITEMNMBR]],0)","v":"TF69-1"},"Fountain of Joy","RETAIL",0,100]
["TF7-1",{"$f":"TEXT(Table_Query_from_Great_Plains[[#This Row],[ITEMNMBR]],0)","v":"TF7-1"},"Burst of Joy","RETAIL",0,100]
["TF7-2",{"$f":"TEXT(Table_Query_from_Great_Plains[[#This Row],[ITEMNMBR]],0)","v":"TF7-2"},"Country Days","RETAIL",0,100]
["TF70-2",{"$f":"TEXT(Table_Query_from_Great_Plains[[#This Row],[ITEMNMBR]],0)","v":"TF70-2"},"Summer Garden Festival","RETAIL",0,100]
["TF70-3",{"$f":"TEXT(Table_Query_from_Great_Plains[[#This Row],[ITEMNMBR]],0)","v":"TF70-3"},"Summer Garden Planter","RETAIL",0,100]
["TF70-4",{"$f":"TEXT(Table_Query_from_Great_Plains[[#This Row],[ITEMNMBR]],0)","v":"TF70-4"},"Country Thoughts","RETAIL",0,100]
["TF73-1",{"$f":"TEXT(Table_Query_from_Great_Plains[[#This Row],[ITEMNMBR]],0)","v":"TF73-1"},"Majestic Fall","RETAIL",0,100]
["TF74-1",{"$f":"TEXT(Table_Query_from_Great_Plains[[#This Row],[ITEMNMBR]],0)","v":"TF74-1"},"Visions of Autumn Centerpiece","RETAIL",0,100]
["TF74-2",{"$f":"TEXT(Table_Query_from_Great_Plains[[#This Row],[ITEMNMBR]],0)","v":"TF74-2"},"Autumn Cornucopia","RETAIL",0,100]
["TF75-1",{"$f":"TEXT(Table_Query_from_Great_Plains[[#This Row],[ITEMNMBR]],0)","v":"TF75-1"},"Country Harvest","RETAIL",0,100]
["TF75-2",{"$f":"TEXT(Table_Query_from_Great_Plains[[#This Row],[ITEMNMBR]],0)","v":"TF75-2"},"Autumns Simple Beauty","RETAIL",0,100]
["TF75-3",{"$f":"TEXT(Table_Query_from_Great_Plains[[#This Row],[ITEMNMBR]],0)","v":"TF75-3"},"Captivating Cornucopia","RETAIL",0,100]
["TF76-1",{"$f":"TEXT(Table_Query_from_Great_Plains[[#This Row],[ITEMNMBR]],0)","v":"TF76-1"},"Fresh Fall Magic","RETAIL",0,100]
["TF76-2",{"$f":"TEXT(Table_Query_from_Great_Plains[[#This Row],[ITEMNMBR]],0)","v":"TF76-2"},"Fall Meadow","RETAIL",0,100]
["TF76-3",{"$f":"TEXT(Table_Query_from_Great_Plains[[#This Row],[ITEMNMBR]],0)","v":"TF76-3"},"Sunflower Harvest","RETAIL",0,100]
["TF76-4",{"$f":"TEXT(Table_Query_from_Great_Plains[[#This Row],[ITEMNMBR]],0)","v":"TF76-4"},"Sunflower Topiary","RETAIL",0,100]
["TF77-1",{"$f":"TEXT(Table_Query_from_Great_Plains[[#This Row],[ITEMNMBR]],0)","v":"TF77-1"},"Dozen Orange Roses","RETAIL",0,100]
["TF78-1",{"$f":"TEXT(Table_Query_from_Great_Plains[[#This Row],[ITEMNMBR]],0)","v":"TF78-1"},"Autumn Sunshine","RETAIL",0,100]
["TF79-1",{"$f":"TEXT(Table_Query_from_Great_Plains[[#This Row],[ITEMNMBR]],0)","v":"TF79-1"},"Pumpkin Delight","RETAIL",0,100]
["TF79-2",{"$f":"TEXT(Table_Query_from_Great_Plains[[#This Row],[ITEMNMBR]],0)","v":"TF79-2"},"Sweet Corn Harvest","RETAIL",0,100]
["TF79-3",{"$f":"TEXT(Table_Query_from_Great_Plains[[#This Row],[ITEMNMBR]],0)","v":"TF79-3"},"Bewitching Bouquet","RETAIL",0,100]
["TF79-4",{"$f":"TEXT(Table_Query_from_Great_Plains[[#This Row],[ITEMNMBR]],0)","v":"TF79-4"},"Hint of Fall","RETAIL",0,100]
["TF8-1",{"$f":"TEXT(Table_Query_from_Great_Plains[[#This Row],[ITEMNMBR]],0)","v":"TF8-1"},"Carnation Expression","RETAIL",0,100]
["TF8-2",{"$f":"TEXT(Table_Query_from_Great_Plains[[#This Row],[ITEMNMBR]],0)","v":"TF8-2"},"Stargazer Bouquet","RETAIL",0,100]
["TF8-3",{"$f":"TEXT(Table_Query_from_Great_Plains[[#This Row],[ITEMNMBR]],0)","v":"TF8-3"},"Pink Power","RETAIL",0,100]
["TF80-1",{"$f":"TEXT(Table_Query_from_Great_Plains[[#This Row],[ITEMNMBR]],0)","v":"TF80-1"},"Bronze Cushion Mum Plant","RETAIL",0,100]
["TF80-2",{"$f":"TEXT(Table_Query_from_Great_Plains[[#This Row],[ITEMNMBR]],0)","v":"TF80-2"},"Vivid Yellow Kalanchoe Plant","RETAIL",0,100]
["TF80-3",{"$f":"TEXT(Table_Query_from_Great_Plains[[#This Row],[ITEMNMBR]],0)","v":"TF80-3"},"Harvest Yellow Daisy Plant","RETAIL",0,100]
["TF83-1",{"$f":"TEXT(Table_Query_from_Great_Plains[[#This Row],[ITEMNMBR]],0)","v":"TF83-1"},"Heavenly Hurricane Bouquet","RETAIL",0,100]
["TF84-1",{"$f":"TEXT(Table_Query_from_Great_Plains[[#This Row],[ITEMNMBR]],0)","v":"TF84-1"},"Wreath & Velvet Bow","RETAIL",0,100]
["TF84-2",{"$f":"TEXT(Table_Query_from_Great_Plains[[#This Row],[ITEMNMBR]],0)","v":"TF84-2"},"Double Poinsettia Basket","RETAIL",0,100]
["TF85-1",{"$f":"TEXT(Table_Query_from_Great_Plains[[#This Row],[ITEMNMBR]],0)","v":"TF85-1"},"Real Boxwood Tree","RETAIL",0,100]
["TF85-2",{"$f":"TEXT(Table_Query_from_Great_Plains[[#This Row],[ITEMNMBR]],0)","v":"TF85-2"},"Celebrate the Season Centerpiece","RETAIL",0,100]
["TF85-3",{"$f":"TEXT(Table_Query_from_Great_Plains[[#This Row],[ITEMNMBR]],0)","v":"TF85-3"},"Holiday Delight Centerpiece","RETAIL",0,100]
["TF86-1",{"$f":"TEXT(Table_Query_from_Great_Plains[[#This Row],[ITEMNMBR]],0)","v":"TF86-1"},"Amaryllis Plant","RETAIL",0,100]
["TF86-2",{"$f":"TEXT(Table_Query_from_Great_Plains[[#This Row],[ITEMNMBR]],0)","v":"TF86-2"},"Happy Holidays Centerpiece","RETAIL",0,100]
["TF86-3",{"$f":"TEXT(Table_Query_from_Great_Plains[[#This Row],[ITEMNMBR]],0)","v":"TF86-3"},"Holly Bowl","RETAIL",0,100]
["TF86-4",{"$f":"TEXT(Table_Query_from_Great_Plains[[#This Row],[ITEMNMBR]],0)","v":"TF86-4"},"Candy Cane Basket","RETAIL",0,100]
["TF87-1",{"$f":"TEXT(Table_Query_from_Great_Plains[[#This Row],[ITEMNMBR]],0)","v":"TF87-1"},"Dozen Christmas Roses","RETAIL",0,100]
["TF88-1",{"$f":"TEXT(Table_Query_from_Great_Plains[[#This Row],[ITEMNMBR]],0)","v":"TF88-1"},"6 Inch Red Poinsettia","RETAIL",0,100]
["TF88-2",{"$f":"TEXT(Table_Query_from_Great_Plains[[#This Row],[ITEMNMBR]],0)","v":"TF88-2"},"Staircase Garland","RETAIL",0,100]
["TF89-1",{"$f":"TEXT(Table_Query_from_Great_Plains[[#This Row],[ITEMNMBR]],0)","v":"TF89-1"},"Pomegranate Wreath","RETAIL",0,100]
["TF89-2",{"$f":"TEXT(Table_Query_from_Great_Plains[[#This Row],[ITEMNMBR]],0)","v":"TF89-2"},"Christmas Bubble Bowl","RETAIL",0,100]
["TF9-1",{"$f":"TEXT(Table_Query_from_Great_Plains[[#This Row],[ITEMNMBR]],0)","v":"TF9-1"},"Marvelous Pinks","RETAIL",0,100]
["TF90-1",{"$f":"TEXT(Table_Query_from_Great_Plains[[#This Row],[ITEMNMBR]],0)","v":"TF90-1"},"Single Candle Centerpiece","RETAIL",0,100]
["TF90-2",{"$f":"TEXT(Table_Query_from_Great_Plains[[#This Row],[ITEMNMBR]],0)","v":"TF90-2"},"Twin Taper Centerpiece","RETAIL",0,100]
["TF90-3",{"$f":"TEXT(Table_Query_from_Great_Plains[[#This Row],[ITEMNMBR]],0)","v":"TF90-3"},"Candle Trio Centerpiece","RETAIL",0,100]
["TF91-1",{"$f":"TEXT(Table_Query_from_Great_Plains[[#This Row],[ITEMNMBR]],0)","v":"TF91-1"},"Fresh Wreath & Apples","RETAIL",0,100]
["TF91-2",{"$f":"TEXT(Table_Query_from_Great_Plains[[#This Row],[ITEMNMBR]],0)","v":"TF91-2"},"Door Garland & Apples","RETAIL",0,100]
["TF92-1",{"$f":"TEXT(Table_Query_from_Great_Plains[[#This Row],[ITEMNMBR]],0)","v":"TF92-1"},"Sleigh Bouquet","RETAIL",0,100]
["TF92-2",{"$f":"TEXT(Table_Query_from_Great_Plains[[#This Row],[ITEMNMBR]],0)","v":"TF92-2"},"Carnation Topiary","RETAIL",0,100]
["TF92-3",{"$f":"TEXT(Table_Query_from_Great_Plains[[#This Row],[ITEMNMBR]],0)","v":"TF92-3"},"Holiday Ornament","RETAIL",0,100]
["TF93-1",{"$f":"TEXT(Table_Query_from_Great_Plains[[#This Row],[ITEMNMBR]],0)","v":"TF93-1"},"Carols of Christmas","RETAIL",0,100]
["TF94-1",{"$f":"TEXT(Table_Query_from_Great_Plains[[#This Row],[ITEMNMBR]],0)","v":"TF94-1"},"Spirit of Christmas","RETAIL",0,100]
["TF95-1",{"$f":"TEXT(Table_Query_from_Great_Plains[[#This Row],[ITEMNMBR]],0)","v":"TF95-1"},"Winter Wonderland Basket","RETAIL",0,100]
["TF95-2",{"$f":"TEXT(Table_Query_from_Great_Plains[[#This Row],[ITEMNMBR]],0)","v":"TF95-2"},"Holiday Happiness","RETAIL",0,100]
["TF95-3",{"$f":"TEXT(Table_Query_from_Great_Plains[[#This Row],[ITEMNMBR]],0)","v":"TF95-3"},"Red Pillar Candle","RETAIL",0,100]
["TF95-4",{"$f":"TEXT(Table_Query_from_Great_Plains[[#This Row],[ITEMNMBR]],0)","v":"TF95-4"},"Festive Welcome Swag","RETAIL",0,100]
["TF96-1",{"$f":"TEXT(Table_Query_from_Great_Plains[[#This Row],[ITEMNMBR]],0)","v":"TF96-1"},"New Year Celebration","RETAIL",0,100]
["TF96-2",{"$f":"TEXT(Table_Query_from_Great_Plains[[#This Row],[ITEMNMBR]],0)","v":"TF96-2"},"Hanukkah Arrangement","RETAIL",0,100]
["TF96-3",{"$f":"TEXT(Table_Query_from_Great_Plains[[#This Row],[ITEMNMBR]],0)","v":"TF96-3"},"Christmas Welcome Swag","RETAIL",0,100]
["TF97-1",{"$f":"TEXT(Table_Query_from_Great_Plains[[#This Row],[ITEMNMBR]],0)","v":"TF97-1"},"Golden Evergreen Wreath","RETAIL",0,100]
["TF98-1",{"$f":"TEXT(Table_Query_from_Great_Plains[[#This Row],[ITEMNMBR]],0)","v":"TF98-1"},"Two Candle Centerpiece","RETAIL",0,100]
["TF99-1",{"$f":"TEXT(Table_Query_from_Great_Plains[[#This Row],[ITEMNMBR]],0)","v":"TF99-1"},"Winter Dreams","RETAIL",0,100]
["TF99-2",{"$f":"TEXT(Table_Query_from_Great_Plains[[#This Row],[ITEMNMBR]],0)","v":"TF99-2"},"Winter Night Dreams","RETAIL",0,100]
["TF99-3",{"$f":"TEXT(Table_Query_from_Great_Plains[[#This Row],[ITEMNMBR]],0)","v":"TF99-3"},"Winter Whites & Glittering Golds","RETAIL",0,100]
["TFWEB164",{"$f":"TEXT(Table_Query_from_Great_Plains[[#This Row],[ITEMNMBR]],0)","v":"TFWEB164"},"Make A Wish","RETAIL",0,50]
["TFWEB511",{"$f":"TEXT(Table_Query_from_Great_Plains[[#This Row],[ITEMNMBR]],0)","v":"TFWEB511"},"Pretty Please","RETAIL",0,50]
["TFWEB599",{"$f":"TEXT(Table_Query_from_Great_Plains[[#This Row],[ITEMNMBR]],0)","v":"TFWEB599"},"Upsy Daisy Bouquet","RETAIL",0,50]
["TFWEB605",{"$f":"TEXT(Table_Query_from_Great_Plains[[#This Row],[ITEMNMBR]],0)","v":"TFWEB605"},"Perfectly Pastel Bouquet","RETAIL",0,50]
["THDH10",{"$f":"TEXT(Table_Query_from_Great_Plains[[#This Row],[ITEMNMBR]],0)","v":"THDH10"},"Custom: Horgan Group -  Christmas Premium  ( custom ribbon) (Tim)","RETAIL",0,79.989999999999995]
["TIG001",{"$f":"TEXT(Table_Query_from_Great_Plains[[#This Row],[ITEMNMBR]],0)","v":"TIG001"},"Time & Again Gardner's Hand Cream","RETAIL",0,100]
["TIN015",{"$f":"TEXT(Table_Query_from_Great_Plains[[#This Row],[ITEMNMBR]],0)","v":"TIN015"},"KOP Brand Tin - 2 Gallon","RETAIL",0,4.05]
["TM1001",{"$f":"TEXT(Table_Query_from_Great_Plains[[#This Row],[ITEMNMBR]],0)","v":"TM1001"},"Holiday Embossed Tin Assortment - CP 4","RETAIL",0,25]
["TMAH01",{"$f":"TEXT(Table_Query_from_Great_Plains[[#This Row],[ITEMNMBR]],0)","v":"TMAH01"},"Custom Estate Collection","RETAIL",0,179.99]
["TMAH02",{"$f":"TEXT(Table_Query_from_Great_Plains[[#This Row],[ITEMNMBR]],0)","v":"TMAH02"},"Custom Nature's Picnic","RETAIL",0,79.989999999999995]
["TMAI01",{"$f":"TEXT(Table_Query_from_Great_Plains[[#This Row],[ITEMNMBR]],0)","v":"TMAI01"},"Custom 6288 with Candy ( Tim Myers )","RETAIL",0,69.989999999999995]
["TMAI02",{"$f":"TEXT(Table_Query_from_Great_Plains[[#This Row],[ITEMNMBR]],0)","v":"TMAI02"},"Custom 5627 with Candy ( Tim Myers )","RETAIL",0,89.99]
["TMAI03",{"$f":"TEXT(Table_Query_from_Great_Plains[[#This Row],[ITEMNMBR]],0)","v":"TMAI03"},"Custom 5629 with Candy ( Tim Myers )","RETAIL",0,89.99]
["TMAK01",{"$f":"TEXT(Table_Query_from_Great_Plains[[#This Row],[ITEMNMBR]],0)","v":"TMAK01"},"Custom corporate showstopper","RETAIL",0,149.99]
["TMAMD1",{"$f":"TEXT(Table_Query_from_Great_Plains[[#This Row],[ITEMNMBR]],0)","v":"TMAMD1"},"AMD Chocolate Mini Custom","RETAIL",0,24.99]
["TMAON1",{"$f":"TEXT(Table_Query_from_Great_Plains[[#This Row],[ITEMNMBR]],0)","v":"TMAON1"},"Custom Aon Risk Solutions  - Moet & Snacks - Poker Style  (Tim)","RETAIL",1,82]
["TMAPF1",{"$f":"TEXT(Table_Query_from_Great_Plains[[#This Row],[ITEMNMBR]],0)","v":"TMAPF1"},"Custom Caymus & Cakebread with crackers, cheese & sausage (TIM)","RETAIL",1,277.99]
["TMAPF2",{"$f":"TEXT(Table_Query_from_Great_Plains[[#This Row],[ITEMNMBR]],0)","v":"TMAPF2"},"Custom: Riesling & Zinfandel with crackers, cheese & sausage (TIM)","RETAIL",1,166.99]
["TMAT01",{"$f":"TEXT(Table_Query_from_Great_Plains[[#This Row],[ITEMNMBR]],0)","v":"TMAT01"},"Custom Bella Italian with bottle of Chianti (Tim)","RETAIL",1,187.99]
["TMATS1",{"$f":"TEXT(Table_Query_from_Great_Plains[[#This Row],[ITEMNMBR]],0)","v":"TMATS1"},"Custom: Healthy Premium (Tim)","RETAIL",0,99.99]
["TMATS2",{"$f":"TEXT(Table_Query_from_Great_Plains[[#This Row],[ITEMNMBR]],0)","v":"TMATS2"},"Custom: Snack Classic (Tim)","RETAIL",0,59.99]
["TMATS3",{"$f":"TEXT(Table_Query_from_Great_Plains[[#This Row],[ITEMNMBR]],0)","v":"TMATS3"},"Custom: Snack Break (Tim)","RETAIL",0,34.99]
["TMBA01",{"$f":"TEXT(Table_Query_from_Great_Plains[[#This Row],[ITEMNMBR]],0)","v":"TMBA01"},"Custom Healthy Stack","RETAIL",0,34.99]
["TMBAH1",{"$f":"TEXT(Table_Query_from_Great_Plains[[#This Row],[ITEMNMBR]],0)","v":"TMBAH1"},"Nature's Picnic Customized - Tim M.","RETAIL",0,110]
["TMBB01",{"$f":"TEXT(Table_Query_from_Great_Plains[[#This Row],[ITEMNMBR]],0)","v":"TMBB01"},"Custom Gold & Burgundy Snack ( Tim )","RETAIL",0,49.99]
["TMBB02",{"$f":"TEXT(Table_Query_from_Great_Plains[[#This Row],[ITEMNMBR]],0)","v":"TMBB02"},"Custom: Babe Ruth Baseball - Sweet & Salty 1 ( Tim )","RETAIL",0,80]
["TMBB03",{"$f":"TEXT(Table_Query_from_Great_Plains[[#This Row],[ITEMNMBR]],0)","v":"TMBB03"},"Custom: Babe Ruth Baseball - Sweet & Salty 2 ( Tim )","RETAIL",0,50]
["TMBI01",{"$f":"TEXT(Table_Query_from_Great_Plains[[#This Row],[ITEMNMBR]],0)","v":"TMBI01"},"Custom - fruit snacks and chocolates (Tim)","RETAIL",0,45]
["TMBJ01",{"$f":"TEXT(Table_Query_from_Great_Plains[[#This Row],[ITEMNMBR]],0)","v":"TMBJ01"},"Custom -The Business Journals - Microbrew Beer Bucket (Tim)","RETAIL",1,69.989999999999995]
["TMBJ02",{"$f":"TEXT(Table_Query_from_Great_Plains[[#This Row],[ITEMNMBR]],0)","v":"TMBJ02"},"Custom -The Business Journals  w/ Marketing Material - 4801 (Tim M.)","RETAIL",0,39.99]
["TMBJ03",{"$f":"TEXT(Table_Query_from_Great_Plains[[#This Row],[ITEMNMBR]],0)","v":"TMBJ03"},"Custom -The Business Journals -Ice Cream Party (Tim)","RETAIL",0,39.99]
["TMBJ04",{"$f":"TEXT(Table_Query_from_Great_Plains[[#This Row],[ITEMNMBR]],0)","v":"TMBJ04"},"Custom -The Business Journals - 4050 (Tim)","RETAIL",0,34.99]
["TMBM01",{"$f":"TEXT(Table_Query_from_Great_Plains[[#This Row],[ITEMNMBR]],0)","v":"TMBM01"},"Custom Snack & Chocolate ( Tim )","RETAIL",0,219.99]
["TMBR01",{"$f":"TEXT(Table_Query_from_Great_Plains[[#This Row],[ITEMNMBR]],0)","v":"TMBR01"},"Custom Bayer Ravenswood No Meat","RETAIL",0,69.989999999999995]
["TMBS01",{"$f":"TEXT(Table_Query_from_Great_Plains[[#This Row],[ITEMNMBR]],0)","v":"TMBS01"},"Custom  Bella Italiana (Tim)","RETAIL",0,159.99]
["TMBT02",{"$f":"TEXT(Table_Query_from_Great_Plains[[#This Row],[ITEMNMBR]],0)","v":"TMBT02"},"Custom Vegas Theme Basket","RETAIL",0,235.99]
["TMBT03",{"$f":"TEXT(Table_Query_from_Great_Plains[[#This Row],[ITEMNMBR]],0)","v":"TMBT03"},"Custom *Rodney Strong* Cabernet & Chardonnay - snacks & chocolates (Tim)","RETAIL",1,150]
["TMBT04",{"$f":"TEXT(Table_Query_from_Great_Plains[[#This Row],[ITEMNMBR]],0)","v":"TMBT04"},"Custom: Snack Premium with added plastic knife (Tim)","RETAIL",0,79.989999999999995]
["TMCI01",{"$f":"TEXT(Table_Query_from_Great_Plains[[#This Row],[ITEMNMBR]],0)","v":"TMCI01"},"Custom:4-Combinator Inc. -  Fruit and Healthy (Tim/Mike)","RETAIL",0,100]
["TMCM01",{"$f":"TEXT(Table_Query_from_Great_Plains[[#This Row],[ITEMNMBR]],0)","v":"TMCM01"},"Custom Single Wine Cakebread","RETAIL",0,203.74]
["TMCR01",{"$f":"TEXT(Table_Query_from_Great_Plains[[#This Row],[ITEMNMBR]],0)","v":"TMCR01"},"Custom: Microstrategies - Evening of Indulgence (Tim)","RETAIL",1,95.99]
["TMCR02",{"$f":"TEXT(Table_Query_from_Great_Plains[[#This Row],[ITEMNMBR]],0)","v":"TMCR02"},"Custom: MicroStrategy - Moet and Snacks (Tim)","RETAIL",1,100]
["TMCT01",{"$f":"TEXT(Table_Query_from_Great_Plains[[#This Row],[ITEMNMBR]],0)","v":"TMCT01"},"Custom 6257 plus ravenswood cabernet (Tim)","RETAIL",1,86.99]
["TMCV01",{"$f":"TEXT(Table_Query_from_Great_Plains[[#This Row],[ITEMNMBR]],0)","v":"TMCV01"},"Custom Merlot & snacks (Tim)","RETAIL",1,80]
["TMCX01",{"$f":"TEXT(Table_Query_from_Great_Plains[[#This Row],[ITEMNMBR]],0)","v":"TMCX01"},"Custom: Comcast - Xfinity - Popcorn Lovers (Tim)","RETAIL",0,119.99]
["TMDA01",{"$f":"TEXT(Table_Query_from_Great_Plains[[#This Row],[ITEMNMBR]],0)","v":"TMDA01"},"Kosher Stack - No Chocolate - Tim M.","RETAIL",0,40.06]
["TMDA02",{"$f":"TEXT(Table_Query_from_Great_Plains[[#This Row],[ITEMNMBR]],0)","v":"TMDA02"},"Kosher Classic - No Chocolate - Tim M.","RETAIL",0,63.14]
["TMDB01",{"$f":"TEXT(Table_Query_from_Great_Plains[[#This Row],[ITEMNMBR]],0)","v":"TMDB01"},"Davids Bridal Custom","RETAIL",0,0]
["TMDC01",{"$f":"TEXT(Table_Query_from_Great_Plains[[#This Row],[ITEMNMBR]],0)","v":"TMDC01"},"Custom :Dorma Controls Baked Goods Basket","RETAIL",0,65]
["TMDE01",{"$f":"TEXT(Table_Query_from_Great_Plains[[#This Row],[ITEMNMBR]],0)","v":"TMDE01"},"Custom Kosher with Fruit","RETAIL",0,170]
["TMDG01",{"$f":"TEXT(Table_Query_from_Great_Plains[[#This Row],[ITEMNMBR]],0)","v":"TMDG01"},"Custom Diego Margarita Madness","RETAIL",0,210.99]
["TMDG02",{"$f":"TEXT(Table_Query_from_Great_Plains[[#This Row],[ITEMNMBR]],0)","v":"TMDG02"},"Custom Diego Bloody Mary Breakfast","RETAIL",0,143.99]
["TMDG03",{"$f":"TEXT(Table_Query_from_Great_Plains[[#This Row],[ITEMNMBR]],0)","v":"TMDG03"},"Custom Diego Apple Martini Basket","RETAIL",0,136.99]
["TMDG04",{"$f":"TEXT(Table_Query_from_Great_Plains[[#This Row],[ITEMNMBR]],0)","v":"TMDG04"},"Custom Diego Diego Bailey's Irish Cream Basket","RETAIL",0,147.99]
["TMDG05",{"$f":"TEXT(Table_Query_from_Great_Plains[[#This Row],[ITEMNMBR]],0)","v":"TMDG05"},"Custom: fruit basket (Tim)","RETAIL",0,75]
["TMDH01",{"$f":"TEXT(Table_Query_from_Great_Plains[[#This Row],[ITEMNMBR]],0)","v":"TMDH01"},"Custom: Christmas Mini - Horgan Group Ribbon added (Tim)","RETAIL",0,24.99]
["TMDH02",{"$f":"TEXT(Table_Query_from_Great_Plains[[#This Row],[ITEMNMBR]],0)","v":"TMDH02"},"Custom: Christmas Classic - Horgan Group Ribbon added (Tim)","RETAIL",0,59.99]
["TMDH03",{"$f":"TEXT(Table_Query_from_Great_Plains[[#This Row],[ITEMNMBR]],0)","v":"TMDH03"},"Custom: Christmas Premium - Horgan Group Ribbon added (Tim)","RETAIL",0,79.989999999999995]
["TMDH04",{"$f":"TEXT(Table_Query_from_Great_Plains[[#This Row],[ITEMNMBR]],0)","v":"TMDH04"},"Custom: Horgan Group -  Christmas mini - with branded ribbon (Tim)","RETAIL",0,24.99]
["TMDH05",{"$f":"TEXT(Table_Query_from_Great_Plains[[#This Row],[ITEMNMBR]],0)","v":"TMDH05"},"Custom: Horgan Group -  Christmas Classic - with branded ribbon (Tim)","RETAIL",0,59.99]
["TMDH06",{"$f":"TEXT(Table_Query_from_Great_Plains[[#This Row],[ITEMNMBR]],0)","v":"TMDH06"},"Custom: Horgan Group -  Christmas Premium - with branded ribbon (Tim)","RETAIL",0,79.989999999999995]
["TMDH07",{"$f":"TEXT(Table_Query_from_Great_Plains[[#This Row],[ITEMNMBR]],0)","v":"TMDH07"},"Custom: Horgan Group - Birthday Mini (Tim)","RETAIL",0,24.99]
["TMDH08",{"$f":"TEXT(Table_Query_from_Great_Plains[[#This Row],[ITEMNMBR]],0)","v":"TMDH08"},"Custom: Horgan Group - Christmas  Mini (Tim)","RETAIL",0,24.99]
["TMDH09",{"$f":"TEXT(Table_Query_from_Great_Plains[[#This Row],[ITEMNMBR]],0)","v":"TMDH09"},"Custom: Horgan Group - Christmas Classic - (custom ribbon) (Tim)","RETAIL",0,59.99]
["TMDH10",{"$f":"TEXT(Table_Query_from_Great_Plains[[#This Row],[ITEMNMBR]],0)","v":"TMDH10"},"Custom: Horgan Group -  Christmas Premium (custom ribbon) (Tim)","RETAIL",0,79.989999999999995]
["TMDI01",{"$f":"TEXT(Table_Query_from_Great_Plains[[#This Row],[ITEMNMBR]],0)","v":"TMDI01"},"Custom: Care Package (Tim)","RETAIL",0,299.99]
["TMDLG1",{"$f":"TEXT(Table_Query_from_Great_Plains[[#This Row],[ITEMNMBR]],0)","v":"TMDLG1"},"Custom: Dillion Gage Customized Tailgate (Tim)","RETAIL",0,150]
["TMDLG2",{"$f":"TEXT(Table_Query_from_Great_Plains[[#This Row],[ITEMNMBR]],0)","v":"TMDLG2"},"Custom: Dillion Gage Customized Tailgate (Tim) - with baby items","RETAIL",0,175]
["TMDLG3",{"$f":"TEXT(Table_Query_from_Great_Plains[[#This Row],[ITEMNMBR]],0)","v":"TMDLG3"},"Custom: Dillion Gage Customized Tailgate with added dog items (Tim)","RETAIL",0,180]
["TMDM01",{"$f":"TEXT(Table_Query_from_Great_Plains[[#This Row],[ITEMNMBR]],0)","v":"TMDM01"},"Drive Marketing Around the World Beer Bucket","RETAIL",0,83.99]
["TMDM02",{"$f":"TEXT(Table_Query_from_Great_Plains[[#This Row],[ITEMNMBR]],0)","v":"TMDM02"},"DirectMed Parts & Service - Nostalgic Candy Box plus csi items (Tim)","RETAIL",0,34.99]
["TMDP01",{"$f":"TEXT(Table_Query_from_Great_Plains[[#This Row],[ITEMNMBR]],0)","v":"TMDP01"},"Custom: Popcorn (Tim)","RETAIL",0,143.99]
["TMDP02",{"$f":"TEXT(Table_Query_from_Great_Plains[[#This Row],[ITEMNMBR]],0)","v":"TMDP02"},"Custom : Tailgate Themed Basket (Tim)","RETAIL",1,169.99]
["TMDP03",{"$f":"TEXT(Table_Query_from_Great_Plains[[#This Row],[ITEMNMBR]],0)","v":"TMDP03"},"Custom :Round to Remember  - PINK (Tim)","RETAIL",0,69.989999999999995]
["TMDR01",{"$f":"TEXT(Table_Query_from_Great_Plains[[#This Row],[ITEMNMBR]],0)","v":"TMDR01"},"Custom D- R- Horton -summer- (Tim)","RETAIL",0,25]
["TMDR02",{"$f":"TEXT(Table_Query_from_Great_Plains[[#This Row],[ITEMNMBR]],0)","v":"TMDR02"},"Custom D.R. Horton Snack w/ KeyChains","RETAIL",0,25]
["TMECG1",{"$f":"TEXT(Table_Query_from_Great_Plains[[#This Row],[ITEMNMBR]],0)","v":"TMECG1"},"Custom: Kosher Ultimate (Tim)","RETAIL",0,124.99]
["TMED01",{"$f":"TEXT(Table_Query_from_Great_Plains[[#This Row],[ITEMNMBR]],0)","v":"TMED01"},"Custom Brownie Sampler","RETAIL",0,52.99]
["TMED02",{"$f":"TEXT(Table_Query_from_Great_Plains[[#This Row],[ITEMNMBR]],0)","v":"TMED02"},"Custom Brownie & Cookie Sampler","RETAIL",0,82.99]
["TMEF01",{"$f":"TEXT(Table_Query_from_Great_Plains[[#This Row],[ITEMNMBR]],0)","v":"TMEF01"},"Custom: Cookies in Gift Box (Tim)","RETAIL",0,19.989999999999998]
["TMEH01",{"$f":"TEXT(Table_Query_from_Great_Plains[[#This Row],[ITEMNMBR]],0)","v":"TMEH01"},"Custom: Emerald Homes Custom Snack Gift Basket (Tim)","RETAIL",0,55]
["TMEJ01",{"$f":"TEXT(Table_Query_from_Great_Plains[[#This Row],[ITEMNMBR]],0)","v":"TMEJ01"},"Custom Snack Stack ( Tim )","RETAIL",0,34.99]
["TMEMB1",{"$f":"TEXT(Table_Query_from_Great_Plains[[#This Row],[ITEMNMBR]],0)","v":"TMEMB1"},"Custom: Luxury Snack & Champagne ( Tim )","RETAIL",1,175]
["TMGA01",{"$f":"TEXT(Table_Query_from_Great_Plains[[#This Row],[ITEMNMBR]],0)","v":"TMGA01"},"Custom everything but the wine (Tim)","RETAIL",0,61.99]
["TMGA02",{"$f":"TEXT(Table_Query_from_Great_Plains[[#This Row],[ITEMNMBR]],0)","v":"TMGA02"},"Custom: Good Advertizing  - western theme -  (Tim)","RETAIL",0,46]
["TMGA03",{"$f":"TEXT(Table_Query_from_Great_Plains[[#This Row],[ITEMNMBR]],0)","v":"TMGA03"},"Custom: Good Advertizing  - non beer- beer bucket with snacks -  (Tim)","RETAIL",0,46]
["TMGH01",{"$f":"TEXT(Table_Query_from_Great_Plains[[#This Row],[ITEMNMBR]],0)","v":"TMGH01"},"Custom Fondue","RETAIL",0,101.99]
["TMGH02",{"$f":"TEXT(Table_Query_from_Great_Plains[[#This Row],[ITEMNMBR]],0)","v":"TMGH02"},"Custom Purely Fruit","RETAIL",0,100]
["TMGH03",{"$f":"TEXT(Table_Query_from_Great_Plains[[#This Row],[ITEMNMBR]],0)","v":"TMGH03"},"custom meat lovers extreme collection (tim)","RETAIL",0,99.99]
["TMGH04",{"$f":"TEXT(Table_Query_from_Great_Plains[[#This Row],[ITEMNMBR]],0)","v":"TMGH04"},"custom: Cookies, Chocolates & Popcorn  (Tim)","RETAIL",0,100]
["TMGH05",{"$f":"TEXT(Table_Query_from_Great_Plains[[#This Row],[ITEMNMBR]],0)","v":"TMGH05"},"Custom 5345 with Fruit, Auntie Trudie's, and Lindt","RETAIL",0,99.99]
["TMGH06",{"$f":"TEXT(Table_Query_from_Great_Plains[[#This Row],[ITEMNMBR]],0)","v":"TMGH06"},"Custom 5345 with Fruit, Auntie Trudie's, and Lindt","RETAIL",0,99.99]
["TMGH07",{"$f":"TEXT(Table_Query_from_Great_Plains[[#This Row],[ITEMNMBR]],0)","v":"TMGH07"},"Custom 4061 with added baked goods (Tim)","RETAIL",0,99.99]
["TMGH12",{"$f":"TEXT(Table_Query_from_Great_Plains[[#This Row],[ITEMNMBR]],0)","v":"TMGH12"},"Thank you basket Catena Duo","RETAIL",0,0]
["TMHC01",{"$f":"TEXT(Table_Query_from_Great_Plains[[#This Row],[ITEMNMBR]],0)","v":"TMHC01"},"Custom: Helicon Halloween Cookie Cake (Tim)","RETAIL",0,37.99]
["TMHC02",{"$f":"TEXT(Table_Query_from_Great_Plains[[#This Row],[ITEMNMBR]],0)","v":"TMHC02"},"Custom: Helicon Halloween Cookie Cake  with added napkins and plates (Tim)","RETAIL",0,37.99]
["TMHM01",{"$f":"TEXT(Table_Query_from_Great_Plains[[#This Row],[ITEMNMBR]],0)","v":"TMHM01"},"Custom: The Hartford Mutual Funds Energetic Snacker (Tim)","RETAIL",0,99.99]
["TMHM02",{"$f":"TEXT(Table_Query_from_Great_Plains[[#This Row],[ITEMNMBR]],0)","v":"TMHM02"},"Custom: Hartford Mutual Funds - snack with coffee (Tim)","RETAIL",0,100]
["TMHM03",{"$f":"TEXT(Table_Query_from_Great_Plains[[#This Row],[ITEMNMBR]],0)","v":"TMHM03"},"Custom: The Hartford Mutual Funds Energetic Snacker 2 (Tim)","RETAIL",0,99.99]
["TMICBM",{"$f":"TEXT(Table_Query_from_Great_Plains[[#This Row],[ITEMNMBR]],0)","v":"TMICBM"},"Custom In Charge Debt Solutions (Tim)","RETAIL",0,40]
["TMICJH",{"$f":"TEXT(Table_Query_from_Great_Plains[[#This Row],[ITEMNMBR]],0)","v":"TMICJH"},"Custom In Charge Debt Solutions (Tim)","RETAIL",0,40]
["TMICJM",{"$f":"TEXT(Table_Query_from_Great_Plains[[#This Row],[ITEMNMBR]],0)","v":"TMICJM"},"Custom In Charge Debt Solutions (Tim)","RETAIL",0,40]
["TMJI01",{"$f":"TEXT(Table_Query_from_Great_Plains[[#This Row],[ITEMNMBR]],0)","v":"TMJI01"},"Custom holiday executive suite plus belgian chocolates (Tim)","RETAIL",0,350]
["TMJL01",{"$f":"TEXT(Table_Query_from_Great_Plains[[#This Row],[ITEMNMBR]],0)","v":"TMJL01"},"Custom champagne & chocolate~~Veuve~~ (Tim)","RETAIL",1,100]
["TMKOS1",{"$f":"TEXT(Table_Query_from_Great_Plains[[#This Row],[ITEMNMBR]],0)","v":"TMKOS1"},"Custom - Kosher Basket (Tim M.)","RETAIL",0,124.99]
["TMLFCC",{"$f":"TEXT(Table_Query_from_Great_Plains[[#This Row],[ITEMNMBR]],0)","v":"TMLFCC"},"Custom : candy crate (Tim)","RETAIL",0,24.99]
["TMLFMB",{"$f":"TEXT(Table_Query_from_Great_Plains[[#This Row],[ITEMNMBR]],0)","v":"TMLFMB"},"Custom : mini breakfast (Tim)","RETAIL",0,24.99]
["TMLFMI",{"$f":"TEXT(Table_Query_from_Great_Plains[[#This Row],[ITEMNMBR]],0)","v":"TMLFMI"},"Custom : mini italian (Tim)","RETAIL",0,24.99]
["TMLFMS",{"$f":"TEXT(Table_Query_from_Great_Plains[[#This Row],[ITEMNMBR]],0)","v":"TMLFMS"},"Custom : mini snack (Tim)","RETAIL",0,24.99]
["TMLT36",{"$f":"TEXT(Table_Query_from_Great_Plains[[#This Row],[ITEMNMBR]],0)","v":"TMLT36"},"Custom - Latitude 36 Sample - Healthy & Chocolates (Tim)","RETAIL",0,69.989999999999995]
["TMMC01",{"$f":"TEXT(Table_Query_from_Great_Plains[[#This Row],[ITEMNMBR]],0)","v":"TMMC01"},"Custom Xmas Classic no Chocolate","RETAIL",0,68.989999999999995]
["TMMC02",{"$f":"TEXT(Table_Query_from_Great_Plains[[#This Row],[ITEMNMBR]],0)","v":"TMMC02"},"Custom Xmas Deluxe no Chocolate","RETAIL",0,112.99]
["TMMC03",{"$f":"TEXT(Table_Query_from_Great_Plains[[#This Row],[ITEMNMBR]],0)","v":"TMMC03"},"Custom Xmas Deluxe no Chocolate","RETAIL",0,112.99]
["TMME01",{"$f":"TEXT(Table_Query_from_Great_Plains[[#This Row],[ITEMNMBR]],0)","v":"TMME01"},"Custom Christmas Classic with added CSI  (Tim)","RETAIL",0,64.989999999999995]
["TMME02",{"$f":"TEXT(Table_Query_from_Great_Plains[[#This Row],[ITEMNMBR]],0)","v":"TMME02"},"Custom: zinfendel, beer ,snacks and bbq  (Tim)","RETAIL",1,200]
["TMMG01",{"$f":"TEXT(Table_Query_from_Great_Plains[[#This Row],[ITEMNMBR]],0)","v":"TMMG01"},"Custom 4056 - minus 1 item, add 1 box cherries","RETAIL",0,249.99]
["TMMG02",{"$f":"TEXT(Table_Query_from_Great_Plains[[#This Row],[ITEMNMBR]],0)","v":"TMMG02"},"Custom: Fruit, Gourmet & Wine","RETAIL",1,425]
["TMMG03",{"$f":"TEXT(Table_Query_from_Great_Plains[[#This Row],[ITEMNMBR]],0)","v":"TMMG03"},"Custom: Fruit, Gourmet & Wine 2","RETAIL",1,500]
["TMMI01",{"$f":"TEXT(Table_Query_from_Great_Plains[[#This Row],[ITEMNMBR]],0)","v":"TMMI01"},"Custom: Microstrategy - red wine dark chocolate duo  (Tim)","RETAIL",1,225.99]
["TMMN01",{"$f":"TEXT(Table_Query_from_Great_Plains[[#This Row],[ITEMNMBR]],0)","v":"TMMN01"},"Custom:Chocolate Dreams Valentine's Day Gift (Tim)","RETAIL",0,94.99]
["TMMPR1",{"$f":"TEXT(Table_Query_from_Great_Plains[[#This Row],[ITEMNMBR]],0)","v":"TMMPR1"},"Custom : MPR Snack Gift Basket (Tim)","RETAIL",0,70]
["TMMR01",{"$f":"TEXT(Table_Query_from_Great_Plains[[#This Row],[ITEMNMBR]],0)","v":"TMMR01"},"Custom : Popcorn & Snacks (Tim)","RETAIL",0,160]
["TMMS01",{"$f":"TEXT(Table_Query_from_Great_Plains[[#This Row],[ITEMNMBR]],0)","v":"TMMS01"},"Custom Cabernet Sauvignon - Silver Oak plus... (Tim)","RETAIL",1,199.99]
["TMMS02",{"$f":"TEXT(Table_Query_from_Great_Plains[[#This Row],[ITEMNMBR]],0)","v":"TMMS02"},"Custom Catena- 2 Malbecs no white biscuits (Tim)","RETAIL",1,149.99]
["TMMT01",{"$f":"TEXT(Table_Query_from_Great_Plains[[#This Row],[ITEMNMBR]],0)","v":"TMMT01"},"Custom: Flag Hill Winery red, white, snacks and sweets (Tim)","RETAIL",1,225]
["TMMX01",{"$f":"TEXT(Table_Query_from_Great_Plains[[#This Row],[ITEMNMBR]],0)","v":"TMMX01"},"Custom: Cheeseboard Stack (Tim)","RETAIL",0,68.989999999999995]
["TMMX02",{"$f":"TEXT(Table_Query_from_Great_Plains[[#This Row],[ITEMNMBR]],0)","v":"TMMX02"},"Custom: Gourmet snacks and treats with cheese board and knife  (Tim)","RETAIL",1,99.99]
["TMNGP1",{"$f":"TEXT(Table_Query_from_Great_Plains[[#This Row],[ITEMNMBR]],0)","v":"TMNGP1"},"Custom Wild Horse DUO","RETAIL",0,114.99]
["TMNGP2",{"$f":"TEXT(Table_Query_from_Great_Plains[[#This Row],[ITEMNMBR]],0)","v":"TMNGP2"},"Custom Corporate Showstopper","RETAIL",0,149.99]
["TMNGP3",{"$f":"TEXT(Table_Query_from_Great_Plains[[#This Row],[ITEMNMBR]],0)","v":"TMNGP3"},"Custom Christmas Deluxe","RETAIL",0,114.99]
["TMNGP4",{"$f":"TEXT(Table_Query_from_Great_Plains[[#This Row],[ITEMNMBR]],0)","v":"TMNGP4"},"Custom Corporate Show Stopper","RETAIL",0,149.99]
["TMNP01",{"$f":"TEXT(Table_Query_from_Great_Plains[[#This Row],[ITEMNMBR]],0)","v":"TMNP01"},"Custom: Nexsen Pruet branded suitcase with glassware with bottle of Veuve (TIM)","RETAIL",1,57.99]
["TMNS01",{"$f":"TEXT(Table_Query_from_Great_Plains[[#This Row],[ITEMNMBR]],0)","v":"TMNS01"},"Custom : Barbeque Gift Basket (Tim)","RETAIL",0,50]
["TMNS02",{"$f":"TEXT(Table_Query_from_Great_Plains[[#This Row],[ITEMNMBR]],0)","v":"TMNS02"},"Custom : Soup & Crock Gift Basket (Tim)","RETAIL",0,50]
["TMNS03",{"$f":"TEXT(Table_Query_from_Great_Plains[[#This Row],[ITEMNMBR]],0)","v":"TMNS03"},"Custom : Paris Gift Basket (Tim)","RETAIL",0,50]
["TMNS04",{"$f":"TEXT(Table_Query_from_Great_Plains[[#This Row],[ITEMNMBR]],0)","v":"TMNS04"},"Custom : Snack Gift Basket (Tim)","RETAIL",0,50]
["TMNS05",{"$f":"TEXT(Table_Query_from_Great_Plains[[#This Row],[ITEMNMBR]],0)","v":"TMNS05"},"Custom : Honey Bee Hive  Gift Crate (Tim)","RETAIL",0,50]
["TMNS06",{"$f":"TEXT(Table_Query_from_Great_Plains[[#This Row],[ITEMNMBR]],0)","v":"TMNS06"},"Custom :Sweepstakes Tropical  Tower (Tim)","RETAIL",0,50]
["TMNS07",{"$f":"TEXT(Table_Query_from_Great_Plains[[#This Row],[ITEMNMBR]],0)","v":"TMNS07"},"Custom : Sweepstakes Wine Basket (Tim)","RETAIL",1,50]
["TMNS08",{"$f":"TEXT(Table_Query_from_Great_Plains[[#This Row],[ITEMNMBR]],0)","v":"TMNS08"},"Custom : Sweepstakes Boston Proud - 3 beers (Tim)","RETAIL",1,50]
["TMNS09",{"$f":"TEXT(Table_Query_from_Great_Plains[[#This Row],[ITEMNMBR]],0)","v":"TMNS09"},"Custom : National Sweepstakes - beer bucket (Tim)","RETAIL",1,49.99]
["TMNS10",{"$f":"TEXT(Table_Query_from_Great_Plains[[#This Row],[ITEMNMBR]],0)","v":"TMNS10"},"Custom : National Sweepstakes - bbq basket (Tim)","RETAIL",0,49.99]
["TMPF01",{"$f":"TEXT(Table_Query_from_Great_Plains[[#This Row],[ITEMNMBR]],0)","v":"TMPF01"},"Custom Weekend in Paris","RETAIL",0,480.3]
["TMPF02",{"$f":"TEXT(Table_Query_from_Great_Plains[[#This Row],[ITEMNMBR]],0)","v":"TMPF02"},"Custom Tea & Sugar Free","RETAIL",0,71.2]
["TMPIL1",{"$f":"TEXT(Table_Query_from_Great_Plains[[#This Row],[ITEMNMBR]],0)","v":"TMPIL1"},"Custom: Joe  Barton -  Organic snacks plus personalized pillow -  (Tim)","RETAIL",0,46.99]
["TMPIL2",{"$f":"TEXT(Table_Query_from_Great_Plains[[#This Row],[ITEMNMBR]],0)","v":"TMPIL2"},"Custom:  John  Rowley - Organic snacks plus personalized pillow -  (Tim)","RETAIL",0,46.99]
["TMPIL3",{"$f":"TEXT(Table_Query_from_Great_Plains[[#This Row],[ITEMNMBR]],0)","v":"TMPIL3"},"Custom: Chad  Tackett  - Organic snacks plus personalized pillow -  (Tim)","RETAIL",0,46.99]
["TMPIL4",{"$f":"TEXT(Table_Query_from_Great_Plains[[#This Row],[ITEMNMBR]],0)","v":"TMPIL4"},"Custom: Jesse Cannone - Organic snacks plus personalized pillow -  (Tim)","RETAIL",0,46.99]
["TMPIL5",{"$f":"TEXT(Table_Query_from_Great_Plains[[#This Row],[ITEMNMBR]],0)","v":"TMPIL5"},"Custom: Gary  Bencivenga - Organic snacks plus personalized pillow -  (Tim)","RETAIL",0,46.99]
["TMPIL6",{"$f":"TEXT(Table_Query_from_Great_Plains[[#This Row],[ITEMNMBR]],0)","v":"TMPIL6"},"Custom: Shaun  Hadsall - Organic snacks plus personalized pillow -  (Tim)","RETAIL",0,46.99]
["TMPIL7",{"$f":"TEXT(Table_Query_from_Great_Plains[[#This Row],[ITEMNMBR]],0)","v":"TMPIL7"},"Custom: Joel Marion & Josh Benzoni - Organic snacks plus personalized pillow -  (Tim)","RETAIL",0,56.99]
["TMPIL8",{"$f":"TEXT(Table_Query_from_Great_Plains[[#This Row],[ITEMNMBR]],0)","v":"TMPIL8"},"Custom: Jayson Hunter, Ryan Lee & Jim Labadie - Organic snacks plus personalized pillow -  (Tim)","RETAIL",0,61.99]
["TMPL01",{"$f":"TEXT(Table_Query_from_Great_Plains[[#This Row],[ITEMNMBR]],0)","v":"TMPL01"},"Custom 5220","RETAIL",0,99.99]
["TMPL02",{"$f":"TEXT(Table_Query_from_Great_Plains[[#This Row],[ITEMNMBR]],0)","v":"TMPL02"},"Custom 6520","RETAIL",0,59.99]
["TMPOLS1",{"$f":"TEXT(Table_Query_from_Great_Plains[[#This Row],[ITEMNMBR]],0)","v":"TMPOLS1"},"Custom: Polsinelli - popcorn candy fun (Tim)","RETAIL",0,100]
["TMPOLS2",{"$f":"TEXT(Table_Query_from_Great_Plains[[#This Row],[ITEMNMBR]],0)","v":"TMPOLS2"},"Custom: Polsinelli - sweet and salty (Tim)","RETAIL",0,100]
["TMPOLS3",{"$f":"TEXT(Table_Query_from_Great_Plains[[#This Row],[ITEMNMBR]],0)","v":"TMPOLS3"},"Popcorn Party Gift Basket (Posinelli)","RETAIL",0,50.14]
["TMPOLS4",{"$f":"TEXT(Table_Query_from_Great_Plains[[#This Row],[ITEMNMBR]],0)","v":"TMPOLS4"},"Meat & Cheese Gift Basket - Polsinelli","RETAIL",0,67.989999999999995]
["TMPOLS5",{"$f":"TEXT(Table_Query_from_Great_Plains[[#This Row],[ITEMNMBR]],0)","v":"TMPOLS5"},"Custom: - Polsinelli -  Meat,Cheese & Crackers - (Tim)","RETAIL",0,68.989999999999995]
["TMPP01",{"$f":"TEXT(Table_Query_from_Great_Plains[[#This Row],[ITEMNMBR]],0)","v":"TMPP01"},"Custom:Snacks and Chocolates (Tim & Mike)","RETAIL",0,130]
["TMPT01",{"$f":"TEXT(Table_Query_from_Great_Plains[[#This Row],[ITEMNMBR]],0)","v":"TMPT01"},"Custom: Peachtree - 4052 plus csi - (Tim)","RETAIL",0,79.989999999999995]
["TMQP01",{"$f":"TEXT(Table_Query_from_Great_Plains[[#This Row],[ITEMNMBR]],0)","v":"TMQP01"},"Custom: Cakebread Basket  (TIM)","RETAIL",1,399.99]
["TMR101",{"$f":"TEXT(Table_Query_from_Great_Plains[[#This Row],[ITEMNMBR]],0)","v":"TMR101"},"Custom: Chocolate Basket (Tim)","RETAIL",0,69.989999999999995]
["TMRG01",{"$f":"TEXT(Table_Query_from_Great_Plains[[#This Row],[ITEMNMBR]],0)","v":"TMRG01"},"Custom: Cookie Delight (Tim)","RETAIL",0,45]
["TMRG02",{"$f":"TEXT(Table_Query_from_Great_Plains[[#This Row],[ITEMNMBR]],0)","v":"TMRG02"},"Custom: Regenesis Snack Classic (Tim)","RETAIL",0,60]
["TMRG03",{"$f":"TEXT(Table_Query_from_Great_Plains[[#This Row],[ITEMNMBR]],0)","v":"TMRG03"},"Custom: Regenesis Cookie Delight (Tim)","RETAIL",0,45]
["TMRG04",{"$f":"TEXT(Table_Query_from_Great_Plains[[#This Row],[ITEMNMBR]],0)","v":"TMRG04"},"Custom: Regenesis Snack Deluxe (Tim)","RETAIL",0,99.99]
["TMRV01",{"$f":"TEXT(Table_Query_from_Great_Plains[[#This Row],[ITEMNMBR]],0)","v":"TMRV01"},"Custom Riverview Healthcare Ravenswood Wine Duo","RETAIL",1,100]
["TMRW01",{"$f":"TEXT(Table_Query_from_Great_Plains[[#This Row],[ITEMNMBR]],0)","v":"TMRW01"},"Custom : microbrew 6pk - DC (Tim)","RETAIL",1,69.989999999999995]
["TMRW02",{"$f":"TEXT(Table_Query_from_Great_Plains[[#This Row],[ITEMNMBR]],0)","v":"TMRW02"},"Custom : ravens red DC (Tim)","RETAIL",1,69.989999999999995]
["TMRW03",{"$f":"TEXT(Table_Query_from_Great_Plains[[#This Row],[ITEMNMBR]],0)","v":"TMRW03"},"Custom : evening of Indulgence DC (Tim)","RETAIL",1,99.99]
["TMRW04",{"$f":"TEXT(Table_Query_from_Great_Plains[[#This Row],[ITEMNMBR]],0)","v":"TMRW04"},"Custom : microbrew 6pk - Virginia (Tim)","RETAIL",1,69.989999999999995]
["TMRW05",{"$f":"TEXT(Table_Query_from_Great_Plains[[#This Row],[ITEMNMBR]],0)","v":"TMRW05"},"Custom : ravens red Virginia (Tim)","RETAIL",1,69.989999999999995]
["TMRW06",{"$f":"TEXT(Table_Query_from_Great_Plains[[#This Row],[ITEMNMBR]],0)","v":"TMRW06"},"Custom : evening of Indulgence Virginia (Tim)","RETAIL",1,99.99]
["TMRW07",{"$f":"TEXT(Table_Query_from_Great_Plains[[#This Row],[ITEMNMBR]],0)","v":"TMRW07"},"Custom : ravens white DC (Tim)","RETAIL",1,69.989999999999995]
["TMRW08",{"$f":"TEXT(Table_Query_from_Great_Plains[[#This Row],[ITEMNMBR]],0)","v":"TMRW08"},"Custom : ravens white  Virginia (Tim)","RETAIL",1,69.989999999999995]
["TMSEO1",{"$f":"TEXT(Table_Query_from_Great_Plains[[#This Row],[ITEMNMBR]],0)","v":"TMSEO1"},"Custom -  PlumberSEO - snack classic -  (Tim)","RETAIL",0,59.99]
["TMSEO2",{"$f":"TEXT(Table_Query_from_Great_Plains[[#This Row],[ITEMNMBR]],0)","v":"TMSEO2"},"Custom -  PlumberSEO - snack stack -  (Tim)","RETAIL",0,34.99]
["TMSK01",{"$f":"TEXT(Table_Query_from_Great_Plains[[#This Row],[ITEMNMBR]],0)","v":"TMSK01"},"Skenzo Chocolate Deluxe","RETAIL",0,142.99]
["TMSK02",{"$f":"TEXT(Table_Query_from_Great_Plains[[#This Row],[ITEMNMBR]],0)","v":"TMSK02"},"Custom: The Sacramento Kings - baked goods sampler - company colors (Tim)","RETAIL",0,29.99]
["TMSU01",{"$f":"TEXT(Table_Query_from_Great_Plains[[#This Row],[ITEMNMBR]],0)","v":"TMSU01"},"$25 Care Pkg","RETAIL",0,25]
["TMSUB1",{"$f":"TEXT(Table_Query_from_Great_Plains[[#This Row],[ITEMNMBR]],0)","v":"TMSUB1"},"Custom SubItUp Referral Gift  ( Tim )","RETAIL",0,48.99]
["TMTF01",{"$f":"TEXT(Table_Query_from_Great_Plains[[#This Row],[ITEMNMBR]],0)","v":"TMTF01"},"Custom:Thrivent Financial - Christmas Tower (Tim)","RETAIL",0,39.99]
["TMTG01",{"$f":"TEXT(Table_Query_from_Great_Plains[[#This Row],[ITEMNMBR]],0)","v":"TMTG01"},"Custom: Ticket Galaxy - Winter Wonderland Gift Basket, plus CSI  (Tim)","RETAIL",0,65]
["TMTL01",{"$f":"TEXT(Table_Query_from_Great_Plains[[#This Row],[ITEMNMBR]],0)","v":"TMTL01"},"Custom:Trinity Logistics-  red & white wines plus gourmet snacks XXL(Tim)","RETAIL",1,1000]
["TMTL02",{"$f":"TEXT(Table_Query_from_Great_Plains[[#This Row],[ITEMNMBR]],0)","v":"TMTL02"},"Custom:Trinity Logestics -  red & white wines plus gourmet snacks XL(Tim)","RETAIL",1,500]
["TMTM01",{"$f":"TEXT(Table_Query_from_Great_Plains[[#This Row],[ITEMNMBR]],0)","v":"TMTM01"},"Custom: Thurston Manufacturing - snacks, sweets and baked goods -A- (Tim)","RETAIL",0,250]
["TMTM02",{"$f":"TEXT(Table_Query_from_Great_Plains[[#This Row],[ITEMNMBR]],0)","v":"TMTM02"},"Custom:Thurston Manufacturing - snacks, sweets and baked goods -B- (Tim)","RETAIL",0,400]
["TMTM03",{"$f":"TEXT(Table_Query_from_Great_Plains[[#This Row],[ITEMNMBR]],0)","v":"TMTM03"},"Custom:T- Mobile -  Healthy, Fruit, Soup, Beer & Snacks (Tim)","RETAIL",1,139.99]
["TMTS01",{"$f":"TEXT(Table_Query_from_Great_Plains[[#This Row],[ITEMNMBR]],0)","v":"TMTS01"},"Custom:Titan Salvage - 5090 plus csi mugs (Tim)","RETAIL",1,111.99]
["TMTS02",{"$f":"TEXT(Table_Query_from_Great_Plains[[#This Row],[ITEMNMBR]],0)","v":"TMTS02"},"Custom:Titan Salvage - 5090 plus csi mugs & socks (Tim)","RETAIL",1,99.99]
["TMTW01",{"$f":"TEXT(Table_Query_from_Great_Plains[[#This Row],[ITEMNMBR]],0)","v":"TMTW01"},"Custom: Total Wine Custom Snack Gift Basket (Tim)","RETAIL",0,95]
["TMUS01",{"$f":"TEXT(Table_Query_from_Great_Plains[[#This Row],[ITEMNMBR]],0)","v":"TMUS01"},"Custom: U.S. Travel - Snack Deluxe -  plus T-Shirt and handwritten card (Tim)","RETAIL",0,89.99]
["TMUS02",{"$f":"TEXT(Table_Query_from_Great_Plains[[#This Row],[ITEMNMBR]],0)","v":"TMUS02"},"Custom: U.S. Travel - Snack Ultimate -  plus 2 T-Shirts and handwritten card (Tim)","RETAIL",0,149.99]
["TMUS03",{"$f":"TEXT(Table_Query_from_Great_Plains[[#This Row],[ITEMNMBR]],0)","v":"TMUS03"},"Custom: U.S. Travel - Snack Deluxe plus 8 books (Tim)","RETAIL",0,99.99]
["TMUS04",{"$f":"TEXT(Table_Query_from_Great_Plains[[#This Row],[ITEMNMBR]],0)","v":"TMUS04"},"Custom: U.S. Travel - Healthy Deluxe plus 10 books (Tim)","RETAIL",0,149.99]
["TMUT01",{"$f":"TEXT(Table_Query_from_Great_Plains[[#This Row],[ITEMNMBR]],0)","v":"TMUT01"},"Custom University of Texas Career Service Center - mostly blue themed - (Tim)","RETAIL",0,60]
["TMVC01",{"$f":"TEXT(Table_Query_from_Great_Plains[[#This Row],[ITEMNMBR]],0)","v":"TMVC01"},"Custom $250 Basket","RETAIL",0,250]
["TMVM01",{"$f":"TEXT(Table_Query_from_Great_Plains[[#This Row],[ITEMNMBR]],0)","v":"TMVM01"},"Custom christmas with two wines (Tim)","RETAIL",1,195.99]
["TMVM02",{"$f":"TEXT(Table_Query_from_Great_Plains[[#This Row],[ITEMNMBR]],0)","v":"TMVM02"},"Custom: Coffee (Tim)","RETAIL",0,273.60000000000002]
["TMVP01",{"$f":"TEXT(Table_Query_from_Great_Plains[[#This Row],[ITEMNMBR]],0)","v":"TMVP01"},"Custom Christmas Classic (remove Feridies, add Marich) - (Tim)","RETAIL",0,66.989999999999995]
["TMVP02",{"$f":"TEXT(Table_Query_from_Great_Plains[[#This Row],[ITEMNMBR]],0)","v":"TMVP02"},"Custom Christmas Premium (remove Feridies, add Marich) - (Tim)","RETAIL",0,87.99]
["TMVP03",{"$f":"TEXT(Table_Query_from_Great_Plains[[#This Row],[ITEMNMBR]],0)","v":"TMVP03"},"Custom Christmas Deluxe (remove Feridies, add Marich) - (Tim)","RETAIL",0,108.99]
["TMVW01",{"$f":"TEXT(Table_Query_from_Great_Plains[[#This Row],[ITEMNMBR]],0)","v":"TMVW01"},"custom candy tin - Verizon Wireless -x1","RETAIL",0,24.99]
["TMVW02",{"$f":"TEXT(Table_Query_from_Great_Plains[[#This Row],[ITEMNMBR]],0)","v":"TMVW02"},"custom candy tin - Verizon Wireless -x2","RETAIL",0,49.98]
["TMVW03",{"$f":"TEXT(Table_Query_from_Great_Plains[[#This Row],[ITEMNMBR]],0)","v":"TMVW03"},"custom candy tin - Verizon Wireless -x3","RETAIL",0,74.97]
["TMVW04",{"$f":"TEXT(Table_Query_from_Great_Plains[[#This Row],[ITEMNMBR]],0)","v":"TMVW04"},"Custom - Verizon Wireless - Sports Fan CP - (Tim)","RETAIL",0,34.99]
["TMVW05",{"$f":"TEXT(Table_Query_from_Great_Plains[[#This Row],[ITEMNMBR]],0)","v":"TMVW05"},"Custom - Verizon Wireless - Health Nut - no liquids - CP - (Tim)","RETAIL",0,34.99]
["TMWB01",{"$f":"TEXT(Table_Query_from_Great_Plains[[#This Row],[ITEMNMBR]],0)","v":"TMWB01"},"WB Wine & Doggy Pastry","RETAIL",0,49.99]
["TMWB02",{"$f":"TEXT(Table_Query_from_Great_Plains[[#This Row],[ITEMNMBR]],0)","v":"TMWB02"},"WB Moet & Doggy Pastry","RETAIL",0,25]
["TMWG01",{"$f":"TEXT(Table_Query_from_Great_Plains[[#This Row],[ITEMNMBR]],0)","v":"TMWG01"},"Custom Sweets Stack","RETAIL",0,47.99]
["TMWH01",{"$f":"TEXT(Table_Query_from_Great_Plains[[#This Row],[ITEMNMBR]],0)","v":"TMWH01"},"Custom: Welcome Home Gift Basket (Tim)","RETAIL",0,100]
["TMWLN1",{"$f":"TEXT(Table_Query_from_Great_Plains[[#This Row],[ITEMNMBR]],0)","v":"TMWLN1"},"Custom: Healthy Gift Basket (Tim)","RETAIL",0,59.99]
["TMWLN2",{"$f":"TEXT(Table_Query_from_Great_Plains[[#This Row],[ITEMNMBR]],0)","v":"TMWLN2"},"Custom: Healthy Gift Basket (Tim)","RETAIL",0,69.989999999999995]
["TMWN01",{"$f":"TEXT(Table_Query_from_Great_Plains[[#This Row],[ITEMNMBR]],0)","v":"TMWN01"},"Custom healthy tex mex *mild* (tim)","RETAIL",0,69.989999999999995]
["TMWN02",{"$f":"TEXT(Table_Query_from_Great_Plains[[#This Row],[ITEMNMBR]],0)","v":"TMWN02"},"Custom healthy tex mex *a lil spicier* (tim)","RETAIL",0,67.989999999999995]
["TMYC01",{"$f":"TEXT(Table_Query_from_Great_Plains[[#This Row],[ITEMNMBR]],0)","v":"TMYC01"},"Custom :Sweets and Snacks (Tim)","RETAIL",0,150]
["TMZR01",{"$f":"TEXT(Table_Query_from_Great_Plains[[#This Row],[ITEMNMBR]],0)","v":"TMZR01"},"Custom : Citibank Father's Day Gift Basket  (Tim)","RETAIL",0,30]
["TMZY01",{"$f":"TEXT(Table_Query_from_Great_Plains[[#This Row],[ITEMNMBR]],0)","v":"TMZY01"},"Custom: Zenya Wave 1 -  C. Fendrich - (Tim)","RETAIL",0,10]
["TMZY02",{"$f":"TEXT(Table_Query_from_Great_Plains[[#This Row],[ITEMNMBR]],0)","v":"TMZY02"},"Custom:Zenya Wave 1  K. King - (Tim)","RETAIL",0,10]
["TMZY03",{"$f":"TEXT(Table_Query_from_Great_Plains[[#This Row],[ITEMNMBR]],0)","v":"TMZY03"},"Custom: Zenya Wave 3 (Tim)","RETAIL",0,3]
["TOO019",{"$f":"TEXT(Table_Query_from_Great_Plains[[#This Row],[ITEMNMBR]],0)","v":"TOO019"},"Too Good Gourmet Easter Band","RETAIL",0,100]
["TOW001",{"$f":"TEXT(Table_Query_from_Great_Plains[[#This Row],[ITEMNMBR]],0)","v":"TOW001"},"Candy Cane Tower -","RETAIL",0,100]
["TOW002",{"$f":"TEXT(Table_Query_from_Great_Plains[[#This Row],[ITEMNMBR]],0)","v":"TOW002"},"Vintage Tower -","RETAIL",0,100]
["TOW003",{"$f":"TEXT(Table_Query_from_Great_Plains[[#This Row],[ITEMNMBR]],0)","v":"TOW003"},"Celebration Tower with Stars and Circles -","RETAIL",0,100]
["TOW004",{"$f":"TEXT(Table_Query_from_Great_Plains[[#This Row],[ITEMNMBR]],0)","v":"TOW004"},"Birthday Candle Tower -","RETAIL",0,100]
["TOW005",{"$f":"TEXT(Table_Query_from_Great_Plains[[#This Row],[ITEMNMBR]],0)","v":"TOW005"},"Blue and Gold Tower -","RETAIL",0,100]
["TOW006",{"$f":"TEXT(Table_Query_from_Great_Plains[[#This Row],[ITEMNMBR]],0)","v":"TOW006"},"Generic Tower -","RETAIL",0,100]
["TOW007",{"$f":"TEXT(Table_Query_from_Great_Plains[[#This Row],[ITEMNMBR]],0)","v":"TOW007"},"Valentines Day Tower -","RETAIL",0,100]
["TOW008",{"$f":"TEXT(Table_Query_from_Great_Plains[[#This Row],[ITEMNMBR]],0)","v":"TOW008"},"Christmas #1 Ornament Tower -","RETAIL",0,100]
["TOW009",{"$f":"TEXT(Table_Query_from_Great_Plains[[#This Row],[ITEMNMBR]],0)","v":"TOW009"},"Christmas #2 Gingerbread Tower -","RETAIL",0,100]
["TOW010",{"$f":"TEXT(Table_Query_from_Great_Plains[[#This Row],[ITEMNMBR]],0)","v":"TOW010"},"Easter Tower -","RETAIL",0,100]
["TOW011",{"$f":"TEXT(Table_Query_from_Great_Plains[[#This Row],[ITEMNMBR]],0)","v":"TOW011"},"Spring Floral Tower -","RETAIL",0,100]
["TOW012",{"$f":"TEXT(Table_Query_from_Great_Plains[[#This Row],[ITEMNMBR]],0)","v":"TOW012"},"Everyday Damask Tower -","RETAIL",0,100]
["TOW013",{"$f":"TEXT(Table_Query_from_Great_Plains[[#This Row],[ITEMNMBR]],0)","v":"TOW013"},"Halloween #1 Haunted House Tower -","RETAIL",0,100]
["TOW014",{"$f":"TEXT(Table_Query_from_Great_Plains[[#This Row],[ITEMNMBR]],0)","v":"TOW014"},"Halloween #2 Spooky Eyes & Ghosts Tower -","RETAIL",0,100]
["TOW015",{"$f":"TEXT(Table_Query_from_Great_Plains[[#This Row],[ITEMNMBR]],0)","v":"TOW015"},"Everyday Lavender Dark Purple Tower -","RETAIL",0,100]
["TOW016",{"$f":"TEXT(Table_Query_from_Great_Plains[[#This Row],[ITEMNMBR]],0)","v":"TOW016"},"Everday Green/Blue Tower -","RETAIL",0,100]
["TRO001",{"$f":"TEXT(Table_Query_from_Great_Plains[[#This Row],[ITEMNMBR]],0)","v":"TRO001"},"Dark Chocolate Banana Coins 4oz.","RETAIL",0,100]
["TRP003",{"$f":"TEXT(Table_Query_from_Great_Plains[[#This Row],[ITEMNMBR]],0)","v":"TRP003"},"Yogurt Covered Mini Pretzels by Auntie Trudies - 6 oz.","RETAIL",0,1.99]
["TRT001",{"$f":"TEXT(Table_Query_from_Great_Plains[[#This Row],[ITEMNMBR]],0)","v":"TRT001"},"Tortuga  Carribean Rum Cake - Original 4 oz.","RETAIL",0,100]
["TRU001",{"$f":"TEXT(Table_Query_from_Great_Plains[[#This Row],[ITEMNMBR]],0)","v":"TRU001"},"7 piece Fondue Set by Trudeau Sundail -","RETAIL",0,100]
["TS1001",{"$f":"TEXT(Table_Query_from_Great_Plains[[#This Row],[ITEMNMBR]],0)","v":"TS1001"},"Milk Can Tin - 40 oz Peanuts","RETAIL",0,6.74]
["TS1002",{"$f":"TEXT(Table_Query_from_Great_Plains[[#This Row],[ITEMNMBR]],0)","v":"TS1002"},"Herr's Camo Paint Can - 16 oz Herr's","RETAIL",0,36]
["TS1003",{"$f":"TEXT(Table_Query_from_Great_Plains[[#This Row],[ITEMNMBR]],0)","v":"TS1003"},"Camo Paint Can - 24 oz Herr's","RETAIL",0,12.99]
["TUL001",{"$f":"TEXT(Table_Query_from_Great_Plains[[#This Row],[ITEMNMBR]],0)","v":"TUL001"},"Kingslake & Crane Orchard Granola 4 oz","RETAIL",0,100]
["TUL002",{"$f":"TEXT(Table_Query_from_Great_Plains[[#This Row],[ITEMNMBR]],0)","v":"TUL002"},"Made in Napa Valley Garden Herb Dipping Oil 9.1 oz","RETAIL",0,100]
["TWA001",{"$f":"TEXT(Table_Query_from_Great_Plains[[#This Row],[ITEMNMBR]],0)","v":"TWA001"},"Sweet & Salty Lime Margarita Salt by Margaritaville - 4 oz. -","RETAIL",0,100]
["ULI003",{"$f":"TEXT(Table_Query_from_Great_Plains[[#This Row],[ITEMNMBR]],0)","v":"ULI003"},"Temp. Cheesecake Box","RETAIL",0,100]
["UNI001",{"$f":"TEXT(Table_Query_from_Great_Plains[[#This Row],[ITEMNMBR]],0)","v":"UNI001"},"Harry Hare - 12\" - Brown Bunny by Unipak Designs -","RETAIL",0,100]
["UNI002",{"$f":"TEXT(Table_Query_from_Great_Plains[[#This Row],[ITEMNMBR]],0)","v":"UNI002"},"Fiona - 8\" - Grey Bunny by Unipak Designs -","RETAIL",0,100]
["UNI003",{"$f":"TEXT(Table_Query_from_Great_Plains[[#This Row],[ITEMNMBR]],0)","v":"UNI003"},"Harry Hare  - 12\" - Brown Bunny by Unipak Designs -","RETAIL",0,100]
["UNI004",{"$f":"TEXT(Table_Query_from_Great_Plains[[#This Row],[ITEMNMBR]],0)","v":"UNI004"},"Shags Hare  - 16\" - Brown Bunny by Unipak Designs -","RETAIL",0,100]
["UNI005",{"$f":"TEXT(Table_Query_from_Great_Plains[[#This Row],[ITEMNMBR]],0)","v":"UNI005"},"Shags Hare  - 16\"  - Brown Bunny -  by Unipak Designs -","RETAIL",0,100]
["UPP001",{"$f":"TEXT(Table_Query_from_Great_Plains[[#This Row],[ITEMNMBR]],0)","v":"UPP001"},"Upper Canada All About Feet Cooling Leg Rub 6.8 oz","RETAIL",0,100]
["UPP002",{"$f":"TEXT(Table_Query_from_Great_Plains[[#This Row],[ITEMNMBR]],0)","v":"UPP002"},"Upper Canada All About Feet Exfoliating Foot Scrub 4.2 oz","RETAIL",0,100]
["UPP003",{"$f":"TEXT(Table_Query_from_Great_Plains[[#This Row],[ITEMNMBR]],0)","v":"UPP003"},"Upper Canada All About Feet Relaxing Foot Soak 1.8 oz","RETAIL",0,100]
["UPP004",{"$f":"TEXT(Table_Query_from_Great_Plains[[#This Row],[ITEMNMBR]],0)","v":"UPP004"},"Upper Canada All About Feet Revitalizing Foot Spray 4.2 oz","RETAIL",0,100]
["UPP005",{"$f":"TEXT(Table_Query_from_Great_Plains[[#This Row],[ITEMNMBR]],0)","v":"UPP005"},"Upper Canada All About Feet Soothing Foot Cream 4 oz","RETAIL",0,100]
["UPP006",{"$f":"TEXT(Table_Query_from_Great_Plains[[#This Row],[ITEMNMBR]],0)","v":"UPP006"},"Upper Canada All About Hands 2-Way Buffer","RETAIL",0,100]
["UPP007",{"$f":"TEXT(Table_Query_from_Great_Plains[[#This Row],[ITEMNMBR]],0)","v":"UPP007"},"Upper Canada All About Hands Daily Moisture Hand Lotion 4 oz","RETAIL",0,100]
["UPP008",{"$f":"TEXT(Table_Query_from_Great_Plains[[#This Row],[ITEMNMBR]],0)","v":"UPP008"},"Upper Canada All About Hands Daily Moisture Hand Wash 4 oz","RETAIL",0,100]
["UPP010",{"$f":"TEXT(Table_Query_from_Great_Plains[[#This Row],[ITEMNMBR]],0)","v":"UPP010"},"Upper Canada All About Hands Restorative Hand & Nail Milk Soak 1.8 oz","RETAIL",0,100]
["UPP011",{"$f":"TEXT(Table_Query_from_Great_Plains[[#This Row],[ITEMNMBR]],0)","v":"UPP011"},"Upper Canada Freshly Cut Blossom Bath Burst Set Lavender & Citron 12 oz","RETAIL",0,100]
["UPP012",{"$f":"TEXT(Table_Query_from_Great_Plains[[#This Row],[ITEMNMBR]],0)","v":"UPP012"},"Upper Canada Freshly Cut Foaming Bath Powder Sachet Lavender & Citron 1.7 oz","RETAIL",0,100]
["UPP013",{"$f":"TEXT(Table_Query_from_Great_Plains[[#This Row],[ITEMNMBR]],0)","v":"UPP013"},"Upper Canada Freshly Cut Mini Silky Hand & Body Lotion Lavender & Citron 2.5 oz","RETAIL",0,100]
["UPP014",{"$f":"TEXT(Table_Query_from_Great_Plains[[#This Row],[ITEMNMBR]],0)","v":"UPP014"},"Upper Canada Freshly Cut Silky Hand & Body Lotion Lavender & Citron 8 oz","RETAIL",0,100]
["UPP015",{"$f":"TEXT(Table_Query_from_Great_Plains[[#This Row],[ITEMNMBR]],0)","v":"UPP015"},"Upper Canada Foaming Bath Milk in Warm Honey Nectar 1.7 oz","RETAIL",0,100]
["UPP016",{"$f":"TEXT(Table_Query_from_Great_Plains[[#This Row],[ITEMNMBR]],0)","v":"UPP016"},"Upper Canada Naturally Nourishing Hand & Body Lotion Warm Honey Nectar 8 oz","RETAIL",0,100]
["UPP017",{"$f":"TEXT(Table_Query_from_Great_Plains[[#This Row],[ITEMNMBR]],0)","v":"UPP017"},"Upper Canada Naturally Wholesome Hand & Body Wash Warm Honey Nectar 12 oz","RETAIL",0,100]
["UPP018",{"$f":"TEXT(Table_Query_from_Great_Plains[[#This Row],[ITEMNMBR]],0)","v":"UPP018"},"Upper Canada Naturally Wholesome Soap Bar in Warm Honey Nectar 5 oz","RETAIL",0,100]
["UPP019",{"$f":"TEXT(Table_Query_from_Great_Plains[[#This Row],[ITEMNMBR]],0)","v":"UPP019"},"Upper Canada Naturally Hydrating Shower Gel in Pressed Olive Avocado 6.8 oz","RETAIL",0,100]
["UPP020",{"$f":"TEXT(Table_Query_from_Great_Plains[[#This Row],[ITEMNMBR]],0)","v":"UPP020"},"Upper Canada Naturally Wholesome Soap Bar in Pressed Olive Avocado 5 oz","RETAIL",0,100]
["UPP021",{"$f":"TEXT(Table_Query_from_Great_Plains[[#This Row],[ITEMNMBR]],0)","v":"UPP021"},"Upper Canada Sea Spa Aroma Foam Bath in Caribbean 8 oz","RETAIL",0,100]
["UPP022",{"$f":"TEXT(Table_Query_from_Great_Plains[[#This Row],[ITEMNMBR]],0)","v":"UPP022"},"Upper Canada Sea Spa Creamy Body Wash in Caribbean 8 oz","RETAIL",0,100]
["UPP023",{"$f":"TEXT(Table_Query_from_Great_Plains[[#This Row],[ITEMNMBR]],0)","v":"UPP023"},"Upper Canada Sea Spa Detoxifying Mineral Mud in Caribbean 4 oz","RETAIL",0,100]
["UPP024",{"$f":"TEXT(Table_Query_from_Great_Plains[[#This Row],[ITEMNMBR]],0)","v":"UPP024"},"Upper Canada Sea Spa Mini Replenishing Body Lotion in Caribbean 2.5 oz","RETAIL",0,100]
["UPP025",{"$f":"TEXT(Table_Query_from_Great_Plains[[#This Row],[ITEMNMBR]],0)","v":"UPP025"},"Upper Canada Sea Spa Replenishing Body Lotion in Caribbean 8 oz","RETAIL",0,100]
["UPP026",{"$f":"TEXT(Table_Query_from_Great_Plains[[#This Row],[ITEMNMBR]],0)","v":"UPP026"},"Upper Canada Sea Spa Sea Salt Soak in Caribbean 1.8 oz","RETAIL",0,100]
["UPP027",{"$f":"TEXT(Table_Query_from_Great_Plains[[#This Row],[ITEMNMBR]],0)","v":"UPP027"},"Upper Canada Sea Spa Seaweed Body Polish in Caribbean 4 oz","RETAIL",0,100]
["UPP028",{"$f":"TEXT(Table_Query_from_Great_Plains[[#This Row],[ITEMNMBR]],0)","v":"UPP028"},"Upper Canada Bamboo Facial Cleansing Mitt","RETAIL",0,100]
["UPP029",{"$f":"TEXT(Table_Query_from_Great_Plains[[#This Row],[ITEMNMBR]],0)","v":"UPP029"},"Upper Canada Tan Back Scrubbie","RETAIL",0,100]
["UPP030",{"$f":"TEXT(Table_Query_from_Great_Plains[[#This Row],[ITEMNMBR]],0)","v":"UPP030"},"Upper Canada Men's Montana Collection Dual Zip Caddy with Velcro","RETAIL",0,100]
["UPP031",{"$f":"TEXT(Table_Query_from_Great_Plains[[#This Row],[ITEMNMBR]],0)","v":"UPP031"},"Upper Canada Freshly Cut Petal Soft Bubble Bath Lavender & Citron 8 oz","RETAIL",0,100]
["UPP032",{"$f":"TEXT(Table_Query_from_Great_Plains[[#This Row],[ITEMNMBR]],0)","v":"UPP032"},"Upper Canada Seventh Heaven Body Souffle in Chocolate Strawberry 6oz","RETAIL",0,100]
["UPP033",{"$f":"TEXT(Table_Query_from_Great_Plains[[#This Row],[ITEMNMBR]],0)","v":"UPP033"},"Upper Canada Sweet Escape Foaming Bath Powder In Choc Straw 10oz","RETAIL",0,100]
["UPP034",{"$f":"TEXT(Table_Query_from_Great_Plains[[#This Row],[ITEMNMBR]],0)","v":"UPP034"},"Upper Canada Bath Truffle Fizzie in Chocolate Straw 4.4oz","RETAIL",0,100]
["UPP035",{"$f":"TEXT(Table_Query_from_Great_Plains[[#This Row],[ITEMNMBR]],0)","v":"UPP035"},"Upper Canada Sweet Vanilla Fig Soap Bar","RETAIL",0,100]
["UPP036",{"$f":"TEXT(Table_Query_from_Great_Plains[[#This Row],[ITEMNMBR]],0)","v":"UPP036"},"Upper Canada Massaging Body Gel","RETAIL",0,100]
["UPP037",{"$f":"TEXT(Table_Query_from_Great_Plains[[#This Row],[ITEMNMBR]],0)","v":"UPP037"},"Upper Canada Hand Wash in Herbal Mint 8oz","RETAIL",0,100]
["UPP038",{"$f":"TEXT(Table_Query_from_Great_Plains[[#This Row],[ITEMNMBR]],0)","v":"UPP038"},"Upper Canada Intensive Hand Therapy Cream in Herbal MInt 5oz","RETAIL",0,100]
["UPP039",{"$f":"TEXT(Table_Query_from_Great_Plains[[#This Row],[ITEMNMBR]],0)","v":"UPP039"},"Upper Canada Loofah Soap Bar 5oz","RETAIL",0,100]
["UPP040",{"$f":"TEXT(Table_Query_from_Great_Plains[[#This Row],[ITEMNMBR]],0)","v":"UPP040"},"Upper Canada Freshly Cut Silky Hand & Body Lotion Poppy Flower 8 oz","RETAIL",0,100]
["UPP041",{"$f":"TEXT(Table_Query_from_Great_Plains[[#This Row],[ITEMNMBR]],0)","v":"UPP041"},"Upper Canada Freshly Cut Blossom Bath Burst Set Poppy Flower 6oz","RETAIL",0,100]
["UPP042",{"$f":"TEXT(Table_Query_from_Great_Plains[[#This Row],[ITEMNMBR]],0)","v":"UPP042"},"Upper Canada Freshly Cut Foaming Bath Powder Sachet Poppy Flower  1.7 oz","RETAIL",0,100]
["UPP043",{"$f":"TEXT(Table_Query_from_Great_Plains[[#This Row],[ITEMNMBR]],0)","v":"UPP043"},"Upper Canada All About Hands Restorative Hand & Nail Milk Soak 8 oz","RETAIL",0,100]
["UPP044",{"$f":"TEXT(Table_Query_from_Great_Plains[[#This Row],[ITEMNMBR]],0)","v":"UPP044"},"Upper Canada Chocolate Strawberry Bubble Bath 8oz","RETAIL",0,100]
["UPP045",{"$f":"TEXT(Table_Query_from_Great_Plains[[#This Row],[ITEMNMBR]],0)","v":"UPP045"},"Upper Canada Chocolate Strawberry Foaming Bath Powder Sachet 1.8oz","RETAIL",0,100]
["URB020",{"$f":"TEXT(Table_Query_from_Great_Plains[[#This Row],[ITEMNMBR]],0)","v":"URB020"},"Citrus Pepper Cheese Roll by Urban Accents - serves 8-10 -","RETAIL",0,100]
["URB021",{"$f":"TEXT(Table_Query_from_Great_Plains[[#This Row],[ITEMNMBR]],0)","v":"URB021"},"Cayman Citrus Heat Dry Glaze- 2 oz","RETAIL",0,100]
["URB023",{"$f":"TEXT(Table_Query_from_Great_Plains[[#This Row],[ITEMNMBR]],0)","v":"URB023"},"Sizzling Sriracha Popcorn Seasoning","RETAIL",0,4.42]
["USF001",{"$f":"TEXT(Table_Query_from_Great_Plains[[#This Row],[ITEMNMBR]],0)","v":"USF001"},"Cactus Margarita Glass by Libbey - 14 oz. -","RETAIL",0,100]
["UST001",{"$f":"TEXT(Table_Query_from_Great_Plains[[#This Row],[ITEMNMBR]],0)","v":"UST001"},"Rainbow Yo-Yo - 2\" -","RETAIL",0,100]
["UST002",{"$f":"TEXT(Table_Query_from_Great_Plains[[#This Row],[ITEMNMBR]],0)","v":"UST002"},"Mini Basketball Game -","RETAIL",0,100]
["UST003",{"$f":"TEXT(Table_Query_from_Great_Plains[[#This Row],[ITEMNMBR]],0)","v":"UST003"},"Pencil Sharpener -","RETAIL",0,100]
["V1000",{"$f":"TEXT(Table_Query_from_Great_Plains[[#This Row],[ITEMNMBR]],0)","v":"V1000"},"GourmetGiftBaskets.com - Exclusive Deal For Facebook","RETAIL",0,15]
["VIK001",{"$f":"TEXT(Table_Query_from_Great_Plains[[#This Row],[ITEMNMBR]],0)","v":"VIK001"},"GourmetGiftBaskets.com Fruit Stickers","RETAIL",0,100]
["WAB001",{"$f":"TEXT(Table_Query_from_Great_Plains[[#This Row],[ITEMNMBR]],0)","v":"WAB001"},"Wabash Valley Farms Whirley Pop Popcorn Popper Red","RETAIL",0,100]
["WAL001",{"$f":"TEXT(Table_Query_from_Great_Plains[[#This Row],[ITEMNMBR]],0)","v":"WAL001"},"Wald Imports LTD. Double Wine Carrier N/A","RETAIL",0,100]
["WAL002",{"$f":"TEXT(Table_Query_from_Great_Plains[[#This Row],[ITEMNMBR]],0)","v":"WAL002"},"Wald Imports LTD. Single Wine Basket N/A","RETAIL",0,100]
["WAL003",{"$f":"TEXT(Table_Query_from_Great_Plains[[#This Row],[ITEMNMBR]],0)","v":"WAL003"},"Wald Imports LTD. 8 Quart Colander N/A","RETAIL",0,100]
["WAL004",{"$f":"TEXT(Table_Query_from_Great_Plains[[#This Row],[ITEMNMBR]],0)","v":"WAL004"},"Wald Imports LTD. Set of 2 French Baskets N/A","RETAIL",0,100]
["WAL005",{"$f":"TEXT(Table_Query_from_Great_Plains[[#This Row],[ITEMNMBR]],0)","v":"WAL005"},"Wald Imports LTD. Golf Cooler Bag N/A","RETAIL",0,100]
["WGR001",{"$f":"TEXT(Table_Query_from_Great_Plains[[#This Row],[ITEMNMBR]],0)","v":"WGR001"},"Johnson's Baby Shampoo  7 oz.","RETAIL",0,100]
["WGR002",{"$f":"TEXT(Table_Query_from_Great_Plains[[#This Row],[ITEMNMBR]],0)","v":"WGR002"},"Johnson's Baby Powder  4 oz.","RETAIL",0,100]
["WGR003",{"$f":"TEXT(Table_Query_from_Great_Plains[[#This Row],[ITEMNMBR]],0)","v":"WGR003"},"Canus li'l Goat's Milk 16 oz","RETAIL",0,100]
["WIL001",{"$f":"TEXT(Table_Query_from_Great_Plains[[#This Row],[ITEMNMBR]],0)","v":"WIL001"},"Cerveza Platter by Wild Eye Designs -","RETAIL",0,100]
["WIL002",{"$f":"TEXT(Table_Query_from_Great_Plains[[#This Row],[ITEMNMBR]],0)","v":"WIL002"},"Wine Bottle Board - Cobalt","RETAIL",0,100]
["WIN001",{"$f":"TEXT(Table_Query_from_Great_Plains[[#This Row],[ITEMNMBR]],0)","v":"WIN001"},"Corona Platter","RETAIL",0,100]
["WIN002",{"$f":"TEXT(Table_Query_from_Great_Plains[[#This Row],[ITEMNMBR]],0)","v":"WIN002"},"Grape Cheese Knife","RETAIL",0,100]
["WIRE OUT FEE",{"$f":"TEXT(Table_Query_from_Great_Plains[[#This Row],[ITEMNMBR]],0)","v":"WIRE OUT FEE"},"Wire Out Fee","RETAIL",0,9.99]
["WIS001",{"$f":"TEXT(Table_Query_from_Great_Plains[[#This Row],[ITEMNMBR]],0)","v":"WIS001"},"Sitting Bunny with Baby Beige 15\"","RETAIL",0,100]
["WMT001",{"$f":"TEXT(Table_Query_from_Great_Plains[[#This Row],[ITEMNMBR]],0)","v":"WMT001"},"Golf Tees -","RETAIL",0,100]
["WMT002",{"$f":"TEXT(Table_Query_from_Great_Plains[[#This Row],[ITEMNMBR]],0)","v":"WMT002"},"Spa Towels","RETAIL",0,100]
["WMT003",{"$f":"TEXT(Table_Query_from_Great_Plains[[#This Row],[ITEMNMBR]],0)","v":"WMT003"},"Spa Face Cloths","RETAIL",0,100]
["WMT004",{"$f":"TEXT(Table_Query_from_Great_Plains[[#This Row],[ITEMNMBR]],0)","v":"WMT004"},"Grilling Tongs","RETAIL",0,100]
["WMT005",{"$f":"TEXT(Table_Query_from_Great_Plains[[#This Row],[ITEMNMBR]],0)","v":"WMT005"},"Sleeve of real Golf Balls","RETAIL",0,100]
["WMT006",{"$f":"TEXT(Table_Query_from_Great_Plains[[#This Row],[ITEMNMBR]],0)","v":"WMT006"},"12 Qt Car Wash Bucket","RETAIL",0,100]
["WOO001",{"$f":"TEXT(Table_Query_from_Great_Plains[[#This Row],[ITEMNMBR]],0)","v":"WOO001"},"Wooden Gift Tray Branded","RETAIL",0,100]
["WSSHIP-GGB",{"$f":"TEXT(Table_Query_from_Great_Plains[[#This Row],[ITEMNMBR]],0)","v":"WSSHIP-GGB"},"Wholesale Shipping GourmetGiftBaskets.com","RETAIL",0,0]
["WSSHIP-POP",{"$f":"TEXT(Table_Query_from_Great_Plains[[#This Row],[ITEMNMBR]],0)","v":"WSSHIP-POP"},"Wholesale Shipping KingOfPOP","RETAIL",0,0]
["XCE004",{"$f":"TEXT(Table_Query_from_Great_Plains[[#This Row],[ITEMNMBR]],0)","v":"XCE004"},"Xcell International Corp Cupcake Decorating Jar","RETAIL",0,100]
["XL ROBE",{"$f":"TEXT(Table_Query_from_Great_Plains[[#This Row],[ITEMNMBR]],0)","v":"XL ROBE"},"Pendergrass Turkish Cotton Spa Robe (Extra Large)","RETAIL",0,100]
["YAN001",{"$f":"TEXT(Table_Query_from_Great_Plains[[#This Row],[ITEMNMBR]],0)","v":"YAN001"},"Yankee Warehouse Turtle Wax Car Wash 20oz","RETAIL",0,100]
["YAN002",{"$f":"TEXT(Table_Query_from_Great_Plains[[#This Row],[ITEMNMBR]],0)","v":"YAN002"},"Yankee Warehouse Golden Fleece Car Washing Mitt 8\"x11\"","RETAIL",0,100]
["YAN004",{"$f":"TEXT(Table_Query_from_Great_Plains[[#This Row],[ITEMNMBR]],0)","v":"YAN004"},"Yankee Warehouse 3pk Microfiber Auto Cloths by S.M Arnold","RETAIL",0,100]
["YAN005",{"$f":"TEXT(Table_Query_from_Great_Plains[[#This Row],[ITEMNMBR]],0)","v":"YAN005"},"Yankee Warehouse Rain X exterior wipes","RETAIL",0,100]
["YAN006",{"$f":"TEXT(Table_Query_from_Great_Plains[[#This Row],[ITEMNMBR]],0)","v":"YAN006"},"Yankee Warehouse Shop Towels by Scott 55/Roll","RETAIL",0,100]
["YAN007",{"$f":"TEXT(Table_Query_from_Great_Plains[[#This Row],[ITEMNMBR]],0)","v":"YAN007"},"Yankee Warehouse Interior Spray Protectant by Armor All 4oz","RETAIL",0,100]
["YAN008",{"$f":"TEXT(Table_Query_from_Great_Plains[[#This Row],[ITEMNMBR]],0)","v":"YAN008"},"Yankee Warehouse Turtle Wax Car Wax 16oz","RETAIL",0,100]
["YAN009",{"$f":"TEXT(Table_Query_from_Great_Plains[[#This Row],[ITEMNMBR]],0)","v":"YAN009"},"Yankee Warehouse Tire Wet by Black Magic 23oz","RETAIL",0,100]
["ZUBI01",{"$f":"TEXT(Table_Query_from_Great_Plains[[#This Row],[ITEMNMBR]],0)","v":"ZUBI01"},"Zubi Anniversary Custom Basket For Parents","RETAIL",0,277.99]
["ZUBI02",{"$f":"TEXT(Table_Query_from_Great_Plains[[#This Row],[ITEMNMBR]],0)","v":"ZUBI02"},"Zubi Bountiful Harvest Custom Basket","RETAIL",0,119.99]

{"sheet":"Items","index":2,"n_rows":8143,"n_cols":7,"rows_kept":8143,"cut":false,"hidden":true,"merged":[]}
["ITEMNMBR","Column1","Item Description","PRCLEVEL","UOMPRICE"]
["101A2X",{"$f":"Table_prices[[#This Row],[ITEMNMBR]]","v":"101A2X"},"Gourmet Food Basket Italian","RETAIL",79.989999999999995]
["101ALG",{"$f":"Table_prices[[#This Row],[ITEMNMBR]]","v":"101ALG"},"Gourmet Food Basket French","RETAIL",99.99]
["101AMD",{"$f":"Table_prices[[#This Row],[ITEMNMBR]]","v":"101AMD"},"Food Gift For Christmas","RETAIL",99.99]
["101ASM",{"$f":"Table_prices[[#This Row],[ITEMNMBR]]","v":"101ASM"},"Food Gift For Christmas Breakfast","RETAIL",79.989999999999995,null,1]
["101AXL",{"$f":"Table_prices[[#This Row],[ITEMNMBR]]","v":"101AXL"},"Birthday Gift Basket Basket Of Baked Goods","RETAIL",29.99]
["101B2X",{"$f":"Table_prices[[#This Row],[ITEMNMBR]]","v":"101B2X"},"Beer Gift Basket For Men Microbrew","RETAIL",39.99]
["101BLG",{"$f":"Table_prices[[#This Row],[ITEMNMBR]]","v":"101BLG"},"Christmas Basket Idea For men","RETAIL",59.99]
["101BMD",{"$f":"Table_prices[[#This Row],[ITEMNMBR]]","v":"101BMD"},"Christmas Basket Idea For Women","RETAIL",59.99]
["101BSM",{"$f":"Table_prices[[#This Row],[ITEMNMBR]]","v":"101BSM"},"Corporate Holiday Gift","RETAIL",59.99]
["101BXL",{"$f":"Table_prices[[#This Row],[ITEMNMBR]]","v":"101BXL"},"Corporate Holiday Gift Select","RETAIL",79.989999999999995]
["102A2X",{"$f":"Table_prices[[#This Row],[ITEMNMBR]]","v":"102A2X"},"Spa Gift Basket Hand Care","RETAIL",59.99]
["102ALG",{"$f":"Table_prices[[#This Row],[ITEMNMBR]]","v":"102ALG"},"Spa Gift Basket Foot Care","RETAIL",49.99]
["102AMD",{"$f":"Table_prices[[#This Row],[ITEMNMBR]]","v":"102AMD"},"Christmas Gift Basket Free Shipping Fruit","RETAIL",99.99]
["102ASM",{"$f":"Table_prices[[#This Row],[ITEMNMBR]]","v":"102ASM"},"Housewarming Gift Italian","RETAIL",79.989999999999995]
["102AXL",{"$f":"Table_prices[[#This Row],[ITEMNMBR]]","v":"102AXL"},"Italian Gift Basket","RETAIL",59.99]
["102B2X",{"$f":"Table_prices[[#This Row],[ITEMNMBR]]","v":"102B2X"},"Gift Basket For All Occassions","RETAIL",59.99]
["102BLG",{"$f":"Table_prices[[#This Row],[ITEMNMBR]]","v":"102BLG"},"Care Package For College Students","RETAIL",34.99]
["102BMD",{"$f":"Table_prices[[#This Row],[ITEMNMBR]]","v":"102BMD"},"Get Well Gift Basket","RETAIL",79.989999999999995]
["102BSM",{"$f":"Table_prices[[#This Row],[ITEMNMBR]]","v":"102BSM"},"Get Well Gift Basket Of Fruit","RETAIL",39.99]
["102BXL",{"$f":"Table_prices[[#This Row],[ITEMNMBR]]","v":"102BXL"},"Care Package Idea For Kids","RETAIL",34.99]
["103A2X",{"$f":"Table_prices[[#This Row],[ITEMNMBR]]","v":"103A2X"},"New York Yankees Gift Basket Classic - 2X","RETAIL",79.989999999999995]
["103ALG",{"$f":"Table_prices[[#This Row],[ITEMNMBR]]","v":"103ALG"},"New York Yankees Gift Basket Classic - LG","RETAIL",79.989999999999995]
["103AMD",{"$f":"Table_prices[[#This Row],[ITEMNMBR]]","v":"103AMD"},"New York Yankees Gift Basket Classic - MD","RETAIL",79.989999999999995]
["103ASM",{"$f":"Table_prices[[#This Row],[ITEMNMBR]]","v":"103ASM"},"New York Yankees Gift Basket Classic - SM","RETAIL",79.989999999999995]
["103AXL",{"$f":"Table_prices[[#This Row],[ITEMNMBR]]","v":"103AXL"},"New York Yankees Gift Basket Classic - XL","RETAIL",79.989999999999995]
["103B2X",{"$f":"Table_prices[[#This Row],[ITEMNMBR]]","v":"103B2X"},"New York Yankees Gift Basket Deluxe - 2X","RETAIL",119.99]
["103BLG",{"$f":"Table_prices[[#This Row],[ITEMNMBR]]","v":"103BLG"},"New York Yankees Gift Basket Deluxe - LG","RETAIL",119.99]
["103BMD",{"$f":"Table_prices[[#This Row],[ITEMNMBR]]","v":"103BMD"},"New York Yankees Gift Basket Deluxe - MD","RETAIL",59.99]
["103BSM",{"$f":"Table_prices[[#This Row],[ITEMNMBR]]","v":"103BSM"},"New York Yankees Gift Basket Deluxe - SM","RETAIL",119.99]
["103BXL",{"$f":"Table_prices[[#This Row],[ITEMNMBR]]","v":"103BXL"},"New York Yankees Gift Basket Deluxe - XL","RETAIL",119.99]
["104A2X",{"$f":"Table_prices[[#This Row],[ITEMNMBR]]","v":"104A2X"},"Care Package Idea For Men","RETAIL",34.99]
["104ALG",{"$f":"Table_prices[[#This Row],[ITEMNMBR]]","v":"104ALG"},"Corporate Gift Basket Red Wine","RETAIL",69.989999999999995]
["104AMD",{"$f":"Table_prices[[#This Row],[ITEMNMBR]]","v":"104AMD"},"Corporate Gift Basket White WIne","RETAIL",69.989999999999995]
["104ASM",{"$f":"Table_prices[[#This Row],[ITEMNMBR]]","v":"104ASM"},"Gift Basket Idea For Men Who Fish","RETAIL",59.99]
["104AXL",{"$f":"Table_prices[[#This Row],[ITEMNMBR]]","v":"104AXL"},"Beer Basket With Popcorn","RETAIL",39.99]
["104B2X",{"$f":"Table_prices[[#This Row],[ITEMNMBR]]","v":"104B2X"},"Wine Basket Red","RETAIL",69.989999999999995]
["104BLG",{"$f":"Table_prices[[#This Row],[ITEMNMBR]]","v":"104BLG"},"Wine Basket White","RETAIL",69.989999999999995]
["104BMD",{"$f":"Table_prices[[#This Row],[ITEMNMBR]]","v":"104BMD"},"Golf Gift For Men","RETAIL",59.99]
["104BSM",{"$f":"Table_prices[[#This Row],[ITEMNMBR]]","v":"104BSM"},"Golf Gift For Women","RETAIL",69.989999999999995]
["104BXL",{"$f":"Table_prices[[#This Row],[ITEMNMBR]]","v":"104BXL"},"Christmas Gift Basket For Families","RETAIL",229.99]
["105A2X",{"$f":"Table_prices[[#This Row],[ITEMNMBR]]","v":"105A2X"},"Boston Red Sox Gift Basket Classic - 2X","RETAIL",39.99]
["105ALG",{"$f":"Table_prices[[#This Row],[ITEMNMBR]]","v":"105ALG"},"Boston Red Sox Gift Basket Classic - LG","RETAIL",79.989999999999995]
["105AMD",{"$f":"Table_prices[[#This Row],[ITEMNMBR]]","v":"105AMD"},"Boston Red Sox Gift Basket Classic - MD","RETAIL",79.989999999999995]
["105ASM",{"$f":"Table_prices[[#This Row],[ITEMNMBR]]","v":"105ASM"},"Boston Red Sox Gift Basket Classic - SM","RETAIL",79.989999999999995]
["105AXL",{"$f":"Table_prices[[#This Row],[ITEMNMBR]]","v":"105AXL"},"Boston Red Sox Gift Basket Classic - XL","RETAIL",79.989999999999995]
["105B2X",{"$f":"Table_prices[[#This Row],[ITEMNMBR]]","v":"105B2X"},"Boston Red Sox Gift Basket Deluxe - 2X","RETAIL",59.99]
["105BLG",{"$f":"Table_prices[[#This Row],[ITEMNMBR]]","v":"105BLG"},"Boston Red Sox Gift Basket Deluxe - LG","RETAIL",119.99]
["105BMD",{"$f":"Table_prices[[#This Row],[ITEMNMBR]]","v":"105BMD"},"Boston Red Sox Gift Basket Deluxe - MD","RETAIL",119.99]
["105BSM",{"$f":"Table_prices[[#This Row],[ITEMNMBR]]","v":"105BSM"},"Boston Red Sox Gift Basket Deluxe - SM","RETAIL",119.99]
["105BXL",{"$f":"Table_prices[[#This Row],[ITEMNMBR]]","v":"105BXL"},"Boston Red Sox Gift Basket Deluxe - XL","RETAIL",119.99]
["106A2X",{"$f":"Table_prices[[#This Row],[ITEMNMBR]]","v":"106A2X"},"College Care Package of Snacks","RETAIL",34.99]
["106ALG",{"$f":"Table_prices[[#This Row],[ITEMNMBR]]","v":"106ALG"},"Sympathy Gift Basket Premium","RETAIL",79.989999999999995]
["106AMD",{"$f":"Table_prices[[#This Row],[ITEMNMBR]]","v":"106AMD"},"Holidy Gift Basket for Clients Classic","RETAIL",59.99]
["106ASM",{"$f":"Table_prices[[#This Row],[ITEMNMBR]]","v":"106ASM"},"Nut Gift Crate Classic","RETAIL",39.99]
["106AXL",{"$f":"Table_prices[[#This Row],[ITEMNMBR]]","v":"106AXL"},"Nut Gift Crate Premium","RETAIL",59.99]
["106B2X",{"$f":"Table_prices[[#This Row],[ITEMNMBR]]","v":"106B2X"},"New Years Gift Basket","RETAIL",99.99]
["106BLG",{"$f":"Table_prices[[#This Row],[ITEMNMBR]]","v":"106BLG"},"New Years Gift Basket of Celebration - Moet","RETAIL",129.99]
["106BMD",{"$f":"Table_prices[[#This Row],[ITEMNMBR]]","v":"106BMD"},"New Years Gift Basket of Celebration - Veuve","RETAIL",139.99]
["106BSM",{"$f":"Table_prices[[#This Row],[ITEMNMBR]]","v":"106BSM"},"New Years Gift Basket of Celebration - Dom Perignon","RETAIL",239.99]
["106BXL",{"$f":"Table_prices[[#This Row],[ITEMNMBR]]","v":"106BXL"},"New Years Gift Basket of Indulgence - Ravenswood","RETAIL",89.99]
["107A2X",{"$f":"Table_prices[[#This Row],[ITEMNMBR]]","v":"107A2X"},"New Years Gift Basket of Indulgence - Catena","RETAIL",99.99]
["107ALG",{"$f":"Table_prices[[#This Row],[ITEMNMBR]]","v":"107ALG"},"New Years Gift Basket of Indulgence - Silver Oak","RETAIL",149.99]
["107AMD",{"$f":"Table_prices[[#This Row],[ITEMNMBR]]","v":"107AMD"},"Holiday Fod Gift Basket of Treats","RETAIL",59.99]
["107ASM",{"$f":"Table_prices[[#This Row],[ITEMNMBR]]","v":"107ASM"},"Holiday Food Gift Basket","RETAIL",24.99]
["107AXL",{"$f":"Table_prices[[#This Row],[ITEMNMBR]]","v":"107AXL"},"Philadelphia Phillies Gift Basket Classic - 2X","RETAIL",79.989999999999995]
["107B2X",{"$f":"Table_prices[[#This Row],[ITEMNMBR]]","v":"107B2X"},"Philadelphia Phillies Gift Basket Classic - LG","RETAIL",79.989999999999995]
["107BLG",{"$f":"Table_prices[[#This Row],[ITEMNMBR]]","v":"107BLG"},"Philadelphia Phillies Gift Basket Classic - MD","RETAIL",79.989999999999995]
["107BMD",{"$f":"Table_prices[[#This Row],[ITEMNMBR]]","v":"107BMD"},"Philadelphia Phillies Gift Basket Classic - SM","RETAIL",79.989999999999995]
["107BSM",{"$f":"Table_prices[[#This Row],[ITEMNMBR]]","v":"107BSM"},"Philadelphia Phillies Gift Basket Classic - XL","RETAIL",79.989999999999995]
["107BXL",{"$f":"Table_prices[[#This Row],[ITEMNMBR]]","v":"107BXL"},"Philadelphia Phillies Gift Basket Deluxe - 2X","RETAIL",119.99]
["18A",{"$f":"Table_prices[[#This Row],[ITEMNMBR]]","v":"18A"},"Philadelphia Phillies Gift Basket Deluxe - LG","RETAIL",59.99]
["18B",{"$f":"Table_prices[[#This Row],[ITEMNMBR]]","v":"18B"},"Philadelphia Phillies Gift Basket Deluxe - MD","RETAIL",59.99]
["18C",{"$f":"Table_prices[[#This Row],[ITEMNMBR]]","v":"18C"},"Philadelphia Phillies Gift Basket Deluxe - SM","RETAIL",59.99]
["18D",{"$f":"Table_prices[[#This Row],[ITEMNMBR]]","v":"18D"},"Philadelphia Phillies Gift Basket Deluxe - XL","RETAIL",59.99]
["18E",{"$f":"Table_prices[[#This Row],[ITEMNMBR]]","v":"18E"},"Christmas Fruit Basket Classic","RETAIL",49.99]
[2124,{"$f":"Table_prices[[#This Row],[ITEMNMBR]]","v":2124},"Christmas Gourmet Gift Basket","RETAIL",69.989999999999995]
[2125,{"$f":"Table_prices[[#This Row],[ITEMNMBR]]","v":2125},"Christmas Gourmet Gift Basket Classic","RETAIL",59.99]
[2126,{"$f":"Table_prices[[#This Row],[ITEMNMBR]]","v":2126},"Holiday Gift Basket Idea For Men","RETAIL",89.99]
[2580,{"$f":"Table_prices[[#This Row],[ITEMNMBR]]","v":2580},"Holiday Gift Basket Idea For Women","RETAIL",79.989999999999995]
[2582,{"$f":"Table_prices[[#This Row],[ITEMNMBR]]","v":2582},"Christmas Gift Basket Idea For Men","RETAIL",24.99]
[2584,{"$f":"Table_prices[[#This Row],[ITEMNMBR]]","v":2584},"Christmas Gift Basket Idea For Women","RETAIL",24.99]
[2616,{"$f":"Table_prices[[#This Row],[ITEMNMBR]]","v":2616},"Corporate Holiday Gift Idea","RETAIL",34.99]
[3510,{"$f":"Table_prices[[#This Row],[ITEMNMBR]]","v":3510},"Corporate Holiday Gift Idea for VIP","RETAIL",159.99]
["3510A",{"$f":"Table_prices[[#This Row],[ITEMNMBR]]","v":"3510A"},"Gift For Parents Classic","RETAIL",59.99]
["3510B",{"$f":"Table_prices[[#This Row],[ITEMNMBR]]","v":"3510B"},"Chicago Cubs Gift Basket Classic - 2X","RETAIL",79.989999999999995]
["3510C",{"$f":"Table_prices[[#This Row],[ITEMNMBR]]","v":"3510C"},"Chicago Cubs Gift Basket Classic - LG","RETAIL",39.99]
["3510D",{"$f":"Table_prices[[#This Row],[ITEMNMBR]]","v":"3510D"},"Chicago Cubs Gift Basket Classic - MD","RETAIL",39.99]
["3510E",{"$f":"Table_prices[[#This Row],[ITEMNMBR]]","v":"3510E"},"Chicago Cubs Gift Basket Classic - SM","RETAIL",79.989999999999995]
["3510F",{"$f":"Table_prices[[#This Row],[ITEMNMBR]]","v":"3510F"},"Chicago Cubs Gift Basket Classic - XL","RETAIL",79.989999999999995]
["3510G",{"$f":"Table_prices[[#This Row],[ITEMNMBR]]","v":"3510G"},"Chicago Cubs Gift Basket Deluxe - 2X","RETAIL",119.99]
[3511,{"$f":"Table_prices[[#This Row],[ITEMNMBR]]","v":3511},"Chicago Cubs Gift Basket Deluxe - LG","RETAIL",59.99]
["3511A",{"$f":"Table_prices[[#This Row],[ITEMNMBR]]","v":"3511A"},"Chicago Cubs Gift Basket Deluxe - MD","RETAIL",59.99]
["3511B",{"$f":"Table_prices[[#This Row],[ITEMNMBR]]","v":"3511B"},"Chicago Cubs Gift Basket Deluxe - SM","RETAIL",59.99]
["3511C",{"$f":"Table_prices[[#This Row],[ITEMNMBR]]","v":"3511C"},"Chicago Cubs Gift Basket Deluxe - XL","RETAIL",59.99]
["3511D",{"$f":"Table_prices[[#This Row],[ITEMNMBR]]","v":"3511D"},"Gift for Parents Deluxe","RETAIL",99.99]
["3511E",{"$f":"Table_prices[[#This Row],[ITEMNMBR]]","v":"3511E"},"Tea Gift Basket","RETAIL",24.99]
["3511F",{"$f":"Table_prices[[#This Row],[ITEMNMBR]]","v":"3511F"},"Tea Gift Basket Premium","RETAIL",79.989999999999995]
["3511G",{"$f":"Table_prices[[#This Row],[ITEMNMBR]]","v":"3511G"},"Gift Basket Free Shipping","RETAIL",79.989999999999995]
[3512,{"$f":"Table_prices[[#This Row],[ITEMNMBR]]","v":3512},"Gift for Golfers","RETAIL",49.99]
["3512A",{"$f":"Table_prices[[#This Row],[ITEMNMBR]]","v":"3512A"},"Kids Gift Basket of Pizza","RETAIL",79.989999999999995]
["3512B",{"$f":"Table_prices[[#This Row],[ITEMNMBR]]","v":"3512B"},"Kids Gift Basket Ice Cream Party","RETAIL",69.989999999999995]
["3512C",{"$f":"Table_prices[[#This Row],[ITEMNMBR]]","v":"3512C"},"Chocolate Gift Basket of Treats","RETAIL",24.99]
["3512D",{"$f":"Table_prices[[#This Row],[ITEMNMBR]]","v":"3512D"},"Gardening Gift","RETAIL",49.99]
["3512E",{"$f":"Table_prices[[#This Row],[ITEMNMBR]]","v":"3512E"},"New York Mets Gift Basket Classic - 2X","RETAIL",79.989999999999995]
["3512F",{"$f":"Table_prices[[#This Row],[ITEMNMBR]]","v":"3512F"},"New York Mets Gift Basket Classic - LG","RETAIL",39.99]
["3512G",{"$f":"Table_prices[[#This Row],[ITEMNMBR]]","v":"3512G"},"New York Mets Gift Basket Classic - MD","RETAIL",39.99]
[3513,{"$f":"Table_prices[[#This Row],[ITEMNMBR]]","v":3513},"New York Mets Gift Basket Classic - SM","RETAIL",39.99]
["3513A",{"$f":"Table_prices[[#This Row],[ITEMNMBR]]","v":"3513A"},"New York Mets Gift Basket Classic - XL","RETAIL",79.989999999999995]
["3513B",{"$f":"Table_prices[[#This Row],[ITEMNMBR]]","v":"3513B"},"New York Mets Gift Basket Deluxe - 2X","RETAIL",119.99]
["3513C",{"$f":"Table_prices[[#This Row],[ITEMNMBR]]","v":"3513C"},"New York Mets Gift Basket Deluxe - LG","RETAIL",59.99]
["3513D",{"$f":"Table_prices[[#This Row],[ITEMNMBR]]","v":"3513D"},"New York Mets Gift Basket Deluxe - MD","RETAIL",59.99]
["3513E",{"$f":"Table_prices[[#This Row],[ITEMNMBR]]","v":"3513E"},"New York Mets Gift Basket Deluxe - SM","RETAIL",119.99]
["3513F",{"$f":"Table_prices[[#This Row],[ITEMNMBR]]","v":"3513F"},"New York Mets Gift Basket Deluxe - XL","RETAIL",119.99]
["3513G",{"$f":"Table_prices[[#This Row],[ITEMNMBR]]","v":"3513G"},"Los Angelas Dodgers Gift Basket Classic - 2X","RETAIL",39.99]
[3514,{"$f":"Table_prices[[#This Row],[ITEMNMBR]]","v":3514},"Los Angelas Dodgers Gift Basket Classic - LG","RETAIL",39.99]
["3514A",{"$f":"Table_prices[[#This Row],[ITEMNMBR]]","v":"3514A"},"Los Angelas Dodgers Gift Basket Classic - MD","RETAIL",39.99]
["3514B",{"$f":"Table_prices[[#This Row],[ITEMNMBR]]","v":"3514B"},"Los Angelas Dodgers Gift Basket Classic - SM","RETAIL",39.99]
["3514C",{"$f":"Table_prices[[#This Row],[ITEMNMBR]]","v":"3514C"},"Los Angelas Dodgers Gift Basket Classic - XL","RETAIL",39.99]
["3514D",{"$f":"Table_prices[[#This Row],[ITEMNMBR]]","v":"3514D"},"Los Angelas Dodgers Gift Basket Deluxe - 2X","RETAIL",119.99]
["3514E",{"$f":"Table_prices[[#This Row],[ITEMNMBR]]","v":"3514E"},"Los Angelas Dodgers Gift Basket Deluxe - LG","RETAIL",59.99]
["3514F",{"$f":"Table_prices[[#This Row],[ITEMNMBR]]","v":"3514F"},"Los Angelas Dodgers Gift Basket Deluxe - MD","RETAIL",119.99]
["3514G",{"$f":"Table_prices[[#This Row],[ITEMNMBR]]","v":"3514G"},"Los Angelas Dodgers Gift Basket Deluxe - SM","RETAIL",59.99]
[3515,{"$f":"Table_prices[[#This Row],[ITEMNMBR]]","v":3515},"Los Angelas Dodgers Gift Basket Deluxe - XL","RETAIL",59.99]
["3515A",{"$f":"Table_prices[[#This Row],[ITEMNMBR]]","v":"3515A"},"ST Louis Cardinals Gift Basket Classic - 2X","RETAIL",79.989999999999995]
["3515B",{"$f":"Table_prices[[#This Row],[ITEMNMBR]]","v":"3515B"},"ST Louis Cardinals Gift Basket Classic - LG","RETAIL",79.989999999999995]
["3515C",{"$f":"Table_prices[[#This Row],[ITEMNMBR]]","v":"3515C"},"ST Louis Cardinals Gift Basket Classic - MD","RETAIL",79.989999999999995]
["3515D",{"$f":"Table_prices[[#This Row],[ITEMNMBR]]","v":"3515D"},"ST Louis Cardinals Gift Basket Classic - SM","RETAIL",39.99]
["3515E",{"$f":"Table_prices[[#This Row],[ITEMNMBR]]","v":"3515E"},"ST Louis Cardinals Gift Basket Classic - XL","RETAIL",79.989999999999995]
["3515F",{"$f":"Table_prices[[#This Row],[ITEMNMBR]]","v":"3515F"},"ST Louis Cardinals Gift Basket Deluxe - 2X","RETAIL",119.99]
["3515G",{"$f":"Table_prices[[#This Row],[ITEMNMBR]]","v":"3515G"},"ST Louis Cardinals Gift Basket Deluxe - LG","RETAIL",59.99]
[3516,{"$f":"Table_prices[[#This Row],[ITEMNMBR]]","v":3516},"ST Louis Cardinals Gift Basket Deluxe - MD","RETAIL",119.99]
["3516A",{"$f":"Table_prices[[#This Row],[ITEMNMBR]]","v":"3516A"},"ST Louis Cardinals Gift Basket Deluxe - SM","RETAIL",59.99]
["3516B",{"$f":"Table_prices[[#This Row],[ITEMNMBR]]","v":"3516B"},"ST Louis Cardinals Gift Basket Deluxe - XL","RETAIL",59.99]
["3516C",{"$f":"Table_prices[[#This Row],[ITEMNMBR]]","v":"3516C"},"Birthday Basket","RETAIL",34.99]
["3516D",{"$f":"Table_prices[[#This Row],[ITEMNMBR]]","v":"3516D"},"Snacks For My Sweetheart","RETAIL",39.99]
["3516E",{"$f":"Table_prices[[#This Row],[ITEMNMBR]]","v":"3516E"},"Holiday Dinner Party Popcorn Sampler - FREE SHIPPING","RETAIL",34.99]
["3516F",{"$f":"Table_prices[[#This Row],[ITEMNMBR]]","v":"3516F"},"Halloween Snack Tin","RETAIL",39.99]
["3516G",{"$f":"Table_prices[[#This Row],[ITEMNMBR]]","v":"3516G"},"Halloween Treats","RETAIL",29.99]
[3517,{"$f":"Table_prices[[#This Row],[ITEMNMBR]]","v":3517},"Mylar Balloon - One","RETAIL",4.99]
[3518,{"$f":"Table_prices[[#This Row],[ITEMNMBR]]","v":3518},"Mylar Balloon - Two","RETAIL",9.99]
["3518A",{"$f":"Table_prices[[#This Row],[ITEMNMBR]]","v":"3518A"},"Mylar Balloons - Three","RETAIL",14.99]
["3518B",{"$f":"Table_prices[[#This Row],[ITEMNMBR]]","v":"3518B"},"Mylar Balloons - Four","RETAIL",19.989999999999998]
["3518C",{"$f":"Table_prices[[#This Row],[ITEMNMBR]]","v":"3518C"},"Mylar Balloons - Five","RETAIL",24.99]
["3518D",{"$f":"Table_prices[[#This Row],[ITEMNMBR]]","v":"3518D"},"Send a Bear Hug Care Package","RETAIL",49.99]
["3518E",{"$f":"Table_prices[[#This Row],[ITEMNMBR]]","v":"3518E"},"Add 1 Pot Of Coffee","RETAIL",2.99]
["3518F",{"$f":"Table_prices[[#This Row],[ITEMNMBR]]","v":"3518F"},"Teleflora's Moulin Rouge Bouquet","RETAIL",70]
["3518G",{"$f":"Table_prices[[#This Row],[ITEMNMBR]]","v":"3518G"},"Teleflora's Hearts and Roses Bouquet","RETAIL",110]
[3519,{"$f":"Table_prices[[#This Row],[ITEMNMBR]]","v":3519},"Teleflora's M&M Valentine Bouquet","RETAIL",39.99]
[3520,{"$f":"Table_prices[[#This Row],[ITEMNMBR]]","v":3520},"Add 24 Birthday Candles","RETAIL",3.99]
[3521,{"$f":"Table_prices[[#This Row],[ITEMNMBR]]","v":3521},"Teleflora’s Embraceable You Bouquet","RETAIL",84.99]
["3521A",{"$f":"Table_prices[[#This Row],[ITEMNMBR]]","v":"3521A"},"Teleflora’s Love Sweet Love Bouquet","RETAIL",39.99]
["3521B",{"$f":"Table_prices[[#This Row],[ITEMNMBR]]","v":"3521B"},"Teleflora’s From The Heart","RETAIL",590.99]
["3521C",{"$f":"Table_prices[[#This Row],[ITEMNMBR]]","v":"3521C"},"Teleflora’s 16 Kisses Bouquet","RETAIL",134.99]
["3521D",{"$f":"Table_prices[[#This Row],[ITEMNMBR]]","v":"3521D"},"Mixed Flowers - Designer Choice","RETAIL",0]
["3521E",{"$f":"Table_prices[[#This Row],[ITEMNMBR]]","v":"3521E"},"Gourmet Food Only Same Day Basket","RETAIL",0]
["3521F",{"$f":"Table_prices[[#This Row],[ITEMNMBR]]","v":"3521F"},"Gourmet Food Only Same Day Basket","RETAIL",75]
["3521G",{"$f":"Table_prices[[#This Row],[ITEMNMBR]]","v":"3521G"},"Gourmet Food Only Same Day Basket","RETAIL",85]
[3522,{"$f":"Table_prices[[#This Row],[ITEMNMBR]]","v":3522},"Gourmet Food Only Same Day Basket","RETAIL",95]
["3522A",{"$f":"Table_prices[[#This Row],[ITEMNMBR]]","v":"3522A"},"Gourmet Food Only Same Day Basket","RETAIL",125]
["3522B",{"$f":"Table_prices[[#This Row],[ITEMNMBR]]","v":"3522B"},"Gourmet Food Only Same Day Basket","RETAIL",150]
["3522C",{"$f":"Table_prices[[#This Row],[ITEMNMBR]]","v":"3522C"},"Gourmet Food Only Same Day Basket","RETAIL",200]
["3522D",{"$f":"Table_prices[[#This Row],[ITEMNMBR]]","v":"3522D"},"Gourmet Food Only Same Day Basket","RETAIL",250]
["3522E",{"$f":"Table_prices[[#This Row],[ITEMNMBR]]","v":"3522E"},"Fruit and Gourmet Same Day Baskets","RETAIL",0]
["3522F",{"$f":"Table_prices[[#This Row],[ITEMNMBR]]","v":"3522F"},"Fruit and Gourmet Same Day Baskets","RETAIL",75]
["3522G",{"$f":"Table_prices[[#This Row],[ITEMNMBR]]","v":"3522G"},"Fruit and Gourmet Same day Baskets","RETAIL",85]
[4010,{"$f":"Table_prices[[#This Row],[ITEMNMBR]]","v":4010},"Fruit and Gourmet Same Day Baskets","RETAIL",95]
[4011,{"$f":"Table_prices[[#This Row],[ITEMNMBR]]","v":4011},"Fruit and Gourmet Same Day Baskets","RETAIL",125]
[4012,{"$f":"Table_prices[[#This Row],[ITEMNMBR]]","v":4012},"Fruit and Gourmet Same Day Baskets","RETAIL",150]
[4013,{"$f":"Table_prices[[#This Row],[ITEMNMBR]]","v":4013},"Fruit and Gourmet Same Day Baskets","RETAIL",200]
[4020,{"$f":"Table_prices[[#This Row],[ITEMNMBR]]","v":4020},"Fruit and Gourmet Same Day Baskets","RETAIL",250]
[4021,{"$f":"Table_prices[[#This Row],[ITEMNMBR]]","v":4021},"Only Fruit Same Day Baskets","RETAIL",0]
[4022,{"$f":"Table_prices[[#This Row],[ITEMNMBR]]","v":4022},"Only Fruit Same Day Baskets","RETAIL",75]
[4023,{"$f":"Table_prices[[#This Row],[ITEMNMBR]]","v":4023},"Only Fruit Same Day Baskets","RETAIL",85]
[4024,{"$f":"Table_prices[[#This Row],[ITEMNMBR]]","v":4024},"Only Fruit Same Day Baskets","RETAIL",95]
[4025,{"$f":"Table_prices[[#This Row],[ITEMNMBR]]","v":4025},"Only Fruit Same Day Baskets","RETAIL",125]
[4030,{"$f":"Table_prices[[#This Row],[ITEMNMBR]]","v":4030},"Only Fruit Same Day Baskets","RETAIL",150]
[4031,{"$f":"Table_prices[[#This Row],[ITEMNMBR]]","v":4031},"Only Fruit Same Day Baskets","RETAIL",200]
[4032,{"$f":"Table_prices[[#This Row],[ITEMNMBR]]","v":4032},"Only Fruit Same Day Baskets","RETAIL",250]
[4033,{"$f":"Table_prices[[#This Row],[ITEMNMBR]]","v":4033},"Gourmet Cheese Crackers & Fruit","RETAIL",0]
[4034,{"$f":"Table_prices[[#This Row],[ITEMNMBR]]","v":4034},"Fruit Cheese and Crackers Same Day Baskets","RETAIL",75]
[4036,{"$f":"Table_prices[[#This Row],[ITEMNMBR]]","v":4036},"Fruit Cheese and Crackers Same Day Baskets","RETAIL",85]
[4040,{"$f":"Table_prices[[#This Row],[ITEMNMBR]]","v":4040},"Fruit Cheese and Crackers Same Day Baskets","RETAIL",95]
[4041,{"$f":"Table_prices[[#This Row],[ITEMNMBR]]","v":4041},"Fruit Cheese and Crackers Same Day Baskets","RETAIL",125]
[4042,{"$f":"Table_prices[[#This Row],[ITEMNMBR]]","v":4042},"Fruit Cheese and Crackers Same Day Baskets","RETAIL",150]
[4043,{"$f":"Table_prices[[#This Row],[ITEMNMBR]]","v":4043},"Fruit Cheese and Crackers Same Day Baskets","RETAIL",200]
[4045,{"$f":"Table_prices[[#This Row],[ITEMNMBR]]","v":4045},"Fruit Cheese and Crackers Same Day Baskets","RETAIL",250]
[4046,{"$f":"Table_prices[[#This Row],[ITEMNMBR]]","v":4046},"Italian Dinners Same Day Baskets","RETAIL",0]
[4047,{"$f":"Table_prices[[#This Row],[ITEMNMBR]]","v":4047},"Italian Dinners Same Day Baskets","RETAIL",75]
[4050,{"$f":"Table_prices[[#This Row],[ITEMNMBR]]","v":4050},"Italian Dinners Same Day Baskets","RETAIL",85]
[4051,{"$f":"Table_prices[[#This Row],[ITEMNMBR]]","v":4051},"Italian Dinners Same Day Baskets","RETAIL",95]
[4052,{"$f":"Table_prices[[#This Row],[ITEMNMBR]]","v":4052},"Italian Dinners Same Day Baskets","RETAIL",125]
[4053,{"$f":"Table_prices[[#This Row],[ITEMNMBR]]","v":4053},"Italian Dinners Same Day Baskets","RETAIL",150]
[4054,{"$f":"Table_prices[[#This Row],[ITEMNMBR]]","v":4054},"Italian Dinners Same Day Baskets","RETAIL",200]
[4055,{"$f":"Table_prices[[#This Row],[ITEMNMBR]]","v":4055},"Italian Dinners Same Day Baskets","RETAIL",250]
[4056,{"$f":"Table_prices[[#This Row],[ITEMNMBR]]","v":4056},"Gourmet Coffee & Chocolates","RETAIL",0]
[4057,{"$f":"Table_prices[[#This Row],[ITEMNMBR]]","v":4057},"Coffee and Chocolates Same Day Baskets","RETAIL",75]
[4060,{"$f":"Table_prices[[#This Row],[ITEMNMBR]]","v":4060},"Coffee and Chocolates Same Day Baskets","RETAIL",85]
[4061,{"$f":"Table_prices[[#This Row],[ITEMNMBR]]","v":4061},"Coffee and Chocolates Same Day Baskets","RETAIL",95]
[4062,{"$f":"Table_prices[[#This Row],[ITEMNMBR]]","v":4062},"Coffee and Chocolates Same Day Baskets","RETAIL",125]
[4063,{"$f":"Table_prices[[#This Row],[ITEMNMBR]]","v":4063},"Coffee and Chocolates Same Day Baskets","RETAIL",150]
[4065,{"$f":"Table_prices[[#This Row],[ITEMNMBR]]","v":4065},"Coffee and Chocolates Same Day Baskets","RETAIL",200]
[4066,{"$f":"Table_prices[[#This Row],[ITEMNMBR]]","v":4066},"Coffee and Chocolates Same Day Baskets","RETAIL",250]
[4067,{"$f":"Table_prices[[#This Row],[ITEMNMBR]]","v":4067},"Snack Foods Same Day Basket","RETAIL",0]
[4070,{"$f":"Table_prices[[#This Row],[ITEMNMBR]]","v":4070},"Snack Foods Same Day Basket","RETAIL",75]
[4071,{"$f":"Table_prices[[#This Row],[ITEMNMBR]]","v":4071},"Snack Foods Same Day Basket","RETAIL",85]
[4072,{"$f":"Table_prices[[#This Row],[ITEMNMBR]]","v":4072},"Snack Foods Same Day Basket","RETAIL",95]
[4073,{"$f":"Table_prices[[#This Row],[ITEMNMBR]]","v":4073},"Snack Foods Same Day Basket","RETAIL",125]
[4075,{"$f":"Table_prices[[#This Row],[ITEMNMBR]]","v":4075},"Snack Foods Same Day Basket","RETAIL",150]
[4078,{"$f":"Table_prices[[#This Row],[ITEMNMBR]]","v":4078},"Snack Foods Same Day Basket","RETAIL",200]
[4079,{"$f":"Table_prices[[#This Row],[ITEMNMBR]]","v":4079},"Snack Foods Same Day Basket","RETAIL",250]
[4080,{"$f":"Table_prices[[#This Row],[ITEMNMBR]]","v":4080},"Breakfast Basket Same Day Basket","RETAIL",0]
[4081,{"$f":"Table_prices[[#This Row],[ITEMNMBR]]","v":4081},"Gourmet Tea & Cookies","RETAIL",0]
[4082,{"$f":"Table_prices[[#This Row],[ITEMNMBR]]","v":4082},"Tea and Cookies Same Day Basket","RETAIL",75]
[4083,{"$f":"Table_prices[[#This Row],[ITEMNMBR]]","v":4083},"Tea and Cookies Same Day Basket","RETAIL",85]
[4084,{"$f":"Table_prices[[#This Row],[ITEMNMBR]]","v":4084},"Tea and Cookies Same Day Basket","RETAIL",95]
[4085,{"$f":"Table_prices[[#This Row],[ITEMNMBR]]","v":4085},"Tea and Cookies Same Day Basket","RETAIL",125]
[4086,{"$f":"Table_prices[[#This Row],[ITEMNMBR]]","v":4086},"Tea and Cookies Same Day Basket","RETAIL",150]
[4087,{"$f":"Table_prices[[#This Row],[ITEMNMBR]]","v":4087},"Tea and Cookies Same Day Basket","RETAIL",200]
[4089,{"$f":"Table_prices[[#This Row],[ITEMNMBR]]","v":4089},"Tea and Cookies Same Day Basket","RETAIL",250]
[4090,{"$f":"Table_prices[[#This Row],[ITEMNMBR]]","v":4090},"Mexican Foods Same Day Baskets","RETAIL",0]
[4092,{"$f":"Table_prices[[#This Row],[ITEMNMBR]]","v":4092},"Bath and Spa Same Day Basket","RETAIL",0]
[4093,{"$f":"Table_prices[[#This Row],[ITEMNMBR]]","v":4093},"Gourmet with Red Wine Same Day Baskets","RETAIL",0]
[4094,{"$f":"Table_prices[[#This Row],[ITEMNMBR]]","v":4094},"Gourmet with Red Wine Same Day Baskets","RETAIL",75]
[4095,{"$f":"Table_prices[[#This Row],[ITEMNMBR]]","v":4095},"Gourmet with Red Wine Same Day Baskets","RETAIL",85]
[4096,{"$f":"Table_prices[[#This Row],[ITEMNMBR]]","v":4096},"Gourmet with Red Wine Same Day Baskets","RETAIL",95]
[4097,{"$f":"Table_prices[[#This Row],[ITEMNMBR]]","v":4097},"Gourmet with Red Wine Same Day Baskets","RETAIL",125]
[4098,{"$f":"Table_prices[[#This Row],[ITEMNMBR]]","v":4098},"Gourmet with Red Wine Same Day Baskets","RETAIL",150]
[4100,{"$f":"Table_prices[[#This Row],[ITEMNMBR]]","v":4100},"Gourmet with Red Wine Same Day Baskets","RETAIL",200]
[4101,{"$f":"Table_prices[[#This Row],[ITEMNMBR]]","v":4101},"Gourmet with Red Wine Same Day Baskets","RETAIL",250]
[4102,{"$f":"Table_prices[[#This Row],[ITEMNMBR]]","v":4102},"Gourmet with White Wine Same Day Baskets","RETAIL",0]
[4103,{"$f":"Table_prices[[#This Row],[ITEMNMBR]]","v":4103},"Gourmet with White Wine Same Day Baskets","RETAIL",75]
[4105,{"$f":"Table_prices[[#This Row],[ITEMNMBR]]","v":4105},"Gourmet with White Wine Same Day Baskets","RETAIL",85]
[4108,{"$f":"Table_prices[[#This Row],[ITEMNMBR]]","v":4108},"Gourmet with White Wine Same Day Baskets","RETAIL",95]
[4111,{"$f":"Table_prices[[#This Row],[ITEMNMBR]]","v":4111},"Gourmet with White Wine Same Day Baskets","RETAIL",125]
[4112,{"$f":"Table_prices[[#This Row],[ITEMNMBR]]","v":4112},"Gourmet with White Wine Same Day Baskets","RETAIL",150]
[4113,{"$f":"Table_prices[[#This Row],[ITEMNMBR]]","v":4113},"Gourmet with White Wine Same Day Baskets","RETAIL",200]
[4114,{"$f":"Table_prices[[#This Row],[ITEMNMBR]]","v":4114},"Gourmet with White Wine Same Day Baskets","RETAIL",250]
[4115,{"$f":"Table_prices[[#This Row],[ITEMNMBR]]","v":4115},"Add 3 Belgian Chocolate Brownies","RETAIL",9.99]
[4116,{"$f":"Table_prices[[#This Row],[ITEMNMBR]]","v":4116},"Add 3 Cheesecake Brownies","RETAIL",9.99]
[4117,{"$f":"Table_prices[[#This Row],[ITEMNMBR]]","v":4117},"Add 6 Chocolate Chip Cookies","RETAIL",7.99]
[4118,{"$f":"Table_prices[[#This Row],[ITEMNMBR]]","v":4118},"Add 3 Pots Of Coffee","RETAIL",7.99]
[4119,{"$f":"Table_prices[[#This Row],[ITEMNMBR]]","v":4119},"Add 6 Fudge Brownie Cookies","RETAIL",7.99]
[4120,{"$f":"Table_prices[[#This Row],[ITEMNMBR]]","v":4120},"Add 3 Fudge Walnut Brownies","RETAIL",9.99]
[4141,{"$f":"Table_prices[[#This Row],[ITEMNMBR]]","v":4141},"Catch of the Day - Seafood Gift Basket Stack","RETAIL",36.99]
[4142,{"$f":"Table_prices[[#This Row],[ITEMNMBR]]","v":4142},"Bounty of the Sea - Seafood Gift Basket","RETAIL",99.99]
[4146,{"$f":"Table_prices[[#This Row],[ITEMNMBR]]","v":4146},"Fisherman's Feast - Seafood Gift Basket","RETAIL",159.99]
[4171,{"$f":"Table_prices[[#This Row],[ITEMNMBR]]","v":4171},"Catch Of A Lifetime - Seafood Gift Basket","RETAIL",199.99]
[4172,{"$f":"Table_prices[[#This Row],[ITEMNMBR]]","v":4172},"Healthy Stack","RETAIL",34.99]
[4173,{"$f":"Table_prices[[#This Row],[ITEMNMBR]]","v":4173},"Healthy Classic","RETAIL",69.989999999999995]
[4175,{"$f":"Table_prices[[#This Row],[ITEMNMBR]]","v":4175},"Healthy Premium","RETAIL",99.99]
[4176,{"$f":"Table_prices[[#This Row],[ITEMNMBR]]","v":4176},"Healthy Deluxe","RETAIL",149.99]
[4177,{"$f":"Table_prices[[#This Row],[ITEMNMBR]]","v":4177},"Healthy Ultimate","RETAIL",139.99]
[4180,{"$f":"Table_prices[[#This Row],[ITEMNMBR]]","v":4180},"Healthy Signature Series","RETAIL",179.99]
[4181,{"$f":"Table_prices[[#This Row],[ITEMNMBR]]","v":4181},"Healthy in Paperboard -","RETAIL",39.99]
[4200,{"$f":"Table_prices[[#This Row],[ITEMNMBR]]","v":4200},"Kosher Stack","RETAIL",25.99]
[4201,{"$f":"Table_prices[[#This Row],[ITEMNMBR]]","v":4201},"Kosher Classic","RETAIL",69.989999999999995]
["4201A",{"$f":"Table_prices[[#This Row],[ITEMNMBR]]","v":"4201A"},"Kosher Premium","RETAIL",79.989999999999995]
[4202,{"$f":"Table_prices[[#This Row],[ITEMNMBR]]","v":4202},"Kosher Deluxe","RETAIL",99.99]
[4204,{"$f":"Table_prices[[#This Row],[ITEMNMBR]]","v":4204},"Kosher Cornucopia","RETAIL",149.99]
[4205,{"$f":"Table_prices[[#This Row],[ITEMNMBR]]","v":4205},"Kosher Ultimate","RETAIL",124.99]
[4206,{"$f":"Table_prices[[#This Row],[ITEMNMBR]]","v":4206},"Organic Stack","RETAIL",39.99]
[4208,{"$f":"Table_prices[[#This Row],[ITEMNMBR]]","v":4208},"Organic Classic","RETAIL",99.99]
["4210B",{"$f":"Table_prices[[#This Row],[ITEMNMBR]]","v":"4210B"},"Organic Premium","RETAIL",139.99]
["4210C",{"$f":"Table_prices[[#This Row],[ITEMNMBR]]","v":"4210C"},"Organic Deluxe","RETAIL",159.99]
["4210D",{"$f":"Table_prices[[#This Row],[ITEMNMBR]]","v":"4210D"},"Gluten Free mini","RETAIL",49.99]
[4215,{"$f":"Table_prices[[#This Row],[ITEMNMBR]]","v":4215},"Gluten Free Classic","RETAIL",99.99]
[4216,{"$f":"Table_prices[[#This Row],[ITEMNMBR]]","v":4216},"Gluten Free Premium","RETAIL",139.99]
[4300,{"$f":"Table_prices[[#This Row],[ITEMNMBR]]","v":4300},"Snack Stack","RETAIL",34.99]
[4301,{"$f":"Table_prices[[#This Row],[ITEMNMBR]]","v":4301},"Snack Classic","RETAIL",59.99]
[4302,{"$f":"Table_prices[[#This Row],[ITEMNMBR]]","v":4302},"Snack Premium","RETAIL",79.989999999999995]
[4304,{"$f":"Table_prices[[#This Row],[ITEMNMBR]]","v":4304},"Snack Deluxe","RETAIL",99.99]
[4306,{"$f":"Table_prices[[#This Row],[ITEMNMBR]]","v":4306},"Snack Ultimate","RETAIL",149.99]
[4307,{"$f":"Table_prices[[#This Row],[ITEMNMBR]]","v":4307},"Snack Jumbo","RETAIL",199.99]
[4311,{"$f":"Table_prices[[#This Row],[ITEMNMBR]]","v":4311},"Signature Series Executive Suite Snack","RETAIL",249.99]
[4312,{"$f":"Table_prices[[#This Row],[ITEMNMBR]]","v":4312},"Zero Calorie Chocolate Spa Basket","RETAIL",99.99]
[4320,{"$f":"Table_prices[[#This Row],[ITEMNMBR]]","v":4320},"Snack Classic in a Metal Tray","RETAIL",59.99]
[4321,{"$f":"Table_prices[[#This Row],[ITEMNMBR]]","v":4321},"Snack in Paperboard","RETAIL",34.99]
[4322,{"$f":"Table_prices[[#This Row],[ITEMNMBR]]","v":4322},"Chocolate Stack","RETAIL",39.99]
[4324,{"$f":"Table_prices[[#This Row],[ITEMNMBR]]","v":4324},"Chocolate Classic","RETAIL",59.99]
[4327,{"$f":"Table_prices[[#This Row],[ITEMNMBR]]","v":4327},"Chocolate Premium","RETAIL",99.99]
[4330,{"$f":"Table_prices[[#This Row],[ITEMNMBR]]","v":4330},"Chocolate Deluxe","RETAIL",149.99]
[4381,{"$f":"Table_prices[[#This Row],[ITEMNMBR]]","v":4381},"Chocolate Jumbo","RETAIL",229.99]
[4401,{"$f":"Table_prices[[#This Row],[ITEMNMBR]]","v":4401},"Chocolate Dreams Gift Baskets","RETAIL",69.989999999999995]
[4402,{"$f":"Table_prices[[#This Row],[ITEMNMBR]]","v":4402},"Chocolate Ultimate","RETAIL",179.99]
[4403,{"$f":"Table_prices[[#This Row],[ITEMNMBR]]","v":4403},"Tin of 120 Lindt Truffles","RETAIL",39.99]
[4404,{"$f":"Table_prices[[#This Row],[ITEMNMBR]]","v":4404},"Coffee & Chocolate Stack","RETAIL",37.99]
[4405,{"$f":"Table_prices[[#This Row],[ITEMNMBR]]","v":4405},"Coffee & Chocolate Classic","RETAIL",69.989999999999995]
[4406,{"$f":"Table_prices[[#This Row],[ITEMNMBR]]","v":4406},"Coffee & Chocolate Premium","RETAIL",99.99]
[4407,{"$f":"Table_prices[[#This Row],[ITEMNMBR]]","v":4407},"Coffee & Chocolate Deluxe (RETIRED)","RETAIL",129.99]
[4408,{"$f":"Table_prices[[#This Row],[ITEMNMBR]]","v":4408},"Coffee & Chocolate Ultimate","RETAIL",159.99]
[4409,{"$f":"Table_prices[[#This Row],[ITEMNMBR]]","v":4409},"Coffee in Paperboard","RETAIL",34.99]
[4430,{"$f":"Table_prices[[#This Row],[ITEMNMBR]]","v":4430},"The Grill Master Grilling & Marinating Basket (RETIRED)","RETAIL",79.989999999999995]
[4431,{"$f":"Table_prices[[#This Row],[ITEMNMBR]]","v":4431},"Pit Master Grilling & Marinades Basket","RETAIL",29.99]
[4432,{"$f":"Table_prices[[#This Row],[ITEMNMBR]]","v":4432},"Grilling & Marinades Stack","RETAIL",29.99]
[4445,{"$f":"Table_prices[[#This Row],[ITEMNMBR]]","v":4445},"Barbecue Enthusiast Gift Basket","RETAIL",99.99]
[4446,{"$f":"Table_prices[[#This Row],[ITEMNMBR]]","v":4446},"Grilling Greatness Grilling & Marinades Basket","RETAIL",139.99]
[4449,{"$f":"Table_prices[[#This Row],[ITEMNMBR]]","v":4449},"Payne Mason - Grilling Greatness BBQ Basket with Torito Lite Cigar","RETAIL",129.99]
[4450,{"$f":"Table_prices[[#This Row],[ITEMNMBR]]","v":4450},"Charcoal Connoisseur Grilling & Marinades Basket","RETAIL",149.99]
[4451,{"$f":"Table_prices[[#This Row],[ITEMNMBR]]","v":4451},"Celebrity Chef Grilling & Marinades Basket","RETAIL",199.99]
[4452,{"$f":"Table_prices[[#This Row],[ITEMNMBR]]","v":4452},"Vegetarian Grille - Cooking Gift Basket","RETAIL",64.989999999999995]
[4453,{"$f":"Table_prices[[#This Row],[ITEMNMBR]]","v":4453},"Garlic Lovers Grille - Cooking Gift Basket","RETAIL",79.989999999999995]
[4454,{"$f":"Table_prices[[#This Row],[ITEMNMBR]]","v":4454},"Made in Nappa Valley Grilling & Marinades Basket","RETAIL",79.989999999999995]
[4455,{"$f":"Table_prices[[#This Row],[ITEMNMBR]]","v":4455},"Hot Dog Stand Favorites","RETAIL",21.99]
[4500,{"$f":"Table_prices[[#This Row],[ITEMNMBR]]","v":4500},"BBQ Boss Grilling & Marinades Basket","RETAIL",69.989999999999995]
[4501,{"$f":"Table_prices[[#This Row],[ITEMNMBR]]","v":4501},"Let Your Body do the Talking","RETAIL",39.99]
[4502,{"$f":"Table_prices[[#This Row],[ITEMNMBR]]","v":4502},"Valentine's Day Gift Basket - Sweet Kisses To Your Sweetie","RETAIL",49.99]
[4503,{"$f":"Table_prices[[#This Row],[ITEMNMBR]]","v":4503},"Valentine's Day Gift Basket - I Only Have Eyes For You Kitten!","RETAIL",59.99]
[4504,{"$f":"Table_prices[[#This Row],[ITEMNMBR]]","v":4504},"Valentine's Day Gift Basket - The \"Love Bug\"","RETAIL",74.989999999999995]
[4505,{"$f":"Table_prices[[#This Row],[ITEMNMBR]]","v":4505},"Valentine's Day Gift Basket - Totally Tantalizing Valentine Chocolate Gift Basket","RETAIL",99.99]
[4506,{"$f":"Table_prices[[#This Row],[ITEMNMBR]]","v":4506},"Valentine's Day Gift Basket - You've Got Me Howling Like a Wolf Classic","RETAIL",79.989999999999995]
[4507,{"$f":"Table_prices[[#This Row],[ITEMNMBR]]","v":4507},"Valentine's Day Gift Basket - You've Got Me Howling Like a Wolf Ultimate","RETAIL",149.99]
[4508,{"$f":"Table_prices[[#This Row],[ITEMNMBR]]","v":4508},"Snack and Chocolate Gift - Stack","RETAIL",39.99]
[4509,{"$f":"Table_prices[[#This Row],[ITEMNMBR]]","v":4509},"Snack & Chocolate Gift - Classic","RETAIL",49.99]
[4590,{"$f":"Table_prices[[#This Row],[ITEMNMBR]]","v":4590},"Snack & Chocolate Gift Basket - Premium","RETAIL",79.989999999999995]
[4591,{"$f":"Table_prices[[#This Row],[ITEMNMBR]]","v":4591},"Snack & Chocolate Gift Basket - Deluxe","RETAIL",99.99]
[4594,{"$f":"Table_prices[[#This Row],[ITEMNMBR]]","v":4594},"Snack and Chocolate Gift Basket - Jumbo","RETAIL",149.99]
[4595,{"$f":"Table_prices[[#This Row],[ITEMNMBR]]","v":4595},"Favorite Treats Gift Basket","RETAIL",34.99]
[4596,{"$f":"Table_prices[[#This Row],[ITEMNMBR]]","v":4596},"Signature Series Executive Suite Snack & Chocolate","RETAIL",249.99]
[4597,{"$f":"Table_prices[[#This Row],[ITEMNMBR]]","v":4597},"Sweets & Treats Gift Basket","RETAIL",49.99]
[4598,{"$f":"Table_prices[[#This Row],[ITEMNMBR]]","v":4598},"Cattleman's Collection","RETAIL",87.99]
[4599,{"$f":"Table_prices[[#This Row],[ITEMNMBR]]","v":4599},"Uptown Grill Collection","RETAIL",104.99]
[4604,{"$f":"Table_prices[[#This Row],[ITEMNMBR]]","v":4604},"Light Affair Collection","RETAIL",68.989999999999995]
[4605,{"$f":"Table_prices[[#This Row],[ITEMNMBR]]","v":4605},"Campfire Collection","RETAIL",127.99]
[4606,{"$f":"Table_prices[[#This Row],[ITEMNMBR]]","v":4606},"Homestead Collection","RETAIL",96.99]
[4607,{"$f":"Table_prices[[#This Row],[ITEMNMBR]]","v":4607},"Backyard Collection","RETAIL",99.99]
[4608,{"$f":"Table_prices[[#This Row],[ITEMNMBR]]","v":4608},"The Grill Tamer Collection","RETAIL",167.99]
[4609,{"$f":"Table_prices[[#This Row],[ITEMNMBR]]","v":4609},"Master Griller Collection","RETAIL",244.99]
[4610,{"$f":"Table_prices[[#This Row],[ITEMNMBR]]","v":4610},"Neighborhood Favorite Collection","RETAIL",294.99]
[4611,{"$f":"Table_prices[[#This Row],[ITEMNMBR]]","v":4611},"LoneStar Collection","RETAIL",69.989999999999995]
[4612,{"$f":"Table_prices[[#This Row],[ITEMNMBR]]","v":4612},"6-7 lb Smoked Apple-Cured Boneless Ham","RETAIL",57.99]
[4614,{"$f":"Table_prices[[#This Row],[ITEMNMBR]]","v":4614},"12-14 lb Smoked Apple-Cured Boneless Ham","RETAIL",99.99]
[4615,{"$f":"Table_prices[[#This Row],[ITEMNMBR]]","v":4615},"Hickory Smoked Maple Turkey 10-14 lbs","RETAIL",99.99]
[4616,{"$f":"Table_prices[[#This Row],[ITEMNMBR]]","v":4616},"Wrigley's Fabulous Fruit Gum Gift Basket","RETAIL",34.99]
[4617,{"$f":"Table_prices[[#This Row],[ITEMNMBR]]","v":4617},"Wrigley's Fun Gum Gift Box","RETAIL",24.99]
[4618,{"$f":"Table_prices[[#This Row],[ITEMNMBR]]","v":4618},"Wrigleys Candy Bucket (RETIRED)","RETAIL",34.99]
[4619,{"$f":"Table_prices[[#This Row],[ITEMNMBR]]","v":4619},"Peach Tree Gift Basket","RETAIL",37]
[4620,{"$f":"Table_prices[[#This Row],[ITEMNMBR]]","v":4620},"Peachtree Small with Wine","RETAIL",48.99]
[4621,{"$f":"Table_prices[[#This Row],[ITEMNMBR]]","v":4621},"Peachtree Large with Wine","RETAIL",73.989999999999995]
[4622,{"$f":"Table_prices[[#This Row],[ITEMNMBR]]","v":4622},"Ovarian Cancer Gift Basket - Classic","RETAIL",59.99]
[4623,{"$f":"Table_prices[[#This Row],[ITEMNMBR]]","v":4623},"Ovarian Cancer Gift Basket - Deluxe","RETAIL",99.99]
[4624,{"$f":"Table_prices[[#This Row],[ITEMNMBR]]","v":4624},"Homemint Small Basket with Grilling Items","RETAIL",59.99]
[4639,{"$f":"Table_prices[[#This Row],[ITEMNMBR]]","v":4639},"Homemint Medium Basket with Snack Items","RETAIL",79.989999999999995]
[4640,{"$f":"Table_prices[[#This Row],[ITEMNMBR]]","v":4640},"Homemint Large Basket with Grilling and Snack Items","RETAIL",99.99]
[4641,{"$f":"Table_prices[[#This Row],[ITEMNMBR]]","v":4641},"Dried Fruit & Nut Platter","RETAIL",49.99]
[4642,{"$f":"Table_prices[[#This Row],[ITEMNMBR]]","v":4642},"Mendocino County Gift Crate  33 oz.","RETAIL",37.99]
[4643,{"$f":"Table_prices[[#This Row],[ITEMNMBR]]","v":4643},"Mendocino County Gift Crate (dried fruit and nut mix) - 33 oz.-","RETAIL",37.99]
[4644,{"$f":"Table_prices[[#This Row],[ITEMNMBR]]","v":4644},"Almond Strawberry Delight","RETAIL",19.989999999999998]
[4645,{"$f":"Table_prices[[#This Row],[ITEMNMBR]]","v":4645},"Roasted Nuts Gift Crate","RETAIL",39.99]
["4646A",{"$f":"Table_prices[[#This Row],[ITEMNMBR]]","v":"4646A"},"Something Naughty & Something Nice Gift Stack","RETAIL",79.989999999999995]
["4646B",{"$f":"Table_prices[[#This Row],[ITEMNMBR]]","v":"4646B"},"Classic Candy Gift Crate","RETAIL",24.99]
["4646C",{"$f":"Table_prices[[#This Row],[ITEMNMBR]]","v":"4646C"},"Executive Rose  10 lbs.","RETAIL",179.99]
[4647,{"$f":"Table_prices[[#This Row],[ITEMNMBR]]","v":4647},"Dried Fruit Platter - 20 oz. -","RETAIL",29.99]
[4649,{"$f":"Table_prices[[#This Row],[ITEMNMBR]]","v":4649},"SnoCountry.com's Skiers Delight Gift Basket - Classic","RETAIL",59.99]
[4650,{"$f":"Table_prices[[#This Row],[ITEMNMBR]]","v":4650},"SnoCountry.com's Skiers Delight Gift Basket - Premium","RETAIL",89.99]
[4651,{"$f":"Table_prices[[#This Row],[ITEMNMBR]]","v":4651},"SnoCountry.com's Skiers Delight Gift Basket - Deluxe","RETAIL",129.99]
[4652,{"$f":"Table_prices[[#This Row],[ITEMNMBR]]","v":4652},"Tailgate Party Basket (RETIRED)","RETAIL",124.99]
[4653,{"$f":"Table_prices[[#This Row],[ITEMNMBR]]","v":4653},"Extreme Tailgating Basket (RETIRED)","RETAIL",169.99]
[4654,{"$f":"Table_prices[[#This Row],[ITEMNMBR]]","v":4654},"Sugar Free Gift Basket","RETAIL",0]
[4655,{"$f":"Table_prices[[#This Row],[ITEMNMBR]]","v":4655},"Gardening Gift Basket - Fiskars","RETAIL",99.99]
[4656,{"$f":"Table_prices[[#This Row],[ITEMNMBR]]","v":4656},"Classic Gardening Gift Basket","RETAIL",69.989999999999995]
[4657,{"$f":"Table_prices[[#This Row],[ITEMNMBR]]","v":4657},"French Watering Can - Mother's Day Gift Basket","RETAIL",49.99]
[4658,{"$f":"Table_prices[[#This Row],[ITEMNMBR]]","v":4658},"Father's Day - Hitting the Range","RETAIL",49.99]
[4659,{"$f":"Table_prices[[#This Row],[ITEMNMBR]]","v":4659},"Gourmet Garden Tote","RETAIL",59.99]
[4661,{"$f":"Table_prices[[#This Row],[ITEMNMBR]]","v":4661},"Gourmet Garden Tote - Deluxe","RETAIL",89.99]
[4662,{"$f":"Table_prices[[#This Row],[ITEMNMBR]]","v":4662},"Mother's Day - English Watering Can","RETAIL",49.99]
[4663,{"$f":"Table_prices[[#This Row],[ITEMNMBR]]","v":4663},"Pretty In Pink - Gardening Gift Basket","RETAIL",79.989999999999995]
[4664,{"$f":"Table_prices[[#This Row],[ITEMNMBR]]","v":4664},"Hole in One Golf Bag - Golf Gift Basket","RETAIL",59.99]
[4674,{"$f":"Table_prices[[#This Row],[ITEMNMBR]]","v":4674},"Hitting The Range - Golf Gift Basket","RETAIL",49.99]
[4679,{"$f":"Table_prices[[#This Row],[ITEMNMBR]]","v":4679},"19th Hole - Golf Gift Basket (RETIRED)","RETAIL",99.99]
[4682,{"$f":"Table_prices[[#This Row],[ITEMNMBR]]","v":4682},"Golfer's Dream Gift Basket - Golf Gift Basket","RETAIL",69.989999999999995]
[4683,{"$f":"Table_prices[[#This Row],[ITEMNMBR]]","v":4683},"Ladies Tee Time - Golf Gift Basket","RETAIL",54.99]
[4684,{"$f":"Table_prices[[#This Row],[ITEMNMBR]]","v":4684},"Caught The Big One - Fishing Gift Basket","RETAIL",59.99]
[4686,{"$f":"Table_prices[[#This Row],[ITEMNMBR]]","v":4686},"Cheese, Sausage & Crackers Gift Crate","RETAIL",39.99]
[4687,{"$f":"Table_prices[[#This Row],[ITEMNMBR]]","v":4687},"Gourmet Harvest Gift Tower","RETAIL",69.989999999999995]
[4688,{"$f":"Table_prices[[#This Row],[ITEMNMBR]]","v":4688},"Harvest Tower - Cracker","RETAIL",59.99]
[4689,{"$f":"Table_prices[[#This Row],[ITEMNMBR]]","v":4689},"Harvest Tower - Cheese & Sausage","RETAIL",59.99]
[4690,{"$f":"Table_prices[[#This Row],[ITEMNMBR]]","v":4690},"Decadent Orchard Gift Tower","RETAIL",69.989999999999995]
[4691,{"$f":"Table_prices[[#This Row],[ITEMNMBR]]","v":4691},"Season's Sampler - Fruit Gift Basket","RETAIL",39.99]
[4692,{"$f":"Table_prices[[#This Row],[ITEMNMBR]]","v":4692},"Purely Fruit - Fruit Gift Basket","RETAIL",39.99]
[4693,{"$f":"Table_prices[[#This Row],[ITEMNMBR]]","v":4693},"An Apple A Day - Fruit Gift Basket","RETAIL",59.99]
[4699,{"$f":"Table_prices[[#This Row],[ITEMNMBR]]","v":4699},"Orchard's Abundance - Fruit Gift Basket","RETAIL",79.989999999999995]
[4700,{"$f":"Table_prices[[#This Row],[ITEMNMBR]]","v":4700},"Peak of the Harvest - Fruit Gift Basket","RETAIL",79.989999999999995]
["4700A",{"$f":"Table_prices[[#This Row],[ITEMNMBR]]","v":"4700A"},"Nature's Picnic - Fruit Gift Basket","RETAIL",69.989999999999995]
[4701,{"$f":"Table_prices[[#This Row],[ITEMNMBR]]","v":4701},"Bountiful Harvest - Fruit Gift Basket","RETAIL",119.99]
[4704,{"$f":"Table_prices[[#This Row],[ITEMNMBR]]","v":4704},"Estate Collection - Fruit Gift Basket","RETAIL",149.99]
[4705,{"$f":"Table_prices[[#This Row],[ITEMNMBR]]","v":4705},"Scrumptiously Delicious - Fruit Gift Basket","RETAIL",69.989999999999995]
[4706,{"$f":"Table_prices[[#This Row],[ITEMNMBR]]","v":4706},"Fruit & Sweets (Name TBD)","RETAIL",89.99]
[4707,{"$f":"Table_prices[[#This Row],[ITEMNMBR]]","v":4707},"Fruit & Healthy Gift Basket","RETAIL",89.99]
[4709,{"$f":"Table_prices[[#This Row],[ITEMNMBR]]","v":4709},"Fruit & Baked Goods Gift Basket","RETAIL",99.99]
[4710,{"$f":"Table_prices[[#This Row],[ITEMNMBR]]","v":4710},"Fruit & Chocolate Dipping Delight","RETAIL",59.99]
[4711,{"$f":"Table_prices[[#This Row],[ITEMNMBR]]","v":4711},"Double Dipped Fruit Indulgence (RETIRED)","RETAIL",99.99]
[4712,{"$f":"Table_prices[[#This Row],[ITEMNMBR]]","v":4712},"Fruit & Chocolate Fondue Festival (RETIRED)","RETAIL",149.99]
[4713,{"$f":"Table_prices[[#This Row],[ITEMNMBR]]","v":4713},"Strawberry Festival (RETIRED)","RETAIL",39.99]
[4714,{"$f":"Table_prices[[#This Row],[ITEMNMBR]]","v":4714},"Butterfly Tea Time Gift Basket","RETAIL",49.99]
[4715,{"$f":"Table_prices[[#This Row],[ITEMNMBR]]","v":4715},"Holiday Gift Tote","RETAIL",37.99]
[4716,{"$f":"Table_prices[[#This Row],[ITEMNMBR]]","v":4716},"Barefoot Contessa Stack","RETAIL",44.99]
[4717,{"$f":"Table_prices[[#This Row],[ITEMNMBR]]","v":4717},"Kitchen of Barefoot Contessa","RETAIL",79.989999999999995]
[4718,{"$f":"Table_prices[[#This Row],[ITEMNMBR]]","v":4718},"Cooking with Barefoot Contessa","RETAIL",129.99]
[4719,{"$f":"Table_prices[[#This Row],[ITEMNMBR]]","v":4719},"Ultimate Barefoot Contessa","RETAIL",179.99]
[4720,{"$f":"Table_prices[[#This Row],[ITEMNMBR]]","v":4720},"Breakfast With The Barefoot Contessa","RETAIL",49.99]
[4740,{"$f":"Table_prices[[#This Row],[ITEMNMBR]]","v":4740},"Brownie Sundae With The Barefoot Contessa","RETAIL",39.99]
[4741,{"$f":"Table_prices[[#This Row],[ITEMNMBR]]","v":4741},"Dessert With The Barefoot Contessa","RETAIL",59.99]
[4742,{"$f":"Table_prices[[#This Row],[ITEMNMBR]]","v":4742},"Microbrew Beer Bucket Gift Basket - 6 Beers","RETAIL",69.989999999999995]
[4749,{"$f":"Table_prices[[#This Row],[ITEMNMBR]]","v":4749},"Payne Mason - Microbrew 6 Pack Beer Bucket with Torpedo Golden Cigar","RETAIL",89.99]
[4750,{"$f":"Table_prices[[#This Row],[ITEMNMBR]]","v":4750},"Beer My Valentine - 6 Beers","RETAIL",69.989999999999995]
[4751,{"$f":"Table_prices[[#This Row],[ITEMNMBR]]","v":4751},"Gourmet Beer Bucket with Heineken Beer -","RETAIL",79.989999999999995]
[4752,{"$f":"Table_prices[[#This Row],[ITEMNMBR]]","v":4752},"Around the World Beer Bucket - 6 beers","RETAIL",79.989999999999995]
[4753,{"$f":"Table_prices[[#This Row],[ITEMNMBR]]","v":4753},"You Are My World - 6 beers","RETAIL",89.99]
["4753CP",{"$f":"Table_prices[[#This Row],[ITEMNMBR]]","v":"4753CP"},"Around the World Beer Bucket - 12 beers","RETAIL",119.99]
[4754,{"$f":"Table_prices[[#This Row],[ITEMNMBR]]","v":4754},"Payne Mason - Around the World 12 Pack Beer Bucket with Torpedo Golden Cigar","RETAIL",139.99]
[4755,{"$f":"Table_prices[[#This Row],[ITEMNMBR]]","v":4755},"You Are My World - 12 beers","RETAIL",119.99]
[4756,{"$f":"Table_prices[[#This Row],[ITEMNMBR]]","v":4756},"Irish Beer Bucket - 6 beers","RETAIL",69.989999999999995]
[4757,{"$f":"Table_prices[[#This Row],[ITEMNMBR]]","v":4757},"Light Beer Bucket - 6 beers (RETIRED)","RETAIL",69.989999999999995]
[4758,{"$f":"Table_prices[[#This Row],[ITEMNMBR]]","v":4758},"Light Beer Bucket - 3 beers","RETAIL",39.99]
[4790,{"$f":"Table_prices[[#This Row],[ITEMNMBR]]","v":4790},"Microbrew Beer Bucket - 3 beers","RETAIL",39.99]
[4791,{"$f":"Table_prices[[#This Row],[ITEMNMBR]]","v":4791},"Beer-B-Q Bucket Classic","RETAIL",39.99]
[4792,{"$f":"Table_prices[[#This Row],[ITEMNMBR]]","v":4792},"Beer-B-Q Bucket Deluxe","RETAIL",79.989999999999995]
[4800,{"$f":"Table_prices[[#This Row],[ITEMNMBR]]","v":4800},"Beer and Cigar Gift Set","RETAIL",199.99]
[4801,{"$f":"Table_prices[[#This Row],[ITEMNMBR]]","v":4801},"Valentine's Day - Teddy Bear and Treats Basket","RETAIL",59.99]
[4802,{"$f":"Table_prices[[#This Row],[ITEMNMBR]]","v":4802},"Sweets for My Valentine","RETAIL",27.99]
[5002,{"$f":"Table_prices[[#This Row],[ITEMNMBR]]","v":5002},"Snacks for My Valentine","RETAIL",39.99]
[5003,{"$f":"Table_prices[[#This Row],[ITEMNMBR]]","v":5003},"Valentine's Day - Teddy Bear and Champagne Basket","RETAIL",89.99]
[5004,{"$f":"Table_prices[[#This Row],[ITEMNMBR]]","v":5004},"Penguin Parade - Valentine Gift Stack","RETAIL",29.99]
[5007,{"$f":"Table_prices[[#This Row],[ITEMNMBR]]","v":5007},"Valentine's - Fruit & Chocolate Fondue For Two","RETAIL",59.99]
[5010,{"$f":"Table_prices[[#This Row],[ITEMNMBR]]","v":5010},"Sending All My Love Valentine's Day Care Package","RETAIL",49.99]
[5011,{"$f":"Table_prices[[#This Row],[ITEMNMBR]]","v":5011},"My Heart's Not LION - Valentine's Day Gift Basket","RETAIL",39.99]
[5013,{"$f":"Table_prices[[#This Row],[ITEMNMBR]]","v":5013},"Cupid's Valentine's Day Care Package","RETAIL",59.99]
[5014,{"$f":"Table_prices[[#This Row],[ITEMNMBR]]","v":5014},"Valentine's - Breakfast In Bed Gift Basket","RETAIL",79.989999999999995]
[5015,{"$f":"Table_prices[[#This Row],[ITEMNMBR]]","v":5015},"Wild About You - Valentine's Day Gift Basket","RETAIL",59.99]
[5016,{"$f":"Table_prices[[#This Row],[ITEMNMBR]]","v":5016},"Toadally Yours - Valentine's Day Gift Basket","RETAIL",39.99]
[5017,{"$f":"Table_prices[[#This Row],[ITEMNMBR]]","v":5017},"Valentine's Day Gift Basket - Hearts A Flutter","RETAIL",37.99]
[5018,{"$f":"Table_prices[[#This Row],[ITEMNMBR]]","v":5018},"Valentine's Day Gift Basket - Crazy About You","RETAIL",54.99]
[5019,{"$f":"Table_prices[[#This Row],[ITEMNMBR]]","v":5019},"Valentine's Day Gift Basket - Hugs & Kisses","RETAIL",79.989999999999995]
[5020,{"$f":"Table_prices[[#This Row],[ITEMNMBR]]","v":5020},"Valentine's Day Gift Basket - Straight From The Heart","RETAIL",49.99]
[5021,{"$f":"Table_prices[[#This Row],[ITEMNMBR]]","v":5021},"Valentine's - Sweets For My Sweetheart","RETAIL",79.989999999999995]
[5022,{"$f":"Table_prices[[#This Row],[ITEMNMBR]]","v":5022},"Valentine's Day Gift Basket - An Evening Of Romance","RETAIL",149.99]
[5024,{"$f":"Table_prices[[#This Row],[ITEMNMBR]]","v":5024},"Valentine's - Be My Valentine","RETAIL",49.99]
[5030,{"$f":"Table_prices[[#This Row],[ITEMNMBR]]","v":5030},"Valentine's - Sweets for My Sweetheart","RETAIL",24.99]
[5031,{"$f":"Table_prices[[#This Row],[ITEMNMBR]]","v":5031},"Valentine's - Chocolate Dreams","RETAIL",89.99]
[5032,{"$f":"Table_prices[[#This Row],[ITEMNMBR]]","v":5032},"Valentine Fruit Basket","RETAIL",79.989999999999995]
[5034,{"$f":"Table_prices[[#This Row],[ITEMNMBR]]","v":5034},"Valentine's Fruit - Sub Assembly","RETAIL",0]
[5035,{"$f":"Table_prices[[#This Row],[ITEMNMBR]]","v":5035},"Valentine's Day Gifts Special Option 1","RETAIL",169.99]
[5039,{"$f":"Table_prices[[#This Row],[ITEMNMBR]]","v":5039},"Valentine's Day Gifts Special Option 2","RETAIL",259.99]
[5040,{"$f":"Table_prices[[#This Row],[ITEMNMBR]]","v":5040},"Valentine's Day Gifts Special Option 3","RETAIL",199.99]
[5050,{"$f":"Table_prices[[#This Row],[ITEMNMBR]]","v":5050},"Valentine's Day Gifts Special option 4","RETAIL",349.99]
[5051,{"$f":"Table_prices[[#This Row],[ITEMNMBR]]","v":5051},"Valentine's Day Gifts Special Option 5","RETAIL",399.99]
[5052,{"$f":"Table_prices[[#This Row],[ITEMNMBR]]","v":5052},"Valentine's Day Gifts Special Option 6","RETAIL",525.99]
[5055,{"$f":"Table_prices[[#This Row],[ITEMNMBR]]","v":5055},"Valentine's Day Gifts Special Option 7","RETAIL",635.99]
[5060,{"$f":"Table_prices[[#This Row],[ITEMNMBR]]","v":5060},"Valentine's Day Gifts Special Option 8","RETAIL",549.99]
[5068,{"$f":"Table_prices[[#This Row],[ITEMNMBR]]","v":5068},"Valentine's Day Gifts Special Option 9","RETAIL",579.99]
[5069,{"$f":"Table_prices[[#This Row],[ITEMNMBR]]","v":5069},"Valetine's Day Gifts Special Option 10","RETAIL",199.99]
[5070,{"$f":"Table_prices[[#This Row],[ITEMNMBR]]","v":5070},"Valentine's Day Gifts Special Option 11","RETAIL",229.99]
[5071,{"$f":"Table_prices[[#This Row],[ITEMNMBR]]","v":5071},"Snacks For My Sweetheart","RETAIL",34.99]
[5072,{"$f":"Table_prices[[#This Row],[ITEMNMBR]]","v":5072},"Easter Orchard Fruit Basket","RETAIL",69.989999999999995]
[5073,{"$f":"Table_prices[[#This Row],[ITEMNMBR]]","v":5073},"Easter Candy and Toys Basket","RETAIL",79.989999999999995]
[5080,{"$f":"Table_prices[[#This Row],[ITEMNMBR]]","v":5080},"Double Bunny Easter Basket","RETAIL",109.99]
[5081,{"$f":"Table_prices[[#This Row],[ITEMNMBR]]","v":5081},"Easter - Care Package","RETAIL",49.99]
[5082,{"$f":"Table_prices[[#This Row],[ITEMNMBR]]","v":5082},"Hippity Hoppity Easter Gift Stack","RETAIL",29.99]
[5086,{"$f":"Table_prices[[#This Row],[ITEMNMBR]]","v":5086},"Classic Easter Bunny Gift Basket","RETAIL",39.99]
[5087,{"$f":"Table_prices[[#This Row],[ITEMNMBR]]","v":5087},"Easter Egg Hunt Gift Basket","RETAIL",69.989999999999995]
[5088,{"$f":"Table_prices[[#This Row],[ITEMNMBR]]","v":5088},"Easter Morning Breakfast Gift Basket","RETAIL",79.989999999999995]
[5089,{"$f":"Table_prices[[#This Row],[ITEMNMBR]]","v":5089},"Ultimate Easter Gift Basket","RETAIL",99.99]
[5090,{"$f":"Table_prices[[#This Row],[ITEMNMBR]]","v":5090},"Look What the Easter Bunny Brought Me","RETAIL",149.99]
[5092,{"$f":"Table_prices[[#This Row],[ITEMNMBR]]","v":5092},"Easter Red Wine & Chocolate Basket -","RETAIL",99.99]
[5093,{"$f":"Table_prices[[#This Row],[ITEMNMBR]]","v":5093},"Red Wine & Dark Chocolate Easter Basket - Ravenswood Red","RETAIL",89.99]
[5094,{"$f":"Table_prices[[#This Row],[ITEMNMBR]]","v":5094},"Red Wine & Dark Chocolate Easter Basket - Catena Malbec","RETAIL",99.99]
[5095,{"$f":"Table_prices[[#This Row],[ITEMNMBR]]","v":5095},"Red Wine & Dark Chocolate Easter Basket - Silver Oak Alexander Valley","RETAIL",149.99]
[5097,{"$f":"Table_prices[[#This Row],[ITEMNMBR]]","v":5097},"Easter Sweets & Treats Basket","RETAIL",59.99]
[5098,{"$f":"Table_prices[[#This Row],[ITEMNMBR]]","v":5098},"Easter Champagne & Chocolate Basket -","RETAIL",99.99]
[5099,{"$f":"Table_prices[[#This Row],[ITEMNMBR]]","v":5099},"Round to Remember Golf Bag","RETAIL",69.989999999999995]
[5104,{"$f":"Table_prices[[#This Row],[ITEMNMBR]]","v":5104},"Payne Mason - Round to Remember Golf Bag with Churchill Golden Cigar","RETAIL",89.99]
["5106A",{"$f":"Table_prices[[#This Row],[ITEMNMBR]]","v":"5106A"},"Father's Day - Hole In One","RETAIL",59.99]
["5106B",{"$f":"Table_prices[[#This Row],[ITEMNMBR]]","v":"5106B"},"Father's Day - 19th Hole","RETAIL",99.99]
["5106C",{"$f":"Table_prices[[#This Row],[ITEMNMBR]]","v":"5106C"},"Father's Day - Caught the Big One","RETAIL",59.99]
["5107A",{"$f":"Table_prices[[#This Row],[ITEMNMBR]]","v":"5107A"},"Father's Day - Gourmet Breakfast for Dad","RETAIL",79.989999999999995]
["5107B",{"$f":"Table_prices[[#This Row],[ITEMNMBR]]","v":"5107B"},"Father's Day - Grill Master Gift Basket","RETAIL",79.989999999999995]
["5107C",{"$f":"Table_prices[[#This Row],[ITEMNMBR]]","v":"5107C"},"Father's Day - Garden Master","RETAIL",89.99]
[5108,{"$f":"Table_prices[[#This Row],[ITEMNMBR]]","v":5108},"Bloody Mary Breakfast","RETAIL",69.989999999999995]
[5115,{"$f":"Table_prices[[#This Row],[ITEMNMBR]]","v":5115},"Father's Day - Blue Golf Bag","RETAIL",69.989999999999995]
[5116,{"$f":"Table_prices[[#This Row],[ITEMNMBR]]","v":5116},"Father's Day - Beer-B-Q Bucket Classic","RETAIL",39.99]
[5118,{"$f":"Table_prices[[#This Row],[ITEMNMBR]]","v":5118},"Father's Day - Deluxe Beer-B-Q Bucket","RETAIL",69.989999999999995]
["520-2",{"$f":"Table_prices[[#This Row],[ITEMNMBR]]","v":"520-2"},"Father's Day - Junk Food Bucket Classic","RETAIL",39.99]
[5206,{"$f":"Table_prices[[#This Row],[ITEMNMBR]]","v":5206},"Father's Day - Deluxe Junk Food Bucket","RETAIL",59.99]
[5207,{"$f":"Table_prices[[#This Row],[ITEMNMBR]]","v":5207},"Father's Day - Car Wash Bucket","RETAIL",59.99]
[5209,{"$f":"Table_prices[[#This Row],[ITEMNMBR]]","v":5209},"Father's Day - Deluxe Car Wash Bucket","RETAIL",89.99]
[5210,{"$f":"Table_prices[[#This Row],[ITEMNMBR]]","v":5210},"Father's Day Orchard Fruit Basket","RETAIL",69.989999999999995]
[5215,{"$f":"Table_prices[[#This Row],[ITEMNMBR]]","v":5215},"Mother's Day - Italian Dinner For Mom","RETAIL",79.989999999999995]
[5220,{"$f":"Table_prices[[#This Row],[ITEMNMBR]]","v":5220},"Mother's Day - Classic Gardening Gift Basket","RETAIL",69.989999999999995]
[5225,{"$f":"Table_prices[[#This Row],[ITEMNMBR]]","v":5225},"Mother's Day - Pretty In Pink","RETAIL",79.989999999999995]
[5230,{"$f":"Table_prices[[#This Row],[ITEMNMBR]]","v":5230},"Picture Perfect Golf Bag","RETAIL",69.989999999999995]
[5232,{"$f":"Table_prices[[#This Row],[ITEMNMBR]]","v":5232},"Mother's Day - Breakfast In Bed","RETAIL",79.989999999999995]
[5235,{"$f":"Table_prices[[#This Row],[ITEMNMBR]]","v":5235},"French Watering Can Gardening Gift Basket","RETAIL",49.99]
[5245,{"$f":"Table_prices[[#This Row],[ITEMNMBR]]","v":5245},"Mother's Day - Lady Bug Tote Bag","RETAIL",69.989999999999995]
["525-L",{"$f":"Table_prices[[#This Row],[ITEMNMBR]]","v":"525-L"},"Butterfly Tea Time Mothers Day","RETAIL",49.99]
["525-M",{"$f":"Table_prices[[#This Row],[ITEMNMBR]]","v":"525-M"},"Mother's Day - Strawberry Shortcake","RETAIL",39.99]
["525-S",{"$f":"Table_prices[[#This Row],[ITEMNMBR]]","v":"525-S"},"Mother's Day - Ladies Tee Time Pink Golf Bag","RETAIL",69.989999999999995]
[5258,{"$f":"Table_prices[[#This Row],[ITEMNMBR]]","v":5258},"Mother's Day - Sweets & Treats","RETAIL",59.99]
[5259,{"$f":"Table_prices[[#This Row],[ITEMNMBR]]","v":5259},"English Watering Can Gardening Gift Basket","RETAIL",49.99]
[5260,{"$f":"Table_prices[[#This Row],[ITEMNMBR]]","v":5260},"Mother's Day - Evening of Indulgence Non Alcoholic","RETAIL",69.989999999999995]
[5265,{"$f":"Table_prices[[#This Row],[ITEMNMBR]]","v":5265},"Mother's Day Orchard Fruit Basket","RETAIL",69.989999999999995]
[5270,{"$f":"Table_prices[[#This Row],[ITEMNMBR]]","v":5270},"Mother's Day Fruit Basket Sub-Assembly","RETAIL",0]
[5272,{"$f":"Table_prices[[#This Row],[ITEMNMBR]]","v":5272},"Mother's Day Mini Tote","RETAIL",37.99]
[5310,{"$f":"Table_prices[[#This Row],[ITEMNMBR]]","v":5310},"Evening of Romance Gift Set","RETAIL",27.99]
[5311,{"$f":"Table_prices[[#This Row],[ITEMNMBR]]","v":5311},"Artisan Truffle Box - Hand Dipped 18 pieces  13.5 oz.","RETAIL",29.99]
[5313,{"$f":"Table_prices[[#This Row],[ITEMNMBR]]","v":5313},"Artisan Truffle Box - Hand Dipped 18 pieces  13.5 oz.","RETAIL",100]
[5314,{"$f":"Table_prices[[#This Row],[ITEMNMBR]]","v":5314},"A Hot Affair","RETAIL",34.99]
[5316,{"$f":"Table_prices[[#This Row],[ITEMNMBR]]","v":5316},"Margarita Madness Gift Basket","RETAIL",59.99]
[5318,{"$f":"Table_prices[[#This Row],[ITEMNMBR]]","v":5318},"Ultimate Margarita Madness Gift Basket","RETAIL",119.99]
[5330,{"$f":"Table_prices[[#This Row],[ITEMNMBR]]","v":5330},"Margarita Stack","RETAIL",34.99]
["5330A",{"$f":"Table_prices[[#This Row],[ITEMNMBR]]","v":"5330A"},"Margarita Gift Basket","RETAIL",64.989999999999995]
["5330B",{"$f":"Table_prices[[#This Row],[ITEMNMBR]]","v":"5330B"},"Dirty Martini Stack","RETAIL",34.99]
["5330C",{"$f":"Table_prices[[#This Row],[ITEMNMBR]]","v":"5330C"},"Apple Martini Stack","RETAIL",39.99]
["534L",{"$f":"Table_prices[[#This Row],[ITEMNMBR]]","v":"534L"},"Cosmopolitan Stack","RETAIL",34.99]
["534M",{"$f":"Table_prices[[#This Row],[ITEMNMBR]]","v":"534M"},"Apple Martini Gift Basket","RETAIL",79.989999999999995]
["534S",{"$f":"Table_prices[[#This Row],[ITEMNMBR]]","v":"534S"},"Cosmopolitan Gift Basket","RETAIL",69.989999999999995]
["534XL",{"$f":"Table_prices[[#This Row],[ITEMNMBR]]","v":"534XL"},"Cocktail Party Gift Basket - Premium","RETAIL",119.99]
[5406,{"$f":"Table_prices[[#This Row],[ITEMNMBR]]","v":5406},"Cocktail Party Gift Basket - Deluxe","RETAIL",159.99]
[5520,{"$f":"Table_prices[[#This Row],[ITEMNMBR]]","v":5520},"Cocktail Party Gift Basket - Ultimate","RETAIL",219.99]
[5521,{"$f":"Table_prices[[#This Row],[ITEMNMBR]]","v":5521},"Bloody Mary Stack","RETAIL",34.99]
[5522,{"$f":"Table_prices[[#This Row],[ITEMNMBR]]","v":5522},"Bloody Mary Gift Basket","RETAIL",79.989999999999995]
[5523,{"$f":"Table_prices[[#This Row],[ITEMNMBR]]","v":5523},"Mojito Stack","RETAIL",34.99]
[5524,{"$f":"Table_prices[[#This Row],[ITEMNMBR]]","v":5524},"Mojito Gift Basket","RETAIL",64.989999999999995]
[5525,{"$f":"Table_prices[[#This Row],[ITEMNMBR]]","v":5525},"St. Patrick's Day - Kiss Me I'm Irish","RETAIL",59.99]
[5526,{"$f":"Table_prices[[#This Row],[ITEMNMBR]]","v":5526},"St. Patrick's Day - Irish Beer Bucket","RETAIL",69.989999999999995]
[5527,{"$f":"Table_prices[[#This Row],[ITEMNMBR]]","v":5527},"St. Patrick's Day - Luck Of The Irish","RETAIL",39.99]
[5528,{"$f":"Table_prices[[#This Row],[ITEMNMBR]]","v":5528},"Halloween - All Hallows Eve Halloween Mug","RETAIL",17.989999999999998]
[5560,{"$f":"Table_prices[[#This Row],[ITEMNMBR]]","v":5560},"Halloween - Pick of the Patch Halloween Mug","RETAIL",17.989999999999998]
[5561,{"$f":"Table_prices[[#This Row],[ITEMNMBR]]","v":5561},"Halloween - Spooktacular Sweets Halloween Mug","RETAIL",17.989999999999998]
[5562,{"$f":"Table_prices[[#This Row],[ITEMNMBR]]","v":5562},"Halloween - Haunted Harvest Sweets & Treats","RETAIL",19.989999999999998]
[5563,{"$f":"Table_prices[[#This Row],[ITEMNMBR]]","v":5563},"Halloween - No Tricks... Only Treats Halloween Gift Basket","RETAIL",39.99]
[5564,{"$f":"Table_prices[[#This Row],[ITEMNMBR]]","v":5564},"Halloween - Care Package Program","RETAIL",34.99]
[5565,{"$f":"Table_prices[[#This Row],[ITEMNMBR]]","v":5565},"Fall Festival Treat","RETAIL",34.99]
[5566,{"$f":"Table_prices[[#This Row],[ITEMNMBR]]","v":5566},"Halloween - Choc-O-Lantern Halloween Gift Basket","RETAIL",34.99]
[5567,{"$f":"Table_prices[[#This Row],[ITEMNMBR]]","v":5567},"Halloween - Candy-O-Lantern Halloween Gift Basket","RETAIL",34.99]
[5568,{"$f":"Table_prices[[#This Row],[ITEMNMBR]]","v":5568},"Halloween - Cat's Meow Halloween Gift Basket (RETIRED)","RETAIL",29.99]
[5600,{"$f":"Table_prices[[#This Row],[ITEMNMBR]]","v":5600},"Halloween - Witch's Cauldron Halloween Gift Basket","RETAIL",49.99]
["5600CP",{"$f":"Table_prices[[#This Row],[ITEMNMBR]]","v":"5600CP"},"Halloween - Haunted Halloween Care Package","RETAIL",59.99]
[5601,{"$f":"Table_prices[[#This Row],[ITEMNMBR]]","v":5601},"Halloween Spooky Snack Tin","RETAIL",29.99]
["5601CP",{"$f":"Table_prices[[#This Row],[ITEMNMBR]]","v":"5601CP"},"Spooky Eyes Snack Tin","RETAIL",39.99]
[5602,{"$f":"Table_prices[[#This Row],[ITEMNMBR]]","v":5602},"1 Gallon Cat Tin with Caramel Apple Popcorn","RETAIL",19.989999999999998]
["5602CP",{"$f":"Table_prices[[#This Row],[ITEMNMBR]]","v":"5602CP"},"Haunted House Snack Tin","RETAIL",39.99]
[5603,{"$f":"Table_prices[[#This Row],[ITEMNMBR]]","v":5603},"Cupcake Time Gift Basket Stack","RETAIL",29.99]
["5603CP",{"$f":"Table_prices[[#This Row],[ITEMNMBR]]","v":"5603CP"},"Cupcake Party Gift Basket","RETAIL",59.99]
[5604,{"$f":"Table_prices[[#This Row],[ITEMNMBR]]","v":5604},"Cupcake Smorgasbord Gift Basket","RETAIL",99.99]
["5604CP",{"$f":"Table_prices[[#This Row],[ITEMNMBR]]","v":"5604CP"},"Nostalgic Candy Gift Box (RETIRED)","RETAIL",29.99]
[5605,{"$f":"Table_prices[[#This Row],[ITEMNMBR]]","v":5605},"Junk Food Bucket Standard","RETAIL",24.99]
[5607,{"$f":"Table_prices[[#This Row],[ITEMNMBR]]","v":5607},"Deluxe Junk Food Bucket","RETAIL",39.99]
["5607CP",{"$f":"Table_prices[[#This Row],[ITEMNMBR]]","v":"5607CP"},"Nostalgic Candy Gift Crate","RETAIL",34.99]
["5610CP",{"$f":"Table_prices[[#This Row],[ITEMNMBR]]","v":"5610CP"},"NAME PENDING - (dual SKU w. Sweets for My Sweetheart)","RETAIL",24.99]
["5611CP",{"$f":"Table_prices[[#This Row],[ITEMNMBR]]","v":"5611CP"},"NAME PENDING - (dual SKU w. Snacks for My Sweetheart)","RETAIL",39.99]
[5620,{"$f":"Table_prices[[#This Row],[ITEMNMBR]]","v":5620},"Popcorn Lovers/Night At The Movies Gift Basket Premium","RETAIL",119.99]
[5621,{"$f":"Table_prices[[#This Row],[ITEMNMBR]]","v":5621},"Popcorn Lovers/Night At The Movies Gift Basket - Classic","RETAIL",99.99]
[5622,{"$f":"Table_prices[[#This Row],[ITEMNMBR]]","v":5622},"Popcorn Lovers/Night At The Movies Gift Basket Stack","RETAIL",37.99]
[5623,{"$f":"Table_prices[[#This Row],[ITEMNMBR]]","v":5623},"Roll Out the Red Carpet - Popcorn and Snacks Basket","RETAIL",74.989999999999995]
[5624,{"$f":"Table_prices[[#This Row],[ITEMNMBR]]","v":5624},"Roll Out the Red Carpet - Popcorn and Snacks Basket","RETAIL",79.989999999999995]
[5625,{"$f":"Table_prices[[#This Row],[ITEMNMBR]]","v":5625},"Popcorn Perfection Gift Basket","RETAIL",59.99]
[5626,{"$f":"Table_prices[[#This Row],[ITEMNMBR]]","v":5626},"Super Salad Gift Basket","RETAIL",79.989999999999995]
[5627,{"$f":"Table_prices[[#This Row],[ITEMNMBR]]","v":5627},"Salad Stack","RETAIL",47.99]
[5628,{"$f":"Table_prices[[#This Row],[ITEMNMBR]]","v":5628},"Keepsake Colander","RETAIL",79.989999999999995]
[5629,{"$f":"Table_prices[[#This Row],[ITEMNMBR]]","v":5629},"Taste of Italy - Italian Gift Basket","RETAIL",59.99]
[5720,{"$f":"Table_prices[[#This Row],[ITEMNMBR]]","v":5720},"Table in Tuscany - Italian Gift Basket","RETAIL",89.99]
[5721,{"$f":"Table_prices[[#This Row],[ITEMNMBR]]","v":5721},"Tour of Italy  - Italian Gift Basket","RETAIL",119.99]
[5722,{"$f":"Table_prices[[#This Row],[ITEMNMBR]]","v":5722},"Bella Italiana - Italian Gift Basket","RETAIL",159.99]
[5723,{"$f":"Table_prices[[#This Row],[ITEMNMBR]]","v":5723},"San Pellegrino - Italian Gift Basket","RETAIL",79.989999999999995]
[5724,{"$f":"Table_prices[[#This Row],[ITEMNMBR]]","v":5724},"Chianti Wine - Italian Gift Basket","RETAIL",99.99]
[5725,{"$f":"Table_prices[[#This Row],[ITEMNMBR]]","v":5725},"New England Breakfast Stack","RETAIL",37.99]
[5726,{"$f":"Table_prices[[#This Row],[ITEMNMBR]]","v":5726},"New England Breakfast Gift Basket Deluxe","RETAIL",109.99]
[5727,{"$f":"Table_prices[[#This Row],[ITEMNMBR]]","v":5727},"New England Breakfast Gift Basket Classic","RETAIL",69.989999999999995]
[5728,{"$f":"Table_prices[[#This Row],[ITEMNMBR]]","v":5728},"Ultimate New England Brunch Gift Basket","RETAIL",159.99]
[5729,{"$f":"Table_prices[[#This Row],[ITEMNMBR]]","v":5729},"Tex-Mex Stack","RETAIL",34.99]
[5730,{"$f":"Table_prices[[#This Row],[ITEMNMBR]]","v":5730},"Tex-Mex Gift Basket - Premium","RETAIL",74.989999999999995]
[5731,{"$f":"Table_prices[[#This Row],[ITEMNMBR]]","v":5731},"Tex-Mex Gift Basket - Deluxe","RETAIL",179.99]
["573A",{"$f":"Table_prices[[#This Row],[ITEMNMBR]]","v":"573A"},"Tex-Mex Gift Basket - Classic","RETAIL",69.989999999999995]
["573B",{"$f":"Table_prices[[#This Row],[ITEMNMBR]]","v":"573B"},"Tex-Mex Gift Basket - Premium","RETAIL",89.99]
["573C",{"$f":"Table_prices[[#This Row],[ITEMNMBR]]","v":"573C"},"Pizza Stack (RETIRED)","RETAIL",39.99]
["573D",{"$f":"Table_prices[[#This Row],[ITEMNMBR]]","v":"573D"},"Gourmet Pizza Making Gift Basket","RETAIL",99.99]
["573E",{"$f":"Table_prices[[#This Row],[ITEMNMBR]]","v":"573E"},"Ice Cream Smorgasbord - Ice Cream Gift Basket (RETIRED)","RETAIL",99.99]
["573F",{"$f":"Table_prices[[#This Row],[ITEMNMBR]]","v":"573F"},"Ice Cream Party - Ice Cream Gift Stack (RETIRED)","RETAIL",39.99]
["573G",{"$f":"Table_prices[[#This Row],[ITEMNMBR]]","v":"573G"},"Ice Cream Social - Ice Cream Gift Basket (RETIRED)","RETAIL",69.989999999999995]
["573H",{"$f":"Table_prices[[#This Row],[ITEMNMBR]]","v":"573H"},"Bottle Board, Cheese, Sausage and Crackers","RETAIL",39.99]
["573I",{"$f":"Table_prices[[#This Row],[ITEMNMBR]]","v":"573I"},"Bread Board & Dipping Oil","RETAIL",29.99]
["573J",{"$f":"Table_prices[[#This Row],[ITEMNMBR]]","v":"573J"},"Get Well Soup Gift Stack","RETAIL",49.99]
["573K",{"$f":"Table_prices[[#This Row],[ITEMNMBR]]","v":"573K"},"Soup Stack","RETAIL",49.99]
["573L",{"$f":"Table_prices[[#This Row],[ITEMNMBR]]","v":"573L"},"Get Well Basket","RETAIL",79.989999999999995]
["573M",{"$f":"Table_prices[[#This Row],[ITEMNMBR]]","v":"573M"},"Soup Premium","RETAIL",129.99]
["573N",{"$f":"Table_prices[[#This Row],[ITEMNMBR]]","v":"573N"},"Soup Deluxe","RETAIL",179.99]
["573P",{"$f":"Table_prices[[#This Row],[ITEMNMBR]]","v":"573P"},"Ultimate Get Well Gift Basket","RETAIL",99.99]
["573Q",{"$f":"Table_prices[[#This Row],[ITEMNMBR]]","v":"573Q"},"Tea & Cookies Stack","RETAIL",49.99]
[5787,{"$f":"Table_prices[[#This Row],[ITEMNMBR]]","v":5787},"Tea & Cookies Gift Basket Classic","RETAIL",69.989999999999995]
[5788,{"$f":"Table_prices[[#This Row],[ITEMNMBR]]","v":5788},"Tea & Cookies Gift Basket Premium","RETAIL",139.99]
[5798,{"$f":"Table_prices[[#This Row],[ITEMNMBR]]","v":5798},"Ravenswood White Wine Gift Basket","RETAIL",69.989999999999995]
[5900,{"$f":"Table_prices[[#This Row],[ITEMNMBR]]","v":5900},"Ravenswood Red Wine Gift Basket","RETAIL",69.989999999999995]
[5901,{"$f":"Table_prices[[#This Row],[ITEMNMBR]]","v":5901},"Wild Horse Duo Wine Gift Basket","RETAIL",114.99]
[5904,{"$f":"Table_prices[[#This Row],[ITEMNMBR]]","v":5904},"Wild Horse Trio Wine Gift Basket","RETAIL",149.99]
[5930,{"$f":"Table_prices[[#This Row],[ITEMNMBR]]","v":5930},"Wine Party Picnic Gift Basket -","RETAIL",89.99]
[5950,{"$f":"Table_prices[[#This Row],[ITEMNMBR]]","v":5950},"Cakebread Whites Wine Gift Basket","RETAIL",199.99]
[5951,{"$f":"Table_prices[[#This Row],[ITEMNMBR]]","v":5951},"Cakebread Reds Wine Gift Basket","RETAIL",249.99]
[5952,{"$f":"Table_prices[[#This Row],[ITEMNMBR]]","v":5952},"Cakebread Vineyard Tour - Quatro Wine Gift Basket","RETAIL",399.99]
[5954,{"$f":"Table_prices[[#This Row],[ITEMNMBR]]","v":5954},"Country Inn Breakfast Gift Basket","RETAIL",89.99]
[6002,{"$f":"Table_prices[[#This Row],[ITEMNMBR]]","v":6002},"\"Signature Series\"  Breakfast Gift Basket","RETAIL",149.99]
[6003,{"$f":"Table_prices[[#This Row],[ITEMNMBR]]","v":6003},"Silver Oak Duo - Red Wine Gift Basket","RETAIL",299.99]
[6014,{"$f":"Table_prices[[#This Row],[ITEMNMBR]]","v":6014},"Silver Oak Showcase - Trio Wine Basket","RETAIL",399.99]
[6016,{"$f":"Table_prices[[#This Row],[ITEMNMBR]]","v":6016},"Catena Duo - Argentinean Wine Gift Basket","RETAIL",129.99]
[6020,{"$f":"Table_prices[[#This Row],[ITEMNMBR]]","v":6020},"Red Wine & Dark Chocolate - Les Dauphins","RETAIL",89.99]
[6021,{"$f":"Table_prices[[#This Row],[ITEMNMBR]]","v":6021},"Red Wine & Dark Chocolate - Catena Malbec","RETAIL",109.99]
[6115,{"$f":"Table_prices[[#This Row],[ITEMNMBR]]","v":6115},"Red Wine & Dark Chocolate - Silver Oak Alexander Valley","RETAIL",199.99]
[6170,{"$f":"Table_prices[[#This Row],[ITEMNMBR]]","v":6170},"Champagne & Truffles - La Marca","RETAIL",99.99]
[6190,{"$f":"Table_prices[[#This Row],[ITEMNMBR]]","v":6190},"Champagne & Truffles - Veuve","RETAIL",149.99]
[6195,{"$f":"Table_prices[[#This Row],[ITEMNMBR]]","v":6195},"Champagne & Truffles - Dom Perignon","RETAIL",269.99]
[6196,{"$f":"Table_prices[[#This Row],[ITEMNMBR]]","v":6196},"Red Wine Duo & Chocolate Suitcase","RETAIL",189.99]
[6198,{"$f":"Table_prices[[#This Row],[ITEMNMBR]]","v":6198},"Payne Mason - Red Wine & Dark Chocolate Suitcase with Torpedo Barber Cigar","RETAIL",209.99]
[6236,{"$f":"Table_prices[[#This Row],[ITEMNMBR]]","v":6236},"Wine Lovers Suitcase Trio","RETAIL",249.99]
[6247,{"$f":"Table_prices[[#This Row],[ITEMNMBR]]","v":6247},"Champagne & Chocolate Suitcase","RETAIL",189.99]
[6252,{"$f":"Table_prices[[#This Row],[ITEMNMBR]]","v":6252},"Platinum Collection Wine Suitcase","RETAIL",174.99]
[6253,{"$f":"Table_prices[[#This Row],[ITEMNMBR]]","v":6253},"Ultimate Dom Perignon Selection","RETAIL",399.99]
[6254,{"$f":"Table_prices[[#This Row],[ITEMNMBR]]","v":6254},"Day in Paris Gift Basket","RETAIL",119.99]
[6256,{"$f":"Table_prices[[#This Row],[ITEMNMBR]]","v":6256},"Taste of Europe Gift Basket","RETAIL",229.99]
[6257,{"$f":"Table_prices[[#This Row],[ITEMNMBR]]","v":6257},"Afternoon in Paris","RETAIL",159.99]
[6258,{"$f":"Table_prices[[#This Row],[ITEMNMBR]]","v":6258},"Red Wine Countryside Gift Basket","RETAIL",49.99]
[6261,{"$f":"Table_prices[[#This Row],[ITEMNMBR]]","v":6261},"White Wine Countryside Gift Basket","RETAIL",49.99]
[6262,{"$f":"Table_prices[[#This Row],[ITEMNMBR]]","v":6262},"Cakebread Duo - Cabernet & Chardonnay","RETAIL",259.99]
[6265,{"$f":"Table_prices[[#This Row],[ITEMNMBR]]","v":6265},"Red Wine Showcase Gift Basket","RETAIL",139.99]
[6266,{"$f":"Table_prices[[#This Row],[ITEMNMBR]]","v":6266},"Premier Selections Wine Gift Basket","RETAIL",124.99]
[6268,{"$f":"Table_prices[[#This Row],[ITEMNMBR]]","v":6268},"Classic Red Wine Gift Basket","RETAIL",69.989999999999995]
[6273,{"$f":"Table_prices[[#This Row],[ITEMNMBR]]","v":6273},"Classic White Wine Gift Basket","RETAIL",69.989999999999995]
[6276,{"$f":"Table_prices[[#This Row],[ITEMNMBR]]","v":6276},"Wine Cellar Collection Gift Basket","RETAIL",159.99]
[6277,{"$f":"Table_prices[[#This Row],[ITEMNMBR]]","v":6277},"Vineyard Tour Trio Wine Gift Basket","RETAIL",189.99]
[6280,{"$f":"Table_prices[[#This Row],[ITEMNMBR]]","v":6280},"Italian Dinner for Two Wine Gift Basket","RETAIL",0]
[6282,{"$f":"Table_prices[[#This Row],[ITEMNMBR]]","v":6282},"Wine Party Picnic - Red & White Duo in Wire","RETAIL",89.99]
[6284,{"$f":"Table_prices[[#This Row],[ITEMNMBR]]","v":6284},"Truffles Qty 2","RETAIL",4.99]
[6288,{"$f":"Table_prices[[#This Row],[ITEMNMBR]]","v":6288},"Christmas Stocking with Coal","RETAIL",9.99]
[6289,{"$f":"Table_prices[[#This Row],[ITEMNMBR]]","v":6289},"Christmas Stocking with Coal","RETAIL",9.99]
[6292,{"$f":"Table_prices[[#This Row],[ITEMNMBR]]","v":6292},"A Taste of Christmas Gift Basket","RETAIL",34.99]
[6326,{"$f":"Table_prices[[#This Row],[ITEMNMBR]]","v":6326},"Christmas Care Package","RETAIL",49.99]
[6327,{"$f":"Table_prices[[#This Row],[ITEMNMBR]]","v":6327},"Christmas Snack in Paperboard","RETAIL",34.99]
[6328,{"$f":"Table_prices[[#This Row],[ITEMNMBR]]","v":6328},"Christmas Gift Basket Stack","RETAIL",29.99]
[6333,{"$f":"Table_prices[[#This Row],[ITEMNMBR]]","v":6333},"Christmas Gift Basket Classic","RETAIL",59.99]
[6334,{"$f":"Table_prices[[#This Row],[ITEMNMBR]]","v":6334},"Christmas Gift Basket Premium","RETAIL",79.989999999999995]
[6335,{"$f":"Table_prices[[#This Row],[ITEMNMBR]]","v":6335},"Christmas Gift Basket Deluxe","RETAIL",99.99]
[6338,{"$f":"Table_prices[[#This Row],[ITEMNMBR]]","v":6338},"Christmas Gift Basket Ultimate","RETAIL",124.99]
[6340,{"$f":"Table_prices[[#This Row],[ITEMNMBR]]","v":6340},"Christmas Corporate ShowStopper","RETAIL",149.99]
[6341,{"$f":"Table_prices[[#This Row],[ITEMNMBR]]","v":6341},"Christmas Snack Jumbo","RETAIL",199.99]
[6342,{"$f":"Table_prices[[#This Row],[ITEMNMBR]]","v":6342},"Christmas Gift Basket Executive Suite Signature Series","RETAIL",249.99]
[6343,{"$f":"Table_prices[[#This Row],[ITEMNMBR]]","v":6343},"Christmas Chocolates Gift Basket Deluxe","RETAIL",149.99]
[6348,{"$f":"Table_prices[[#This Row],[ITEMNMBR]]","v":6348},"Christmas Morning Breakfast Gift Basket","RETAIL",79.989999999999995]
[6349,{"$f":"Table_prices[[#This Row],[ITEMNMBR]]","v":6349},"Boxed Chocolates - Large","RETAIL",29.99]
[6350,{"$f":"Table_prices[[#This Row],[ITEMNMBR]]","v":6350},"Boxed Chocolates - Medium","RETAIL",19.989999999999998]
[6351,{"$f":"Table_prices[[#This Row],[ITEMNMBR]]","v":6351},"Box of Chocolates - Small","RETAIL",9.99]
[6354,{"$f":"Table_prices[[#This Row],[ITEMNMBR]]","v":6354},"Christmas Fruit Basket","RETAIL",99.99]
[6355,{"$f":"Table_prices[[#This Row],[ITEMNMBR]]","v":6355},"Hanukkah Stack","RETAIL",34.99]
[6356,{"$f":"Table_prices[[#This Row],[ITEMNMBR]]","v":6356},"Hanukkah Gift Basket - Classic","RETAIL",69.989999999999995]
[6357,{"$f":"Table_prices[[#This Row],[ITEMNMBR]]","v":6357},"Hanukkah Gift Basket - Premium","RETAIL",79.989999999999995]
[6358,{"$f":"Table_prices[[#This Row],[ITEMNMBR]]","v":6358},"Hanukkah Gift Basket - Deluxe","RETAIL",99.99]
[6359,{"$f":"Table_prices[[#This Row],[ITEMNMBR]]","v":6359},"Hanukkah Cornucopia Gift Basket","RETAIL",149.99]
[6406,{"$f":"Table_prices[[#This Row],[ITEMNMBR]]","v":6406},"Hanukkah Ultimate","RETAIL",124.99]
[6407,{"$f":"Table_prices[[#This Row],[ITEMNMBR]]","v":6407},"Gourmet Holiday Sleigh - Christmas Gift Basket","RETAIL",39.99]
[6440,{"$f":"Table_prices[[#This Row],[ITEMNMBR]]","v":6440},"Jingle All The Way - Holiday Gift Basket","RETAIL",39.99]
[6441,{"$f":"Table_prices[[#This Row],[ITEMNMBR]]","v":6441},"Jingle All The Way - Holiday Gift Basket","RETAIL",39.99]
[6500,{"$f":"Table_prices[[#This Row],[ITEMNMBR]]","v":6500},"Nutcracker Drum - Christmas Gift Basket","RETAIL",49.99]
[6501,{"$f":"Table_prices[[#This Row],[ITEMNMBR]]","v":6501},"Dashing Through The Snow Christmas Gift Basket","RETAIL",49.99]
[6505,{"$f":"Table_prices[[#This Row],[ITEMNMBR]]","v":6505},"Christmas - Something Naughty & Something Nice","RETAIL",89.99]
[6520,{"$f":"Table_prices[[#This Row],[ITEMNMBR]]","v":6520},"Holiday Sweets & Treats Snowflake Tin - Christmas Gift Basket","RETAIL",49.99]
[6521,{"$f":"Table_prices[[#This Row],[ITEMNMBR]]","v":6521},"Deck the Halls Christmas Gift Tin","RETAIL",49.99]
[6525,{"$f":"Table_prices[[#This Row],[ITEMNMBR]]","v":6525},"Snowman's Festive Favorites","RETAIL",34.99]
[6701,{"$f":"Table_prices[[#This Row],[ITEMNMBR]]","v":6701},"Blue Christmas Special 2014 $59.99 free ship","RETAIL",59.99]
[6702,{"$f":"Table_prices[[#This Row],[ITEMNMBR]]","v":6702},"Good Tidings Holiday Gift - FREE SHIP","RETAIL",69.989999999999995]
[6703,{"$f":"Table_prices[[#This Row],[ITEMNMBR]]","v":6703},"Holiday Harvest Gift Tower","RETAIL",59.99]
[6704,{"$f":"Table_prices[[#This Row],[ITEMNMBR]]","v":6704},"Holiday Harvest Tower-GGB","RETAIL",59.99]
[6705,{"$f":"Table_prices[[#This Row],[ITEMNMBR]]","v":6705},"Holiday Harvest Tower-Cracker","RETAIL",59.99]
[6706,{"$f":"Table_prices[[#This Row],[ITEMNMBR]]","v":6706},"Holiday Harvest Tower-Pears","RETAIL",59.99]
[6707,{"$f":"Table_prices[[#This Row],[ITEMNMBR]]","v":6707},"Harvest Tower (Red / Brown)","RETAIL",69.989999999999995]
[6708,{"$f":"Table_prices[[#This Row],[ITEMNMBR]]","v":6708},"Holiday Sweets & Treats Gift Basket - FREE SHIP","RETAIL",59.99]
[6709,{"$f":"Table_prices[[#This Row],[ITEMNMBR]]","v":6709},"Winter Wonderland Gift Basket - FREE SHIP","RETAIL",59.99]
[6740,{"$f":"Table_prices[[#This Row],[ITEMNMBR]]","v":6740},"Deck the Halls - Holiday Gift  - FREE SHIP","RETAIL",59.99]
[6741,{"$f":"Table_prices[[#This Row],[ITEMNMBR]]","v":6741},"Season's Greetings Holiday Gift Basket - FREE SHIP","RETAIL",59.99]
[6742,{"$f":"Table_prices[[#This Row],[ITEMNMBR]]","v":6742},"Stuffed Animal - Large","RETAIL",49.99]
[7020,{"$f":"Table_prices[[#This Row],[ITEMNMBR]]","v":7020},"Stuffed Animal - Medium","RETAIL",29.99]
["806A",{"$f":"Table_prices[[#This Row],[ITEMNMBR]]","v":"806A"},"Stuffed Animal - Small","RETAIL",14.99]
["812A",{"$f":"Table_prices[[#This Row],[ITEMNMBR]]","v":"812A"},"Stuffed Animal - WOW!","RETAIL",74.989999999999995]
["824A",{"$f":"Table_prices[[#This Row],[ITEMNMBR]]","v":"824A"},"Winter Wonderland Snack Tin","RETAIL",29.99]
["ACC001",{"$f":"Table_prices[[#This Row],[ITEMNMBR]]","v":"ACC001"},"Let it Snow Snack Tin","RETAIL",39.99]
["ACC002",{"$f":"Table_prices[[#This Row],[ITEMNMBR]]","v":"ACC002"},"Signature Series Fruit & Gourmet Basket","RETAIL",229.99]
["ACC003",{"$f":"Table_prices[[#This Row],[ITEMNMBR]]","v":"ACC003"},"Healthy Treats Gift Basket","RETAIL",42.99]
["ACC003",{"$f":"Table_prices[[#This Row],[ITEMNMBR]]","v":"ACC003"},"Snack Break Gift Basket","RETAIL",34.99]
["ACC003",{"$f":"Table_prices[[#This Row],[ITEMNMBR]]","v":"ACC003"},"'Mini' Chocolate Gift Basket","RETAIL",32.99]
["ACC003",{"$f":"Table_prices[[#This Row],[ITEMNMBR]]","v":"ACC003"},"Coffee Break 'Mini' Gift Basket","RETAIL",44.99]
["ACC004",{"$f":"Table_prices[[#This Row],[ITEMNMBR]]","v":"ACC004"},"Treats From The Orchard 'Mini' Fruit Gift Basket","RETAIL",39.99]
["ACC005",{"$f":"Table_prices[[#This Row],[ITEMNMBR]]","v":"ACC005"},"Flavors of Italy 'Mini' Italian Gift Basket","RETAIL",32.99]
["ACC006",{"$f":"Table_prices[[#This Row],[ITEMNMBR]]","v":"ACC006"},"Taste of New England 'Mini' Breakfast Gift Basket","RETAIL",29.99]
["ACC007",{"$f":"Table_prices[[#This Row],[ITEMNMBR]]","v":"ACC007"},"'Mini' Tea & Cookies Gift Basket","RETAIL",32.99]
["ACC008",{"$f":"Table_prices[[#This Row],[ITEMNMBR]]","v":"ACC008"},"Nut Sampler 'Mini' Gift Basket","RETAIL",32.99]
["ACC009",{"$f":"Table_prices[[#This Row],[ITEMNMBR]]","v":"ACC009"},"'Mini' Healthy Gift Basket - Buy 5 Get 1 Free","RETAIL",124.95]
["ACC010",{"$f":"Table_prices[[#This Row],[ITEMNMBR]]","v":"ACC010"},"'Mini' Snack Gift Basket - Buy 5 Get 1 Free","RETAIL",124.95]
["ACC011",{"$f":"Table_prices[[#This Row],[ITEMNMBR]]","v":"ACC011"},"'Mini' Chocolate Gift Basket - Buy 5 Get 1 Free","RETAIL",124.95]
["ACC012",{"$f":"Table_prices[[#This Row],[ITEMNMBR]]","v":"ACC012"},"Coffee Break 'Mini'  Gift Basket - Buy 5 Get 1 Free","RETAIL",124.95]
["ACC013",{"$f":"Table_prices[[#This Row],[ITEMNMBR]]","v":"ACC013"},"Treats From the Orchard 'Mini' Fruit Gift Basket - Buy 5 Get 1 Free","RETAIL",124.95]
["ACC014",{"$f":"Table_prices[[#This Row],[ITEMNMBR]]","v":"ACC014"},"Favors of Italy 'Mini' Italian Gift Basket - Buy 5 Get 1 Free","RETAIL",124.95]
["ACC015",{"$f":"Table_prices[[#This Row],[ITEMNMBR]]","v":"ACC015"},"Taste of New England 'Mini' Breakfast Gift Basket - Buy 5 Get 1 Free","RETAIL",124.95]
["ACC016",{"$f":"Table_prices[[#This Row],[ITEMNMBR]]","v":"ACC016"},"'Mini' Tea & Cookies Gift Basket - Buy 5 Get 1 Free","RETAIL",124.95]
["ACC018",{"$f":"Table_prices[[#This Row],[ITEMNMBR]]","v":"ACC018"},"Nut Sampler 'Mini' Gift Basket - Buy 5 Get 1 Free","RETAIL",124.95]
["ACC023",{"$f":"Table_prices[[#This Row],[ITEMNMBR]]","v":"ACC023"},"Exam Cram","RETAIL",39.99]
["ACC025",{"$f":"Table_prices[[#This Row],[ITEMNMBR]]","v":"ACC025"},"Exam Cram","RETAIL",34.99]
["ACC025",{"$f":"Table_prices[[#This Row],[ITEMNMBR]]","v":"ACC025"},"Spring Finals - Care Package Program","RETAIL",34.99]
["ACC027",{"$f":"Table_prices[[#This Row],[ITEMNMBR]]","v":"ACC027"},"Spring Finale","RETAIL",34.99]
["ACC027",{"$f":"Table_prices[[#This Row],[ITEMNMBR]]","v":"ACC027"},"Health Nut Care Package","RETAIL",39.99]
["ACC027",{"$f":"Table_prices[[#This Row],[ITEMNMBR]]","v":"ACC027"},"Health Nut Care Package","RETAIL",34.99]
["ACC028",{"$f":"Table_prices[[#This Row],[ITEMNMBR]]","v":"ACC028"},"Spring Midterms - Care Package Program","RETAIL",34.99]
["ACC028",{"$f":"Table_prices[[#This Row],[ITEMNMBR]]","v":"ACC028"},"Spring Brain Crunch","RETAIL",34.99]
["ACC028",{"$f":"Table_prices[[#This Row],[ITEMNMBR]]","v":"ACC028"},"Junk Food Care Package","RETAIL",39.99]
["ACC030",{"$f":"Table_prices[[#This Row],[ITEMNMBR]]","v":"ACC030"},"Junk Food Care Package","RETAIL",34.99]
["ACC031",{"$f":"Table_prices[[#This Row],[ITEMNMBR]]","v":"ACC031"},"Back to School - Care Package Program","RETAIL",34.99]
["ACC032",{"$f":"Table_prices[[#This Row],[ITEMNMBR]]","v":"ACC032"},"Midnight Snack Care Package","RETAIL",34.99]
["ACC036",{"$f":"Table_prices[[#This Row],[ITEMNMBR]]","v":"ACC036"},"Midnight Snack Care Package","RETAIL",34.99]
["ACC042",{"$f":"Table_prices[[#This Row],[ITEMNMBR]]","v":"ACC042"},"Fall Finals - Care Package Program","RETAIL",34.99]
["ACC044",{"$f":"Table_prices[[#This Row],[ITEMNMBR]]","v":"ACC044"},"Fall Finale","RETAIL",34.99]
["ACC046",{"$f":"Table_prices[[#This Row],[ITEMNMBR]]","v":"ACC046"},"Sports Enthusiast Care Package","RETAIL",34.99]
["ACC047",{"$f":"Table_prices[[#This Row],[ITEMNMBR]]","v":"ACC047"},"Sports Enthusiast Care Package","RETAIL",34.99]
["ACC048",{"$f":"Table_prices[[#This Row],[ITEMNMBR]]","v":"ACC048"},"Fall Midterms - Care Package Program","RETAIL",34.99]
["ACC049",{"$f":"Table_prices[[#This Row],[ITEMNMBR]]","v":"ACC049"},"Snack in the Middle","RETAIL",34.99]
["ACC050",{"$f":"Table_prices[[#This Row],[ITEMNMBR]]","v":"ACC050"},"Sports Fan Care Package","RETAIL",34.99]
["ACC050",{"$f":"Table_prices[[#This Row],[ITEMNMBR]]","v":"ACC050"},"Birthday Care Package","RETAIL",39.99]
["ACC055",{"$f":"Table_prices[[#This Row],[ITEMNMBR]]","v":"ACC055"},"Birthday Care Package","RETAIL",49.99]
["ACC055",{"$f":"Table_prices[[#This Row],[ITEMNMBR]]","v":"ACC055"},"Birthday Surprise","RETAIL",39.99]
["ACC057",{"$f":"Table_prices[[#This Row],[ITEMNMBR]]","v":"ACC057"},"Lady Bug Tote Care Package","RETAIL",49.99]
["ACC057",{"$f":"Table_prices[[#This Row],[ITEMNMBR]]","v":"ACC057"},"Gluten Free Care Package","RETAIL",59.99]
["ACC058",{"$f":"Table_prices[[#This Row],[ITEMNMBR]]","v":"ACC058"},"Valentine's - Care Package Program","RETAIL",34.99]
["ACC058",{"$f":"Table_prices[[#This Row],[ITEMNMBR]]","v":"ACC058"},"Collegiate Cupid","RETAIL",34.99]
["ACC059",{"$f":"Table_prices[[#This Row],[ITEMNMBR]]","v":"ACC059"},"Spring Surprise - Care Package Program","RETAIL",34.99]
["ACC059",{"$f":"Table_prices[[#This Row],[ITEMNMBR]]","v":"ACC059"},"Spring Surprise - Care Package Program","RETAIL",34.99]
["ACC060",{"$f":"Table_prices[[#This Row],[ITEMNMBR]]","v":"ACC060"},"Kids Sports Care Package - Classic","RETAIL",34.99]
["ACC060",{"$f":"Table_prices[[#This Row],[ITEMNMBR]]","v":"ACC060"},"Kids Sports Care Package - Deluxe","RETAIL",59.99]
["ACC061",{"$f":"Table_prices[[#This Row],[ITEMNMBR]]","v":"ACC061"},"Activites, Games & Puzzles Care Package","RETAIL",39.99]
["ACC061",{"$f":"Table_prices[[#This Row],[ITEMNMBR]]","v":"ACC061"},"Arts & Crafts Care Package","RETAIL",39.99]
["ACC062",{"$f":"Table_prices[[#This Row],[ITEMNMBR]]","v":"ACC062"},"Camp Essentials Camp Care Package (RETIRED)","RETAIL",34.99]
["ACC062",{"$f":"Table_prices[[#This Row],[ITEMNMBR]]","v":"ACC062"},"Camp Essentials Camp Care Package - Deluxe (RETIRED)","RETAIL",59.99]
["ACC063",{"$f":"Table_prices[[#This Row],[ITEMNMBR]]","v":"ACC063"},"Glow In The Dark Care Package - Classic","RETAIL",34.99]
["ACC063",{"$f":"Table_prices[[#This Row],[ITEMNMBR]]","v":"ACC063"},"Glow In The Dark Care Package - Deluxe","RETAIL",59.99]
["ACC063",{"$f":"Table_prices[[#This Row],[ITEMNMBR]]","v":"ACC063"},"Summer Fun Camp Care Package - Classic","RETAIL",34.99]
["ACC064",{"$f":"Table_prices[[#This Row],[ITEMNMBR]]","v":"ACC064"},"Summer Fun Camp Care Package - Deluxe","RETAIL",59.99]
["ACC064",{"$f":"Table_prices[[#This Row],[ITEMNMBR]]","v":"ACC064"},"Pecan Turtle Cheesecake","RETAIL",37.99]
["ACC065",{"$f":"Table_prices[[#This Row],[ITEMNMBR]]","v":"ACC065"},"New York Cheesecake","RETAIL",34.99]
["ACC065",{"$f":"Table_prices[[#This Row],[ITEMNMBR]]","v":"ACC065"},"Marion Berry Cheesecake","RETAIL",37.99]
["ACC068",{"$f":"Table_prices[[#This Row],[ITEMNMBR]]","v":"ACC068"},"Triple Chocolate Raspberry Cheesecake","RETAIL",37.99]
["ACC068",{"$f":"Table_prices[[#This Row],[ITEMNMBR]]","v":"ACC068"},"Key Lime Cheesecake","RETAIL",37.99]
["ACC069",{"$f":"Table_prices[[#This Row],[ITEMNMBR]]","v":"ACC069"},"Pumpkin Spice Cheesecake","RETAIL",37.99]
["ACC069",{"$f":"Table_prices[[#This Row],[ITEMNMBR]]","v":"ACC069"},"Lemon Biscotti Cheesecake","RETAIL",37.99]
["ACC070",{"$f":"Table_prices[[#This Row],[ITEMNMBR]]","v":"ACC070"},"Gourmet Cheesecake Sampler","RETAIL",37.99]
["ACC070",{"$f":"Table_prices[[#This Row],[ITEMNMBR]]","v":"ACC070"},"White Chocolate Raspberry Cheesecake","RETAIL",37.99]
["ACC071",{"$f":"Table_prices[[#This Row],[ITEMNMBR]]","v":"ACC071"},"Everyday Classics Cheesecake Sampler","RETAIL",37.99]
["ACC071",{"$f":"Table_prices[[#This Row],[ITEMNMBR]]","v":"ACC071"},"Harvest Cheesecake Sampler","RETAIL",37.99]
["ACC072",{"$f":"Table_prices[[#This Row],[ITEMNMBR]]","v":"ACC072"},"Holiday Cheesecake Sampler","RETAIL",37.99]
["ACC072",{"$f":"Table_prices[[#This Row],[ITEMNMBR]]","v":"ACC072"},"Aromatic Beanpod Candle - Floral Collection 4.5 oz Jar","RETAIL",8.99]
["ACC073",{"$f":"Table_prices[[#This Row],[ITEMNMBR]]","v":"ACC073"},"Aromatic Beanpod Candle - Floral Collection 8 oz Jar","RETAIL",13.99]
["ACC073",{"$f":"Table_prices[[#This Row],[ITEMNMBR]]","v":"ACC073"},"Aromatic Beanpod Candle - Floral Collection 16 oz Jar","RETAIL",17.989999999999998]
["ACC074",{"$f":"Table_prices[[#This Row],[ITEMNMBR]]","v":"ACC074"},"Aromatic Beanpod Candle - Floral Collection 25 oz Jar","RETAIL",21.99]
["ACC074",{"$f":"Table_prices[[#This Row],[ITEMNMBR]]","v":"ACC074"},"Aromatic Beanpod Candle - Fruits and Vines 4.5 oz Jar","RETAIL",8.99]
["ACC075",{"$f":"Table_prices[[#This Row],[ITEMNMBR]]","v":"ACC075"},"Aromatic Beanpod Candle - Fruits & Vines 8 oz Jar","RETAIL",13.99]
["ACC075",{"$f":"Table_prices[[#This Row],[ITEMNMBR]]","v":"ACC075"},"Aromatic Beanpod Candle - Fruits & Vines 16 oz Jar","RETAIL",17.989999999999998]
["ACC076",{"$f":"Table_prices[[#This Row],[ITEMNMBR]]","v":"ACC076"},"Aromatic Beanpod Candle - Fruits & Vines 25 oz Jar","RETAIL",21.99]
["ACC076",{"$f":"Table_prices[[#This Row],[ITEMNMBR]]","v":"ACC076"},"Aromatic Beanpod Candle - Calming Blends 4.5 oz Jar","RETAIL",8.99]
["ACC077",{"$f":"Table_prices[[#This Row],[ITEMNMBR]]","v":"ACC077"},"Aromatic Beanpod Candle - Calming Blends 8 oz Jar","RETAIL",13.99]
["ACC077",{"$f":"Table_prices[[#This Row],[ITEMNMBR]]","v":"ACC077"},"Aromatic Beanpod Candle - Calming Blends 16 oz Jar","RETAIL",17.989999999999998]
["ACC078",{"$f":"Table_prices[[#This Row],[ITEMNMBR]]","v":"ACC078"},"Aromatic Beanpod Candle - Calming Blends 25 oz Jar","RETAIL",21.99]
["ACC078",{"$f":"Table_prices[[#This Row],[ITEMNMBR]]","v":"ACC078"},"Aromatic Beanpod Candle - Bistro Collection 4.5 oz Jar","RETAIL",8.99]
["ACC079",{"$f":"Table_prices[[#This Row],[ITEMNMBR]]","v":"ACC079"},"Aromatic Beanpod Candle - Bistro Collection 8 oz Jar","RETAIL",13.99]
["ACC079",{"$f":"Table_prices[[#This Row],[ITEMNMBR]]","v":"ACC079"},"Aromatic Beanpod Candle - Bistro 16 oz Jar","RETAIL",17.989999999999998]
["ACC080",{"$f":"Table_prices[[#This Row],[ITEMNMBR]]","v":"ACC080"},"Aromatic Beanpod Candle - Bistro 25 oz Jar","RETAIL",21.99]
["ACC080",{"$f":"Table_prices[[#This Row],[ITEMNMBR]]","v":"ACC080"},"LadyBug Insulated Tote Gift Bag","RETAIL",69.989999999999995]
["ACC081",{"$f":"Table_prices[[#This Row],[ITEMNMBR]]","v":"ACC081"},"Blueberry Everything Basket","RETAIL",49.99]
["ACC081",{"$f":"Table_prices[[#This Row],[ITEMNMBR]]","v":"ACC081"},"Teddy Bear & Chocolates Gift Basket","RETAIL",59.99]
["ACC082",{"$f":"Table_prices[[#This Row],[ITEMNMBR]]","v":"ACC082"},"Wild About You","RETAIL",59.99]
["ACC091",{"$f":"Table_prices[[#This Row],[ITEMNMBR]]","v":"ACC091"},"Appletini Martini Glass","RETAIL",24.99]
["ACC093",{"$f":"Table_prices[[#This Row],[ITEMNMBR]]","v":"ACC093"},"Cosmopolitan Martini Glass","RETAIL",24.99]
["ACC094",{"$f":"Table_prices[[#This Row],[ITEMNMBR]]","v":"ACC094"},"Dirty Martini Glass","RETAIL",24.99]
["ACC094",{"$f":"Table_prices[[#This Row],[ITEMNMBR]]","v":"ACC094"},"Baccus Wine Tasting Party Kit","RETAIL",19.989999999999998]
["ACC095",{"$f":"Table_prices[[#This Row],[ITEMNMBR]]","v":"ACC095"},"Dom Perignon in Gift Box 750 ml","RETAIL",149.99]
["ACC095",{"$f":"Table_prices[[#This Row],[ITEMNMBR]]","v":"ACC095"},"Veuve Cliquot Brut Yellow Label 750 ml GIFT BOX","RETAIL",52.99]
["AER001",{"$f":"Table_prices[[#This Row],[ITEMNMBR]]","v":"AER001"},"Cristal","RETAIL",299.99]
["AHT001",{"$f":"Table_prices[[#This Row],[ITEMNMBR]]","v":"AHT001"},"Dom Perignon in Gift Box 750 ml - 2002","RETAIL",139.99]
["ALA001",{"$f":"Table_prices[[#This Row],[ITEMNMBR]]","v":"ALA001"},"Dom Perignon in Gift Box 750 ml 2004","RETAIL",164.99]
["ALA002",{"$f":"Table_prices[[#This Row],[ITEMNMBR]]","v":"ALA002"},"Classic Champagne Gift Basket","RETAIL",64.989999999999995]
["ALA003",{"$f":"Table_prices[[#This Row],[ITEMNMBR]]","v":"ALA003"},"Champagne & Teddy Bear Gift Basket","RETAIL",89.99]
["ALA004",{"$f":"Table_prices[[#This Row],[ITEMNMBR]]","v":"ALA004"},"Add 5 Pots Of Coffee","RETAIL",12.99]
["ALA005",{"$f":"Table_prices[[#This Row],[ITEMNMBR]]","v":"ALA005"},"Large Slate Pit and Pendulum - 23\" tall and measures 9 ½\" X 11 1/2\" at the base","RETAIL",89.99]
["ALA006",{"$f":"Table_prices[[#This Row],[ITEMNMBR]]","v":"ALA006"},"Large Chrome Pit and Pendulum - 23\" tall and measures 9 ½\" X 11 1/2\" at the base","RETAIL",99.99]
["ALA007",{"$f":"Table_prices[[#This Row],[ITEMNMBR]]","v":"ALA007"},"Baby's 1st Piggy Bank - Pink","RETAIL",27.99]
["ALA008",{"$f":"Table_prices[[#This Row],[ITEMNMBR]]","v":"ALA008"},"Baby's 1st Piggy Bank - Blue","RETAIL",27.99]
["ALA009",{"$f":"Table_prices[[#This Row],[ITEMNMBR]]","v":"ALA009"},"Small Slate Pit and Pendulum - 12\" tall and measures 5 ½\" x 8\" at the base","RETAIL",59.99]
["ALA010",{"$f":"Table_prices[[#This Row],[ITEMNMBR]]","v":"ALA010"},"Small Chrome Pit and Pendulum - 12\" tall and measures 5 ½\" x 8\" at the base","RETAIL",69.989999999999995]
["ALA011",{"$f":"Table_prices[[#This Row],[ITEMNMBR]]","v":"ALA011"},"Bean Pod Candle Collection in Gift Crate","RETAIL",39.99]
["AMO002",{"$f":"Table_prices[[#This Row],[ITEMNMBR]]","v":"AMO002"},"Salad On Ice Bowl","RETAIL",100]
["AMO003",{"$f":"Table_prices[[#This Row],[ITEMNMBR]]","v":"AMO003"},"Gardener's Hand Therapy Gift Stack","RETAIL",34.99]
["AMO005",{"$f":"Table_prices[[#This Row],[ITEMNMBR]]","v":"AMO005"},"Evening of Indulgence Non Alcoholic Gift Basket","RETAIL",69.989999999999995]
["AMO008",{"$f":"Table_prices[[#This Row],[ITEMNMBR]]","v":"AMO008"},"Evening of Indulgence Gift Basket","RETAIL",99.99]
["AMO011",{"$f":"Table_prices[[#This Row],[ITEMNMBR]]","v":"AMO011"},"Let Your Body do the Talking","RETAIL",39.99]
["AMV001",{"$f":"Table_prices[[#This Row],[ITEMNMBR]]","v":"AMV001"},"Men's Travel Tote Gift Basket (RETIRED)","RETAIL",51.99]
["AMV002",{"$f":"Table_prices[[#This Row],[ITEMNMBR]]","v":"AMV002"},"Sparkling Spa Gourmet Gift Basket","RETAIL",69.989999999999995]
["AMV003",{"$f":"Table_prices[[#This Row],[ITEMNMBR]]","v":"AMV003"},"Valentine's Day Relaxation Therapy Spa Stack","RETAIL",59.99]
["APC010",{"$f":"Table_prices[[#This Row],[ITEMNMBR]]","v":"APC010"},"Valentine's Day Relaxation Deluxe Spa Stack","RETAIL",89.99]
["ART001",{"$f":"Table_prices[[#This Row],[ITEMNMBR]]","v":"ART001"},"Evening of Indulgence Valentines Day Gift Basket","RETAIL",99.99]
["ASH001",{"$f":"Table_prices[[#This Row],[ITEMNMBR]]","v":"ASH001"},"Zero Calorie Chocolate Spa Basket - Valentine Spa","RETAIL",89.99]
["ASH002",{"$f":"Table_prices[[#This Row],[ITEMNMBR]]","v":"ASH002"},"Relaxation Therapy Spa Gift Basket","RETAIL",59.99]
["ASH003",{"$f":"Table_prices[[#This Row],[ITEMNMBR]]","v":"ASH003"},"Relaxation Therapy Spa Gift Basket Deluxe","RETAIL",89.99]
["ASS001",{"$f":"Table_prices[[#This Row],[ITEMNMBR]]","v":"ASS001"},"Bubble Bath Indulgence Spa Basket","RETAIL",49.99]
["ASS002",{"$f":"Table_prices[[#This Row],[ITEMNMBR]]","v":"ASS002"},"Candlelight Bubble Bath - Spa Gift Basket","RETAIL",69.989999999999995]
["ASS003",{"$f":"Table_prices[[#This Row],[ITEMNMBR]]","v":"ASS003"},"Bathe In Luxury - Spa Gift Basket","RETAIL",79.989999999999995]
["ASS004",{"$f":"Table_prices[[#This Row],[ITEMNMBR]]","v":"ASS004"},"Bath & Snack - Spa Gift Basket","RETAIL",59.99]
["ASS005",{"$f":"Table_prices[[#This Row],[ITEMNMBR]]","v":"ASS005"},"Complete Hand Care - Spa Gift Basket","RETAIL",59.99]
["ASS006",{"$f":"Table_prices[[#This Row],[ITEMNMBR]]","v":"ASS006"},"Hand Care & Body Care - Spa Gift Stack","RETAIL",34.99]
["ASS012",{"$f":"Table_prices[[#This Row],[ITEMNMBR]]","v":"ASS012"},"Gentleman's Guide To Good Grooming","RETAIL",89.99]
["ASS013",{"$f":"Table_prices[[#This Row],[ITEMNMBR]]","v":"ASS013"},"Distinguished Gentleman Spa Basket","RETAIL",149.99]
["ASS014",{"$f":"Table_prices[[#This Row],[ITEMNMBR]]","v":"ASS014"},"Spa Gift Basket - Classic","RETAIL",79.989999999999995]
["ASS015",{"$f":"Table_prices[[#This Row],[ITEMNMBR]]","v":"ASS015"},"Spa Gift Basket - Premium","RETAIL",99.99]
["ASS017",{"$f":"Table_prices[[#This Row],[ITEMNMBR]]","v":"ASS017"},"Spa Premium with Wine","RETAIL",124.99]
["ASS018",{"$f":"Table_prices[[#This Row],[ITEMNMBR]]","v":"ASS018"},"Spa Gift Basket - Deluxe","RETAIL",219.99]
["ASS019",{"$f":"Table_prices[[#This Row],[ITEMNMBR]]","v":"ASS019"},"Complete Foot Care Gift Basket","RETAIL",49.99]
["ASS022",{"$f":"Table_prices[[#This Row],[ITEMNMBR]]","v":"ASS022"},"Deluxe Pedicure Gift Basket","RETAIL",89.99]
["ASS023",{"$f":"Table_prices[[#This Row],[ITEMNMBR]]","v":"ASS023"},"Treat for the Face Spa Gift Basket","RETAIL",59.99]
["ASS032",{"$f":"Table_prices[[#This Row],[ITEMNMBR]]","v":"ASS032"},"Silver Rattle in Rosewood Box","RETAIL",29.99]
["ASS041",{"$f":"Table_prices[[#This Row],[ITEMNMBR]]","v":"ASS041"},"Stephan Baby Memory Boxed Gift Set","RETAIL",54.99]
["ASS046",{"$f":"Table_prices[[#This Row],[ITEMNMBR]]","v":"ASS046"},"Stephan Baby Bear Feeding Set w/ Cup, Spoon, & Fork","RETAIL",39.99]
["ASS047",{"$f":"Table_prices[[#This Row],[ITEMNMBR]]","v":"ASS047"},"Baby's Splendid Spa Robe Retreat - PINK","RETAIL",69.989999999999995]
["ASS048",{"$f":"Table_prices[[#This Row],[ITEMNMBR]]","v":"ASS048"},"Baby's Splendid Spa Robe Retreat - BLUE","RETAIL",69.989999999999995]
["ASS066",{"$f":"Table_prices[[#This Row],[ITEMNMBR]]","v":"ASS066"},"Baby's Splendid Spa Robe Retreat - WHITE","RETAIL",69.989999999999995]
["ASS067",{"$f":"Table_prices[[#This Row],[ITEMNMBR]]","v":"ASS067"},"Taggie Blanket & Pillow","RETAIL",114.99]
["AVE002",{"$f":"Table_prices[[#This Row],[ITEMNMBR]]","v":"AVE002"},"Baby's Playtime - PINK","RETAIL",79.989999999999995]
["AVE003",{"$f":"Table_prices[[#This Row],[ITEMNMBR]]","v":"AVE003"},"Baby's Playtime - BLUE","RETAIL",79.989999999999995]
["AVE005",{"$f":"Table_prices[[#This Row],[ITEMNMBR]]","v":"AVE005"},"Baby Girl Asst - Sold Out","RETAIL",69.989999999999995]
["AVE017",{"$f":"Table_prices[[#This Row],[ITEMNMBR]]","v":"AVE017"},"Baby Boy Asst - Sold Out","RETAIL",69.989999999999995]
["AVE019",{"$f":"Table_prices[[#This Row],[ITEMNMBR]]","v":"AVE019"},"Baby's Bedtime - PINK","RETAIL",59.99]
["AVE021",{"$f":"Table_prices[[#This Row],[ITEMNMBR]]","v":"AVE021"},"Baby's Bedtime - BLUE","RETAIL",59.99]
["AVE022",{"$f":"Table_prices[[#This Row],[ITEMNMBR]]","v":"AVE022"},"My First Keepsakes - PINK","RETAIL",69.989999999999995]
["AVE024",{"$f":"Table_prices[[#This Row],[ITEMNMBR]]","v":"AVE024"},"My First Keepsakes - BLUE","RETAIL",69.989999999999995]
["AVE029",{"$f":"Table_prices[[#This Row],[ITEMNMBR]]","v":"AVE029"},"Babys Bath Time Blue","RETAIL",37.99]
["AVE030",{"$f":"Table_prices[[#This Row],[ITEMNMBR]]","v":"AVE030"},"Babys Bath Time Pink","RETAIL",37.99]
["AVE032",{"$f":"Table_prices[[#This Row],[ITEMNMBR]]","v":"AVE032"},"Baby Bath Time Yellow","RETAIL",37.99]
["AVE034",{"$f":"Table_prices[[#This Row],[ITEMNMBR]]","v":"AVE034"},"Baby Clothing Essentials Blue","RETAIL",59.99]
["AVE037",{"$f":"Table_prices[[#This Row],[ITEMNMBR]]","v":"AVE037"},"Baby Clothing Essentials Pink","RETAIL",59.99]
["AVE039",{"$f":"Table_prices[[#This Row],[ITEMNMBR]]","v":"AVE039"},"Baby Clothing Essentials Yellow","RETAIL",59.99]
["AVE052",{"$f":"Table_prices[[#This Row],[ITEMNMBR]]","v":"AVE052"},"Farley the Singing Graduation Frog","RETAIL",0]
["AVE054",{"$f":"Table_prices[[#This Row],[ITEMNMBR]]","v":"AVE054"},"Boris the Singing Fishing Bear","RETAIL",29.99]
["AVE056",{"$f":"Table_prices[[#This Row],[ITEMNMBR]]","v":"AVE056"},"Car Wash Bucket (RETIRED)","RETAIL",59.99]
["AVE057",{"$f":"Table_prices[[#This Row],[ITEMNMBR]]","v":"AVE057"},"Deluxe Car Wash Bucket (RETIRED)","RETAIL",89.99]
["AVE058",{"$f":"Table_prices[[#This Row],[ITEMNMBR]]","v":"AVE058"},"Cat Lover's Gift Basket / Pampered Cat Gift Basket","RETAIL",59.99]
["AVE059",{"$f":"Table_prices[[#This Row],[ITEMNMBR]]","v":"AVE059"},"Ultimate Pampered Cat Gift Basket","RETAIL",99.99]
["AVE060",{"$f":"Table_prices[[#This Row],[ITEMNMBR]]","v":"AVE060"},"Cat Lover's Gift Basket Stack /  Pampered Cat Gift Basket Stack","RETAIL",29.99]
["AVE061",{"$f":"Table_prices[[#This Row],[ITEMNMBR]]","v":"AVE061"},"Dog Lover's Gift Basket / Pampered Dog Gift Basket","RETAIL",69.989999999999995]
["AVE062",{"$f":"Table_prices[[#This Row],[ITEMNMBR]]","v":"AVE062"},"Ultimate Pampered Dog Gift Basket","RETAIL",99.99]
["AVE063",{"$f":"Table_prices[[#This Row],[ITEMNMBR]]","v":"AVE063"},"Dog Lover's Gift Basket Stack / Pampered Dog Gift Basket Stack","RETAIL",39.99]
["AVE064",{"$f":"Table_prices[[#This Row],[ITEMNMBR]]","v":"AVE064"},"Gourmet Sampler Cheesecake","RETAIL",37.99]
["AVE065",{"$f":"Table_prices[[#This Row],[ITEMNMBR]]","v":"AVE065"},"Amaretto Cheesecake","RETAIL",37.99]
["AVE066",{"$f":"Table_prices[[#This Row],[ITEMNMBR]]","v":"AVE066"},"Creme Brulee Cheesecake","RETAIL",37.99]
["AVE067",{"$f":"Table_prices[[#This Row],[ITEMNMBR]]","v":"AVE067"},"New York Cheesecake","RETAIL",34.99]
["AVE068",{"$f":"Table_prices[[#This Row],[ITEMNMBR]]","v":"AVE068"},"Praline Cheesecake","RETAIL",37.99]
["AVE069",{"$f":"Table_prices[[#This Row],[ITEMNMBR]]","v":"AVE069"},"Raspberry Swirl Cheesecake","RETAIL",37.99]
["AVE070",{"$f":"Table_prices[[#This Row],[ITEMNMBR]]","v":"AVE070"},"Strawberry Cheesecake","RETAIL",37.99]
["BAH002",{"$f":"Table_prices[[#This Row],[ITEMNMBR]]","v":"BAH002"},"Turtle Cheesecake","RETAIL",37.99]
["BAH003",{"$f":"Table_prices[[#This Row],[ITEMNMBR]]","v":"BAH003"},"White Chocolate Cheesecake","RETAIL",37.99]
["BAH004",{"$f":"Table_prices[[#This Row],[ITEMNMBR]]","v":"BAH004"},"Carrot Cake","RETAIL",44.99]
["BAR002",{"$f":"Table_prices[[#This Row],[ITEMNMBR]]","v":"BAR002"},"Red Velvet Cake","RETAIL",44.99]
["BAT001",{"$f":"Table_prices[[#This Row],[ITEMNMBR]]","v":"BAT001"},"Cookie Sampler Bakery Gift","RETAIL",34.99]
["BAT002",{"$f":"Table_prices[[#This Row],[ITEMNMBR]]","v":"BAT002"},"Custom GGB Cookie Sampler Box for Care Package Program (Tim)","RETAIL",34.99]
["BAT003",{"$f":"Table_prices[[#This Row],[ITEMNMBR]]","v":"BAT003"},"Brownie Sampler Bakery Gift","RETAIL",34.99]
["BBP001",{"$f":"Table_prices[[#This Row],[ITEMNMBR]]","v":"BBP001"},"Custom Brownie Sampler Box for Care Package Program (Tim)","RETAIL",34.99]
["BCD001",{"$f":"Table_prices[[#This Row],[ITEMNMBR]]","v":"BCD001"},"Whoopie Pie Sampler Bakery Gift","RETAIL",34.99]
["BCF001",{"$f":"Table_prices[[#This Row],[ITEMNMBR]]","v":"BCF001"},"Custom Whoopie Pie Sampler Box for Care Package Program (Tim)","RETAIL",34.99]
["BCF002",{"$f":"Table_prices[[#This Row],[ITEMNMBR]]","v":"BCF002"},"Baked Goods Tower","RETAIL",69.989999999999995]
["BCF003",{"$f":"Table_prices[[#This Row],[ITEMNMBR]]","v":"BCF003"},"Baked Goods Tower","RETAIL",59.99]
["BCF004",{"$f":"Table_prices[[#This Row],[ITEMNMBR]]","v":"BCF004"},"Happy Birthday Baked Goods Tower","RETAIL",74.989999999999995]
["BCF006",{"$f":"Table_prices[[#This Row],[ITEMNMBR]]","v":"BCF006"},"Sweetest Treats Gift Tower","RETAIL",39.99]
["BEA001",{"$f":"Table_prices[[#This Row],[ITEMNMBR]]","v":"BEA001"},"Sweetest Treats Gift Tower","RETAIL",39.99]
["BEA002",{"$f":"Table_prices[[#This Row],[ITEMNMBR]]","v":"BEA002"},"Timeless Treats Gift Tower","RETAIL",49.99]
["BEL005",{"$f":"Table_prices[[#This Row],[ITEMNMBR]]","v":"BEL005"},"Timeless Treats Gift Tower","RETAIL",49.99]
["BFR001",{"$f":"Table_prices[[#This Row],[ITEMNMBR]]","v":"BFR001"},"Festive Favorites Gift Tower","RETAIL",39.99]
["BFR002",{"$f":"Table_prices[[#This Row],[ITEMNMBR]]","v":"BFR002"},"Festive Favorites Gift Tower","RETAIL",39.99]
["BHAPPLE01",{"$f":"Table_prices[[#This Row],[ITEMNMBR]]","v":"BHAPPLE01"},"Happy Birthday Gift Tower","RETAIL",39.99]
["BHB001",{"$f":"Table_prices[[#This Row],[ITEMNMBR]]","v":"BHB001"},"Happy Birthday Gift Tower","RETAIL",39.99]
["BHB002",{"$f":"Table_prices[[#This Row],[ITEMNMBR]]","v":"BHB002"},"Celebration Gift Tower","RETAIL",39.99]
["BHB004",{"$f":"Table_prices[[#This Row],[ITEMNMBR]]","v":"BHB004"},"Taste of Elegance Gift Tower","RETAIL",39.99]
["BHB005",{"$f":"Table_prices[[#This Row],[ITEMNMBR]]","v":"BHB005"},"Sweet Surprise Gift Tower","RETAIL",49.99]
["BHB006",{"$f":"Table_prices[[#This Row],[ITEMNMBR]]","v":"BHB006"},"Everday - Blue & Green -  Gift Tower","RETAIL",39.99]
["BHB007",{"$f":"Table_prices[[#This Row],[ITEMNMBR]]","v":"BHB007"},"Butterflies & Flowers Gift Tower","RETAIL",49.99]
["BHB008",{"$f":"Table_prices[[#This Row],[ITEMNMBR]]","v":"BHB008"},"Winter Wonderland Gift Tower","RETAIL",39.99]
["BHB009",{"$f":"Table_prices[[#This Row],[ITEMNMBR]]","v":"BHB009"},"Holiday Gift Tower","RETAIL",39.99]
["BHB010",{"$f":"Table_prices[[#This Row],[ITEMNMBR]]","v":"BHB010"},"Christmas Gingerbread Gift Tower","RETAIL",39.99]
["BHB011",{"$f":"Table_prices[[#This Row],[ITEMNMBR]]","v":"BHB011"},"Christmas Ornament Gift Tower","RETAIL",39.99]
["BHB012",{"$f":"Table_prices[[#This Row],[ITEMNMBR]]","v":"BHB012"},"Christmas Ornament Gift Tower","RETAIL",39.99]
["BHB013",{"$f":"Table_prices[[#This Row],[ITEMNMBR]]","v":"BHB013"},"Valentine's Day Gift Tower","RETAIL",49.99]
["BHB014",{"$f":"Table_prices[[#This Row],[ITEMNMBR]]","v":"BHB014"},"Valentine's Day Gift Tower","RETAIL",39.99]
["BHF001",{"$f":"Table_prices[[#This Row],[ITEMNMBR]]","v":"BHF001"},"From the Heart Gift Tower","RETAIL",49.99]
["BHF002",{"$f":"Table_prices[[#This Row],[ITEMNMBR]]","v":"BHF002"},"From the Heart Gift Tower","RETAIL",49.99]
["BHMP01",{"$f":"Table_prices[[#This Row],[ITEMNMBR]]","v":"BHMP01"},"Springtime Gift Tower","RETAIL",39.99]
["BHPSNH",{"$f":"Table_prices[[#This Row],[ITEMNMBR]]","v":"BHPSNH"},"Happy Easter Gift Tower","RETAIL",49.99]
["BHPW01",{"$f":"Table_prices[[#This Row],[ITEMNMBR]]","v":"BHPW01"},"Happy Easter Gift Tower","RETAIL",49.99]
["BHREN1",{"$f":"Table_prices[[#This Row],[ITEMNMBR]]","v":"BHREN1"},"Just For Mom Gift Tower","RETAIL",49.99]
["BHTD01",{"$f":"Table_prices[[#This Row],[ITEMNMBR]]","v":"BHTD01"},"Mother's Day Gift Tower","RETAIL",49.99]
["BHTD02",{"$f":"Table_prices[[#This Row],[ITEMNMBR]]","v":"BHTD02"},"Father's Day  Gourmet Gift Tower","RETAIL",39.99]
["BHWTP1",{"$f":"Table_prices[[#This Row],[ITEMNMBR]]","v":"BHWTP1"},"Haunted House Halloween Tower","RETAIL",39.99]
["BIS001",{"$f":"Table_prices[[#This Row],[ITEMNMBR]]","v":"BIS001"},"Spooky Eyes Halloween Tower","RETAIL",39.99]
["BIS003",{"$f":"Table_prices[[#This Row],[ITEMNMBR]]","v":"BIS003"},"Housewarming Gift Basket","RETAIL",99.99]
["BIS005",{"$f":"Table_prices[[#This Row],[ITEMNMBR]]","v":"BIS005"},"College Care Package","RETAIL",34.99]
["BIS008",{"$f":"Table_prices[[#This Row],[ITEMNMBR]]","v":"BIS008"},"Sympathy - Fruit Gift Basket","RETAIL",69.989999999999995]
["BJS001",{"$f":"Table_prices[[#This Row],[ITEMNMBR]]","v":"BJS001"},"Fruit Gift Basket - Deluxe","RETAIL",79.989999999999995]
["BJS002",{"$f":"Table_prices[[#This Row],[ITEMNMBR]]","v":"BJS002"},"Birthday Gift Basket","RETAIL",59.99]
["BJS003",{"$f":"Table_prices[[#This Row],[ITEMNMBR]]","v":"BJS003"},"Gift Basket for Men","RETAIL",119.99]
["BJS004",{"$f":"Table_prices[[#This Row],[ITEMNMBR]]","v":"BJS004"},"Gift Basket for Women Select","RETAIL",69.989999999999995]
["BJS005",{"$f":"Table_prices[[#This Row],[ITEMNMBR]]","v":"BJS005"},"Care Package for Healthy College Students","RETAIL",34.99]
["BJS006",{"$f":"Table_prices[[#This Row],[ITEMNMBR]]","v":"BJS006"},"Sympathy Basket Select","RETAIL",119.99]
["BJS007",{"$f":"Table_prices[[#This Row],[ITEMNMBR]]","v":"BJS007"},"Wedding Gift Basket","RETAIL",149.99]
["BJS008",{"$f":"Table_prices[[#This Row],[ITEMNMBR]]","v":"BJS008"},"Gourmet Food Basket","RETAIL",159.99]
["BJS009",{"$f":"Table_prices[[#This Row],[ITEMNMBR]]","v":"BJS009"},"Sympathy Gift Basket","RETAIL",69.989999999999995]
["BJS010",{"$f":"Table_prices[[#This Row],[ITEMNMBR]]","v":"BJS010"},"Thanksgiving Gift Basket","RETAIL",59.99]
["BJS011",{"$f":"Table_prices[[#This Row],[ITEMNMBR]]","v":"BJS011"},"Chocolate Strawberries","RETAIL",49.99]
["BJS012",{"$f":"Table_prices[[#This Row],[ITEMNMBR]]","v":"BJS012"},"Thank You Gift Basket","RETAIL",69.989999999999995]
["BJS013",{"$f":"Table_prices[[#This Row],[ITEMNMBR]]","v":"BJS013"},"Chocolate Gift Basket","RETAIL",89.99]
["BJS014",{"$f":"Table_prices[[#This Row],[ITEMNMBR]]","v":"BJS014"},"Breakfast Gift Basket for Christmas","RETAIL",59.99]
["BJS015",{"$f":"Table_prices[[#This Row],[ITEMNMBR]]","v":"BJS015"},"Christmas Breakfast Gift Basket Select","RETAIL",99.99]
["BJS016",{"$f":"Table_prices[[#This Row],[ITEMNMBR]]","v":"BJS016"},"Christmas Candy Gift","RETAIL",24.99]
["BJS017",{"$f":"Table_prices[[#This Row],[ITEMNMBR]]","v":"BJS017"},"Christmas Candy Basket","RETAIL",39.99]
["BJS018",{"$f":"Table_prices[[#This Row],[ITEMNMBR]]","v":"BJS018"},"Christmas Chocolate Gift Basket","RETAIL",99.99]
["BJS019",{"$f":"Table_prices[[#This Row],[ITEMNMBR]]","v":"BJS019"},"Corporate Christmas Gift","RETAIL",129.99]
["BJS020",{"$f":"Table_prices[[#This Row],[ITEMNMBR]]","v":"BJS020"},"Family Christmas Gift","RETAIL",199.99]
["BJS021",{"$f":"Table_prices[[#This Row],[ITEMNMBR]]","v":"BJS021"},"Christmas Gift for the Families","RETAIL",149.99]
["BJS022",{"$f":"Table_prices[[#This Row],[ITEMNMBR]]","v":"BJS022"},"Christmas Food Gift","RETAIL",149.99]
["BJS023",{"$f":"Table_prices[[#This Row],[ITEMNMBR]]","v":"BJS023"},"Christmas Gift for Her","RETAIL",69.989999999999995]
["BJS024",{"$f":"Table_prices[[#This Row],[ITEMNMBR]]","v":"BJS024"},"Christmas Gift for Mom Select","RETAIL",69.989999999999995]
["BJS025",{"$f":"Table_prices[[#This Row],[ITEMNMBR]]","v":"BJS025"},"Christmas Gift Basket - Free Shipping","RETAIL",59.99]
["BJS026",{"$f":"Table_prices[[#This Row],[ITEMNMBR]]","v":"BJS026"},"Gluten Free Christmas Gift Basket","RETAIL",119.99]
["BLU001",{"$f":"Table_prices[[#This Row],[ITEMNMBR]]","v":"BLU001"},"Gluten Free Christmas Gift","RETAIL",99.99]
["BNP001",{"$f":"Table_prices[[#This Row],[ITEMNMBR]]","v":"BNP001"},"Gourmet Holiday Gift Basket","RETAIL",99.99]
["BNP002",{"$f":"Table_prices[[#This Row],[ITEMNMBR]]","v":"BNP002"},"Healthy Christrmas Basket","RETAIL",69.989999999999995]
["BNP003",{"$f":"Table_prices[[#This Row],[ITEMNMBR]]","v":"BNP003"},"Healthy Christmas Gift Basket","RETAIL",99.99]
["BNP004",{"$f":"Table_prices[[#This Row],[ITEMNMBR]]","v":"BNP004"},"Healthy Christmas Gift","RETAIL",79.989999999999995]
["BNP005",{"$f":"Table_prices[[#This Row],[ITEMNMBR]]","v":"BNP005"},"Healthy Holiday Gift Basket","RETAIL",59.99]
["BNP006",{"$f":"Table_prices[[#This Row],[ITEMNMBR]]","v":"BNP006"},"Holiday Basket","RETAIL",59.99]
["BNP007",{"$f":"Table_prices[[#This Row],[ITEMNMBR]]","v":"BNP007"},"Holiday Gift Basket Select","RETAIL",79.989999999999995]
["BNP008",{"$f":"Table_prices[[#This Row],[ITEMNMBR]]","v":"BNP008"},"Holiday Gift Basket for Clients Select","RETAIL",124.99]
["BNP009",{"$f":"Table_prices[[#This Row],[ITEMNMBR]]","v":"BNP009"},"Kosher Holiday Gift Basket","RETAIL",99.99]
["BNP010",{"$f":"Table_prices[[#This Row],[ITEMNMBR]]","v":"BNP010"},"Last Minute Christmas Gift","RETAIL",79.989999999999995]
["BNP011",{"$f":"Table_prices[[#This Row],[ITEMNMBR]]","v":"BNP011"},"Organic Christmas Gift Basket","RETAIL",79.989999999999995]
["BNP012",{"$f":"Table_prices[[#This Row],[ITEMNMBR]]","v":"BNP012"},"Unique Christmas Gift Basket","RETAIL",59.99]
["BNP013",{"$f":"Table_prices[[#This Row],[ITEMNMBR]]","v":"BNP013"},"Christmas Wine Basket","RETAIL",69.989999999999995]
["BNP014",{"$f":"Table_prices[[#This Row],[ITEMNMBR]]","v":"BNP014"},"Gift Basket Select","RETAIL",79.989999999999995]
["BNP015",{"$f":"Table_prices[[#This Row],[ITEMNMBR]]","v":"BNP015"},"Gourmet Gift Basket","RETAIL",99.99]
["BNP016",{"$f":"Table_prices[[#This Row],[ITEMNMBR]]","v":"BNP016"},"Holiday Gift Basket","RETAIL",59.99]
["BNP017",{"$f":"Table_prices[[#This Row],[ITEMNMBR]]","v":"BNP017"},"Holiday Gift Basket Premium","RETAIL",79.989999999999995]
["BOB001",{"$f":"Table_prices[[#This Row],[ITEMNMBR]]","v":"BOB001"},"Gift Baskets for Men Who Golf","RETAIL",59.99]
["BOD001",{"$f":"Table_prices[[#This Row],[ITEMNMBR]]","v":"BOD001"},"Gift Basket Idea for Women","RETAIL",59.99]
["BOG001",{"$f":"Table_prices[[#This Row],[ITEMNMBR]]","v":"BOG001"},"Gift Basket Idea for Men","RETAIL",59.99]
["BOG002",{"$f":"Table_prices[[#This Row],[ITEMNMBR]]","v":"BOG002"},"Food Gift Basket","RETAIL",99.99]
["BON001",{"$f":"Table_prices[[#This Row],[ITEMNMBR]]","v":"BON001"},"Fruit Basket","RETAIL",59.99]
["BOS001",{"$f":"Table_prices[[#This Row],[ITEMNMBR]]","v":"BOS001"},"Fruit Basket Select","RETAIL",119.99]
["BPE001",{"$f":"Table_prices[[#This Row],[ITEMNMBR]]","v":"BPE001"},"Gift Basket for Women","RETAIL",69.989999999999995]
["BRA001",{"$f":"Table_prices[[#This Row],[ITEMNMBR]]","v":"BRA001"},"Christmas Basket","RETAIL",59.99]
["BRA002",{"$f":"Table_prices[[#This Row],[ITEMNMBR]]","v":"BRA002"},"Christmas Basket Traditional","RETAIL",59.99]
["BRE004",{"$f":"Table_prices[[#This Row],[ITEMNMBR]]","v":"BRE004"},"Beer Gift Basket Select","RETAIL",119.99]
["BRE006",{"$f":"Table_prices[[#This Row],[ITEMNMBR]]","v":"BRE006"},"Beer Gift Basket","RETAIL",89.99]
["BRE007",{"$f":"Table_prices[[#This Row],[ITEMNMBR]]","v":"BRE007"},"Gourmet Basket of Fruit","RETAIL",69.989999999999995]
["BRE009",{"$f":"Table_prices[[#This Row],[ITEMNMBR]]","v":"BRE009"},"Gourmet Basket","RETAIL",59.99]
["BRE010",{"$f":"Table_prices[[#This Row],[ITEMNMBR]]","v":"BRE010"},"Italian Gift Basket Select","RETAIL",79.989999999999995]
["BRE012",{"$f":"Table_prices[[#This Row],[ITEMNMBR]]","v":"BRE012"},"Unique Gift Basket","RETAIL",79.989999999999995]
["BRE014",{"$f":"Table_prices[[#This Row],[ITEMNMBR]]","v":"BRE014"},"Unique Gift Basket for Men","RETAIL",49.99]
["BRE016",{"$f":"Table_prices[[#This Row],[ITEMNMBR]]","v":"BRE016"},"Best Gift Basket For Men","RETAIL",69.989999999999995]
["BRE017",{"$f":"Table_prices[[#This Row],[ITEMNMBR]]","v":"BRE017"},"Best Gift Basket For Women","RETAIL",49.99]
["BRE019",{"$f":"Table_prices[[#This Row],[ITEMNMBR]]","v":"BRE019"},"Housewarming Gift","RETAIL",69.989999999999995]
["BRE023",{"$f":"Table_prices[[#This Row],[ITEMNMBR]]","v":"BRE023"},"Holiday Basket Greetings","RETAIL",69.989999999999995]
["BRE031",{"$f":"Table_prices[[#This Row],[ITEMNMBR]]","v":"BRE031"},"Holiday Basket of Fruit","RETAIL",99.99]
["BRE034",{"$f":"Table_prices[[#This Row],[ITEMNMBR]]","v":"BRE034"},"Food Basket","RETAIL",59.99]
["BRE035",{"$f":"Table_prices[[#This Row],[ITEMNMBR]]","v":"BRE035"},"Gift Basket for Christmas","RETAIL",24.99]
["BRE036",{"$f":"Table_prices[[#This Row],[ITEMNMBR]]","v":"BRE036"},"Gift Basket for Christmas Breakfast","RETAIL",79.989999999999995]
["BRE037",{"$f":"Table_prices[[#This Row],[ITEMNMBR]]","v":"BRE037"},"Thanksgiving Gift","RETAIL",54.99]
["BRE038",{"$f":"Table_prices[[#This Row],[ITEMNMBR]]","v":"BRE038"},"Thanksgiving Gift Basket Of Fruit","RETAIL",69.989999999999995]
["BRE039",{"$f":"Table_prices[[#This Row],[ITEMNMBR]]","v":"BRE039"},"Breakfast Gift Basket","RETAIL",59.99]
["BRO001",{"$f":"Table_prices[[#This Row],[ITEMNMBR]]","v":"BRO001"},"Breakfast Gift Basket Select","RETAIL",79.989999999999995]
["BRO002",{"$f":"Table_prices[[#This Row],[ITEMNMBR]]","v":"BRO002"},"Beer Basket","RETAIL",69.989999999999995]
["BRO003",{"$f":"Table_prices[[#This Row],[ITEMNMBR]]","v":"BRO003"},"Care Package","RETAIL",34.99]
["BRP001",{"$f":"Table_prices[[#This Row],[ITEMNMBR]]","v":"BRP001"},"Gift Basket Delivered With Fruit","RETAIL",39.99]
["BRP002",{"$f":"Table_prices[[#This Row],[ITEMNMBR]]","v":"BRP002"},"Gift Basket Delivered With Coffee","RETAIL",24.99]
["BRT001",{"$f":"Table_prices[[#This Row],[ITEMNMBR]]","v":"BRT001"},"Gourmet Gift","RETAIL",34.99]
["BRT002",{"$f":"Table_prices[[#This Row],[ITEMNMBR]]","v":"BRT002"},"Gourmet Gift Of Chocolate","RETAIL",39.99]
["BRT003",{"$f":"Table_prices[[#This Row],[ITEMNMBR]]","v":"BRT003"},"Gourmet Gift For Christmas","RETAIL",34.99]
["BRT004",{"$f":"Table_prices[[#This Row],[ITEMNMBR]]","v":"BRT004"},"Beer Gift","RETAIL",39.99]
["BRT005",{"$f":"Table_prices[[#This Row],[ITEMNMBR]]","v":"BRT005"},"Beer Gift Light","RETAIL",39.99]
["BRT006",{"$f":"Table_prices[[#This Row],[ITEMNMBR]]","v":"BRT006"},"Gift For Beer Lovers","RETAIL",89.99]
["BRX001",{"$f":"Table_prices[[#This Row],[ITEMNMBR]]","v":"BRX001"},"Gift For Beer Lovers Select","RETAIL",119.99]
["BTN001",{"$f":"Table_prices[[#This Row],[ITEMNMBR]]","v":"BTN001"},"Food Gift","RETAIL",39.99]
["BUB001",{"$f":"Table_prices[[#This Row],[ITEMNMBR]]","v":"BUB001"},"Food Gift Of Pizza","RETAIL",39.99]
["BUR003",{"$f":"Table_prices[[#This Row],[ITEMNMBR]]","v":"BUR003"},"Wine Gift Basket Red","RETAIL",69.989999999999995]
["BUR004",{"$f":"Table_prices[[#This Row],[ITEMNMBR]]","v":"BUR004"},"Wine Gift Basket White","RETAIL",69.989999999999995]
["BUR005",{"$f":"Table_prices[[#This Row],[ITEMNMBR]]","v":"BUR005"},"Coffee Gift Basket","RETAIL",24.99]
["BUR006",{"$f":"Table_prices[[#This Row],[ITEMNMBR]]","v":"BUR006"},"Coffee Gift Basket Select","RETAIL",69.989999999999995]
["BUR007",{"$f":"Table_prices[[#This Row],[ITEMNMBR]]","v":"BUR007"},"Corporate Christmas Gift With Snacks","RETAIL",59.99]
["BUR008",{"$f":"Table_prices[[#This Row],[ITEMNMBR]]","v":"BUR008"},"Pasta Gift Basket Select","RETAIL",79.989999999999995]
["BUR009",{"$f":"Table_prices[[#This Row],[ITEMNMBR]]","v":"BUR009"},"Pasta Gift Basket Classic","RETAIL",59.99]
["BUR010",{"$f":"Table_prices[[#This Row],[ITEMNMBR]]","v":"BUR010"},"Beer Gift For Men","RETAIL",39.99]
["BUR011",{"$f":"Table_prices[[#This Row],[ITEMNMBR]]","v":"BUR011"},"Last Minute Christmas Gift Basket","RETAIL",59.99]
["BUR012",{"$f":"Table_prices[[#This Row],[ITEMNMBR]]","v":"BUR012"},"Alcohol Gift Basket With Wine","RETAIL",149.99]
["BUR013",{"$f":"Table_prices[[#This Row],[ITEMNMBR]]","v":"BUR013"},"Alcohol Gift Basket With Beer","RETAIL",119.99]
["BUR014",{"$f":"Table_prices[[#This Row],[ITEMNMBR]]","v":"BUR014"},"Butterflies & Flowers Popcorn Tin - 2 gal - Chicago MIx","RETAIL",39.99]
["BUR015",{"$f":"Table_prices[[#This Row],[ITEMNMBR]]","v":"BUR015"},"Butterflies & Flowers Popcorn Tin - 2 gal - Chicago MIx","RETAIL",39.99]
["BUR018",{"$f":"Table_prices[[#This Row],[ITEMNMBR]]","v":"BUR018"},"Butterflies & Flowers Popcorn Tin - 2 gal - People's Choice","RETAIL",39.99]
["CAB001",{"$f":"Table_prices[[#This Row],[ITEMNMBR]]","v":"CAB001"},"Butterflies & Flowers Popcorn Tin - 2 gal - People's Choice","RETAIL",39.99]
["CAC001",{"$f":"Table_prices[[#This Row],[ITEMNMBR]]","v":"CAC001"},"Butterflies & Flowers Popcorn Tin - 2 gal - Traditional","RETAIL",39.99]
["CAC002",{"$f":"Table_prices[[#This Row],[ITEMNMBR]]","v":"CAC002"},"Butterflies & Flowers Popcorn Tin - 2 gal - Traditional","RETAIL",39.99]
["CAC004",{"$f":"Table_prices[[#This Row],[ITEMNMBR]]","v":"CAC004"},"Butterflies & Flowers Popcorn Tin - 3.5 gal - Chicago Mix","RETAIL",49.99]
["CAL001",{"$f":"Table_prices[[#This Row],[ITEMNMBR]]","v":"CAL001"},"Butterflies & Flowers Popcorn Tin - 3.5 gal - Chicago Mix","RETAIL",49.99]
["CAL002",{"$f":"Table_prices[[#This Row],[ITEMNMBR]]","v":"CAL002"},"Butterflies & Flowers Popcorn Tin - 3.5 gal - People's Choice","RETAIL",49.99]
["CAL003",{"$f":"Table_prices[[#This Row],[ITEMNMBR]]","v":"CAL003"},"Butterflies & Flowers Popcorn Tin - 3.5 gal - People's Choice","RETAIL",49.99]
["CAL004",{"$f":"Table_prices[[#This Row],[ITEMNMBR]]","v":"CAL004"},"Butterflies & Flowers Popcorn Tin - 3.5 gal - Traditional","RETAIL",49.99]
["CAL005",{"$f":"Table_prices[[#This Row],[ITEMNMBR]]","v":"CAL005"},"Butterflies & Flowers Popcorn Tin - 3.5 gal - Traditional","RETAIL",49.99]
["CAL006",{"$f":"Table_prices[[#This Row],[ITEMNMBR]]","v":"CAL006"},"Happy Birthday Popcorn Tin - 2 gal - Chicago Mix","RETAIL",39.99]
["CAL007",{"$f":"Table_prices[[#This Row],[ITEMNMBR]]","v":"CAL007"},"Happy Birthday Popcorn Tin - 2 gal - Chicago Mix","RETAIL",39.99]
["CAL008",{"$f":"Table_prices[[#This Row],[ITEMNMBR]]","v":"CAL008"},"Happy Birthday Popcorn Tin - 2 gal - People's Choice","RETAIL",39.99]
["CAM029",{"$f":"Table_prices[[#This Row],[ITEMNMBR]]","v":"CAM029"},"Happy Birthday Popcorn Tin - 2 gal - People's Choice","RETAIL",39.99]
["CAM030",{"$f":"Table_prices[[#This Row],[ITEMNMBR]]","v":"CAM030"},"Happy Birthday Popcorn Tin - 2 gal - Traditional","RETAIL",39.99]
["CAM032",{"$f":"Table_prices[[#This Row],[ITEMNMBR]]","v":"CAM032"},"Happy Birthday Popcorn Tin - 2 gal - Traditional","RETAIL",39.99]
["CAM033",{"$f":"Table_prices[[#This Row],[ITEMNMBR]]","v":"CAM033"},"Happy Birthday Popcorn Tin - 3.5 gal - Chicago Mix","RETAIL",49.99]
["CAM034",{"$f":"Table_prices[[#This Row],[ITEMNMBR]]","v":"CAM034"},"Happy Birthday Popcorn Tin - 3.5 gal - Chicago Mix","RETAIL",49.99]
["CAM035",{"$f":"Table_prices[[#This Row],[ITEMNMBR]]","v":"CAM035"},"Happy Birthday Popcorn Tin - 3.5 gal - People's Choice","RETAIL",49.99]
["CAM036",{"$f":"Table_prices[[#This Row],[ITEMNMBR]]","v":"CAM036"},"Happy Birthday Popcorn Tin - 3.5 gal - People's Choice","RETAIL",49.99]
["CAM037",{"$f":"Table_prices[[#This Row],[ITEMNMBR]]","v":"CAM037"},"Happy Birthday Popcorn Tin - 3.5 gal - Traditional","RETAIL",49.99]
["CAM038",{"$f":"Table_prices[[#This Row],[ITEMNMBR]]","v":"CAM038"},"Happy Birthday Popcorn Tin - 3.5 gal - Traditional","RETAIL",49.99]
["CAM039",{"$f":"Table_prices[[#This Row],[ITEMNMBR]]","v":"CAM039"},"Happy Birthday Popcorn Tin - 2 Gallon - Birthday Cake Popcorn","RETAIL",49.99]
["CAM040",{"$f":"Table_prices[[#This Row],[ITEMNMBR]]","v":"CAM040"},"Happy Birthday Popcorn Tin - 2 Gallon - Birthday Cake Popcorn","RETAIL",49.99]
["CAM041",{"$f":"Table_prices[[#This Row],[ITEMNMBR]]","v":"CAM041"},"Happy Birthday Popcorn Tin - 3.5 gal - Birthday Cake Popcorn","RETAIL",59.99]
["CAM042",{"$f":"Table_prices[[#This Row],[ITEMNMBR]]","v":"CAM042"},"Happy Birthday Popcorn Tin - 3.5 gal - Birthday Cake Popcorn","RETAIL",59.99]
["CAP001",{"$f":"Table_prices[[#This Row],[ITEMNMBR]]","v":"CAP001"},"MicroStrategy Corporate Gift Basket","RETAIL",199.99]
["CAP002",{"$f":"Table_prices[[#This Row],[ITEMNMBR]]","v":"CAP002"},"Traditional Gourmet Popcorn Tin - 2 Gallon","RETAIL",39.99]
["CAP003",{"$f":"Table_prices[[#This Row],[ITEMNMBR]]","v":"CAP003"},"Traditional Gourmet Popcorn Tin - 2 Gallon","RETAIL",39.99]
["CAP004",{"$f":"Table_prices[[#This Row],[ITEMNMBR]]","v":"CAP004"},"Traditional Gourmet Popcorn Tin - 2 Gallon","RETAIL",39.99]
["CAP005",{"$f":"Table_prices[[#This Row],[ITEMNMBR]]","v":"CAP005"},"Traditional Gourmet Popcorn Tin - 3.5 Gallon","RETAIL",49.99]
["CAP006",{"$f":"Table_prices[[#This Row],[ITEMNMBR]]","v":"CAP006"},"Traditional Gourmet Popcorn Tin - 3.5 Gallon","RETAIL",49.99]
["CAP007",{"$f":"Table_prices[[#This Row],[ITEMNMBR]]","v":"CAP007"},"Traditional Gourmet Popcorn Tin - 1 Gallon","RETAIL",19.989999999999998]
["CAP008",{"$f":"Table_prices[[#This Row],[ITEMNMBR]]","v":"CAP008"},"Traditional  Gourmet Popcorn Tin - 1 Gallon","RETAIL",19.989999999999998]
["CAP009",{"$f":"Table_prices[[#This Row],[ITEMNMBR]]","v":"CAP009"},"Festive Favorites Popcorn Tin - 2 Gallon","RETAIL",39.99]
["CAP010",{"$f":"Table_prices[[#This Row],[ITEMNMBR]]","v":"CAP010"},"Festive Favorites Popcorn Tin - 2 Gallon","RETAIL",39.99]
["CAP011",{"$f":"Table_prices[[#This Row],[ITEMNMBR]]","v":"CAP011"},"Festive Favorites Popcorn Tin - 3.5 Gallon","RETAIL",49.99]
["CAP012",{"$f":"Table_prices[[#This Row],[ITEMNMBR]]","v":"CAP012"},"Festive Favorites Popcorn Tin - 3.5 Gallon","RETAIL",49.99]
["CAP013",{"$f":"Table_prices[[#This Row],[ITEMNMBR]]","v":"CAP013"},"Festive Favorites Popcorn Tin - 1 Gallon","RETAIL",19.989999999999998]
["CAP014",{"$f":"Table_prices[[#This Row],[ITEMNMBR]]","v":"CAP014"},"Festive Favorites Popcorn Tin - 1 Gallon","RETAIL",19.989999999999998]
["CAS001",{"$f":"Table_prices[[#This Row],[ITEMNMBR]]","v":"CAS001"},"Pub Picks Popcorn Tin - 2 Gallon","RETAIL",39.99]
["CAS002",{"$f":"Table_prices[[#This Row],[ITEMNMBR]]","v":"CAS002"},"Pub Picks Popcorn Tin - 2 Gallon","RETAIL",39.99]
["CAS003",{"$f":"Table_prices[[#This Row],[ITEMNMBR]]","v":"CAS003"},"Pub Picks Popcorn Tin - 3.5 Gallon","RETAIL",49.99]
["CAS004",{"$f":"Table_prices[[#This Row],[ITEMNMBR]]","v":"CAS004"},"Pub Picks Popcorn Tin - 3.5 Gallon","RETAIL",49.99]
["CAS005",{"$f":"Table_prices[[#This Row],[ITEMNMBR]]","v":"CAS005"},"Pub Picks Popcorn Tin - 1 Gallon","RETAIL",19.989999999999998]
["CAS006",{"$f":"Table_prices[[#This Row],[ITEMNMBR]]","v":"CAS006"},"Pub Picks Popcorn Tin - 1 Gallon","RETAIL",19.989999999999998]
["CAS007",{"$f":"Table_prices[[#This Row],[ITEMNMBR]]","v":"CAS007"},"The Spice Is Right Popcorn Tin - 2 Gallon","RETAIL",39.99]
["CAS008",{"$f":"Table_prices[[#This Row],[ITEMNMBR]]","v":"CAS008"},"The Spice Is Right Popcorn Tin - 2 Gallon","RETAIL",39.99]
["CAS009",{"$f":"Table_prices[[#This Row],[ITEMNMBR]]","v":"CAS009"},"The Spice Is Right Popcorn Tin - 3.5 Gallon","RETAIL",49.99]
["CDBC01",{"$f":"Table_prices[[#This Row],[ITEMNMBR]]","v":"CDBC01"},"The Spice Is Right Popcorn Tin - 3.5 Gallon","RETAIL",49.99]
["CDGC01",{"$f":"Table_prices[[#This Row],[ITEMNMBR]]","v":"CDGC01"},"The Spice Is Right Popcorn Tin - 1 Gallon","RETAIL",19.989999999999998]
["CDGUYC",{"$f":"Table_prices[[#This Row],[ITEMNMBR]]","v":"CDGUYC"},"The Spice Is Right Popcorn Tin - 1 Gallon","RETAIL",19.989999999999998]
["CDLL01",{"$f":"Table_prices[[#This Row],[ITEMNMBR]]","v":"CDLL01"},"Chocolate Dreams Popcorn Tin - 2 Gallon","RETAIL",49.99]
["CDMC01",{"$f":"Table_prices[[#This Row],[ITEMNMBR]]","v":"CDMC01"},"Chocolate Dreams Popcorn Tin - 2 Gallon","RETAIL",49.99]
["CDMC02",{"$f":"Table_prices[[#This Row],[ITEMNMBR]]","v":"CDMC02"},"Chocolate Dreams Popcorn Tin - 3.5 Gallon","RETAIL",59.99]
["CDMC03",{"$f":"Table_prices[[#This Row],[ITEMNMBR]]","v":"CDMC03"},"Chocolate Dreams Popcorn Tin - 3.5 Gallon","RETAIL",59.99]
["CDMC04",{"$f":"Table_prices[[#This Row],[ITEMNMBR]]","v":"CDMC04"},"Chocolate Dreams Popcorn Tin - 1 Gallon","RETAIL",24.99]
["CDMC05",{"$f":"Table_prices[[#This Row],[ITEMNMBR]]","v":"CDMC05"},"Chocolate Dreams Popcorn Tin - 1 Gallon","RETAIL",24.99]
["CHA001",{"$f":"Table_prices[[#This Row],[ITEMNMBR]]","v":"CHA001"},"Island Paradise Popcorn Tin - 2 Gallon","RETAIL",49.99]
["CHA002",{"$f":"Table_prices[[#This Row],[ITEMNMBR]]","v":"CHA002"},"Island Paradise Popcorn Tin - 2 Gallon","RETAIL",49.99]
["CHI001",{"$f":"Table_prices[[#This Row],[ITEMNMBR]]","v":"CHI001"},"Island Paradise Popcorn Tin - 3.5 Gallon","RETAIL",59.99]
["CHI002",{"$f":"Table_prices[[#This Row],[ITEMNMBR]]","v":"CHI002"},"Island Paradise Popcorn Tin - 3.5 Gallon","RETAIL",59.99]
["CHM001",{"$f":"Table_prices[[#This Row],[ITEMNMBR]]","v":"CHM001"},"Island Paradise Popcorn Tin - 1 Gallon","RETAIL",24.99]
["CHO001",{"$f":"Table_prices[[#This Row],[ITEMNMBR]]","v":"CHO001"},"Island Paradise Popcorn Tin - 1 Gallon","RETAIL",24.99]
["CHO002",{"$f":"Table_prices[[#This Row],[ITEMNMBR]]","v":"CHO002"},"King's Kettle Blend Popcorn Tin - 2 Gallon","RETAIL",39.99]
["CHO003",{"$f":"Table_prices[[#This Row],[ITEMNMBR]]","v":"CHO003"},"King's Kettle Blend Popcorn Tin - 2 Gallon","RETAIL",39.99]
["CHO004",{"$f":"Table_prices[[#This Row],[ITEMNMBR]]","v":"CHO004"},"King's Kettle Blend Popcorn Tin - 3.5 Gallon","RETAIL",49.99]
["CHO007",{"$f":"Table_prices[[#This Row],[ITEMNMBR]]","v":"CHO007"},"King's Kettle Blend Popcorn Tin - 3.5 Gallon","RETAIL",49.99]
["CLO001",{"$f":"Table_prices[[#This Row],[ITEMNMBR]]","v":"CLO001"},"King's Kettle Blend Popcorn Tin - 1 Gallon","RETAIL",19.989999999999998]
["CLO002",{"$f":"Table_prices[[#This Row],[ITEMNMBR]]","v":"CLO002"},"King's Kettle Blend Popcorn Tin - 1 Gallon","RETAIL",19.989999999999998]
["CLO003",{"$f":"Table_prices[[#This Row],[ITEMNMBR]]","v":"CLO003"},"Fruit Twist Popcorn Tin - 2 Gallon","RETAIL",39.99]
["CLS001",{"$f":"Table_prices[[#This Row],[ITEMNMBR]]","v":"CLS001"},"Fruit Twist Popcorn Tin - 2 Gallon","RETAIL",39.99]
["CLS002",{"$f":"Table_prices[[#This Row],[ITEMNMBR]]","v":"CLS002"},"Fruit Twist Popcorn Tin - 3.5 Gallon","RETAIL",49.99]
["CLS003",{"$f":"Table_prices[[#This Row],[ITEMNMBR]]","v":"CLS003"},"Fruit Twist Popcorn Tin - 3.5 Gallon","RETAIL",49.99]
["CLS004",{"$f":"Table_prices[[#This Row],[ITEMNMBR]]","v":"CLS004"},"Fruit Twist Popcorn Tin - 1 Gallon","RETAIL",19.989999999999998]
["CLS005",{"$f":"Table_prices[[#This Row],[ITEMNMBR]]","v":"CLS005"},"Fruit Twist Popcorn Tin - 1 Gallon","RETAIL",19.989999999999998]
["CLS006",{"$f":"Table_prices[[#This Row],[ITEMNMBR]]","v":"CLS006"},"Classic Chicago  Popcorn Tin - 2 Gallon","RETAIL",39.99]
["CLS007",{"$f":"Table_prices[[#This Row],[ITEMNMBR]]","v":"CLS007"},"Classic Chicago  Popcorn Tin - 2 Gallon","RETAIL",39.99]
["CLS008",{"$f":"Table_prices[[#This Row],[ITEMNMBR]]","v":"CLS008"},"Classic Chicago  Popcorn Tin - 3.5 Gallon","RETAIL",49.99]
["CMJ001",{"$f":"Table_prices[[#This Row],[ITEMNMBR]]","v":"CMJ001"},"Classic Chicago  Popcorn Tin - 3.5 Gallon","RETAIL",49.99]
["CMJ002",{"$f":"Table_prices[[#This Row],[ITEMNMBR]]","v":"CMJ002"},"Classic Chicago  Popcorn Tin - 1 Gallon","RETAIL",19.989999999999998]
["COB001",{"$f":"Table_prices[[#This Row],[ITEMNMBR]]","v":"COB001"},"Classic Chicago  Popcorn Tin - 1 Gallon","RETAIL",19.989999999999998]
["COB002",{"$f":"Table_prices[[#This Row],[ITEMNMBR]]","v":"COB002"},"Loaded Baked Potato Popcorn Tin - 2 Gallon","RETAIL",39.99]
["COB003",{"$f":"Table_prices[[#This Row],[ITEMNMBR]]","v":"COB003"},"Loaded Baked Potato Popcorn Tin - 2 Gallon","RETAIL",39.99]
["COB004",{"$f":"Table_prices[[#This Row],[ITEMNMBR]]","v":"COB004"},"Loaded Baked Potato Popcorn Tin - 3.5 Gallon","RETAIL",49.99]
["COB005",{"$f":"Table_prices[[#This Row],[ITEMNMBR]]","v":"COB005"},"Loaded Baked Potato Popcorn Tin - 3.5 Gallon","RETAIL",49.99]
["COB006",{"$f":"Table_prices[[#This Row],[ITEMNMBR]]","v":"COB006"},"Loaded Baked Potato Popcorn Tin - 1 Gallon","RETAIL",19.989999999999998]
["COB007",{"$f":"Table_prices[[#This Row],[ITEMNMBR]]","v":"COB007"},"Loaded Baked Potato Popcorn Tin - 1 Gallon","RETAIL",19.989999999999998]
["COC001",{"$f":"Table_prices[[#This Row],[ITEMNMBR]]","v":"COC001"},"Tutti Frutti Popcorn Tin - 2 Gallon","RETAIL",39.99]
["COC002",{"$f":"Table_prices[[#This Row],[ITEMNMBR]]","v":"COC002"},"Tutti Frutti Popcorn Tin - 2 Gallon","RETAIL",39.99]
["COC003",{"$f":"Table_prices[[#This Row],[ITEMNMBR]]","v":"COC003"},"Tutti Frutti Popcorn Tin - 3.5 Gallon","RETAIL",49.99]
["COF001",{"$f":"Table_prices[[#This Row],[ITEMNMBR]]","v":"COF001"},"Tutti Frutti Popcorn Tin - 3.5 Gallon","RETAIL",49.99]
["COF002",{"$f":"Table_prices[[#This Row],[ITEMNMBR]]","v":"COF002"},"Tutti Frutti Popcorn Tin - 1 Gallon","RETAIL",19.989999999999998]
["COF003",{"$f":"Table_prices[[#This Row],[ITEMNMBR]]","v":"COF003"},"Tutti Frutti Popcorn Tin - 1 Gallon","RETAIL",19.989999999999998]
["COF004",{"$f":"Table_prices[[#This Row],[ITEMNMBR]]","v":"COF004"},"Limited Edition Chocolate Popcorn Tin - 1 Gallon","RETAIL",19.989999999999998]
["COF005",{"$f":"Table_prices[[#This Row],[ITEMNMBR]]","v":"COF005"},"Birthday Cake 2 Gallon","RETAIL",49.99]
["COF006",{"$f":"Table_prices[[#This Row],[ITEMNMBR]]","v":"COF006"},"Birthday Cake 3.5 Gallon","RETAIL",59.99]
["COF007",{"$f":"Table_prices[[#This Row],[ITEMNMBR]]","v":"COF007"},"Birthday Cake 1 Gallon","RETAIL",24.99]
["COF008",{"$f":"Table_prices[[#This Row],[ITEMNMBR]]","v":"COF008"},"Triple Chocolate Caramel 2 Gallon","RETAIL",49.99]
["COF009",{"$f":"Table_prices[[#This Row],[ITEMNMBR]]","v":"COF009"},"Triple Chocolate Caramel 2 Gallon","RETAIL",49.99]
["COF010",{"$f":"Table_prices[[#This Row],[ITEMNMBR]]","v":"COF010"},"Triple Chocolate Caramel 3.5 Gallon","RETAIL",59.99]
["CON001",{"$f":"Table_prices[[#This Row],[ITEMNMBR]]","v":"CON001"},"Triple Chocolate Caramel 3.5 Gallon","RETAIL",59.99]
["CRE001",{"$f":"Table_prices[[#This Row],[ITEMNMBR]]","v":"CRE001"},"Triple Chocolate Caramel 1 Gallon","RETAIL",24.99]
["CRO001",{"$f":"Table_prices[[#This Row],[ITEMNMBR]]","v":"CRO001"},"Triple Chocolate Caramel 1 Gallon","RETAIL",24.99]
["CRO002",{"$f":"Table_prices[[#This Row],[ITEMNMBR]]","v":"CRO002"},"7114A - Triple Cheddar 2 Gallon","RETAIL",39.99]
["CRO003",{"$f":"Table_prices[[#This Row],[ITEMNMBR]]","v":"CRO003"},"7114A - Triple Cheddar 2 Gallon","RETAIL",39.99]
["CRO004",{"$f":"Table_prices[[#This Row],[ITEMNMBR]]","v":"CRO004"},"Triple Cheddar 3.5 Gallon","RETAIL",49.99]
["CRO005",{"$f":"Table_prices[[#This Row],[ITEMNMBR]]","v":"CRO005"},"Triple Cheddar 3.5 Gallon","RETAIL",49.99]
["CRO006",{"$f":"Table_prices[[#This Row],[ITEMNMBR]]","v":"CRO006"},"7114A - Triple Cheddar 1 Gallon","RETAIL",19.989999999999998]
["CRO007",{"$f":"Table_prices[[#This Row],[ITEMNMBR]]","v":"CRO007"},"7114A - Triple Cheddar 1 Gallon","RETAIL",19.989999999999998]
["CRO008",{"$f":"Table_prices[[#This Row],[ITEMNMBR]]","v":"CRO008"},"Let Them Eat Cake 2 Gallon","RETAIL",49.99]
["CRO009",{"$f":"Table_prices[[#This Row],[ITEMNMBR]]","v":"CRO009"},"Let Them Eat Cake 2 Gallon","RETAIL",49.99]
["CRO011",{"$f":"Table_prices[[#This Row],[ITEMNMBR]]","v":"CRO011"},"Let Them Eat Cake 3.5 Gallon","RETAIL",59.99]
["CRO014",{"$f":"Table_prices[[#This Row],[ITEMNMBR]]","v":"CRO014"},"Let Them Eat Cake 3.5 Gallon","RETAIL",59.99]
["CRO015",{"$f":"Table_prices[[#This Row],[ITEMNMBR]]","v":"CRO015"},"Let Them Eat Cake 1 Gallon","RETAIL",24.99]
["CRO016",{"$f":"Table_prices[[#This Row],[ITEMNMBR]]","v":"CRO016"},"Let Them Eat Cake 1 Gallon","RETAIL",24.99]
["CRO017",{"$f":"Table_prices[[#This Row],[ITEMNMBR]]","v":"CRO017"},"People's Choice Gourmet Popcorn Tin -  2 Gallon","RETAIL",39.99]
["CRO019",{"$f":"Table_prices[[#This Row],[ITEMNMBR]]","v":"CRO019"},"People's Choice Gourmet Popcorn Tin - 2 Gallon","RETAIL",39.99]
["CRO022",{"$f":"Table_prices[[#This Row],[ITEMNMBR]]","v":"CRO022"},"People's Choice Gourmet Popcorn Tin -  3.5 Gallon","RETAIL",49.99]
["CRO023",{"$f":"Table_prices[[#This Row],[ITEMNMBR]]","v":"CRO023"},"People's Choice Gourmet Popcorn Tin - 3.5 Gallon","RETAIL",49.99]
["CRO024",{"$f":"Table_prices[[#This Row],[ITEMNMBR]]","v":"CRO024"},"People's Choice Gourmet Popcorn Tin - 1 Gallon","RETAIL",19.989999999999998]
["CRO026",{"$f":"Table_prices[[#This Row],[ITEMNMBR]]","v":"CRO026"},"People's Choice Gourmet Popcorn Tin - 1 Gallon","RETAIL",19.989999999999998]
["CRO027",{"$f":"Table_prices[[#This Row],[ITEMNMBR]]","v":"CRO027"},"Triple Crown 2 Gallon","RETAIL",49.99]
["CRO028",{"$f":"Table_prices[[#This Row],[ITEMNMBR]]","v":"CRO028"},"Triple Crown 2 Gallon","RETAIL",49.99]
["CRO029",{"$f":"Table_prices[[#This Row],[ITEMNMBR]]","v":"CRO029"},"Triple Crown 3.5 Gallon","RETAIL",59.99]
["CRO030",{"$f":"Table_prices[[#This Row],[ITEMNMBR]]","v":"CRO030"},"Triple Crown 3.5 Gallon","RETAIL",59.99]
["CRO031",{"$f":"Table_prices[[#This Row],[ITEMNMBR]]","v":"CRO031"},"Triple Crown 1 Gallon","RETAIL",24.99]
["CRO032",{"$f":"Table_prices[[#This Row],[ITEMNMBR]]","v":"CRO032"},"Triple Crown 1 Gallon","RETAIL",24.99]
["CRO033",{"$f":"Table_prices[[#This Row],[ITEMNMBR]]","v":"CRO033"},"Confetti Popcorn 2 Gallon","RETAIL",39.99]
["CRO034",{"$f":"Table_prices[[#This Row],[ITEMNMBR]]","v":"CRO034"},"Confetti Popcorn 2 Gallon","RETAIL",39.99]
["CRO035",{"$f":"Table_prices[[#This Row],[ITEMNMBR]]","v":"CRO035"},"Confetti Popcorn 3.5 Gallon","RETAIL",49.99]
["CRO036",{"$f":"Table_prices[[#This Row],[ITEMNMBR]]","v":"CRO036"},"Confetti Popcorn 3.5 Gallon","RETAIL",49.99]
["CRO037",{"$f":"Table_prices[[#This Row],[ITEMNMBR]]","v":"CRO037"},"Confetti Popcorn 1 Gallon","RETAIL",19.989999999999998]
["CS00001",{"$f":"Table_prices[[#This Row],[ITEMNMBR]]","v":"CS00001"},"Confetti Popcorn 1 Gallon","RETAIL",19.989999999999998]
["CS0002",{"$f":"Table_prices[[#This Row],[ITEMNMBR]]","v":"CS0002"},"Pub Tin - Buffalo Popcorn & Pretzels","RETAIL",22.99]
["CS0003",{"$f":"Table_prices[[#This Row],[ITEMNMBR]]","v":"CS0003"},"Pub Tin - Buffalo Popcorn & Pretzels","RETAIL",22.99]
["CS0004",{"$f":"Table_prices[[#This Row],[ITEMNMBR]]","v":"CS0004"},"Pub Tin - Honey Mustard Popcorn & Pretzels","RETAIL",22.99]
["CS0005",{"$f":"Table_prices[[#This Row],[ITEMNMBR]]","v":"CS0005"},"Pub Tin - Honey Mustard Popcorn & Pretzels","RETAIL",22.99]
["CS0006",{"$f":"Table_prices[[#This Row],[ITEMNMBR]]","v":"CS0006"},"Pub Tin - Sea Salt & Cracked Pepper Popcorn & Pretzels","RETAIL",22.99]
["CS0007",{"$f":"Table_prices[[#This Row],[ITEMNMBR]]","v":"CS0007"},"Pub Tin - Sea Salt & Cracked Pepper Popcorn & Pretzels","RETAIL",22.99]
["CS0008",{"$f":"Table_prices[[#This Row],[ITEMNMBR]]","v":"CS0008"},"Party Tin - Popcorn, Pretzels & Peanuts - 2 Gallon","RETAIL",39.99]
["CS0009",{"$f":"Table_prices[[#This Row],[ITEMNMBR]]","v":"CS0009"},"Party Tin - Popcorn, Pretzels & Peanuts - 2 Gallon","RETAIL",39.99]
["CS0010",{"$f":"Table_prices[[#This Row],[ITEMNMBR]]","v":"CS0010"},"Party Tin - Popcorn, Pretzels & Peanuts - 3.5 Gallon","RETAIL",49.99]
["CS0011",{"$f":"Table_prices[[#This Row],[ITEMNMBR]]","v":"CS0011"},"Party Tin - Popcorn, Pretzels & Peanuts - 3.5 Gallon","RETAIL",49.99]
["CS0012",{"$f":"Table_prices[[#This Row],[ITEMNMBR]]","v":"CS0012"},"Mother's Day Popcorn Tin - 2 Gallon","RETAIL",49.99]
["CS0013",{"$f":"Table_prices[[#This Row],[ITEMNMBR]]","v":"CS0013"},"Mother's Day Popcorn Tin - 2 Gallon","RETAIL",49.99]
["CS0014",{"$f":"Table_prices[[#This Row],[ITEMNMBR]]","v":"CS0014"},"Mother's Day Popcorn Tin - 3.5 Gallon","RETAIL",59.99]
["CS0015",{"$f":"Table_prices[[#This Row],[ITEMNMBR]]","v":"CS0015"},"Mother's Day Popcorn Tin - 3.5 Gallon","RETAIL",59.99]
["CS0016",{"$f":"Table_prices[[#This Row],[ITEMNMBR]]","v":"CS0016"},"Mother's Day Popcorn Tin - 1 Gallon","RETAIL",24.99]
["CS0017",{"$f":"Table_prices[[#This Row],[ITEMNMBR]]","v":"CS0017"},"Mother's Day Popcorn Tin - 1 Gallon","RETAIL",24.99]
["CS0018",{"$f":"Table_prices[[#This Row],[ITEMNMBR]]","v":"CS0018"},"Mother's Day Popcorn Tin - 2 gal - Chicago","RETAIL",39.99]
["CS0019",{"$f":"Table_prices[[#This Row],[ITEMNMBR]]","v":"CS0019"},"Mother's Day Popcorn Tin - 2 gal - Chicago","RETAIL",39.99]
["CS0020",{"$f":"Table_prices[[#This Row],[ITEMNMBR]]","v":"CS0020"},"Mother's Day Popcorn Tin - 2 gal - People's Choice","RETAIL",39.99]
["CS0021",{"$f":"Table_prices[[#This Row],[ITEMNMBR]]","v":"CS0021"},"Mother's Day Popcorn Tin - 2 gal - People's Choice","RETAIL",39.99]
["CS0022",{"$f":"Table_prices[[#This Row],[ITEMNMBR]]","v":"CS0022"},"Mother's Day Popcorn Tin - 2 gal - Traditional","RETAIL",39.99]
["CS0023",{"$f":"Table_prices[[#This Row],[ITEMNMBR]]","v":"CS0023"},"Mother's Day Popcorn Tin - 2 gal - Traditional","RETAIL",39.99]
["CS0024",{"$f":"Table_prices[[#This Row],[ITEMNMBR]]","v":"CS0024"},"Mother's Day Popcorn Tin - 3.5 gal - Chicago","RETAIL",49.99]
["CS0025",{"$f":"Table_prices[[#This Row],[ITEMNMBR]]","v":"CS0025"},"Mother's Day Popcorn Tin - 3.5 gal - Chicago","RETAIL",49.99]
["CS0026",{"$f":"Table_prices[[#This Row],[ITEMNMBR]]","v":"CS0026"},"Mother's Day Popcorn Tin - 3.5 gal - People's Choice","RETAIL",49.99]
["CS0027",{"$f":"Table_prices[[#This Row],[ITEMNMBR]]","v":"CS0027"},"Mother's Day Popcorn Tin - 3.5 gal - People's Choice","RETAIL",49.99]
["CS0028",{"$f":"Table_prices[[#This Row],[ITEMNMBR]]","v":"CS0028"},"Mother's Day Popcorn Tin - 3.5 gal - Traditional","RETAIL",49.99]
["CS0029",{"$f":"Table_prices[[#This Row],[ITEMNMBR]]","v":"CS0029"},"Mother's Day Popcorn Tin - 3.5 gal - Traditional","RETAIL",49.99]
["CS0030",{"$f":"Table_prices[[#This Row],[ITEMNMBR]]","v":"CS0030"},"Celebrate Mom Popcorn Tin - 2 gal -","RETAIL",0]
["CS0031",{"$f":"Table_prices[[#This Row],[ITEMNMBR]]","v":"CS0031"},"Celebrate Mom Popcorn Tin - 2 gal -","RETAIL",0]
["CS0032",{"$f":"Table_prices[[#This Row],[ITEMNMBR]]","v":"CS0032"},"Celebrate Mom Popcorn Tin - 3.5 gal -","RETAIL",0]
["CS0033",{"$f":"Table_prices[[#This Row],[ITEMNMBR]]","v":"CS0033"},"Celebrate Mom Popcorn Tin - 3.5 gal -","RETAIL",0]
["CS0034",{"$f":"Table_prices[[#This Row],[ITEMNMBR]]","v":"CS0034"},"Father's Day Wings, Skins & Ribs Popcorn Tin","RETAIL",39.99]
["CS0035",{"$f":"Table_prices[[#This Row],[ITEMNMBR]]","v":"CS0035"},"Father's Day Wings, Skins & Ribs Popcorn Tin","RETAIL",39.99]
["CS0036",{"$f":"Table_prices[[#This Row],[ITEMNMBR]]","v":"CS0036"},"Father's Day Wings, Skins & Ribs Popcorn Tin","RETAIL",49.99]
["CS0037",{"$f":"Table_prices[[#This Row],[ITEMNMBR]]","v":"CS0037"},"Father's Day Wings, Skins & Ribs Popcorn Tin","RETAIL",49.99]
["CS0038",{"$f":"Table_prices[[#This Row],[ITEMNMBR]]","v":"CS0038"},"Father's Day Wings, Skins & Ribs Popcorn Tin","RETAIL",19.989999999999998]
["CS0039",{"$f":"Table_prices[[#This Row],[ITEMNMBR]]","v":"CS0039"},"Father's Day Wings, Skins & Ribs Popcorn Tin","RETAIL",19.989999999999998]
["CS0040",{"$f":"Table_prices[[#This Row],[ITEMNMBR]]","v":"CS0040"},"Goblin's Grub 2 Gallon - Haunted House Tin","RETAIL",49.99]
["CS0041",{"$f":"Table_prices[[#This Row],[ITEMNMBR]]","v":"CS0041"},"Spooky Eyes 2 Gallon Tin - Chicago","RETAIL",39.99]
["CS0042",{"$f":"Table_prices[[#This Row],[ITEMNMBR]]","v":"CS0042"},"Spooky Eyes 2 Gallon - Chicago","RETAIL",39.99]
["CS0043",{"$f":"Table_prices[[#This Row],[ITEMNMBR]]","v":"CS0043"},"Goblin's Grub 2 Gallon","RETAIL",49.99]
["CS0044",{"$f":"Table_prices[[#This Row],[ITEMNMBR]]","v":"CS0044"},"Spooky Eyes 2 Gallon Tin - People's Choice","RETAIL",39.99]
["CS0045",{"$f":"Table_prices[[#This Row],[ITEMNMBR]]","v":"CS0045"},"Spooky Eyes 2 Gallon - People's Choice","RETAIL",39.99]
["CS0046",{"$f":"Table_prices[[#This Row],[ITEMNMBR]]","v":"CS0046"},"Spooky Eyes 2 Gallon Tin - Traditional Popcorn","RETAIL",39.99]
["CS0047",{"$f":"Table_prices[[#This Row],[ITEMNMBR]]","v":"CS0047"},"Spooky Eyes 2 Gallon - Traditional","RETAIL",39.99]
["CS0048",{"$f":"Table_prices[[#This Row],[ITEMNMBR]]","v":"CS0048"},"Goblin's Grub 3.5 Gallon - Haunted House Tin","RETAIL",59.99]
["CS0049",{"$f":"Table_prices[[#This Row],[ITEMNMBR]]","v":"CS0049"},"Spooky Eyes 3.5 Gallon - Chicago","RETAIL",49.99]
["CS0050",{"$f":"Table_prices[[#This Row],[ITEMNMBR]]","v":"CS0050"},"Spooky Eyes 3.5 Gallon - Chicago","RETAIL",49.99]
["CS0051",{"$f":"Table_prices[[#This Row],[ITEMNMBR]]","v":"CS0051"},"Goblin's Grub 3.5 Gallon","RETAIL",59.99]
["CS0052",{"$f":"Table_prices[[#This Row],[ITEMNMBR]]","v":"CS0052"},"Spooky Eyes 3.5 Gallon - People's Choice","RETAIL",49.99]
["CS0053",{"$f":"Table_prices[[#This Row],[ITEMNMBR]]","v":"CS0053"},"Spooky Eyes 3.5 Gallon - People's Choice","RETAIL",49.99]
["CS0054",{"$f":"Table_prices[[#This Row],[ITEMNMBR]]","v":"CS0054"},"Spooky Eyes 3.5 Gallon - Traditional","RETAIL",49.99]
["CS0055",{"$f":"Table_prices[[#This Row],[ITEMNMBR]]","v":"CS0055"},"Spooky Eyes 3.5 Gallon - Traditional","RETAIL",49.99]
["CS0056",{"$f":"Table_prices[[#This Row],[ITEMNMBR]]","v":"CS0056"},"Goblin's Grub 1 Gallon","RETAIL",24.99]
["CS0057",{"$f":"Table_prices[[#This Row],[ITEMNMBR]]","v":"CS0057"},"Goblin's Grub 1 Gallon","RETAIL",24.99]
["CS0058",{"$f":"Table_prices[[#This Row],[ITEMNMBR]]","v":"CS0058"},"Monster Munch 2 Gallon - Spooky Eyes Tin","RETAIL",39.99]
["CS0059",{"$f":"Table_prices[[#This Row],[ITEMNMBR]]","v":"CS0059"},"Haunted House 2 Gallon Tin - Chicago","RETAIL",39.99]
["CS0060",{"$f":"Table_prices[[#This Row],[ITEMNMBR]]","v":"CS0060"},"Haunted House 2 Gallon - Chicago","RETAIL",39.99]
["CS0061",{"$f":"Table_prices[[#This Row],[ITEMNMBR]]","v":"CS0061"},"Monster Munch 2 Gallon","RETAIL",39.99]
["CS0062",{"$f":"Table_prices[[#This Row],[ITEMNMBR]]","v":"CS0062"},"Haunted House 2 Gallon Tin - People's Choice","RETAIL",39.99]
["CS0063",{"$f":"Table_prices[[#This Row],[ITEMNMBR]]","v":"CS0063"},"Haunted House 2 Gallon - People's Choice","RETAIL",39.99]
["CS0064",{"$f":"Table_prices[[#This Row],[ITEMNMBR]]","v":"CS0064"},"Haunted House 2 Gallon Tin - Traditional Popcorn","RETAIL",39.99]
["CS0065",{"$f":"Table_prices[[#This Row],[ITEMNMBR]]","v":"CS0065"},"Haunted House 2 Gallon - Traditional","RETAIL",39.99]
["CS0066",{"$f":"Table_prices[[#This Row],[ITEMNMBR]]","v":"CS0066"},"Monster Munch 3.5 Gallon - Spooky Eyes Tin","RETAIL",49.99]
["CS0067",{"$f":"Table_prices[[#This Row],[ITEMNMBR]]","v":"CS0067"},"Haunted House 3.5 Gallon - Chicago","RETAIL",49.99]
["CS0068",{"$f":"Table_prices[[#This Row],[ITEMNMBR]]","v":"CS0068"},"Haunted House 3.5 Gallon - Chicago","RETAIL",49.99]
["CS0069",{"$f":"Table_prices[[#This Row],[ITEMNMBR]]","v":"CS0069"},"Monster Munch 3.5 Gallon","RETAIL",49.99]
["CS0070",{"$f":"Table_prices[[#This Row],[ITEMNMBR]]","v":"CS0070"},"Haunted House 3.5 Gallon - People's Choice","RETAIL",49.99]
["CS0071",{"$f":"Table_prices[[#This Row],[ITEMNMBR]]","v":"CS0071"},"Haunted House 3.5 Gallon - People's Choice","RETAIL",49.99]
["CS0072",{"$f":"Table_prices[[#This Row],[ITEMNMBR]]","v":"CS0072"},"Haunted House 3.5 Gallon - Traditional","RETAIL",49.99]
["CS0073",{"$f":"Table_prices[[#This Row],[ITEMNMBR]]","v":"CS0073"},"Haunted House 3.5 Gallon - Traditional","RETAIL",49.99]
["CS0074",{"$f":"Table_prices[[#This Row],[ITEMNMBR]]","v":"CS0074"},"Monster Munch 1 Gallon","RETAIL",19.989999999999998]
["CS0075",{"$f":"Table_prices[[#This Row],[ITEMNMBR]]","v":"CS0075"},"Monster Munch 1 Gallon","RETAIL",24.99]
["CS0076",{"$f":"Table_prices[[#This Row],[ITEMNMBR]]","v":"CS0076"},"Spooky Eyes 2 Gallon Tin - Chicago","RETAIL",39.99]
["CS0077",{"$f":"Table_prices[[#This Row],[ITEMNMBR]]","v":"CS0077"},"Spooky Eyes 2 Gallon - Chicago","RETAIL",39.99]
["CS0078",{"$f":"Table_prices[[#This Row],[ITEMNMBR]]","v":"CS0078"},"Spooky Eyes 2 Gallon Tin - People's Choice","RETAIL",39.99]
["CS0079",{"$f":"Table_prices[[#This Row],[ITEMNMBR]]","v":"CS0079"},"Spooky Eyes 2 Gallon - People's Choice","RETAIL",39.99]
["CS0080",{"$f":"Table_prices[[#This Row],[ITEMNMBR]]","v":"CS0080"},"Spooky Eyes 2 Gallon Tin - Traditional Popcorn","RETAIL",39.99]
["CS0081",{"$f":"Table_prices[[#This Row],[ITEMNMBR]]","v":"CS0081"},"Spooky Eyes 2 Gallon - Traditional","RETAIL",39.99]
["CS0082",{"$f":"Table_prices[[#This Row],[ITEMNMBR]]","v":"CS0082"},"Spooky Eyes 3.5 Gallon - Chicago","RETAIL",49.99]
["CS0083",{"$f":"Table_prices[[#This Row],[ITEMNMBR]]","v":"CS0083"},"Spooky Eyes 3.5 Gallon - Chicago","RETAIL",49.99]
["CS0084",{"$f":"Table_prices[[#This Row],[ITEMNMBR]]","v":"CS0084"},"Spooky Eyes 3.5 Gallon - People's Choice","RETAIL",49.99]
["CS0085",{"$f":"Table_prices[[#This Row],[ITEMNMBR]]","v":"CS0085"},"Spooky Eyes 3.5 Gallon - People's Choice","RETAIL",49.99]
["CS0086",{"$f":"Table_prices[[#This Row],[ITEMNMBR]]","v":"CS0086"},"Spooky Eyes 3.5 Gallon - Traditional","RETAIL",49.99]
["CS0087",{"$f":"Table_prices[[#This Row],[ITEMNMBR]]","v":"CS0087"},"Spooky Eyes 3.5 Gallon - Traditional","RETAIL",49.99]
["CS0088",{"$f":"Table_prices[[#This Row],[ITEMNMBR]]","v":"CS0088"},"Haunted House 2 Gallon Tin - Chicago","RETAIL",39.99]
["CS0089",{"$f":"Table_prices[[#This Row],[ITEMNMBR]]","v":"CS0089"},"Haunted House 2 Gallon - Chicago","RETAIL",39.99]
["CS0090",{"$f":"Table_prices[[#This Row],[ITEMNMBR]]","v":"CS0090"},"Haunted House 2 Gallon Tin - People's Choice","RETAIL",39.99]
["CS0091",{"$f":"Table_prices[[#This Row],[ITEMNMBR]]","v":"CS0091"},"Haunted House 2 Gallon - People's Choice","RETAIL",39.99]
["CS0092",{"$f":"Table_prices[[#This Row],[ITEMNMBR]]","v":"CS0092"},"Haunted House 2 Gallon Tin - Traditional Popcorn","RETAIL",39.99]
["CS0093",{"$f":"Table_prices[[#This Row],[ITEMNMBR]]","v":"CS0093"},"Haunted House 2 Gallon - Traditional","RETAIL",39.99]
["CS0094",{"$f":"Table_prices[[#This Row],[ITEMNMBR]]","v":"CS0094"},"Haunted House 3.5 Gallon - Chicago","RETAIL",49.99]
["CS0095",{"$f":"Table_prices[[#This Row],[ITEMNMBR]]","v":"CS0095"},"Haunted House 3.5 Gallon - Chicago","RETAIL",49.99]
["CS0096",{"$f":"Table_prices[[#This Row],[ITEMNMBR]]","v":"CS0096"},"Haunted House 3.5 Gallon - People's Choice","RETAIL",49.99]
["CS0098",{"$f":"Table_prices[[#This Row],[ITEMNMBR]]","v":"CS0098"},"Haunted House 3.5 Gallon - People's Choice","RETAIL",49.99]
["CS0099",{"$f":"Table_prices[[#This Row],[ITEMNMBR]]","v":"CS0099"},"Haunted House 3.5 Gallon - Traditional","RETAIL",49.99]
["CS0100",{"$f":"Table_prices[[#This Row],[ITEMNMBR]]","v":"CS0100"},"Haunted House 3.5 Gallon - Traditional","RETAIL",49.99]
["CS0101",{"$f":"Table_prices[[#This Row],[ITEMNMBR]]","v":"CS0101"},"Halloween Popcorn TIn - Caramel Apple - 1 Gallon","RETAIL",19.989999999999998]
["CS0102",{"$f":"Table_prices[[#This Row],[ITEMNMBR]]","v":"CS0102"},"Valentine's Traditional Popcorn Tin - 2 Gallon","RETAIL",39.99]
["CS0103",{"$f":"Table_prices[[#This Row],[ITEMNMBR]]","v":"CS0103"},"Valentine's Day Popcorn Tin - 2 gal - Chicago","RETAIL",39.99]
["CS0104",{"$f":"Table_prices[[#This Row],[ITEMNMBR]]","v":"CS0104"},"Valentine's Day Popcorn Tin - 2 gal - Chicago","RETAIL",39.99]
["CS0105",{"$f":"Table_prices[[#This Row],[ITEMNMBR]]","v":"CS0105"},"Valentine's Traditional Popcorn Tin - 2 Gallon","RETAIL",39.99]
["CS0106",{"$f":"Table_prices[[#This Row],[ITEMNMBR]]","v":"CS0106"},"Valentine's Day Popcorn Tin - 2 gal - People's Choice","RETAIL",39.99]
["CS0107",{"$f":"Table_prices[[#This Row],[ITEMNMBR]]","v":"CS0107"},"Valentine's Day Popcorn Tin - 2 gal - People's Choice","RETAIL",39.99]
["CS0108",{"$f":"Table_prices[[#This Row],[ITEMNMBR]]","v":"CS0108"},"Valentine's Day Popcorn Tin - 2 gal - Traditional","RETAIL",39.99]
["CS0109",{"$f":"Table_prices[[#This Row],[ITEMNMBR]]","v":"CS0109"},"Valentine's Day Popcorn Tin - 2 gal - Traditional","RETAIL",39.99]
["CS0110",{"$f":"Table_prices[[#This Row],[ITEMNMBR]]","v":"CS0110"},"Valentine's Traditional Popcorn Tin - 3.5 Gallon","RETAIL",49.99]
["CS0111",{"$f":"Table_prices[[#This Row],[ITEMNMBR]]","v":"CS0111"},"Valentine's Day Popcorn Tin - 3.5 Gal - Chicago","RETAIL",49.99]
["CS0112",{"$f":"Table_prices[[#This Row],[ITEMNMBR]]","v":"CS0112"},"Valentine's Day Popcorn Tin - 3.5 Gal - Chicago","RETAIL",49.99]
["CS0113",{"$f":"Table_prices[[#This Row],[ITEMNMBR]]","v":"CS0113"},"Valentine's Traditional Popcorn Tin - 3.5 Gallon","RETAIL",49.99]
["CS0114",{"$f":"Table_prices[[#This Row],[ITEMNMBR]]","v":"CS0114"},"Valentine's Day Popcorn Tin - 3.5 Gal - People's Choice","RETAIL",49.99]
["CS0115",{"$f":"Table_prices[[#This Row],[ITEMNMBR]]","v":"CS0115"},"Valentine's Day Popcorn Tin - 3.5 Gal - People's Choice","RETAIL",49.99]
["CS0116",{"$f":"Table_prices[[#This Row],[ITEMNMBR]]","v":"CS0116"},"Valentine's Day Popcorn Tin - 3.5 Gal - Traditional","RETAIL",49.99]
["CS0117",{"$f":"Table_prices[[#This Row],[ITEMNMBR]]","v":"CS0117"},"Valentine's Day Popcorn Tin - 3.5 Gal - Traditional","RETAIL",49.99]
["CS0118",{"$f":"Table_prices[[#This Row],[ITEMNMBR]]","v":"CS0118"},"Valentine's Traditional Popcorn Tin - 1 Gallon","RETAIL",19.989999999999998]
["CS0119",{"$f":"Table_prices[[#This Row],[ITEMNMBR]]","v":"CS0119"},"Valentine's Day Popcorn Tin - 1 Gal - Chicago","RETAIL",19.989999999999998]
["CS0120",{"$f":"Table_prices[[#This Row],[ITEMNMBR]]","v":"CS0120"},"Valentine's Day Popcorn Tin - 1 Gal - Chicago","RETAIL",19.989999999999998]
["CS0121",{"$f":"Table_prices[[#This Row],[ITEMNMBR]]","v":"CS0121"},"Valentine's Traditional Popcorn Tin - 1 Gallon","RETAIL",19.989999999999998]
["CS0122",{"$f":"Table_prices[[#This Row],[ITEMNMBR]]","v":"CS0122"},"Valentine's Day Popcorn Tin - 1 Gal - People's Choice","RETAIL",19.989999999999998]
["CS0123",{"$f":"Table_prices[[#This Row],[ITEMNMBR]]","v":"CS0123"},"Valentine's Day Popcorn Tin - 1 Gal - People's Choice","RETAIL",19.989999999999998]
["CS0124",{"$f":"Table_prices[[#This Row],[ITEMNMBR]]","v":"CS0124"},"Valentine's Day Popcorn Tin - 1 Gal - Traditional","RETAIL",19.989999999999998]
["CS0125",{"$f":"Table_prices[[#This Row],[ITEMNMBR]]","v":"CS0125"},"Valentine's Day Popcorn Tin - 1 Gal - Traditional","RETAIL",19.989999999999998]
["CS0126",{"$f":"Table_prices[[#This Row],[ITEMNMBR]]","v":"CS0126"},"Valentine's Chicago  Popcorn Tin - 2 Gallon","RETAIL",39.99]
["CS0127",{"$f":"Table_prices[[#This Row],[ITEMNMBR]]","v":"CS0127"},"Valentine's Chicago  Popcorn Tin - 2 Gallon","RETAIL",39.99]
["CS0128",{"$f":"Table_prices[[#This Row],[ITEMNMBR]]","v":"CS0128"},"Valentine's Chicago  Popcorn Tin - 3.5 Gallon","RETAIL",49.99]
["CS0129",{"$f":"Table_prices[[#This Row],[ITEMNMBR]]","v":"CS0129"},"Valentine's Chicago  Popcorn Tin - 3.5 Gallon","RETAIL",49.99]
["CS0130",{"$f":"Table_prices[[#This Row],[ITEMNMBR]]","v":"CS0130"},"Valentine's Chicago  Popcorn Tin - 1 Gallon","RETAIL",19.989999999999998]
["CS0131",{"$f":"Table_prices[[#This Row],[ITEMNMBR]]","v":"CS0131"},"Valentine's Chicago  Popcorn Tin - 1 Gallon","RETAIL",19.989999999999998]
["CS0132",{"$f":"Table_prices[[#This Row],[ITEMNMBR]]","v":"CS0132"},"Valentine's Day Chocolate Trio - 2 Gallon","RETAIL",49.99]
["CS0133",{"$f":"Table_prices[[#This Row],[ITEMNMBR]]","v":"CS0133"},"Valentine's Day Chocolate Trio - 2 Gallon","RETAIL",49.99]
["CS0134",{"$f":"Table_prices[[#This Row],[ITEMNMBR]]","v":"CS0134"},"Valentine's Day Chocolate Trio - 3.5 Gallon","RETAIL",59.99]
["CS0135",{"$f":"Table_prices[[#This Row],[ITEMNMBR]]","v":"CS0135"},"Valentine's Day Chocolate Trio - 3.5 Gallon","RETAIL",59.99]
["CS0136",{"$f":"Table_prices[[#This Row],[ITEMNMBR]]","v":"CS0136"},"Valentine's Day Chocolate Trio - 1 Gallon","RETAIL",24.99]
["CS0137",{"$f":"Table_prices[[#This Row],[ITEMNMBR]]","v":"CS0137"},"Valentine's Day Chocolate Trio - 1 Gallon","RETAIL",24.99]
["CS0138",{"$f":"Table_prices[[#This Row],[ITEMNMBR]]","v":"CS0138"},"For My Valentine Popcorn Tin - 2 gal - Chicago","RETAIL",39.99]
["CS0139",{"$f":"Table_prices[[#This Row],[ITEMNMBR]]","v":"CS0139"},"For My Valentine Popcorn Tin - 2 gal - Chicago","RETAIL",39.99]
["CS0140",{"$f":"Table_prices[[#This Row],[ITEMNMBR]]","v":"CS0140"},"For My Valentine Popcorn Tin - 2 gal - People's Choice","RETAIL",39.99]
["CS0141",{"$f":"Table_prices[[#This Row],[ITEMNMBR]]","v":"CS0141"},"For My Valentine Popcorn Tin - 2 gal - People's Choice","RETAIL",39.99]
["CS0142",{"$f":"Table_prices[[#This Row],[ITEMNMBR]]","v":"CS0142"},"For My Valentine Popcorn Tin - 2 gal - Traditional","RETAIL",39.99]
["CS0143",{"$f":"Table_prices[[#This Row],[ITEMNMBR]]","v":"CS0143"},"For My Valentine Popcorn Tin - 2 gal - Traditional","RETAIL",39.99]
["CS0144",{"$f":"Table_prices[[#This Row],[ITEMNMBR]]","v":"CS0144"},"For My Valentine Popcorn Tin - 3.5 Gal - Chicago","RETAIL",49.99]
["CS0145",{"$f":"Table_prices[[#This Row],[ITEMNMBR]]","v":"CS0145"},"For My Valentine Popcorn Tin - 3.5 Gal - Chicago","RETAIL",49.99]
["CS0146",{"$f":"Table_prices[[#This Row],[ITEMNMBR]]","v":"CS0146"},"For My Valentine Popcorn Tin - 3.5 Gal - People's Choice","RETAIL",49.99]
["CS0147",{"$f":"Table_prices[[#This Row],[ITEMNMBR]]","v":"CS0147"},"For My Valentine Popcorn Tin - 3.5 Gal - People's Choice","RETAIL",49.99]
["CS0148",{"$f":"Table_prices[[#This Row],[ITEMNMBR]]","v":"CS0148"},"For My Valentine Popcorn Tin - 3.5 Gal - Traditional","RETAIL",49.99]
["CS0149",{"$f":"Table_prices[[#This Row],[ITEMNMBR]]","v":"CS0149"},"For My Valentine Popcorn Tin - 3.5 Gal - Traditional","RETAIL",49.99]
["CS0150",{"$f":"Table_prices[[#This Row],[ITEMNMBR]]","v":"CS0150"},"Valentine's Day Chocolate Popcorn Tin - 1 Gallon","RETAIL",24.99]
["CS0151",{"$f":"Table_prices[[#This Row],[ITEMNMBR]]","v":"CS0151"},"Valentine's Day Chocolate Popcorn Tin - 1 Gallon","RETAIL",24.99]
["CS0152",{"$f":"Table_prices[[#This Row],[ITEMNMBR]]","v":"CS0152"},"Stripes & Snowflakes Gourmet Popcorn Tin  -  2 gal (Traditional Flavors)","RETAIL",39.99]
["CS0153",{"$f":"Table_prices[[#This Row],[ITEMNMBR]]","v":"CS0153"},"Stripes & Snowflakes Gourmet Popcorn Tin - 2 gal - Chicago  - FREE SHIPPING","RETAIL",44.99]
["CS0154",{"$f":"Table_prices[[#This Row],[ITEMNMBR]]","v":"CS0154"},"Stripes & Snowflakes Gourmet Popcorn Tin - 2 gal - Chicago  - FREE SHIPPING","RETAIL",44.99]
["CS0155",{"$f":"Table_prices[[#This Row],[ITEMNMBR]]","v":"CS0155"},"Stripes & Snowflakes Gourmet Popcorn Tin -  2 gal (Traditional Flavors)","RETAIL",39.99]
["CS0156",{"$f":"Table_prices[[#This Row],[ITEMNMBR]]","v":"CS0156"},"Stripes & Snowflakes Gourmet Popcorn Tin - 2 gal - People's Choice - FREE SHIPPING","RETAIL",44.99]
["CS0157",{"$f":"Table_prices[[#This Row],[ITEMNMBR]]","v":"CS0157"},"Stripes & Snowflakes Gourmet Popcorn Tin - 2 gal - People's Choice - FREE SHIPPING","RETAIL",44.99]
["CS0158",{"$f":"Table_prices[[#This Row],[ITEMNMBR]]","v":"CS0158"},"Stripes & Snowflakes Gourmet Popcorn Tin - 2 gal - Traditional - FREE SHIPPING","RETAIL",44.99]
["CS0159",{"$f":"Table_prices[[#This Row],[ITEMNMBR]]","v":"CS0159"},"Stripes & Snowflakes Gourmet Popcorn Tin - 2 gal - Traditional - FREE SHIPPING","RETAIL",44.99]
["CS0160",{"$f":"Table_prices[[#This Row],[ITEMNMBR]]","v":"CS0160"},"Stripes & Snowflakes Gourmet Popcorn Tin - 3.5 gal (Traditional Flavors)","RETAIL",49.99]
["CS0161",{"$f":"Table_prices[[#This Row],[ITEMNMBR]]","v":"CS0161"},"Stripes & Snowflakes Gourmet Popcorn Tin - 3.5 gal - Chicago  - FREE SHIPPING","RETAIL",54.99]
["CS0162",{"$f":"Table_prices[[#This Row],[ITEMNMBR]]","v":"CS0162"},"Stripes & Snowflakes Gourmet Popcorn Tin - 3.5 gal - Chicago  - FREE SHIPPING","RETAIL",54.99]
["CS0163",{"$f":"Table_prices[[#This Row],[ITEMNMBR]]","v":"CS0163"},"Stripes & Snowflakes  Gourmet Popcorn Tin - 3.5 gal (Traditional Flavors)","RETAIL",49.99]
["CS0164",{"$f":"Table_prices[[#This Row],[ITEMNMBR]]","v":"CS0164"},"Stripes & Snowflakes Gourmet Popcorn Tin - 3.5 gal - People's Choice - FREE SHIPPING","RETAIL",54.99]
["CS0165",{"$f":"Table_prices[[#This Row],[ITEMNMBR]]","v":"CS0165"},"Stripes & Snowflakes Gourmet Popcorn Tin - 3.5 gal - People's Choice - FREE SHIPPING","RETAIL",54.99]
["CS0166",{"$f":"Table_prices[[#This Row],[ITEMNMBR]]","v":"CS0166"},"Stripes & Snowflakes Gourmet Popcorn Tin - 3.5 gal - Traditional - FREE SHIPPING","RETAIL",54.99]
["CS0167",{"$f":"Table_prices[[#This Row],[ITEMNMBR]]","v":"CS0167"},"Stripes & Snowflakes Gourmet Popcorn Tin - 3.5 gal - Traditional - FREE SHIPPING","RETAIL",54.99]
["CS0168",{"$f":"Table_prices[[#This Row],[ITEMNMBR]]","v":"CS0168"},"Stripes & Snowflakes Gourmet Popcorn Tin  -  1 gal (Traditional Flavors)","RETAIL",19.989999999999998]
["CS0169",{"$f":"Table_prices[[#This Row],[ITEMNMBR]]","v":"CS0169"},"Stripes & Snowflakes Gourmet Popcorn Tin - 1 gal - Chicago  - FREE SHIPPING","RETAIL",24.99]
["CS0170",{"$f":"Table_prices[[#This Row],[ITEMNMBR]]","v":"CS0170"},"Stripes & Snowflakes Gourmet Popcorn Tin - 1 gal - Chicago  - FREE SHIPPING","RETAIL",24.99]
["CS0171",{"$f":"Table_prices[[#This Row],[ITEMNMBR]]","v":"CS0171"},"Stripes & Snowflakes Gourmet Popcorn Tin -   1 gal (Traditional Flavors)","RETAIL",19.989999999999998]
["CS0172",{"$f":"Table_prices[[#This Row],[ITEMNMBR]]","v":"CS0172"},"Stripes & Snowflakes Gourmet Popcorn Tin - 1 gal - People's Choice - FREE SHIPPING","RETAIL",24.99]
["CS0173",{"$f":"Table_prices[[#This Row],[ITEMNMBR]]","v":"CS0173"},"Stripes & Snowflakes Gourmet Popcorn  Tin - 1 gal - People's Choice - FREE SHIPPING","RETAIL",24.99]
["CS0174",{"$f":"Table_prices[[#This Row],[ITEMNMBR]]","v":"CS0174"},"Stripes & Snowflakes Gourmet Popcorn Tin - 1 gal - Traditional - FREE SHIPPING","RETAIL",24.99]
["CS0175",{"$f":"Table_prices[[#This Row],[ITEMNMBR]]","v":"CS0175"},"Stripes & Snowflakes Gourmet Popcorn  Tin - 1 gal - Traditional - FREE SHIPPING","RETAIL",24.99]
["CS0176",{"$f":"Table_prices[[#This Row],[ITEMNMBR]]","v":"CS0176"},"Whimsical Snowmen Gourmet Popcorn Tin -  2 gal (Classic Chicago )","RETAIL",39.99]
["CS0177",{"$f":"Table_prices[[#This Row],[ITEMNMBR]]","v":"CS0177"},"Snowmen Gourmet Popcorn Tin - 2 gal - Chicago  - FREE SHIPPING","RETAIL",44.99]
["CS0178",{"$f":"Table_prices[[#This Row],[ITEMNMBR]]","v":"CS0178"},"Snowmen Gourmet Popcorn Tin - 2 gal - Chicago  - FREE SHIPPING","RETAIL",44.99]
["CS0179",{"$f":"Table_prices[[#This Row],[ITEMNMBR]]","v":"CS0179"},"Snowmen Gourmet Popcorn Tin - 2 gal (Classic Chicago )","RETAIL",39.99]
["CS0180",{"$f":"Table_prices[[#This Row],[ITEMNMBR]]","v":"CS0180"},"Snowmen Gourmet Popcorn Tin - 2 gal - People's Choice - FREE SHIPPING","RETAIL",44.99]
["CS0181",{"$f":"Table_prices[[#This Row],[ITEMNMBR]]","v":"CS0181"},"Snowmen Gourmet Popcorn Tin - 2 gal - People's Choice - FREE SHIPPING","RETAIL",44.99]
["CS0182",{"$f":"Table_prices[[#This Row],[ITEMNMBR]]","v":"CS0182"},"Snowmen Gourmet Popcorn Tin - 2 gal - Traditional - FREE SHIPPING","RETAIL",44.99]
["CS0183",{"$f":"Table_prices[[#This Row],[ITEMNMBR]]","v":"CS0183"},"Snowmen Gourmet Popcorn Tin - 2 gal - Traditional - FREE SHIPPING","RETAIL",44.99]
["CS0184",{"$f":"Table_prices[[#This Row],[ITEMNMBR]]","v":"CS0184"},"Snowmen Gourmet Popcorn Tin -  3.5 gal (Classic Chicago )","RETAIL",49.99]
["CS0185",{"$f":"Table_prices[[#This Row],[ITEMNMBR]]","v":"CS0185"},"Snowmen Gourmet Popcorn Tin - 3.5 gal - Chicago  - FREE SHIPPING","RETAIL",54.99]
["CS0186",{"$f":"Table_prices[[#This Row],[ITEMNMBR]]","v":"CS0186"},"Snowmen Gourmet Popcorn Tin - 3.5 Gallon - Chicago  - FREE SHIPPING","RETAIL",54.99]
["CS0187",{"$f":"Table_prices[[#This Row],[ITEMNMBR]]","v":"CS0187"},"Snowmen Gourmet Popcorn Tin - 3.5 gal (Classic Chicago )","RETAIL",49.99]
["CS0188",{"$f":"Table_prices[[#This Row],[ITEMNMBR]]","v":"CS0188"},"Snowmen Gourmet PopcornTin - 3.5 gal - People's Choice - FREE SHIPPING","RETAIL",54.99]
["CS0189",{"$f":"Table_prices[[#This Row],[ITEMNMBR]]","v":"CS0189"},"Snowmen Gourmet Popcorn Tin - 3.5 gal - People's Choice - FREE SHIPPING","RETAIL",54.99]
["CS0190",{"$f":"Table_prices[[#This Row],[ITEMNMBR]]","v":"CS0190"},"Snowmen Gourmet Popcorn Tin - 3.5 gal - Traditional - FREE SHIPPING","RETAIL",54.99]
["CS0191",{"$f":"Table_prices[[#This Row],[ITEMNMBR]]","v":"CS0191"},"Snowmen Gourmet Popcorn Tin - 3.5 gal - Traditional - FREE SHIPPING","RETAIL",54.99]
["CS0192",{"$f":"Table_prices[[#This Row],[ITEMNMBR]]","v":"CS0192"},"Snowmen Gourmet Popcorn Tin -  1 gal (Classic Chicago )","RETAIL",19.989999999999998]
["CS0193",{"$f":"Table_prices[[#This Row],[ITEMNMBR]]","v":"CS0193"},"Snowmen Gourmet Popcorn Tin - 1 gal - Chicago  - FREE SHIPPING","RETAIL",24.99]
["CS0194",{"$f":"Table_prices[[#This Row],[ITEMNMBR]]","v":"CS0194"},"Snowmen Gourmet PopcornTin - 1 gal - Chicago  - FREE SHIPPING","RETAIL",24.99]
["CS0195",{"$f":"Table_prices[[#This Row],[ITEMNMBR]]","v":"CS0195"},"Snowmen  Gourmet Popcorn Tin  - 1 gal (Classic Chicago )","RETAIL",19.989999999999998]
["CS0196",{"$f":"Table_prices[[#This Row],[ITEMNMBR]]","v":"CS0196"},"Snowmen Gourmet Popcorn Tin - 1 gal - People's Choice - FREE SHIPPING","RETAIL",24.99]
["CS0197",{"$f":"Table_prices[[#This Row],[ITEMNMBR]]","v":"CS0197"},"Snowmen Gourmet Popcorn Tin - 1 gal - People's Choice - FREE SHIPPING","RETAIL",24.99]
["CS0198",{"$f":"Table_prices[[#This Row],[ITEMNMBR]]","v":"CS0198"},"Snowmen Gourmet Popcorn Tin - 1 gal - Traditional - FREE SHIPPING","RETAIL",24.99]
["CS0199",{"$f":"Table_prices[[#This Row],[ITEMNMBR]]","v":"CS0199"},"Snowmen Gourmet Popcorn Tin - 1 gal - Traditional - FREE SHIPPING","RETAIL",24.99]
["CS0200",{"$f":"Table_prices[[#This Row],[ITEMNMBR]]","v":"CS0200"},"Christmas Trees Gourmet Popcorn Tin - 2 gal (Christmas Flavors 3 pack)","RETAIL",39.99]
["CS0201",{"$f":"Table_prices[[#This Row],[ITEMNMBR]]","v":"CS0201"},"Christmas Trees Gourmet Popcorn Tin - 2 gal - Chicago - FREE SHIPPING","RETAIL",44.99]
["CS0202",{"$f":"Table_prices[[#This Row],[ITEMNMBR]]","v":"CS0202"},"Christmas Trees  Gourmet Popcorn Tin - 2 gal - Chicago - FREE SHIPPING","RETAIL",44.99]
["CS0203",{"$f":"Table_prices[[#This Row],[ITEMNMBR]]","v":"CS0203"},"Christmas Trees Gourmet Popcorn Tin - 2 gal (Christmas Flavors 3 pack)","RETAIL",39.99]
["CS0204",{"$f":"Table_prices[[#This Row],[ITEMNMBR]]","v":"CS0204"},"Christmas Trees Gourmet Popcorn Tin - 2 gal - People's Choice - FREE SHIPPING","RETAIL",44.99]
["CS0205",{"$f":"Table_prices[[#This Row],[ITEMNMBR]]","v":"CS0205"},"Christmas Trees Gourmet PopcornTin - 2 gal - People's Choice - FREE SHIPPING","RETAIL",44.99]
["CS0206",{"$f":"Table_prices[[#This Row],[ITEMNMBR]]","v":"CS0206"},"Christmas Trees Gourmet Popcorn Tin - 2 gal - Traditional - FREE SHIPPING","RETAIL",44.99]
["CS0207",{"$f":"Table_prices[[#This Row],[ITEMNMBR]]","v":"CS0207"},"Christmas Trees Gourmet Popcorn Tin - 2 gal - Traditional - FREE SHIPPING","RETAIL",44.99]
["CS0208",{"$f":"Table_prices[[#This Row],[ITEMNMBR]]","v":"CS0208"},"Christmas Trees Gourmet Popcorn Tin - 3.5 gal (Christmas Flavors 3 pack)","RETAIL",49.99]
["CS0209",{"$f":"Table_prices[[#This Row],[ITEMNMBR]]","v":"CS0209"},"Christmas Trees Gourmet Popcorn Tin - 3.5 gal - Chicago - FREE SHIPPING","RETAIL",54.99]
["CS0210",{"$f":"Table_prices[[#This Row],[ITEMNMBR]]","v":"CS0210"},"Christmas Trees Gourmet Popcorn Tin - 3.5 gal - Chicago - FREE SHIPPING","RETAIL",54.99]
["CS0211",{"$f":"Table_prices[[#This Row],[ITEMNMBR]]","v":"CS0211"},"Christmas Trees Gourmet Popcorn Tin -  3.5 gal (Christmas Flavors 3 pack)","RETAIL",49.99]
["CS0212",{"$f":"Table_prices[[#This Row],[ITEMNMBR]]","v":"CS0212"},"Christmas Trees Gourmet Popcorn Tin - 3.5 gal - People's Choice - FREE SHIPPING","RETAIL",54.99]
["CS0213",{"$f":"Table_prices[[#This Row],[ITEMNMBR]]","v":"CS0213"},"Christmas Trees Gourmet Popcorn Tin - 3.5 gal - People's Choice - FREE SHIPPING","RETAIL",54.99]
["CS0214",{"$f":"Table_prices[[#This Row],[ITEMNMBR]]","v":"CS0214"},"Christmas Trees Gourmet Popcorn Tin - 3.5 gal - Traditional - FREE SHIPPING","RETAIL",54.99]
["CS0215",{"$f":"Table_prices[[#This Row],[ITEMNMBR]]","v":"CS0215"},"Christmas Trees Gourmet Popcorn Tin - 3.5 gal - Traditional - FREE SHIPPING","RETAIL",54.99]
["CS0216",{"$f":"Table_prices[[#This Row],[ITEMNMBR]]","v":"CS0216"},"Christmas Trees Gourmet Popcorn Tin - 1 gal (Christmas Flavors 3 pack)","RETAIL",24.99]
["CS0217",{"$f":"Table_prices[[#This Row],[ITEMNMBR]]","v":"CS0217"},"Christmas Trees Gourmet Popcorn Tin - 1 gal - Chicago - FREE SHIPPING","RETAIL",24.99]
["CS0218",{"$f":"Table_prices[[#This Row],[ITEMNMBR]]","v":"CS0218"},"Christmas Trees Gourmet Popcorn Tin - 1 gal - Chicago - FREE SHIPPING","RETAIL",24.99]
["CS0219",{"$f":"Table_prices[[#This Row],[ITEMNMBR]]","v":"CS0219"},"Christmas Trees Gourmet Popcorn Tin -  1 gal (Christmas Flavors 3 pack)","RETAIL",24.99]
["CS0220",{"$f":"Table_prices[[#This Row],[ITEMNMBR]]","v":"CS0220"},"Christmas Trees Gourmet Popcorn Tin - 1 gal - People's Choice - FREE SHIPPING","RETAIL",24.99]
["CS0221",{"$f":"Table_prices[[#This Row],[ITEMNMBR]]","v":"CS0221"},"Christmas Trees Gourmet Popcorn Tin - 1 gal - People's Choice - FREE SHIPPING","RETAIL",24.99]
["CS0222",{"$f":"Table_prices[[#This Row],[ITEMNMBR]]","v":"CS0222"},"Christmas Trees Gourmet Popcorn Tin - 1 gal - Traditional - FREE SHIPPING","RETAIL",24.99]
["CS0223",{"$f":"Table_prices[[#This Row],[ITEMNMBR]]","v":"CS0223"},"Christmas Trees Gourmet Popcorn Tin - 1 gal - Traditional - FREE SHIPPING","RETAIL",24.99]
["CS0224",{"$f":"Table_prices[[#This Row],[ITEMNMBR]]","v":"CS0224"},"Christmas Ornaments Popcorn Tin - 2 gal - Chicago's Choice - FREE SHIPPING","RETAIL",44.99]
["CS0225",{"$f":"Table_prices[[#This Row],[ITEMNMBR]]","v":"CS0225"},"Christmas Ornaments Popcorn Tin - 2 gal - Chicago's Choice - FREE SHIPPING","RETAIL",44.99]
["CS0226",{"$f":"Table_prices[[#This Row],[ITEMNMBR]]","v":"CS0226"},"Christmas Ornaments Popcorn Tin - 2 gal - People's Choice - FREE SHIPPING","RETAIL",44.99]
["CS0227",{"$f":"Table_prices[[#This Row],[ITEMNMBR]]","v":"CS0227"},"Christmas Ornaments Popcorn Tin - 2 gal - People's Choice - FREE SHIPPING","RETAIL",44.99]
["CS0228",{"$f":"Table_prices[[#This Row],[ITEMNMBR]]","v":"CS0228"},"Christmas Ornaments Popcorn Tin - 2 gal - Traditional - FREE SHIPPING","RETAIL",44.99]
["CS0229",{"$f":"Table_prices[[#This Row],[ITEMNMBR]]","v":"CS0229"},"Christmas Ornaments Popcorn Tin - 2 gal - Traditional - FREE SHIPPING","RETAIL",44.99]
["CS0230",{"$f":"Table_prices[[#This Row],[ITEMNMBR]]","v":"CS0230"},"Christmas Ornaments Popcorn Tin - 3.5 gal - Chicago - FREE SHIPPING","RETAIL",54.99]
["CS0231",{"$f":"Table_prices[[#This Row],[ITEMNMBR]]","v":"CS0231"},"Christmas Ornaments Popcorn Tin - 3.5 gal - Chicago- FREE SHIPPING","RETAIL",54.99]
["CS0232",{"$f":"Table_prices[[#This Row],[ITEMNMBR]]","v":"CS0232"},"Christmas Ornaments Popcorn Tin - 3.5 gal - People's Choice - FREE SHIPPING","RETAIL",54.99]
["CS0233",{"$f":"Table_prices[[#This Row],[ITEMNMBR]]","v":"CS0233"},"Christmas Ornaments Popcorn Tin - 3.5 gal - People's Choice - FREE SHIPPING","RETAIL",54.99]
["CS0234",{"$f":"Table_prices[[#This Row],[ITEMNMBR]]","v":"CS0234"},"Christmas Ornaments Popcorn Tin - 3.5 gal - Traditional - FREE SHIPPING","RETAIL",54.99]
["CS0235",{"$f":"Table_prices[[#This Row],[ITEMNMBR]]","v":"CS0235"},"Christmas Ornaments Popcorn Tin - 3.5 gal - Traditional - FREE SHIPPING","RETAIL",54.99]
["CS0236",{"$f":"Table_prices[[#This Row],[ITEMNMBR]]","v":"CS0236"},"Christmas Ornaments Popcorn Tin - 1 gal - Chicago's Choice - FREE SHIPPING","RETAIL",24.99]
["CS0237",{"$f":"Table_prices[[#This Row],[ITEMNMBR]]","v":"CS0237"},"Christmas Ornaments Popcorn Tin - 1 gal - Chicago's Choice - FREE SHIPPING","RETAIL",24.99]
["CS0238",{"$f":"Table_prices[[#This Row],[ITEMNMBR]]","v":"CS0238"},"Christmas Ornaments Popcorn Tin - 1 gal - People's Choice - FREE SHIPPING","RETAIL",24.99]
["CS0239",{"$f":"Table_prices[[#This Row],[ITEMNMBR]]","v":"CS0239"},"Christmas Ornaments Popcorn Tin - 1 gal - People's Choice - FREE SHIPPING","RETAIL",24.99]
["CS0240",{"$f":"Table_prices[[#This Row],[ITEMNMBR]]","v":"CS0240"},"Christmas Ornaments Popcorn Tin - 1 gal - Traditional - FREE SHIPPING","RETAIL",24.99]
["CS0241",{"$f":"Table_prices[[#This Row],[ITEMNMBR]]","v":"CS0241"},"Christmas Ornaments Popcorn Tin - 1 gal - Traditional - FREE SHIPPING","RETAIL",24.99]
["CS0242",{"$f":"Table_prices[[#This Row],[ITEMNMBR]]","v":"CS0242"},"Season's Greetings - Christmas Main Street Gourmet Popcorn Tin - 2 gal - Chicago - FREE SHIPPING","RETAIL",44.99]
["CS0243",{"$f":"Table_prices[[#This Row],[ITEMNMBR]]","v":"CS0243"},"Season's Greetings - Christmas Main Street Gourmet Popcorn Tin - 2 gal - Chicago - FREE SHIPPING","RETAIL",44.99]
["CS0244",{"$f":"Table_prices[[#This Row],[ITEMNMBR]]","v":"CS0244"},"Season's Greetings - Christmas Main St Gourmet Popcorn Tin - 2 gal - People's Choice - FREE SHIPPING","RETAIL",44.99]
["CS0245",{"$f":"Table_prices[[#This Row],[ITEMNMBR]]","v":"CS0245"},"Season's Greetings - Christmas Main St Gourmet Popcorn Tin - 2 gal - People's Choice - FREE SHIPPING","RETAIL",44.99]
["CS0246",{"$f":"Table_prices[[#This Row],[ITEMNMBR]]","v":"CS0246"},"Season's Greetings - Christmas Main Street Gourmet Popcorn Tin - 2 gal - Chicago - FREE SHIPPING","RETAIL",44.99]
["CS0247",{"$f":"Table_prices[[#This Row],[ITEMNMBR]]","v":"CS0247"},"Season's Greetings - Christmas Main Street Gourmet Popcorn Tin - 2 gal - Chicago - FREE SHIPPING","RETAIL",44.99]
["CS0248",{"$f":"Table_prices[[#This Row],[ITEMNMBR]]","v":"CS0248"},"Season's Greetings -Christmas Main St Gourmet Popcorn Tin - 3.5 gal - Chicago  - FREE SHIPPING","RETAIL",54.99]
["CS0249",{"$f":"Table_prices[[#This Row],[ITEMNMBR]]","v":"CS0249"},"Season's Greetings -Christmas Main St Gourmet Popcorn Tin - 3.5 gal - Chicago  - FREE SHIPPING","RETAIL",54.99]
["CS0250",{"$f":"Table_prices[[#This Row],[ITEMNMBR]]","v":"CS0250"},"Season's Greetings - Christmas Main St Gourmet Popcorn Tin -3.5gal - People's Choice - FREE SHIPPING","RETAIL",54.99]
["CS0251",{"$f":"Table_prices[[#This Row],[ITEMNMBR]]","v":"CS0251"},"Season's Greetings - Christmas Main St Gourmet Popcorn Tin -3.5gal - People's Choice - FREE SHIPPING","RETAIL",54.99]
["CS0252",{"$f":"Table_prices[[#This Row],[ITEMNMBR]]","v":"CS0252"},"Season's Greetings - Christmas Main St Gourmet Popcorn Tin - 3.5 gal - Traditional - FREE SHIPPING","RETAIL",54.99]
["CS0253",{"$f":"Table_prices[[#This Row],[ITEMNMBR]]","v":"CS0253"},"Season's Greetings - Christmas Main St Gourmet Popcorn Tin - 3.5 gal - Traditional - FREE SHIPPING","RETAIL",54.99]
["CS0254",{"$f":"Table_prices[[#This Row],[ITEMNMBR]]","v":"CS0254"},"Snowflake Gourmet Popcorn Tin - 2 gal - Chicago  - FREE SHIPPING","RETAIL",44.99]
["CS0255",{"$f":"Table_prices[[#This Row],[ITEMNMBR]]","v":"CS0255"},"Snowflake Gourmet Popcorn Tin - 2 gal - Chicago  - FREE SHIPPING","RETAIL",44.99]
["CS0256",{"$f":"Table_prices[[#This Row],[ITEMNMBR]]","v":"CS0256"},"Snowflake Gourmet Popcorn Tin - 2 gal - People's Choice - FREE SHIPPING","RETAIL",44.99]
["CS0257",{"$f":"Table_prices[[#This Row],[ITEMNMBR]]","v":"CS0257"},"Snowflake Gourmet Popcorn Tin - 2 gal - People's Choice - FREE SHIPPING","RETAIL",44.99]
["CS0258",{"$f":"Table_prices[[#This Row],[ITEMNMBR]]","v":"CS0258"},"Snowflake Gourmet Popcorn Tin - 2 gal - Traditional - FREE SHIPPING","RETAIL",44.99]
["CS0259",{"$f":"Table_prices[[#This Row],[ITEMNMBR]]","v":"CS0259"},"Snowflake Gourmet Popcorn Tin - 2 gal - Traditional - FREE SHIPPING","RETAIL",44.99]
["CS0260",{"$f":"Table_prices[[#This Row],[ITEMNMBR]]","v":"CS0260"},"Snowflake Gourmet Popcorn Tin - 3.5 gal - Chicago  - FREE SHIPPING","RETAIL",54.99]
["CS0261",{"$f":"Table_prices[[#This Row],[ITEMNMBR]]","v":"CS0261"},"Snowflake Gourmet Popcorn Tin - 3.5 gal - Chicago  - FREE SHIPPING","RETAIL",54.99]
["CS0262",{"$f":"Table_prices[[#This Row],[ITEMNMBR]]","v":"CS0262"},"Snowflake Gourmet Popcorn Tin - 3.5 gal - People's Choice - FREE SHIPPING","RETAIL",54.99]
["CS0263",{"$f":"Table_prices[[#This Row],[ITEMNMBR]]","v":"CS0263"},"Snowflake Gourmet Popcorn Tin - 3.5 gal - People's Choice - FREE SHIPPING","RETAIL",54.99]
["CS0264",{"$f":"Table_prices[[#This Row],[ITEMNMBR]]","v":"CS0264"},"Snowflake Gourmet Popcorn Tin - 3.5 gal - Traditional - FREE SHIPPING","RETAIL",54.99]
["CS0265",{"$f":"Table_prices[[#This Row],[ITEMNMBR]]","v":"CS0265"},"Snowflake Gourmet Popcorn Tin - 3.5 gal - Traditional - FREE SHIPPING","RETAIL",54.99]
["CS0266",{"$f":"Table_prices[[#This Row],[ITEMNMBR]]","v":"CS0266"},"Snowflake Gourmet Popcorn Tin - 1 gal - Chicago  - FREE SHIPPING","RETAIL",24.99]
["CS0267",{"$f":"Table_prices[[#This Row],[ITEMNMBR]]","v":"CS0267"},"Stripes & Snowflakes Gourmet Popcorn Tin - 1 gal - Chicago  - FREE SHIPPING","RETAIL",24.99]
["CS0268",{"$f":"Table_prices[[#This Row],[ITEMNMBR]]","v":"CS0268"},"Snowflake Gourmet Popcorn Tin - 1 gal - People's Choice - FREE SHIPPING","RETAIL",24.99]
["CS0269",{"$f":"Table_prices[[#This Row],[ITEMNMBR]]","v":"CS0269"},"Snowflake Gourmet Popcorn  Tin - 1 gal - People's Choice - FREE SHIPPING","RETAIL",24.99]
["CS0270",{"$f":"Table_prices[[#This Row],[ITEMNMBR]]","v":"CS0270"},"Snowflake Gourmet Popcorn Tin - 1 gal - Traditional - FREE SHIPPING","RETAIL",24.99]
["CS0271",{"$f":"Table_prices[[#This Row],[ITEMNMBR]]","v":"CS0271"},"Snowflake Gourmet Popcorn  Tin - 1 gal - Traditional - FREE SHIPPING","RETAIL",24.99]
["CS0272",{"$f":"Table_prices[[#This Row],[ITEMNMBR]]","v":"CS0272"},"Cookies for Santa Popcorn Tin - 1 Gallon","RETAIL",24.99]
["CS0273",{"$f":"Table_prices[[#This Row],[ITEMNMBR]]","v":"CS0273"},"Cookies for Santa Popcorn Tin - 1 Gallon","RETAIL",24.99]
["CS0274",{"$f":"Table_prices[[#This Row],[ITEMNMBR]]","v":"CS0274"},"Holly Jolly Christmas Popcorn Tin - 1 Gallon","RETAIL",24.99]
["CS0275",{"$f":"Table_prices[[#This Row],[ITEMNMBR]]","v":"CS0275"},"Holly Jolly Christmas Popcorn Tin - 1 Gallon","RETAIL",24.99]
["CS0276",{"$f":"Table_prices[[#This Row],[ITEMNMBR]]","v":"CS0276"},"Dashing Through The Snow Popcorn Tin - 1 Gallon","RETAIL",34.99]
["CS0277",{"$f":"Table_prices[[#This Row],[ITEMNMBR]]","v":"CS0277"},"Dashing Through The Snow Popcorn Tin - 1 Gallon","RETAIL",34.99]
["CS0278",{"$f":"Table_prices[[#This Row],[ITEMNMBR]]","v":"CS0278"},"Easter Traditional 2 Gallon","RETAIL",39.99]
["CS0279",{"$f":"Table_prices[[#This Row],[ITEMNMBR]]","v":"CS0279"},"Easter Popcorn Tin - 2 gal - Chicago","RETAIL",39.99]
["CS0280",{"$f":"Table_prices[[#This Row],[ITEMNMBR]]","v":"CS0280"},"Easter Popcorn Tin - 2 gal - Chicago","RETAIL",39.99]
["CS0281",{"$f":"Table_prices[[#This Row],[ITEMNMBR]]","v":"CS0281"},"Easter Traditional 2 Gallon","RETAIL",39.99]
["CS0282",{"$f":"Table_prices[[#This Row],[ITEMNMBR]]","v":"CS0282"},"Easter Popcorn Tin - 2 gal - People's Choice","RETAIL",39.99]
["CS0283",{"$f":"Table_prices[[#This Row],[ITEMNMBR]]","v":"CS0283"},"Easter Popcorn Tin - 2 gal - People's Choice","RETAIL",39.99]
["CS0284",{"$f":"Table_prices[[#This Row],[ITEMNMBR]]","v":"CS0284"},"Easter Popcorn Tin - 2 gal - Traditional","RETAIL",39.99]
["CS0285",{"$f":"Table_prices[[#This Row],[ITEMNMBR]]","v":"CS0285"},"Easter Popcorn Tin - 2 gal - Traditional","RETAIL",39.99]
["CS0286",{"$f":"Table_prices[[#This Row],[ITEMNMBR]]","v":"CS0286"},"Easter Chicago  2 Gallon","RETAIL",39.99]
["CS0287",{"$f":"Table_prices[[#This Row],[ITEMNMBR]]","v":"CS0287"},"Easter Chicago 2 Gallon","RETAIL",39.99]
["CS0288",{"$f":"Table_prices[[#This Row],[ITEMNMBR]]","v":"CS0288"},"Easter Chicago  2 Gallon","RETAIL",39.99]
["CS0289",{"$f":"Table_prices[[#This Row],[ITEMNMBR]]","v":"CS0289"},"Easter Celebration 2 Gallon","RETAIL",39.99]
["CS0290",{"$f":"Table_prices[[#This Row],[ITEMNMBR]]","v":"CS0290"},"Easter Celebration 2 Gallon","RETAIL",39.99]
["CS0291",{"$f":"Table_prices[[#This Row],[ITEMNMBR]]","v":"CS0291"},"Easter Celebration 2 Gallon","RETAIL",39.99]
["CS0292",{"$f":"Table_prices[[#This Row],[ITEMNMBR]]","v":"CS0292"},"Easter Celebration 2 Gallon","RETAIL",39.99]
["CS0293",{"$f":"Table_prices[[#This Row],[ITEMNMBR]]","v":"CS0293"},"Patriotic Popcorn Tin - 2 gal -","RETAIL",39.99]
["CS0294",{"$f":"Table_prices[[#This Row],[ITEMNMBR]]","v":"CS0294"},"Patriotic Popcorn Tin - 2 gal -","RETAIL",39.99]
["CS0295",{"$f":"Table_prices[[#This Row],[ITEMNMBR]]","v":"CS0295"},"Patriotic Popcorn Tin - 3.5 gal -","RETAIL",49.99]
["CS0296",{"$f":"Table_prices[[#This Row],[ITEMNMBR]]","v":"CS0296"},"Patriotic Popcorn Tin - 3.5 gal -","RETAIL",49.99]
["CS0297",{"$f":"Table_prices[[#This Row],[ITEMNMBR]]","v":"CS0297"},"Patriotic Popcorn Tin - 1 gal -","RETAIL",19.989999999999998]
["CS0298",{"$f":"Table_prices[[#This Row],[ITEMNMBR]]","v":"CS0298"},"Patriotic Popcorn Tin - 1 gal -","RETAIL",19.989999999999998]
["CS0299",{"$f":"Table_prices[[#This Row],[ITEMNMBR]]","v":"CS0299"},"Au Natural Popcorn Tin - 2 Gallon","RETAIL",39.99]
["CS0300",{"$f":"Table_prices[[#This Row],[ITEMNMBR]]","v":"CS0300"},"Au Natural Popcorn Tin - 3.5 Gallon","RETAIL",49.99]
["CS0301",{"$f":"Table_prices[[#This Row],[ITEMNMBR]]","v":"CS0301"},"Au Natural Popcorn Tin - 1 Gallon","RETAIL",19.989999999999998]
["CS0302",{"$f":"Table_prices[[#This Row],[ITEMNMBR]]","v":"CS0302"},"Bacon Cheddar Popcorn Tin - 2 Gallon","RETAIL",39.99]
["CS0303",{"$f":"Table_prices[[#This Row],[ITEMNMBR]]","v":"CS0303"},"Bacon Cheddar Popcorn Tin - 3.5 Gallon","RETAIL",49.99]
["CS0304",{"$f":"Table_prices[[#This Row],[ITEMNMBR]]","v":"CS0304"},"Bacon Cheddar Popcorn Tin - 1 Gallon","RETAIL",19.989999999999998]
["CS0305",{"$f":"Table_prices[[#This Row],[ITEMNMBR]]","v":"CS0305"},"Cheesy Cheddar Popcorn Tin - 2 Gallon","RETAIL",39.99]
["CS0306",{"$f":"Table_prices[[#This Row],[ITEMNMBR]]","v":"CS0306"},"Cheesy Cheddar Popcorn Tin - 3.5 Gallon","RETAIL",49.99]
["CS0307",{"$f":"Table_prices[[#This Row],[ITEMNMBR]]","v":"CS0307"},"Cheesy Cheddar Popcorn Tin - 1 Gallon","RETAIL",19.989999999999998]
["CS0308",{"$f":"Table_prices[[#This Row],[ITEMNMBR]]","v":"CS0308"},"Dill Pickle Popcorn Tin - 2 Gallon","RETAIL",39.99]
["CS0309",{"$f":"Table_prices[[#This Row],[ITEMNMBR]]","v":"CS0309"},"Dill Pickle Popcorn Tin - 3.5 Gallon","RETAIL",49.99]
["CS0310",{"$f":"Table_prices[[#This Row],[ITEMNMBR]]","v":"CS0310"},"Dill Pickle Popcorn Tin - 1 Gallon","RETAIL",19.989999999999998]
["CS0311",{"$f":"Table_prices[[#This Row],[ITEMNMBR]]","v":"CS0311"},"Garlic Parmesan Popcorn Tin - 2 Gallon","RETAIL",39.99]
["CS0312",{"$f":"Table_prices[[#This Row],[ITEMNMBR]]","v":"CS0312"},"Garlic Parmesan Popcorn Tin - 3.5 Gallon","RETAIL",49.99]
["CS0313",{"$f":"Table_prices[[#This Row],[ITEMNMBR]]","v":"CS0313"},"Garlic Parmesan Popcorn Tin - 1 Gallon","RETAIL",19.989999999999998]
["CS0314",{"$f":"Table_prices[[#This Row],[ITEMNMBR]]","v":"CS0314"},"Honey Mustard Popcorn Tin - 2 Gallon","RETAIL",39.99]
["CS0315",{"$f":"Table_prices[[#This Row],[ITEMNMBR]]","v":"CS0315"},"Honey Mustard Popcorn Tin - 3.5 Gallon","RETAIL",49.99]
["CS0316",{"$f":"Table_prices[[#This Row],[ITEMNMBR]]","v":"CS0316"},"Honey Mustard Popcorn Tin - 1 Gallon","RETAIL",19.989999999999998]
["CS0317",{"$f":"Table_prices[[#This Row],[ITEMNMBR]]","v":"CS0317"},"BBQ Popcorn Tin - 2 Gallon","RETAIL",39.99]
["CS0318",{"$f":"Table_prices[[#This Row],[ITEMNMBR]]","v":"CS0318"},"BBQ Popcorn Tin - 3.5 Gallon","RETAIL",49.99]
["CS0319",{"$f":"Table_prices[[#This Row],[ITEMNMBR]]","v":"CS0319"},"BBQ Popcorn Tin - 1 Gallon","RETAIL",19.989999999999998]
["CS0320",{"$f":"Table_prices[[#This Row],[ITEMNMBR]]","v":"CS0320"},"Buttered Popcorn Tin - 2 Gallon","RETAIL",39.99]
["CS0321",{"$f":"Table_prices[[#This Row],[ITEMNMBR]]","v":"CS0321"},"Buttered Popcorn Tin - 3.5 Gallon","RETAIL",49.99]
["CS0322",{"$f":"Table_prices[[#This Row],[ITEMNMBR]]","v":"CS0322"},"Buttered Popcorn Tin - 1 Gallon","RETAIL",19.989999999999998]
["CS0323",{"$f":"Table_prices[[#This Row],[ITEMNMBR]]","v":"CS0323"},"Zesty Ranch Popcorn Tin - 2 Gallon","RETAIL",39.99]
["CS0324",{"$f":"Table_prices[[#This Row],[ITEMNMBR]]","v":"CS0324"},"Zesty Ranch Popcorn Tin - 3.5 Gallon","RETAIL",49.99]
["CS0325",{"$f":"Table_prices[[#This Row],[ITEMNMBR]]","v":"CS0325"},"Zesty Ranch Popcorn Tin - 1 Gallon","RETAIL",19.989999999999998]
["CS0326",{"$f":"Table_prices[[#This Row],[ITEMNMBR]]","v":"CS0326"},"Pizza Time Popcorn Tin - 2 Gallon","RETAIL",39.99]
["CS0327",{"$f":"Table_prices[[#This Row],[ITEMNMBR]]","v":"CS0327"},"Pizza Time Popcorn Tin - 3.5 Gallon","RETAIL",49.99]
["CS0328",{"$f":"Table_prices[[#This Row],[ITEMNMBR]]","v":"CS0328"},"Pizza Time Popcorn Tin - 1 Gallon","RETAIL",19.989999999999998]
["CS0329",{"$f":"Table_prices[[#This Row],[ITEMNMBR]]","v":"CS0329"},"Salt n' Vinegarl Popcorn Tin - 2 Gallon","RETAIL",39.99]
["CS0330",{"$f":"Table_prices[[#This Row],[ITEMNMBR]]","v":"CS0330"},"Salt n' Vinegarl Popcorn Tin - 3.5 Gallon","RETAIL",49.99]
["CS0331",{"$f":"Table_prices[[#This Row],[ITEMNMBR]]","v":"CS0331"},"Salt n' Vinegar Popcorn Tin - 1 Gallon","RETAIL",19.989999999999998]
["CS0332",{"$f":"Table_prices[[#This Row],[ITEMNMBR]]","v":"CS0332"},"Sour Cream n' Chive Popcorn Tin - 2 Gallon","RETAIL",39.99]
["CS0333",{"$f":"Table_prices[[#This Row],[ITEMNMBR]]","v":"CS0333"},"Sour Cream n' Chive Popcorn Tin - 3.5 Gallon","RETAIL",49.99]
["CS0334",{"$f":"Table_prices[[#This Row],[ITEMNMBR]]","v":"CS0334"},"Sour Cream n' Chive Popcorn Tin - 1 Gallon","RETAIL",19.989999999999998]
["CS0335",{"$f":"Table_prices[[#This Row],[ITEMNMBR]]","v":"CS0335"},"Too Hot to Handle Popcorn Tin - 2 Gallon","RETAIL",39.99]
["CS0336",{"$f":"Table_prices[[#This Row],[ITEMNMBR]]","v":"CS0336"},"Too Hot to Handle Popcorn Tin - 3.5 Gallon","RETAIL",49.99]
["CS0337",{"$f":"Table_prices[[#This Row],[ITEMNMBR]]","v":"CS0337"},"Too Hot to Handle Popcorn Tin - 1 Gallon","RETAIL",19.989999999999998]
["CS0338",{"$f":"Table_prices[[#This Row],[ITEMNMBR]]","v":"CS0338"},"White Cheddar Popcorn Tin - 2 Gallon","RETAIL",39.99]
["CS0339",{"$f":"Table_prices[[#This Row],[ITEMNMBR]]","v":"CS0339"},"White Cheddar Popcorn Tin - 3.5 Gallon","RETAIL",49.99]
["CS0340",{"$f":"Table_prices[[#This Row],[ITEMNMBR]]","v":"CS0340"},"White Cheddar Popcorn Tin - 1 Gallon","RETAIL",19.989999999999998]
["CS0341",{"$f":"Table_prices[[#This Row],[ITEMNMBR]]","v":"CS0341"},"Cajun Popcorn Tin - 2 Gallon","RETAIL",39.99]
["CS0342",{"$f":"Table_prices[[#This Row],[ITEMNMBR]]","v":"CS0342"},"Cajun Popcorn Tin - 3.5 Gallon","RETAIL",49.99]
["CS0343",{"$f":"Table_prices[[#This Row],[ITEMNMBR]]","v":"CS0343"},"Cajun Popcorn Tin - 1 Gallon","RETAIL",19.989999999999998]
["CS0344",{"$f":"Table_prices[[#This Row],[ITEMNMBR]]","v":"CS0344"},"Chipotle BBQ Popcorn Tin - 2 Gallon","RETAIL",39.99]
["CS0345",{"$f":"Table_prices[[#This Row],[ITEMNMBR]]","v":"CS0345"},"Chipotle BBQ Popcorn Tin - 3.5 Gallon","RETAIL",49.99]
["CS0346",{"$f":"Table_prices[[#This Row],[ITEMNMBR]]","v":"CS0346"},"Chipotle BBQ Popcorn Tin - 1 Gallon","RETAIL",19.989999999999998]
["CS0347",{"$f":"Table_prices[[#This Row],[ITEMNMBR]]","v":"CS0347"},"Nacho Cheese Popcorn Tin - 2 Gallon","RETAIL",39.99]
["CS0348",{"$f":"Table_prices[[#This Row],[ITEMNMBR]]","v":"CS0348"},"Nacho Cheese Popcorn Tin - 3.5 Gallon","RETAIL",49.99]
["CS0349",{"$f":"Table_prices[[#This Row],[ITEMNMBR]]","v":"CS0349"},"Nacho Cheese Popcorn Tin - 1 Gallon","RETAIL",19.989999999999998]
["CS0350",{"$f":"Table_prices[[#This Row],[ITEMNMBR]]","v":"CS0350"},"Buffalo Popcorn Tin - 2 Gallon","RETAIL",39.99]
["CS0351",{"$f":"Table_prices[[#This Row],[ITEMNMBR]]","v":"CS0351"},"Buffalo Popcorn Tin - 3.5 Gallon","RETAIL",49.99]
["CS0352",{"$f":"Table_prices[[#This Row],[ITEMNMBR]]","v":"CS0352"},"Buffalo Popcorn Tin - 1 Gallon","RETAIL",19.989999999999998]
["CS0353",{"$f":"Table_prices[[#This Row],[ITEMNMBR]]","v":"CS0353"},"Caramel Popcorn Tin - 2 Gallon","RETAIL",39.99]
["CS0354",{"$f":"Table_prices[[#This Row],[ITEMNMBR]]","v":"CS0354"},"Caramel Popcorn Tin - 2 Gallon","RETAIL",39.99]
["CS0355",{"$f":"Table_prices[[#This Row],[ITEMNMBR]]","v":"CS0355"},"Caramel Popcorn Tin - 3.5 Gallon","RETAIL",49.99]
["CS0356",{"$f":"Table_prices[[#This Row],[ITEMNMBR]]","v":"CS0356"},"Caramel Popcorn Tin - 1 Gallon","RETAIL",19.989999999999998]
["CS0357",{"$f":"Table_prices[[#This Row],[ITEMNMBR]]","v":"CS0357"},"Cinnamon & Brown Sugar Popcorn Tin - 2 Gallon","RETAIL",39.99]
["CS0358",{"$f":"Table_prices[[#This Row],[ITEMNMBR]]","v":"CS0358"},"Cinnamon & Brown Sugar  Popcorn Tin - 3.5 Gallon","RETAIL",49.99]
["CS0359",{"$f":"Table_prices[[#This Row],[ITEMNMBR]]","v":"CS0359"},"Cinnamon Toast Popcorn Tin - 1 Gallon","RETAIL",19.989999999999998]
["CS0360",{"$f":"Table_prices[[#This Row],[ITEMNMBR]]","v":"CS0360"},"Kettle Corn Popcorn Tin - 2 Gallon","RETAIL",39.99]
["CS0361",{"$f":"Table_prices[[#This Row],[ITEMNMBR]]","v":"CS0361"},"Kettle Corn Popcorn Tin - 3.5 Gallon","RETAIL",49.99]
["CS0362",{"$f":"Table_prices[[#This Row],[ITEMNMBR]]","v":"CS0362"},"Kettle Corn Popcorn Tin - 1 Gallon","RETAIL",19.989999999999998]
["CS0363",{"$f":"Table_prices[[#This Row],[ITEMNMBR]]","v":"CS0363"},"Sea Salt n' Cracked Pepper Popcorn Tin - 2 Gallon","RETAIL",39.99]
["CS0364",{"$f":"Table_prices[[#This Row],[ITEMNMBR]]","v":"CS0364"},"Sea Salt n' Cracked Pepper Popcorn Tin - 3.5 Gallon","RETAIL",49.99]
["CS0365",{"$f":"Table_prices[[#This Row],[ITEMNMBR]]","v":"CS0365"},"Sea Salt n' Cracked Pepper Popcorn Tin - 1 Gallon","RETAIL",19.989999999999998]
["CS0366",{"$f":"Table_prices[[#This Row],[ITEMNMBR]]","v":"CS0366"},"Banana Popcorn Tin - 2 Gallon","RETAIL",39.99]
["CS0367",{"$f":"Table_prices[[#This Row],[ITEMNMBR]]","v":"CS0367"},"Banana Popcorn Tin - 3.5 Gallon","RETAIL",49.99]
["CS0368",{"$f":"Table_prices[[#This Row],[ITEMNMBR]]","v":"CS0368"},"Banana Popcorn Tin - 1 Gallon","RETAIL",19.989999999999998]
["CS0369",{"$f":"Table_prices[[#This Row],[ITEMNMBR]]","v":"CS0369"},"Grape Popcorn Tin - 2 Gallon","RETAIL",39.99]
["CS0370",{"$f":"Table_prices[[#This Row],[ITEMNMBR]]","v":"CS0370"},"Grape Popcorn Tin - 3.5 Gallon","RETAIL",49.99]
["CS0371",{"$f":"Table_prices[[#This Row],[ITEMNMBR]]","v":"CS0371"},"Grape Popcorn Tin - 1 Gallon","RETAIL",19.989999999999998]
["CS0372",{"$f":"Table_prices[[#This Row],[ITEMNMBR]]","v":"CS0372"},"Watermelon Popcorn Tin - 2 Gallon","RETAIL",39.99]
["CS0373",{"$f":"Table_prices[[#This Row],[ITEMNMBR]]","v":"CS0373"},"Watermelon Popcorn Tin - 3.5 Gallon","RETAIL",49.99]
["CS0374",{"$f":"Table_prices[[#This Row],[ITEMNMBR]]","v":"CS0374"},"Watermelon Popcorn Tin - 1 Gallon","RETAIL",19.989999999999998]
["CS0375",{"$f":"Table_prices[[#This Row],[ITEMNMBR]]","v":"CS0375"},"Strawberry Popcorn Tin - 2 Gallon","RETAIL",39.99]
["CS0376",{"$f":"Table_prices[[#This Row],[ITEMNMBR]]","v":"CS0376"},"Strawberry Popcorn Tin - 3.5 Gallon","RETAIL",49.99]
["CS0377",{"$f":"Table_prices[[#This Row],[ITEMNMBR]]","v":"CS0377"},"Strawberry Popcorn Tin - 1 Gallon","RETAIL",19.989999999999998]
["CS0378",{"$f":"Table_prices[[#This Row],[ITEMNMBR]]","v":"CS0378"},"Cinnamon Popcorn Tin - 2 Gallon","RETAIL",39.99]
["CS0379",{"$f":"Table_prices[[#This Row],[ITEMNMBR]]","v":"CS0379"},"Cinnamon Popcorn Tin - 3.5 Gallon","RETAIL",49.99]
["CS0380",{"$f":"Table_prices[[#This Row],[ITEMNMBR]]","v":"CS0380"},"Cinnamon Popcorn Tin - 1 Gallon","RETAIL",19.989999999999998]
["CS0381",{"$f":"Table_prices[[#This Row],[ITEMNMBR]]","v":"CS0381"},"Black Cherry Popcorn Tin - 2 Gallon","RETAIL",39.99]
["CS0382",{"$f":"Table_prices[[#This Row],[ITEMNMBR]]","v":"CS0382"},"Black Cherry Popcorn Tin - 3.5 Gallon","RETAIL",49.99]
["CS0383",{"$f":"Table_prices[[#This Row],[ITEMNMBR]]","v":"CS0383"},"Black Cherry Popcorn Tin - 1 Gallon","RETAIL",19.989999999999998]
["CS0384",{"$f":"Table_prices[[#This Row],[ITEMNMBR]]","v":"CS0384"},"Orange Popcorn Tin - 2 Gallon","RETAIL",39.99]
["CS0385",{"$f":"Table_prices[[#This Row],[ITEMNMBR]]","v":"CS0385"},"Orange Popcorn Tin - 3.5 Gallon","RETAIL",49.99]
["CS0386",{"$f":"Table_prices[[#This Row],[ITEMNMBR]]","v":"CS0386"},"Orange Popcorn Tin - 1 Gallon","RETAIL",19.989999999999998]
["CS0387",{"$f":"Table_prices[[#This Row],[ITEMNMBR]]","v":"CS0387"},"Blue Raspberry Popcorn Tin - 2 Gallon","RETAIL",39.99]
["CS0388",{"$f":"Table_prices[[#This Row],[ITEMNMBR]]","v":"CS0388"},"Blue Raspberry Popcorn Tin - 3.5 Gallon","RETAIL",49.99]
["CS0389",{"$f":"Table_prices[[#This Row],[ITEMNMBR]]","v":"CS0389"},"Blue Raspberry Popcorn Tin - 1 Gallon","RETAIL",19.989999999999998]
["CS0390",{"$f":"Table_prices[[#This Row],[ITEMNMBR]]","v":"CS0390"},"Toffee Popcorn Tin - 2 Gallon","RETAIL",39.99]
["CS0391",{"$f":"Table_prices[[#This Row],[ITEMNMBR]]","v":"CS0391"},"Toffee Popcorn Tin - 3.5 Gallon","RETAIL",49.99]
["CS0392",{"$f":"Table_prices[[#This Row],[ITEMNMBR]]","v":"CS0392"},"Toffee Popcorn Tin - 1 Gallon","RETAIL",19.989999999999998]
["CS0393",{"$f":"Table_prices[[#This Row],[ITEMNMBR]]","v":"CS0393"},"Green Apple Popcorn Tin - 2 Gallon","RETAIL",39.99]
["CS0394",{"$f":"Table_prices[[#This Row],[ITEMNMBR]]","v":"CS0394"},"Green Apple Popcorn Tin - 3.5 Gallon","RETAIL",49.99]
["CS0395",{"$f":"Table_prices[[#This Row],[ITEMNMBR]]","v":"CS0395"},"Green Apple Popcorn Tin - 1 Gallon","RETAIL",19.989999999999998]
["CS0396",{"$f":"Table_prices[[#This Row],[ITEMNMBR]]","v":"CS0396"},"Vanilla Popcorn Tin - 2 Gallon","RETAIL",39.99]
["CS0397",{"$f":"Table_prices[[#This Row],[ITEMNMBR]]","v":"CS0397"},"Vanilla Popcorn Tin - 3.5 Gallon","RETAIL",49.99]
["CS0398",{"$f":"Table_prices[[#This Row],[ITEMNMBR]]","v":"CS0398"},"Vanilla Popcorn Tin - 1 Gallon","RETAIL",19.989999999999998]
["CS0399",{"$f":"Table_prices[[#This Row],[ITEMNMBR]]","v":"CS0399"},"Pina Colada Popcorn Tin - 2 Gallon","RETAIL",39.99]
["CS0400",{"$f":"Table_prices[[#This Row],[ITEMNMBR]]","v":"CS0400"},"Pina Colada Popcorn Tin - 3.5 Gallon","RETAIL",49.99]
["CS0401",{"$f":"Table_prices[[#This Row],[ITEMNMBR]]","v":"CS0401"},"Pina Colada Popcorn Tin - 1 Gallon","RETAIL",19.989999999999998]
["CS0402",{"$f":"Table_prices[[#This Row],[ITEMNMBR]]","v":"CS0402"},"Lemon Popcorn Tin - 2 Gallon","RETAIL",39.99]
["CS0403",{"$f":"Table_prices[[#This Row],[ITEMNMBR]]","v":"CS0403"},"Lemon Popcorn Tin - 3.5 Gallon","RETAIL",49.99]
["CS0404",{"$f":"Table_prices[[#This Row],[ITEMNMBR]]","v":"CS0404"},"Lemon Popcorn Tin - 1 Gallon","RETAIL",19.989999999999998]
["CS0405",{"$f":"Table_prices[[#This Row],[ITEMNMBR]]","v":"CS0405"},"Cherry Popcorn Tin - 2 Gallon","RETAIL",39.99]
["CS0406",{"$f":"Table_prices[[#This Row],[ITEMNMBR]]","v":"CS0406"},"Cherry Popcorn Tin - 3.5 Gallon","RETAIL",49.99]
["CS0407",{"$f":"Table_prices[[#This Row],[ITEMNMBR]]","v":"CS0407"},"Cherry Popcorn Tin - 1 Gallon","RETAIL",19.989999999999998]
["CS0408",{"$f":"Table_prices[[#This Row],[ITEMNMBR]]","v":"CS0408"},"Blueberry Popcorn Tin - 2 Gallon","RETAIL",39.99]
["CS0409",{"$f":"Table_prices[[#This Row],[ITEMNMBR]]","v":"CS0409"},"Blueberry Popcorn Tin - 3.5 Gallon","RETAIL",49.99]
["CS0410",{"$f":"Table_prices[[#This Row],[ITEMNMBR]]","v":"CS0410"},"Blueberry Popcorn Tin - 1 Gallon","RETAIL",19.989999999999998]
["CS0411",{"$f":"Table_prices[[#This Row],[ITEMNMBR]]","v":"CS0411"},"Bubble Gum Popcorn Tin - 2 Gallon","RETAIL",39.99]
["CS0412",{"$f":"Table_prices[[#This Row],[ITEMNMBR]]","v":"CS0412"},"Bubble Gum Popcorn Tin - 3.5 Gallon","RETAIL",49.99]
["CS0413",{"$f":"Table_prices[[#This Row],[ITEMNMBR]]","v":"CS0413"},"Bubble Gum Popcorn Tin - 1 Gallon","RETAIL",19.989999999999998]
["CS0414",{"$f":"Table_prices[[#This Row],[ITEMNMBR]]","v":"CS0414"},"Banana Cream Pie Popcorn Tin - 2 Gallon","RETAIL",49.99]
["CS0415",{"$f":"Table_prices[[#This Row],[ITEMNMBR]]","v":"CS0415"},"Banana Cream Pie Popcorn Tin - 3.5 Gallon","RETAIL",59.99]
["CS0416",{"$f":"Table_prices[[#This Row],[ITEMNMBR]]","v":"CS0416"},"Banana Cream Pie Popcorn Tin - 1 Gallon","RETAIL",24.99]
["CS0417",{"$f":"Table_prices[[#This Row],[ITEMNMBR]]","v":"CS0417"},"Blueberry Graham Popcorn Tin - 2 Gallon","RETAIL",49.99]
["CS0418",{"$f":"Table_prices[[#This Row],[ITEMNMBR]]","v":"CS0418"},"Blueberry Graham Popcorn Tin - 3.5 Gallon","RETAIL",59.99]
["CS0419",{"$f":"Table_prices[[#This Row],[ITEMNMBR]]","v":"CS0419"},"Blueberry Graham Popcorn Tin - 1 Gallon","RETAIL",24.99]
["CS0420",{"$f":"Table_prices[[#This Row],[ITEMNMBR]]","v":"CS0420"},"Coffee Berry Popcorn Tin - 2 Gallon","RETAIL",49.99]
["CS0421",{"$f":"Table_prices[[#This Row],[ITEMNMBR]]","v":"CS0421"},"Coffee Berry Popcorn Tin - 3.5 Gallon","RETAIL",59.99]
["CS0422",{"$f":"Table_prices[[#This Row],[ITEMNMBR]]","v":"CS0422"},"Coffee Berry Popcorn Tin - 1 Gallon","RETAIL",24.99]
["CS0423",{"$f":"Table_prices[[#This Row],[ITEMNMBR]]","v":"CS0423"},"Coffee n' Cream Popcorn Tin - 2 Gallon","RETAIL",49.99]
["CS0424",{"$f":"Table_prices[[#This Row],[ITEMNMBR]]","v":"CS0424"},"Coffee n' Cream Popcorn Tin - 3.5 Gallon","RETAIL",59.99]
["CS0425",{"$f":"Table_prices[[#This Row],[ITEMNMBR]]","v":"CS0425"},"Coffee n' Cream Popcorn Tin - 1 Gallon","RETAIL",24.99]
["CS0426",{"$f":"Table_prices[[#This Row],[ITEMNMBR]]","v":"CS0426"},"Dark Chocolate Chile Popcorn Tin - 2 Gallon","RETAIL",49.99]
["CS0427",{"$f":"Table_prices[[#This Row],[ITEMNMBR]]","v":"CS0427"},"Dark Chocolate Chile Popcorn Tin - 3.5 Gallon","RETAIL",59.99]
["CS0428",{"$f":"Table_prices[[#This Row],[ITEMNMBR]]","v":"CS0428"},"Dark Chocolate Chile Popcorn Tin - 1 Gallon","RETAIL",24.99]
["CS0429",{"$f":"Table_prices[[#This Row],[ITEMNMBR]]","v":"CS0429"},"Key Lime Pie Popcorn Tin - 2 Gallon","RETAIL",49.99]
["CS0430",{"$f":"Table_prices[[#This Row],[ITEMNMBR]]","v":"CS0430"},"Key Lime Pie Popcorn Tin - 3.5 Gallon","RETAIL",59.99]
["CS0431",{"$f":"Table_prices[[#This Row],[ITEMNMBR]]","v":"CS0431"},"Key Lime Pie Popcorn Tin - 1 Gallon","RETAIL",24.99]
["CS0432",{"$f":"Table_prices[[#This Row],[ITEMNMBR]]","v":"CS0432"},"Granite State Maple Popcorn Tin - 2 Gallon","RETAIL",49.99]
["CS0433",{"$f":"Table_prices[[#This Row],[ITEMNMBR]]","v":"CS0433"},"Granite State Maple Popcorn Tin - 3.5 Gallon","RETAIL",59.99]
["CS0434",{"$f":"Table_prices[[#This Row],[ITEMNMBR]]","v":"CS0434"},"Granite State Maple Popcorn Tin - 1 Gallon","RETAIL",24.99]
["CS0435",{"$f":"Table_prices[[#This Row],[ITEMNMBR]]","v":"CS0435"},"Island Coconut Popcorn Tin - 2 Gallon","RETAIL",49.99]
["CS0436",{"$f":"Table_prices[[#This Row],[ITEMNMBR]]","v":"CS0436"},"Island Coconut Popcorn Tin - 3.5 Gallon","RETAIL",59.99]
["CS0437",{"$f":"Table_prices[[#This Row],[ITEMNMBR]]","v":"CS0437"},"Island Coconut Popcorn Tin - 1 Gallon","RETAIL",24.99]
["CS0438",{"$f":"Table_prices[[#This Row],[ITEMNMBR]]","v":"CS0438"},"Eggnog Popcorn Tin - 2 Gallon","RETAIL",49.99]
["CS0439",{"$f":"Table_prices[[#This Row],[ITEMNMBR]]","v":"CS0439"},"Eggnog Popcorn Tin - 3.5 Gallon","RETAIL",59.99]
["CS0440",{"$f":"Table_prices[[#This Row],[ITEMNMBR]]","v":"CS0440"},"Eggnog Popcorn Tin - 1 Gallon","RETAIL",24.99]
["CS0442",{"$f":"Table_prices[[#This Row],[ITEMNMBR]]","v":"CS0442"},"Dark Chocolate Cherry Popcorn Tin - 2 Gallon","RETAIL",49.99]
["CS0443",{"$f":"Table_prices[[#This Row],[ITEMNMBR]]","v":"CS0443"},"Dark Chocolate Cherry Popcorn Tin - 3.5 Gallon","RETAIL",59.99]
["CS0444",{"$f":"Table_prices[[#This Row],[ITEMNMBR]]","v":"CS0444"},"Dark Chocolate Cherry Popcorn Tin - 1 Gallon","RETAIL",24.99]
["CS0445",{"$f":"Table_prices[[#This Row],[ITEMNMBR]]","v":"CS0445"},"Mint Chocolate Chip Popcorn Tin - 2 Gallon","RETAIL",49.99]
["CS0446",{"$f":"Table_prices[[#This Row],[ITEMNMBR]]","v":"CS0446"},"Mint Chocolate Chip Popcorn Tin - 3.5 Gallon","RETAIL",59.99]
["CS0447",{"$f":"Table_prices[[#This Row],[ITEMNMBR]]","v":"CS0447"},"Mint Chocolate Chip Popcorn Tin - 1 Gallon","RETAIL",24.99]
["CS0448",{"$f":"Table_prices[[#This Row],[ITEMNMBR]]","v":"CS0448"},"White Chocolate Cranberry Popcorn Tin - 2 Gallon","RETAIL",49.99]
["CS0449",{"$f":"Table_prices[[#This Row],[ITEMNMBR]]","v":"CS0449"},"White Chocolate Cranberry Popcorn Tin - 3.5 Gallon","RETAIL",59.99]
["CS0450",{"$f":"Table_prices[[#This Row],[ITEMNMBR]]","v":"CS0450"},"White Chocolate Cranberry Popcorn Tin - 1 Gallon","RETAIL",24.99]
["CS0451",{"$f":"Table_prices[[#This Row],[ITEMNMBR]]","v":"CS0451"},"Cookies & Cream Popcorn Tin - 2 Gallon","RETAIL",49.99]
["CS0452",{"$f":"Table_prices[[#This Row],[ITEMNMBR]]","v":"CS0452"},"Cookies & Cream Popcorn Tin - 3.5 Gallon","RETAIL",59.99]
["CS0453",{"$f":"Table_prices[[#This Row],[ITEMNMBR]]","v":"CS0453"},"Cookies & Cream Popcorn Tin - 1 Gallon","RETAIL",24.99]
["CS0454",{"$f":"Table_prices[[#This Row],[ITEMNMBR]]","v":"CS0454"},"Mint Cookie Mayhem Popcorn Tin - 2 Gallon","RETAIL",49.99]
["CS0455",{"$f":"Table_prices[[#This Row],[ITEMNMBR]]","v":"CS0455"},"Mint Cookie Mayhem Popcorn Tin - 3.5 Gallon","RETAIL",59.99]
["CS0456",{"$f":"Table_prices[[#This Row],[ITEMNMBR]]","v":"CS0456"},"Mint Cookie Mayhem Popcorn Tin - 1 Gallon","RETAIL",24.99]
["CS0457",{"$f":"Table_prices[[#This Row],[ITEMNMBR]]","v":"CS0457"},"Peanut Butter Cup Popcorn Tin - 2 Gallon","RETAIL",49.99]
["CS0458",{"$f":"Table_prices[[#This Row],[ITEMNMBR]]","v":"CS0458"},"Peanut Butter Cup Popcorn Tin - 3.5 Gallon","RETAIL",59.99]
["CS0459",{"$f":"Table_prices[[#This Row],[ITEMNMBR]]","v":"CS0459"},"Peanut Butter Cup Popcorn Tin - 1 Gallon","RETAIL",24.99]
["CS0460",{"$f":"Table_prices[[#This Row],[ITEMNMBR]]","v":"CS0460"},"Pina Colada Popcorn Tin - 2 Gallon","RETAIL",49.99]
["CS0461",{"$f":"Table_prices[[#This Row],[ITEMNMBR]]","v":"CS0461"},"Pina Colada Popcorn Tin - 3.5 Gallon","RETAIL",59.99]
["CS0462",{"$f":"Table_prices[[#This Row],[ITEMNMBR]]","v":"CS0462"},"Pina Colada Popcorn Tin - 1 Gallon","RETAIL",24.99]
["CS0463",{"$f":"Table_prices[[#This Row],[ITEMNMBR]]","v":"CS0463"},"Salted Chocolate Popcorn Tin - 2 Gallon","RETAIL",49.99]
["CS0464",{"$f":"Table_prices[[#This Row],[ITEMNMBR]]","v":"CS0464"},"Salted Chocolate Popcorn Tin - 3.5 Gallon","RETAIL",59.99]
["CS0465",{"$f":"Table_prices[[#This Row],[ITEMNMBR]]","v":"CS0465"},"Salted Chocolate Popcorn Tin - 1 Gallon","RETAIL",24.99]
["CS0466",{"$f":"Table_prices[[#This Row],[ITEMNMBR]]","v":"CS0466"},"Strawberry Cheesecake Popcorn Tin - 2 Gallon","RETAIL",49.99]
["CS0467",{"$f":"Table_prices[[#This Row],[ITEMNMBR]]","v":"CS0467"},"Strawberry Cheesecake Popcorn Tin - 3.5 Gallon","RETAIL",59.99]
["CS0468",{"$f":"Table_prices[[#This Row],[ITEMNMBR]]","v":"CS0468"},"Strawberry Cheesecake Popcorn Tin - 1 Gallon","RETAIL",19.989999999999998]
["CS214",{"$f":"Table_prices[[#This Row],[ITEMNMBR]]","v":"CS214"},"Toasted Coconut Crunch Popcorn Tin - 2 Gallon","RETAIL",49.99]
["CSO061",{"$f":"Table_prices[[#This Row],[ITEMNMBR]]","v":"CSO061"},"Toasted Coconut Crunch Popcorn Tin - 3.5 Gallon","RETAIL",59.99]
["CSO213",{"$f":"Table_prices[[#This Row],[ITEMNMBR]]","v":"CSO213"},"Toasted Coconut Crunch Popcorn Tin - 1 Gallon","RETAIL",24.99]
["CSO281",{"$f":"Table_prices[[#This Row],[ITEMNMBR]]","v":"CSO281"},"White Chocolate Pineapple Popcorn Tin - 2 Gallon","RETAIL",49.99]
["CUST-001",{"$f":"Table_prices[[#This Row],[ITEMNMBR]]","v":"CUST-001"},"White Chocolate Pineapple Popcorn Tin - 3.5 Gallon","RETAIL",59.99]
["CUSTOM",{"$f":"Table_prices[[#This Row],[ITEMNMBR]]","v":"CUSTOM"},"White Chocolate Pineapple Popcorn Tin - 1 Gallon","RETAIL",24.99]
["CW-60",{"$f":"Table_prices[[#This Row],[ITEMNMBR]]","v":"CW-60"},"Champagne & Strawberries Popcorn Tin - 2 Gallon","RETAIL",49.99]
["DAR001",{"$f":"Table_prices[[#This Row],[ITEMNMBR]]","v":"DAR001"},"Champagne & Strawberries Popcorn Tin - 3.5 Gallon","RETAIL",59.99]
["DAR002",{"$f":"Table_prices[[#This Row],[ITEMNMBR]]","v":"DAR002"},"Champagne & Strawberries Popcorn Tin - 1 Gallon","RETAIL",24.99]
["DAR003",{"$f":"Table_prices[[#This Row],[ITEMNMBR]]","v":"DAR003"},"Funky Monkey Popcorn Tin - 2 Gallon","RETAIL",49.99]
["DAR004",{"$f":"Table_prices[[#This Row],[ITEMNMBR]]","v":"DAR004"},"Funky Monkey Popcorn Tin - 3.5 Gallon","RETAIL",59.99]
["DAR005",{"$f":"Table_prices[[#This Row],[ITEMNMBR]]","v":"DAR005"},"Funky Monkey Popcorn Tin - 1 Gallon","RETAIL",24.99]
["DAR006",{"$f":"Table_prices[[#This Row],[ITEMNMBR]]","v":"DAR006"},"Smore's Popcorn Tin - 2 Gallon","RETAIL",49.99]
["DAR007",{"$f":"Table_prices[[#This Row],[ITEMNMBR]]","v":"DAR007"},"Smore's Popcorn Tin - 3.5 Gallon","RETAIL",59.99]
["DAR008",{"$f":"Table_prices[[#This Row],[ITEMNMBR]]","v":"DAR008"},"Smore's Popcorn Tin - 1 Gallon","RETAIL",24.99]
["DAR009",{"$f":"Table_prices[[#This Row],[ITEMNMBR]]","v":"DAR009"},"Cinnamon Roll Popcorn Tin - 2 Gallon","RETAIL",49.99]
["DAR010",{"$f":"Table_prices[[#This Row],[ITEMNMBR]]","v":"DAR010"},"Cinnamon Roll Popcorn Tin - 3.5 Gallon","RETAIL",59.99]
["DAR011",{"$f":"Table_prices[[#This Row],[ITEMNMBR]]","v":"DAR011"},"Cinnamon Roll Popcorn Tin - 1 Gallon","RETAIL",24.99]
["DAR012",{"$f":"Table_prices[[#This Row],[ITEMNMBR]]","v":"DAR012"},"Birthday Cake Popcorn Tin - 2 Gallon","RETAIL",49.99]
["DAR013",{"$f":"Table_prices[[#This Row],[ITEMNMBR]]","v":"DAR013"},"Birthday Cake Popcorn Tin - 3.5 Gallon","RETAIL",59.99]
["DAR014",{"$f":"Table_prices[[#This Row],[ITEMNMBR]]","v":"DAR014"},"Birthday Cake Popcorn Tin - 1 Gallon","RETAIL",24.99]
["DAR015",{"$f":"Table_prices[[#This Row],[ITEMNMBR]]","v":"DAR015"},"Dark Chocolate Drizzle Caramel Popcorn Tin - 2 Gallon","RETAIL",49.99]
["DAR016",{"$f":"Table_prices[[#This Row],[ITEMNMBR]]","v":"DAR016"},"Dark Chocolate Drizzle Caramel Popcorn Tin - 3.5 Gallon","RETAIL",59.99]
["DAR017",{"$f":"Table_prices[[#This Row],[ITEMNMBR]]","v":"DAR017"},"Dark Chocolate Drizzle Caramel Popcorn Tin - 1 Gallon","RETAIL",24.99]
["DAR018",{"$f":"Table_prices[[#This Row],[ITEMNMBR]]","v":"DAR018"},"Milk Chocolate Drizzle Caramel Popcorn Tin - 2 Gallon","RETAIL",49.99]
["DAR019",{"$f":"Table_prices[[#This Row],[ITEMNMBR]]","v":"DAR019"},"Milk Chocolate Drizzle Caramel Popcorn Tin - 3.5 Gallon","RETAIL",59.99]
["DAR020",{"$f":"Table_prices[[#This Row],[ITEMNMBR]]","v":"DAR020"},"Milk Chocolate Drizzle Caramel Popcorn Tin - 1 Gallon","RETAIL",24.99]
["DAR021",{"$f":"Table_prices[[#This Row],[ITEMNMBR]]","v":"DAR021"},"Salted Chocolate Drizzle Caramel Popcorn Tin - 2 Gallon","RETAIL",49.99]
["DAR022",{"$f":"Table_prices[[#This Row],[ITEMNMBR]]","v":"DAR022"},"Salted Chocolate Drizzle Caramel Popcorn Tin - 3.5 Gallon","RETAIL",59.99]
["DAR023",{"$f":"Table_prices[[#This Row],[ITEMNMBR]]","v":"DAR023"},"Salted Chocolate Drizzle Caramel Popcorn Tin - 1 Gallon","RETAIL",24.99]
["DAR024",{"$f":"Table_prices[[#This Row],[ITEMNMBR]]","v":"DAR024"},"Tuxedo (Dark & White Chocolate Drizzle Caramel Popcorn Tin - 2 Gallon","RETAIL",49.99]
["DAR025",{"$f":"Table_prices[[#This Row],[ITEMNMBR]]","v":"DAR025"},"Tuxedo (Dark & White Chocolate Drizzle Caramel Popcorn Tin - 3.5 Gallon","RETAIL",59.99]
["DAR026",{"$f":"Table_prices[[#This Row],[ITEMNMBR]]","v":"DAR026"},"Tuxedo (Dark & White Chocolate Drizzle Caramel Popcorn Tin - 1 Gallon","RETAIL",24.99]
["DAR027",{"$f":"Table_prices[[#This Row],[ITEMNMBR]]","v":"DAR027"},"White Chocolate Caramel Popcorn Tin - 2 Gallon","RETAIL",49.99]
["DAR028",{"$f":"Table_prices[[#This Row],[ITEMNMBR]]","v":"DAR028"},"White Chocolate Caramel Popcorn Tin - 3.5 Gallon","RETAIL",59.99]
["DAR029",{"$f":"Table_prices[[#This Row],[ITEMNMBR]]","v":"DAR029"},"White Chocolate Caramel Popcorn Tin - 1 Gallon","RETAIL",24.99]
["DAR030",{"$f":"Table_prices[[#This Row],[ITEMNMBR]]","v":"DAR030"},"Turtle Popcorn Tin - 2 Gallon","RETAIL",49.99]
["DAR031",{"$f":"Table_prices[[#This Row],[ITEMNMBR]]","v":"DAR031"},"Turtle Popcorn Tin - 3.5 Gallon","RETAIL",59.99]
["DAR032",{"$f":"Table_prices[[#This Row],[ITEMNMBR]]","v":"DAR032"},"Turtle Popcorn Tin - 1 Gallon","RETAIL",24.99]
["DAR051",{"$f":"Table_prices[[#This Row],[ITEMNMBR]]","v":"DAR051"},"Caramel Apple Popcorn Tin - 2 Gallon","RETAIL",49.99]
["DAR052",{"$f":"Table_prices[[#This Row],[ITEMNMBR]]","v":"DAR052"},"Caramel Apple Popcorn Tin - 3.5 Gallon","RETAIL",59.99]
["DAR053",{"$f":"Table_prices[[#This Row],[ITEMNMBR]]","v":"DAR053"},"Caramel Apple Popcorn Tin - 1 Gallon","RETAIL",24.99]
["DAR058",{"$f":"Table_prices[[#This Row],[ITEMNMBR]]","v":"DAR058"},"Ketchup Popcorn Tin - 2 Gallon","RETAIL",39.99]
["DAR059",{"$f":"Table_prices[[#This Row],[ITEMNMBR]]","v":"DAR059"},"Ketchup Popcorn Tin - 3.5 Gallon","RETAIL",49.99]
["DAR060",{"$f":"Table_prices[[#This Row],[ITEMNMBR]]","v":"DAR060"},"Ketchup Popcorn Tin - 1 Gallon","RETAIL",19.989999999999998]
["DAR061",{"$f":"Table_prices[[#This Row],[ITEMNMBR]]","v":"DAR061"},"Creamy Dill Popcorn Tin - 2 Gallon","RETAIL",39.99]
["DAR062",{"$f":"Table_prices[[#This Row],[ITEMNMBR]]","v":"DAR062"},"Creamy Dill Popcorn Tin - 3.5 Gallon","RETAIL",49.99]
["DAR063",{"$f":"Table_prices[[#This Row],[ITEMNMBR]]","v":"DAR063"},"Creamy Dill Popcorn Tin - 1 Gallon","RETAIL",19.989999999999998]
["DAV001",{"$f":"Table_prices[[#This Row],[ITEMNMBR]]","v":"DAV001"},"Sweet Onion Popcorn Tin - 2 Gallon","RETAIL",39.99]
["DAV002",{"$f":"Table_prices[[#This Row],[ITEMNMBR]]","v":"DAV002"},"Sweet Onion Popcorn Tin - 3.5 Gallon","RETAIL",49.99]
["DELUXE",{"$f":"Table_prices[[#This Row],[ITEMNMBR]]","v":"DELUXE"},"Sweet Onion Popcorn Tin - 1 Gallon","RETAIL",19.989999999999998]
["DII001",{"$f":"Table_prices[[#This Row],[ITEMNMBR]]","v":"DII001"},"Hickory Maple Bacon Popcorn Tin - 2 Gallon","RETAIL",39.99]
["DII002",{"$f":"Table_prices[[#This Row],[ITEMNMBR]]","v":"DII002"},"Hickory Maple Bacon Popcorn Tin - 3.5 Gallon","RETAIL",49.99]
["DII003",{"$f":"Table_prices[[#This Row],[ITEMNMBR]]","v":"DII003"},"Hickory Maple Bacon Popcorn Tin - 1 Gallon","RETAIL",19.989999999999998]
["DII004",{"$f":"Table_prices[[#This Row],[ITEMNMBR]]","v":"DII004"},"Critics Choice Gourmet Popcorn Sampler -","RETAIL",34.99]
["DII005",{"$f":"Table_prices[[#This Row],[ITEMNMBR]]","v":"DII005"},"Critics Choice Gourmet Popcorn Sampler -","RETAIL",34.99]
["DII006",{"$f":"Table_prices[[#This Row],[ITEMNMBR]]","v":"DII006"},"Critics Choice Gourmet Popcorn Sampler -","RETAIL",34.99]
["DII007",{"$f":"Table_prices[[#This Row],[ITEMNMBR]]","v":"DII007"},"Fruit Fusion Popcorn Sampler - 9 Flavors","RETAIL",34.99]
["DII008",{"$f":"Table_prices[[#This Row],[ITEMNMBR]]","v":"DII008"},"Fruit Fusion Popcorn Sampler - 9 Flavors","RETAIL",34.99]
["DII009",{"$f":"Table_prices[[#This Row],[ITEMNMBR]]","v":"DII009"},"Father's Day Backyard BBQ Popcorn Sampler - 9 Flavors","RETAIL",34.99]
["DII010",{"$f":"Table_prices[[#This Row],[ITEMNMBR]]","v":"DII010"},"Father's Day Backyard BBQ Popcorn Sampler - 9 Flavors","RETAIL",34.99]
["DII011",{"$f":"Table_prices[[#This Row],[ITEMNMBR]]","v":"DII011"},"Backyard BBQ Popcorn Sampler -","RETAIL",34.99]
["DII012",{"$f":"Table_prices[[#This Row],[ITEMNMBR]]","v":"DII012"},"Backyard BBQ Popcorn Sampler -","RETAIL",34.99]
["DII013",{"$f":"Table_prices[[#This Row],[ITEMNMBR]]","v":"DII013"},"Chocolate Popcorn Sampler","RETAIL",39.99]
["DII014",{"$f":"Table_prices[[#This Row],[ITEMNMBR]]","v":"DII014"},"Chocolate Popcorn Sampler","RETAIL",39.99]
["DII015",{"$f":"Table_prices[[#This Row],[ITEMNMBR]]","v":"DII015"},"Thanksgiving Popcorn Feast","RETAIL",34.99]
["DII016",{"$f":"Table_prices[[#This Row],[ITEMNMBR]]","v":"DII016"},"Thanksgiving Popcorn Feast","RETAIL",39.99]
["DIL001",{"$f":"Table_prices[[#This Row],[ITEMNMBR]]","v":"DIL001"},"Holiday Gourmet  Popcorn Sampler","RETAIL",39.99]
["DIL002",{"$f":"Table_prices[[#This Row],[ITEMNMBR]]","v":"DIL002"},"Holiday Gourmet Popcorn Sampler","RETAIL",39.99]
["DIL003",{"$f":"Table_prices[[#This Row],[ITEMNMBR]]","v":"DIL003"},"Gourmet Cheesecake Sampler - 9 Inch","RETAIL",49.99]
["DIL004",{"$f":"Table_prices[[#This Row],[ITEMNMBR]]","v":"DIL004"},"Gourmet Cheesecake Sampler - 9 Inch","RETAIL",49.99]
["DIL005",{"$f":"Table_prices[[#This Row],[ITEMNMBR]]","v":"DIL005"},"Amaretto Cheesecake - 9 Inch","RETAIL",42.99]
["DIL006",{"$f":"Table_prices[[#This Row],[ITEMNMBR]]","v":"DIL006"},"Amaretto Cheesecake - 9 Inch","RETAIL",42.99]
["DIL007",{"$f":"Table_prices[[#This Row],[ITEMNMBR]]","v":"DIL007"},"Creme Brulee Cheesecake - 9 Inch","RETAIL",42.99]
["DIV001",{"$f":"Table_prices[[#This Row],[ITEMNMBR]]","v":"DIV001"},"Creme Brulee Cheesecake - 9 Inch","RETAIL",42.99]
["DIV002",{"$f":"Table_prices[[#This Row],[ITEMNMBR]]","v":"DIV002"},"New York Cheesecake - 9 Inch","RETAIL",42.99]
["DLR001",{"$f":"Table_prices[[#This Row],[ITEMNMBR]]","v":"DLR001"},"New York Cheesecake - 9 Inch","RETAIL",42.99]
["DLR002",{"$f":"Table_prices[[#This Row],[ITEMNMBR]]","v":"DLR002"},"Praline Cheesecake - 9 Inch","RETAIL",42.99]
["DLR003",{"$f":"Table_prices[[#This Row],[ITEMNMBR]]","v":"DLR003"},"Praline Cheesecake - 9 Inch","RETAIL",42.99]
["DLR004",{"$f":"Table_prices[[#This Row],[ITEMNMBR]]","v":"DLR004"},"Raspberry Swirl Cheesecake - 9 Inch","RETAIL",42.99]
["DLR005",{"$f":"Table_prices[[#This Row],[ITEMNMBR]]","v":"DLR005"},"Raspberry Swirl Cheesecake - 9 Inch","RETAIL",42.99]
["DLR006",{"$f":"Table_prices[[#This Row],[ITEMNMBR]]","v":"DLR006"},"Strawberry Cheesecake - 9 Inch","RETAIL",42.99]
["DLR007",{"$f":"Table_prices[[#This Row],[ITEMNMBR]]","v":"DLR007"},"Strawberry Cheesecake - 9 Inch","RETAIL",42.99]
["DLR008",{"$f":"Table_prices[[#This Row],[ITEMNMBR]]","v":"DLR008"},"Turtle Cheesecake - 9 Inch","RETAIL",42.99]
["DLR010",{"$f":"Table_prices[[#This Row],[ITEMNMBR]]","v":"DLR010"},"Turtle Cheesecake - 9 Inch","RETAIL",42.99]
["DLR012",{"$f":"Table_prices[[#This Row],[ITEMNMBR]]","v":"DLR012"},"White Chocolate Cheesecake - 9 Inch","RETAIL",42.99]
["DLR013",{"$f":"Table_prices[[#This Row],[ITEMNMBR]]","v":"DLR013"},"White Chocolate Cheesecake - 9 Inch","RETAIL",42.99]
["DLR014",{"$f":"Table_prices[[#This Row],[ITEMNMBR]]","v":"DLR014"},"Presidents Choice Sampler - 9 inch","RETAIL",54.99]
["DOR001",{"$f":"Table_prices[[#This Row],[ITEMNMBR]]","v":"DOR001"},"Presidents Choice Sampler - 9 inch","RETAIL",54.99]
["DRY001",{"$f":"Table_prices[[#This Row],[ITEMNMBR]]","v":"DRY001"},"Chocolate Lovers Sampler - 9 inch","RETAIL",49.99]
["DRY002",{"$f":"Table_prices[[#This Row],[ITEMNMBR]]","v":"DRY002"},"Chocolate Lovers Sampler - 9 inch","RETAIL",49.99]
["DRY003",{"$f":"Table_prices[[#This Row],[ITEMNMBR]]","v":"DRY003"},"Fruit Sampler - 9 Inch","RETAIL",49.99]
["DRY004",{"$f":"Table_prices[[#This Row],[ITEMNMBR]]","v":"DRY004"},"Fruit Sampler - 9 Inch","RETAIL",49.99]
["DRY005",{"$f":"Table_prices[[#This Row],[ITEMNMBR]]","v":"DRY005"},"Happy Hour Sampler - 9 inch","RETAIL",49.99]
["DRY006",{"$f":"Table_prices[[#This Row],[ITEMNMBR]]","v":"DRY006"},"Happy Hour Sampler - 9 inch","RETAIL",49.99]
["EAS001",{"$f":"Table_prices[[#This Row],[ITEMNMBR]]","v":"EAS001"},"Tropical Sampler - 9 inch","RETAIL",49.99]
["EAS002",{"$f":"Table_prices[[#This Row],[ITEMNMBR]]","v":"EAS002"},"Tropical Sampler - 9 inch","RETAIL",49.99]
["EAS003",{"$f":"Table_prices[[#This Row],[ITEMNMBR]]","v":"EAS003"},"Banana Cream Cheesecake - 9 inch","RETAIL",42.99]
["EAS004",{"$f":"Table_prices[[#This Row],[ITEMNMBR]]","v":"EAS004"},"Banana Cream Cheesecake - 9 inch","RETAIL",42.99]
["EAS005",{"$f":"Table_prices[[#This Row],[ITEMNMBR]]","v":"EAS005"},"Blood Orange Cheesecake - 9 inch","RETAIL",42.99]
["EAT001",{"$f":"Table_prices[[#This Row],[ITEMNMBR]]","v":"EAT001"},"Blood Orange Cheesecake - 9 inch","RETAIL",42.99]
["EDU001",{"$f":"Table_prices[[#This Row],[ITEMNMBR]]","v":"EDU001"},"Cappuccino Cheesecake - 9 inch","RETAIL",42.99]
["EDU002",{"$f":"Table_prices[[#This Row],[ITEMNMBR]]","v":"EDU002"},"Cappuccino Cheesecake - 9 inch","RETAIL",42.99]
["EFF001",{"$f":"Table_prices[[#This Row],[ITEMNMBR]]","v":"EFF001"},"Caramel Apple Crunch Cheesecake - 9 inch","RETAIL",42.99]
["ELE001",{"$f":"Table_prices[[#This Row],[ITEMNMBR]]","v":"ELE001"},"Caramel Apple Crunch Cheesecake - 9 inch","RETAIL",42.99]
["ELE002",{"$f":"Table_prices[[#This Row],[ITEMNMBR]]","v":"ELE002"},"Cherry Almond Cheesecake - 9 inch","RETAIL",42.99]
["ELE003",{"$f":"Table_prices[[#This Row],[ITEMNMBR]]","v":"ELE003"},"Cherry Almond Cheesecake - 9 inch","RETAIL",42.99]
["ELE004",{"$f":"Table_prices[[#This Row],[ITEMNMBR]]","v":"ELE004"},"Chocolate Cabernet Truffle Cheesecake - 9 inch","RETAIL",42.99]
["ELE005",{"$f":"Table_prices[[#This Row],[ITEMNMBR]]","v":"ELE005"},"Chocolate Cabernet Truffle Cheesecake - 9 inch","RETAIL",42.99]
["ELK001",{"$f":"Table_prices[[#This Row],[ITEMNMBR]]","v":"ELK001"},"Chocolate Raspberry Cheesecake - 9 inch","RETAIL",42.99]
["ELK002",{"$f":"Table_prices[[#This Row],[ITEMNMBR]]","v":"ELK002"},"Chocolate Raspberry Cheesecake - 9 inch","RETAIL",42.99]
["ELP001",{"$f":"Table_prices[[#This Row],[ITEMNMBR]]","v":"ELP001"},"Chocolate Swirl Cheesecake - 9 inch","RETAIL",42.99]
["ELS001",{"$f":"Table_prices[[#This Row],[ITEMNMBR]]","v":"ELS001"},"Chocolate Swirl Cheesecake - 9 inch","RETAIL",42.99]
["ELS002",{"$f":"Table_prices[[#This Row],[ITEMNMBR]]","v":"ELS002"},"Coconut Cheesecake - 9 inch","RETAIL",42.99]
["ELS003",{"$f":"Table_prices[[#This Row],[ITEMNMBR]]","v":"ELS003"},"Coconut Cheesecake - 9 inch","RETAIL",42.99]
["ELS004",{"$f":"Table_prices[[#This Row],[ITEMNMBR]]","v":"ELS004"},"Cookies & Cream Cheesecake - 9 inch","RETAIL",42.99]
["ELS005",{"$f":"Table_prices[[#This Row],[ITEMNMBR]]","v":"ELS005"},"Cookies & Cream Cheesecake - 9 inch","RETAIL",42.99]
["ELS006",{"$f":"Table_prices[[#This Row],[ITEMNMBR]]","v":"ELS006"},"Dulce De Leche Cheesecake - 9 inch","RETAIL",42.99]
["EPI001",{"$f":"Table_prices[[#This Row],[ITEMNMBR]]","v":"EPI001"},"Dulce De Leche Cheesecake - 9 inch","RETAIL",42.99]
["EPI002",{"$f":"Table_prices[[#This Row],[ITEMNMBR]]","v":"EPI002"},"Kahlua Almond Cheesecake - 9 Inch","RETAIL",42.99]
["FAM001",{"$f":"Table_prices[[#This Row],[ITEMNMBR]]","v":"FAM001"},"Kahlua Almond Cheesecake - 9 Inch","RETAIL",42.99]
["FAM003",{"$f":"Table_prices[[#This Row],[ITEMNMBR]]","v":"FAM003"},"Key Lime Cheesecake - 9 Inch","RETAIL",42.99]
["FAM004",{"$f":"Table_prices[[#This Row],[ITEMNMBR]]","v":"FAM004"},"Key Lime Cheesecake - 9 Inch","RETAIL",42.99]
["FAM005",{"$f":"Table_prices[[#This Row],[ITEMNMBR]]","v":"FAM005"},"Lemon Biscotti Cheesecake - 9 Inch","RETAIL",42.99]
["FER001",{"$f":"Table_prices[[#This Row],[ITEMNMBR]]","v":"FER001"},"Lemon Biscotti Cheesecake - 9 Inch","RETAIL",42.99]
["FER002",{"$f":"Table_prices[[#This Row],[ITEMNMBR]]","v":"FER002"},"Marionberry Cheesecake - 9 Inch","RETAIL",42.99]
["FER003",{"$f":"Table_prices[[#This Row],[ITEMNMBR]]","v":"FER003"},"Marionberry Cheesecake - 9 Inch","RETAIL",42.99]
["FER004",{"$f":"Table_prices[[#This Row],[ITEMNMBR]]","v":"FER004"},"Mint Chocolate Chip Cheesecake - 9 Inch","RETAIL",42.99]
["FER005",{"$f":"Table_prices[[#This Row],[ITEMNMBR]]","v":"FER005"},"Mint Chocolate Chip Cheesecake - 9 Inch","RETAIL",42.99]
["FER006",{"$f":"Table_prices[[#This Row],[ITEMNMBR]]","v":"FER006"},"NY Chocolate Fudge Cheesecake - 9 Inch","RETAIL",42.99]
["FFI",{"$f":"Table_prices[[#This Row],[ITEMNMBR]]","v":"FFI"},"NY Chocolate Fudge Cheesecake - 9 Inch","RETAIL",42.99]
["FIE001",{"$f":"Table_prices[[#This Row],[ITEMNMBR]]","v":"FIE001"},"NY Strawberry Topped Cheesecake - 9 Inch","RETAIL",42.99]
["FIE002",{"$f":"Table_prices[[#This Row],[ITEMNMBR]]","v":"FIE002"},"NY Strawberry Topped Cheesecake - 9 Inch","RETAIL",42.99]
["FIR001",{"$f":"Table_prices[[#This Row],[ITEMNMBR]]","v":"FIR001"},"Rocky Road Cheesecake - 9 Inch","RETAIL",42.99]
["FIR002",{"$f":"Table_prices[[#This Row],[ITEMNMBR]]","v":"FIR002"},"Rocky Road Cheesecake - 9 Inch","RETAIL",42.99]
["FIR003",{"$f":"Table_prices[[#This Row],[ITEMNMBR]]","v":"FIR003"},"Triple Chocolate Cheesecake - 9 Inch","RETAIL",42.99]
["FIR004",{"$f":"Table_prices[[#This Row],[ITEMNMBR]]","v":"FIR004"},"Triple Chocolate Cheesecake - 9 Inch","RETAIL",42.99]
["FIR005",{"$f":"Table_prices[[#This Row],[ITEMNMBR]]","v":"FIR005"},"White Chocolate Swirl Cheesecake - 9 Inch","RETAIL",42.99]
["FIS001",{"$f":"Table_prices[[#This Row],[ITEMNMBR]]","v":"FIS001"},"White Chocolate Swirl Cheesecake - 9 Inch","RETAIL",42.99]
["FIS002",{"$f":"Table_prices[[#This Row],[ITEMNMBR]]","v":"FIS002"},"Pumpkin Cheesecake","RETAIL",42.99]
["FIS003",{"$f":"Table_prices[[#This Row],[ITEMNMBR]]","v":"FIS003"},"Pumpkin Cheesecake 8 inch","RETAIL",42.99]
["FLOWERS",{"$f":"Table_prices[[#This Row],[ITEMNMBR]]","v":"FLOWERS"},"Half Dozen Roses","RETAIL",60]
["FOX001",{"$f":"Table_prices[[#This Row],[ITEMNMBR]]","v":"FOX001"},"Gourmet Cheesecake Sampler Cheesecake - 6 inch","RETAIL",34.99]
["FOX002",{"$f":"Table_prices[[#This Row],[ITEMNMBR]]","v":"FOX002"},"Gourmet Cheesecake Sampler Cheesecake - 6 inch","RETAIL",34.99]
["FOX003",{"$f":"Table_prices[[#This Row],[ITEMNMBR]]","v":"FOX003"},"Amaretto Cheesecake - 6 Inch","RETAIL",29.99]
["FOX004",{"$f":"Table_prices[[#This Row],[ITEMNMBR]]","v":"FOX004"},"Amaretto Cheesecake - 6 Inch","RETAIL",29.99]
["FOX005",{"$f":"Table_prices[[#This Row],[ITEMNMBR]]","v":"FOX005"},"New York Cheesecake - 6 Inch","RETAIL",29.99]
["FOX006",{"$f":"Table_prices[[#This Row],[ITEMNMBR]]","v":"FOX006"},"New York Cheesecake - 6 Inch","RETAIL",29.99]
["FOX007",{"$f":"Table_prices[[#This Row],[ITEMNMBR]]","v":"FOX007"},"Raspberry Swirl Cheesecake - 6 Inch","RETAIL",29.99]
["FOX008",{"$f":"Table_prices[[#This Row],[ITEMNMBR]]","v":"FOX008"},"Raspberry Swirl Cheesecake - 6 Inch","RETAIL",29.99]
["FOX009",{"$f":"Table_prices[[#This Row],[ITEMNMBR]]","v":"FOX009"},"Strawberry Cheesecake - 6 Inch","RETAIL",29.99]
["FOX010",{"$f":"Table_prices[[#This Row],[ITEMNMBR]]","v":"FOX010"},"Strawberry Cheesecake - 6 Inch","RETAIL",29.99]
["FOXWOODS1",{"$f":"Table_prices[[#This Row],[ITEMNMBR]]","v":"FOXWOODS1"},"Turtle Cheesecake - 6 Inch","RETAIL",29.99]
["FOXWOODS5",{"$f":"Table_prices[[#This Row],[ITEMNMBR]]","v":"FOXWOODS5"},"Turtle Cheesecake - 6 Inch","RETAIL",29.99]
["FRI001",{"$f":"Table_prices[[#This Row],[ITEMNMBR]]","v":"FRI001"},"Chocolate Lovers Sampler - 6 inch","RETAIL",34.99]
["FRI002",{"$f":"Table_prices[[#This Row],[ITEMNMBR]]","v":"FRI002"},"Chocolate Lovers Sampler - 6 inch","RETAIL",34.99]
["FRI003",{"$f":"Table_prices[[#This Row],[ITEMNMBR]]","v":"FRI003"},"Fruit Sampler - 6 Inch","RETAIL",34.99]
["FRI004",{"$f":"Table_prices[[#This Row],[ITEMNMBR]]","v":"FRI004"},"Fruit Sampler - 6 Inch","RETAIL",34.99]
["FRI005",{"$f":"Table_prices[[#This Row],[ITEMNMBR]]","v":"FRI005"},"Happy Hour Sampler - 6 inch","RETAIL",34.99]
["FRO001",{"$f":"Table_prices[[#This Row],[ITEMNMBR]]","v":"FRO001"},"Happy Hour Sampler - 6 inch","RETAIL",34.99]
["FRO002",{"$f":"Table_prices[[#This Row],[ITEMNMBR]]","v":"FRO002"},"Tropical Sampler - 6 inch","RETAIL",34.99]
["FRO003",{"$f":"Table_prices[[#This Row],[ITEMNMBR]]","v":"FRO003"},"Tropical Sampler - 6 inch","RETAIL",34.99]
["FRO004",{"$f":"Table_prices[[#This Row],[ITEMNMBR]]","v":"FRO004"},"Banana Cream Cheesecake - 6 inch","RETAIL",29.99]
["FRO005",{"$f":"Table_prices[[#This Row],[ITEMNMBR]]","v":"FRO005"},"Banana Cream Cheesecake - 6 inch","RETAIL",29.99]
["FRO006",{"$f":"Table_prices[[#This Row],[ITEMNMBR]]","v":"FRO006"},"Blood Orange Cheesecake - 6 inch","RETAIL",29.99]
["FRO007",{"$f":"Table_prices[[#This Row],[ITEMNMBR]]","v":"FRO007"},"Blood Orange Cheesecake - 6 inch","RETAIL",29.99]
["FRO008",{"$f":"Table_prices[[#This Row],[ITEMNMBR]]","v":"FRO008"},"Cappuccino Cheesecake - 6 inch","RETAIL",29.99]
["FRS001",{"$f":"Table_prices[[#This Row],[ITEMNMBR]]","v":"FRS001"},"Cappuccino Cheesecake - 6 inch","RETAIL",29.99]
["FRS002",{"$f":"Table_prices[[#This Row],[ITEMNMBR]]","v":"FRS002"},"Caramel Apple Crunch Cheesecake - 6 inch","RETAIL",29.99]
["FRS003",{"$f":"Table_prices[[#This Row],[ITEMNMBR]]","v":"FRS003"},"Caramel Apple Crunch Cheesecake - 6 inch","RETAIL",29.99]
["FRS004",{"$f":"Table_prices[[#This Row],[ITEMNMBR]]","v":"FRS004"},"Cherry Almond Cheesecake - 6 inch","RETAIL",29.99]
["FRS005",{"$f":"Table_prices[[#This Row],[ITEMNMBR]]","v":"FRS005"},"Cherry Almond Cheesecake - 6 inch","RETAIL",29.99]
["FRS006",{"$f":"Table_prices[[#This Row],[ITEMNMBR]]","v":"FRS006"},"Chocolate Cabernet Truffle Cheesecake - 6 inch","RETAIL",29.99]
["FRS007",{"$f":"Table_prices[[#This Row],[ITEMNMBR]]","v":"FRS007"},"Chocolate Cabernet Truffle Cheesecake - 6 inch","RETAIL",29.99]
["FRS008",{"$f":"Table_prices[[#This Row],[ITEMNMBR]]","v":"FRS008"},"Chocolate Raspberry Cheesecake - 6 inch","RETAIL",29.99]
["FRS010",{"$f":"Table_prices[[#This Row],[ITEMNMBR]]","v":"FRS010"},"Chocolate Raspberry Cheesecake - 6 inch","RETAIL",29.99]
["FRS011",{"$f":"Table_prices[[#This Row],[ITEMNMBR]]","v":"FRS011"},"Chocolate Swirl Cheesecake - 6 inch","RETAIL",29.99]
["FRS012",{"$f":"Table_prices[[#This Row],[ITEMNMBR]]","v":"FRS012"},"Chocolate Swirl Cheesecake - 6 inch","RETAIL",29.99]
["FRS013",{"$f":"Table_prices[[#This Row],[ITEMNMBR]]","v":"FRS013"},"Coconut Cheesecake - 6 inch","RETAIL",29.99]
["FRS014",{"$f":"Table_prices[[#This Row],[ITEMNMBR]]","v":"FRS014"},"Coconut Cheesecake - 6 inch","RETAIL",29.99]
["FRS015",{"$f":"Table_prices[[#This Row],[ITEMNMBR]]","v":"FRS015"},"Cookies & Cream Cheesecake - 6 inch","RETAIL",29.99]
["FRS016",{"$f":"Table_prices[[#This Row],[ITEMNMBR]]","v":"FRS016"},"Cookies & Cream Cheesecake - 6 inch","RETAIL",29.99]
["FRU005",{"$f":"Table_prices[[#This Row],[ITEMNMBR]]","v":"FRU005"},"Dulce De Leche Cheesecake - 6 inch","RETAIL",29.99]
["FSW001",{"$f":"Table_prices[[#This Row],[ITEMNMBR]]","v":"FSW001"},"Dulce De Leche Cheesecake - 6 inch","RETAIL",29.99]
["FUS001",{"$f":"Table_prices[[#This Row],[ITEMNMBR]]","v":"FUS001"},"Kahlua Almond Cheesecake - 6 Inch","RETAIL",29.99]
["FUS002",{"$f":"Table_prices[[#This Row],[ITEMNMBR]]","v":"FUS002"},"Kahlua Almond Cheesecake - 6 Inch","RETAIL",29.99]
["FUS003",{"$f":"Table_prices[[#This Row],[ITEMNMBR]]","v":"FUS003"},"Key Lime Cheesecake - 6 Inch","RETAIL",29.99]
["FUS004",{"$f":"Table_prices[[#This Row],[ITEMNMBR]]","v":"FUS004"},"Key Lime Cheesecake - 6 Inch","RETAIL",29.99]
["FUS005",{"$f":"Table_prices[[#This Row],[ITEMNMBR]]","v":"FUS005"},"Lemon Biscotti Cheesecake - 6 Inch","RETAIL",29.99]
["FUS006",{"$f":"Table_prices[[#This Row],[ITEMNMBR]]","v":"FUS006"},"Lemon Biscotti Cheesecake - 6 Inch","RETAIL",29.99]
["FUS007",{"$f":"Table_prices[[#This Row],[ITEMNMBR]]","v":"FUS007"},"Marionberry Cheesecake - 6 Inch","RETAIL",29.99]
["FUS008",{"$f":"Table_prices[[#This Row],[ITEMNMBR]]","v":"FUS008"},"Marionberry Cheesecake - 6 Inch","RETAIL",29.99]
["FUS009",{"$f":"Table_prices[[#This Row],[ITEMNMBR]]","v":"FUS009"},"One Dozen Roses","RETAIL",100]
["FUS010",{"$f":"Table_prices[[#This Row],[ITEMNMBR]]","v":"FUS010"},"Mint Chocolate Chip Cheesecake - 6 Inch","RETAIL",29.99]
["FWS002",{"$f":"Table_prices[[#This Row],[ITEMNMBR]]","v":"FWS002"},"Mint Chocolate Chip Cheesecake - 6 Inch","RETAIL",29.99]
["GAR001",{"$f":"Table_prices[[#This Row],[ITEMNMBR]]","v":"GAR001"},"NY Chocolate Fudge Cheesecake - 6 Inch","RETAIL",29.99]
["GAR002",{"$f":"Table_prices[[#This Row],[ITEMNMBR]]","v":"GAR002"},"NY Chocolate Fudge Cheesecake - 6 Inch","RETAIL",29.99]
["GAR003",{"$f":"Table_prices[[#This Row],[ITEMNMBR]]","v":"GAR003"},"NY Strawberry Topped Cheesecake - 6 Inch","RETAIL",29.99]
["GB-SAMEDAY",{"$f":"Table_prices[[#This Row],[ITEMNMBR]]","v":"GB-SAMEDAY"},"NY Strawberry Topped Cheesecake - 6 Inch","RETAIL",29.99]
["GEOTEMPS1",{"$f":"Table_prices[[#This Row],[ITEMNMBR]]","v":"GEOTEMPS1"},"Rocky Road Cheesecake - 6 Inch","RETAIL",29.99]
["GEOTEMPS2",{"$f":"Table_prices[[#This Row],[ITEMNMBR]]","v":"GEOTEMPS2"},"Rocky Road Cheesecake - 6 Inch","RETAIL",29.99]
["GFP001",{"$f":"Table_prices[[#This Row],[ITEMNMBR]]","v":"GFP001"},"Triple Chocolate Cheesecake - 6 Inch","RETAIL",29.99]
["GFP002",{"$f":"Table_prices[[#This Row],[ITEMNMBR]]","v":"GFP002"},"Triple Chocolate Cheesecake - 6 Inch","RETAIL",29.99]
["GFP003",{"$f":"Table_prices[[#This Row],[ITEMNMBR]]","v":"GFP003"},"White Chocolate Swirl Cheesecake - 6 Inch","RETAIL",29.99]
["GGB002",{"$f":"Table_prices[[#This Row],[ITEMNMBR]]","v":"GGB002"},"White Chocolate Swirl Cheesecake - 6 Inch","RETAIL",29.99]
["GGB003",{"$f":"Table_prices[[#This Row],[ITEMNMBR]]","v":"GGB003"},"Apple Pie 9\"","RETAIL",32.99]
["GGB004",{"$f":"Table_prices[[#This Row],[ITEMNMBR]]","v":"GGB004"},"Apple Pie 9\"","RETAIL",32.99]
["GGB006",{"$f":"Table_prices[[#This Row],[ITEMNMBR]]","v":"GGB006"},"Chocolate Cream Pie 9\"","RETAIL",32.99]
["GGB007",{"$f":"Table_prices[[#This Row],[ITEMNMBR]]","v":"GGB007"},"Chocolate Cream Pie 9\"","RETAIL",32.99]
["GGB008",{"$f":"Table_prices[[#This Row],[ITEMNMBR]]","v":"GGB008"},"Pumpkin Pie 9\"","RETAIL",32.99]
["GGB009",{"$f":"Table_prices[[#This Row],[ITEMNMBR]]","v":"GGB009"},"Pumpkin Pie 9\"","RETAIL",32.99]
["GGB010",{"$f":"Table_prices[[#This Row],[ITEMNMBR]]","v":"GGB010"},"Two Dozen Roses","RETAIL",190]
["GGB011",{"$f":"Table_prices[[#This Row],[ITEMNMBR]]","v":"GGB011"},"Carrot Cake - 9 Inch","RETAIL",44.99]
["GGB012",{"$f":"Table_prices[[#This Row],[ITEMNMBR]]","v":"GGB012"},"Carrot Cake - 9 Inch","RETAIL",44.99]
["GGB013",{"$f":"Table_prices[[#This Row],[ITEMNMBR]]","v":"GGB013"},"Red Velvet Cake","RETAIL",44.99]
["GGB014",{"$f":"Table_prices[[#This Row],[ITEMNMBR]]","v":"GGB014"},"Red Velvet Cake","RETAIL",44.99]
["GGB015",{"$f":"Table_prices[[#This Row],[ITEMNMBR]]","v":"GGB015"},"Chocolate Birthday Cake 8\"","RETAIL",44.99]
["GGB016",{"$f":"Table_prices[[#This Row],[ITEMNMBR]]","v":"GGB016"},"Chocolate Birthday Cake 8\"","RETAIL",44.99]
["GGB017",{"$f":"Table_prices[[#This Row],[ITEMNMBR]]","v":"GGB017"},"Vanilla Birthday Cake 8\"","RETAIL",44.99]
["GGB018",{"$f":"Table_prices[[#This Row],[ITEMNMBR]]","v":"GGB018"},"Vanilla Birthday Cake 8\"","RETAIL",44.99]
["GGB020",{"$f":"Table_prices[[#This Row],[ITEMNMBR]]","v":"GGB020"},"Chocolate Eruption Cake - Colossal","RETAIL",69.989999999999995]
["GGB021",{"$f":"Table_prices[[#This Row],[ITEMNMBR]]","v":"GGB021"},"Chocolate Eruption Cake - Colossal","RETAIL",49.99]
["GGB022",{"$f":"Table_prices[[#This Row],[ITEMNMBR]]","v":"GGB022"},"Raspberry Eruption Cake - Colossal","RETAIL",69.989999999999995]
["GGB023",{"$f":"Table_prices[[#This Row],[ITEMNMBR]]","v":"GGB023"},"Raspberry Eruption Cake - Colossal","RETAIL",49.99]
["GGB024",{"$f":"Table_prices[[#This Row],[ITEMNMBR]]","v":"GGB024"},"Chocolate Layer Mousse Cake - Elite","RETAIL",59.99]
["GGB025",{"$f":"Table_prices[[#This Row],[ITEMNMBR]]","v":"GGB025"},"Chocolate Layer Mousse Cake - Elite","RETAIL",49.99]
["GGB026",{"$f":"Table_prices[[#This Row],[ITEMNMBR]]","v":"GGB026"},"Chocolate Pecan Cluster Cake - Elite","RETAIL",49.99]
["GGB027",{"$f":"Table_prices[[#This Row],[ITEMNMBR]]","v":"GGB027"},"Chocolate Pecan Cluster Cake - Elite","RETAIL",49.99]
["GGB028",{"$f":"Table_prices[[#This Row],[ITEMNMBR]]","v":"GGB028"},"Italian Cream Cake - Elite","RETAIL",49.99]
["GGB029",{"$f":"Table_prices[[#This Row],[ITEMNMBR]]","v":"GGB029"},"Italian Cream Cake - Elite","RETAIL",49.99]
["GGB030",{"$f":"Table_prices[[#This Row],[ITEMNMBR]]","v":"GGB030"},"White & Dark Chocolate Mousse Cake - Elite","RETAIL",54.99]
["GGB031",{"$f":"Table_prices[[#This Row],[ITEMNMBR]]","v":"GGB031"},"White & Dark Chocolate Mousse Cake - Elite","RETAIL",49.99]
["GGB032",{"$f":"Table_prices[[#This Row],[ITEMNMBR]]","v":"GGB032"},"Red Velvet Cake 6\"","RETAIL",32.99]
["GGB033",{"$f":"Table_prices[[#This Row],[ITEMNMBR]]","v":"GGB033"},"Red Velvet Cake 6\"","RETAIL",32.99]
["GGB034",{"$f":"Table_prices[[#This Row],[ITEMNMBR]]","v":"GGB034"},"Chocolate Birthday Cake 6\"","RETAIL",32.99]
["GGB035",{"$f":"Table_prices[[#This Row],[ITEMNMBR]]","v":"GGB035"},"Chocolate Birthday Cake 6\"","RETAIL",32.99]
["GIF001",{"$f":"Table_prices[[#This Row],[ITEMNMBR]]","v":"GIF001"},"Vanilla Birthday Cake 6\"","RETAIL",32.99]
["GIF002",{"$f":"Table_prices[[#This Row],[ITEMNMBR]]","v":"GIF002"},"Vanilla Birthday Cake 6\"","RETAIL",32.99]
["GIF003",{"$f":"Table_prices[[#This Row],[ITEMNMBR]]","v":"GIF003"},"Easter Chick Cake -","RETAIL",34.99]
["GIF004",{"$f":"Table_prices[[#This Row],[ITEMNMBR]]","v":"GIF004"},"Easter Chick Cake","RETAIL",34.99]
["GIF005",{"$f":"Table_prices[[#This Row],[ITEMNMBR]]","v":"GIF005"},"Easter Egg Cake -","RETAIL",34.99]
["GIFTCERTIFICATE",{"$f":"Table_prices[[#This Row],[ITEMNMBR]]","v":"GIFTCERTIFICATE"},"Easter Egg Cake -","RETAIL",34.99]
["GIL001",{"$f":"Table_prices[[#This Row],[ITEMNMBR]]","v":"GIL001"},"Mother's Day Cake -","RETAIL",34.99]
["GIL002",{"$f":"Table_prices[[#This Row],[ITEMNMBR]]","v":"GIL002"},"Mother's Day Cake -","RETAIL",34.99]
["GIL003",{"$f":"Table_prices[[#This Row],[ITEMNMBR]]","v":"GIL003"},"Father's Day Cake -","RETAIL",34.99]
["GIL004",{"$f":"Table_prices[[#This Row],[ITEMNMBR]]","v":"GIL004"},"Father's Day Cake","RETAIL",34.99]
["GIN001",{"$f":"Table_prices[[#This Row],[ITEMNMBR]]","v":"GIN001"},"Thank You Cookie Cake","RETAIL",34.99]
["GIN002",{"$f":"Table_prices[[#This Row],[ITEMNMBR]]","v":"GIN002"},"Thank You Cookie Cake","RETAIL",34.99]
["GLA001",{"$f":"Table_prices[[#This Row],[ITEMNMBR]]","v":"GLA001"},"Thank You Cookie Cake","RETAIL",34.99]
["GLA002",{"$f":"Table_prices[[#This Row],[ITEMNMBR]]","v":"GLA002"},"Happy Birthday Cookie Cake","RETAIL",34.99]
["GLA003",{"$f":"Table_prices[[#This Row],[ITEMNMBR]]","v":"GLA003"},"Happy Birthday Cookie Cake","RETAIL",34.99]
["GLV001",{"$f":"Table_prices[[#This Row],[ITEMNMBR]]","v":"GLV001"},"Happy Birthday Cookie Cake","RETAIL",34.99]
["GNZ001",{"$f":"Table_prices[[#This Row],[ITEMNMBR]]","v":"GNZ001"},"Congratulations Cookie Cake","RETAIL",34.99]
["GOL001",{"$f":"Table_prices[[#This Row],[ITEMNMBR]]","v":"GOL001"},"Congratulations Cookie Cake","RETAIL",34.99]
["GOL002",{"$f":"Table_prices[[#This Row],[ITEMNMBR]]","v":"GOL002"},"Congratulations Cookie Cake","RETAIL",34.99]
["GRB001",{"$f":"Table_prices[[#This Row],[ITEMNMBR]]","v":"GRB001"},"Happy Anniversary Cookie Cake","RETAIL",34.99]
["GRB002",{"$f":"Table_prices[[#This Row],[ITEMNMBR]]","v":"GRB002"},"Happy Anniversary Cookie Cake","RETAIL",34.99]
["GRB012",{"$f":"Table_prices[[#This Row],[ITEMNMBR]]","v":"GRB012"},"Happy Anniversary Cookie Cake","RETAIL",34.99]
["GRE001",{"$f":"Table_prices[[#This Row],[ITEMNMBR]]","v":"GRE001"},"Smiley Face Cookie Cake","RETAIL",34.99]
["GRE003",{"$f":"Table_prices[[#This Row],[ITEMNMBR]]","v":"GRE003"},"Smiley Face Cookie Cake","RETAIL",34.99]
["GRE004",{"$f":"Table_prices[[#This Row],[ITEMNMBR]]","v":"GRE004"},"Smiley Face Cookie Cake","RETAIL",34.99]
["GRE005",{"$f":"Table_prices[[#This Row],[ITEMNMBR]]","v":"GRE005"},"Get Well Soon Cookie Cake","RETAIL",34.99]
["GRE006",{"$f":"Table_prices[[#This Row],[ITEMNMBR]]","v":"GRE006"},"Get Well Soon Cookie Cake","RETAIL",34.99]
["GRE007",{"$f":"Table_prices[[#This Row],[ITEMNMBR]]","v":"GRE007"},"Get Well Soon Cookie Cake","RETAIL",34.99]
["GRE009",{"$f":"Table_prices[[#This Row],[ITEMNMBR]]","v":"GRE009"},"Happy 4th of July Cookie Cake","RETAIL",34.99]
["GRE010",{"$f":"Table_prices[[#This Row],[ITEMNMBR]]","v":"GRE010"},"Happy 4th of July Cookie Cake","RETAIL",34.99]
["GRE011",{"$f":"Table_prices[[#This Row],[ITEMNMBR]]","v":"GRE011"},"Happy 4th of July Cookie Cake","RETAIL",34.99]
["GRE012",{"$f":"Table_prices[[#This Row],[ITEMNMBR]]","v":"GRE012"},"Happy Halloween Cookie Cake - (orange, green, purple)","RETAIL",34.99]
["GRE013",{"$f":"Table_prices[[#This Row],[ITEMNMBR]]","v":"GRE013"},"Happy Halloween Cookie Cake - (orange, green, purple)","RETAIL",34.99]
["GRE014",{"$f":"Table_prices[[#This Row],[ITEMNMBR]]","v":"GRE014"},"Happy Halloween Cookie Cake - (orange, green, purple)","RETAIL",34.99]
["GRE015",{"$f":"Table_prices[[#This Row],[ITEMNMBR]]","v":"GRE015"},"Happy Halloween Cookie Cake (Orange Pumpkin)","RETAIL",34.99]
["GRE016",{"$f":"Table_prices[[#This Row],[ITEMNMBR]]","v":"GRE016"},"Happy Halloween Cookie Cake - (Orange Pumpkin)","RETAIL",34.99]
["GRF001",{"$f":"Table_prices[[#This Row],[ITEMNMBR]]","v":"GRF001"},"Happy Halloween Cookie Cake - (orange pumpkin)","RETAIL",34.99]
["GRI001",{"$f":"Table_prices[[#This Row],[ITEMNMBR]]","v":"GRI001"},"Happy Holidays Cookie Cake -","RETAIL",34.99]
["GRI002",{"$f":"Table_prices[[#This Row],[ITEMNMBR]]","v":"GRI002"},"Happy Holidays Cookie Cake -","RETAIL",34.99]
["GRI003",{"$f":"Table_prices[[#This Row],[ITEMNMBR]]","v":"GRI003"},"Happy Holidays Cookie Cake -","RETAIL",34.99]
["GUN001",{"$f":"Table_prices[[#This Row],[ITEMNMBR]]","v":"GUN001"},"Santa Claus Cookie Cake -","RETAIL",34.99]
["GUN002",{"$f":"Table_prices[[#This Row],[ITEMNMBR]]","v":"GUN002"},"Santa Claus Cookie Cake","RETAIL",34.99]
["GUN003",{"$f":"Table_prices[[#This Row],[ITEMNMBR]]","v":"GUN003"},"Santa Claus Cookie Cake","RETAIL",34.99]
["GUN004",{"$f":"Table_prices[[#This Row],[ITEMNMBR]]","v":"GUN004"},"Snowman Cookie Cake -","RETAIL",34.99]
["GUN006",{"$f":"Table_prices[[#This Row],[ITEMNMBR]]","v":"GUN006"},"Snowman Cookie Cake","RETAIL",34.99]
["GUN009",{"$f":"Table_prices[[#This Row],[ITEMNMBR]]","v":"GUN009"},"Snowman Cookie Cake","RETAIL",34.99]
["GUN010",{"$f":"Table_prices[[#This Row],[ITEMNMBR]]","v":"GUN010"},"Happy Valentine's Day - Cookie Cake","RETAIL",29.99]
["GUN011",{"$f":"Table_prices[[#This Row],[ITEMNMBR]]","v":"GUN011"},"Happy Valentine's Day - Cookie Cake","RETAIL",29.99]
["GUN012",{"$f":"Table_prices[[#This Row],[ITEMNMBR]]","v":"GUN012"},"Happy Valentine's Day - Cookie Cake","RETAIL",29.99]
["GUN013",{"$f":"Table_prices[[#This Row],[ITEMNMBR]]","v":"GUN013"},"Happy Mother's Day Cookie Cake","RETAIL",34.99]
["HAL001",{"$f":"Table_prices[[#This Row],[ITEMNMBR]]","v":"HAL001"},"Happy Mother's Day Cookie Cake","RETAIL",34.99]
["HAL002",{"$f":"Table_prices[[#This Row],[ITEMNMBR]]","v":"HAL002"},"Happy Mother's Day Cookie Cake","RETAIL",34.99]
["HAL003",{"$f":"Table_prices[[#This Row],[ITEMNMBR]]","v":"HAL003"},"Happy Easter - Cookie Cake","RETAIL",34.99]
["HAL004",{"$f":"Table_prices[[#This Row],[ITEMNMBR]]","v":"HAL004"},"Happy Easter - Cookie Cake","RETAIL",34.99]
["HAL005",{"$f":"Table_prices[[#This Row],[ITEMNMBR]]","v":"HAL005"},"Happy Easter - Cookie Cake","RETAIL",34.99]
["HAL006",{"$f":"Table_prices[[#This Row],[ITEMNMBR]]","v":"HAL006"},"Easter Bunny Basket - Cookie Cake","RETAIL",34.99]
["HAL007",{"$f":"Table_prices[[#This Row],[ITEMNMBR]]","v":"HAL007"},"Easter Bunny Basket - Cookie Cake","RETAIL",34.99]
["HAM001",{"$f":"Table_prices[[#This Row],[ITEMNMBR]]","v":"HAM001"},"Easter Bunny Basket - Cookie Cake","RETAIL",34.99]
["HAM002",{"$f":"Table_prices[[#This Row],[ITEMNMBR]]","v":"HAM002"},"Happy Father's Day Cookie Cake","RETAIL",34.99]
["HAN002",{"$f":"Table_prices[[#This Row],[ITEMNMBR]]","v":"HAN002"},"Happy Father's Day Cookie Cake","RETAIL",34.99]
["HAR001",{"$f":"Table_prices[[#This Row],[ITEMNMBR]]","v":"HAR001"},"Happy Father's Day Cookie Cake","RETAIL",34.99]
["HAR002",{"$f":"Table_prices[[#This Row],[ITEMNMBR]]","v":"HAR002"},"Cookie Sampler - 32 Cookies","RETAIL",34.99]
["HAR003",{"$f":"Table_prices[[#This Row],[ITEMNMBR]]","v":"HAR003"},"Cookie Sampler - 32 Cookies","RETAIL",34.99]
["HAR004",{"$f":"Table_prices[[#This Row],[ITEMNMBR]]","v":"HAR004"},"Custom GGB Cookie Sampler Box for Care Package Program (Tim)","RETAIL",34.99]
["HAR006",{"$f":"Table_prices[[#This Row],[ITEMNMBR]]","v":"HAR006"},"Chocolate Chip - 32 Cookies","RETAIL",34.99]
["HAR007",{"$f":"Table_prices[[#This Row],[ITEMNMBR]]","v":"HAR007"},"Oatmeal Raisin - 32 Cookies","RETAIL",34.99]
["HAR008",{"$f":"Table_prices[[#This Row],[ITEMNMBR]]","v":"HAR008"},"Peanut Butter - 32 Cookies","RETAIL",34.99]
["HAR009",{"$f":"Table_prices[[#This Row],[ITEMNMBR]]","v":"HAR009"},"White Chocolate Macadamia - 32 Cookies","RETAIL",34.99]
["HAR010",{"$f":"Table_prices[[#This Row],[ITEMNMBR]]","v":"HAR010"},"Brownie Sampler - 12 Brownies","RETAIL",34.99]
["HAR011",{"$f":"Table_prices[[#This Row],[ITEMNMBR]]","v":"HAR011"},"Brownie Sampler - 12 Brownies","RETAIL",34.99]
["HAR012",{"$f":"Table_prices[[#This Row],[ITEMNMBR]]","v":"HAR012"},"Custom Brownie Sampler Box for Care Package Program (Tim)","RETAIL",34.99]
["HAR013",{"$f":"Table_prices[[#This Row],[ITEMNMBR]]","v":"HAR013"},"6 Brownie Sampler Bakery Gift","RETAIL",19.989999999999998]
["HAR014",{"$f":"Table_prices[[#This Row],[ITEMNMBR]]","v":"HAR014"},"Fudge Walnut - 12 Brownies","RETAIL",34.99]
["HARV00",{"$f":"Table_prices[[#This Row],[ITEMNMBR]]","v":"HARV00"},"Belgian Chocolate Chunk - 12 Brownies","RETAIL",34.99]
["HARV01",{"$f":"Table_prices[[#This Row],[ITEMNMBR]]","v":"HARV01"},"Cheesecake - 12 Brownies","RETAIL",34.99]
["HARV02",{"$f":"Table_prices[[#This Row],[ITEMNMBR]]","v":"HARV02"},"Peanut Butter - 12 Brownies","RETAIL",34.99]
["HARV03",{"$f":"Table_prices[[#This Row],[ITEMNMBR]]","v":"HARV03"},"Butterscotch Blonde - 12 Brownies","RETAIL",34.99]
["HARV04",{"$f":"Table_prices[[#This Row],[ITEMNMBR]]","v":"HARV04"},"White Chocolate Macadamia Blonde - 12 Brownies","RETAIL",34.99]
["HAU001",{"$f":"Table_prices[[#This Row],[ITEMNMBR]]","v":"HAU001"},"Thank You - Brownie Cake","RETAIL",34.99]
["HAU002",{"$f":"Table_prices[[#This Row],[ITEMNMBR]]","v":"HAU002"},"Thank You - Brownie Cake","RETAIL",34.99]
["HAU003",{"$f":"Table_prices[[#This Row],[ITEMNMBR]]","v":"HAU003"},"Thank You - Brownie Cake","RETAIL",34.99]
["HED001",{"$f":"Table_prices[[#This Row],[ITEMNMBR]]","v":"HED001"},"Happy Birthday - Brownie Cake","RETAIL",34.99]
["HED002",{"$f":"Table_prices[[#This Row],[ITEMNMBR]]","v":"HED002"},"Happy Birthday - Brownie Cake","RETAIL",34.99]
["HED003",{"$f":"Table_prices[[#This Row],[ITEMNMBR]]","v":"HED003"},"Happy Birthday - Brownie Cake","RETAIL",34.99]
["HED004",{"$f":"Table_prices[[#This Row],[ITEMNMBR]]","v":"HED004"},"Congratulations - Brownie Cake","RETAIL",34.99]
["HED005",{"$f":"Table_prices[[#This Row],[ITEMNMBR]]","v":"HED005"},"Congratulations - Brownie Cake","RETAIL",34.99]
["HED006",{"$f":"Table_prices[[#This Row],[ITEMNMBR]]","v":"HED006"},"Congratulations - Brownie Cake","RETAIL",34.99]
["HED007",{"$f":"Table_prices[[#This Row],[ITEMNMBR]]","v":"HED007"},"Happy Anniversary - Brownie Cake","RETAIL",34.99]
["HED008",{"$f":"Table_prices[[#This Row],[ITEMNMBR]]","v":"HED008"},"Happy Anniversary - Brownie Cake","RETAIL",34.99]
["HED009",{"$f":"Table_prices[[#This Row],[ITEMNMBR]]","v":"HED009"},"Happy Anniversary - Brownie Cake","RETAIL",34.99]
["HED010",{"$f":"Table_prices[[#This Row],[ITEMNMBR]]","v":"HED010"},"Smiley Face - Brownie Cake","RETAIL",34.99]
["HED011",{"$f":"Table_prices[[#This Row],[ITEMNMBR]]","v":"HED011"},"Smiley Face - Brownie Cake","RETAIL",34.99]
["HED012",{"$f":"Table_prices[[#This Row],[ITEMNMBR]]","v":"HED012"},"Smiley Face - Brownie Cake","RETAIL",34.99]
["HED013",{"$f":"Table_prices[[#This Row],[ITEMNMBR]]","v":"HED013"},"Get Well Soon - Brownie Cake","RETAIL",34.99]
["HED014",{"$f":"Table_prices[[#This Row],[ITEMNMBR]]","v":"HED014"},"Get Well Soon - Brownie Cake","RETAIL",34.99]
["HED015",{"$f":"Table_prices[[#This Row],[ITEMNMBR]]","v":"HED015"},"Get Well Soon - Brownie Cake","RETAIL",34.99]
["HHF010",{"$f":"Table_prices[[#This Row],[ITEMNMBR]]","v":"HHF010"},"Happy Halloween Brownie Cake","RETAIL",27.99]
["HIC001",{"$f":"Table_prices[[#This Row],[ITEMNMBR]]","v":"HIC001"},"Happy Halloween Brownie Cake","RETAIL",27.99]
["HIC002",{"$f":"Table_prices[[#This Row],[ITEMNMBR]]","v":"HIC002"},"Happy Halloween Brownie Cake","RETAIL",27.99]
["HIG001",{"$f":"Table_prices[[#This Row],[ITEMNMBR]]","v":"HIG001"},"Let It Snow Brownie Cake","RETAIL",34.99]
["HIG002",{"$f":"Table_prices[[#This Row],[ITEMNMBR]]","v":"HIG002"},"Let It Snow Brownie Cake","RETAIL",34.99]
["HIG003",{"$f":"Table_prices[[#This Row],[ITEMNMBR]]","v":"HIG003"},"Let It Snow Brownie Cake","RETAIL",34.99]
["HIL001",{"$f":"Table_prices[[#This Row],[ITEMNMBR]]","v":"HIL001"},"Happy Mother's Day - Brownie Cake","RETAIL",34.99]
["HIL003",{"$f":"Table_prices[[#This Row],[ITEMNMBR]]","v":"HIL003"},"Happy Mother's Day - Brownie Cake","RETAIL",34.99]
["HRB002",{"$f":"Table_prices[[#This Row],[ITEMNMBR]]","v":"HRB002"},"Happy Mother's Day - Brownie Cake","RETAIL",34.99]
["HRB003",{"$f":"Table_prices[[#This Row],[ITEMNMBR]]","v":"HRB003"},"Happy Father's Day - Brownie Cake","RETAIL",34.99]
["HUN001",{"$f":"Table_prices[[#This Row],[ITEMNMBR]]","v":"HUN001"},"Happy Father's Day - Brownie Cake","RETAIL",34.99]
["ICEBAG",{"$f":"Table_prices[[#This Row],[ITEMNMBR]]","v":"ICEBAG"},"Happy Father's Day - Brownie Cake","RETAIL",34.99]
["ID",{"$f":"Table_prices[[#This Row],[ITEMNMBR]]","v":"ID"},"Whoopie Pie Sampler - 12 Pies","RETAIL",34.99]
["IMP001",{"$f":"Table_prices[[#This Row],[ITEMNMBR]]","v":"IMP001"},"Whoopie Pie Sampler - 12 Pies","RETAIL",34.99]
["JAC001",{"$f":"Table_prices[[#This Row],[ITEMNMBR]]","v":"JAC001"},"Custom Whoopie Pie Sampler Box for Care Package Program (Tim)","RETAIL",34.99]
["JAC009",{"$f":"Table_prices[[#This Row],[ITEMNMBR]]","v":"JAC009"},"Classic Whoopie Pie - 12 Pies","RETAIL",34.99]
["JAC010",{"$f":"Table_prices[[#This Row],[ITEMNMBR]]","v":"JAC010"},"Classic Whoopie Pie - 12 Pies","RETAIL",34.99]
["JAC078",{"$f":"Table_prices[[#This Row],[ITEMNMBR]]","v":"JAC078"},"Strawberry Whoopie Pie - 12 Pies","RETAIL",34.99]
["JAC087",{"$f":"Table_prices[[#This Row],[ITEMNMBR]]","v":"JAC087"},"Peanut Buuter Whoopie Pie - 12 Pies","RETAIL",34.99]
["JAC088",{"$f":"Table_prices[[#This Row],[ITEMNMBR]]","v":"JAC088"},"Oatmeal Cream Whoopie Pie - 12 Pies","RETAIL",34.99]
["JAC089",{"$f":"Table_prices[[#This Row],[ITEMNMBR]]","v":"JAC089"},"Baked Goods Basket - Classic","RETAIL",34.99]
["JAM001",{"$f":"Table_prices[[#This Row],[ITEMNMBR]]","v":"JAM001"},"Baked Goods Basket - Classic -","RETAIL",29.99]
["JAM002",{"$f":"Table_prices[[#This Row],[ITEMNMBR]]","v":"JAM002"},"Baked Goods Basket - Classic -","RETAIL",29.99]
["JAM003",{"$f":"Table_prices[[#This Row],[ITEMNMBR]]","v":"JAM003"},"Baked Goods Basket  - Premium","RETAIL",49.99]
["JAM004",{"$f":"Table_prices[[#This Row],[ITEMNMBR]]","v":"JAM004"},"Baked Goods Basket  - Premium","RETAIL",49.99]
["JAR001",{"$f":"Table_prices[[#This Row],[ITEMNMBR]]","v":"JAR001"},"Baked Goods Basket  - Premium","RETAIL",54.99]
["JBBM01",{"$f":"Table_prices[[#This Row],[ITEMNMBR]]","v":"JBBM01"},"Baked Goods Basket - Deluxe","RETAIL",89.99]
["JBBM02",{"$f":"Table_prices[[#This Row],[ITEMNMBR]]","v":"JBBM02"},"Baked Goods Basket - deluxe","RETAIL",89.99]
["JBBM03",{"$f":"Table_prices[[#This Row],[ITEMNMBR]]","v":"JBBM03"},"Baked Goods Basket - deluxe","RETAIL",89.99]
["JBBM04",{"$f":"Table_prices[[#This Row],[ITEMNMBR]]","v":"JBBM04"},"Test item NO NOT USE","RETAIL",0.01]
["JBCV01",{"$f":"Table_prices[[#This Row],[ITEMNMBR]]","v":"JBCV01"},"Dark Chocolate Covered Srawberries","RETAIL",49.99]
["JBDF01",{"$f":"Table_prices[[#This Row],[ITEMNMBR]]","v":"JBDF01"},"Dark Chocolate Covered Srawberries","RETAIL",49.99]
["JBDF02",{"$f":"Table_prices[[#This Row],[ITEMNMBR]]","v":"JBDF02"},"Milk Chocolate Covered Srawberries","RETAIL",49.99]
["JBEB01",{"$f":"Table_prices[[#This Row],[ITEMNMBR]]","v":"JBEB01"},"Milk Chocolate Covered Srawberries","RETAIL",49.99]
["JBEB02",{"$f":"Table_prices[[#This Row],[ITEMNMBR]]","v":"JBEB02"},"Triple Chocolate Covered Strawberries","RETAIL",49.99]
["JBEB03",{"$f":"Table_prices[[#This Row],[ITEMNMBR]]","v":"JBEB03"},"Triple Chocolate Covered Strawberries","RETAIL",49.99]
["JBEX01",{"$f":"Table_prices[[#This Row],[ITEMNMBR]]","v":"JBEX01"},"Dark & Milk Chocolate Covered Srawberries","RETAIL",49.99]
["JBEX02",{"$f":"Table_prices[[#This Row],[ITEMNMBR]]","v":"JBEX02"},"Dark & Milk Chocolate Covered Srawberries","RETAIL",49.99]
["JBFR01",{"$f":"Table_prices[[#This Row],[ITEMNMBR]]","v":"JBFR01"},"A Touch of Gold Strawberries","RETAIL",109.99]
["JBFR02",{"$f":"Table_prices[[#This Row],[ITEMNMBR]]","v":"JBFR02"},"A Touch of Gold Strawberries","RETAIL",109.99]
["JBGW01",{"$f":"Table_prices[[#This Row],[ITEMNMBR]]","v":"JBGW01"},"Gourmet Chocolate Covered Bananas - 6 piece","RETAIL",39.99]
["JBGW01 (GOODWILL BASKET)",{"$f":"Table_prices[[#This Row],[ITEMNMBR]]","v":"JBGW01 (GOODWILL BASKET)"},"Gourmet Chocolate Covered Bananas - 12 piece","RETAIL",49.99]
["JBHH01",{"$f":"Table_prices[[#This Row],[ITEMNMBR]]","v":"JBHH01"},"Belgian Chocolate Covered Bananas - 6 piece","RETAIL",39.99]
["JBLS01",{"$f":"Table_prices[[#This Row],[ITEMNMBR]]","v":"JBLS01"},"Belgian Chocolate Covered Bananas - 6 piece","RETAIL",39.99]
["JBNHD01",{"$f":"Table_prices[[#This Row],[ITEMNMBR]]","v":"JBNHD01"},"Belgian Chocolate Covered Bananas - 12 piece","RETAIL",49.99]
["JBON01",{"$f":"Table_prices[[#This Row],[ITEMNMBR]]","v":"JBON01"},"Belgian Chocolate Covered Bananas - 12 piece","RETAIL",49.99]
["JBPC01",{"$f":"Table_prices[[#This Row],[ITEMNMBR]]","v":"JBPC01"},"Belgian Chocolate Banana Bites - 12 piece","RETAIL",39.99]
["JBPC02",{"$f":"Table_prices[[#This Row],[ITEMNMBR]]","v":"JBPC02"},"Belgian Chocolate Banana Bites - 12 piece","RETAIL",39.99]
["JBPS01",{"$f":"Table_prices[[#This Row],[ITEMNMBR]]","v":"JBPS01"},"Belgian Chocolate Banana Bites - 24 piece","RETAIL",64.989999999999995]
["JBPT01",{"$f":"Table_prices[[#This Row],[ITEMNMBR]]","v":"JBPT01"},"Belgian Chocolate Banana Bites - 24 piece","RETAIL",64.989999999999995]
["JBRF01",{"$f":"Table_prices[[#This Row],[ITEMNMBR]]","v":"JBRF01"},"Gourmet Chocolate Banana Bites - 12 piece","RETAIL",39.99]
["JBRF02",{"$f":"Table_prices[[#This Row],[ITEMNMBR]]","v":"JBRF02"},"Gourmet Chocolate Banana Bites - 24 piece","RETAIL",64.989999999999995]
["JBSG01",{"$f":"Table_prices[[#This Row],[ITEMNMBR]]","v":"JBSG01"},"Belgian Chocolate Covered Raspberries","RETAIL",39.99]
["JBTD01",{"$f":"Table_prices[[#This Row],[ITEMNMBR]]","v":"JBTD01"},"Belgian Chocolate Covered Raspberries","RETAIL",39.99]
["JBTD02",{"$f":"Table_prices[[#This Row],[ITEMNMBR]]","v":"JBTD02"},"Belgian Chocolate Covered Blueberries","RETAIL",39.99]
["JBTD03",{"$f":"Table_prices[[#This Row],[ITEMNMBR]]","v":"JBTD03"},"Belgian Chocolate Covered Berries - Blueberry & Raspberry Combo","RETAIL",39.99]
["JBTD04",{"$f":"Table_prices[[#This Row],[ITEMNMBR]]","v":"JBTD04"},"Belgian Chocolate Covered Blackberries","RETAIL",39.99]
["JBTS01",{"$f":"Table_prices[[#This Row],[ITEMNMBR]]","v":"JBTS01"},"Belgian Chocolate Covered Grapes","RETAIL",39.99]
["JBTW01",{"$f":"Table_prices[[#This Row],[ITEMNMBR]]","v":"JBTW01"},"Belgian Chocolate Covered Cherries","RETAIL",39.99]
["JBTW02",{"$f":"Table_prices[[#This Row],[ITEMNMBR]]","v":"JBTW02"},"Belgian Chocolate Covered Cherries","RETAIL",39.99]
["JEL001",{"$f":"Table_prices[[#This Row],[ITEMNMBR]]","v":"JEL001"},"Belgian Chocolate Dipped Apples","RETAIL",44.99]
["JEL002",{"$f":"Table_prices[[#This Row],[ITEMNMBR]]","v":"JEL002"},"Belgian Chocolate Dipped Apples","RETAIL",44.99]
["JEL003",{"$f":"Table_prices[[#This Row],[ITEMNMBR]]","v":"JEL003"},"Belgian Chocolate Dipped Pears","RETAIL",44.99]
["JEL004",{"$f":"Table_prices[[#This Row],[ITEMNMBR]]","v":"JEL004"},"Belgian Chocolate Dipped Pears","RETAIL",44.99]
["JEL005",{"$f":"Table_prices[[#This Row],[ITEMNMBR]]","v":"JEL005"},"Belgian Chocolate Dipped Apples & Pears","RETAIL",44.99]
["JEL006",{"$f":"Table_prices[[#This Row],[ITEMNMBR]]","v":"JEL006"},"Caramel & Candy Dipped Apples","RETAIL",49.99]
["JER001",{"$f":"Table_prices[[#This Row],[ITEMNMBR]]","v":"JER001"},"Triple Chocolate Dipped Apples","RETAIL",49.99]
["JMF009",{"$f":"Table_prices[[#This Row],[ITEMNMBR]]","v":"JMF009"},"Gourmet Dipped Apple Assortment","RETAIL",79.989999999999995]
["JMF010",{"$f":"Table_prices[[#This Row],[ITEMNMBR]]","v":"JMF010"},"Belgian Chocolate Dipped Jalapenos","RETAIL",44.99]
["JMF011",{"$f":"Table_prices[[#This Row],[ITEMNMBR]]","v":"JMF011"},"Belgian Chocolate Dipped Jalapenos","RETAIL",44.99]
["JMF012",{"$f":"Table_prices[[#This Row],[ITEMNMBR]]","v":"JMF012"},"Gourmet Chocolate Dipped Pretzels","RETAIL",44.99]
["JMF013",{"$f":"Table_prices[[#This Row],[ITEMNMBR]]","v":"JMF013"},"Gourmet Chocolate Dipped Pretzels","RETAIL",44.99]
["JMF014",{"$f":"Table_prices[[#This Row],[ITEMNMBR]]","v":"JMF014"},"Gourmet Chocolate Mini Pretzels","RETAIL",44.99]
["JOS001",{"$f":"Table_prices[[#This Row],[ITEMNMBR]]","v":"JOS001"},"Milk Chocolate Dipped Pretzels","RETAIL",39.99]
["JRU001",{"$f":"Table_prices[[#This Row],[ITEMNMBR]]","v":"JRU001"},"Dark Chocolate Dipped Pretzels","RETAIL",39.99]
["JRU002",{"$f":"Table_prices[[#This Row],[ITEMNMBR]]","v":"JRU002"},"Triple Chocolate Dipped Pretzels","RETAIL",39.99]
["JRU003",{"$f":"Table_prices[[#This Row],[ITEMNMBR]]","v":"JRU003"},"Triple Chocolate Dipped Pretzels","RETAIL",39.99]
["JRU004",{"$f":"Table_prices[[#This Row],[ITEMNMBR]]","v":"JRU004"},"Gourmet Chocolate Dipped Pretzel Assortment","RETAIL",84.99]
["JRU005",{"$f":"Table_prices[[#This Row],[ITEMNMBR]]","v":"JRU005"},"Gourmet Chocolate Dipped Pretzel Assortment","RETAIL",84.99]
["JRU007",{"$f":"Table_prices[[#This Row],[ITEMNMBR]]","v":"JRU007"},"Belgian Dipped Chocolate Chip Cookies","RETAIL",44.99]
["JRU009",{"$f":"Table_prices[[#This Row],[ITEMNMBR]]","v":"JRU009"},"Belgian Dipped Chocolate Chip Cookies","RETAIL",44.99]
["JRU010",{"$f":"Table_prices[[#This Row],[ITEMNMBR]]","v":"JRU010"},"Belgian Chocolate Dipped Biscotti","RETAIL",44.99]
["JRU011",{"$f":"Table_prices[[#This Row],[ITEMNMBR]]","v":"JRU011"},"Belgian Chocolate Dipped Biscotti","RETAIL",44.99]
["JRU012",{"$f":"Table_prices[[#This Row],[ITEMNMBR]]","v":"JRU012"},"Belgian Chocolate Dipped Macaroons","RETAIL",44.99]
["JRU013",{"$f":"Table_prices[[#This Row],[ITEMNMBR]]","v":"JRU013"},"Belgian Chocolate Dipped Macaroons","RETAIL",44.99]
["JRU014",{"$f":"Table_prices[[#This Row],[ITEMNMBR]]","v":"JRU014"},"Belgian Chocolate Dipped Madeline Cookies","RETAIL",44.99]
["JRU015",{"$f":"Table_prices[[#This Row],[ITEMNMBR]]","v":"JRU015"},"Belgian Chocolate Dipped Madeline Cookies","RETAIL",44.99]
["JRU016",{"$f":"Table_prices[[#This Row],[ITEMNMBR]]","v":"JRU016"},"Belgian Chocolate Dipped Cookie Tower","RETAIL",89.99]
["JRU017",{"$f":"Table_prices[[#This Row],[ITEMNMBR]]","v":"JRU017"},"Belgian Chocolate Dipped Cookie Tower","RETAIL",89.99]
["JRU018",{"$f":"Table_prices[[#This Row],[ITEMNMBR]]","v":"JRU018"},"Triple Chocolate Dipped Oreo Cookies","RETAIL",34.99]
["JRU019",{"$f":"Table_prices[[#This Row],[ITEMNMBR]]","v":"JRU019"},"Triple Chocolate Dipped Oreo Cookies","RETAIL",34.99]
["JRU020",{"$f":"Table_prices[[#This Row],[ITEMNMBR]]","v":"JRU020"},"Nut Lovers Chocolate Dipped Oreo Cookies","RETAIL",34.99]
["JRU021",{"$f":"Table_prices[[#This Row],[ITEMNMBR]]","v":"JRU021"},"Nut Lovers Chocolate Dipped Oreo Cookies","RETAIL",34.99]
["JRU022",{"$f":"Table_prices[[#This Row],[ITEMNMBR]]","v":"JRU022"},"Gourmet Chocolate Dipped Oreo Cookies - 15 piece","RETAIL",34.99]
["JRU023",{"$f":"Table_prices[[#This Row],[ITEMNMBR]]","v":"JRU023"},"Gourmet Chocolate Dipped Oreo Cookies - 15 piece","RETAIL",34.99]
["JRU024",{"$f":"Table_prices[[#This Row],[ITEMNMBR]]","v":"JRU024"},"Gourmet Chocolate Dipped Oreo Cookies - 30 piece","RETAIL",59.99]
["JRU025",{"$f":"Table_prices[[#This Row],[ITEMNMBR]]","v":"JRU025"},"Gourmet Chocolate Dipped Oreo Cookies - 30 piece","RETAIL",59.99]
["JRU026",{"$f":"Table_prices[[#This Row],[ITEMNMBR]]","v":"JRU026"},"Gourmet Chocolate Dipped Oreo Cookies - 15 piece","RETAIL",34.99]
["JRU027",{"$f":"Table_prices[[#This Row],[ITEMNMBR]]","v":"JRU027"},"Gourmet Chocolate Dipped Graham Crackers - 9 piece","RETAIL",39.99]
["JRU028",{"$f":"Table_prices[[#This Row],[ITEMNMBR]]","v":"JRU028"},"Gourmet Chocolate Dipped Graham Crackers - 9 piece","RETAIL",39.99]
["JRU029",{"$f":"Table_prices[[#This Row],[ITEMNMBR]]","v":"JRU029"},"Gourmet Chocolate Dipped Graham Crackers - 18 piece","RETAIL",59.99]
["JRU030",{"$f":"Table_prices[[#This Row],[ITEMNMBR]]","v":"JRU030"},"Gourmet Chocolate Dipped Graham Crackers - 18 piece","RETAIL",59.99]
["JRU031",{"$f":"Table_prices[[#This Row],[ITEMNMBR]]","v":"JRU031"},"Triple Chocolate Dipped Graham Crackers - 12 piece","RETAIL",49.99]
["JRU032",{"$f":"Table_prices[[#This Row],[ITEMNMBR]]","v":"JRU032"},"Triple Chocolate Dipped Graham Crackers - 12 piece","RETAIL",49.99]
["JRU033",{"$f":"Table_prices[[#This Row],[ITEMNMBR]]","v":"JRU033"},"Triple Chocolate Dipped Graham Crackers - 24 piece","RETAIL",69.989999999999995]
["JRU034",{"$f":"Table_prices[[#This Row],[ITEMNMBR]]","v":"JRU034"},"Triple Chocolate Dipped Graham Crackers - 24 piece","RETAIL",69.989999999999995]
["JRU035",{"$f":"Table_prices[[#This Row],[ITEMNMBR]]","v":"JRU035"},"Summer Sports Berry Sampler","RETAIL",54.99]
["JRU036",{"$f":"Table_prices[[#This Row],[ITEMNMBR]]","v":"JRU036"},"Summer Sports Berry Sampler","RETAIL",54.99]
["JRU037",{"$f":"Table_prices[[#This Row],[ITEMNMBR]]","v":"JRU037"},"Summertime Sports Berries","RETAIL",54.99]
["JRU038",{"$f":"Table_prices[[#This Row],[ITEMNMBR]]","v":"JRU038"},"Summertime Sports Berries","RETAIL",54.99]
["JRU039",{"$f":"Table_prices[[#This Row],[ITEMNMBR]]","v":"JRU039"},"Triple Chocolate Covered Strawberries - 6 pc","RETAIL",34.99]
["JRU040",{"$f":"Table_prices[[#This Row],[ITEMNMBR]]","v":"JRU040"},"Triple Chocolate Covered Strawberries - 6 pc","RETAIL",34.99]
["JRU041",{"$f":"Table_prices[[#This Row],[ITEMNMBR]]","v":"JRU041"},"Dark Chocolate Covered Srawberries - 6 pc","RETAIL",34.99]
["JRU042",{"$f":"Table_prices[[#This Row],[ITEMNMBR]]","v":"JRU042"},"Dark Chocolate Covered Srawberries - 6 pc","RETAIL",34.99]
["JRU043",{"$f":"Table_prices[[#This Row],[ITEMNMBR]]","v":"JRU043"},"Milk Chocolate Covered Srawberries - 6 pc","RETAIL",34.99]
["JRU044",{"$f":"Table_prices[[#This Row],[ITEMNMBR]]","v":"JRU044"},"Milk Chocolate Covered Srawberries - 6 pc","RETAIL",34.99]
["JUS001",{"$f":"Table_prices[[#This Row],[ITEMNMBR]]","v":"JUS001"},"Dark & Milk Chocolate Covered Srawberries - 6 pc","RETAIL",34.99]
["JUS002",{"$f":"Table_prices[[#This Row],[ITEMNMBR]]","v":"JUS002"},"Dark & Milk Chocolate Covered Srawberries - 6 pc","RETAIL",34.99]
["JUS003",{"$f":"Table_prices[[#This Row],[ITEMNMBR]]","v":"JUS003"},"White Chocolate Covered Strawberries - 6 pc","RETAIL",34.99]
["JUS004",{"$f":"Table_prices[[#This Row],[ITEMNMBR]]","v":"JUS004"},"White Chocolate Covered Strawberries - 6 pc","RETAIL",34.99]
["JUS005",{"$f":"Table_prices[[#This Row],[ITEMNMBR]]","v":"JUS005"},"Springtime Berries","RETAIL",54.99]
["JUS007",{"$f":"Table_prices[[#This Row],[ITEMNMBR]]","v":"JUS007"},"Springtime Berries","RETAIL",54.99]
["JUS008",{"$f":"Table_prices[[#This Row],[ITEMNMBR]]","v":"JUS008"},"Triple Chocolate Berries & Classic Mini-Cheesecakes","RETAIL",54.99]
["JUS009",{"$f":"Table_prices[[#This Row],[ITEMNMBR]]","v":"JUS009"},"Triple Chocolate Berries & Classic Mini-Cheesecakes","RETAIL",54.99]
["JUS010",{"$f":"Table_prices[[#This Row],[ITEMNMBR]]","v":"JUS010"},"White Chocolate Covered Strawberries","RETAIL",49.99]
["JUS012",{"$f":"Table_prices[[#This Row],[ITEMNMBR]]","v":"JUS012"},"White Chocolate Covered Strawberries","RETAIL",49.99]
["JUS013",{"$f":"Table_prices[[#This Row],[ITEMNMBR]]","v":"JUS013"},"Springtime Petit Fours","RETAIL",44.99]
["JUS014",{"$f":"Table_prices[[#This Row],[ITEMNMBR]]","v":"JUS014"},"Springtime Petit Fours","RETAIL",44.99]
["JUS015",{"$f":"Table_prices[[#This Row],[ITEMNMBR]]","v":"JUS015"},"Springtime Cake Pops","RETAIL",49.99]
["JUS016",{"$f":"Table_prices[[#This Row],[ITEMNMBR]]","v":"JUS016"},"Springtime Cake Pops","RETAIL",49.99]
["JUSTRIGHTAUTOSALES",{"$f":"Table_prices[[#This Row],[ITEMNMBR]]","v":"JUSTRIGHTAUTOSALES"},"Springtime Oreo Cookies - 12 pc","RETAIL",34.99]
["KAM001",{"$f":"Table_prices[[#This Row],[ITEMNMBR]]","v":"KAM001"},"Springtime Oreo Cookies","RETAIL",34.99]
["KAM002",{"$f":"Table_prices[[#This Row],[ITEMNMBR]]","v":"KAM002"},"The United Strawberries of America","RETAIL",54.99]
["KAM003",{"$f":"Table_prices[[#This Row],[ITEMNMBR]]","v":"KAM003"},"The United Strawberries of America","RETAIL",54.99]
["KAM004",{"$f":"Table_prices[[#This Row],[ITEMNMBR]]","v":"KAM004"},"The United Cake Pops of America","RETAIL",49.99]
["KAM005",{"$f":"Table_prices[[#This Row],[ITEMNMBR]]","v":"KAM005"},"The United Cake Pops of America","RETAIL",49.99]
["KAM006",{"$f":"Table_prices[[#This Row],[ITEMNMBR]]","v":"KAM006"},"The United Oreos of America","RETAIL",34.99]
["KAS001",{"$f":"Table_prices[[#This Row],[ITEMNMBR]]","v":"KAS001"},"The United Oreos of America","RETAIL",34.99]
["KAS002",{"$f":"Table_prices[[#This Row],[ITEMNMBR]]","v":"KAS002"},"Summertime Berries","RETAIL",54.99]
["KAS003",{"$f":"Table_prices[[#This Row],[ITEMNMBR]]","v":"KAS003"},"Summertime Berries","RETAIL",54.99]
["KEN001",{"$f":"Table_prices[[#This Row],[ITEMNMBR]]","v":"KEN001"},"Triple Chocolate Covered Cherries","RETAIL",39.99]
["KEN002",{"$f":"Table_prices[[#This Row],[ITEMNMBR]]","v":"KEN002"},"Triple Chocolate Covered Cherries","RETAIL",39.99]
["KEN003",{"$f":"Table_prices[[#This Row],[ITEMNMBR]]","v":"KEN003"},"Belgian Chocolate Covered Potato Chips","RETAIL",34.99]
["KEN004",{"$f":"Table_prices[[#This Row],[ITEMNMBR]]","v":"KEN004"},"Belgian Chocolate Covered Potato Chips","RETAIL",34.99]
["KEN005",{"$f":"Table_prices[[#This Row],[ITEMNMBR]]","v":"KEN005"},"Triple Chocolate Dipped Assortment","RETAIL",54.99]
["KEN006",{"$f":"Table_prices[[#This Row],[ITEMNMBR]]","v":"KEN006"},"Triple Chocolate Dipped Assortment","RETAIL",54.99]
["KEN007",{"$f":"Table_prices[[#This Row],[ITEMNMBR]]","v":"KEN007"},"Congrats Belgian Chocolate Dipped Oreos - 14 pcs -","RETAIL",39.99]
["KEN008",{"$f":"Table_prices[[#This Row],[ITEMNMBR]]","v":"KEN008"},"Congrats Belgian Chocolate Dipped Oreos - 14 pcs -","RETAIL",39.99]
["KEN009",{"$f":"Table_prices[[#This Row],[ITEMNMBR]]","v":"KEN009"},"Thank You Belgian Chocolate Dipped Oreos - 14 pcs -","RETAIL",39.99]
["KEN010",{"$f":"Table_prices[[#This Row],[ITEMNMBR]]","v":"KEN010"},"Thank You Belgian Chocolate Dipped Oreos - 14 pcs -","RETAIL",39.99]
["KEN011",{"$f":"Table_prices[[#This Row],[ITEMNMBR]]","v":"KEN011"},"Birthday Belgian Chocolate Dipped Oreos - 14 pcs -","RETAIL",39.99]
["KEN012",{"$f":"Table_prices[[#This Row],[ITEMNMBR]]","v":"KEN012"},"Birthday Belgian Chocolate Dipped Oreos - 14 pcs -","RETAIL",39.99]
["KEN013",{"$f":"Table_prices[[#This Row],[ITEMNMBR]]","v":"KEN013"},"Belgian Milk Chocolate & Caramel Sea Salt Covered Strawberries - 12 pcs -","RETAIL",49.99]
["KEN014",{"$f":"Table_prices[[#This Row],[ITEMNMBR]]","v":"KEN014"},"Belgian Milk Chocolate & Caramel Sea Salt Covered Strawberries - 12 pcs -","RETAIL",49.99]
["KEN015",{"$f":"Table_prices[[#This Row],[ITEMNMBR]]","v":"KEN015"},"Ice Cream Belgian Chocolate Dipped Cake Pops - 8 pcs -","RETAIL",49.99]
["KEN016",{"$f":"Table_prices[[#This Row],[ITEMNMBR]]","v":"KEN016"},"Ice Cream Belgian Chocolate Dipped Cake Pops - 8 pcs -","RETAIL",49.99]
["KEN018",{"$f":"Table_prices[[#This Row],[ITEMNMBR]]","v":"KEN018"},"Get Well Belgian Chocolate Dipped Oreos - 14 pcs","RETAIL",39.99]
["KEN019",{"$f":"Table_prices[[#This Row],[ITEMNMBR]]","v":"KEN019"},"Get Well Belgian Chocolate Dipped Oreos - 14 pcs","RETAIL",39.99]
["KEN020",{"$f":"Table_prices[[#This Row],[ITEMNMBR]]","v":"KEN020"},"Wedding Belgian White Chocolate Dipped Cake Pops - 10 pcs -","RETAIL",49.99]
["KEN021",{"$f":"Table_prices[[#This Row],[ITEMNMBR]]","v":"KEN021"},"Wedding Belgian White Chocolate Dipped Cake Pops - 10 pcs -","RETAIL",49.99]
["KEN022",{"$f":"Table_prices[[#This Row],[ITEMNMBR]]","v":"KEN022"},"Love Belgian Chocolate Dipped Oreos - 12 pcs -","RETAIL",34.99]
["KEN023",{"$f":"Table_prices[[#This Row],[ITEMNMBR]]","v":"KEN023"},"Love Belgian Chocolate Dipped Oreos - 12 pcs -","RETAIL",34.99]
["KEN024",{"$f":"Table_prices[[#This Row],[ITEMNMBR]]","v":"KEN024"},"Caramel Sea Salt Oreos - 12 pcs","RETAIL",34.99]
["KEN025",{"$f":"Table_prices[[#This Row],[ITEMNMBR]]","v":"KEN025"},"Caramel Sea Salt Oreos - 12 pcs","RETAIL",34.99]
["KEN026",{"$f":"Table_prices[[#This Row],[ITEMNMBR]]","v":"KEN026"},"Beloved Berries","RETAIL",44.99]
["KEN027",{"$f":"Table_prices[[#This Row],[ITEMNMBR]]","v":"KEN027"},"Beloved Berries - 6 pc","RETAIL",29.99]
["KEN028",{"$f":"Table_prices[[#This Row],[ITEMNMBR]]","v":"KEN028"},"Beloved Berries - 6 pc","RETAIL",29.99]
["KEN029",{"$f":"Table_prices[[#This Row],[ITEMNMBR]]","v":"KEN029"},"Beloved Berries - 12 pc","RETAIL",44.99]
["KEN030",{"$f":"Table_prices[[#This Row],[ITEMNMBR]]","v":"KEN030"},"Beloved Berries - 12 pc","RETAIL",44.99]
["KHA001",{"$f":"Table_prices[[#This Row],[ITEMNMBR]]","v":"KHA001"},"Beloved Berries","RETAIL",44.99]
["KHA002",{"$f":"Table_prices[[#This Row],[ITEMNMBR]]","v":"KHA002"},"Hugs & Kisses Strawberries","RETAIL",49.99]
["KHA003",{"$f":"Table_prices[[#This Row],[ITEMNMBR]]","v":"KHA003"},"Hugs & Kisses Strawberries - 6 pc","RETAIL",34.99]
["KHE001",{"$f":"Table_prices[[#This Row],[ITEMNMBR]]","v":"KHE001"},"Hugs & Kisses Strawberries - 6 pc","RETAIL",34.99]
["KIN001",{"$f":"Table_prices[[#This Row],[ITEMNMBR]]","v":"KIN001"},"Hugs & Kisses Strawberries - 12 pc","RETAIL",49.99]
["KIN002",{"$f":"Table_prices[[#This Row],[ITEMNMBR]]","v":"KIN002"},"Hugs & Kisses Strawberries - 12 pc","RETAIL",49.99]
["KIN003",{"$f":"Table_prices[[#This Row],[ITEMNMBR]]","v":"KIN003"},"Hugs & Kisses Strawberries","RETAIL",49.99]
["KIT001",{"$f":"Table_prices[[#This Row],[ITEMNMBR]]","v":"KIT001"},"Valentine Berries","RETAIL",44.99]
["KOE002",{"$f":"Table_prices[[#This Row],[ITEMNMBR]]","v":"KOE002"},"Valentine Berries - 6 pc","RETAIL",29.99]
["KRC001",{"$f":"Table_prices[[#This Row],[ITEMNMBR]]","v":"KRC001"},"Valentine Berries - 6 pc","RETAIL",29.99]
["KRC002",{"$f":"Table_prices[[#This Row],[ITEMNMBR]]","v":"KRC002"},"Valentine Berries - 12 pc","RETAIL",44.99]
["KRC003",{"$f":"Table_prices[[#This Row],[ITEMNMBR]]","v":"KRC003"},"Valentine Berries - 12 pc","RETAIL",44.99]
["LAD001",{"$f":"Table_prices[[#This Row],[ITEMNMBR]]","v":"LAD001"},"Valentine Berries","RETAIL",44.99]
["LAD002",{"$f":"Table_prices[[#This Row],[ITEMNMBR]]","v":"LAD002"},"Sweetheart Chocolate Covered Bananas - 6 piece","RETAIL",39.99]
["LAK001",{"$f":"Table_prices[[#This Row],[ITEMNMBR]]","v":"LAK001"},"Sweetheart Chocolate Covered Bananas - 6 piece","RETAIL",39.99]
["LAK002",{"$f":"Table_prices[[#This Row],[ITEMNMBR]]","v":"LAK002"},"Sweetheart Chocolate Covered Bananas - 12 piece","RETAIL",49.99]
["LAK003",{"$f":"Table_prices[[#This Row],[ITEMNMBR]]","v":"LAK003"},"Sweetheart Chocolate Covered Bananas - 12 piece","RETAIL",49.99]
["LAK004",{"$f":"Table_prices[[#This Row],[ITEMNMBR]]","v":"LAK004"},"Sweetheart Chocolate Covered Banana Bites - 12 piece","RETAIL",39.99]
["LAK005",{"$f":"Table_prices[[#This Row],[ITEMNMBR]]","v":"LAK005"},"Sweetheart Chocolate Covered Banana Bites - 12 piece","RETAIL",39.99]
["LAK006",{"$f":"Table_prices[[#This Row],[ITEMNMBR]]","v":"LAK006"},"Sweetheart Chocolate Covered Banana Bites - 24 piece","RETAIL",59.99]
["LAK007",{"$f":"Table_prices[[#This Row],[ITEMNMBR]]","v":"LAK007"},"Sweetheart Chocolate Covered Banana Bites - 24 piece","RETAIL",59.99]
["LAK008",{"$f":"Table_prices[[#This Row],[ITEMNMBR]]","v":"LAK008"},"Hugs & Kisses Oreo Cookies","RETAIL",24.99]
["LAK009",{"$f":"Table_prices[[#This Row],[ITEMNMBR]]","v":"LAK009"},"Hugs & Kisses Oreo Cookies","RETAIL",24.99]
["LAK010",{"$f":"Table_prices[[#This Row],[ITEMNMBR]]","v":"LAK010"},"Hugs & Kisses Cake Pops","RETAIL",34.99]
["LAK011",{"$f":"Table_prices[[#This Row],[ITEMNMBR]]","v":"LAK011"},"Hugs & Kisses Cake Pops","RETAIL",34.99]
["LAK012",{"$f":"Table_prices[[#This Row],[ITEMNMBR]]","v":"LAK012"},"Easter Celebration Berries","RETAIL",54.99]
["LAK013",{"$f":"Table_prices[[#This Row],[ITEMNMBR]]","v":"LAK013"},"Easter Celebration Berries","RETAIL",54.99]
["LAK014",{"$f":"Table_prices[[#This Row],[ITEMNMBR]]","v":"LAK014"},"Triple Chocolate Springtime Berries","RETAIL",49.99]
["LAK015",{"$f":"Table_prices[[#This Row],[ITEMNMBR]]","v":"LAK015"},"Triple Chocolate Springtime Berries","RETAIL",49.99]
["LAK016",{"$f":"Table_prices[[#This Row],[ITEMNMBR]]","v":"LAK016"},"Gourmet Easter Berries","RETAIL",54.99]
["LAK017",{"$f":"Table_prices[[#This Row],[ITEMNMBR]]","v":"LAK017"},"Gourmet Easter Berries","RETAIL",54.99]
["LAK018",{"$f":"Table_prices[[#This Row],[ITEMNMBR]]","v":"LAK018"},"Easter Celebration Oreo Cookies","RETAIL",34.99]
["LAK019",{"$f":"Table_prices[[#This Row],[ITEMNMBR]]","v":"LAK019"},"Easter Celebration Oreo Cookies","RETAIL",34.99]
["LAK024",{"$f":"Table_prices[[#This Row],[ITEMNMBR]]","v":"LAK024"},"Easter Celebration Cake Pops","RETAIL",49.99]
["LAP001",{"$f":"Table_prices[[#This Row],[ITEMNMBR]]","v":"LAP001"},"Easter Celebration Cake Pops","RETAIL",49.99]
["LAT001",{"$f":"Table_prices[[#This Row],[ITEMNMBR]]","v":"LAT001"},"Mother's Day Berries","RETAIL",64.989999999999995]
["LAT002",{"$f":"Table_prices[[#This Row],[ITEMNMBR]]","v":"LAT002"},"Mother's Day Berries","RETAIL",64.989999999999995]
["LAT003",{"$f":"Table_prices[[#This Row],[ITEMNMBR]]","v":"LAT003"},"Celebrate DAD Berries","RETAIL",64.989999999999995]
["LAT004",{"$f":"Table_prices[[#This Row],[ITEMNMBR]]","v":"LAT004"},"Celebrate DAD Berries","RETAIL",64.989999999999995]
["LAT005",{"$f":"Table_prices[[#This Row],[ITEMNMBR]]","v":"LAT005"},"Father's Day Berries","RETAIL",54.99]
["LAT006",{"$f":"Table_prices[[#This Row],[ITEMNMBR]]","v":"LAT006"},"Father's Day Berries","RETAIL",54.99]
["LAT007",{"$f":"Table_prices[[#This Row],[ITEMNMBR]]","v":"LAT007"},"Father's Day Oreo Cookies","RETAIL",34.99]
["LAT008",{"$f":"Table_prices[[#This Row],[ITEMNMBR]]","v":"LAT008"},"Father's Day Oreo Cookies","RETAIL",34.99]
["LAT009",{"$f":"Table_prices[[#This Row],[ITEMNMBR]]","v":"LAT009"},"Father's Day Cake Pop Sampler","RETAIL",49.99]
["LEO001",{"$f":"Table_prices[[#This Row],[ITEMNMBR]]","v":"LEO001"},"Father's Day Cake Pop Sampler","RETAIL",49.99]
["LEO002",{"$f":"Table_prices[[#This Row],[ITEMNMBR]]","v":"LEO002"},"Father's Day Cake Pop Sampler","RETAIL",49.99]
["LEO003",{"$f":"Table_prices[[#This Row],[ITEMNMBR]]","v":"LEO003"},"Father's Day Cake Pop Sampler","RETAIL",49.99]
["LFL001",{"$f":"Table_prices[[#This Row],[ITEMNMBR]]","v":"LFL001"},"Halloween Strawberries - 12pc -","RETAIL",54.99]
["LFL002",{"$f":"Table_prices[[#This Row],[ITEMNMBR]]","v":"LFL002"},"Halloween Strawberries - 12pc -","RETAIL",54.99]
["LFL003",{"$f":"Table_prices[[#This Row],[ITEMNMBR]]","v":"LFL003"},"Halloween Oreo Cookies - 12pc -","RETAIL",34.99]
["LFL004",{"$f":"Table_prices[[#This Row],[ITEMNMBR]]","v":"LFL004"},"Halloween Oreo Cookies - 12pc -","RETAIL",34.99]
["LFL005",{"$f":"Table_prices[[#This Row],[ITEMNMBR]]","v":"LFL005"},"Halloween Cake Pops - 10pc -","RETAIL",49.99]
["LFL006",{"$f":"Table_prices[[#This Row],[ITEMNMBR]]","v":"LFL006"},"Halloween Cake Pops - 10pc -","RETAIL",49.99]
["LFL007",{"$f":"Table_prices[[#This Row],[ITEMNMBR]]","v":"LFL007"},"Halloween Chocolate Strawberries & OREO Pops - 12 pc -","RETAIL",49.99]
["LFL008",{"$f":"Table_prices[[#This Row],[ITEMNMBR]]","v":"LFL008"},"Halloween Chocolate Strawberries & OREO Pops - 12 pc -","RETAIL",49.99]
["LFL009",{"$f":"Table_prices[[#This Row],[ITEMNMBR]]","v":"LFL009"},"Halloween Mummies Decorated Twinkies - 6 pc -","RETAIL",29.99]
["LFL010",{"$f":"Table_prices[[#This Row],[ITEMNMBR]]","v":"LFL010"},"Halloween Mummies Decorated Twinkies - 6 pc -","RETAIL",49.99]
["LFL020",{"$f":"Table_prices[[#This Row],[ITEMNMBR]]","v":"LFL020"},"Fall Gourmet Berries  - 12pc -","RETAIL",54.99]
["LFL021",{"$f":"Table_prices[[#This Row],[ITEMNMBR]]","v":"LFL021"},"Fall Gourmet Berries - 12pc -","RETAIL",54.99]
["LFL022",{"$f":"Table_prices[[#This Row],[ITEMNMBR]]","v":"LFL022"},"Fall Oreo Cookies - 12pc -","RETAIL",34.99]
["LIB001",{"$f":"Table_prices[[#This Row],[ITEMNMBR]]","v":"LIB001"},"Fall Oreo Cookies - 12pc -","RETAIL",34.99]
["LIB002",{"$f":"Table_prices[[#This Row],[ITEMNMBR]]","v":"LIB002"},"Fall Cake Pops - 10pc -","RETAIL",49.99]
["LIB003",{"$f":"Table_prices[[#This Row],[ITEMNMBR]]","v":"LIB003"},"Fall Cake Pops - 10pc -","RETAIL",49.99]
["LOG001",{"$f":"Table_prices[[#This Row],[ITEMNMBR]]","v":"LOG001"},"Thanksgiving Chocolate Dipped Cake Pops - 10 pc -","RETAIL",49.99]
["LOG002",{"$f":"Table_prices[[#This Row],[ITEMNMBR]]","v":"LOG002"},"Thanksgiving Chocolate Dipped Cake Pops - 10 pc -","RETAIL",49.99]
["LOG003",{"$f":"Table_prices[[#This Row],[ITEMNMBR]]","v":"LOG003"},"Gourmet Christmas Berries - 12pc -","RETAIL",54.99]
["LON001",{"$f":"Table_prices[[#This Row],[ITEMNMBR]]","v":"LON001"},"Gourmet Christmas Berries - 12pc -","RETAIL",54.99]
["LON002",{"$f":"Table_prices[[#This Row],[ITEMNMBR]]","v":"LON002"},"Gourmet Holiday Berries - 12pc -","RETAIL",54.99]
["LON003",{"$f":"Table_prices[[#This Row],[ITEMNMBR]]","v":"LON003"},"Gourmet Holiday Berries - 12pc -","RETAIL",54.99]
["LON004",{"$f":"Table_prices[[#This Row],[ITEMNMBR]]","v":"LON004"},"Gourmet Winter Berries - 12pc -","RETAIL",54.99]
["LON005",{"$f":"Table_prices[[#This Row],[ITEMNMBR]]","v":"LON005"},"Gourmet Winter Berries - 12pc -","RETAIL",54.99]
["LON006",{"$f":"Table_prices[[#This Row],[ITEMNMBR]]","v":"LON006"},"Holiday Peppermint Oreos - 12pc -","RETAIL",34.99]
["LON007",{"$f":"Table_prices[[#This Row],[ITEMNMBR]]","v":"LON007"},"Holiday Peppermint Oreos - 12pc -","RETAIL",34.99]
["LON008",{"$f":"Table_prices[[#This Row],[ITEMNMBR]]","v":"LON008"},"Christmas Oreo Cookies - 12pc -","RETAIL",34.99]
["LON009",{"$f":"Table_prices[[#This Row],[ITEMNMBR]]","v":"LON009"},"Christmas Oreo Cookies - 12pc -","RETAIL",34.99]
["LON010",{"$f":"Table_prices[[#This Row],[ITEMNMBR]]","v":"LON010"},"Christmas Cheesecake Pops - 10pc -","RETAIL",49.99]
["LON011",{"$f":"Table_prices[[#This Row],[ITEMNMBR]]","v":"LON011"},"Christmas Cheesecake Pops - 10pc -","RETAIL",49.99]
["LON012",{"$f":"Table_prices[[#This Row],[ITEMNMBR]]","v":"LON012"},"Christmas Cake Pops - 10pc -","RETAIL",49.99]
["LON013",{"$f":"Table_prices[[#This Row],[ITEMNMBR]]","v":"LON013"},"Christmas Cake Pops - 10pc -","RETAIL",49.99]
["LON014",{"$f":"Table_prices[[#This Row],[ITEMNMBR]]","v":"LON014"},"Happy Hanukkah Berries - 12pc -","RETAIL",54.99]
["LON015",{"$f":"Table_prices[[#This Row],[ITEMNMBR]]","v":"LON015"},"Happy Hanukkah Berries - 12pc -","RETAIL",54.99]
["LON016",{"$f":"Table_prices[[#This Row],[ITEMNMBR]]","v":"LON016"},"Happy Hanukkah Oreos - 12pc -","RETAIL",34.99]
["LON017",{"$f":"Table_prices[[#This Row],[ITEMNMBR]]","v":"LON017"},"Happy Hanukkah Oreos - 12pc -","RETAIL",34.99]
["LON018",{"$f":"Table_prices[[#This Row],[ITEMNMBR]]","v":"LON018"},"Happy Hanukkah Cake Pops - 10pc -","RETAIL",49.99]
["LON019",{"$f":"Table_prices[[#This Row],[ITEMNMBR]]","v":"LON019"},"Happy Hanukkah Cake Pops - 10pc -","RETAIL",49.99]
["LON020",{"$f":"Table_prices[[#This Row],[ITEMNMBR]]","v":"LON020"},"\"Custom\" Indulgent Belgian Supreme Tower (PCKGTW22)","RETAIL",83.95]
["LON021",{"$f":"Table_prices[[#This Row],[ITEMNMBR]]","v":"LON021"},"Gourmet Food Basket Italian","RETAIL",79.989999999999995]
["LON022",{"$f":"Table_prices[[#This Row],[ITEMNMBR]]","v":"LON022"},"Gourmet Food Basket French","RETAIL",99.99]
["LON023",{"$f":"Table_prices[[#This Row],[ITEMNMBR]]","v":"LON023"},"Food Gift For Christmas","RETAIL",99.99]
["LON024",{"$f":"Table_prices[[#This Row],[ITEMNMBR]]","v":"LON024"},"Food Gift For Christmas Breakfast","RETAIL",79.989999999999995]
["LON025",{"$f":"Table_prices[[#This Row],[ITEMNMBR]]","v":"LON025"},"Birthday Gift Basket Basket Of Baked Goods","RETAIL",29.99]
["LON026",{"$f":"Table_prices[[#This Row],[ITEMNMBR]]","v":"LON026"},"Beer Gift Basket For Men Microbrew","RETAIL",39.99]
["LON027",{"$f":"Table_prices[[#This Row],[ITEMNMBR]]","v":"LON027"},"Christmas Basket Idea For men","RETAIL",59.99]
["LON028",{"$f":"Table_prices[[#This Row],[ITEMNMBR]]","v":"LON028"},"Christmas Basket Idea For Women","RETAIL",59.99]
["LON029",{"$f":"Table_prices[[#This Row],[ITEMNMBR]]","v":"LON029"},"Corporate Holiday Gift Classic","RETAIL",59.99]
["LON030",{"$f":"Table_prices[[#This Row],[ITEMNMBR]]","v":"LON030"},"Corporate Holiday Gift Premium","RETAIL",79.989999999999995]
["LON031",{"$f":"Table_prices[[#This Row],[ITEMNMBR]]","v":"LON031"},"Spa Gift Basket Hand Care","RETAIL",59.99]
["LON032",{"$f":"Table_prices[[#This Row],[ITEMNMBR]]","v":"LON032"},"Spa Gift Basket Foot Care","RETAIL",49.99]
["LON033",{"$f":"Table_prices[[#This Row],[ITEMNMBR]]","v":"LON033"},"Christmas Gift Basket Free Shipping Fruit","RETAIL",99.99]
["LON034",{"$f":"Table_prices[[#This Row],[ITEMNMBR]]","v":"LON034"},"Housewarming Gift Italian","RETAIL",79.989999999999995]
["LON035",{"$f":"Table_prices[[#This Row],[ITEMNMBR]]","v":"LON035"},"Italian Gift Basket Classic","RETAIL",59.99]
["LON036",{"$f":"Table_prices[[#This Row],[ITEMNMBR]]","v":"LON036"},"Gift Basket For All Occassions","RETAIL",59.99]
["LON037",{"$f":"Table_prices[[#This Row],[ITEMNMBR]]","v":"LON037"},"Care Package For College Students","RETAIL",34.99]
["LON038",{"$f":"Table_prices[[#This Row],[ITEMNMBR]]","v":"LON038"},"Get Well Gift Basket","RETAIL",79.989999999999995]
["LON039",{"$f":"Table_prices[[#This Row],[ITEMNMBR]]","v":"LON039"},"Get Well Gift Basket Of Fruit","RETAIL",39.99]
["LON040",{"$f":"Table_prices[[#This Row],[ITEMNMBR]]","v":"LON040"},"Care Package Idea For Kids","RETAIL",34.99]
["LON041",{"$f":"Table_prices[[#This Row],[ITEMNMBR]]","v":"LON041"},"Care Package Idea For Men","RETAIL",34.99]
["LON042",{"$f":"Table_prices[[#This Row],[ITEMNMBR]]","v":"LON042"},"Corporate Gift Basket Red Wine","RETAIL",69.989999999999995]
["LON043",{"$f":"Table_prices[[#This Row],[ITEMNMBR]]","v":"LON043"},"Corporate Gift Basket White WIne","RETAIL",69.989999999999995]
["LON044",{"$f":"Table_prices[[#This Row],[ITEMNMBR]]","v":"LON044"},"Gift Basket Idea For Men Who Fish","RETAIL",59.99]
["LUC001",{"$f":"Table_prices[[#This Row],[ITEMNMBR]]","v":"LUC001"},"Beer Basket With Popcorn","RETAIL",39.99]
["LWC001",{"$f":"Table_prices[[#This Row],[ITEMNMBR]]","v":"LWC001"},"Wine Basket Red","RETAIL",69.989999999999995]
["LWC002",{"$f":"Table_prices[[#This Row],[ITEMNMBR]]","v":"LWC002"},"Wine Basket Red","RETAIL",69.989999999999995]
["LWC003",{"$f":"Table_prices[[#This Row],[ITEMNMBR]]","v":"LWC003"},"Golf Gift For Men","RETAIL",59.99]
["LWC004",{"$f":"Table_prices[[#This Row],[ITEMNMBR]]","v":"LWC004"},"Golf Gift For Women","RETAIL",69.989999999999995]
["LWC005",{"$f":"Table_prices[[#This Row],[ITEMNMBR]]","v":"LWC005"},"Christmas Gift Basket For Families","RETAIL",229.99]
["LWC006",{"$f":"Table_prices[[#This Row],[ITEMNMBR]]","v":"LWC006"},"College Care Package of Snacks","RETAIL",34.99]
["LWC007",{"$f":"Table_prices[[#This Row],[ITEMNMBR]]","v":"LWC007"},"Sympathy Gift Basket Premium","RETAIL",79.989999999999995]
["LWC008",{"$f":"Table_prices[[#This Row],[ITEMNMBR]]","v":"LWC008"},"Holidy Gift Basket for Clients Classic","RETAIL",59.99]
["LWC009",{"$f":"Table_prices[[#This Row],[ITEMNMBR]]","v":"LWC009"},"Nut Gift Crate Classic","RETAIL",39.99]
["LWC010",{"$f":"Table_prices[[#This Row],[ITEMNMBR]]","v":"LWC010"},"Nut Gift Crate Premium","RETAIL",59.99]
["MAD001",{"$f":"Table_prices[[#This Row],[ITEMNMBR]]","v":"MAD001"},"New Years Gift Basket","RETAIL",99.99]
["MAD002",{"$f":"Table_prices[[#This Row],[ITEMNMBR]]","v":"MAD002"},"New Years Gift Basket of Celebration","RETAIL",129.99]
["MAD003",{"$f":"Table_prices[[#This Row],[ITEMNMBR]]","v":"MAD003"},"New Years Gift Basket of Celebration - Moet","RETAIL",129.99]
["MAD004",{"$f":"Table_prices[[#This Row],[ITEMNMBR]]","v":"MAD004"},"New Years Gift Basket of Celebration - Veuve","RETAIL",139.99]
["MAD005",{"$f":"Table_prices[[#This Row],[ITEMNMBR]]","v":"MAD005"},"New Years Gift Basket of Celebration - Dom Perignon","RETAIL",239.99]
["MAD006",{"$f":"Table_prices[[#This Row],[ITEMNMBR]]","v":"MAD006"},"New Years Gift Basket of Indulgence","RETAIL",89.99]
["MAG001",{"$f":"Table_prices[[#This Row],[ITEMNMBR]]","v":"MAG001"},"New Years Gift Basket of Indulgence - Ravenswood","RETAIL",89.99]
["MAG002",{"$f":"Table_prices[[#This Row],[ITEMNMBR]]","v":"MAG002"},"New Years Gift Basket of Indulgence - Catena","RETAIL",99.99]
["MAG003",{"$f":"Table_prices[[#This Row],[ITEMNMBR]]","v":"MAG003"},"New Years Gift Basket of Indulgence - Silver Oak","RETAIL",149.99]
["MAG004",{"$f":"Table_prices[[#This Row],[ITEMNMBR]]","v":"MAG004"},"Holiday Fod Gift Basket of Treats","RETAIL",59.99]
["MAI001",{"$f":"Table_prices[[#This Row],[ITEMNMBR]]","v":"MAI001"},"Holiday Food Gift Basket","RETAIL",24.99]
["MAI002",{"$f":"Table_prices[[#This Row],[ITEMNMBR]]","v":"MAI002"},"Christmas Fruit Basket Classic","RETAIL",49.99]
["MAI003",{"$f":"Table_prices[[#This Row],[ITEMNMBR]]","v":"MAI003"},"Christmas Gourmet Gift Basket","RETAIL",69.989999999999995]
["MAI004",{"$f":"Table_prices[[#This Row],[ITEMNMBR]]","v":"MAI004"},"Christmas Gourmet Gift Basket Classic","RETAIL",59.99]
["MAI005",{"$f":"Table_prices[[#This Row],[ITEMNMBR]]","v":"MAI005"},"Holiday Gift Basket Idea For Men","RETAIL",89.99]
["MAI006",{"$f":"Table_prices[[#This Row],[ITEMNMBR]]","v":"MAI006"},"Holiday Gift Basket Idea For Women","RETAIL",79.989999999999995]
["MAI007",{"$f":"Table_prices[[#This Row],[ITEMNMBR]]","v":"MAI007"},"Christmas Gift Basket Idea For Men","RETAIL",24.99]
["MAI008",{"$f":"Table_prices[[#This Row],[ITEMNMBR]]","v":"MAI008"},"Christmas Gift Basket Idea For Women","RETAIL",24.99]
["MAI009",{"$f":"Table_prices[[#This Row],[ITEMNMBR]]","v":"MAI009"},"Corporate Holiday Gift Idea","RETAIL",24.99]
["MAI010",{"$f":"Table_prices[[#This Row],[ITEMNMBR]]","v":"MAI010"},"Corporate Holiday Gift Idea for VIP","RETAIL",159.99]
["MAI011",{"$f":"Table_prices[[#This Row],[ITEMNMBR]]","v":"MAI011"},"Gift For Parents Classic","RETAIL",59.99]
["MAI012",{"$f":"Table_prices[[#This Row],[ITEMNMBR]]","v":"MAI012"},"Gift for Parents Deluxe","RETAIL",99.99]
["MAI013",{"$f":"Table_prices[[#This Row],[ITEMNMBR]]","v":"MAI013"},"Tea Gift Basket","RETAIL",24.99]
["MAM001",{"$f":"Table_prices[[#This Row],[ITEMNMBR]]","v":"MAM001"},"Tea Gift Basket Premium","RETAIL",79.989999999999995]
["MAM002",{"$f":"Table_prices[[#This Row],[ITEMNMBR]]","v":"MAM002"},"Gift Basket Free Shipping","RETAIL",79.989999999999995]
["MAM003",{"$f":"Table_prices[[#This Row],[ITEMNMBR]]","v":"MAM003"},"Gift for Golfers","RETAIL",49.99]
["MAN001",{"$f":"Table_prices[[#This Row],[ITEMNMBR]]","v":"MAN001"},"Kids Gift Basket of Pizza","RETAIL",79.989999999999995]
["MAN002",{"$f":"Table_prices[[#This Row],[ITEMNMBR]]","v":"MAN002"},"Kids Gift Basket Ice Cream Party","RETAIL",69.989999999999995]
["MAN003",{"$f":"Table_prices[[#This Row],[ITEMNMBR]]","v":"MAN003"},"CHocolate Gift Basket of Treats","RETAIL",24.99]
["MAN004",{"$f":"Table_prices[[#This Row],[ITEMNMBR]]","v":"MAN004"},"Gardening Gift","RETAIL",49.99]
["MAN005",{"$f":"Table_prices[[#This Row],[ITEMNMBR]]","v":"MAN005"},"Accutech Small tower box 98/Case 6 ½”  X  5 ½”  X  2 ½” with a 1.25” lid","RETAIL",100]
["MAN006",{"$f":"Table_prices[[#This Row],[ITEMNMBR]]","v":"MAN006"},"Accutech Large tower box 15/Case 13 X  8  X 4  with 1.8 lid","RETAIL",100]
["MAN007",{"$f":"Table_prices[[#This Row],[ITEMNMBR]]","v":"MAN007"},"Accutech GGB Ribbon 100 yard","RETAIL",100]
["MAN008",{"$f":"Table_prices[[#This Row],[ITEMNMBR]]","v":"MAN008"},"Accutech GGB Ribbon 100 yard","RETAIL",100]
["MAN009",{"$f":"Table_prices[[#This Row],[ITEMNMBR]]","v":"MAN009"},"Accutech GGB Ribbon 100 yard","RETAIL",100]
["MAN010",{"$f":"Table_prices[[#This Row],[ITEMNMBR]]","v":"MAN010"},"Accutech GGB Ribbon 100 yard","RETAIL",100]
["MAN011",{"$f":"Table_prices[[#This Row],[ITEMNMBR]]","v":"MAN011"},"Accutech Box # 5  White  11 1/4  X  11 1/4  X  16","RETAIL",100]
["MAP001",{"$f":"Table_prices[[#This Row],[ITEMNMBR]]","v":"MAP001"},"Accutech Box # 1 White printed Box 14  X  11  X  10","RETAIL",100]
["MAP002",{"$f":"Table_prices[[#This Row],[ITEMNMBR]]","v":"MAP002"},"Accutech Box # 6 White 17  X  13  X  10 (DO NOT USE)","RETAIL",100]
["MAR001",{"$f":"Table_prices[[#This Row],[ITEMNMBR]]","v":"MAR001"},"Accutech Box # 7 White  19 1/2  X 15  X  10","RETAIL",100]
["MAR002",{"$f":"Table_prices[[#This Row],[ITEMNMBR]]","v":"MAR002"},"Accutech Box URE 12 Printer 18 1/4 x12 1/4x12","RETAIL",100]
["MAR003",{"$f":"Table_prices[[#This Row],[ITEMNMBR]]","v":"MAR003"},"Accutech J-16 15 X 11 X 6 1/2","RETAIL",100]
["MAR004",{"$f":"Table_prices[[#This Row],[ITEMNMBR]]","v":"MAR004"},"Accutech J-22 20 X 15 X 9","RETAIL",100]
["MAR005",{"$f":"Table_prices[[#This Row],[ITEMNMBR]]","v":"MAR005"},"Accutech J-22 Insert Korrvu With stretch panel","RETAIL",100]
["MAR006",{"$f":"Table_prices[[#This Row],[ITEMNMBR]]","v":"MAR006"},"Accutech J-64 22 x 15 x 13","RETAIL",100]
["MAR007",{"$f":"Table_prices[[#This Row],[ITEMNMBR]]","v":"MAR007"},"Accutech Box J-75  24 x 18 x 15","RETAIL",100]
["MAR008",{"$f":"Table_prices[[#This Row],[ITEMNMBR]]","v":"MAR008"},"Accutech Box U-48-F 18X15 5/8 X13 5/8","RETAIL",100]
["MAR009",{"$f":"Table_prices[[#This Row],[ITEMNMBR]]","v":"MAR009"},"Executive Rose Box","RETAIL",100]
["MAR010",{"$f":"Table_prices[[#This Row],[ITEMNMBR]]","v":"MAR010"},"New Executive Suit Box- brown print","RETAIL",100]
["MAR011",{"$f":"Table_prices[[#This Row],[ITEMNMBR]]","v":"MAR011"},"Accutech Kraft Carton Tape - Reinforced 3\" X 375\"","RETAIL",100]
["MAR012",{"$f":"Table_prices[[#This Row],[ITEMNMBR]]","v":"MAR012"},"White Strapping 9mmX 12,900  300#","RETAIL",100]
["MAR013",{"$f":"Table_prices[[#This Row],[ITEMNMBR]]","v":"MAR013"},"Accutech Super Tube Novus Film 6\"L X 16\"W 1250ft","RETAIL",100]
["MAR014",{"$f":"Table_prices[[#This Row],[ITEMNMBR]]","v":"MAR014"},"Accutech Super Tube Novus Film 6\"L X 16\"W 1250ft","RETAIL",100]
["MAR015",{"$f":"Table_prices[[#This Row],[ITEMNMBR]]","v":"MAR015"},"Accutech 1/2” Bubble Wrap S12 P12 48 X 250 ft","RETAIL",100]
["MAR016",{"$f":"Table_prices[[#This Row],[ITEMNMBR]]","v":"MAR016"},"Accutech 1/2” Bubble Wrap S12 P12 48 X 250 ft","RETAIL",100]
["MAR017",{"$f":"Table_prices[[#This Row],[ITEMNMBR]]","v":"MAR017"},"Accutech 1/2” Bubble Wrap S12 P12 48 X 250 ft","RETAIL",100]
["MAR018",{"$f":"Table_prices[[#This Row],[ITEMNMBR]]","v":"MAR018"},"Accutech 3/16\" Bubble S12P12 500 ft","RETAIL",100]
["MAR019",{"$f":"Table_prices[[#This Row],[ITEMNMBR]]","v":"MAR019"},"Accutech 3/16\" Bubble S12P12 500 ft","RETAIL",100]
["MAR020",{"$f":"Table_prices[[#This Row],[ITEMNMBR]]","v":"MAR020"},"Accutech 3/16\" Bubble S12P12 500 ft","RETAIL",100]
["MAR021",{"$f":"Table_prices[[#This Row],[ITEMNMBR]]","v":"MAR021"},"Accutech Craft Paper 40 lb.  1200 ft.","RETAIL",100]
["MAR022",{"$f":"Table_prices[[#This Row],[ITEMNMBR]]","v":"MAR022"},"Accutech Super 8 Pink Loosefill Anti-stat 14 cu/ft bag","RETAIL",100]
["MAR023",{"$f":"Table_prices[[#This Row],[ITEMNMBR]]","v":"MAR023"},"Accutech Flo-Pal Bio 8 Starch Loosefill 14 cu/ft bag","RETAIL",100]
["MAR024",{"$f":"Table_prices[[#This Row],[ITEMNMBR]]","v":"MAR024"},"Accutech 13X8X3 1# Ether Foam Green","RETAIL",100]
["MAR025",{"$f":"Table_prices[[#This Row],[ITEMNMBR]]","v":"MAR025"},"Accutech Mixing Block Kit (was HB)","RETAIL",100]
["MAR026",{"$f":"Table_prices[[#This Row],[ITEMNMBR]]","v":"MAR026"},"Accutech Speedy Packer Film (tall new machine)","RETAIL",100]
["MAR027",{"$f":"Table_prices[[#This Row],[ITEMNMBR]]","v":"MAR027"},"Accutech Box # 3 White 13\"x11\"x11.5\"","RETAIL",100]
["MAR028",{"$f":"Table_prices[[#This Row],[ITEMNMBR]]","v":"MAR028"},"Accutech Box # 2 White 12.24\"x10.25\"x14\"","RETAIL",100]
["MAR029",{"$f":"Table_prices[[#This Row],[ITEMNMBR]]","v":"MAR029"},"Strapping","RETAIL",100]
["MAR030",{"$f":"Table_prices[[#This Row],[ITEMNMBR]]","v":"MAR030"},"Excelsior","RETAIL",100]
["MAR031",{"$f":"Table_prices[[#This Row],[ITEMNMBR]]","v":"MAR031"},"Excelsior","RETAIL",100]
["MAR032",{"$f":"Table_prices[[#This Row],[ITEMNMBR]]","v":"MAR032"},"Xenith 50 film","RETAIL",100]
["MAR033",{"$f":"Table_prices[[#This Row],[ITEMNMBR]]","v":"MAR033"},"Xenith 50 film","RETAIL",100]
["MAR034",{"$f":"Table_prices[[#This Row],[ITEMNMBR]]","v":"MAR034"},"Accutech Box #0  White 14 3/8x8 1/2x7","RETAIL",0.84]
["MAR035",{"$f":"Table_prices[[#This Row],[ITEMNMBR]]","v":"MAR035"},"BURGANDY SHRED","RETAIL",100]
["MAR036",{"$f":"Table_prices[[#This Row],[ITEMNMBR]]","v":"MAR036"},"BURGANDY SHRED","RETAIL",100]
["MAR037",{"$f":"Table_prices[[#This Row],[ITEMNMBR]]","v":"MAR037"},"FOREST GREEN SHRED","RETAIL",100]
["MCM001",{"$f":"Table_prices[[#This Row],[ITEMNMBR]]","v":"MCM001"},"FOREST GREEN SHRED","RETAIL",100]
["MCM002",{"$f":"Table_prices[[#This Row],[ITEMNMBR]]","v":"MCM002"},"FRENCH VANILLA SHRED","RETAIL",100]
["MEL001",{"$f":"Table_prices[[#This Row],[ITEMNMBR]]","v":"MEL001"},"FRENCH VANILLA SHRED","RETAIL",100]
["MEL002",{"$f":"Table_prices[[#This Row],[ITEMNMBR]]","v":"MEL002"},"GREEN SHRED","RETAIL",100]
["MEL003",{"$f":"Table_prices[[#This Row],[ITEMNMBR]]","v":"MEL003"},"GREEN SHRED","RETAIL",100]
["MEL004",{"$f":"Table_prices[[#This Row],[ITEMNMBR]]","v":"MEL004"},"KRAFT SHRED","RETAIL",100]
["MEY001",{"$f":"Table_prices[[#This Row],[ITEMNMBR]]","v":"MEY001"},"KRAFT SHRED","RETAIL",100]
["MEY002",{"$f":"Table_prices[[#This Row],[ITEMNMBR]]","v":"MEY002"},"NAVY BLUE SHRED","RETAIL",100]
["MEY003",{"$f":"Table_prices[[#This Row],[ITEMNMBR]]","v":"MEY003"},"NAVY BLUE SHRED","RETAIL",100]
["MEY004",{"$f":"Table_prices[[#This Row],[ITEMNMBR]]","v":"MEY004"},"OLIVE GREEN SHRED","RETAIL",100]
["MFHI01",{"$f":"Table_prices[[#This Row],[ITEMNMBR]]","v":"MFHI01"},"OLIVE GREEN SHRED","RETAIL",100]
["MGC011",{"$f":"Table_prices[[#This Row],[ITEMNMBR]]","v":"MGC011"},"OLIVE GREEN SHRED","RETAIL",0]
["MGD64",{"$f":"Table_prices[[#This Row],[ITEMNMBR]]","v":"MGD64"},"RED SHRED","RETAIL",100]
["MHF001",{"$f":"Table_prices[[#This Row],[ITEMNMBR]]","v":"MHF001"},"RED SHRED","RETAIL",100]
["MIC001",{"$f":"Table_prices[[#This Row],[ITEMNMBR]]","v":"MIC001"},"ROYAL BLUE SHRED","RETAIL",100]
["MIC002",{"$f":"Table_prices[[#This Row],[ITEMNMBR]]","v":"MIC002"},"ROYAL BLUE SHRED","RETAIL",100]
["MIC003",{"$f":"Table_prices[[#This Row],[ITEMNMBR]]","v":"MIC003"},"LIGHT PINK SHRED","RETAIL",100]
["MIC004",{"$f":"Table_prices[[#This Row],[ITEMNMBR]]","v":"MIC004"},"LIGHT PINK SHRED","RETAIL",100]
["MIC005",{"$f":"Table_prices[[#This Row],[ITEMNMBR]]","v":"MIC005"},"TEAL SHRED","RETAIL",100]
["MIC006",{"$f":"Table_prices[[#This Row],[ITEMNMBR]]","v":"MIC006"},"TEAL SHRED","RETAIL",100]
["MIC007",{"$f":"Table_prices[[#This Row],[ITEMNMBR]]","v":"MIC007"},"Springfill Copper crinkle cut shred 40 lb","RETAIL",100]
["MIC008",{"$f":"Table_prices[[#This Row],[ITEMNMBR]]","v":"MIC008"},"Springfill Copper crinkle cut shred 40 lb","RETAIL",100]
["MIC009",{"$f":"Table_prices[[#This Row],[ITEMNMBR]]","v":"MIC009"},"LIME GREEN SHRED","RETAIL",100]
["MIC010",{"$f":"Table_prices[[#This Row],[ITEMNMBR]]","v":"MIC010"},"LIME GREEN SHRED","RETAIL",100]
["MIC011",{"$f":"Table_prices[[#This Row],[ITEMNMBR]]","v":"MIC011"},"PURPLE SHRED","RETAIL",100]
["MIC012",{"$f":"Table_prices[[#This Row],[ITEMNMBR]]","v":"MIC012"},"PURPLE SHRED","RETAIL",100]
["MIC013",{"$f":"Table_prices[[#This Row],[ITEMNMBR]]","v":"MIC013"},"BLACK SHRED","RETAIL",100]
["MIC014",{"$f":"Table_prices[[#This Row],[ITEMNMBR]]","v":"MIC014"},"BLACK SHRED","RETAIL",100]
["MIC015",{"$f":"Table_prices[[#This Row],[ITEMNMBR]]","v":"MIC015"},"Springfill Fuchsia crinkle cut shred 40 lb","RETAIL",100]
["MISC-FRUIT&GOURMET",{"$f":"Table_prices[[#This Row],[ITEMNMBR]]","v":"MISC-FRUIT&GOURMET"},"Springfill Fuchsia crinkle cut shred 40 lb","RETAIL",100]
["MKR001",{"$f":"Table_prices[[#This Row],[ITEMNMBR]]","v":"MKR001"},"Springfill Orange crinkle cut shred 40 lb","RETAIL",100]
["MNC001",{"$f":"Table_prices[[#This Row],[ITEMNMBR]]","v":"MNC001"},"Springfill Orange crinkle cut shred 40 lb","RETAIL",100]
["MOO001",{"$f":"Table_prices[[#This Row],[ITEMNMBR]]","v":"MOO001"},"SHERBERT SHRED","RETAIL",100]
["MOO002",{"$f":"Table_prices[[#This Row],[ITEMNMBR]]","v":"MOO002"},"SHERBERT SHRED","RETAIL",100]
["MOO003",{"$f":"Table_prices[[#This Row],[ITEMNMBR]]","v":"MOO003"},"Springfill Golden Rod crinkle cut shred 40 lb","RETAIL",100]
["MOO004",{"$f":"Table_prices[[#This Row],[ITEMNMBR]]","v":"MOO004"},"Springfill Golden Rod crinkle cut shred 40 lb","RETAIL",100]
["MOR001",{"$f":"Table_prices[[#This Row],[ITEMNMBR]]","v":"MOR001"},"YELLOW SHRED","RETAIL",100]
["MRB001",{"$f":"Table_prices[[#This Row],[ITEMNMBR]]","v":"MRB001"},"YELLOW SHRED","RETAIL",100]
["MRT001",{"$f":"Table_prices[[#This Row],[ITEMNMBR]]","v":"MRT001"},"LIGHT BLUE SHRED","RETAIL",100]
["MRT002",{"$f":"Table_prices[[#This Row],[ITEMNMBR]]","v":"MRT002"},"LIGHT BLUE SHRED","RETAIL",100]
["MSF001",{"$f":"Table_prices[[#This Row],[ITEMNMBR]]","v":"MSF001"},"BROWN SHRED","RETAIL",100]
["MSF002",{"$f":"Table_prices[[#This Row],[ITEMNMBR]]","v":"MSF002"},"BROWN SHRED","RETAIL",100]
["MSF003",{"$f":"Table_prices[[#This Row],[ITEMNMBR]]","v":"MSF003"},"WHITE SHRED","RETAIL",100]
["MSF004",{"$f":"Table_prices[[#This Row],[ITEMNMBR]]","v":"MSF004"},"WHITE SHRED","RETAIL",100]
["MSF005",{"$f":"Table_prices[[#This Row],[ITEMNMBR]]","v":"MSF005"},"Duck Brand Crystal Clear Tape 2\"","RETAIL",100]
["MSF006",{"$f":"Table_prices[[#This Row],[ITEMNMBR]]","v":"MSF006"},"MLB Hat Insert White","RETAIL",100]
["MSF007",{"$f":"Table_prices[[#This Row],[ITEMNMBR]]","v":"MSF007"},"Xenith 50 film 26\" Wide 2620","RETAIL",100]
["MSF008",{"$f":"Table_prices[[#This Row],[ITEMNMBR]]","v":"MSF008"},"Xenith 50 film 26\" Wide 2620","RETAIL",100]
["MSF009",{"$f":"Table_prices[[#This Row],[ITEMNMBR]]","v":"MSF009"},"Xenith 50 film 20\" Wide","RETAIL",100]
["MST001",{"$f":"Table_prices[[#This Row],[ITEMNMBR]]","v":"MST001"},"Xenith 50 film 20\" Wide","RETAIL",100]
["MST002",{"$f":"Table_prices[[#This Row],[ITEMNMBR]]","v":"MST002"},"Accutech Box # 6 White 17  X  13  X  10","RETAIL",100]
["MST004",{"$f":"Table_prices[[#This Row],[ITEMNMBR]]","v":"MST004"},"Cheesecake.com Inside Box 9 Decorated \"","RETAIL",100]
["MST006",{"$f":"Table_prices[[#This Row],[ITEMNMBR]]","v":"MST006"},"Cheesecake.com Inside Box Insert 6\"","RETAIL",100]
["MST007",{"$f":"Table_prices[[#This Row],[ITEMNMBR]]","v":"MST007"},"Large Box - Bottom - in Red - Accutech","RETAIL",100]
["MST008",{"$f":"Table_prices[[#This Row],[ITEMNMBR]]","v":"MST008"},"Large Box - Top - in Brown - Accutech","RETAIL",100]
["MST009",{"$f":"Table_prices[[#This Row],[ITEMNMBR]]","v":"MST009"},"Large Box - Bottom - in Brown - Accutech","RETAIL",100]
["MYP001",{"$f":"Table_prices[[#This Row],[ITEMNMBR]]","v":"MYP001"},"Large Box - Top - in Green - Accutech","RETAIL",100]
["MYP002",{"$f":"Table_prices[[#This Row],[ITEMNMBR]]","v":"MYP002"},"Small Box - Bottom - in Red - Accutech","RETAIL",100]
["NAP001",{"$f":"Table_prices[[#This Row],[ITEMNMBR]]","v":"NAP001"},"Small Box - Top - in Brown - Accutech","RETAIL",100]
["NAS001",{"$f":"Table_prices[[#This Row],[ITEMNMBR]]","v":"NAS001"},"Small Box - Bottom - in Brown - Accutech","RETAIL",100]
["NAS002",{"$f":"Table_prices[[#This Row],[ITEMNMBR]]","v":"NAS002"},"Small Box - Top - in Green - Accutech","RETAIL",100]
["NAS003",{"$f":"Table_prices[[#This Row],[ITEMNMBR]]","v":"NAS003"},"pallet cover sheets","RETAIL",100]
["NAS004",{"$f":"Table_prices[[#This Row],[ITEMNMBR]]","v":"NAS004"},"TOWER line  Box 8-1/2x6-7/8x16-1/4 RSC 200#","RETAIL",1.62]
["NAS005",{"$f":"Table_prices[[#This Row],[ITEMNMBR]]","v":"NAS005"},"GGB BOX 12 - 17 x 13 x 12","RETAIL",2.2000000000000002]
["NAS006",{"$f":"Table_prices[[#This Row],[ITEMNMBR]]","v":"NAS006"},"Aero Rubber Band- Poly Grade- Clear Color","RETAIL",100]
["NAS007",{"$f":"Table_prices[[#This Row],[ITEMNMBR]]","v":"NAS007"},"Blue Moose Blueberry Tea by Alaska Herb Tea - 12 sachets -","RETAIL",100]
["NEW001",{"$f":"Table_prices[[#This Row],[ITEMNMBR]]","v":"NEW001"},"Smoked Salmon Green and Silver Gift Box by Alaska Smokehouse - 8 oz. -","RETAIL",100]
["NEW002",{"$f":"Table_prices[[#This Row],[ITEMNMBR]]","v":"NEW002"},"Smoked Salmon black pillow pack - 2 oz. -","RETAIL",100]
["NEW003",{"$f":"Table_prices[[#This Row],[ITEMNMBR]]","v":"NEW003"},"Smoked Salmon green pillow pack by Alaska Smokehouse - 2 oz. -","RETAIL",100]
["NEW005",{"$f":"Table_prices[[#This Row],[ITEMNMBR]]","v":"NEW005"},"Alaska Smokehouse Smoked Salmon pillow pack turquoise 2 oz.","RETAIL",100]
["NEW006",{"$f":"Table_prices[[#This Row],[ITEMNMBR]]","v":"NEW006"},"Smoked Salmon Red and Gold Gift Box by Alaska Smokehouse - 8 oz. -","RETAIL",100]
["NEW007",{"$f":"Table_prices[[#This Row],[ITEMNMBR]]","v":"NEW007"}," Cranberry Decadence Tea Cookies - The Famous Pacific Dessert Co.- 5 oz -","RETAIL",100]
["NEW008",{"$f":"Table_prices[[#This Row],[ITEMNMBR]]","v":"NEW008"},"The Famous Pacific Dessert Co. Key Lime Decadence Tea Cookies 5 oz","RETAIL",100]
["NEW009",{"$f":"Table_prices[[#This Row],[ITEMNMBR]]","v":"NEW009"},"The Famous Pacific Dessert Co. Lemon Decadence Tea Cookies 5 oz","RETAIL",100]
["NEW010",{"$f":"Table_prices[[#This Row],[ITEMNMBR]]","v":"NEW010"},"The Famous Pacific Dessert Co. Original Decadence Tea Cookies 5 oz","RETAIL",100]
["NEW011",{"$f":"Table_prices[[#This Row],[ITEMNMBR]]","v":"NEW011"},"The Famous Pacific Dessert Co. Raspberry Decadence Tea Cookies 5 oz","RETAIL",100]
["NEW012",{"$f":"Table_prices[[#This Row],[ITEMNMBR]]","v":"NEW012"},"The Famous Pacific Dessert Co. Black Forest Cocoa 8oz","RETAIL",100]
["NEW013",{"$f":"Table_prices[[#This Row],[ITEMNMBR]]","v":"NEW013"},"12 Flavor Gummies by Albanese - 5 oz. -","RETAIL",100]
["NEW014",{"$f":"Table_prices[[#This Row],[ITEMNMBR]]","v":"NEW014"},"Mini Sour Gummy Worms by Albanese Confectionary - 5 oz. -","RETAIL",100]
["NEW015",{"$f":"Table_prices[[#This Row],[ITEMNMBR]]","v":"NEW015"},"Corona Extra  - 12 oz -","RETAIL",100]
["NEW016",{"$f":"Table_prices[[#This Row],[ITEMNMBR]]","v":"NEW016"},"Blue Moon- 120z","RETAIL",100]
["NEW017",{"$f":"Table_prices[[#This Row],[ITEMNMBR]]","v":"NEW017"},"Molson XXX -  12 oz -","RETAIL",100]
["NEW018",{"$f":"Table_prices[[#This Row],[ITEMNMBR]]","v":"NEW018"}," Sam (Adams) Seasonal  - 12 oz -","RETAIL",100]
["NEW019",{"$f":"Table_prices[[#This Row],[ITEMNMBR]]","v":"NEW019"}," Tsingtao  - 12 oz -","RETAIL",100]
["NEW020",{"$f":"Table_prices[[#This Row],[ITEMNMBR]]","v":"NEW020"},"Molson ICE  - 12 oz -","RETAIL",100]
["NEW023",{"$f":"Table_prices[[#This Row],[ITEMNMBR]]","v":"NEW023"},"Grolsch  - 12 oz -","RETAIL",100]
["NEW024",{"$f":"Table_prices[[#This Row],[ITEMNMBR]]","v":"NEW024"},"White Wine Biscuit by American Vintage - 4.05 oz. -","RETAIL",100]
["NEW025",{"$f":"Table_prices[[#This Row],[ITEMNMBR]]","v":"NEW025"},"Red  Wine Biscuit by American Vintage - 4.05 oz. -","RETAIL",100]
["NEW026",{"$f":"Table_prices[[#This Row],[ITEMNMBR]]","v":"NEW026"},"American Vintage Beer Biscuit Hot Hot Hot","RETAIL",100]
["NEW027",{"$f":"Table_prices[[#This Row],[ITEMNMBR]]","v":"NEW027"},"Suitcase - 2 bottle - black","RETAIL",42.72]
["NF00CP",{"$f":"Table_prices[[#This Row],[ITEMNMBR]]","v":"NF00CP"},"10 Qt Bucket","RETAIL",100]
["NF01CP",{"$f":"Table_prices[[#This Row],[ITEMNMBR]]","v":"NF01CP"},"16 Qt Bucket","RETAIL",8.8000000000000007]
["NF02CP",{"$f":"Table_prices[[#This Row],[ITEMNMBR]]","v":"NF02CP"},"Iris Margarita Green Glass","RETAIL",100]
["NF03CP",{"$f":"Table_prices[[#This Row],[ITEMNMBR]]","v":"NF03CP"},"Dark Chocolate Smothered Pretzel by Asher's - .8 oz. -","RETAIL",100]
["NF04CP",{"$f":"Table_prices[[#This Row],[ITEMNMBR]]","v":"NF04CP"},"Milk Chocolate Smothered Graham by Asher's - 1.01 oz. -","RETAIL",100]
["NF07CP",{"$f":"Table_prices[[#This Row],[ITEMNMBR]]","v":"NF07CP"},"Dark Chocolate Smothered Graham by Asher's - 1.02 oz. -","RETAIL",100]
["NF10CP",{"$f":"Table_prices[[#This Row],[ITEMNMBR]]","v":"NF10CP"},"Milk Chocolate Smothered Sandwich Cookie by Asher's - 1.02 oz. -","RETAIL",100]
["NF11CP",{"$f":"Table_prices[[#This Row],[ITEMNMBR]]","v":"NF11CP"},"New England Style Clam Chowder by Bar Harbor - 15 oz.-","RETAIL",100]
["NFHWCP",{"$f":"Table_prices[[#This Row],[ITEMNMBR]]","v":"NFHWCP"},"Herring with Cracked Pepper by Bar Harbor - 6.7 oz. -","RETAIL",100]
["NIK003",{"$f":"Table_prices[[#This Row],[ITEMNMBR]]","v":"NIK003"},"New England Style Lobster Chowder by Bar Harbor - 15 oz.-","RETAIL",100]
["NIK004",{"$f":"Table_prices[[#This Row],[ITEMNMBR]]","v":"NIK004"},"Bar Harbor Smoked Makerel 4.7 oz.","RETAIL",100]
["NIK006",{"$f":"Table_prices[[#This Row],[ITEMNMBR]]","v":"NIK006"},"Nicoise Olives by Barnier - 4.4 oz. -","RETAIL",100]
["NIK007",{"$f":"Table_prices[[#This Row],[ITEMNMBR]]","v":"NIK007"},"Olives by Barnier - 4.4 oz. -","RETAIL",100]
["NIK008",{"$f":"Table_prices[[#This Row],[ITEMNMBR]]","v":"NIK008"},"Divina Red Pepper Stuffed Olives 7.8 oz","RETAIL",100]
["NIK009",{"$f":"Table_prices[[#This Row],[ITEMNMBR]]","v":"NIK009"},"Ghirardelli 60% Dark Chocolate Bar 3 oz.","RETAIL",100]
["NIK010",{"$f":"Table_prices[[#This Row],[ITEMNMBR]]","v":"NIK010"},"Rabitos Choc Covered Figs","RETAIL",100]
["NIK011",{"$f":"Table_prices[[#This Row],[ITEMNMBR]]","v":"NIK011"},"Ghirardelli Milk Chocolate Bar 3 oz.","RETAIL",100]
["NOR001",{"$f":"Table_prices[[#This Row],[ITEMNMBR]]","v":"NOR001"},"La Tourangelle Grapeseed Oil 16.9 oz.","RETAIL",100]
["NOR002",{"$f":"Table_prices[[#This Row],[ITEMNMBR]]","v":"NOR002"},"Old Cape Cod Old Fashioned Oyster Crackers 8 oz.","RETAIL",100]
["NUT001",{"$f":"Table_prices[[#This Row],[ITEMNMBR]]","v":"NUT001"},"Parmesan Pepper Croutons by Olivia's - 5 oz. -","RETAIL",100]
["NUT002",{"$f":"Table_prices[[#This Row],[ITEMNMBR]]","v":"NUT002"},"Louisiana Style Hot Sauce by Original Juan - 6.75 oz. -","RETAIL",100]
["NUT003",{"$f":"Table_prices[[#This Row],[ITEMNMBR]]","v":"NUT003"},"Original Juan Fiesta Jalapeno Dip Mix 15.5 oz.","RETAIL",100]
["NUT004",{"$f":"Table_prices[[#This Row],[ITEMNMBR]]","v":"NUT004"},"Cranberry Almond Multigrain Oatmeal by Holly's Oatmeal -  12 oz. -","RETAIL",100]
["OBL001",{"$f":"Table_prices[[#This Row],[ITEMNMBR]]","v":"OBL001"},"Rub with Love Chicken Rub3.5 oz","RETAIL",100]
["OBL002",{"$f":"Table_prices[[#This Row],[ITEMNMBR]]","v":"OBL002"},"Silver Palate Thick & Rough Oatmeal 16 oz","RETAIL",100]
["OLD001",{"$f":"Table_prices[[#This Row],[ITEMNMBR]]","v":"OLD001"},"Miguels Organic Three Pepper Tortilla Dippers 7.5oz","RETAIL",100]
["OLD002",{"$f":"Table_prices[[#This Row],[ITEMNMBR]]","v":"OLD002"},"HOT SAUCE PAIN 85%","RETAIL",100]
["OLD003",{"$f":"Table_prices[[#This Row],[ITEMNMBR]]","v":"OLD003"},"Smoked Wild Kippers by Bar Harbor - 6.7 oz. -","RETAIL",100]
["OLD004",{"$f":"Table_prices[[#This Row],[ITEMNMBR]]","v":"OLD004"},"Lightly Salted Potato Chips by Deep River - 5 oz. -","RETAIL",100]
["OLD005",{"$f":"Table_prices[[#This Row],[ITEMNMBR]]","v":"OLD005"},"2 Gal Platinum Tin","RETAIL",100]
["OLD006",{"$f":"Table_prices[[#This Row],[ITEMNMBR]]","v":"OLD006"},"3.5 Gal Platinum Tin","RETAIL",100]
["ORI001",{"$f":"Table_prices[[#This Row],[ITEMNMBR]]","v":"ORI001"},"3 way Divider 2 gal.","RETAIL",100]
["ORI002",{"$f":"Table_prices[[#This Row],[ITEMNMBR]]","v":"ORI002"},"3 way Divider 3.5 GAL","RETAIL",100]
["ORI003",{"$f":"Table_prices[[#This Row],[ITEMNMBR]]","v":"ORI003"},"Lid Shrink Band - 2 & 3.5 Gallon","RETAIL",100]
["ORI004",{"$f":"Table_prices[[#This Row],[ITEMNMBR]]","v":"ORI004"},"2 Gal stripe & Snowflake","RETAIL",100]
["ORI005",{"$f":"Table_prices[[#This Row],[ITEMNMBR]]","v":"ORI005"},"2 Gal whimsical snowmen Tin","RETAIL",100]
["ORI006",{"$f":"Table_prices[[#This Row],[ITEMNMBR]]","v":"ORI006"},"2 Gal Christmas Tree Tin","RETAIL",100]
["ORI007",{"$f":"Table_prices[[#This Row],[ITEMNMBR]]","v":"ORI007"},"3.5 Gal Stripes and Snowflake Tin","RETAIL",100]
["ORI008",{"$f":"Table_prices[[#This Row],[ITEMNMBR]]","v":"ORI008"},"3.5 Gal Whimsical Snowman Tin","RETAIL",100]
["ORI009",{"$f":"Table_prices[[#This Row],[ITEMNMBR]]","v":"ORI009"},"3.5 Gal Christmas Tree Tin","RETAIL",100]
["ORI010",{"$f":"Table_prices[[#This Row],[ITEMNMBR]]","v":"ORI010"},"3.5 Gal Sweet Hearts Tin","RETAIL",100]
["ORI011",{"$f":"Table_prices[[#This Row],[ITEMNMBR]]","v":"ORI011"},"2 Gal Sweet Hearts Tin","RETAIL",100]
["ORI012",{"$f":"Table_prices[[#This Row],[ITEMNMBR]]","v":"ORI012"},"3.5 Gal Easter Tin","RETAIL",100]
["ORI013",{"$f":"Table_prices[[#This Row],[ITEMNMBR]]","v":"ORI013"},"2 Gal Easter Tin","RETAIL",100]
["ORI014",{"$f":"Table_prices[[#This Row],[ITEMNMBR]]","v":"ORI014"},"One Gallon Tin","RETAIL",100]
["ORI015",{"$f":"Table_prices[[#This Row],[ITEMNMBR]]","v":"ORI015"},"Willow Specialties Tin Tray 14\"","RETAIL",100]
["ORI016",{"$f":"Table_prices[[#This Row],[ITEMNMBR]]","v":"ORI016"},"Willow Specialties Chipwood Basket with Drop Handles 13.75\"","RETAIL",100]
["ORI017",{"$f":"Table_prices[[#This Row],[ITEMNMBR]]","v":"ORI017"},"Willow Specialties Red crinkle cut 40 lb","RETAIL",100]
["ORI018",{"$f":"Table_prices[[#This Row],[ITEMNMBR]]","v":"ORI018"},"Burgundy Raffia 500 yd","RETAIL",100]
["ORI019",{"$f":"Table_prices[[#This Row],[ITEMNMBR]]","v":"ORI019"},"Willow Specialties Oatmeal Raffia 500 yd","RETAIL",100]
["ORI020",{"$f":"Table_prices[[#This Row],[ITEMNMBR]]","v":"ORI020"},"Deep Yellow Raffia 500 yd","RETAIL",100]
["ORI021",{"$f":"Table_prices[[#This Row],[ITEMNMBR]]","v":"ORI021"},"Hunter Green Raffia 500 yd","RETAIL",100]
["OSK001",{"$f":"Table_prices[[#This Row],[ITEMNMBR]]","v":"OSK001"},"Olive Green Raffia 500 yd","RETAIL",100]
["OSK002",{"$f":"Table_prices[[#This Row],[ITEMNMBR]]","v":"OSK002"},"Light Purple Raffia 500 yd","RETAIL",0]
["OSK003",{"$f":"Table_prices[[#This Row],[ITEMNMBR]]","v":"OSK003"},"Willow Specialties Kraft Raffia 500 yd","RETAIL",100]
["OSK004",{"$f":"Table_prices[[#This Row],[ITEMNMBR]]","v":"OSK004"},"Metallic Gold Raffia 500 yd","RETAIL",100]
["OSK005",{"$f":"Table_prices[[#This Row],[ITEMNMBR]]","v":"OSK005"},"Red Raffia 500 yd","RETAIL",100]
["OSK006",{"$f":"Table_prices[[#This Row],[ITEMNMBR]]","v":"OSK006"},"Lime Green Raffia 500 yd","RETAIL",100]
["OSK007",{"$f":"Table_prices[[#This Row],[ITEMNMBR]]","v":"OSK007"},"Orange Raffia 500 yd","RETAIL",100]
["PAN001",{"$f":"Table_prices[[#This Row],[ITEMNMBR]]","v":"PAN001"},"Willow Specialties Teal crinkle cut shred 40 lb","RETAIL",100]
["PAW001",{"$f":"Table_prices[[#This Row],[ITEMNMBR]]","v":"PAW001"},"Willow Specialties Coral Raffia 500 yd","RETAIL",100]
["PAW002",{"$f":"Table_prices[[#This Row],[ITEMNMBR]]","v":"PAW002"},"Baby Blue Raffia 500 yd","RETAIL",100]
["PAW003",{"$f":"Table_prices[[#This Row],[ITEMNMBR]]","v":"PAW003"},"Willow Specialties Green Raffia 500 yd","RETAIL",100]
["PAW004",{"$f":"Table_prices[[#This Row],[ITEMNMBR]]","v":"PAW004"},"Willow Specialties Honey Round Over Handle Easter Ultimate '09 12\"","RETAIL",100]
["PEA001",{"$f":"Table_prices[[#This Row],[ITEMNMBR]]","v":"PEA001"},"Willow Specialties Brown Oval Over Handle Easter Jumbo '09 19\"","RETAIL",100]
["PEA003",{"$f":"Table_prices[[#This Row],[ITEMNMBR]]","v":"PEA003"},"Willow Specialties Easter Ultimate 2010 - 2014  Woven Handle","RETAIL",100]
["PEA004",{"$f":"Table_prices[[#This Row],[ITEMNMBR]]","v":"PEA004"},"Willow Specialties Easter Ultimate 2010 Cross Handle","RETAIL",100]
["PEA006",{"$f":"Table_prices[[#This Row],[ITEMNMBR]]","v":"PEA006"},"Willow Specialties Easter Jumbo 2010 Drk Brown","RETAIL",100]
["PEE003",{"$f":"Table_prices[[#This Row],[ITEMNMBR]]","v":"PEE003"},"Avery Imports Stainless Steel Colander 15.75\"x 5\"","RETAIL",100]
["PEE004",{"$f":"Table_prices[[#This Row],[ITEMNMBR]]","v":"PEE004"},"Avery Oval Red Tin with Diamond","RETAIL",100]
["PEE005",{"$f":"Table_prices[[#This Row],[ITEMNMBR]]","v":"PEE005"},"Oval Red Tin with Santa Belt","RETAIL",100]
["PEE006",{"$f":"Table_prices[[#This Row],[ITEMNMBR]]","v":"PEE006"},"Oval Red Tin with Reindeer Decoration","RETAIL",100]
["PEE009",{"$f":"Table_prices[[#This Row],[ITEMNMBR]]","v":"PEE009"},"Avery Imports Stainless Steel  Colander 13\" x 4.5\"","RETAIL",100]
["PEE010",{"$f":"Table_prices[[#This Row],[ITEMNMBR]]","v":"PEE010"},"2011-2015  Easter Jumbo Basket","RETAIL",100]
["PEN001",{"$f":"Table_prices[[#This Row],[ITEMNMBR]]","v":"PEN001"},"2011 Jumbo Basket Alternate","RETAIL",100]
["PEN002",{"$f":"Table_prices[[#This Row],[ITEMNMBR]]","v":"PEN002"},"2011 Jumbo 2nd Alt","RETAIL",100]
["PEN003",{"$f":"Table_prices[[#This Row],[ITEMNMBR]]","v":"PEN003"},"Emerald Green Raffia 500 yds","RETAIL",100]
["PEN004",{"$f":"Table_prices[[#This Row],[ITEMNMBR]]","v":"PEN004"},"Easter Ultimate 2012 - 1st Alternate","RETAIL",100]
["PEN005",{"$f":"Table_prices[[#This Row],[ITEMNMBR]]","v":"PEN005"},"Easter Ultimate 2012 - 2nd Alternate","RETAIL",100]
["PEN006",{"$f":"Table_prices[[#This Row],[ITEMNMBR]]","v":"PEN006"},"Buttercrunch Almond Roca Heart by Brown & Haley - 2 oz. -","RETAIL",100]
["PEN008",{"$f":"Table_prices[[#This Row],[ITEMNMBR]]","v":"PEN008"},"Milk Chocolate Roca Crunch by Brown & Haley - 3.7 oz. -","RETAIL",100]
["PEN009",{"$f":"Table_prices[[#This Row],[ITEMNMBR]]","v":"PEN009"},"Double Dark Truffles by Brown & Haley - 3.7 oz. -","RETAIL",100]
["PEN010",{"$f":"Table_prices[[#This Row],[ITEMNMBR]]","v":"PEN010"},"Almond Roca in Stand-Up box by Brown & Haley - 5 oz. -","RETAIL",100]
["PEN011",{"$f":"Table_prices[[#This Row],[ITEMNMBR]]","v":"PEN011"},"Inspiring Thoughts for Golfers by Lee Warren -","RETAIL",100]
["PEN012",{"$f":"Table_prices[[#This Row],[ITEMNMBR]]","v":"PEN012"},"Cool Gel Spa Eye Mask -","RETAIL",100]
["PEN013",{"$f":"Table_prices[[#This Row],[ITEMNMBR]]","v":"PEN013"},"Exfoliating Bath Gloves (Pair) -","RETAIL",100]
["PEN014",{"$f":"Table_prices[[#This Row],[ITEMNMBR]]","v":"PEN014"},"Moisturizing Bath Gloves (Pair) -","RETAIL",100]
["PEN015",{"$f":"Table_prices[[#This Row],[ITEMNMBR]]","v":"PEN015"},"Massaging Bath Brush - 12\" -","RETAIL",100]
["PEN016",{"$f":"Table_prices[[#This Row],[ITEMNMBR]]","v":"PEN016"},"Terry Cloth Slippers - Size 8","RETAIL",100]
["PEN017",{"$f":"Table_prices[[#This Row],[ITEMNMBR]]","v":"PEN017"},"Toe Separators by Bath Essentials - Pink -","RETAIL",100]
["PEN018",{"$f":"Table_prices[[#This Row],[ITEMNMBR]]","v":"PEN018"},"Wooden Pumice Brush -","RETAIL",100]
["PEN019",{"$f":"Table_prices[[#This Row],[ITEMNMBR]]","v":"PEN019"},"Blackberry Patch Blackberry Syrup 8oz","RETAIL",100]
["PEN020",{"$f":"Table_prices[[#This Row],[ITEMNMBR]]","v":"PEN020"},"Big Chocolate Dipper Asst Choc Pretzels 6pk","RETAIL",100]
["PEN021",{"$f":"Table_prices[[#This Row],[ITEMNMBR]]","v":"PEN021"},"Bathrobe and Slipper Set - White","RETAIL",100]
["PEN022",{"$f":"Table_prices[[#This Row],[ITEMNMBR]]","v":"PEN022"},"Bathrobe & Slipper Set - Blue","RETAIL",100]
["PEN023",{"$f":"Table_prices[[#This Row],[ITEMNMBR]]","v":"PEN023"},"Bathrobe and Slipper Set - Pink","RETAIL",100]
["PEN024",{"$f":"Table_prices[[#This Row],[ITEMNMBR]]","v":"PEN024"},"Baby Spa Wash Cloths Pink","RETAIL",100]
["PEN025",{"$f":"Table_prices[[#This Row],[ITEMNMBR]]","v":"PEN025"},"Baby Spa Wash Cloths Blue","RETAIL",100]
["PEN026",{"$f":"Table_prices[[#This Row],[ITEMNMBR]]","v":"PEN026"},"Custom : Atlanta Audio Visual - 4021 plus CSI items (Brian)","RETAIL",69.989999999999995]
["PEN027",{"$f":"Table_prices[[#This Row],[ITEMNMBR]]","v":"PEN027"},"Custom : Atlanta Audio Visual - 4023 plus CSI items (Brian)","RETAIL",149.99]
["PEN028",{"$f":"Table_prices[[#This Row],[ITEMNMBR]]","v":"PEN028"},"Custom : Atlanta Audio Visual - 4051 plus CSI items (Brian)","RETAIL",59.99]
["PEN029",{"$f":"Table_prices[[#This Row],[ITEMNMBR]]","v":"PEN029"},"Custom : Atlanta Audio Visual - 4101 plus CSI items (Brian)","RETAIL",49.99]
["PEN030",{"$f":"Table_prices[[#This Row],[ITEMNMBR]]","v":"PEN030"},"Custom : Atlanta Audio Visual - 5250 plus CSI items (Brian)","RETAIL",99.99]
["PEN031",{"$f":"Table_prices[[#This Row],[ITEMNMBR]]","v":"PEN031"},"Custom : Atlanta Audio Visual - 6821 plus CSI items (Brian)","RETAIL",39.99]
["PEN032",{"$f":"Table_prices[[#This Row],[ITEMNMBR]]","v":"PEN032"},"Custom : Atlanta Audio Visual - 5111 plus t shirts (Brian)","RETAIL",174.99]
["PEN033",{"$f":"Table_prices[[#This Row],[ITEMNMBR]]","v":"PEN033"},"Custom : Alliance Consumer Growth - csi items  (Brian)","RETAIL",22.99]
["PEN034",{"$f":"Table_prices[[#This Row],[ITEMNMBR]]","v":"PEN034"},"Custom : Alliance Consumer Growth - csi items 2014a  (Brian)","RETAIL",22.99]
["PEN035",{"$f":"Table_prices[[#This Row],[ITEMNMBR]]","v":"PEN035"},"Custom : Alliance Consumer Growth - csi items 2014b  (Brian)","RETAIL",22.99]
["PEN036",{"$f":"Table_prices[[#This Row],[ITEMNMBR]]","v":"PEN036"},"Custom : BTG -  cider, snacks, cookies, & chocolates  (Brian)","RETAIL",40]
["PEN037",{"$f":"Table_prices[[#This Row],[ITEMNMBR]]","v":"PEN037"},"Custom: Cash America - Candy - care package style (Brian)","RETAIL",34.99]
["PEN038",{"$f":"Table_prices[[#This Row],[ITEMNMBR]]","v":"PEN038"},"Custom: Cash America - Enjoyable Snacks Grab & Go Style  (Brian)","RETAIL",80]
["PEN039",{"$f":"Table_prices[[#This Row],[ITEMNMBR]]","v":"PEN039"},"Custom : Cellucap Manufacturing - Bountiful - no pears  (Brian)","RETAIL",99.99]
["PEN040",{"$f":"Table_prices[[#This Row],[ITEMNMBR]]","v":"PEN040"},"Custom : Cellucap Manufacturing - 5220 with fruits  (Brian)","RETAIL",149.99]
["PEN041",{"$f":"Table_prices[[#This Row],[ITEMNMBR]]","v":"PEN041"},"Custom : Colonial Systems - 5232 plus branded csi items  (Brian)","RETAIL",249.99]
["PEN042",{"$f":"Table_prices[[#This Row],[ITEMNMBR]]","v":"PEN042"},"Custom : Colonial Systems - 5235 plus branded csi items  (Brian)","RETAIL",149.99]
["PEN043",{"$f":"Table_prices[[#This Row],[ITEMNMBR]]","v":"PEN043"},"Custom :Delaney Corp. Services- Riesling, fruits, snacks and sweets   (Brian)","RETAIL",124.99]
["PEN044",{"$f":"Table_prices[[#This Row],[ITEMNMBR]]","v":"PEN044"},"Custom: Directi - snack basket (Brian)","RETAIL",40]
["PEN045",{"$f":"Table_prices[[#This Row],[ITEMNMBR]]","v":"PEN045"},"Custom : Sauvignon Blanc Basket - 1 of 2  (Brian)","RETAIL",200.99]
["PEN046",{"$f":"Table_prices[[#This Row],[ITEMNMBR]]","v":"PEN046"},"Custom : Sauvignon Blanc Basket - 2 of 2  (Brian)","RETAIL",200.99]
["PEN047",{"$f":"Table_prices[[#This Row],[ITEMNMBR]]","v":"PEN047"},"Custom : Malbec Basket - 1 of 2   (Brian)","RETAIL",380.99]
["PEN048",{"$f":"Table_prices[[#This Row],[ITEMNMBR]]","v":"PEN048"},"Custom : Malbec Basket - 2 of 2   (Brian)","RETAIL",380.99]
["PEN049",{"$f":"Table_prices[[#This Row],[ITEMNMBR]]","v":"PEN049"},"Custom : Pinot Noir  Basket - 1 of 2   (Brian)","RETAIL",309.99]
["PEN050",{"$f":"Table_prices[[#This Row],[ITEMNMBR]]","v":"PEN050"},"Custom : Pinot Noir  Basket - 2 of 2   (Brian)","RETAIL",309.99]
["PEN051",{"$f":"Table_prices[[#This Row],[ITEMNMBR]]","v":"PEN051"},"Custom : 18  Beer Bucket - 1 of 2   (Brian)","RETAIL",144.99]
["PEN052",{"$f":"Table_prices[[#This Row],[ITEMNMBR]]","v":"PEN052"},"Custom : 18  Beer Bucket - 2 of 2   (Brian)","RETAIL",144.99]
["PEN053",{"$f":"Table_prices[[#This Row],[ITEMNMBR]]","v":"PEN053"},"Custom: New Baby Boy with added treats for the parents  (Brian)","RETAIL",199.99]
["PEN054",{"$f":"Table_prices[[#This Row],[ITEMNMBR]]","v":"PEN054"},"Custom: Fluent - Champagne, Wine, Snacks & Sweets  (Brian)","RETAIL",1000]
["PEN055",{"$f":"Table_prices[[#This Row],[ITEMNMBR]]","v":"PEN055"},"Custom: Freemanxp - Wine, Beers, snacks and chocolates (Brian)","RETAIL",271.99]
["PEN056",{"$f":"Table_prices[[#This Row],[ITEMNMBR]]","v":"PEN056"},"Custom: Tea and Baked Goods  (Brian)","RETAIL",80]
["PEN057",{"$f":"Table_prices[[#This Row],[ITEMNMBR]]","v":"PEN057"},"Custom: Cookie Cake  (Brian)","RETAIL",21]
["PEN058",{"$f":"Table_prices[[#This Row],[ITEMNMBR]]","v":"PEN058"},"Custom: Hyundai - Purely Fruit - (Brian)","RETAIL",70]
["PEN059",{"$f":"Table_prices[[#This Row],[ITEMNMBR]]","v":"PEN059"},"Custom: HSM - 4052 plus envelope containing greeting card &  gift card","RETAIL",79.989999999999995]
["PEN060",{"$f":"Table_prices[[#This Row],[ITEMNMBR]]","v":"PEN060"},"Custom : ISC Group - Ultimate Coffee and Chocolates Gift Basket -  (Brian)","RETAIL",176.99]
["PEN061",{"$f":"Table_prices[[#This Row],[ITEMNMBR]]","v":"PEN061"},"Custom : Jetex - Champagne and Chocolates Suitcase (Brian)","RETAIL",389]
["PEP001",{"$f":"Table_prices[[#This Row],[ITEMNMBR]]","v":"PEP001"},"Custom: snacks and sweets (Brian)","RETAIL",40]
["PEP002",{"$f":"Table_prices[[#This Row],[ITEMNMBR]]","v":"PEP002"},"Custom - Chips, Snacks and Water - Hangover Fix","RETAIL",45]
["PET001",{"$f":"Table_prices[[#This Row],[ITEMNMBR]]","v":"PET001"},"Custom : Momentum Worldwide - Rose Bowl (Brian)","RETAIL",59.99]
["PET002",{"$f":"Table_prices[[#This Row],[ITEMNMBR]]","v":"PET002"},"Custom : Momentum Worldwide - Sugar Bowl (Brian)","RETAIL",42.99]
["PET003",{"$f":"Table_prices[[#This Row],[ITEMNMBR]]","v":"PET003"},"Custom : Momentum Worldwide - Championship (Brian)","RETAIL",70]
["PET004",{"$f":"Table_prices[[#This Row],[ITEMNMBR]]","v":"PET004"},"Custom : New York-themed gift (Brian)","RETAIL",60]
["PET006",{"$f":"Table_prices[[#This Row],[ITEMNMBR]]","v":"PET006"},"Custom : Texas-themed gift (Brian)","RETAIL",40]
["PET007",{"$f":"Table_prices[[#This Row],[ITEMNMBR]]","v":"PET007"},"Custom:  (Brian)","RETAIL",199.99]
["PET008",{"$f":"Table_prices[[#This Row],[ITEMNMBR]]","v":"PET008"},"Custom: Nextgear -  Holiday snacks (Brian)","RETAIL",134.99]
["PET009",{"$f":"Table_prices[[#This Row],[ITEMNMBR]]","v":"PET009"},"Custom: Nextgear -  Holiday popcorn and baked goods (Brian)","RETAIL",119.99]
["PET010",{"$f":"Table_prices[[#This Row],[ITEMNMBR]]","v":"PET010"},"Custom :Petroleum Filed Services Recruiting - 5523 + mug + card  (Brian)","RETAIL",31.99]
["PET011",{"$f":"Table_prices[[#This Row],[ITEMNMBR]]","v":"PET011"},"Custom :Petroleum Filed Services Recruiting - 4071 + mug + card  (Brian)","RETAIL",74.989999999999995]
["PET012",{"$f":"Table_prices[[#This Row],[ITEMNMBR]]","v":"PET012"},"Custom :Petroleum Filed Services Recruiting - 4072 + mug + card  (Brian)","RETAIL",104.99]
["PET013",{"$f":"Table_prices[[#This Row],[ITEMNMBR]]","v":"PET013"},"Custom :Petroleum Filed Services Recruiting - 4070 + mug + card  (Brian)","RETAIL",55.99]
["PET014",{"$f":"Table_prices[[#This Row],[ITEMNMBR]]","v":"PET014"},"Custom :Petroleum Filed Services Recruiting - 4070 + 2 mugs + card  (Brian)","RETAIL",55.99]
["PET015",{"$f":"Table_prices[[#This Row],[ITEMNMBR]]","v":"PET015"},"Custom :Petroleum Filed Services Recruiting - 4072 + 4 mugs + card  (Brian)","RETAIL",106.99]
["PET016",{"$f":"Table_prices[[#This Row],[ITEMNMBR]]","v":"PET016"},"Custom :Petroleum Filed Services Recruiting - 4071 + card  (Brian)","RETAIL",74.989999999999995]
["PET017",{"$f":"Table_prices[[#This Row],[ITEMNMBR]]","v":"PET017"},"Custom :Petroleum Filed Services Recruiting - 4070 + 3 mugs + card  (Brian)","RETAIL",58.99]
["PET018",{"$f":"Table_prices[[#This Row],[ITEMNMBR]]","v":"PET018"},"Custom :Petroleum Filed Services - 4070 + thermos +  mug + card  (Brian)","RETAIL",55.99]
["PIM001",{"$f":"Table_prices[[#This Row],[ITEMNMBR]]","v":"PIM001"},"Custom :Petroleum Filed Services - 4070 + 2 thermos +  2 mug + card  (Brian)","RETAIL",58.99]
["PIN001",{"$f":"Table_prices[[#This Row],[ITEMNMBR]]","v":"PIN001"},"Custom :RAS Data Svcs - Cakebread Red & White with snacks and sweets   (Brian)","RETAIL",469.99]
["POW001",{"$f":"Table_prices[[#This Row],[ITEMNMBR]]","v":"POW001"},"\"Custom\" Indulgent Belgian Supreme Tower","RETAIL",49.95]
["POW002",{"$f":"Table_prices[[#This Row],[ITEMNMBR]]","v":"POW002"},"Custom : New Twins - Bears, Snacks & Sweets   (Brian)","RETAIL",60]
["POW003",{"$f":"Table_prices[[#This Row],[ITEMNMBR]]","v":"POW003"},"Custom : Service Systems Assoc - Sauvignon Blanc cheese & crackers  (Brian)","RETAIL",110]
["POW004",{"$f":"Table_prices[[#This Row],[ITEMNMBR]]","v":"POW004"},"Custom : Summit Distributors - Christmas in LL Bean Tote  (Brian)","RETAIL",60]
["POW005",{"$f":"Table_prices[[#This Row],[ITEMNMBR]]","v":"POW005"},"Custom : Summit Distributors - Holiday Wine Basket (Brian)","RETAIL",60]
["PREMIUM",{"$f":"Table_prices[[#This Row],[ITEMNMBR]]","v":"PREMIUM"},"Custom: Tri Con Snow Removal (Brian)","RETAIL",150]
["PRG001",{"$f":"Table_prices[[#This Row],[ITEMNMBR]]","v":"PRG001"},"Custom: Tri Con Snow Removal 2 (Brian)","RETAIL",200]
["PRG002",{"$f":"Table_prices[[#This Row],[ITEMNMBR]]","v":"PRG002"},"Custom : TDS Telecom  - Baja Company - Welcome/Celebration - 4408  (Brian)","RETAIL",185.99]
["PRI001",{"$f":"Table_prices[[#This Row],[ITEMNMBR]]","v":"PRI001"},"Custom : TDS Telecom  - Baja Company - Welcome/Celebration - 4407  (Brian)","RETAIL",125.99]
["PRO001",{"$f":"Table_prices[[#This Row],[ITEMNMBR]]","v":"PRO001"},"Custom : TDS Telecom  - Baja Company - Welcome/Celebration - 4406  (Brian)","RETAIL",85.99]
["PST001",{"$f":"Table_prices[[#This Row],[ITEMNMBR]]","v":"PST001"},"Custom : TDS Telecom  - Baja Company - Welcome/Celebration - 5524  (Brian)","RETAIL",35.99]
["PST002",{"$f":"Table_prices[[#This Row],[ITEMNMBR]]","v":"PST002"},"Custom : TDS Telecom  - Baja Company - Welcome/Celebration - 4401  (Brian)","RETAIL",53.99]
["PST003",{"$f":"Table_prices[[#This Row],[ITEMNMBR]]","v":"PST003"},"Custom:Welch's - snacks and csi items (Brian)","RETAIL",70]
["PST004",{"$f":"Table_prices[[#This Row],[ITEMNMBR]]","v":"PST004"},"Custom : Wheel House Gifts - 5130 with added csi item -1-  (Brian)","RETAIL",49.99]
["PST005",{"$f":"Table_prices[[#This Row],[ITEMNMBR]]","v":"PST005"},"Custom : Wheel House Gifts - 5130 with added csi item -2-  (Brian)","RETAIL",49.99]
["PST006",{"$f":"Table_prices[[#This Row],[ITEMNMBR]]","v":"PST006"},"Custom : Wheel House Gifts - 5130 with added csi item -3-  (Brian)","RETAIL",49.99]
["PST007",{"$f":"Table_prices[[#This Row],[ITEMNMBR]]","v":"PST007"},"Custom : Wheel House Gifts - 4021 with added csi item   (Brian)","RETAIL",69.989999999999995]
["PST008",{"$f":"Table_prices[[#This Row],[ITEMNMBR]]","v":"PST008"},"Custom : Wheel House Gifts - 4404 with added csi items   (Brian)","RETAIL",79.989999999999995]
["PST009",{"$f":"Table_prices[[#This Row],[ITEMNMBR]]","v":"PST009"},"Custom : Wheel House Gifts - 5130 with added csi item -4-  (Brian)","RETAIL",49.99]
["PST010",{"$f":"Table_prices[[#This Row],[ITEMNMBR]]","v":"PST010"},"Custom : Wheel House Gifts - 5130 with added csi item -5-  (Brian)","RETAIL",49.99]
["PST011",{"$f":"Table_prices[[#This Row],[ITEMNMBR]]","v":"PST011"},"Custom : Wheel House Gifts - 5130 with added csi item -6-  (Brian)","RETAIL",49.99]
["PST012",{"$f":"Table_prices[[#This Row],[ITEMNMBR]]","v":"PST012"},"Custom : Wheel House Gifts - single bottle of red wine (Brian)","RETAIL",24.99]
["PST013",{"$f":"Table_prices[[#This Row],[ITEMNMBR]]","v":"PST013"},"Bear Creek Smokehouse Flavorfuls Black Bean Chili 7.5 oz","RETAIL",100]
["PST015",{"$f":"Table_prices[[#This Row],[ITEMNMBR]]","v":"PST015"},"Bear Creek Smokehouse Jalapeno Corncakes 12 oz.","RETAIL",100]
["PST016",{"$f":"Table_prices[[#This Row],[ITEMNMBR]]","v":"PST016"},"Craft Paper Roll - Shooter Machine  2100'ft roll","RETAIL",100]
["PST017",{"$f":"Table_prices[[#This Row],[ITEMNMBR]]","v":"PST017"},"Granny Smith Apple Chips by Bare Fruit - 2.2 oz. -","RETAIL",100]
["PST018",{"$f":"Table_prices[[#This Row],[ITEMNMBR]]","v":"PST018"},"Fuji Apple Chips by Bare Fruit - 2.2 oz. -","RETAIL",0]
["PST019",{"$f":"Table_prices[[#This Row],[ITEMNMBR]]","v":"PST019"},"Custom Christmas Classic for New Years","RETAIL",59.99]
["PST020",{"$f":"Table_prices[[#This Row],[ITEMNMBR]]","v":"PST020"},"Custom Christmas Premium for New Years","RETAIL",79.989999999999995]
["PST021",{"$f":"Table_prices[[#This Row],[ITEMNMBR]]","v":"PST021"},"Custom Christmas Deluxe for New Years","RETAIL",99.99]
["PST022",{"$f":"Table_prices[[#This Row],[ITEMNMBR]]","v":"PST022"},"Custom Christmas Ultimate for New Years","RETAIL",124.99]
["PST023",{"$f":"Table_prices[[#This Row],[ITEMNMBR]]","v":"PST023"},"Custom Christmas Corp Showstopper for New Years","RETAIL",149.99]
["PST024",{"$f":"Table_prices[[#This Row],[ITEMNMBR]]","v":"PST024"},"Custom Baskets for Apple","RETAIL",34]
["PST025",{"$f":"Table_prices[[#This Row],[ITEMNMBR]]","v":"PST025"},"Custom Snack Deluxe with 2 branded items (Billie)","RETAIL",99.99]
["PST026",{"$f":"Table_prices[[#This Row],[ITEMNMBR]]","v":"PST026"},"Custom Snack Deluxe with 1 branded item (Billie)","RETAIL",99.99]
["PST027",{"$f":"Table_prices[[#This Row],[ITEMNMBR]]","v":"PST027"},"Custom Halloween Basket / Popcorn","RETAIL",100]
["PST028",{"$f":"Table_prices[[#This Row],[ITEMNMBR]]","v":"PST028"},"Custom Halloween $100","RETAIL",100]
["PST029",{"$f":"Table_prices[[#This Row],[ITEMNMBR]]","v":"PST029"},"Custom Halloween $200 - Version 1","RETAIL",200]
["PST030",{"$f":"Table_prices[[#This Row],[ITEMNMBR]]","v":"PST030"},"Custom Halloween $200 - Version 2","RETAIL",200]
["PST031",{"$f":"Table_prices[[#This Row],[ITEMNMBR]]","v":"PST031"},"Whoopie Pie- Oatmeal 3.50 oz","RETAIL",100]
["PST032",{"$f":"Table_prices[[#This Row],[ITEMNMBR]]","v":"PST032"},"Whoopie Pie- Peanut Butter 3.25 oz","RETAIL",100]
["PST033",{"$f":"Table_prices[[#This Row],[ITEMNMBR]]","v":"PST033"},"Whoopie Pie- Strawberry 3.25 oz","RETAIL",100]
["PST034",{"$f":"Table_prices[[#This Row],[ITEMNMBR]]","v":"PST034"},"Whoopie Pie- Classic 3.25 oz","RETAIL",100]
["PST035",{"$f":"Table_prices[[#This Row],[ITEMNMBR]]","v":"PST035"},"Brownie- Fudge Walnut 4 oz","RETAIL",100]
["PST036",{"$f":"Table_prices[[#This Row],[ITEMNMBR]]","v":"PST036"},"Brownie- Peanut Butter Chip 4 oz","RETAIL",100]
["PST037",{"$f":"Table_prices[[#This Row],[ITEMNMBR]]","v":"PST037"},"Cheesecake - Full Size - Brownie  4 oz","RETAIL",100]
["PST038",{"$f":"Table_prices[[#This Row],[ITEMNMBR]]","v":"PST038"},"Brownie- Belgian Chocolate Chunk 3.75 oz","RETAIL",100]
["PST039",{"$f":"Table_prices[[#This Row],[ITEMNMBR]]","v":"PST039"},"Blondie- Butterscotch 3.50 oz","RETAIL",100]
["QUA001",{"$f":"Table_prices[[#This Row],[ITEMNMBR]]","v":"QUA001"},"Blondie- White Chocolate Mac 3.50 oz","RETAIL",100]
["QUA002",{"$f":"Table_prices[[#This Row],[ITEMNMBR]]","v":"QUA002"},"Cookie- White Chocolate Mac (2 pack)","RETAIL",100]
["QUA003",{"$f":"Table_prices[[#This Row],[ITEMNMBR]]","v":"QUA003"},"Oatmeal Raisin Cookies - 2 pack","RETAIL",100]
["QUA004",{"$f":"Table_prices[[#This Row],[ITEMNMBR]]","v":"QUA004"},"Cookie- Chocolate Chip (2 Pack)","RETAIL",100]
["RAY001",{"$f":"Table_prices[[#This Row],[ITEMNMBR]]","v":"RAY001"},"Peanut Butter Cookies - 2 pack","RETAIL",100]
["RDAT01",{"$f":"Table_prices[[#This Row],[ITEMNMBR]]","v":"RDAT01"},"Custom (P-P bucket) yellow and gold (Billie)","RETAIL",39.99]
["RDBC01",{"$f":"Table_prices[[#This Row],[ITEMNMBR]]","v":"RDBC01"},"Custom -The Business Journals  basket - Allstate - Christine - Deluxe Junk Food Bucket (Billie)","RETAIL",59.99]
["RDBC02",{"$f":"Table_prices[[#This Row],[ITEMNMBR]]","v":"RDBC02"},"Custom -The Business Journals  basket - GM - Lindsey - Deluxe Junk Food Bucket (Billie)","RETAIL",59.99]
["RDBC03",{"$f":"Table_prices[[#This Row],[ITEMNMBR]]","v":"RDBC03"},"Custom -The Business Journals  basket - Lincoln - Kristen - Deluxe Junk Food Bucket (Billie)","RETAIL",59.99]
["RDBC04",{"$f":"Table_prices[[#This Row],[ITEMNMBR]]","v":"RDBC04"},"Custom Wine Basket","RETAIL",69.989999999999995]
["RDBC05",{"$f":"Table_prices[[#This Row],[ITEMNMBR]]","v":"RDBC05"},"Custom Dom and Chocolates (Billie)","RETAIL",200]
["RDBL01",{"$f":"Table_prices[[#This Row],[ITEMNMBR]]","v":"RDBL01"},"Custom Starbucks Basket (Billie)","RETAIL",75]
["RDBU01",{"$f":"Table_prices[[#This Row],[ITEMNMBR]]","v":"RDBU01"},"Custom Care Package (Billie)","RETAIL",30]
["RDC01",{"$f":"Table_prices[[#This Row],[ITEMNMBR]]","v":"RDC01"},"Custom Choc O Lantern with custom ribbon","RETAIL",34.99]
["RDCE01",{"$f":"Table_prices[[#This Row],[ITEMNMBR]]","v":"RDCE01"},"Custom Chocolate Basket","RETAIL",48]
["RDCR01",{"$f":"Table_prices[[#This Row],[ITEMNMBR]]","v":"RDCR01"},"custom corporate chocolates (Billie)","RETAIL",63]
["RDCR02",{"$f":"Table_prices[[#This Row],[ITEMNMBR]]","v":"RDCR02"},"Custom D- R- Horton -summer- (Billie)","RETAIL",25]
["RDCZ01",{"$f":"Table_prices[[#This Row],[ITEMNMBR]]","v":"RDCZ01"},"Custom Danzer $30 (no wine)","RETAIL",30]
["RDDR01",{"$f":"Table_prices[[#This Row],[ITEMNMBR]]","v":"RDDR01"},"Custom Danzer $50 (no wine)","RETAIL",50]
["RDEV01",{"$f":"Table_prices[[#This Row],[ITEMNMBR]]","v":"RDEV01"},"Custom Danzer $75 (no wine)","RETAIL",75]
["RDFF01",{"$f":"Table_prices[[#This Row],[ITEMNMBR]]","v":"RDFF01"},"Custom Danzer $75 (with wine)","RETAIL",75]
["RDFF02",{"$f":"Table_prices[[#This Row],[ITEMNMBR]]","v":"RDFF02"},"Custom Danzer $100 (no wine)","RETAIL",100]
["RDFFO1",{"$f":"Table_prices[[#This Row],[ITEMNMBR]]","v":"RDFFO1"},"Custom Danzer $100 (with wine)","RETAIL",100]
["RDIC01",{"$f":"Table_prices[[#This Row],[ITEMNMBR]]","v":"RDIC01"},"Custom Danzer $150 (no wine)","RETAIL",150]
["RDIT01",{"$f":"Table_prices[[#This Row],[ITEMNMBR]]","v":"RDIT01"},"Custom Danzer $150 (with wine)","RETAIL",150]
["RDJA01",{"$f":"Table_prices[[#This Row],[ITEMNMBR]]","v":"RDJA01"},"Custom * In the mood for some BBQ*  (Billie)","RETAIL",45]
["RDJA02",{"$f":"Table_prices[[#This Row],[ITEMNMBR]]","v":"RDJA02"},"Lemon Garlic & Wasabi Ginger Finishing Sauces (in wooden crate) by Bittersweet Herb Farm -  9 oz.-","RETAIL",100]
["RDJL01",{"$f":"Table_prices[[#This Row],[ITEMNMBR]]","v":"RDJL01"},"Wasabi Ginger Finishing Sauce by Bittersweet Herb Farm  -  9 oz. -","RETAIL",100]
["RDMF01",{"$f":"Table_prices[[#This Row],[ITEMNMBR]]","v":"RDMF01"},"Custom Care Pkg (Billie)","RETAIL",44.99]
["RDMS01",{"$f":"Table_prices[[#This Row],[ITEMNMBR]]","v":"RDMS01"},"Custom Snack Basket ( Billie )","RETAIL",192.3]
["RDMS02",{"$f":"Table_prices[[#This Row],[ITEMNMBR]]","v":"RDMS02"},"Custom cookie samplers plus visa cards ( Billie )","RETAIL",164.99]
["RDMS03",{"$f":"Table_prices[[#This Row],[ITEMNMBR]]","v":"RDMS03"},"Custom Xmas Stack with custom ribbon (Billie)","RETAIL",37.99]
["RDPB01",{"$f":"Table_prices[[#This Row],[ITEMNMBR]]","v":"RDPB01"},"Custom Xmas Classic with custom ribbons (Billie)","RETAIL",59.99]
["RDRC01",{"$f":"Table_prices[[#This Row],[ITEMNMBR]]","v":"RDRC01"},"Custom Xmas Deluxe with custom ribbons (Billie)","RETAIL",99.99]
["RDSO01",{"$f":"Table_prices[[#This Row],[ITEMNMBR]]","v":"RDSO01"},"Custom fruit & brownies ( Billie)","RETAIL",100]
["RDTD01",{"$f":"Table_prices[[#This Row],[ITEMNMBR]]","v":"RDTD01"},"Custom Junk Food Bucket ( Billie )","RETAIL",39.99]
["RDWG01",{"$f":"Table_prices[[#This Row],[ITEMNMBR]]","v":"RDWG01"},"Custom fruit & brownies (Billie)","RETAIL",100]
["REFUND",{"$f":"Table_prices[[#This Row],[ITEMNMBR]]","v":"REFUND"},"Custom fruit & brownie basket (Billie)","RETAIL",99.99]
["REFUND DROP SHIP",{"$f":"Table_prices[[#This Row],[ITEMNMBR]]","v":"REFUND DROP SHIP"},"Custom fruit & brownies (Billie)","RETAIL",50]
["REFUND FRUIT & GOURMET",{"$f":"Table_prices[[#This Row],[ITEMNMBR]]","v":"REFUND FRUIT & GOURMET"},"Custom fruit & brownie basket (Billie)","RETAIL",100]
["REFUND GIFTWARE",{"$f":"Table_prices[[#This Row],[ITEMNMBR]]","v":"REFUND GIFTWARE"},"Custom cheese crackers and dove chocolates for Mars-  (Billie)","RETAIL",130]
["REFUND WIRE OUT",{"$f":"Table_prices[[#This Row],[ITEMNMBR]]","v":"REFUND WIRE OUT"},"Custom wine cheese crackers and dove chocolates for Mars-  (Billie)","RETAIL",130]
["REFUND WIRE OUT FEE",{"$f":"Table_prices[[#This Row],[ITEMNMBR]]","v":"REFUND WIRE OUT FEE"},"Custom wine cheese crackers and dove chocolates for Mars-  (Billie)","RETAIL",75]
["REFUND-SHIPPING",{"$f":"Table_prices[[#This Row],[ITEMNMBR]]","v":"REFUND-SHIPPING"},"Custom cheese crackers and dove chocolates for Mars-  (Billie)","RETAIL",75]
["RHBB01",{"$f":"Table_prices[[#This Row],[ITEMNMBR]]","v":"RHBB01"},"Custom Popcorn Sampler - 7400 (Billie)","RETAIL",29.99]
["RHBN01",{"$f":"Table_prices[[#This Row],[ITEMNMBR]]","v":"RHBN01"},"Custom Care Package ( Billie )","RETAIL",27]
["RHBN02",{"$f":"Table_prices[[#This Row],[ITEMNMBR]]","v":"RHBN02"},"Custom cider - fruit - snacks - chocolates (Billie)","RETAIL",100]
["RHBN03",{"$f":"Table_prices[[#This Row],[ITEMNMBR]]","v":"RHBN03"},"Concole Law Custom Baskets","RETAIL",65]
["RHBN04",{"$f":"Table_prices[[#This Row],[ITEMNMBR]]","v":"RHBN04"},"custom snack plus csi items  (Billie)","RETAIL",35]
["RHBN05",{"$f":"Table_prices[[#This Row],[ITEMNMBR]]","v":"RHBN05"},"custom snack plus csi items  (Billie)","RETAIL",35]
["RHBN06",{"$f":"Table_prices[[#This Row],[ITEMNMBR]]","v":"RHBN06"},"Custom Healthy Organics (Billie)","RETAIL",39.99]
["RHCI01",{"$f":"Table_prices[[#This Row],[ITEMNMBR]]","v":"RHCI01"},"Custom : Healthy Classic (Billie)","RETAIL",50]
["RHCR01",{"$f":"Table_prices[[#This Row],[ITEMNMBR]]","v":"RHCR01"},"Custom : Healthy Classic (Billie)","RETAIL",50]
["RHCR02",{"$f":"Table_prices[[#This Row],[ITEMNMBR]]","v":"RHCR02"},"Custom 250 units - 9 different products (Billie)","RETAIL",10000]
["RHCR03",{"$f":"Table_prices[[#This Row],[ITEMNMBR]]","v":"RHCR03"},"Custom Gum Box ( Billie )","RETAIL",29.99]
["RHDL01",{"$f":"Table_prices[[#This Row],[ITEMNMBR]]","v":"RHDL01"},"Custom Gum Box ( Billie )","RETAIL",29.99]
["RHELV1",{"$f":"Table_prices[[#This Row],[ITEMNMBR]]","v":"RHELV1"},"Custom Halloween mug with jelly beans (Billie)","RETAIL",25.99]
["RHELV2",{"$f":"Table_prices[[#This Row],[ITEMNMBR]]","v":"RHELV2"},"Custom Halloween mug with gum  (Billie)","RETAIL",24.99]
["RHFD01",{"$f":"Table_prices[[#This Row],[ITEMNMBR]]","v":"RHFD01"},"Red Bday Box with Cookie (85) and Cards","RETAIL",11]
["RHFF01",{"$f":"Table_prices[[#This Row],[ITEMNMBR]]","v":"RHFF01"},"Custom Basket","RETAIL",69.989999999999995]
["RHFF02",{"$f":"Table_prices[[#This Row],[ITEMNMBR]]","v":"RHFF02"},"Custom Cakebread VIneyard Tour","RETAIL",469.99]
["RHFF03",{"$f":"Table_prices[[#This Row],[ITEMNMBR]]","v":"RHFF03"},"Custom - 2 Wines, 6 Beers and Snacks","RETAIL",120]
["RHFF04",{"$f":"Table_prices[[#This Row],[ITEMNMBR]]","v":"RHFF04"},"Custom - 1 Wine, 4 Beers and Snacks","RETAIL",120]
["RHFW01",{"$f":"Table_prices[[#This Row],[ITEMNMBR]]","v":"RHFW01"},"Robert E Nolan Snack Basket","RETAIL",36]
["RHFW05",{"$f":"Table_prices[[#This Row],[ITEMNMBR]]","v":"RHFW05"},"Custom Brown & Haley Gold Truffles","RETAIL",5]
["RHGS01",{"$f":"Table_prices[[#This Row],[ITEMNMBR]]","v":"RHGS01"},"Custom -- The Business Journals custom basket w/ Marketing Material -- Classic Sweets (Billie)","RETAIL",59.99]
["RHGS02",{"$f":"Table_prices[[#This Row],[ITEMNMBR]]","v":"RHGS02"},"Custom -The Business Journals custom basket w/ Marketing Material - Deluxe Junk Food Bucket (Billie)","RETAIL",59.99]
["RHHH01",{"$f":"Table_prices[[#This Row],[ITEMNMBR]]","v":"RHHH01"},"Custom -The Business Journals custom basket w/ Marketing Material - Healthy Classic (Billie)","RETAIL",59.99]
["RHHH02",{"$f":"Table_prices[[#This Row],[ITEMNMBR]]","v":"RHHH02"},"Custom -The Business Journals customized w/ Marketing Material - Delx Junk Food Bucket (Billie)","RETAIL",59.99]
["RHI001",{"$f":"Table_prices[[#This Row],[ITEMNMBR]]","v":"RHI001"},"Custom -The Business Journals  w/ Marketing Material - Moet & sweets  in a bucket (Billie)","RETAIL",75]
["RHI003",{"$f":"Table_prices[[#This Row],[ITEMNMBR]]","v":"RHI003"},"Custom -The Business Journals custom basket w/ Marketing Material - Snack Stack (Billie)","RETAIL",34.99]
["RHI004",{"$f":"Table_prices[[#This Row],[ITEMNMBR]]","v":"RHI004"},"Custom -The Business Journals custom basket w/ Marketing Material - popcorn (Billie)","RETAIL",39.99]
["RHI005",{"$f":"Table_prices[[#This Row],[ITEMNMBR]]","v":"RHI005"},"Small Square Basket Plus Honey Mustard $44.99","RETAIL",44.99]
["RHLL01",{"$f":"Table_prices[[#This Row],[ITEMNMBR]]","v":"RHLL01"},"Small Square Basket Plus Honey Mustard $44.99","RETAIL",44.99]
["RHLL02",{"$f":"Table_prices[[#This Row],[ITEMNMBR]]","v":"RHLL02"},"Custom TD Bank Basket ( Billie )","RETAIL",49.99]
["RHLV02",{"$f":"Table_prices[[#This Row],[ITEMNMBR]]","v":"RHLV02"},"Custom Snack","RETAIL",26]
["RHLVO2",{"$f":"Table_prices[[#This Row],[ITEMNMBR]]","v":"RHLVO2"},"Custom Hess- cheese- crackers- nuts and chocolates  (Billie)","RETAIL",98.99]
["RHMK01",{"$f":"Table_prices[[#This Row],[ITEMNMBR]]","v":"RHMK01"},"Custom Vontobel Asset Management Chocolate Tower","RETAIL",99.99]
["RHMON1",{"$f":"Table_prices[[#This Row],[ITEMNMBR]]","v":"RHMON1"},"Custom - Tex-Mex Stack -  ribbon colors - (Billie)","RETAIL",34.99]
["RHMON2",{"$f":"Table_prices[[#This Row],[ITEMNMBR]]","v":"RHMON2"},"Custom Basket","RETAIL",250]
["RHMON3",{"$f":"Table_prices[[#This Row],[ITEMNMBR]]","v":"RHMON3"},"Biscottea Blueberry Tea Shortbread 1.4 oz","RETAIL",100]
["RHMS01",{"$f":"Table_prices[[#This Row],[ITEMNMBR]]","v":"RHMS01"},"Biscottea Chai Tea Shortbread 1.4 oz","RETAIL",100]
["RHPC01",{"$f":"Table_prices[[#This Row],[ITEMNMBR]]","v":"RHPC01"},"Biscottea Earl Grey Tea Shortbread 1.4 oz","RETAIL",100]
["RHPC02",{"$f":"Table_prices[[#This Row],[ITEMNMBR]]","v":"RHPC02"},"Biscottea Honeybush Tea Shortbread 1.4 oz","RETAIL",100]
["RHPS01",{"$f":"Table_prices[[#This Row],[ITEMNMBR]]","v":"RHPS01"},"Amber Orchard Fresh Fruit Basket $49.99","RETAIL",33.44]
["RHPS02",{"$f":"Table_prices[[#This Row],[ITEMNMBR]]","v":"RHPS02"},"From the Orchard Gourmet Gift Basket $69.99","RETAIL",39]
["RHPS03",{"$f":"Table_prices[[#This Row],[ITEMNMBR]]","v":"RHPS03"},"Gourmet Harvest Fruit and Snack Basket $99.99","RETAIL",63.5]
["RHPS04",{"$f":"Table_prices[[#This Row],[ITEMNMBR]]","v":"RHPS04"},"Golden Harveset Fruit and Snack Basket $129.99","RETAIL",81]
["RHSB01",{"$f":"Table_prices[[#This Row],[ITEMNMBR]]","v":"RHSB01"},"Gourmet Harvest Tower $64.99","RETAIL",40.54]
["RHSB02",{"$f":"Table_prices[[#This Row],[ITEMNMBR]]","v":"RHSB02"},"Good Cheer Holiday Gift Tin $49.99","RETAIL",27.71]
["RHTB01",{"$f":"Table_prices[[#This Row],[ITEMNMBR]]","v":"RHTB01"},"Winter Wishes Gourmet Snack Gift Basket $59.99","RETAIL",31.98]
["RHVL01",{"$f":"Table_prices[[#This Row],[ITEMNMBR]]","v":"RHVL01"},"Enchanted Seasons Snack Gift Basket $79.99","RETAIL",44.01]
["RHVL03",{"$f":"Table_prices[[#This Row],[ITEMNMBR]]","v":"RHVL03"},"Yuletide Treats Holiday Gift Basket $99.99","RETAIL",56.91]
["RHWGLD",{"$f":"Table_prices[[#This Row],[ITEMNMBR]]","v":"RHWGLD"},"Happiest Holidays Gourmet Snack Basket $249.99","RETAIL",167.94]
["RHWGLI",{"$f":"Table_prices[[#This Row],[ITEMNMBR]]","v":"RHWGLI"},"Superior Snacks Gourmet Gift Basket $99.99","RETAIL",51.95]
["RHWGMD",{"$f":"Table_prices[[#This Row],[ITEMNMBR]]","v":"RHWGMD"},"Merry and Bright Holiday Gift Tower $39.99","RETAIL",20.07]
["RHWGMI",{"$f":"Table_prices[[#This Row],[ITEMNMBR]]","v":"RHWGMI"},"President's Choice Cheesecake Sampler","RETAIL",33.83]
["RHWGSD",{"$f":"Table_prices[[#This Row],[ITEMNMBR]]","v":"RHWGSD"},"Chocolate Lovers Cheesecake Sampler","RETAIL",32.04]
["RHWGSI",{"$f":"Table_prices[[#This Row],[ITEMNMBR]]","v":"RHWGSI"},"Gourmet Cheesecake Sampler","RETAIL",32.04]
["RIT001",{"$f":"Table_prices[[#This Row],[ITEMNMBR]]","v":"RIT001"},"Dried Fruit Platter - 20 oz. -","RETAIL",17.5]
["ROB001",{"$f":"Table_prices[[#This Row],[ITEMNMBR]]","v":"ROB001"},"Dried Fruit & Nut Platter","RETAIL",29.51]
["ROB002",{"$f":"Table_prices[[#This Row],[ITEMNMBR]]","v":"ROB002"},"Deluxe Chocolate Popcorn Sampler Tin - Triple Chocolate Caramel 3.5 Gallon","RETAIL",21.51]
["ROB003",{"$f":"Table_prices[[#This Row],[ITEMNMBR]]","v":"ROB003"},"Premium Sweet Popcorn Trio - Tuxedo, Salted Caramel, Sea Salt & Pepper Kettlecorn","RETAIL",21.51]
["ROB004",{"$f":"Table_prices[[#This Row],[ITEMNMBR]]","v":"ROB004"},"Welch's Fruit Snacks by Welch's 2.25 OZ","RETAIL",100]
["ROB005",{"$f":"Table_prices[[#This Row],[ITEMNMBR]]","v":"ROB005"},"Cheese Crackers W/ PB by Austin- 1.38 oz.-","RETAIL",100]
["ROB006",{"$f":"Table_prices[[#This Row],[ITEMNMBR]]","v":"ROB006"},"Ritz Crackers and Cheese Dip by Kraft- .95 oz.-","RETAIL",100]
["ROB007",{"$f":"Table_prices[[#This Row],[ITEMNMBR]]","v":"ROB007"},"Pringles Snack Stacks by Procter & Gamble- .74 oz.-","RETAIL",100]
["ROB008",{"$f":"Table_prices[[#This Row],[ITEMNMBR]]","v":"ROB008"},"Snyder's Pretzels by Snyder's of Hanover- 1.5 oz-","RETAIL",100]
["ROB009",{"$f":"Table_prices[[#This Row],[ITEMNMBR]]","v":"ROB009"},"Nacho Cheese Dorito's by Frito Lay - 1 oz. -","RETAIL",100]
["ROB010",{"$f":"Table_prices[[#This Row],[ITEMNMBR]]","v":"ROB010"},"Kashi Chewy Granola Bars by Kashi Company- 1.23 oz.-","RETAIL",100]
["ROB011",{"$f":"Table_prices[[#This Row],[ITEMNMBR]]","v":"ROB011"},"O Redenbacher Smart Pop /con Agra- 2.9 oz-","RETAIL",100]
["ROB012",{"$f":"Table_prices[[#This Row],[ITEMNMBR]]","v":"ROB012"},"V8 Vegetable Juice By Campbell's Soup Company- 5.5 oz.-","RETAIL",100]
["ROB013",{"$f":"Table_prices[[#This Row],[ITEMNMBR]]","v":"ROB013"},"Swiss Miss Milk Choc Cocoa by Con Agra- 1 oz.-","RETAIL",100]
["ROB014",{"$f":"Table_prices[[#This Row],[ITEMNMBR]]","v":"ROB014"},"Yoo-Hoo Chocolate Drink by Yoo-Hoo- 6.5 oz-","RETAIL",100]
["ROD001",{"$f":"Table_prices[[#This Row],[ITEMNMBR]]","v":"ROD001"},"Fruit Punch Gatorade by The Gatorade Company- 20 oz.-","RETAIL",100]
["ROD002",{"$f":"Table_prices[[#This Row],[ITEMNMBR]]","v":"ROD002"},"Healthy Choice Micro Soup by Con Agra- 15 oz.-","RETAIL",100]
["ROY001",{"$f":"Table_prices[[#This Row],[ITEMNMBR]]","v":"ROY001"},"Healthy Choice Fresh Mixers by Con Agra- 6 oz-","RETAIL",100]
["RWG001",{"$f":"Table_prices[[#This Row],[ITEMNMBR]]","v":"RWG001"},"Easy Mac and Cheese Dinner by Kraft.- 2.05 oz-","RETAIL",100]
["RWG002",{"$f":"Table_prices[[#This Row],[ITEMNMBR]]","v":"RWG002"},"Chow Mein Teriyaki Beef by Nissin Foods- 4 oz.-","RETAIL",100]
["SAB001",{"$f":"Table_prices[[#This Row],[ITEMNMBR]]","v":"SAB001"},"Instant Lunch Ramen Noodles With Chicken And Veg by Maruchan-","RETAIL",100]
["SAC001",{"$f":"Table_prices[[#This Row],[ITEMNMBR]]","v":"SAC001"},"Chef Boyardee Micro by Con Agra- 7.5 oz.-","RETAIL",100]
["SAC002",{"$f":"Table_prices[[#This Row],[ITEMNMBR]]","v":"SAC002"},"Cinnabon Original by Kellogg- 1.3 oz.-","RETAIL",100]
["SAM001",{"$f":"Table_prices[[#This Row],[ITEMNMBR]]","v":"SAM001"},"Quaker Instant Oatmeal- 1.39 oz-","RETAIL",100]
["SAM002",{"$f":"Table_prices[[#This Row],[ITEMNMBR]]","v":"SAM002"},"Quaker Oatmeal to Go Breakfasst Bars by Quaker Oats","RETAIL",100]
["SAM003",{"$f":"Table_prices[[#This Row],[ITEMNMBR]]","v":"SAM003"},"Cereal Box Individual Size by Kellogg- 1.09 oz-","RETAIL",100]
["SAM004",{"$f":"Table_prices[[#This Row],[ITEMNMBR]]","v":"SAM004"},"Del Monte Lite Fruit Cup by Del Monte Foods- 4.oz-","RETAIL",100]
["SAM005",{"$f":"Table_prices[[#This Row],[ITEMNMBR]]","v":"SAM005"},"Special K Bar by Kellogg's  3 Variety .8oz","RETAIL",100]
["SAM006",{"$f":"Table_prices[[#This Row],[ITEMNMBR]]","v":"SAM006"},"Fritos Chips by Frito Lay","RETAIL",100]
["SAM007",{"$f":"Table_prices[[#This Row],[ITEMNMBR]]","v":"SAM007"},"Lays Potato Chips","RETAIL",100]
["SAM008",{"$f":"Table_prices[[#This Row],[ITEMNMBR]]","v":"SAM008"},"Blue Crab Bay Co. Barnacles Snack Mix 8 oz.","RETAIL",100]
["SAM009",{"$f":"Table_prices[[#This Row],[ITEMNMBR]]","v":"SAM009"},"Beanpod Candles Jarred Soy Candle - Beach Walk 16 oz.","RETAIL",100]
["SAM010",{"$f":"Table_prices[[#This Row],[ITEMNMBR]]","v":"SAM010"},"Beanpod Candles Jarred Soy Candle - Earthly Embrace 8 oz.","RETAIL",100]
["SAM012",{"$f":"Table_prices[[#This Row],[ITEMNMBR]]","v":"SAM012"},"Beanpod Candles Jarred Soy Candle - Cherry Almond 4.5 oz","RETAIL",100]
["SAM013",{"$f":"Table_prices[[#This Row],[ITEMNMBR]]","v":"SAM013"},"Beanpod Candles Jarred Soy Candle - Rosebud 8 oz.","RETAIL",100]
["SAM014",{"$f":"Table_prices[[#This Row],[ITEMNMBR]]","v":"SAM014"},"Bean Pod 4.5 oz Candle","RETAIL",100]
["SAM015",{"$f":"Table_prices[[#This Row],[ITEMNMBR]]","v":"SAM015"},"Bean Pod 8 oz Candle","RETAIL",100]
["SAM016",{"$f":"Table_prices[[#This Row],[ITEMNMBR]]","v":"SAM016"},"Bean Pod 16 oz Candle","RETAIL",100]
["SAM018",{"$f":"Table_prices[[#This Row],[ITEMNMBR]]","v":"SAM018"},"Bean Pod 25 oz Candle","RETAIL",100]
["SAM019",{"$f":"Table_prices[[#This Row],[ITEMNMBR]]","v":"SAM019"},"Bean Pod Serenity 8 oz Candle","RETAIL",100]
["SAM020",{"$f":"Table_prices[[#This Row],[ITEMNMBR]]","v":"SAM020"},"Bean Pod Lavender 8 oz Candle","RETAIL",100]
["SAM021",{"$f":"Table_prices[[#This Row],[ITEMNMBR]]","v":"SAM021"},"Bean Pod Ocean Mist 16 oz Candle","RETAIL",100]
["SAM022",{"$f":"Table_prices[[#This Row],[ITEMNMBR]]","v":"SAM022"},"Bean Pod Fresh LInen 4.5 oz Candle","RETAIL",100]
["SAM023",{"$f":"Table_prices[[#This Row],[ITEMNMBR]]","v":"SAM023"},"Bean Pod Earthly Embrace 4.5 oz Candle","RETAIL",100]
["SAM024",{"$f":"Table_prices[[#This Row],[ITEMNMBR]]","v":"SAM024"},"Bean Pod McIntosh Apple 4.5 oz Candle","RETAIL",100]
["SAM025",{"$f":"Table_prices[[#This Row],[ITEMNMBR]]","v":"SAM025"},"Bean Pod Lilac 4.5 oz Candle","RETAIL",100]
["SAM026",{"$f":"Table_prices[[#This Row],[ITEMNMBR]]","v":"SAM026"},"Bean Pod Raspberry Lemonade  4.5 oz Candle","RETAIL",100]
["SAM027",{"$f":"Table_prices[[#This Row],[ITEMNMBR]]","v":"SAM027"},"Earthly Embrace Soy Candle by Beanpod Soy Basics - 16 oz. -","RETAIL",100]
["SAM028",{"$f":"Table_prices[[#This Row],[ITEMNMBR]]","v":"SAM028"},"Pure Butter Shortbread Fingers by Dean's of Scotland - 4.6 oz. -","RETAIL",100]
["SAM029",{"$f":"Table_prices[[#This Row],[ITEMNMBR]]","v":"SAM029"},"Baked Potato Sticks by Bodacious Food Company - 5 oz. -","RETAIL",100]
["SAM030",{"$f":"Table_prices[[#This Row],[ITEMNMBR]]","v":"SAM030"},"Bogdons  Mint Sticks in Snowbear Box 2.63oz","RETAIL",100]
["SAM031",{"$f":"Table_prices[[#This Row],[ITEMNMBR]]","v":"SAM031"},"Double Dipped Mint Candy Sticks by Bogdon's - 20 sticks -","RETAIL",100]
["SAM032",{"$f":"Table_prices[[#This Row],[ITEMNMBR]]","v":"SAM032"},"Chickadee Premium Coffee","RETAIL",100]
["SAM033",{"$f":"Table_prices[[#This Row],[ITEMNMBR]]","v":"SAM033"},"Boston Cookies- Chocolate Chip","RETAIL",100]
["SAM034",{"$f":"Table_prices[[#This Row],[ITEMNMBR]]","v":"SAM034"},"Burpee Flower Seeds","RETAIL",100]
["SAM035",{"$f":"Table_prices[[#This Row],[ITEMNMBR]]","v":"SAM035"},"Brad's Organic Peanut Butter - Smooth 18 oz","RETAIL",100]
["SAM036",{"$f":"Table_prices[[#This Row],[ITEMNMBR]]","v":"SAM036"},"Organic Mild Salsa by Brad's - 16 oz. -","RETAIL",100]
["SAM037",{"$f":"Table_prices[[#This Row],[ITEMNMBR]]","v":"SAM037"},"Chocolate Chip Chewy Cookie by Brent & Sams - 1.075 oz","RETAIL",100]
["SAM038",{"$f":"Table_prices[[#This Row],[ITEMNMBR]]","v":"SAM038"},"Brent & Sams Cookies - Chocolate Chip 7 oz.","RETAIL",100]
["SAM039",{"$f":"Table_prices[[#This Row],[ITEMNMBR]]","v":"SAM039"},"Brent & Sams Cookies - Chocolate Chip Pecan 2 oz.","RETAIL",100]
["SAM040",{"$f":"Table_prices[[#This Row],[ITEMNMBR]]","v":"SAM040"},"Brent & Sams Cookies - Chocolate Chip Pecan 7 oz.","RETAIL",100]
["SAM041",{"$f":"Table_prices[[#This Row],[ITEMNMBR]]","v":"SAM041"},"Brent & Sams Cookies - Key Lime White Chocolate 2 oz.","RETAIL",100]
["SAM042",{"$f":"Table_prices[[#This Row],[ITEMNMBR]]","v":"SAM042"},"Key Lime White Chocolate Chip Cookies by Brent & Sams - 7 oz. -","RETAIL",100]
["SAM043",{"$f":"Table_prices[[#This Row],[ITEMNMBR]]","v":"SAM043"},"Brent & Sams Cookies - Oatmeal Raisin Pecan 2.5 oz.","RETAIL",100]
["SAM049",{"$f":"Table_prices[[#This Row],[ITEMNMBR]]","v":"SAM049"},"Brent & Sams Cookies - Pure Natural Chocolate Chip 7 oz.","RETAIL",100]
["SAM050",{"$f":"Table_prices[[#This Row],[ITEMNMBR]]","v":"SAM050"},"Brent & Sams Cookies - Pure Natural Chocolate Chip Pecan 7 oz.","RETAIL",100]
["SAM051",{"$f":"Table_prices[[#This Row],[ITEMNMBR]]","v":"SAM051"},"Brent & Sams Cookies - Pure Natural Key Lime White Chocolate 7 oz.","RETAIL",100]
["SAM052",{"$f":"Table_prices[[#This Row],[ITEMNMBR]]","v":"SAM052"},"Brent & Sams Cookies - Raspberry Chocolate Chip 2 oz.","RETAIL",100]
["SAM054",{"$f":"Table_prices[[#This Row],[ITEMNMBR]]","v":"SAM054"},"Brent & Sams Cookies - Triple Chocolate Bliss 7 oz.","RETAIL",100]
["SBC001",{"$f":"Table_prices[[#This Row],[ITEMNMBR]]","v":"SBC001"},"White Chocolate Macadamia by Brent & Sams Cookies - 7 oz. -","RETAIL",100]
["SBC002",{"$f":"Table_prices[[#This Row],[ITEMNMBR]]","v":"SBC002"},"Brent & Sams Cookies - Organic Oatmeal Raisin  6 oz.","RETAIL",100]
["SBC003",{"$f":"Table_prices[[#This Row],[ITEMNMBR]]","v":"SBC003"},"Brent & Sams Cookies - Organic Ginger Snaps  6 oz.","RETAIL",100]
["SBC004",{"$f":"Table_prices[[#This Row],[ITEMNMBR]]","v":"SBC004"},"Extra Choc Chip","RETAIL",100]
["SBC005",{"$f":"Table_prices[[#This Row],[ITEMNMBR]]","v":"SBC005"},"Cinn Oatmeal Raisin","RETAIL",100]
["SBC006",{"$f":"Table_prices[[#This Row],[ITEMNMBR]]","v":"SBC006"},"Carribbean Crunch","RETAIL",100]
["SBC007",{"$f":"Table_prices[[#This Row],[ITEMNMBR]]","v":"SBC007"}," Country Ham Biscuit Slices by Broadbent's - 8 oz. -","RETAIL",100]
["SBC008",{"$f":"Table_prices[[#This Row],[ITEMNMBR]]","v":"SBC008"},"Hickory Smoked Pepper Country Bacon by Broadbent's  - 14 oz. -","RETAIL",100]
["SBC009",{"$f":"Table_prices[[#This Row],[ITEMNMBR]]","v":"SBC009"},"Country Ham Biscuit Slices (uncooked) by Broadbent's - 8 oz. -","RETAIL",100]
["SBC010",{"$f":"Table_prices[[#This Row],[ITEMNMBR]]","v":"SBC010"},"Forget Me Not Seed Packets by Burpee -","RETAIL",100]
["SBC011",{"$f":"Table_prices[[#This Row],[ITEMNMBR]]","v":"SBC011"},"Marigold Seed Packet by Burpee -","RETAIL",100]
["SBC012",{"$f":"Table_prices[[#This Row],[ITEMNMBR]]","v":"SBC012"},"Old Fashioned Peppermint Bark Bar by Bartons - 2.67 oz -","RETAIL",100]
["SBC013",{"$f":"Table_prices[[#This Row],[ITEMNMBR]]","v":"SBC013"},"Dark Chocolate Coconut Almond Patties by Barricini - 2 oz. -","RETAIL",100]
["SBC014",{"$f":"Table_prices[[#This Row],[ITEMNMBR]]","v":"SBC014"},"Milk Chocolate Covered Pretzels by Barricini - 2 oz. -","RETAIL",100]
["SBC015",{"$f":"Table_prices[[#This Row],[ITEMNMBR]]","v":"SBC015"},"Dark Chocolate Covered Pretzels by Barricini - 2 oz. -","RETAIL",100]
["SBC016",{"$f":"Table_prices[[#This Row],[ITEMNMBR]]","v":"SBC016"},"Milk Chocolate Coconut Almond Patties by Barricini - 2 oz. -","RETAIL",100]
["SBC017",{"$f":"Table_prices[[#This Row],[ITEMNMBR]]","v":"SBC017"},"Dark Chocolate Dipped Grahams by Barricini - 2 oz. -","RETAIL",100]
["SBC018",{"$f":"Table_prices[[#This Row],[ITEMNMBR]]","v":"SBC018"},"Brix Bites by Brix Chocolates - 6 oz. -","RETAIL",100]
["SBC019",{"$f":"Table_prices[[#This Row],[ITEMNMBR]]","v":"SBC019"},"Kiss Me I'm Irish Buttons","RETAIL",100]
["SBC020",{"$f":"Table_prices[[#This Row],[ITEMNMBR]]","v":"SBC020"},"Bubba Gum Creepy Teeth","RETAIL",100]
["SBC021",{"$f":"Table_prices[[#This Row],[ITEMNMBR]]","v":"SBC021"},"Burton & Burton Classic Garden Tote in Beige","RETAIL",100]
["SCO001",{"$f":"Table_prices[[#This Row],[ITEMNMBR]]","v":"SCO001"},"Burton & Burton Pretty in Pink Garden Tote","RETAIL",100]
["SEA001",{"$f":"Table_prices[[#This Row],[ITEMNMBR]]","v":"SEA001"},"Burton & Burton Fishing Mug","RETAIL",100]
["SEN001",{"$f":"Table_prices[[#This Row],[ITEMNMBR]]","v":"SEN001"},"Burton & Burton Golf Mug","RETAIL",100]
["SEN002",{"$f":"Table_prices[[#This Row],[ITEMNMBR]]","v":"SEN002"},"Burton & Burton Golfer's Picture Frame","RETAIL",100]
["SFS002",{"$f":"Table_prices[[#This Row],[ITEMNMBR]]","v":"SFS002"},"Burton & Burton Purple Butterfly Watering Can","RETAIL",100]
["SFS003",{"$f":"Table_prices[[#This Row],[ITEMNMBR]]","v":"SFS003"},"Burton & Burton Butterfly Bag","RETAIL",100]
["SFS004",{"$f":"Table_prices[[#This Row],[ITEMNMBR]]","v":"SFS004"},"Burton & Burton 4\" Split Wood Easter Pail","RETAIL",100]
["SFS005",{"$f":"Table_prices[[#This Row],[ITEMNMBR]]","v":"SFS005"},"Burton & Burton Multicolored Pastel woodchip pail with handle","RETAIL",100]
["SHIPPING",{"$f":"Table_prices[[#This Row],[ITEMNMBR]]","v":"SHIPPING"},"Burton and Burton Tin Pail with Polka Dots 4 1/2\"","RETAIL",100]
["SKP001",{"$f":"Table_prices[[#This Row],[ITEMNMBR]]","v":"SKP001"},"Burton & Burton Striped Garden Tote","RETAIL",100]
["SKP002",{"$f":"Table_prices[[#This Row],[ITEMNMBR]]","v":"SKP002"},"Easter Bushel Basket","RETAIL",100]
["SKP003",{"$f":"Table_prices[[#This Row],[ITEMNMBR]]","v":"SKP003"},"Tin Pail with Butterflies - Assorted Colors","RETAIL",100]
["SMR001",{"$f":"Table_prices[[#This Row],[ITEMNMBR]]","v":"SMR001"},"Pink and Blue Bunny Pail","RETAIL",100]
["SMR002",{"$f":"Table_prices[[#This Row],[ITEMNMBR]]","v":"SMR002"},"Hip-Hop Pail 2012 - Egg Shaped Pail with Polka Dots","RETAIL",100]
["SNA001",{"$f":"Table_prices[[#This Row],[ITEMNMBR]]","v":"SNA001"},"Colorful Striped Tote -","RETAIL",100]
["SNA002",{"$f":"Table_prices[[#This Row],[ITEMNMBR]]","v":"SNA002"},"Brown and Green Leaf Pattern Garden Bag by Burton & Burton","RETAIL",100]
["SNA004",{"$f":"Table_prices[[#This Row],[ITEMNMBR]]","v":"SNA004"},"Hip-Hop Pail 2013 - Egg Shaped Pail with Polka Dots (light colors)","RETAIL",100]
["SNA006",{"$f":"Table_prices[[#This Row],[ITEMNMBR]]","v":"SNA006"},"Classic Vermont Sharp Cheddar Cheese by Cabot - 8 oz. -","RETAIL",100]
["SNA008",{"$f":"Table_prices[[#This Row],[ITEMNMBR]]","v":"SNA008"},"Caley and Cobb Basil Risotto 8.4 oz","RETAIL",100]
["SNA014",{"$f":"Table_prices[[#This Row],[ITEMNMBR]]","v":"SNA014"},"Caley and Cobb Lemon Dill Risotto 8.4 oz","RETAIL",100]
["SNA016",{"$f":"Table_prices[[#This Row],[ITEMNMBR]]","v":"SNA016"},"Caley and Cobb Risotto with Mushrooms 8.4 oz","RETAIL",100]
["SNA017",{"$f":"Table_prices[[#This Row],[ITEMNMBR]]","v":"SNA017"},"Chardonnay by Cakebread Cellars - 750 ml -","RETAIL",100]
["SNA020",{"$f":"Table_prices[[#This Row],[ITEMNMBR]]","v":"SNA020"},"Merlot by Cakebread Cellars - 750 ml -","RETAIL",100]
["SNA022",{"$f":"Table_prices[[#This Row],[ITEMNMBR]]","v":"SNA022"},"Cabernet Sauvignon by Cakebread Cellars - 750 ml -","RETAIL",100]
["SNA030",{"$f":"Table_prices[[#This Row],[ITEMNMBR]]","v":"SNA030"},"Sauvignon Blanc by Cakebread Cellars - 750 ml -","RETAIL",100]
["SNA032",{"$f":"Table_prices[[#This Row],[ITEMNMBR]]","v":"SNA032"},"Silver Oak Alexander Valley Cabernet Sauvignon 750 ml","RETAIL",100]
["SNA035",{"$f":"Table_prices[[#This Row],[ITEMNMBR]]","v":"SNA035"},"Silver Oak Napa Valley Cabernet Sauvignon 750 ml","RETAIL",100]
["SNA036",{"$f":"Table_prices[[#This Row],[ITEMNMBR]]","v":"SNA036"},"Silver Oak Twomey Merlot 750 ml","RETAIL",100]
["SNA037",{"$f":"Table_prices[[#This Row],[ITEMNMBR]]","v":"SNA037"},"2005 Louis Roederer Cristal Brut in Gift Box","RETAIL",100]
["SNA040",{"$f":"Table_prices[[#This Row],[ITEMNMBR]]","v":"SNA040"},"Camille Beckman Body Powder - Camille Scent  3 oz.","RETAIL",100]
["SNA042",{"$f":"Table_prices[[#This Row],[ITEMNMBR]]","v":"SNA042"},"Camille Beckman Body Powder - Mango Beach  3 oz.","RETAIL",100]
["SNA043",{"$f":"Table_prices[[#This Row],[ITEMNMBR]]","v":"SNA043"},"Camille Beckman Body Powder 3 oz Camille Scent","RETAIL",100]
["SNA044",{"$f":"Table_prices[[#This Row],[ITEMNMBR]]","v":"SNA044"},"Camille Beckman Body Powder 3 oz Lavender Scent","RETAIL",100]
["SNA045",{"$f":"Table_prices[[#This Row],[ITEMNMBR]]","v":"SNA045"},"Camille Beckman Body Powder 3 oz Mango Beach Scent","RETAIL",100]
["SNA046",{"$f":"Table_prices[[#This Row],[ITEMNMBR]]","v":"SNA046"},"Glycerine Hand Therapy in Secret Sea by Camille Beckman - 6 oz. -","RETAIL",100]
["SNA047",{"$f":"Table_prices[[#This Row],[ITEMNMBR]]","v":"SNA047"},"Silky Body Cream in Secret Sea by Camille Beckman - 8 oz. -","RETAIL",100]
["SNA048",{"$f":"Table_prices[[#This Row],[ITEMNMBR]]","v":"SNA048"},"Perfumed Body Powder in Secret Sea by Camille Beckman - 3 oz. -","RETAIL",100]
["SNA049",{"$f":"Table_prices[[#This Row],[ITEMNMBR]]","v":"SNA049"},"Body Butter in Secret Sea by Camille Beckman - 5.25 oz. -","RETAIL",100]
["SNA050",{"$f":"Table_prices[[#This Row],[ITEMNMBR]]","v":"SNA050"},"French Milled Soap in Secret Sea by Camille Beckman - 3.75 oz. -","RETAIL",100]
["SNA051",{"$f":"Table_prices[[#This Row],[ITEMNMBR]]","v":"SNA051"},"Fragrant Drawer Sachet in Secret Sea by Camille Beckman - .3 oz. -","RETAIL",100]
["SNA052",{"$f":"Table_prices[[#This Row],[ITEMNMBR]]","v":"SNA052"},"Bubble Bath in Secret Sea by Camille Beckman - 8 oz. -","RETAIL",100]
["SNA053",{"$f":"Table_prices[[#This Row],[ITEMNMBR]]","v":"SNA053"},"Hand & Shower Cleansing Gel in Secret Sea by Camille Beckman - 8 oz. -","RETAIL",100]
["SNA054",{"$f":"Table_prices[[#This Row],[ITEMNMBR]]","v":"SNA054"},"Guinness Extra Stout  - 12 oz -","RETAIL",100]
["SNA055",{"$f":"Table_prices[[#This Row],[ITEMNMBR]]","v":"SNA055"},"Guinness Draught  - 12 oz -","RETAIL",100]
["SNA056",{"$f":"Table_prices[[#This Row],[ITEMNMBR]]","v":"SNA056"},"Harp  Irish Lager  - 12 oz -","RETAIL",100]
["SNA057",{"$f":"Table_prices[[#This Row],[ITEMNMBR]]","v":"SNA057"},"Killian's Irish Red Lager  - 12 oz -","RETAIL",100]
["SNA058",{"$f":"Table_prices[[#This Row],[ITEMNMBR]]","v":"SNA058"},"Magic Hat #9  - 12 oz -","RETAIL",100]
["SNA059",{"$f":"Table_prices[[#This Row],[ITEMNMBR]]","v":"SNA059"}," New Castle  - 12 oz -","RETAIL",100]
["SNA060",{"$f":"Table_prices[[#This Row],[ITEMNMBR]]","v":"SNA060"},"Red Stripe - 11.2 oz -","RETAIL",100]
["SNA061",{"$f":"Table_prices[[#This Row],[ITEMNMBR]]","v":"SNA061"},"Sierra Nevada Pale Ale  - 12 oz -","RETAIL",100]
["SNA062",{"$f":"Table_prices[[#This Row],[ITEMNMBR]]","v":"SNA062"},"Singha Singha  - 12 oz -","RETAIL",100]
["SNA063",{"$f":"Table_prices[[#This Row],[ITEMNMBR]]","v":"SNA063"},"Smithwicks Irish Ale  - 12 oz -","RETAIL",100]
["SOU001",{"$f":"Table_prices[[#This Row],[ITEMNMBR]]","v":"SOU001"},"Smuttynose Old Brown Dog  - 12 oz -","RETAIL",100]
["SPA001",{"$f":"Table_prices[[#This Row],[ITEMNMBR]]","v":"SPA001"},"Leinenkugel /abita  - 12 oz -","RETAIL",100]
["STA001",{"$f":"Table_prices[[#This Row],[ITEMNMBR]]","v":"STA001"},"Beamish Beamish  - 12 oz -","RETAIL",100]
["STA002",{"$f":"Table_prices[[#This Row],[ITEMNMBR]]","v":"STA002"},"Magners Irish Cider  - 12 oz -","RETAIL",100]
["STA003",{"$f":"Table_prices[[#This Row],[ITEMNMBR]]","v":"STA003"},"Castor & Pollux Organix Organic Cat Treats - Chicken Flavor 2 oz","RETAIL",100]
["STA004",{"$f":"Table_prices[[#This Row],[ITEMNMBR]]","v":"STA004"},"Castor & Pollux Organix Organic Cat Treats - Cheese Flavor 2 oz","RETAIL",100]
["STE001",{"$f":"Table_prices[[#This Row],[ITEMNMBR]]","v":"STE001"},"Castor & Pollux Good Buddy All Natural Beef Jerky 3.5 oz.","RETAIL",100]
["STE002",{"$f":"Table_prices[[#This Row],[ITEMNMBR]]","v":"STE002"},"Castor & Pollux Wet Nose Rawhide Baseball 3\"","RETAIL",100]
["STE003",{"$f":"Table_prices[[#This Row],[ITEMNMBR]]","v":"STE003"},"Castor & Pollux Wet Nose Rawhide Natural Pressed Bone 8 1/2\"","RETAIL",100]
["STE004",{"$f":"Table_prices[[#This Row],[ITEMNMBR]]","v":"STE004"},"Castor & Pollux Good Buddy Samplet Pack - 4 Flavors","RETAIL",100]
["STE005",{"$f":"Table_prices[[#This Row],[ITEMNMBR]]","v":"STE005"},"Castor & Pollux Organix Cat Treat Sampler","RETAIL",100]
["STE006",{"$f":"Table_prices[[#This Row],[ITEMNMBR]]","v":"STE006"},"Castor & Pollux Organix Organic Cat Treats - Turkey Apple 2 oz","RETAIL",100]
["STE008",{"$f":"Table_prices[[#This Row],[ITEMNMBR]]","v":"STE008"},"USA Rawhide","RETAIL",100]
["STE009",{"$f":"Table_prices[[#This Row],[ITEMNMBR]]","v":"STE009"},"Custom Mojito Stack ( Cathie )","RETAIL",45]
["STE010",{"$f":"Table_prices[[#This Row],[ITEMNMBR]]","v":"STE010"},"Bain Capitol Custom Basket","RETAIL",90]
["STE011",{"$f":"Table_prices[[#This Row],[ITEMNMBR]]","v":"STE011"},"Custom 4594 Care Package","RETAIL",59.99]
["STE012",{"$f":"Table_prices[[#This Row],[ITEMNMBR]]","v":"STE012"},"Custom Care Package","RETAIL",34.99]
["STE013",{"$f":"Table_prices[[#This Row],[ITEMNMBR]]","v":"STE013"},"Custom Care Package","RETAIL",34.99]
["STE014",{"$f":"Table_prices[[#This Row],[ITEMNMBR]]","v":"STE014"},"Custom Care Package","RETAIL",34.99]
["STE015",{"$f":"Table_prices[[#This Row],[ITEMNMBR]]","v":"STE015"},"Custom Guy Carpenter - Snack Basket","RETAIL",40]
["STE016",{"$f":"Table_prices[[#This Row],[ITEMNMBR]]","v":"STE016"},"Custom $40 Breakfast","RETAIL",40]
["STE018",{"$f":"Table_prices[[#This Row],[ITEMNMBR]]","v":"STE018"},"Custom 12 honey mustard in care package box","RETAIL",60]
["STE020",{"$f":"Table_prices[[#This Row],[ITEMNMBR]]","v":"STE020"},"Custom Veuve Bottle with Card","RETAIL",45.99]
["STE021",{"$f":"Table_prices[[#This Row],[ITEMNMBR]]","v":"STE021"},"Custom Day in Paris - (Cathie)","RETAIL",125]
["STE022",{"$f":"Table_prices[[#This Row],[ITEMNMBR]]","v":"STE022"},"Custom 5320 with custom raffia","RETAIL",149.99]
["STI001",{"$f":"Table_prices[[#This Row],[ITEMNMBR]]","v":"STI001"},"Custom 4054 with custom raffia","RETAIL",149.99]
["STI002",{"$f":"Table_prices[[#This Row],[ITEMNMBR]]","v":"STI002"},"Custom 4509 with custom raffia","RETAIL",69.989999999999995]
["STI003",{"$f":"Table_prices[[#This Row],[ITEMNMBR]]","v":"STI003"},"Custom 5210 with custom raffia","RETAIL",59.99]
["STI004",{"$f":"Table_prices[[#This Row],[ITEMNMBR]]","v":"STI004"},"Custom 5318 with custom raffia","RETAIL",49.99]
["STI005",{"$f":"Table_prices[[#This Row],[ITEMNMBR]]","v":"STI005"},"Custom Wild Horse Duo with CSI","RETAIL",114.99]
["STI006",{"$f":"Table_prices[[#This Row],[ITEMNMBR]]","v":"STI006"},"custom 5230 no christmas decor","RETAIL",149.99]
["STI007",{"$f":"Table_prices[[#This Row],[ITEMNMBR]]","v":"STI007"},"Custom Wine basket","RETAIL",80.989999999999995]
["STI008",{"$f":"Table_prices[[#This Row],[ITEMNMBR]]","v":"STI008"},"Spunbun Green Wrap HALF SHEET  18x 23.5 in","RETAIL",100]
["STI009",{"$f":"Table_prices[[#This Row],[ITEMNMBR]]","v":"STI009"},"Spunbun Green Wrap FULL SHEET 36 x 23.5 in","RETAIL",100]
["STI010",{"$f":"Table_prices[[#This Row],[ITEMNMBR]]","v":"STI010"},"Child To Cherish Baby's 1st Baseball - Pink - DISCONTINUED","RETAIL",100]
["STI011",{"$f":"Table_prices[[#This Row],[ITEMNMBR]]","v":"STI011"},"Child To Cherish Baby's 1st Baseball - Blue - DISCONTINUED","RETAIL",100]
["STI012",{"$f":"Table_prices[[#This Row],[ITEMNMBR]]","v":"STI012"},"My First Baseball in PINK by Child to Cherish -","RETAIL",100]
["STI013",{"$f":"Table_prices[[#This Row],[ITEMNMBR]]","v":"STI013"},"My First Baseball in BLUE by Child to Cherish -","RETAIL",100]
["STO001",{"$f":"Table_prices[[#This Row],[ITEMNMBR]]","v":"STO001"},"Original Ginger Chews by Chimes - 5 oz. -","RETAIL",100]
["STO002",{"$f":"Table_prices[[#This Row],[ITEMNMBR]]","v":"STO002"},"Chocoholics Body Talk Tatoo Set 10 oz","RETAIL",100]
["STO003",{"$f":"Table_prices[[#This Row],[ITEMNMBR]]","v":"STO003"},"Chocoholics Chocolate Golf Balls - White 4.8 oz.","RETAIL",100]
["STO004",{"$f":"Table_prices[[#This Row],[ITEMNMBR]]","v":"STO004"},"Chocoholics Chocolate Shower Bar 3 oz.","RETAIL",100]
["STO005",{"$f":"Table_prices[[#This Row],[ITEMNMBR]]","v":"STO005"},"Coffee Spoons - Assorted Chocolate Swirls 3.6 oz","RETAIL",100]
["STO006",{"$f":"Table_prices[[#This Row],[ITEMNMBR]]","v":"STO006"}," Teaspoons 4.8 oz.","RETAIL",100]
["STO007",{"$f":"Table_prices[[#This Row],[ITEMNMBR]]","v":"STO007"},"Chocolate Chip Cookies by Kimball Lake Bakery - 4 oz. -","RETAIL",2.27]
["STO008",{"$f":"Table_prices[[#This Row],[ITEMNMBR]]","v":"STO008"},"Lavender & Mint Buddy Wash Shampoo and Conditioner by Cloud Star - 16 oz. -","RETAIL",100]
["STO009",{"$f":"Table_prices[[#This Row],[ITEMNMBR]]","v":"STO009"},"Peanut Butter Itty Bitty Buddy Biscuits by Cloud Star - 8 oz. -","RETAIL",100]
["STO010",{"$f":"Table_prices[[#This Row],[ITEMNMBR]]","v":"STO010"},"Roasted Chicken Soft & Chewy Treats by Cloud Star - 6 oz. -","RETAIL",100]
["STO011",{"$f":"Table_prices[[#This Row],[ITEMNMBR]]","v":"STO011"},"Liver Flavor Chewy Tricky Trainers by Cloud Star - 5 oz. -","RETAIL",100]
["STO012",{"$f":"Table_prices[[#This Row],[ITEMNMBR]]","v":"STO012"},"Western Red Cedar Grilling Papers by Fire & Flavor - 8 papers -","RETAIL",100]
["STO013",{"$f":"Table_prices[[#This Row],[ITEMNMBR]]","v":"STO013"},"Red Oak Gourmet Grilling Planks by Fire & Flavor - 2 pack -","RETAIL",100]
["STO014",{"$f":"Table_prices[[#This Row],[ITEMNMBR]]","v":"STO014"},"Callisons Seasoned Skewers-Indian Mango Curry 10 pk","RETAIL",100]
["STO015",{"$f":"Table_prices[[#This Row],[ITEMNMBR]]","v":"STO015"},"Callisons Seasoned Skewers-Thai Coconut Lime 10 pk","RETAIL",100]
["STO016",{"$f":"Table_prices[[#This Row],[ITEMNMBR]]","v":"STO016"},"Callisons Seasoned Grilling Plank-Ginger Mango 2 pk","RETAIL",100]
["STO017",{"$f":"Table_prices[[#This Row],[ITEMNMBR]]","v":"STO017"},"Callisons Seasoned Skewers-Citrus Rosemary10 pk","RETAIL",100]
["STO018",{"$f":"Table_prices[[#This Row],[ITEMNMBR]]","v":"STO018"},"Callisons Seasoned Skewers-Garlic Herb 10 pk","RETAIL",100]
["STO019",{"$f":"Table_prices[[#This Row],[ITEMNMBR]]","v":"STO019"},"Callisons Seasoned Skewers-Hickory 10 pk","RETAIL",100]
["STO020",{"$f":"Table_prices[[#This Row],[ITEMNMBR]]","v":"STO020"},"Colorado Mountain Jam Organic Strawberry 6 oz","RETAIL",100]
["STO021",{"$f":"Table_prices[[#This Row],[ITEMNMBR]]","v":"STO021"},"Colorado Mountain Jam Organic Blueberry 8 oz","RETAIL",100]
["STO022",{"$f":"Table_prices[[#This Row],[ITEMNMBR]]","v":"STO022"},"Milk Chocolate Crushed Peanut Clusters 5oz.","RETAIL",100]
["STO023",{"$f":"Table_prices[[#This Row],[ITEMNMBR]]","v":"STO023"},"Dark Chocolate Covered Assorted Nuts 5oz.","RETAIL",100]
["STO024",{"$f":"Table_prices[[#This Row],[ITEMNMBR]]","v":"STO024"},"Milk Chocolate Covered Assorted Nuts 5oz.","RETAIL",100]
["STO025",{"$f":"Table_prices[[#This Row],[ITEMNMBR]]","v":"STO025"},"Milk Chocolate Peanut Butter Melt-a-Ways 5oz.","RETAIL",100]
["STO026",{"$f":"Table_prices[[#This Row],[ITEMNMBR]]","v":"STO026"},"Dark Chocolate Coconut Clusters","RETAIL",100]
["STO027",{"$f":"Table_prices[[#This Row],[ITEMNMBR]]","v":"STO027"},"Almond Butter Crunch","RETAIL",100]
["STO028",{"$f":"Table_prices[[#This Row],[ITEMNMBR]]","v":"STO028"},"Dark Chocolate Pecan Carmel Patties","RETAIL",100]
["STO029",{"$f":"Table_prices[[#This Row],[ITEMNMBR]]","v":"STO029"},"Colts Chocolates Chocolate dipped animal crackers 2 oz.","RETAIL",100]
["STO030",{"$f":"Table_prices[[#This Row],[ITEMNMBR]]","v":"STO030"},"Colts Chocolates Colts Bolts 2 oz.","RETAIL",100]
["STO031",{"$f":"Table_prices[[#This Row],[ITEMNMBR]]","v":"STO031"},"Colts Chocolates Colts Bolts Classic Dark 2 oz.","RETAIL",100]
["STO032",{"$f":"Table_prices[[#This Row],[ITEMNMBR]]","v":"STO032"},"Coffee Masters Bella Crema Caffé 1.5 oz","RETAIL",100]
["STO033",{"$f":"Table_prices[[#This Row],[ITEMNMBR]]","v":"STO033"},"Coffee Masters Bella Crema Mocha Latte Cappuccino 1.5 oz","RETAIL",100]
["STO034",{"$f":"Table_prices[[#This Row],[ITEMNMBR]]","v":"STO034"},"Coffee Masters Cocoa Amore  Asst Flavors 1 oz","RETAIL",100]
["STO035",{"$f":"Table_prices[[#This Row],[ITEMNMBR]]","v":"STO035"},"Chai by David Rio - Assorted -","RETAIL",100]
["STO036",{"$f":"Table_prices[[#This Row],[ITEMNMBR]]","v":"STO036"},"Holiday Cocoa Amore by Coffee Masters - 1 oz -","RETAIL",100]
["STO037",{"$f":"Table_prices[[#This Row],[ITEMNMBR]]","v":"STO037"},"Perfect Potfuls Assorted Gourmet Coffees by Coffee Masters - 1.5 oz. -","RETAIL",100]
["STO038",{"$f":"Table_prices[[#This Row],[ITEMNMBR]]","v":"STO038"},"Coffee Masters Perfect Potfuls Breakfast Blend 1.5 oz","RETAIL",100]
["STO039",{"$f":"Table_prices[[#This Row],[ITEMNMBR]]","v":"STO039"},"Coffee Masters Perfect Potfuls Columbian Coffee 1.5 oz","RETAIL",100]
["STO040",{"$f":"Table_prices[[#This Row],[ITEMNMBR]]","v":"STO040"},"Coffee Masters Pink Ribbon Blend 1.5 oz","RETAIL",100]
["STO041",{"$f":"Table_prices[[#This Row],[ITEMNMBR]]","v":"STO041"},"Coffee Masters Cocoa Amore 9 pk Gift Box","RETAIL",100]
["STO042",{"$f":"Table_prices[[#This Row],[ITEMNMBR]]","v":"STO042"},"Deluxe Chocolate CookEcones Ice Cream Cones by The Cone Guys - 7.75 oz. -","RETAIL",100]
["STO043",{"$f":"Table_prices[[#This Row],[ITEMNMBR]]","v":"STO043"},"Happy Birthday Vanilla Cake by Creative Cookie - 2.8 oz (unbaked) -","RETAIL",100]
["STO044",{"$f":"Table_prices[[#This Row],[ITEMNMBR]]","v":"STO044"},"Mademoiselle de Margaux Raspberry Twigs - Dark Chocolate 125g","RETAIL",100]
["STO045",{"$f":"Table_prices[[#This Row],[ITEMNMBR]]","v":"STO045"},"Honey Wild flower - 250 g -","RETAIL",100]
["STO046",{"$f":"Table_prices[[#This Row],[ITEMNMBR]]","v":"STO046"},"Bernard Castelain Dark Chocolate with coffee 3.5 oz","RETAIL",100]
["STO047",{"$f":"Table_prices[[#This Row],[ITEMNMBR]]","v":"STO047"},"Bernard Castelain Traditional Dark Chocolate 3.5 oz","RETAIL",100]
["STO048",{"$f":"Table_prices[[#This Row],[ITEMNMBR]]","v":"STO048"},"L' Authentique Crepe Dentelle (in gold foil) by Gavottes - 4.4 oz. -","RETAIL",100]
["STO049",{"$f":"Table_prices[[#This Row],[ITEMNMBR]]","v":"STO049"},"Crepes Dentelles, Coeur De Praline-Pillows 90g","RETAIL",100]
["STO050",{"$f":"Table_prices[[#This Row],[ITEMNMBR]]","v":"STO050"},"Cornichons in vinegar by Clovis - 370 ml -","RETAIL",100]
["STO051",{"$f":"Table_prices[[#This Row],[ITEMNMBR]]","v":"STO051"},"Clovis Dijon Mustard 200 g","RETAIL",100]
["STO052",{"$f":"Table_prices[[#This Row],[ITEMNMBR]]","v":"STO052"},"Clovis Reims Champagne vinegar 250 g","RETAIL",100]
["STO053",{"$f":"Table_prices[[#This Row],[ITEMNMBR]]","v":"STO053"},"Dragees Pecou Pink Dragee Occitanes all natural 200 g","RETAIL",100]
["STO054",{"$f":"Table_prices[[#This Row],[ITEMNMBR]]","v":"STO054"},"Fossier Palmiers au Beurre 4.40 oz","RETAIL",100]
["STO055",{"$f":"Table_prices[[#This Row],[ITEMNMBR]]","v":"STO055"},"Pink champagne biscuits by Fossier - 3.5 oz. -","RETAIL",100]
["STO056",{"$f":"Table_prices[[#This Row],[ITEMNMBR]]","v":"STO056"},"Chocolatier Truffles Fantaisie by Guyaux Chocolates - 2.8 oz. -","RETAIL",100]
["STO057",{"$f":"Table_prices[[#This Row],[ITEMNMBR]]","v":"STO057"},"Hediard Bearnaise sauce 90 g","RETAIL",100]
["STO058",{"$f":"Table_prices[[#This Row],[ITEMNMBR]]","v":"STO058"},"Hediard Hediard Tea Blend 125 g","RETAIL",100]
["STP001",{"$f":"Table_prices[[#This Row],[ITEMNMBR]]","v":"STP001"},"Le Domaine du Grand Servan Olive Oil 250 ml","RETAIL",100]
["SUG001",{"$f":"Table_prices[[#This Row],[ITEMNMBR]]","v":"SUG001"},"Orange Preserves by Les Confituriers de Haute-Provence - 12.3 oz. -","RETAIL",100]
["SUG002",{"$f":"Table_prices[[#This Row],[ITEMNMBR]]","v":"SUG002"},"Les Confituriers de Haute-Provence Strawberry Preserves 12.3 oz","RETAIL",100]
["SUM001",{"$f":"Table_prices[[#This Row],[ITEMNMBR]]","v":"SUM001"},"Assorted Caramels by Paris Caramels - 3.75 oz. -","RETAIL",100]
["SUM002",{"$f":"Table_prices[[#This Row],[ITEMNMBR]]","v":"SUM002"},"Vergers de Gascogne Apricots in Amaretto 210 g","RETAIL",100]
["SUM003",{"$f":"Table_prices[[#This Row],[ITEMNMBR]]","v":"SUM003"},"Bernard Castelain Dark Chocolate w Cocoa Beans Bar 100 g","RETAIL",100]
["SUM004",{"$f":"Table_prices[[#This Row],[ITEMNMBR]]","v":"SUM004"},"Fossier Mini Pink Champagne Biscuits 110g","RETAIL",100]
["SUM005",{"$f":"Table_prices[[#This Row],[ITEMNMBR]]","v":"SUM005"},"Les 2 Marmottes Tea  Blue Box 18 pouches","RETAIL",100]
["SUM006",{"$f":"Table_prices[[#This Row],[ITEMNMBR]]","v":"SUM006"},"Linden Winter Thyme Herbal Tea Blue Box 18 pouches","RETAIL",100]
["SUM007",{"$f":"Table_prices[[#This Row],[ITEMNMBR]]","v":"SUM007"},"Almond Macaroon Buscuits by Fossier - 3.5 oz. -","RETAIL",0]
["SUM008",{"$f":"Table_prices[[#This Row],[ITEMNMBR]]","v":"SUM008"},"Pate Pork Pate Spread by Henaff - 3.10 oz. -","RETAIL",100]
["SUM009",{"$f":"Table_prices[[#This Row],[ITEMNMBR]]","v":"SUM009"},"Flaky Twist by Eric Bur - 3.52 oz. -","RETAIL",100]
["SUN001",{"$f":"Table_prices[[#This Row],[ITEMNMBR]]","v":"SUN001"},"Superfine Green Bean Bundles by Eric Bur - 7.760 oz. -","RETAIL",100]
["SUN002",{"$f":"Table_prices[[#This Row],[ITEMNMBR]]","v":"SUN002"},"Chocolatier Truffles Assorted","RETAIL",100]
["SUN003",{"$f":"Table_prices[[#This Row],[ITEMNMBR]]","v":"SUN003"},"Charles VII Biscuits by Biscuits Fossier - 200g","RETAIL",100]
["SUN004",{"$f":"Table_prices[[#This Row],[ITEMNMBR]]","v":"SUN004"},"Hazelnut, Cocoa and Cashew Spread by Noiseraie Productions - 220g -","RETAIL",100]
["SUN005",{"$f":"Table_prices[[#This Row],[ITEMNMBR]]","v":"SUN005"},"Butter Cork Cookies by Fossier - 200 g -","RETAIL",100]
["SUN006",{"$f":"Table_prices[[#This Row],[ITEMNMBR]]","v":"SUN006"},"Custom: wine, beer, crackers, cheese, sausage, nuts (Dave)","RETAIL",280.99]
["SUN007",{"$f":"Table_prices[[#This Row],[ITEMNMBR]]","v":"SUN007"},"Custom Gift Bakset","RETAIL",103.77]
["SUN008",{"$f":"Table_prices[[#This Row],[ITEMNMBR]]","v":"SUN008"},"Custom Gift Bakset","RETAIL",0.01]
["SUP001",{"$f":"Table_prices[[#This Row],[ITEMNMBR]]","v":"SUP001"},"Custom Gift Bakset","RETAIL",0.01]
["SUP002",{"$f":"Table_prices[[#This Row],[ITEMNMBR]]","v":"SUP002"},"Custom Gift Bakset","RETAIL",119.99]
["SUP003",{"$f":"Table_prices[[#This Row],[ITEMNMBR]]","v":"SUP003"},"Custom Gift Bakset","RETAIL",79.989999999999995]
["SUP004",{"$f":"Table_prices[[#This Row],[ITEMNMBR]]","v":"SUP004"},"Custom Gift Bakset","RETAIL",79.989999999999995]
["SUP007",{"$f":"Table_prices[[#This Row],[ITEMNMBR]]","v":"SUP007"},"Custom Gift Bakset","RETAIL",104.97]
["SUP008",{"$f":"Table_prices[[#This Row],[ITEMNMBR]]","v":"SUP008"},"Custom Gift Bakset","RETAIL",117.99]
["SUP009",{"$f":"Table_prices[[#This Row],[ITEMNMBR]]","v":"SUP009"},"Custom Gift Bakset","RETAIL",118.99]
["SUP010",{"$f":"Table_prices[[#This Row],[ITEMNMBR]]","v":"SUP010"},"Custom Gift Bakset","RETAIL",41.99]
["SUP011",{"$f":"Table_prices[[#This Row],[ITEMNMBR]]","v":"SUP011"},"Custom Gift Bakset","RETAIL",76.989999999999995]
["SWE001",{"$f":"Table_prices[[#This Row],[ITEMNMBR]]","v":"SWE001"},"Custom Gift Bakset","RETAIL",150.08000000000001]
["SWE002",{"$f":"Table_prices[[#This Row],[ITEMNMBR]]","v":"SWE002"},"Custom Gift Bakset","RETAIL",74.989999999999995]
["SWE003",{"$f":"Table_prices[[#This Row],[ITEMNMBR]]","v":"SWE003"},"Custom Gift Bakset","RETAIL",399.99]
["SWE004",{"$f":"Table_prices[[#This Row],[ITEMNMBR]]","v":"SWE004"},"Custom Gift Bakset","RETAIL",133.99]
["SWE005",{"$f":"Table_prices[[#This Row],[ITEMNMBR]]","v":"SWE005"},"Custom Gift Bakset","RETAIL",180.99]
["SWE006",{"$f":"Table_prices[[#This Row],[ITEMNMBR]]","v":"SWE006"},"Custom Gift Bakset","RETAIL",40.99]
["SWE007",{"$f":"Table_prices[[#This Row],[ITEMNMBR]]","v":"SWE007"},"Custom Gift Bakset","RETAIL",61.99]
["SWT001",{"$f":"Table_prices[[#This Row],[ITEMNMBR]]","v":"SWT001"},"Custom Gift Bakset","RETAIL",54.99]
["SWT002",{"$f":"Table_prices[[#This Row],[ITEMNMBR]]","v":"SWT002"},"Custom Gift Bakset","RETAIL",133.99]
["SWT003",{"$f":"Table_prices[[#This Row],[ITEMNMBR]]","v":"SWT003"},"Custom Gift Bakset","RETAIL",28.44]
["SWT004",{"$f":"Table_prices[[#This Row],[ITEMNMBR]]","v":"SWT004"},"Custom Gift Basket","RETAIL",243.99]
["SWT005",{"$f":"Table_prices[[#This Row],[ITEMNMBR]]","v":"SWT005"},"Custom Gift Basket","RETAIL",62.99]
["SWT006",{"$f":"Table_prices[[#This Row],[ITEMNMBR]]","v":"SWT006"},"Custom Gift Basket","RETAIL",76.989999999999995]
["T10-3A",{"$f":"Table_prices[[#This Row],[ITEMNMBR]]","v":"T10-3A"},"Custom Gift Basket","RETAIL",214.99]
["T100-3A",{"$f":"Table_prices[[#This Row],[ITEMNMBR]]","v":"T100-3A"},"Custom Gift Basket","RETAIL",57.99]
["T105-1A",{"$f":"Table_prices[[#This Row],[ITEMNMBR]]","v":"T105-1A"},"Custom Gift Basket","RETAIL",128.94]
["T105-2A",{"$f":"Table_prices[[#This Row],[ITEMNMBR]]","v":"T105-2A"},"Custom Gift Basket","RETAIL",119.99]
["T11Z100A",{"$f":"Table_prices[[#This Row],[ITEMNMBR]]","v":"T11Z100A"},"Custom Gift Basket","RETAIL",89.72]
["T11Z105A",{"$f":"Table_prices[[#This Row],[ITEMNMBR]]","v":"T11Z105A"},"Custom Gift Basket","RETAIL",55.62]
["T128-2A",{"$f":"Table_prices[[#This Row],[ITEMNMBR]]","v":"T128-2A"},"Custom Gift Basket","RETAIL",86.99]
["T145-1A",{"$f":"Table_prices[[#This Row],[ITEMNMBR]]","v":"T145-1A"},"Custom Gift Basket","RETAIL",66.989999999999995]
["T148-2A",{"$f":"Table_prices[[#This Row],[ITEMNMBR]]","v":"T148-2A"},"Custom Gift Basket","RETAIL",63.99]
["T152-2A",{"$f":"Table_prices[[#This Row],[ITEMNMBR]]","v":"T152-2A"},"Custom Gift Basket","RETAIL",102.99]
["T156-1A",{"$f":"Table_prices[[#This Row],[ITEMNMBR]]","v":"T156-1A"},"Custom Gift Basket","RETAIL",200.99]
["T157-2A",{"$f":"Table_prices[[#This Row],[ITEMNMBR]]","v":"T157-2A"},"Custom Gift Basket","RETAIL",73.099999999999994]
["T209-3A",{"$f":"Table_prices[[#This Row],[ITEMNMBR]]","v":"T209-3A"},"Custom Gift Basket","RETAIL",80.989999999999995]
["T211-1A",{"$f":"Table_prices[[#This Row],[ITEMNMBR]]","v":"T211-1A"},"Custom Gift Basket","RETAIL",80]
["T212-2A",{"$f":"Table_prices[[#This Row],[ITEMNMBR]]","v":"T212-2A"},"Custom Gift Basket","RETAIL",68.48]
["T218-3A",{"$f":"Table_prices[[#This Row],[ITEMNMBR]]","v":"T218-3A"},"Custom Gift Basket","RETAIL",140.31]
["T228-1A",{"$f":"Table_prices[[#This Row],[ITEMNMBR]]","v":"T228-1A"},"Custom Gift Basket","RETAIL",0]
["T246-2A",{"$f":"Table_prices[[#This Row],[ITEMNMBR]]","v":"T246-2A"},"Custom Gift Basket","RETAIL",52.99]
["T249-2A",{"$f":"Table_prices[[#This Row],[ITEMNMBR]]","v":"T249-2A"},"Custom Gift Basket","RETAIL",43.99]
["T27-2A",{"$f":"Table_prices[[#This Row],[ITEMNMBR]]","v":"T27-2A"},"Custom Gift Basket","RETAIL",48.93]
["T28-1A",{"$f":"Table_prices[[#This Row],[ITEMNMBR]]","v":"T28-1A"},"Custom Gift Basket","RETAIL",74.95]
["T37-1A",{"$f":"Table_prices[[#This Row],[ITEMNMBR]]","v":"T37-1A"},"Custom Gift Basket","RETAIL",73.53]
["T41-1A",{"$f":"Table_prices[[#This Row],[ITEMNMBR]]","v":"T41-1A"},"Custom Gift Basket","RETAIL",79.989999999999995]
["T42-1A",{"$f":"Table_prices[[#This Row],[ITEMNMBR]]","v":"T42-1A"},"Custom Gift Basket","RETAIL",71.11]
["T43-1A",{"$f":"Table_prices[[#This Row],[ITEMNMBR]]","v":"T43-1A"},"Custom Gift Basket","RETAIL",81.53]
["T43-1B",{"$f":"Table_prices[[#This Row],[ITEMNMBR]]","v":"T43-1B"},"Custom Gift Basket","RETAIL",169.99]
["T46-1A",{"$f":"Table_prices[[#This Row],[ITEMNMBR]]","v":"T46-1A"},"Custom Gift Basket","RETAIL",270.19]
["T46-1B",{"$f":"Table_prices[[#This Row],[ITEMNMBR]]","v":"T46-1B"},"Custom Gift Basket","RETAIL",107.59]
["T47-2A",{"$f":"Table_prices[[#This Row],[ITEMNMBR]]","v":"T47-2A"},"Custom Gift Basket","RETAIL",128]
["T47-3A",{"$f":"Table_prices[[#This Row],[ITEMNMBR]]","v":"T47-3A"},"Custom Gift Basket","RETAIL",76.989999999999995]
["T48-1A",{"$f":"Table_prices[[#This Row],[ITEMNMBR]]","v":"T48-1A"},"Custom Gift Basket","RETAIL",163.99]
["T5-1A",{"$f":"Table_prices[[#This Row],[ITEMNMBR]]","v":"T5-1A"},"Custom Gift Basket","RETAIL",83.99]
["T50-1A",{"$f":"Table_prices[[#This Row],[ITEMNMBR]]","v":"T50-1A"},"Custom Gift Basket","RETAIL",39.99]
["T50-2A",{"$f":"Table_prices[[#This Row],[ITEMNMBR]]","v":"T50-2A"},"Custom Gift Basket","RETAIL",100]
["T50-3A",{"$f":"Table_prices[[#This Row],[ITEMNMBR]]","v":"T50-3A"},"Custom Gift Basket","RETAIL",92.99]
["T55-2A",{"$f":"Table_prices[[#This Row],[ITEMNMBR]]","v":"T55-2A"},"Custom Gift Basket","RETAIL",59.99]
["T55-3A",{"$f":"Table_prices[[#This Row],[ITEMNMBR]]","v":"T55-3A"},"Custom Gift Basket","RETAIL",45]
["T64-1A",{"$f":"Table_prices[[#This Row],[ITEMNMBR]]","v":"T64-1A"},"Custom Gift Basket","RETAIL",114.52]
["T68-3A",{"$f":"Table_prices[[#This Row],[ITEMNMBR]]","v":"T68-3A"},"Custom Gift Basket","RETAIL",55]
["T8-1A",{"$f":"Table_prices[[#This Row],[ITEMNMBR]]","v":"T8-1A"},"Custom Gift Basket","RETAIL",119.99]
["T81-1A",{"$f":"Table_prices[[#This Row],[ITEMNMBR]]","v":"T81-1A"},"Custom Gift Basket","RETAIL",106.99]
["T9-1A",{"$f":"Table_prices[[#This Row],[ITEMNMBR]]","v":"T9-1A"},"Custom Gift Basket","RETAIL",150]
["T92-3A",{"$f":"Table_prices[[#This Row],[ITEMNMBR]]","v":"T92-3A"},"Custom Gift Basket","RETAIL",89.4]
["T93-1A",{"$f":"Table_prices[[#This Row],[ITEMNMBR]]","v":"T93-1A"},"Custom Gift Basket","RETAIL",200.78]
["TAB001",{"$f":"Table_prices[[#This Row],[ITEMNMBR]]","v":"TAB001"},"Custom Gift Basket","RETAIL",236.99]
["TAG001",{"$f":"Table_prices[[#This Row],[ITEMNMBR]]","v":"TAG001"},"Custom Gift Basket","RETAIL",170.02]
["TAG002",{"$f":"Table_prices[[#This Row],[ITEMNMBR]]","v":"TAG002"},"Custom Gift Basket","RETAIL",109.26]
["TAG003",{"$f":"Table_prices[[#This Row],[ITEMNMBR]]","v":"TAG003"},"Custom Gift Basket","RETAIL",99.99]
["TAP001",{"$f":"Table_prices[[#This Row],[ITEMNMBR]]","v":"TAP001"},"Custom Gift Basket","RETAIL",55]
["TAX001",{"$f":"Table_prices[[#This Row],[ITEMNMBR]]","v":"TAX001"},"Custom Gift Basket","RETAIL",112.99]
["TF1-1",{"$f":"Table_prices[[#This Row],[ITEMNMBR]]","v":"TF1-1"},"Custom Gift Basket","RETAIL",39.99]
["TF10-1",{"$f":"Table_prices[[#This Row],[ITEMNMBR]]","v":"TF10-1"},"Custom Gift Basket","RETAIL",59.99]
["TF100-1",{"$f":"Table_prices[[#This Row],[ITEMNMBR]]","v":"TF100-1"},"Custom Gift Basket","RETAIL",294.99]
["TF101-1",{"$f":"Table_prices[[#This Row],[ITEMNMBR]]","v":"TF101-1"},"Custom Gift Basket","RETAIL",133.19999999999999]
["TF101-2",{"$f":"Table_prices[[#This Row],[ITEMNMBR]]","v":"TF101-2"},"Custom Gift Basket","RETAIL",45.9]
["TF102-1",{"$f":"Table_prices[[#This Row],[ITEMNMBR]]","v":"TF102-1"},"Custom Gift Basket","RETAIL",162.19]
["TF102-2",{"$f":"Table_prices[[#This Row],[ITEMNMBR]]","v":"TF102-2"},"Custom Gift Basket","RETAIL",95.99]
["TF102-3",{"$f":"Table_prices[[#This Row],[ITEMNMBR]]","v":"TF102-3"},"Custom Gift Basket","RETAIL",84.99]
["TF102-4",{"$f":"Table_prices[[#This Row],[ITEMNMBR]]","v":"TF102-4"},"Custom Gift Basket","RETAIL",84.99]
["TF103-1",{"$f":"Table_prices[[#This Row],[ITEMNMBR]]","v":"TF103-1"},"Custom Gift Basket","RETAIL",309.92]
["TF103-2",{"$f":"Table_prices[[#This Row],[ITEMNMBR]]","v":"TF103-2"},"Custom Gift Basket","RETAIL",69.989999999999995]
["TF103-3",{"$f":"Table_prices[[#This Row],[ITEMNMBR]]","v":"TF103-3"},"Custom Gift Basket","RETAIL",93.73]
["TF104-1",{"$f":"Table_prices[[#This Row],[ITEMNMBR]]","v":"TF104-1"},"Custom Gift Basket","RETAIL",221.13]
["TF104-2",{"$f":"Table_prices[[#This Row],[ITEMNMBR]]","v":"TF104-2"},"Custom Gift Basket","RETAIL",152.99]
["TF104-3",{"$f":"Table_prices[[#This Row],[ITEMNMBR]]","v":"TF104-3"},"Custom Gift Basket","RETAIL",59.78]
["TF107-1",{"$f":"Table_prices[[#This Row],[ITEMNMBR]]","v":"TF107-1"},"Custom Gift Basket","RETAIL",101.35]
["TF108-1",{"$f":"Table_prices[[#This Row],[ITEMNMBR]]","v":"TF108-1"},"Custom Gift Basket","RETAIL",110.99]
["TF109-2",{"$f":"Table_prices[[#This Row],[ITEMNMBR]]","v":"TF109-2"},"Custom Gift Basket","RETAIL",124.99]
["TF109-3",{"$f":"Table_prices[[#This Row],[ITEMNMBR]]","v":"TF109-3"},"Custom Gift Basket","RETAIL",126.99]
["TF11-1",{"$f":"Table_prices[[#This Row],[ITEMNMBR]]","v":"TF11-1"},"Custom Gift Basket","RETAIL",100]
["TF11-2",{"$f":"Table_prices[[#This Row],[ITEMNMBR]]","v":"TF11-2"},"Custom Gift Basket","RETAIL",69.989999999999995]
["TF11-3",{"$f":"Table_prices[[#This Row],[ITEMNMBR]]","v":"TF11-3"},"Custom Gift Basket","RETAIL",60.68]
["TF110-1",{"$f":"Table_prices[[#This Row],[ITEMNMBR]]","v":"TF110-1"},"Custom Gift Basket","RETAIL",162.16999999999999]
["TF111-1",{"$f":"Table_prices[[#This Row],[ITEMNMBR]]","v":"TF111-1"},"Custom Gift Basket","RETAIL",257.3]
["TF111-2",{"$f":"Table_prices[[#This Row],[ITEMNMBR]]","v":"TF111-2"},"Custom Gift Basket","RETAIL",96.99]
["TF112-1",{"$f":"Table_prices[[#This Row],[ITEMNMBR]]","v":"TF112-1"},"Custom Gift Basket","RETAIL",154.74]
["TF115-1",{"$f":"Table_prices[[#This Row],[ITEMNMBR]]","v":"TF115-1"},"Custom Gift Basket","RETAIL",77.989999999999995]
["TF116-1",{"$f":"Table_prices[[#This Row],[ITEMNMBR]]","v":"TF116-1"},"Custom Gift Basket","RETAIL",93.99]
["TF117-1",{"$f":"Table_prices[[#This Row],[ITEMNMBR]]","v":"TF117-1"},"Custom Gift Basket","RETAIL",293.97000000000003]
["TF117-2",{"$f":"Table_prices[[#This Row],[ITEMNMBR]]","v":"TF117-2"},"Custom Gift Basket","RETAIL",206.87]
["TF117-3",{"$f":"Table_prices[[#This Row],[ITEMNMBR]]","v":"TF117-3"},"Custom Gift Basket","RETAIL",141.43]
["TF118-1",{"$f":"Table_prices[[#This Row],[ITEMNMBR]]","v":"TF118-1"},"Custom Gift Basket","RETAIL",188.99]
["TF118-2",{"$f":"Table_prices[[#This Row],[ITEMNMBR]]","v":"TF118-2"},"Custom Gift Basket","RETAIL",79.989999999999995]
["TF118-3",{"$f":"Table_prices[[#This Row],[ITEMNMBR]]","v":"TF118-3"},"Custom Gift Basket","RETAIL",75]
["TF119-1",{"$f":"Table_prices[[#This Row],[ITEMNMBR]]","v":"TF119-1"},"Custom Gift Basket","RETAIL",98.64]
["TF119-2",{"$f":"Table_prices[[#This Row],[ITEMNMBR]]","v":"TF119-2"},"Custom Gift Basket","RETAIL",115.48]
["TF12-1",{"$f":"Table_prices[[#This Row],[ITEMNMBR]]","v":"TF12-1"},"Custom Gift Basket","RETAIL",50.64]
["TF12-2",{"$f":"Table_prices[[#This Row],[ITEMNMBR]]","v":"TF12-2"},"Custom Gift Basket","RETAIL",99.99]
["TF120-1",{"$f":"Table_prices[[#This Row],[ITEMNMBR]]","v":"TF120-1"},"Custom Gift Basket","RETAIL",69.989999999999995]
["TF121-1",{"$f":"Table_prices[[#This Row],[ITEMNMBR]]","v":"TF121-1"},"Custom Gift Basket","RETAIL",121.09]
["TF121-2",{"$f":"Table_prices[[#This Row],[ITEMNMBR]]","v":"TF121-2"},"Custom Gift Basket","RETAIL",96.84]
["TF121-3",{"$f":"Table_prices[[#This Row],[ITEMNMBR]]","v":"TF121-3"},"Custom Gift Basket","RETAIL",90.14]
["TF122-1",{"$f":"Table_prices[[#This Row],[ITEMNMBR]]","v":"TF122-1"},"Custom Easter Medium Brown Bunny","RETAIL",102.38]
["TF125-1",{"$f":"Table_prices[[#This Row],[ITEMNMBR]]","v":"TF125-1"},"Custom Easter Basket No Bunny","RETAIL",94.34]
["TF126-1",{"$f":"Table_prices[[#This Row],[ITEMNMBR]]","v":"TF126-1"},"Custom Easter Basket Floppy Eared Bunny","RETAIL",124.24]
["TF127-1",{"$f":"Table_prices[[#This Row],[ITEMNMBR]]","v":"TF127-1"},"Custom Gift Basket","RETAIL",100]
["TF127-2",{"$f":"Table_prices[[#This Row],[ITEMNMBR]]","v":"TF127-2"},"Custom Gift Basket","RETAIL",80.84]
["TF128-1",{"$f":"Table_prices[[#This Row],[ITEMNMBR]]","v":"TF128-1"},"Custom Gift Basket","RETAIL",69.989999999999995]
["TF128-2",{"$f":"Table_prices[[#This Row],[ITEMNMBR]]","v":"TF128-2"},"Custom Gift Basket","RETAIL",105]
["TF128-3",{"$f":"Table_prices[[#This Row],[ITEMNMBR]]","v":"TF128-3"},"Custom Gift Basket","RETAIL",172.99]
["TF129-1",{"$f":"Table_prices[[#This Row],[ITEMNMBR]]","v":"TF129-1"},"Custom Gift Basket","RETAIL",100.24]
["TF13-1",{"$f":"Table_prices[[#This Row],[ITEMNMBR]]","v":"TF13-1"},"Custom Gift Basket","RETAIL",134.26]
["TF130-1",{"$f":"Table_prices[[#This Row],[ITEMNMBR]]","v":"TF130-1"},"Custom Gift Basket","RETAIL",198.92]
["TF130-2",{"$f":"Table_prices[[#This Row],[ITEMNMBR]]","v":"TF130-2"},"Custom Gift Basket","RETAIL",147.78]
["TF131-1",{"$f":"Table_prices[[#This Row],[ITEMNMBR]]","v":"TF131-1"},"Custom Gift Basket","RETAIL",129.91999999999999]
["TF131-2",{"$f":"Table_prices[[#This Row],[ITEMNMBR]]","v":"TF131-2"},"Custom Gift Basket","RETAIL",59.99]
["TF131-3",{"$f":"Table_prices[[#This Row],[ITEMNMBR]]","v":"TF131-3"},"Custom Gift Basket","RETAIL",69.989999999999995]
["TF132-1",{"$f":"Table_prices[[#This Row],[ITEMNMBR]]","v":"TF132-1"},"Custom Gift Basket","RETAIL",37.99]
["TF132-2",{"$f":"Table_prices[[#This Row],[ITEMNMBR]]","v":"TF132-2"},"Custom Gift Basket","RETAIL",42.99]
["TF132-3",{"$f":"Table_prices[[#This Row],[ITEMNMBR]]","v":"TF132-3"},"Custom Gift Basket","RETAIL",76.94]
["TF133-1",{"$f":"Table_prices[[#This Row],[ITEMNMBR]]","v":"TF133-1"},"Custom Gift Basket","RETAIL",50.99]
["TF133-2",{"$f":"Table_prices[[#This Row],[ITEMNMBR]]","v":"TF133-2"},"Custom Gift Basket","RETAIL",45.39]
["TF133-3",{"$f":"Table_prices[[#This Row],[ITEMNMBR]]","v":"TF133-3"},"Custom Gift Basket","RETAIL",119.99]
["TF134-1",{"$f":"Table_prices[[#This Row],[ITEMNMBR]]","v":"TF134-1"},"Custom Gift Basket","RETAIL",34.99]
["TF134-2",{"$f":"Table_prices[[#This Row],[ITEMNMBR]]","v":"TF134-2"},"Custom Gift Basket","RETAIL",59.99]
["TF135-1",{"$f":"Table_prices[[#This Row],[ITEMNMBR]]","v":"TF135-1"},"Custom Gift Basket","RETAIL",69.989999999999995]
["TF135-2",{"$f":"Table_prices[[#This Row],[ITEMNMBR]]","v":"TF135-2"},"Custom Gift Basket","RETAIL",250]
["TF135-3",{"$f":"Table_prices[[#This Row],[ITEMNMBR]]","v":"TF135-3"},"Custom Gift Basket","RETAIL",140.63999999999999]
["TF136-1",{"$f":"Table_prices[[#This Row],[ITEMNMBR]]","v":"TF136-1"},"Custom Gift Basket","RETAIL",76.84]
["TF136-2",{"$f":"Table_prices[[#This Row],[ITEMNMBR]]","v":"TF136-2"},"Custom Gift Basket","RETAIL",50.94]
["TF136-3",{"$f":"Table_prices[[#This Row],[ITEMNMBR]]","v":"TF136-3"},"Custom Gift Basket","RETAIL",149.99]
["TF136-4",{"$f":"Table_prices[[#This Row],[ITEMNMBR]]","v":"TF136-4"},"Custom Gift Basket","RETAIL",149.99]
["TF136-5",{"$f":"Table_prices[[#This Row],[ITEMNMBR]]","v":"TF136-5"},"Custom Gift Basket","RETAIL",50.94]
["TF137-1",{"$f":"Table_prices[[#This Row],[ITEMNMBR]]","v":"TF137-1"},"Custom Gift Basket","RETAIL",51.59]
["TF137-2",{"$f":"Table_prices[[#This Row],[ITEMNMBR]]","v":"TF137-2"},"Custom Gift Basket","RETAIL",39.99]
["TF138-1",{"$f":"Table_prices[[#This Row],[ITEMNMBR]]","v":"TF138-1"},"Custom Gift Basket","RETAIL",156.21]
["TF138-2",{"$f":"Table_prices[[#This Row],[ITEMNMBR]]","v":"TF138-2"},"Custom Gift Basket","RETAIL",88.2]
["TF138-3",{"$f":"Table_prices[[#This Row],[ITEMNMBR]]","v":"TF138-3"},"Custom Gift Basket","RETAIL",192]
["TF139-1",{"$f":"Table_prices[[#This Row],[ITEMNMBR]]","v":"TF139-1"},"Custom Gift Basket","RETAIL",119.99]
["TF139-2",{"$f":"Table_prices[[#This Row],[ITEMNMBR]]","v":"TF139-2"},"Custom Gift Basket","RETAIL",215.6]
["TF139-3",{"$f":"Table_prices[[#This Row],[ITEMNMBR]]","v":"TF139-3"},"Custom Gift Basket","RETAIL",161.74]
["TF14-1",{"$f":"Table_prices[[#This Row],[ITEMNMBR]]","v":"TF14-1"},"Custom Gift Basket","RETAIL",116.16]
["TF140-1",{"$f":"Table_prices[[#This Row],[ITEMNMBR]]","v":"TF140-1"},"Custom Gift Basket","RETAIL",75.38]
["TF140-2",{"$f":"Table_prices[[#This Row],[ITEMNMBR]]","v":"TF140-2"},"Custom Gift Basket","RETAIL",195.99]
["TF141-1",{"$f":"Table_prices[[#This Row],[ITEMNMBR]]","v":"TF141-1"},"Custom Gift Basket","RETAIL",99.99]
["TF141-2",{"$f":"Table_prices[[#This Row],[ITEMNMBR]]","v":"TF141-2"},"Custom Gift Basket","RETAIL",41.99]
["TF142-1",{"$f":"Table_prices[[#This Row],[ITEMNMBR]]","v":"TF142-1"},"Custom Gift Basket","RETAIL",49.99]
["TF142-2",{"$f":"Table_prices[[#This Row],[ITEMNMBR]]","v":"TF142-2"},"Custom Gift Basket","RETAIL",154.99]
["TF142-3",{"$f":"Table_prices[[#This Row],[ITEMNMBR]]","v":"TF142-3"},"Custom Gift Basket","RETAIL",52.99]
["TF145-1",{"$f":"Table_prices[[#This Row],[ITEMNMBR]]","v":"TF145-1"},"Custom Gift Basket","RETAIL",59.99]
["TF146-1",{"$f":"Table_prices[[#This Row],[ITEMNMBR]]","v":"TF146-1"},"Custom Gift Basket","RETAIL",0]
["TF147-1",{"$f":"Table_prices[[#This Row],[ITEMNMBR]]","v":"TF147-1"},"Custom Gift Basket","RETAIL",33.5]
["TF147-2",{"$f":"Table_prices[[#This Row],[ITEMNMBR]]","v":"TF147-2"},"Custom Gift Basket","RETAIL",110.99]
["TF147-3",{"$f":"Table_prices[[#This Row],[ITEMNMBR]]","v":"TF147-3"},"Custom Gift Basket","RETAIL",105.7]
["TF148-1",{"$f":"Table_prices[[#This Row],[ITEMNMBR]]","v":"TF148-1"},"Custom Gift Basket","RETAIL",62.99]
["TF148-2",{"$f":"Table_prices[[#This Row],[ITEMNMBR]]","v":"TF148-2"},"Custom Gift Basket","RETAIL",74.72]
["TF148-3",{"$f":"Table_prices[[#This Row],[ITEMNMBR]]","v":"TF148-3"},"Custom Gift Basket","RETAIL",74.72]
["TF149-1",{"$f":"Table_prices[[#This Row],[ITEMNMBR]]","v":"TF149-1"},"Custom Gift Basket","RETAIL",133.38]
["TF15-1",{"$f":"Table_prices[[#This Row],[ITEMNMBR]]","v":"TF15-1"},"Custom Gift Basket","RETAIL",96.93]
["TF15-2",{"$f":"Table_prices[[#This Row],[ITEMNMBR]]","v":"TF15-2"},"Custom Gift Basket","RETAIL",84.94]
["TF15-3",{"$f":"Table_prices[[#This Row],[ITEMNMBR]]","v":"TF15-3"},"Custom Gift Basket","RETAIL",129.46]
["TF150-1",{"$f":"Table_prices[[#This Row],[ITEMNMBR]]","v":"TF150-1"},"Custom Gift Basket","RETAIL",106.99]
["TF151-1",{"$f":"Table_prices[[#This Row],[ITEMNMBR]]","v":"TF151-1"},"Custom Gift Basket","RETAIL",201.99]
["TF151-2",{"$f":"Table_prices[[#This Row],[ITEMNMBR]]","v":"TF151-2"},"Custom Gift Basket","RETAIL",179.99]
["TF151-3",{"$f":"Table_prices[[#This Row],[ITEMNMBR]]","v":"TF151-3"},"Custom Gift Basket","RETAIL",96.94]
["TF152-1",{"$f":"Table_prices[[#This Row],[ITEMNMBR]]","v":"TF152-1"},"Custom Gift Basket","RETAIL",101.99]
["TF152-2",{"$f":"Table_prices[[#This Row],[ITEMNMBR]]","v":"TF152-2"},"Custom Gift Basket","RETAIL",77.989999999999995]
["TF155-1",{"$f":"Table_prices[[#This Row],[ITEMNMBR]]","v":"TF155-1"},"Custom Gift Basket","RETAIL",177.99]
["TF156-1",{"$f":"Table_prices[[#This Row],[ITEMNMBR]]","v":"TF156-1"},"Custom Gift Basket","RETAIL",102.99]
["TF157-1",{"$f":"Table_prices[[#This Row],[ITEMNMBR]]","v":"TF157-1"},"Custom Gift Basket","RETAIL",76.98]
["TF157-2",{"$f":"Table_prices[[#This Row],[ITEMNMBR]]","v":"TF157-2"},"Custom Gift Basket","RETAIL",59.99]
["TF157-3",{"$f":"Table_prices[[#This Row],[ITEMNMBR]]","v":"TF157-3"},"Custom Gift Basket","RETAIL",98.99]
["TF157-4",{"$f":"Table_prices[[#This Row],[ITEMNMBR]]","v":"TF157-4"},"Custom Gift Basket","RETAIL",78.95]
["TF158-1",{"$f":"Table_prices[[#This Row],[ITEMNMBR]]","v":"TF158-1"},"Custom Gift Basket","RETAIL",0]
["TF158-2",{"$f":"Table_prices[[#This Row],[ITEMNMBR]]","v":"TF158-2"},"Custom Gift Basket","RETAIL",149.99]
["TF158-3",{"$f":"Table_prices[[#This Row],[ITEMNMBR]]","v":"TF158-3"},"Custom Gift Basket","RETAIL",31.98]
["TF16-1",{"$f":"Table_prices[[#This Row],[ITEMNMBR]]","v":"TF16-1"},"Custom Gift Basket","RETAIL",81.99]
["TF16-2",{"$f":"Table_prices[[#This Row],[ITEMNMBR]]","v":"TF16-2"},"Custom Gift Basket","RETAIL",95.99]
["TF16-3",{"$f":"Table_prices[[#This Row],[ITEMNMBR]]","v":"TF16-3"},"Custom Gift Basket","RETAIL",220]
["TF17-1",{"$f":"Table_prices[[#This Row],[ITEMNMBR]]","v":"TF17-1"},"Custom Gift Basket","RETAIL",122.99]
["TF18-1",{"$f":"Table_prices[[#This Row],[ITEMNMBR]]","v":"TF18-1"},"Custom Gift Basket","RETAIL",99.99]
["TF18-2",{"$f":"Table_prices[[#This Row],[ITEMNMBR]]","v":"TF18-2"},"Custom Gift Basket","RETAIL",174.78]
["TF183-1",{"$f":"Table_prices[[#This Row],[ITEMNMBR]]","v":"TF183-1"},"Custom Gift Basket","RETAIL",209.99]
["TF184-1",{"$f":"Table_prices[[#This Row],[ITEMNMBR]]","v":"TF184-1"},"Custom Gift Basket","RETAIL",100]
["TF184-2",{"$f":"Table_prices[[#This Row],[ITEMNMBR]]","v":"TF184-2"},"Custom Gift Basket","RETAIL",118.89]
["TF184-3",{"$f":"Table_prices[[#This Row],[ITEMNMBR]]","v":"TF184-3"},"Custom Gift Basket","RETAIL",150.26]
["TF185-1",{"$f":"Table_prices[[#This Row],[ITEMNMBR]]","v":"TF185-1"},"Custom Gift Basket","RETAIL",100.54]
["TF185-2",{"$f":"Table_prices[[#This Row],[ITEMNMBR]]","v":"TF185-2"},"Custom Gift Basket","RETAIL",80.62]
["TF185-3",{"$f":"Table_prices[[#This Row],[ITEMNMBR]]","v":"TF185-3"},"Custom Gift Basket","RETAIL",214.04]
["TF185-4",{"$f":"Table_prices[[#This Row],[ITEMNMBR]]","v":"TF185-4"},"Custom Gift Basket","RETAIL",100.98]
["TF185-5",{"$f":"Table_prices[[#This Row],[ITEMNMBR]]","v":"TF185-5"},"Custom Gift Basket","RETAIL",119.3]
["TF185-6",{"$f":"Table_prices[[#This Row],[ITEMNMBR]]","v":"TF185-6"},"Custom Gift Basket","RETAIL",237.99]
["TF185-7",{"$f":"Table_prices[[#This Row],[ITEMNMBR]]","v":"TF185-7"},"Custom Gift Basket","RETAIL",128.97999999999999]
["TF186-1",{"$f":"Table_prices[[#This Row],[ITEMNMBR]]","v":"TF186-1"},"Custom Gift Basket","RETAIL",135.94]
["TF186-2",{"$f":"Table_prices[[#This Row],[ITEMNMBR]]","v":"TF186-2"},"Custom Gift Basket","RETAIL",55.55]
["TF186-3",{"$f":"Table_prices[[#This Row],[ITEMNMBR]]","v":"TF186-3"},"Custom Gift Basket","RETAIL",149.99]
["TF187-1",{"$f":"Table_prices[[#This Row],[ITEMNMBR]]","v":"TF187-1"},"Custom Gift Basket","RETAIL",72.37]
["TF187-2",{"$f":"Table_prices[[#This Row],[ITEMNMBR]]","v":"TF187-2"},"Custom Gift Basket","RETAIL",307.95999999999998]
["TF187-3",{"$f":"Table_prices[[#This Row],[ITEMNMBR]]","v":"TF187-3"},"Custom Gift Basket","RETAIL",79.819999999999993]
["TF187-4",{"$f":"Table_prices[[#This Row],[ITEMNMBR]]","v":"TF187-4"},"Custom Gift Basket","RETAIL",134.99]
["TF187-5",{"$f":"Table_prices[[#This Row],[ITEMNMBR]]","v":"TF187-5"},"Custom Gift Basket","RETAIL",76.989999999999995]
["TF187-6",{"$f":"Table_prices[[#This Row],[ITEMNMBR]]","v":"TF187-6"},"Custom Gift Basket","RETAIL",25]
["TF187-7",{"$f":"Table_prices[[#This Row],[ITEMNMBR]]","v":"TF187-7"},"Custom Gift Basket","RETAIL",76.94]
["TF187-8",{"$f":"Table_prices[[#This Row],[ITEMNMBR]]","v":"TF187-8"},"Custom Gift Basket","RETAIL",84.99]
["TF188-1",{"$f":"Table_prices[[#This Row],[ITEMNMBR]]","v":"TF188-1"},"Custom Gift Basket","RETAIL",46.35]
["TF188-2",{"$f":"Table_prices[[#This Row],[ITEMNMBR]]","v":"TF188-2"},"Custom Gift Basket","RETAIL",118.32]
["TF188-3",{"$f":"Table_prices[[#This Row],[ITEMNMBR]]","v":"TF188-3"},"Custom Gift Basket","RETAIL",92.26]
["TF189-1",{"$f":"Table_prices[[#This Row],[ITEMNMBR]]","v":"TF189-1"},"Custom Gift Basket","RETAIL",114.15]
["TF189-2",{"$f":"Table_prices[[#This Row],[ITEMNMBR]]","v":"TF189-2"},"Custom Gift Basket","RETAIL",96.64]
["TF189-3",{"$f":"Table_prices[[#This Row],[ITEMNMBR]]","v":"TF189-3"},"Custom Gift Basket","RETAIL",56.8]
["TF189-4",{"$f":"Table_prices[[#This Row],[ITEMNMBR]]","v":"TF189-4"},"Custom Gift Basket","RETAIL",79.989999999999995]
["TF189-5",{"$f":"Table_prices[[#This Row],[ITEMNMBR]]","v":"TF189-5"},"Custom Gift Basket","RETAIL",255.99]
["TF189-6",{"$f":"Table_prices[[#This Row],[ITEMNMBR]]","v":"TF189-6"},"Custom Gift Basket","RETAIL",128.54]
["TF189-7",{"$f":"Table_prices[[#This Row],[ITEMNMBR]]","v":"TF189-7"},"Custom Gift Basket","RETAIL",114.04]
["TF189-8",{"$f":"Table_prices[[#This Row],[ITEMNMBR]]","v":"TF189-8"},"Custom Gift Basket","RETAIL",150.34]
["TF19-1",{"$f":"Table_prices[[#This Row],[ITEMNMBR]]","v":"TF19-1"},"Custom Gift Basket","RETAIL",69.989999999999995]
["TF19-2",{"$f":"Table_prices[[#This Row],[ITEMNMBR]]","v":"TF19-2"},"Custom Gift Basket","RETAIL",117.12]
["TF19-3",{"$f":"Table_prices[[#This Row],[ITEMNMBR]]","v":"TF19-3"},"Custom Gift Basket","RETAIL",100]
["TF190-1",{"$f":"Table_prices[[#This Row],[ITEMNMBR]]","v":"TF190-1"},"Custom Gift Basket","RETAIL",100.5]
["TF190-2",{"$f":"Table_prices[[#This Row],[ITEMNMBR]]","v":"TF190-2"},"Custom Gift Basket","RETAIL",60.39]
["TF191-1",{"$f":"Table_prices[[#This Row],[ITEMNMBR]]","v":"TF191-1"},"Custom Gift Basket","RETAIL",199.1]
["TF191-2",{"$f":"Table_prices[[#This Row],[ITEMNMBR]]","v":"TF191-2"},"Custom Gift Basket","RETAIL",101.88]
["TF191-3",{"$f":"Table_prices[[#This Row],[ITEMNMBR]]","v":"TF191-3"},"Custom Gift Basket","RETAIL",82.24]
["TF192-1",{"$f":"Table_prices[[#This Row],[ITEMNMBR]]","v":"TF192-1"},"Custom Gift Basket","RETAIL",54.99]
["TF192-2",{"$f":"Table_prices[[#This Row],[ITEMNMBR]]","v":"TF192-2"},"Custom Gift Basket","RETAIL",108.89]
["TF192-3",{"$f":"Table_prices[[#This Row],[ITEMNMBR]]","v":"TF192-3"},"Custom Gift Basket","RETAIL",76.94]
["TF194-1",{"$f":"Table_prices[[#This Row],[ITEMNMBR]]","v":"TF194-1"},"Custom Gift Basket","RETAIL",183.94]
["TF194-2",{"$f":"Table_prices[[#This Row],[ITEMNMBR]]","v":"TF194-2"},"Custom Gift Basket","RETAIL",78.94]
["TF194-3",{"$f":"Table_prices[[#This Row],[ITEMNMBR]]","v":"TF194-3"},"Custom Gift Basket","RETAIL",79.989999999999995]
["TF195-1",{"$f":"Table_prices[[#This Row],[ITEMNMBR]]","v":"TF195-1"},"Custom Gift Basket","RETAIL",190.92]
["TF195-2",{"$f":"Table_prices[[#This Row],[ITEMNMBR]]","v":"TF195-2"},"Custom Gift Basket","RETAIL",35]
["TF195-3",{"$f":"Table_prices[[#This Row],[ITEMNMBR]]","v":"TF195-3"},"Custom Gift Basket","RETAIL",285.58]
["TF196-1",{"$f":"Table_prices[[#This Row],[ITEMNMBR]]","v":"TF196-1"},"Custom Gift Basket","RETAIL",159.18]
["TF196-2",{"$f":"Table_prices[[#This Row],[ITEMNMBR]]","v":"TF196-2"},"Custom Gift Basket","RETAIL",62.99]
["TF196-3",{"$f":"Table_prices[[#This Row],[ITEMNMBR]]","v":"TF196-3"},"Custom Gift Basket","RETAIL",129.99]
["TF197-1",{"$f":"Table_prices[[#This Row],[ITEMNMBR]]","v":"TF197-1"},"Custom Gift Basket","RETAIL",158.44999999999999]
["TF197-2",{"$f":"Table_prices[[#This Row],[ITEMNMBR]]","v":"TF197-2"},"Custom Gift Basket","RETAIL",84.99]
["TF197-3",{"$f":"Table_prices[[#This Row],[ITEMNMBR]]","v":"TF197-3"},"Custom Gift Basket","RETAIL",105.59]
["TF198-1",{"$f":"Table_prices[[#This Row],[ITEMNMBR]]","v":"TF198-1"},"Custom Gift Basket","RETAIL",51.95]
["TF198-2",{"$f":"Table_prices[[#This Row],[ITEMNMBR]]","v":"TF198-2"},"Custom Gift Basket","RETAIL",98.99]
["TF198-3",{"$f":"Table_prices[[#This Row],[ITEMNMBR]]","v":"TF198-3"},"Custom Gift Basket","RETAIL",85]
["TF198-4",{"$f":"Table_prices[[#This Row],[ITEMNMBR]]","v":"TF198-4"},"Custom Gift Basket","RETAIL",58.24]
["TF199-1",{"$f":"Table_prices[[#This Row],[ITEMNMBR]]","v":"TF199-1"},"Custom Gift Basket","RETAIL",84.99]
["TF199-2",{"$f":"Table_prices[[#This Row],[ITEMNMBR]]","v":"TF199-2"},"Custom Gift Basket","RETAIL",139.99]
["TF199-3",{"$f":"Table_prices[[#This Row],[ITEMNMBR]]","v":"TF199-3"},"Custom Gift Basket","RETAIL",48.38]
["TF199-4",{"$f":"Table_prices[[#This Row],[ITEMNMBR]]","v":"TF199-4"},"Custom Gift Basket","RETAIL",84.24]
["TF199-5",{"$f":"Table_prices[[#This Row],[ITEMNMBR]]","v":"TF199-5"},"Custom Gift Basket","RETAIL",200.54]
["TF199-6",{"$f":"Table_prices[[#This Row],[ITEMNMBR]]","v":"TF199-6"},"Custom Gift Basket","RETAIL",35.869999999999997]
["TF199-7",{"$f":"Table_prices[[#This Row],[ITEMNMBR]]","v":"TF199-7"},"Custom Gift Basket","RETAIL",312.99]
["TF199-8",{"$f":"Table_prices[[#This Row],[ITEMNMBR]]","v":"TF199-8"},"Custom Gift Basket","RETAIL",39.99]
["TF199-9",{"$f":"Table_prices[[#This Row],[ITEMNMBR]]","v":"TF199-9"},"Custom Gift Basket","RETAIL",249.99]
["TF20-1",{"$f":"Table_prices[[#This Row],[ITEMNMBR]]","v":"TF20-1"},"Custom Gift Basket","RETAIL",86.94]
["TF20-2",{"$f":"Table_prices[[#This Row],[ITEMNMBR]]","v":"TF20-2"},"Custom Gift Basket","RETAIL",59.99]
["TF20-3",{"$f":"Table_prices[[#This Row],[ITEMNMBR]]","v":"TF20-3"},"Custom Gift Basket","RETAIL",91.99]
["TF200-1",{"$f":"Table_prices[[#This Row],[ITEMNMBR]]","v":"TF200-1"},"Custom Gift Basket","RETAIL",228.99]
["TF200-2",{"$f":"Table_prices[[#This Row],[ITEMNMBR]]","v":"TF200-2"},"Custom Gift Basket","RETAIL",111.08]
["TF200-3",{"$f":"Table_prices[[#This Row],[ITEMNMBR]]","v":"TF200-3"},"Custom Gift Basket","RETAIL",109.99]
["TF201-1",{"$f":"Table_prices[[#This Row],[ITEMNMBR]]","v":"TF201-1"},"Custom Gift Basket","RETAIL",0]
["TF201-2",{"$f":"Table_prices[[#This Row],[ITEMNMBR]]","v":"TF201-2"},"Custom Gift Basket","RETAIL",149.99]
["TF201-3",{"$f":"Table_prices[[#This Row],[ITEMNMBR]]","v":"TF201-3"},"Custom Gift Basket","RETAIL",88.99]
["TF202-1",{"$f":"Table_prices[[#This Row],[ITEMNMBR]]","v":"TF202-1"},"Custom Gift Basket","RETAIL",85.3]
["TF202-2",{"$f":"Table_prices[[#This Row],[ITEMNMBR]]","v":"TF202-2"},"Custom Gift Basket","RETAIL",129.99]
["TF202-3",{"$f":"Table_prices[[#This Row],[ITEMNMBR]]","v":"TF202-3"},"Custom Gift Basket","RETAIL",144.94]
["TF202-4",{"$f":"Table_prices[[#This Row],[ITEMNMBR]]","v":"TF202-4"},"Custom Gift Basket","RETAIL",45]
["TF203-1",{"$f":"Table_prices[[#This Row],[ITEMNMBR]]","v":"TF203-1"},"Custom Gift Basket","RETAIL",134.99]
["TF203-10",{"$f":"Table_prices[[#This Row],[ITEMNMBR]]","v":"TF203-10"},"Custom Gift Basket","RETAIL",114.53]
["TF203-11",{"$f":"Table_prices[[#This Row],[ITEMNMBR]]","v":"TF203-11"},"Custom Gift Basket","RETAIL",36.99]
["TF203-2",{"$f":"Table_prices[[#This Row],[ITEMNMBR]]","v":"TF203-2"},"Custom Gift Basket","RETAIL",72.2]
["TF203-3",{"$f":"Table_prices[[#This Row],[ITEMNMBR]]","v":"TF203-3"},"Custom Gift Basket","RETAIL",134.1]
["TF203-4",{"$f":"Table_prices[[#This Row],[ITEMNMBR]]","v":"TF203-4"},"Custom Gift Basket","RETAIL",118.72]
["TF203-5",{"$f":"Table_prices[[#This Row],[ITEMNMBR]]","v":"TF203-5"},"Custom Gift Basket","RETAIL",0]
["TF203-6",{"$f":"Table_prices[[#This Row],[ITEMNMBR]]","v":"TF203-6"},"Custom Gift Basket","RETAIL",49.99]
["TF203-7",{"$f":"Table_prices[[#This Row],[ITEMNMBR]]","v":"TF203-7"},"Custom Gift Basket","RETAIL",47.08]
["TF203-8",{"$f":"Table_prices[[#This Row],[ITEMNMBR]]","v":"TF203-8"},"Custom Gift Basket","RETAIL",121.98]
["TF203-9",{"$f":"Table_prices[[#This Row],[ITEMNMBR]]","v":"TF203-9"},"Custom Gift Basket","RETAIL",125.43]
["TF204-1",{"$f":"Table_prices[[#This Row],[ITEMNMBR]]","v":"TF204-1"},"Custom Gift Basket","RETAIL",157.04]
["TF204-2",{"$f":"Table_prices[[#This Row],[ITEMNMBR]]","v":"TF204-2"},"Custom Gift Basket","RETAIL",360]
["TF204-3",{"$f":"Table_prices[[#This Row],[ITEMNMBR]]","v":"TF204-3"},"Custom Gift Basket","RETAIL",52.61]
["TF205-1",{"$f":"Table_prices[[#This Row],[ITEMNMBR]]","v":"TF205-1"},"Custom Gift Basket","RETAIL",101]
["TF205-2",{"$f":"Table_prices[[#This Row],[ITEMNMBR]]","v":"TF205-2"},"Custom Gift Basket","RETAIL",149.69999999999999]
["TF205-3",{"$f":"Table_prices[[#This Row],[ITEMNMBR]]","v":"TF205-3"},"Custom Gift Basket","RETAIL",92.18]
["TF206-1",{"$f":"Table_prices[[#This Row],[ITEMNMBR]]","v":"TF206-1"},"Custom Gift Basket","RETAIL",166.41]
["TF206-2",{"$f":"Table_prices[[#This Row],[ITEMNMBR]]","v":"TF206-2"},"Custom Gift Basket","RETAIL",87.24]
["TF206-3",{"$f":"Table_prices[[#This Row],[ITEMNMBR]]","v":"TF206-3"},"Custom Gift Basket","RETAIL",72.09]
["TF206-4",{"$f":"Table_prices[[#This Row],[ITEMNMBR]]","v":"TF206-4"},"Custom Gift Basket","RETAIL",105.6]
["TF207-1",{"$f":"Table_prices[[#This Row],[ITEMNMBR]]","v":"TF207-1"},"Custom Gift Basket","RETAIL",199.99]
["TF207-2",{"$f":"Table_prices[[#This Row],[ITEMNMBR]]","v":"TF207-2"},"Custom Gift Basket","RETAIL",149.9]
["TF207-3",{"$f":"Table_prices[[#This Row],[ITEMNMBR]]","v":"TF207-3"},"Custom Gift Basket","RETAIL",542.96]
["TF207-4",{"$f":"Table_prices[[#This Row],[ITEMNMBR]]","v":"TF207-4"},"Custom Gift Basket","RETAIL",108.84]
["TF207-5",{"$f":"Table_prices[[#This Row],[ITEMNMBR]]","v":"TF207-5"},"Custom Gift Basket","RETAIL",31.99]
["TF207-6",{"$f":"Table_prices[[#This Row],[ITEMNMBR]]","v":"TF207-6"},"Custom Gift Basket","RETAIL",120.49]
["TF207-7",{"$f":"Table_prices[[#This Row],[ITEMNMBR]]","v":"TF207-7"},"Custom Gift Basket","RETAIL",86.89]
["TF207-8",{"$f":"Table_prices[[#This Row],[ITEMNMBR]]","v":"TF207-8"},"Custom Gift Basket","RETAIL",90]
["TF208-1",{"$f":"Table_prices[[#This Row],[ITEMNMBR]]","v":"TF208-1"},"Custom Gift Basket","RETAIL",447.5]
["TF208-2",{"$f":"Table_prices[[#This Row],[ITEMNMBR]]","v":"TF208-2"},"Custom Gift Basket","RETAIL",69.989999999999995]
["TF208-3",{"$f":"Table_prices[[#This Row],[ITEMNMBR]]","v":"TF208-3"},"Custom Gift Basket","RETAIL",39.99]
["TF209-1",{"$f":"Table_prices[[#This Row],[ITEMNMBR]]","v":"TF209-1"},"Custom Gift Basket","RETAIL",338.7]
["TF209-2",{"$f":"Table_prices[[#This Row],[ITEMNMBR]]","v":"TF209-2"},"Custom Gift Basket","RETAIL",144.99]
["TF209-3",{"$f":"Table_prices[[#This Row],[ITEMNMBR]]","v":"TF209-3"},"Custom Gift Basket","RETAIL",110]
["TF209-4",{"$f":"Table_prices[[#This Row],[ITEMNMBR]]","v":"TF209-4"},"Custom Gift Basket","RETAIL",152.46]
["TF21-1",{"$f":"Table_prices[[#This Row],[ITEMNMBR]]","v":"TF21-1"},"Custom Gift Basket","RETAIL",77.5]
["TF210-1",{"$f":"Table_prices[[#This Row],[ITEMNMBR]]","v":"TF210-1"},"Custom - Peroni Beer & Nuts","RETAIL",102.55]
["TF210-2",{"$f":"Table_prices[[#This Row],[ITEMNMBR]]","v":"TF210-2"},"Custom - wild about you with no choc","RETAIL",49.99]
["TF210-3",{"$f":"Table_prices[[#This Row],[ITEMNMBR]]","v":"TF210-3"},"Custom - candle crate with extra candle","RETAIL",47.98]
["TF211-1",{"$f":"Table_prices[[#This Row],[ITEMNMBR]]","v":"TF211-1"},"Custom - around world 6 with all guinness","RETAIL",98.94]
["TF211-2",{"$f":"Table_prices[[#This Row],[ITEMNMBR]]","v":"TF211-2"},"Custom - chocolate and nuts basket - ross","RETAIL",199.99]
["TF211-3",{"$f":"Table_prices[[#This Row],[ITEMNMBR]]","v":"TF211-3"},"Custom - italian with wine - billie","RETAIL",108.99]
["TF212-1",{"$f":"Table_prices[[#This Row],[ITEMNMBR]]","v":"TF212-1"},"Custom - Kosher Stack no chocolate - Tim","RETAIL",40.06]
["TF212-2",{"$f":"Table_prices[[#This Row],[ITEMNMBR]]","v":"TF212-2"},"Custom - Kosher Classic no chocolate - Tim","RETAIL",40.06]
["TF213-1",{"$f":"Table_prices[[#This Row],[ITEMNMBR]]","v":"TF213-1"},"Custom - Bountiful with wine, in XL basket - Dena","RETAIL",158.44]
["TF213-2",{"$f":"Table_prices[[#This Row],[ITEMNMBR]]","v":"TF213-2"},"Custom - bountiful with ravens zin and gf crax - ross","RETAIL",158.99]
["TF213-3",{"$f":"Table_prices[[#This Row],[ITEMNMBR]]","v":"TF213-3"},"Custom - junk food care pkg - no slim jim - dena","RETAIL",34.99]
["TF214-1",{"$f":"Table_prices[[#This Row],[ITEMNMBR]]","v":"TF214-1"},"Custom - Champagne & Truffles - Without Nuts","RETAIL",139.99]
["TF214-2",{"$f":"Table_prices[[#This Row],[ITEMNMBR]]","v":"TF214-2"},"custom","RETAIL",84.99]
["TF215-1",{"$f":"Table_prices[[#This Row],[ITEMNMBR]]","v":"TF215-1"},"custom","RETAIL",199.19]
["TF215-2",{"$f":"Table_prices[[#This Row],[ITEMNMBR]]","v":"TF215-2"},"custom","RETAIL",62]
["TF215-3",{"$f":"Table_prices[[#This Row],[ITEMNMBR]]","v":"TF215-3"},"custom","RETAIL",158.66]
["TF216-1",{"$f":"Table_prices[[#This Row],[ITEMNMBR]]","v":"TF216-1"},"custom","RETAIL",200.13]
["TF217-1",{"$f":"Table_prices[[#This Row],[ITEMNMBR]]","v":"TF217-1"},"custom","RETAIL",62.01]
["TF217-2",{"$f":"Table_prices[[#This Row],[ITEMNMBR]]","v":"TF217-2"},"Custom Care Pkg midnight snack and exam cram","RETAIL",74.900000000000006]
["TF217-3",{"$f":"Table_prices[[#This Row],[ITEMNMBR]]","v":"TF217-3"},"Custom Snack with Ham Slices","RETAIL",76.25]
["TF218-1",{"$f":"Table_prices[[#This Row],[ITEMNMBR]]","v":"TF218-1"},"Custom Golf Bag Gluten Free","RETAIL",82.99]
["TF219-1",{"$f":"Table_prices[[#This Row],[ITEMNMBR]]","v":"TF219-1"},"Custom Grilling and Beer","RETAIL",225.54]
["TF219-2",{"$f":"Table_prices[[#This Row],[ITEMNMBR]]","v":"TF219-2"},"Custom Organic Fruit","RETAIL",198.99]
["TF219-3",{"$f":"Table_prices[[#This Row],[ITEMNMBR]]","v":"TF219-3"},"Custom Fruit with Dom and Pinot Grigio","RETAIL",458]
["TF219-4",{"$f":"Table_prices[[#This Row],[ITEMNMBR]]","v":"TF219-4"},"Custom Candy and chocolate custom","RETAIL",121.06]
["TF219-5",{"$f":"Table_prices[[#This Row],[ITEMNMBR]]","v":"TF219-5"},"Custom Veuve 12 bottles","RETAIL",679.99]
["TF219-6",{"$f":"Table_prices[[#This Row],[ITEMNMBR]]","v":"TF219-6"},"Custom Veuve Moet & Truffles","RETAIL",224.99]
["TF219-7",{"$f":"Table_prices[[#This Row],[ITEMNMBR]]","v":"TF219-7"},"Custom Junk Food Care Package","RETAIL",51.99]
["TF22-1",{"$f":"Table_prices[[#This Row],[ITEMNMBR]]","v":"TF22-1"},"Custom Catena WIne","RETAIL",170.99]
["TF220-1",{"$f":"Table_prices[[#This Row],[ITEMNMBR]]","v":"TF220-1"},"Custom Gardening","RETAIL",74.989999999999995]
["TF220-2",{"$f":"Table_prices[[#This Row],[ITEMNMBR]]","v":"TF220-2"},"custom snack health bucket","RETAIL",50.99]
["TF220-3",{"$f":"Table_prices[[#This Row],[ITEMNMBR]]","v":"TF220-3"},"Custom Wine in Large Basket","RETAIL",108.9]
["TF220-4",{"$f":"Table_prices[[#This Row],[ITEMNMBR]]","v":"TF220-4"},"Custom Care Package","RETAIL",199.99]
["TF220-5",{"$f":"Table_prices[[#This Row],[ITEMNMBR]]","v":"TF220-5"},"Custom Beer Bucket","RETAIL",90]
["TF221-1",{"$f":"Table_prices[[#This Row],[ITEMNMBR]]","v":"TF221-1"},"Custom Breakfast Mini","RETAIL",32.99]
["TF221-2",{"$f":"Table_prices[[#This Row],[ITEMNMBR]]","v":"TF221-2"},"Custom 2 chai replacement","RETAIL",0]
["TF221-3",{"$f":"Table_prices[[#This Row],[ITEMNMBR]]","v":"TF221-3"},"Custom Healthy Ultimate $115","RETAIL",115]
["TF221-4",{"$f":"Table_prices[[#This Row],[ITEMNMBR]]","v":"TF221-4"},"Custom soup and crock with sweet and teddy","RETAIL",155.99]
["TF222-1",{"$f":"Table_prices[[#This Row],[ITEMNMBR]]","v":"TF222-1"},"Custom Silver Oak single Napa Valley","RETAIL",193.99]
["TF222-2",{"$f":"Table_prices[[#This Row],[ITEMNMBR]]","v":"TF222-2"},"Custom Snack Ultimate with Wildhorse","RETAIL",199.99]
["TF222-3",{"$f":"Table_prices[[#This Row],[ITEMNMBR]]","v":"TF222-3"},"Custom Day Paris no chocolate","RETAIL",109.99]
["TF23",{"$f":"Table_prices[[#This Row],[ITEMNMBR]]","v":"TF23"},"Custom Coffee Choc Classic - no chocolate","RETAIL",69.989999999999995]
["TF23-1",{"$f":"Table_prices[[#This Row],[ITEMNMBR]]","v":"TF23-1"},"Custom Micro 6 remove nuts and add more snacks","RETAIL",79.989999999999995]
["TF23-2",{"$f":"Table_prices[[#This Row],[ITEMNMBR]]","v":"TF23-2"},"Custom Snack Stack in basket","RETAIL",41.99]
["TF23-3",{"$f":"Table_prices[[#This Row],[ITEMNMBR]]","v":"TF23-3"},"Custom Veuve and Truff with Cake Merlot","RETAIL",239.99]
["TF24-1",{"$f":"Table_prices[[#This Row],[ITEMNMBR]]","v":"TF24-1"},"Custom Kosher Fruit Rosh Hashana","RETAIL",77.989999999999995]
["TF24-2",{"$f":"Table_prices[[#This Row],[ITEMNMBR]]","v":"TF24-2"},"Custom Around 12 no meat more cheese crackers","RETAIL",120]
["TF24-3",{"$f":"Table_prices[[#This Row],[ITEMNMBR]]","v":"TF24-3"},"Custom Weekend in Paris plus more with Veuve","RETAIL",341.99]
["TF25-1",{"$f":"Table_prices[[#This Row],[ITEMNMBR]]","v":"TF25-1"},"Custom Orchards no nuts","RETAIL",75.989999999999995]
["TF26-1",{"$f":"Table_prices[[#This Row],[ITEMNMBR]]","v":"TF26-1"},"Custom Snack Deluxe with Gift Card $250","RETAIL",396.74]
["TF29-1",{"$f":"Table_prices[[#This Row],[ITEMNMBR]]","v":"TF29-1"},"Custom care pkg type snacks with beer","RETAIL",61.99]
["TF3-1",{"$f":"Table_prices[[#This Row],[ITEMNMBR]]","v":"TF3-1"},"Custom Healthy Premium with 2 Earl Grey","RETAIL",99.99]
["TF30-1",{"$f":"Table_prices[[#This Row],[ITEMNMBR]]","v":"TF30-1"},"Custom 3 White Wines","RETAIL",359.99]
["TF31-1",{"$f":"Table_prices[[#This Row],[ITEMNMBR]]","v":"TF31-1"},"Custom 3 Red Wines","RETAIL",538.99]
["TF31-2",{"$f":"Table_prices[[#This Row],[ITEMNMBR]]","v":"TF31-2"},"Custom 5602 No Nuts","RETAIL",34.99]
["TF32-1",{"$f":"Table_prices[[#This Row],[ITEMNMBR]]","v":"TF32-1"},"Custom 2 Italian wines in medium tray","RETAIL",130]
["TF32-2",{"$f":"Table_prices[[#This Row],[ITEMNMBR]]","v":"TF32-2"},"Custom Tea, Cookies, Candle Stack","RETAIL",49.99]
["TF32-3",{"$f":"Table_prices[[#This Row],[ITEMNMBR]]","v":"TF32-3"},"Custom Soup Stack and Reeses in a basket","RETAIL",75.989999999999995]
["TF32-4",{"$f":"Table_prices[[#This Row],[ITEMNMBR]]","v":"TF32-4"},"Custom Witch's Cauldron NUT FREE","RETAIL",49.99]
["TF32-5",{"$f":"Table_prices[[#This Row],[ITEMNMBR]]","v":"TF32-5"},"Custom Estate Collection with Red Wine","RETAIL",245.99]
["TF33-1",{"$f":"Table_prices[[#This Row],[ITEMNMBR]]","v":"TF33-1"},"Custom HARV04 plus more","RETAIL",74.989999999999995]
["TF34-1",{"$f":"Table_prices[[#This Row],[ITEMNMBR]]","v":"TF34-1"},"Custom Caught the Big ONe","RETAIL",89.99]
["TF34-2",{"$f":"Table_prices[[#This Row],[ITEMNMBR]]","v":"TF34-2"},"Custom Guinness 6 pack with teddy bear and silk rose","RETAIL",82.99]
["TF35-1",{"$f":"Table_prices[[#This Row],[ITEMNMBR]]","v":"TF35-1"},"Custom Day in Paris with Peacock Colors","RETAIL",99.99]
["TF35-2",{"$f":"Table_prices[[#This Row],[ITEMNMBR]]","v":"TF35-2"},"Custom Red Wine cheese crackers chocolate","RETAIL",250]
["TF35-3",{"$f":"Table_prices[[#This Row],[ITEMNMBR]]","v":"TF35-3"},"Custom Coffee Classic with Milk Chocolate","RETAIL",70]
["TF36-1",{"$f":"Table_prices[[#This Row],[ITEMNMBR]]","v":"TF36-1"},"Custom Kosher all fruit","RETAIL",75]
["TF36-2",{"$f":"Table_prices[[#This Row],[ITEMNMBR]]","v":"TF36-2"},"Custom Football Tailgate with 3 beers","RETAIL",144.99]
["TF36-3",{"$f":"Table_prices[[#This Row],[ITEMNMBR]]","v":"TF36-3"},"Custom Salty & Sweet Basket $37.99","RETAIL",37.99]
["TF37-1",{"$f":"Table_prices[[#This Row],[ITEMNMBR]]","v":"TF37-1"},"Custom Bottle Board Replacement","RETAIL",39.99]
["TF38-1",{"$f":"Table_prices[[#This Row],[ITEMNMBR]]","v":"TF38-1"},"Custom Golf Bag with healthy snacks","RETAIL",87.99]
["TF38-2",{"$f":"Table_prices[[#This Row],[ITEMNMBR]]","v":"TF38-2"},"Custom - Silli Gorilli single stuffed animal","RETAIL",17.989999999999998]
["TF38-3",{"$f":"Table_prices[[#This Row],[ITEMNMBR]]","v":"TF38-3"},"Custom Orchards with White Wine","RETAIL",102.99]
["TF4-1",{"$f":"Table_prices[[#This Row],[ITEMNMBR]]","v":"TF4-1"},"Custom Red Wine and sour candies","RETAIL",51.99]
["TF41-1",{"$f":"Table_prices[[#This Row],[ITEMNMBR]]","v":"TF41-1"},"Custom Candy Crate and Ravenswood Cabernet","RETAIL",66.989999999999995]
["TF42-1",{"$f":"Table_prices[[#This Row],[ITEMNMBR]]","v":"TF42-1"},"Custom Evening of INdulgence with Crax and Ham","RETAIL",131.99]
["TF43-1",{"$f":"Table_prices[[#This Row],[ITEMNMBR]]","v":"TF43-1"},"Custom Breakfast Deluxe with Sausage","RETAIL",123.99]
["TF43-2",{"$f":"Table_prices[[#This Row],[ITEMNMBR]]","v":"TF43-2"},"Custom Champagne and truffles with Cider","RETAIL",96.99]
["TF43-3",{"$f":"Table_prices[[#This Row],[ITEMNMBR]]","v":"TF43-3"},"Custom Cookie","RETAIL",120.05]
["TF44-1",{"$f":"Table_prices[[#This Row],[ITEMNMBR]]","v":"TF44-1"},"Custom Soup stack in a bsket","RETAIL",69.989999999999995]
["TF44-2",{"$f":"Table_prices[[#This Row],[ITEMNMBR]]","v":"TF44-2"},"Custom Ultimate Dog for a BIG dog","RETAIL",99.99]
["TF44-3",{"$f":"Table_prices[[#This Row],[ITEMNMBR]]","v":"TF44-3"},"Custom Catena all White and choc sun seeds","RETAIL",150.99]
["TF45-1",{"$f":"Table_prices[[#This Row],[ITEMNMBR]]","v":"TF45-1"},"custom cakebread and chocolate","RETAIL",240]
["TF46-1",{"$f":"Table_prices[[#This Row],[ITEMNMBR]]","v":"TF46-1"},"Custom Dom, Strawberries, Chocolate, Amex Card $1000","RETAIL",1400]
["TF46-2",{"$f":"Table_prices[[#This Row],[ITEMNMBR]]","v":"TF46-2"},"Custom for Adecco PResident","RETAIL",77.989999999999995]
["TF46-3",{"$f":"Table_prices[[#This Row],[ITEMNMBR]]","v":"TF46-3"},"Custom Kosher $50","RETAIL",50]
["TF47-1",{"$f":"Table_prices[[#This Row],[ITEMNMBR]]","v":"TF47-1"},"Custom 2 Moet in a medium tray","RETAIL",138.99]
["TF47-2",{"$f":"Table_prices[[#This Row],[ITEMNMBR]]","v":"TF47-2"},"Custom Fruits, Nuts, Chocolate","RETAIL",100]
["TF47-3",{"$f":"Table_prices[[#This Row],[ITEMNMBR]]","v":"TF47-3"},"Custom Moet, Chocolates, Cheese, Crackers","RETAIL",100]
["TF47-4",{"$f":"Table_prices[[#This Row],[ITEMNMBR]]","v":"TF47-4"},"Custom Ravens Red Duo with Choc, Cheese, Biscuits, etc....","RETAIL",138.99]
["TF47-5",{"$f":"Table_prices[[#This Row],[ITEMNMBR]]","v":"TF47-5"},"Custom Naughty and Nice ribbon colors","RETAIL",89.99]
["TF47-6",{"$f":"Table_prices[[#This Row],[ITEMNMBR]]","v":"TF47-6"},"Custom Orchards with Kids Candy","RETAIL",99.99]
["TF48-1",{"$f":"Table_prices[[#This Row],[ITEMNMBR]]","v":"TF48-1"},"Custom Scrumptiously Delicious with $40 gift card","RETAIL",146.99]
["TF48-2",{"$f":"Table_prices[[#This Row],[ITEMNMBR]]","v":"TF48-2"},"Custom Fruit, Nuts, Cheese, Crackers, Chocolate","RETAIL",140]
["TF48-3",{"$f":"Table_prices[[#This Row],[ITEMNMBR]]","v":"TF48-3"},"Custom Spooktacular Sweets and Treats Mug","RETAIL",14.99]
["TF5-1",{"$f":"Table_prices[[#This Row],[ITEMNMBR]]","v":"TF5-1"},"Custom Beer 3 pack","RETAIL",44.99]
["TF5-2",{"$f":"Table_prices[[#This Row],[ITEMNMBR]]","v":"TF5-2"},"Custom Chocolate Dreams with Halloween Mug","RETAIL",99.99]
["TF5-3",{"$f":"Table_prices[[#This Row],[ITEMNMBR]]","v":"TF5-3"},"Custom Chocolate Dreams with Halloween ribbons and shred","RETAIL",98.94]
["TF51-1",{"$f":"Table_prices[[#This Row],[ITEMNMBR]]","v":"TF51-1"},"Custom Hot Affair Board Game with Hand Cuffs","RETAIL",228.99]
["TF52-1",{"$f":"Table_prices[[#This Row],[ITEMNMBR]]","v":"TF52-1"},"Custom Snack Ultimate","RETAIL",163.99]
["TF53-1",{"$f":"Table_prices[[#This Row],[ITEMNMBR]]","v":"TF53-1"},"Custom Torn Ranch SUB","RETAIL",59.99]
["TF53-2",{"$f":"Table_prices[[#This Row],[ITEMNMBR]]","v":"TF53-2"},"Custom Healthy Premium with Catena Malbec","RETAIL",116.99]
["TF54-1",{"$f":"Table_prices[[#This Row],[ITEMNMBR]]","v":"TF54-1"},"Custom Snowflake Tin","RETAIL",59.99]
["TF54-2",{"$f":"Table_prices[[#This Row],[ITEMNMBR]]","v":"TF54-2"},"Custom Mini WIne Basket","RETAIL",35]
["TF55-1",{"$f":"Table_prices[[#This Row],[ITEMNMBR]]","v":"TF55-1"},"Custom Baked Goods Sampler of all 3","RETAIL",106.99]
["TF57-1",{"$f":"Table_prices[[#This Row],[ITEMNMBR]]","v":"TF57-1"},"Custom Chocolate Stack with 2 Teas","RETAIL",56.99]
["TF57-2",{"$f":"Table_prices[[#This Row],[ITEMNMBR]]","v":"TF57-2"},"Custom Wine Duo - Chardonnay and Merlot","RETAIL",124.99]
["TF58-1",{"$f":"Table_prices[[#This Row],[ITEMNMBR]]","v":"TF58-1"},"Custom Moet & Truffles with 1 extra Moet","RETAIL",177.99]
["TF58-2",{"$f":"Table_prices[[#This Row],[ITEMNMBR]]","v":"TF58-2"},"Custom Bountiful remove sausage add salmon and cider","RETAIL",139.99]
["TF58-3",{"$f":"Table_prices[[#This Row],[ITEMNMBR]]","v":"TF58-3"},"Custom Coffee Classic with 2 wild horse","RETAIL",155.99]
["TF59-1",{"$f":"Table_prices[[#This Row],[ITEMNMBR]]","v":"TF59-1"},"Custom Tour of Italy with Wildhorse Merlot","RETAIL",155.99]
["TF6-1",{"$f":"Table_prices[[#This Row],[ITEMNMBR]]","v":"TF6-1"},"Custom Spa and CHocolate $70","RETAIL",70]
["TF60-1",{"$f":"Table_prices[[#This Row],[ITEMNMBR]]","v":"TF60-1"},"Custom Golf Bag with all giftware no food","RETAIL",50]
["TF61-1",{"$f":"Table_prices[[#This Row],[ITEMNMBR]]","v":"TF61-1"},"Custom single bottle of Wildhorse Chardonnay","RETAIL",0]
["TF61-2",{"$f":"Table_prices[[#This Row],[ITEMNMBR]]","v":"TF61-2"},"Custom Brownie Sampler, Veuve, Fruit","RETAIL",119.99]
["TF62-1",{"$f":"Table_prices[[#This Row],[ITEMNMBR]]","v":"TF62-1"},"Purely with nuts","RETAIL",70.989999999999995]
["TF62-2",{"$f":"Table_prices[[#This Row],[ITEMNMBR]]","v":"TF62-2"},"Custom Candy Bucket","RETAIL",49.5]
["TF65-1",{"$f":"Table_prices[[#This Row],[ITEMNMBR]]","v":"TF65-1"},"Custom Chocolates and Snacks high end $200 Billie","RETAIL",200]
["TF66-1",{"$f":"Table_prices[[#This Row],[ITEMNMBR]]","v":"TF66-1"},"Custom Basket for Ryan H. Veg CHips, Choc, etc...","RETAIL",60]
["TF67-1",{"$f":"Table_prices[[#This Row],[ITEMNMBR]]","v":"TF67-1"},"Custom Snack Attack","RETAIL",109.2]
["TF67-2",{"$f":"Table_prices[[#This Row],[ITEMNMBR]]","v":"TF67-2"},"Custom Cookie Sampler","RETAIL",0]
["TF68-1",{"$f":"Table_prices[[#This Row],[ITEMNMBR]]","v":"TF68-1"},"Custom Cakebread Quatro","RETAIL",463.99]
["TF68-2",{"$f":"Table_prices[[#This Row],[ITEMNMBR]]","v":"TF68-2"},"Custom Heineken Bucket","RETAIL",89.99]
["TF68-3",{"$f":"Table_prices[[#This Row],[ITEMNMBR]]","v":"TF68-3"},"Custom Care Package","RETAIL",60.99]
["TF69-1",{"$f":"Table_prices[[#This Row],[ITEMNMBR]]","v":"TF69-1"},"Custom All Liquid Basket","RETAIL",115.99]
["TF7-1",{"$f":"Table_prices[[#This Row],[ITEMNMBR]]","v":"TF7-1"},"Custom Italian Basket","RETAIL",222.99]
["TF7-2",{"$f":"Table_prices[[#This Row],[ITEMNMBR]]","v":"TF7-2"},"Custom Single Wine With Chocolate","RETAIL",74.989999999999995]
["TF70-2",{"$f":"Table_prices[[#This Row],[ITEMNMBR]]","v":"TF70-2"},"Custom Beer Bucket with Sam Adams","RETAIL",99.99]
["TF70-3",{"$f":"Table_prices[[#This Row],[ITEMNMBR]]","v":"TF70-3"},"Custom Snack Classic","RETAIL",59.99]
["TF70-4",{"$f":"Table_prices[[#This Row],[ITEMNMBR]]","v":"TF70-4"},"Custom Beer Bucket","RETAIL",150.99]
["TF73-1",{"$f":"Table_prices[[#This Row],[ITEMNMBR]]","v":"TF73-1"},"Custom 4408 with card","RETAIL",179.99]
["TF74-1",{"$f":"Table_prices[[#This Row],[ITEMNMBR]]","v":"TF74-1"},"Custom Single GOlf Bag","RETAIL",14.99]
["TF74-2",{"$f":"Table_prices[[#This Row],[ITEMNMBR]]","v":"TF74-2"},"Custom Junk Food Bucket","RETAIL",74.989999999999995]
["TF75-1",{"$f":"Table_prices[[#This Row],[ITEMNMBR]]","v":"TF75-1"},"Custom Care Package","RETAIL",55.99]
["TF75-2",{"$f":"Table_prices[[#This Row],[ITEMNMBR]]","v":"TF75-2"},"Custom Care Package with Bear","RETAIL",54.99]
["TF75-3",{"$f":"Table_prices[[#This Row],[ITEMNMBR]]","v":"TF75-3"},"Custom Fruit with Kosher Foods","RETAIL",59.34]
["TF76-1",{"$f":"Table_prices[[#This Row],[ITEMNMBR]]","v":"TF76-1"},"Custom Beer Bucket","RETAIL",148.99]
["TF76-2",{"$f":"Table_prices[[#This Row],[ITEMNMBR]]","v":"TF76-2"},"Custom Care Package","RETAIL",100.99]
["TF76-3",{"$f":"Table_prices[[#This Row],[ITEMNMBR]]","v":"TF76-3"},"Custom Executive Rose","RETAIL",233.99]
["TF76-4",{"$f":"Table_prices[[#This Row],[ITEMNMBR]]","v":"TF76-4"},"Custom Dodgers Bucket","RETAIL",118.99]
["TF77-1",{"$f":"Table_prices[[#This Row],[ITEMNMBR]]","v":"TF77-1"},"Custom Dom Basket","RETAIL",369.99]
["TF78-1",{"$f":"Table_prices[[#This Row],[ITEMNMBR]]","v":"TF78-1"},"Custom Kosher & Gluten Free","RETAIL",109.99]
["TF79-1",{"$f":"Table_prices[[#This Row],[ITEMNMBR]]","v":"TF79-1"},"Custom Junk Food Bucket with Gift Card","RETAIL",151.94]
["TF79-2",{"$f":"Table_prices[[#This Row],[ITEMNMBR]]","v":"TF79-2"},"Custom Snack Basket","RETAIL",68.989999999999995]
["TF79-3",{"$f":"Table_prices[[#This Row],[ITEMNMBR]]","v":"TF79-3"},"Custom Snack Basket with Pet Snacks","RETAIL",119.99]
["TF79-4",{"$f":"Table_prices[[#This Row],[ITEMNMBR]]","v":"TF79-4"},"Custom Easter Pail","RETAIL",49.99]
["TF8-1",{"$f":"Table_prices[[#This Row],[ITEMNMBR]]","v":"TF8-1"},"Custom Wine Basket","RETAIL",74.989999999999995]
["TF8-2",{"$f":"Table_prices[[#This Row],[ITEMNMBR]]","v":"TF8-2"},"Custom Torn Ranch","RETAIL",75]
["TF8-3",{"$f":"Table_prices[[#This Row],[ITEMNMBR]]","v":"TF8-3"},"Custom Replacements","RETAIL",80]
["TF80-1",{"$f":"Table_prices[[#This Row],[ITEMNMBR]]","v":"TF80-1"},"Custom","RETAIL",270.88]
["TF80-2",{"$f":"Table_prices[[#This Row],[ITEMNMBR]]","v":"TF80-2"},"Custom Sweets","RETAIL",294.99]
["TF80-3",{"$f":"Table_prices[[#This Row],[ITEMNMBR]]","v":"TF80-3"},"Custom Coffee & Chocolate with Fruit","RETAIL",69.989999999999995]
["TF83-1",{"$f":"Table_prices[[#This Row],[ITEMNMBR]]","v":"TF83-1"},"Custom Wine with Cider","RETAIL",91.99]
["TF84-1",{"$f":"Table_prices[[#This Row],[ITEMNMBR]]","v":"TF84-1"},"Custom Fruit, Cheese & Crackers","RETAIL",72.989999999999995]
["TF84-2",{"$f":"Table_prices[[#This Row],[ITEMNMBR]]","v":"TF84-2"},"Custom Champagne & Snack (C.D.)","RETAIL",80]
["TF85-1",{"$f":"Table_prices[[#This Row],[ITEMNMBR]]","v":"TF85-1"},"Custom Micro Bucket ( B.H.)","RETAIL",95.99]
["TF85-2",{"$f":"Table_prices[[#This Row],[ITEMNMBR]]","v":"TF85-2"},"Custom Xmas Deluxe","RETAIL",117.99]
["TF85-3",{"$f":"Table_prices[[#This Row],[ITEMNMBR]]","v":"TF85-3"},"Custom 4408 ( M.F.)","RETAIL",173.99]
["TF86-1",{"$f":"Table_prices[[#This Row],[ITEMNMBR]]","v":"TF86-1"},"Custom Wine & Chocolate (T.M.)","RETAIL",147.99]
["TF86-2",{"$f":"Table_prices[[#This Row],[ITEMNMBR]]","v":"TF86-2"},"Custom Weekend in Paris ( Dena )","RETAIL",108.99]
["TF86-3",{"$f":"Table_prices[[#This Row],[ITEMNMBR]]","v":"TF86-3"},"Custom Kosher Wine ( Dena )","RETAIL",110.99]
["TF86-4",{"$f":"Table_prices[[#This Row],[ITEMNMBR]]","v":"TF86-4"},"Custom World 6 with Light Beer ( Dena )","RETAIL",99.99]
["TF87-1",{"$f":"Table_prices[[#This Row],[ITEMNMBR]]","v":"TF87-1"},"Custom Bathe in Luxury w/Wine (R.D.)","RETAIL",111.99]
["TF88-1",{"$f":"Table_prices[[#This Row],[ITEMNMBR]]","v":"TF88-1"},"Custom Bella with Wine (C.D.)","RETAIL",200]
["TF88-2",{"$f":"Table_prices[[#This Row],[ITEMNMBR]]","v":"TF88-2"},"Custom Natures Picnic ( Dena)","RETAIL",89.99]
["TF89-1",{"$f":"Table_prices[[#This Row],[ITEMNMBR]]","v":"TF89-1"},"Custom Evening of Indulgence","RETAIL",156.99]
["TF89-2",{"$f":"Table_prices[[#This Row],[ITEMNMBR]]","v":"TF89-2"},"Custom Bountiful/Kosher (T.M.)","RETAIL",119.99]
["TF9-1",{"$f":"Table_prices[[#This Row],[ITEMNMBR]]","v":"TF9-1"},"Custom Cakebread Duo  (C.D.)","RETAIL",278.99]
["TF90-1",{"$f":"Table_prices[[#This Row],[ITEMNMBR]]","v":"TF90-1"},"Custom Showstopper with Beer (R.D.)","RETAIL",207.99]
["TF90-2",{"$f":"Table_prices[[#This Row],[ITEMNMBR]]","v":"TF90-2"},"Custom Wine & Beer (T.M)","RETAIL",227.99]
["TF90-3",{"$f":"Table_prices[[#This Row],[ITEMNMBR]]","v":"TF90-3"},"Custom Duo with Markers (C.D.)","RETAIL",146.99]
["TF91-1",{"$f":"Table_prices[[#This Row],[ITEMNMBR]]","v":"TF91-1"},"Custom Cake bread and Wild Horse","RETAIL",231.99]
["TF91-2",{"$f":"Table_prices[[#This Row],[ITEMNMBR]]","v":"TF91-2"},"Custom BBQ no nuts","RETAIL",79.989999999999995]
["TF92-1",{"$f":"Table_prices[[#This Row],[ITEMNMBR]]","v":"TF92-1"},"Custom Ultimate Xmas with 2 Bottles of Wine","RETAIL",231.99]
["TF92-2",{"$f":"Table_prices[[#This Row],[ITEMNMBR]]","v":"TF92-2"},"Custom Vegan -Dena K.","RETAIL",99.99]
["TF92-3",{"$f":"Table_prices[[#This Row],[ITEMNMBR]]","v":"TF92-3"},"Custom Fruit Basket ( C.D. )","RETAIL",75.989999999999995]
["TF93-1",{"$f":"Table_prices[[#This Row],[ITEMNMBR]]","v":"TF93-1"},"Custom Healthy w/fruit  ( Sam)","RETAIL",119.99]
["TF94-1",{"$f":"Table_prices[[#This Row],[ITEMNMBR]]","v":"TF94-1"},"Custom Popcorn and Movies ( Dena )","RETAIL",129.99]
["TF95-1",{"$f":"Table_prices[[#This Row],[ITEMNMBR]]","v":"TF95-1"},"Custom 4042 plus 5313 ( Dena)","RETAIL",192.99]
["TF95-2",{"$f":"Table_prices[[#This Row],[ITEMNMBR]]","v":"TF95-2"},"Custom Mini Wine ( Dena)","RETAIL",50.99]
["TF95-3",{"$f":"Table_prices[[#This Row],[ITEMNMBR]]","v":"TF95-3"},"Custom: Next Filtration Services - beer bucket (Mike)","RETAIL",84.99]
["TF95-4",{"$f":"Table_prices[[#This Row],[ITEMNMBR]]","v":"TF95-4"},"Custom Breakfast ( Sam)","RETAIL",59.99]
["TF96-1",{"$f":"Table_prices[[#This Row],[ITEMNMBR]]","v":"TF96-1"},"Custom 5235 with wine","RETAIL",206.99]
["TF96-2",{"$f":"Table_prices[[#This Row],[ITEMNMBR]]","v":"TF96-2"},"Custom Blue Moon Beer Bucket","RETAIL",83.98]
["TF96-3",{"$f":"Table_prices[[#This Row],[ITEMNMBR]]","v":"TF96-3"},"Custom Wild Horse Basket","RETAIL",200]
["TF97-1",{"$f":"Table_prices[[#This Row],[ITEMNMBR]]","v":"TF97-1"},"Custom Wine Fruit & Cheese","RETAIL",109.99]
["TF98-1",{"$f":"Table_prices[[#This Row],[ITEMNMBR]]","v":"TF98-1"},"Custom Fruit with Snacks ( Sam)","RETAIL",145.99]
["TF99-1",{"$f":"Table_prices[[#This Row],[ITEMNMBR]]","v":"TF99-1"},"Custom Gluten Free $50","RETAIL",50]
["TF99-2",{"$f":"Table_prices[[#This Row],[ITEMNMBR]]","v":"TF99-2"},"Custom Gluten Free $70","RETAIL",70]
["TF99-3",{"$f":"Table_prices[[#This Row],[ITEMNMBR]]","v":"TF99-3"},"Custom 5225 with Wine ( Sam )","RETAIL",248.99]
["TFWEB164",{"$f":"Table_prices[[#This Row],[ITEMNMBR]]","v":"TFWEB164"},"Custom Tean No Sugar ( Sam)","RETAIL",48.99]
["TFWEB511",{"$f":"Table_prices[[#This Row],[ITEMNMBR]]","v":"TFWEB511"},"Custom Wine Duo (Billie)","RETAIL",150.99]
["TFWEB599",{"$f":"Table_prices[[#This Row],[ITEMNMBR]]","v":"TFWEB599"},"Custom Snacks and Wine (Cathie)","RETAIL",111.99]
["TFWEB605",{"$f":"Table_prices[[#This Row],[ITEMNMBR]]","v":"TFWEB605"},"Custom 4503 ( Cathie )","RETAIL",119.99]
["TIG001",{"$f":"Table_prices[[#This Row],[ITEMNMBR]]","v":"TIG001"},"Custom Breakfast Classic Bacon x2 (Billie)","RETAIL",75.94]
["TIL001",{"$f":"Table_prices[[#This Row],[ITEMNMBR]]","v":"TIL001"},"Custom $410 with wine, fruit, snacks (Tim)","RETAIL",409.99]
["TIL002",{"$f":"Table_prices[[#This Row],[ITEMNMBR]]","v":"TIL002"},"Custom Suitcase Duo with wine and champagne (Cathie)","RETAIL",148.99]
["TIL003",{"$f":"Table_prices[[#This Row],[ITEMNMBR]]","v":"TIL003"},"Custom Wildhorse Trio with extra wine and snacks","RETAIL",224.99]
["TIL004",{"$f":"Table_prices[[#This Row],[ITEMNMBR]]","v":"TIL004"},"Custom Snack Premium with wine cheese crackers (Sam)","RETAIL",114.99]
["TIL005",{"$f":"Table_prices[[#This Row],[ITEMNMBR]]","v":"TIL005"},"Custom Deluxe Bottle Board (Billie)","RETAIL",59.99]
["TMAMD1",{"$f":"Table_prices[[#This Row],[ITEMNMBR]]","v":"TMAMD1"},"Custom Nutcracker Drum with Coffee","RETAIL",67.989999999999995]
["TMBA01",{"$f":"Table_prices[[#This Row],[ITEMNMBR]]","v":"TMBA01"},"Custom Tailgating ( Cathie )","RETAIL",184.99]
["TMBAH1",{"$f":"Table_prices[[#This Row],[ITEMNMBR]]","v":"TMBAH1"},"Custom Red WIne Jumbo ( Sam )","RETAIL",301.99]
["TMBR01",{"$f":"Table_prices[[#This Row],[ITEMNMBR]]","v":"TMBR01"},"Custom Italian with WIne","RETAIL",178.99]
["TMBT01",{"$f":"Table_prices[[#This Row],[ITEMNMBR]]","v":"TMBT01"},"Custom Snack Basket for Tammy","RETAIL",54.99]
["TMDA01",{"$f":"Table_prices[[#This Row],[ITEMNMBR]]","v":"TMDA01"},"Custom Gluten Free Premium (not a custom, just can't access 4047)","RETAIL",119.99]
["TMDA02",{"$f":"Table_prices[[#This Row],[ITEMNMBR]]","v":"TMDA02"},"Custom Beer B Q with 12 beers from Around the World","RETAIL",116.99]
["TMDB01",{"$f":"Table_prices[[#This Row],[ITEMNMBR]]","v":"TMDB01"},"Custom Breakfast Deluxe - no meat","RETAIL",99.99]
["TMDG01",{"$f":"Table_prices[[#This Row],[ITEMNMBR]]","v":"TMDG01"},"Custom Spa Classic with fruit, snacks and chocolate (Tim)","RETAIL",99.99]
["TMDG02",{"$f":"Table_prices[[#This Row],[ITEMNMBR]]","v":"TMDG02"},"Custom 6359 and 6326 Baby Yellow Clothing and SIlver Rattle (Tim)","RETAIL",98.99]
["TMDG03",{"$f":"Table_prices[[#This Row],[ITEMNMBR]]","v":"TMDG03"},"Custom Fruit of the Month January SAMPLE (Ross)","RETAIL",21.99]
["TMDG04",{"$f":"Table_prices[[#This Row],[ITEMNMBR]]","v":"TMDG04"},"Custom 4046 with just new years ribbons and shred","RETAIL",79.989999999999995]
["TMDM01",{"$f":"Table_prices[[#This Row],[ITEMNMBR]]","v":"TMDM01"},"Custom Bountiful Harvest and Tea and Cookies (Tim)","RETAIL",99.99]
["TMED01",{"$f":"Table_prices[[#This Row],[ITEMNMBR]]","v":"TMED01"},"Custom Candy Bucket ( Ryan Fisher )","RETAIL",200.99]
["TMED02",{"$f":"Table_prices[[#This Row],[ITEMNMBR]]","v":"TMED02"},"Custom Kosher with nut crate ( Dena )","RETAIL",221.99]
["TMNGP1",{"$f":"Table_prices[[#This Row],[ITEMNMBR]]","v":"TMNGP1"},"Custom Breakfast ( Sam )","RETAIL",59.99]
["TMNGP2",{"$f":"Table_prices[[#This Row],[ITEMNMBR]]","v":"TMNGP2"},"Custom Beer &  Hot Sauce ( Sam )","RETAIL",101.52]
["TMNGP3",{"$f":"Table_prices[[#This Row],[ITEMNMBR]]","v":"TMNGP3"},"Custom Chocolate not nuts ( Tim)","RETAIL",100.99]
["TMNGP4",{"$f":"Table_prices[[#This Row],[ITEMNMBR]]","v":"TMNGP4"},"Custom 5104 plus fruit ( Dena )","RETAIL",183.99]
["TMPL01",{"$f":"Table_prices[[#This Row],[ITEMNMBR]]","v":"TMPL01"},"Custom  4802 & 4053 ( Sam )","RETAIL",159.97999999999999]
["TMPL02",{"$f":"Table_prices[[#This Row],[ITEMNMBR]]","v":"TMPL02"},"Custom Golf Bag ( Billie )","RETAIL",68.989999999999995]
["TMRV01",{"$f":"Table_prices[[#This Row],[ITEMNMBR]]","v":"TMRV01"},"Custom Bountiful Harvest","RETAIL",119.99]
["TMSK01",{"$f":"Table_prices[[#This Row],[ITEMNMBR]]","v":"TMSK01"},"Custom 5055 with fruit","RETAIL",69.989999999999995]
["TMSU01",{"$f":"Table_prices[[#This Row],[ITEMNMBR]]","v":"TMSU01"},"Custom Beer no nuts","RETAIL",89.99]
["TMUF01",{"$f":"Table_prices[[#This Row],[ITEMNMBR]]","v":"TMUF01"},"Custom Tea and Cookies Premium with coffee","RETAIL",129.99]
["TMWB01",{"$f":"Table_prices[[#This Row],[ITEMNMBR]]","v":"TMWB01"},"Custom Beer 12 pack with all Molson XXX","RETAIL",134.99]
["TMWB02",{"$f":"Table_prices[[#This Row],[ITEMNMBR]]","v":"TMWB02"},"Custom Nature's PIcnic with no nuts and extra sausage","RETAIL",87.99]
["TMWG01",{"$f":"Table_prices[[#This Row],[ITEMNMBR]]","v":"TMWG01"},"Custom Coffee & Chocolate Classic with Breakfast Items (Sam)","RETAIL",100.99]
["TOO001",{"$f":"Table_prices[[#This Row],[ITEMNMBR]]","v":"TOO001"},"Custom Dom, Budweiser, Fruit, Chocolate, Nuts (Doris)","RETAIL",315]
["TOO003",{"$f":"Table_prices[[#This Row],[ITEMNMBR]]","v":"TOO003"},"Custom Healthy with Cider ( Dena )","RETAIL",73.989999999999995]
["TOO004",{"$f":"Table_prices[[#This Row],[ITEMNMBR]]","v":"TOO004"},"Custom Belgian Choc Brownie ( Doris )","RETAIL",34.99]
["TOO005",{"$f":"Table_prices[[#This Row],[ITEMNMBR]]","v":"TOO005"},"Custom Choc. Macadamia Brownies ( Doris )","RETAIL",34.99]
["TOO006",{"$f":"Table_prices[[#This Row],[ITEMNMBR]]","v":"TOO006"},"Custom Italian with Chianti and extra bottle of Catena Chardonnay (Billie)","RETAIL",129.99]
["TOO007",{"$f":"Table_prices[[#This Row],[ITEMNMBR]]","v":"TOO007"},"Custom Gluten Free, Kosher & Organic ( Sam )","RETAIL",200]
["TOO013",{"$f":"Table_prices[[#This Row],[ITEMNMBR]]","v":"TOO013"},"Custom Champagne & Snacks ( Snacks )","RETAIL",152.99]
["TOO014",{"$f":"Table_prices[[#This Row],[ITEMNMBR]]","v":"TOO014"},"Custom Bath & Snack ( Sam )","RETAIL",85]
["TOO017",{"$f":"Table_prices[[#This Row],[ITEMNMBR]]","v":"TOO017"},"Custom Halloween Bucket ( Anne )","RETAIL",44.99]
["TOO018",{"$f":"Table_prices[[#This Row],[ITEMNMBR]]","v":"TOO018"},"Custom Care Pkg in a Basket ( Doris )","RETAIL",58.99]
["TOO019",{"$f":"Table_prices[[#This Row],[ITEMNMBR]]","v":"TOO019"},"Custom Bakery Basket with Alcohol ( Sam )","RETAIL",200.99]
["TOO020",{"$f":"Table_prices[[#This Row],[ITEMNMBR]]","v":"TOO020"},"Custom Care Package ( Mike Fowler )","RETAIL",44.99]
["TOO021",{"$f":"Table_prices[[#This Row],[ITEMNMBR]]","v":"TOO021"},"Custom 4611 add 2 products ( Dena )","RETAIL",40.98]
["TOO022",{"$f":"Table_prices[[#This Row],[ITEMNMBR]]","v":"TOO022"},"Custom 5098 ( Dena )","RETAIL",291.99]
["TOO023",{"$f":"Table_prices[[#This Row],[ITEMNMBR]]","v":"TOO023"},"Custom Tea & Cookies ( Sam )","RETAIL",99.99]
["TOO024",{"$f":"Table_prices[[#This Row],[ITEMNMBR]]","v":"TOO024"},"Custom Fruit & Chocolate Basket","RETAIL",149.99]
["TOO025",{"$f":"Table_prices[[#This Row],[ITEMNMBR]]","v":"TOO025"},"Custom Wine Bread Cheese (Doris)","RETAIL",175.99]
["TOO027",{"$f":"Table_prices[[#This Row],[ITEMNMBR]]","v":"TOO027"},"Custom Micro 6 with snacks (Doris and Sam)","RETAIL",78.989999999999995]
["TOR001",{"$f":"Table_prices[[#This Row],[ITEMNMBR]]","v":"TOR001"},"Custom Snack with dog treats ( Cathie )","RETAIL",100]
["TOR003",{"$f":"Table_prices[[#This Row],[ITEMNMBR]]","v":"TOR003"},"Custom $200 Kosher ( Mike Fowler )","RETAIL",200]
["TRD001",{"$f":"Table_prices[[#This Row],[ITEMNMBR]]","v":"TRD001"},"Custom 4611 with Bear ( RITS) ( Anne)","RETAIL",90]
["TRO001",{"$f":"Table_prices[[#This Row],[ITEMNMBR]]","v":"TRO001"},"Custom Toys & Snacks ( Anne )","RETAIL",150.99]
["TRT001",{"$f":"Table_prices[[#This Row],[ITEMNMBR]]","v":"TRT001"},"Custom Wine & Chocolate ( Dena )","RETAIL",87.99]
["TRU001",{"$f":"Table_prices[[#This Row],[ITEMNMBR]]","v":"TRU001"},"Custom Chocolate ( Tim )","RETAIL",140.99]
["TUL001",{"$f":"Table_prices[[#This Row],[ITEMNMBR]]","v":"TUL001"},"Custom Sympathy Basket ( Sam)","RETAIL",133.99]
["TUL002",{"$f":"Table_prices[[#This Row],[ITEMNMBR]]","v":"TUL002"},"Custom Baby & Snack","RETAIL",89.99]
["TUL003",{"$f":"Table_prices[[#This Row],[ITEMNMBR]]","v":"TUL003"},"Custom Popcorn ( Sam )","RETAIL",53.99]
["TUL004",{"$f":"Table_prices[[#This Row],[ITEMNMBR]]","v":"TUL004"},"Custom 4611 ( Sam )","RETAIL",42.5]
["TUL005",{"$f":"Table_prices[[#This Row],[ITEMNMBR]]","v":"TUL005"},"Custom 4503 with Chocolate ( Dena )","RETAIL",119.99]
["TUL006",{"$f":"Table_prices[[#This Row],[ITEMNMBR]]","v":"TUL006"},"Custom Wine with Snacks ( Doris )","RETAIL",105]
["TUL007",{"$f":"Table_prices[[#This Row],[ITEMNMBR]]","v":"TUL007"},"Custom Micro 3 pack ( Doris )","RETAIL",49.99]
["TUL008",{"$f":"Table_prices[[#This Row],[ITEMNMBR]]","v":"TUL008"},"Custoom 4408 No Sausage ( Sam )","RETAIL",174.99]
["TUL009",{"$f":"Table_prices[[#This Row],[ITEMNMBR]]","v":"TUL009"},"Custom Breakfast ( Anne R.)","RETAIL",145]
["TUL010",{"$f":"Table_prices[[#This Row],[ITEMNMBR]]","v":"TUL010"},"Custom Philip Frog ( Dena )","RETAIL",40.99]
["TUL011",{"$f":"Table_prices[[#This Row],[ITEMNMBR]]","v":"TUL011"},"Custom Care Pkg & Baby","RETAIL",114.99]
["TWE001",{"$f":"Table_prices[[#This Row],[ITEMNMBR]]","v":"TWE001"},"Custom 4611 with Red Bull","RETAIL",55.99]
["TWI001",{"$f":"Table_prices[[#This Row],[ITEMNMBR]]","v":"TWI001"},"Custom Blue Golf Bag ( Doris)","RETAIL",109]
["TWI002",{"$f":"Table_prices[[#This Row],[ITEMNMBR]]","v":"TWI002"},"Custom 4507 W/Fosters ( Sam )","RETAIL",46.99]
["TWI003",{"$f":"Table_prices[[#This Row],[ITEMNMBR]]","v":"TWI003"},"Custom Beer & Sweets ( Sam )","RETAIL",125.99]
["TWI004",{"$f":"Table_prices[[#This Row],[ITEMNMBR]]","v":"TWI004"},"Custom Vday Eve of Indulg ( Doris )","RETAIL",99.99]
["TWI005",{"$f":"Table_prices[[#This Row],[ITEMNMBR]]","v":"TWI005"},"Custom light beer 6 pack ( Mike)","RETAIL",69.989999999999995]
["TWI006",{"$f":"Table_prices[[#This Row],[ITEMNMBR]]","v":"TWI006"},"Custom Gorilla w/Spa & Candy ( Doris )","RETAIL",91.99]
["TWI007",{"$f":"Table_prices[[#This Row],[ITEMNMBR]]","v":"TWI007"},"Custom Corona  with Candy","RETAIL",88.99]
["TWI008",{"$f":"Table_prices[[#This Row],[ITEMNMBR]]","v":"TWI008"},"Custom Chocolate Stack ( Dena )","RETAIL",50]
["TWO001",{"$f":"Table_prices[[#This Row],[ITEMNMBR]]","v":"TWO001"},"Custom Care Package with Frog","RETAIL",48.89]
["UNI001",{"$f":"Table_prices[[#This Row],[ITEMNMBR]]","v":"UNI001"},"Custom Nostalgic with Frog","RETAIL",56.99]
["UNI002",{"$f":"Table_prices[[#This Row],[ITEMNMBR]]","v":"UNI002"},"Custom Nostalgic Bear","RETAIL",44.99]
["UNI003",{"$f":"Table_prices[[#This Row],[ITEMNMBR]]","v":"UNI003"},"Custom Tea & Cookies ( Tim )","RETAIL",89.99]
["UNI004",{"$f":"Table_prices[[#This Row],[ITEMNMBR]]","v":"UNI004"},"Custom wrigley bucket ( Doris )","RETAIL",43.99]
["UNI006",{"$f":"Table_prices[[#This Row],[ITEMNMBR]]","v":"UNI006"},"Custom Kosher with Fruit ( Ross )","RETAIL",115]
["UPP001",{"$f":"Table_prices[[#This Row],[ITEMNMBR]]","v":"UPP001"},"Custom Tea & Cookies ( Mike )","RETAIL",91.99]
["UPP002",{"$f":"Table_prices[[#This Row],[ITEMNMBR]]","v":"UPP002"},"Custom 4502 with all Corona","RETAIL",96.94]
["UPP003",{"$f":"Table_prices[[#This Row],[ITEMNMBR]]","v":"UPP003"},"Custom a little bit of everything (Sam)","RETAIL",100]
["UPP004",{"$f":"Table_prices[[#This Row],[ITEMNMBR]]","v":"UPP004"},"Custom Coors Light 12 pack with snacks (Billie)","RETAIL",138.5]
["UPP005",{"$f":"Table_prices[[#This Row],[ITEMNMBR]]","v":"UPP005"},"Custom for Sick Bob","RETAIL",23.15]
["UPP006",{"$f":"Table_prices[[#This Row],[ITEMNMBR]]","v":"UPP006"},"Custom Gluten & Dairy Free ( Sam )","RETAIL",62.99]
["UPP007",{"$f":"Table_prices[[#This Row],[ITEMNMBR]]","v":"UPP007"},"Custom Beer ( Sam )","RETAIL",86.99]
["UPP008",{"$f":"Table_prices[[#This Row],[ITEMNMBR]]","v":"UPP008"},"Custom Chcolate with Dog Toy ( Doris )","RETAIL",140.99]
["UPP010",{"$f":"Table_prices[[#This Row],[ITEMNMBR]]","v":"UPP010"},"Custom 12 Pack with Negro Modelo ( Doris )","RETAIL",119.99]
["UPP011",{"$f":"Table_prices[[#This Row],[ITEMNMBR]]","v":"UPP011"},"Custom Fruit & Chocolate ( Tim )","RETAIL",49.99]
["UPP012",{"$f":"Table_prices[[#This Row],[ITEMNMBR]]","v":"UPP012"},"Custom Beer 3 pack","RETAIL",50.99]
["UPP013",{"$f":"Table_prices[[#This Row],[ITEMNMBR]]","v":"UPP013"},"Custom Nostalgic with Game ( Dena )","RETAIL",75.989999999999995]
["UPP014",{"$f":"Table_prices[[#This Row],[ITEMNMBR]]","v":"UPP014"},"Custom 4071 Chex Mix ( Anne )","RETAIL",81.99]
["UPP015",{"$f":"Table_prices[[#This Row],[ITEMNMBR]]","v":"UPP015"},"Custom DOM basket ( Doris )","RETAIL",402]
["UPP016",{"$f":"Table_prices[[#This Row],[ITEMNMBR]]","v":"UPP016"},"Custom Kosher & Organic ( Mike Fowler)","RETAIL",250]
["UPP017",{"$f":"Table_prices[[#This Row],[ITEMNMBR]]","v":"UPP017"},"Custom Beer Bucket ( Mike Fowler )","RETAIL",113.99]
["UPP018",{"$f":"Table_prices[[#This Row],[ITEMNMBR]]","v":"UPP018"},"Custom Care Pkg w/People Magazine","RETAIL",65]
["UPP019",{"$f":"Table_prices[[#This Row],[ITEMNMBR]]","v":"UPP019"},"Custom Beer Bucket ( Tim )","RETAIL",80.989999999999995]
["UPP020",{"$f":"Table_prices[[#This Row],[ITEMNMBR]]","v":"UPP020"},"Custom Gluten Free with Wine ( Cathie )","RETAIL",128.99]
["UPP021",{"$f":"Table_prices[[#This Row],[ITEMNMBR]]","v":"UPP021"},"Custom 19th Hole (Dena)","RETAIL",112.99]
["UPP022",{"$f":"Table_prices[[#This Row],[ITEMNMBR]]","v":"UPP022"},"4 pears replacement fruit ( Sam )","RETAIL",0]
["UPP023",{"$f":"Table_prices[[#This Row],[ITEMNMBR]]","v":"UPP023"},"Custom 4408 ( Doris )","RETAIL",209.99]
["UPP024",{"$f":"Table_prices[[#This Row],[ITEMNMBR]]","v":"UPP024"},"Custom Wine, Moet & Truffles","RETAIL",112.97]
["UPP025",{"$f":"Table_prices[[#This Row],[ITEMNMBR]]","v":"UPP025"},"Custom 4322 with Sam Adams","RETAIL",119.99]
["UPP026",{"$f":"Table_prices[[#This Row],[ITEMNMBR]]","v":"UPP026"},"Custom wine with candy","RETAIL",150.99]
["UPP027",{"$f":"Table_prices[[#This Row],[ITEMNMBR]]","v":"UPP027"},"Custom Moet with Cider ( Anne )","RETAIL",150.99]
["UPP028",{"$f":"Table_prices[[#This Row],[ITEMNMBR]]","v":"UPP028"},"Nostalgic Candy Fix","RETAIL",0]
["UPP029",{"$f":"Table_prices[[#This Row],[ITEMNMBR]]","v":"UPP029"},"Custom Fruit with Cookies","RETAIL",60]
["UPP030",{"$f":"Table_prices[[#This Row],[ITEMNMBR]]","v":"UPP030"},"Custom replacement fruit","RETAIL",0]
["UPP031",{"$f":"Table_prices[[#This Row],[ITEMNMBR]]","v":"UPP031"},"Custom Nostalgic with Care Package","RETAIL",79.989999999999995]
["UPP032",{"$f":"Table_prices[[#This Row],[ITEMNMBR]]","v":"UPP032"},"Custom Bountiful Harvest No Sausage","RETAIL",115.5]
["UPP033",{"$f":"Table_prices[[#This Row],[ITEMNMBR]]","v":"UPP033"},"Custom Suitcase w/St.Pat Day Items ( Doris )","RETAIL",180.99]
["UPP034",{"$f":"Table_prices[[#This Row],[ITEMNMBR]]","v":"UPP034"},"Custom Fruit with 20 Apples","RETAIL",69.989999999999995]
["UPP035",{"$f":"Table_prices[[#This Row],[ITEMNMBR]]","v":"UPP035"},"Custom Fruit Apples only","RETAIL",49.99]
["UPP036",{"$f":"Table_prices[[#This Row],[ITEMNMBR]]","v":"UPP036"},"Custom Easter Breakfast ( Billie )","RETAIL",83]
["UPP037",{"$f":"Table_prices[[#This Row],[ITEMNMBR]]","v":"UPP037"},"Custom Chocolate Stack ( Tim Myers )","RETAIL",39.99]
["UPP038",{"$f":"Table_prices[[#This Row],[ITEMNMBR]]","v":"UPP038"},"Custom Blue Moon 6 Pack with Easter Stuff (Doris)","RETAIL",147.99]
["UPP039",{"$f":"Table_prices[[#This Row],[ITEMNMBR]]","v":"UPP039"},"Custom Cakebread Sauvignon Blanc with Wildhorse Foods","RETAIL",149.99]
["UPP040",{"$f":"Table_prices[[#This Row],[ITEMNMBR]]","v":"UPP040"},"Custom 5607 minus Bday cake add 4800 crate and bear","RETAIL",77.989999999999995]
["UPP041",{"$f":"Table_prices[[#This Row],[ITEMNMBR]]","v":"UPP041"},"custom 4322 with 2 Wildhorse and Bud Select","RETAIL",136.99]
["UPP042",{"$f":"Table_prices[[#This Row],[ITEMNMBR]]","v":"UPP042"},"custom 4402 with Choc Truffles","RETAIL",60.99]
["UPP043",{"$f":"Table_prices[[#This Row],[ITEMNMBR]]","v":"UPP043"},"Custom 5092 with 2 Cakebread Chardonnay","RETAIL",214.99]
["UPP044",{"$f":"Table_prices[[#This Row],[ITEMNMBR]]","v":"UPP044"},"Custom Tailgate for Billie","RETAIL",225.99]
["UPP045",{"$f":"Table_prices[[#This Row],[ITEMNMBR]]","v":"UPP045"},"Custom Gardening Bag ( Billie )","RETAIL",78.989999999999995]
["URB001",{"$f":"Table_prices[[#This Row],[ITEMNMBR]]","v":"URB001"},"Custom Wine Suitcase ( Doris )","RETAIL",190.99]
["URB002",{"$f":"Table_prices[[#This Row],[ITEMNMBR]]","v":"URB002"},"Custom Junk Food Bucket  ( Anne )","RETAIL",90.99]
["URB003",{"$f":"Table_prices[[#This Row],[ITEMNMBR]]","v":"URB003"},"Custom snack premium with bunny for Anne","RETAIL",99.99]
["URB004",{"$f":"Table_prices[[#This Row],[ITEMNMBR]]","v":"URB004"},"Custom  Whoopie Pie, Brownies and Cookies for Dena","RETAIL",277.88]
["URB005",{"$f":"Table_prices[[#This Row],[ITEMNMBR]]","v":"URB005"},"Custom Italian foods with bread, cheese, Salami (Doris)","RETAIL",150.99]
["URB006",{"$f":"Table_prices[[#This Row],[ITEMNMBR]]","v":"URB006"},"Custom (4645) with no nuts for Doris","RETAIL",159.99]
["URB009",{"$f":"Table_prices[[#This Row],[ITEMNMBR]]","v":"URB009"},"Custom Italian Basket ( Billie )","RETAIL",112.74]
["URB010",{"$f":"Table_prices[[#This Row],[ITEMNMBR]]","v":"URB010"},"Custom with a Variety of fruit for Doris","RETAIL",149.99]
["URB011",{"$f":"Table_prices[[#This Row],[ITEMNMBR]]","v":"URB011"},"Custom Snack Basket ( Billie )","RETAIL",259.99]
["URB012",{"$f":"Table_prices[[#This Row],[ITEMNMBR]]","v":"URB012"},"Custom Beer Bucket with Dark Chocolates for Dena","RETAIL",50.99]
["URB013",{"$f":"Table_prices[[#This Row],[ITEMNMBR]]","v":"URB013"},"Custom Gluten Free care package for Doris","RETAIL",53.99]
["URB014",{"$f":"Table_prices[[#This Row],[ITEMNMBR]]","v":"URB014"},"Custom Easter Toys & Candy ( Cathie )","RETAIL",89.99]
["URB015",{"$f":"Table_prices[[#This Row],[ITEMNMBR]]","v":"URB015"},"Custom Coors Light Bucket ( Sam )","RETAIL",147.99]
["URB016",{"$f":"Table_prices[[#This Row],[ITEMNMBR]]","v":"URB016"},"Custom 12 pack with Organic Cider ( Dena )","RETAIL",138]
["URB017",{"$f":"Table_prices[[#This Row],[ITEMNMBR]]","v":"URB017"},"Custom IPA Beer Bucket ( Anne )","RETAIL",84.5]
["UST001",{"$f":"Table_prices[[#This Row],[ITEMNMBR]]","v":"UST001"},"Custom 4505 ( Anne )","RETAIL",76.989999999999995]
["UST002",{"$f":"Table_prices[[#This Row],[ITEMNMBR]]","v":"UST002"},"Custom Nature's Picnic ( Billie )","RETAIL",85.99]
["UST003",{"$f":"Table_prices[[#This Row],[ITEMNMBR]]","v":"UST003"},"Custom Care Pkg in Basket ( Sam )","RETAIL",64.989999999999995]
["VER001",{"$f":"Table_prices[[#This Row],[ITEMNMBR]]","v":"VER001"},"Custom 4638 with a pink bunny and brown bunny (Doris)","RETAIL",89.99]
["VIK001",{"$f":"Table_prices[[#This Row],[ITEMNMBR]]","v":"VIK001"},"Custom SPorts Care Pkg Classic in a basket (Sam)","RETAIL",64.989999999999995]
["VIL001",{"$f":"Table_prices[[#This Row],[ITEMNMBR]]","v":"VIL001"},"Custom Easter Classic Extra Bunny ( Ross )","RETAIL",58.99]
["VIT001",{"$f":"Table_prices[[#This Row],[ITEMNMBR]]","v":"VIT001"},"Custom 4737 with Bunny ( Tim )","RETAIL",109.5]
["WAB001",{"$f":"Table_prices[[#This Row],[ITEMNMBR]]","v":"WAB001"},"Custom Chocolate & Organic Basket ( Tim )","RETAIL",97.99]
["WAB002",{"$f":"Table_prices[[#This Row],[ITEMNMBR]]","v":"WAB002"},"Custom Fruit Basket with Assorted Nuts ( Doris )","RETAIL",59.99]
["WAG001",{"$f":"Table_prices[[#This Row],[ITEMNMBR]]","v":"WAG001"},"Custom Chocolate Stack with UNI001 (Doris)","RETAIL",59.99]
["WAG002",{"$f":"Table_prices[[#This Row],[ITEMNMBR]]","v":"WAG002"},"Custom Nostalgic with Breakfast ( Dena )","RETAIL",138.99]
["WAG003",{"$f":"Table_prices[[#This Row],[ITEMNMBR]]","v":"WAG003"},"Custom Bountiful Harvest with Dog Treats ( Billie )","RETAIL",139.99]
["WAG004",{"$f":"Table_prices[[#This Row],[ITEMNMBR]]","v":"WAG004"},"Custom Easter Care Pkg with Bunny","RETAIL",64.989999999999995]
["WAG005",{"$f":"Table_prices[[#This Row],[ITEMNMBR]]","v":"WAG005"},"Custom Care Pkg with Wine ( Sam )","RETAIL",80.989999999999995]
["WAG006",{"$f":"Table_prices[[#This Row],[ITEMNMBR]]","v":"WAG006"},"Custom Popcorn with Wine ( Sam )","RETAIL",105.99]
["WAG007",{"$f":"Table_prices[[#This Row],[ITEMNMBR]]","v":"WAG007"},"Custom Care Pkg ion a Basket ( Sam )","RETAIL",100]
["WAG008",{"$f":"Table_prices[[#This Row],[ITEMNMBR]]","v":"WAG008"},"Custom 4638 with Extra Bunny ( Tim )","RETAIL",109.99]
["WAG009",{"$f":"Table_prices[[#This Row],[ITEMNMBR]]","v":"WAG009"},"Custom Easter Basket with 2 Bunnies and Lots of candy! (Doris)","RETAIL",155]
["WAG010",{"$f":"Table_prices[[#This Row],[ITEMNMBR]]","v":"WAG010"},"Custom Hippity Hoppity Stack  ( Sam )","RETAIL",46.99]
["WAL001",{"$f":"Table_prices[[#This Row],[ITEMNMBR]]","v":"WAL001"},"Custom Moet with Game ( Anne )","RETAIL",186.99]
["WAL002",{"$f":"Table_prices[[#This Row],[ITEMNMBR]]","v":"WAL002"},"Custom Easter Care Package  ( Sam )","RETAIL",124.99]
["WAL003",{"$f":"Table_prices[[#This Row],[ITEMNMBR]]","v":"WAL003"},"Custom Snack with No Nuts  ( Dena )","RETAIL",219.99]
["WAL004",{"$f":"Table_prices[[#This Row],[ITEMNMBR]]","v":"WAL004"},"Custom Wine Basket ( Billie )","RETAIL",219.99]
["WAL005",{"$f":"Table_prices[[#This Row],[ITEMNMBR]]","v":"WAL005"},"Custom Chocolate with Care Package items ( Cathie)","RETAIL",116.99]
["WDF001",{"$f":"Table_prices[[#This Row],[ITEMNMBR]]","v":"WDF001"},"Custom Healthy with 2 Waters ( Sam )","RETAIL",69.989999999999995]
["WGR001",{"$f":"Table_prices[[#This Row],[ITEMNMBR]]","v":"WGR001"},"Custom Easter Basket for 2 Year old Boy  ( TIm )","RETAIL",150]
["WGR002",{"$f":"Table_prices[[#This Row],[ITEMNMBR]]","v":"WGR002"},"Custom Easter for 9 year old girl ( Tim )","RETAIL",174.99]
["WGR003",{"$f":"Table_prices[[#This Row],[ITEMNMBR]]","v":"WGR003"},"Custom Easter for 11 year old boy","RETAIL",174.99]
["WIL001",{"$f":"Table_prices[[#This Row],[ITEMNMBR]]","v":"WIL001"},"Custom Easter for 12 year old boy","RETAIL",174.99]
["WIL002",{"$f":"Table_prices[[#This Row],[ITEMNMBR]]","v":"WIL002"},"Custom Veuve and single wine foods (no wine) (Dena)","RETAIL",119.99]
["WIN001",{"$f":"Table_prices[[#This Row],[ITEMNMBR]]","v":"WIN001"},"Custom Care Package with Bunny ( Billie )","RETAIL",50]
["WIN002",{"$f":"Table_prices[[#This Row],[ITEMNMBR]]","v":"WIN002"},"Custom Fruit with Bunny ( Tim )","RETAIL",109.99]
["WIRE OUT FEE",{"$f":"Table_prices[[#This Row],[ITEMNMBR]]","v":"WIRE OUT FEE"},"Custom Dom and Fruit for Billie","RETAIL",249.99]
["WIS001",{"$f":"Table_prices[[#This Row],[ITEMNMBR]]","v":"WIS001"},"Custom Junk Food for Doris","RETAIL",123.99]
["WIW001",{"$f":"Table_prices[[#This Row],[ITEMNMBR]]","v":"WIW001"},"Custom Amstel Light beer bucket for Sam","RETAIL",55.99]
["WMT001",{"$f":"Table_prices[[#This Row],[ITEMNMBR]]","v":"WMT001"},"Custom Pizza Stack and Mini Nut in a Basket for Tim","RETAIL",76.989999999999995]
["WMT002",{"$f":"Table_prices[[#This Row],[ITEMNMBR]]","v":"WMT002"},"Custom Dom & Chocolate ( Billie )","RETAIL",200]
["WMT003",{"$f":"Table_prices[[#This Row],[ITEMNMBR]]","v":"WMT003"},"Custom Bottle of Chardonnay","RETAIL",25]
["WMT004",{"$f":"Table_prices[[#This Row],[ITEMNMBR]]","v":"WMT004"},"Custom Care Package ( Sam )","RETAIL",108.93]
["WMT005",{"$f":"Table_prices[[#This Row],[ITEMNMBR]]","v":"WMT005"},"Custom Kosher with Wine for Doris","RETAIL",300]
["WMT006",{"$f":"Table_prices[[#This Row],[ITEMNMBR]]","v":"WMT006"},"Custom Dom and Choc with 2 candy crates for Dena","RETAIL",299.99]
["WOO001",{"$f":"Table_prices[[#This Row],[ITEMNMBR]]","v":"WOO001"},"Custom Cookie sampler without White Choc Mac for Billie","RETAIL",34.99]
["WRI001",{"$f":"Table_prices[[#This Row],[ITEMNMBR]]","v":"WRI001"},"Custom Brownie Sampler with Classic Whoopie Pie added for Billie","RETAIL",34.99]
["WRI002",{"$f":"Table_prices[[#This Row],[ITEMNMBR]]","v":"WRI002"},"Custom Junk Food Bucket in a basket (Billie)","RETAIL",125.99]
["WRI003",{"$f":"Table_prices[[#This Row],[ITEMNMBR]]","v":"WRI003"},"Custom Gluten Free no nuts for Dena","RETAIL",79.989999999999995]
["WRI004",{"$f":"Table_prices[[#This Row],[ITEMNMBR]]","v":"WRI004"},"Custom Golf and beer for Sam","RETAIL",106.99]
["WRI005",{"$f":"Table_prices[[#This Row],[ITEMNMBR]]","v":"WRI005"},"Custom 5108 with with different wines for (Dena)","RETAIL",144.99]
["WRI006",{"$f":"Table_prices[[#This Row],[ITEMNMBR]]","v":"WRI006"},"Custom Veuve in basket ( Cathie )","RETAIL",208.99]
["WRI007",{"$f":"Table_prices[[#This Row],[ITEMNMBR]]","v":"WRI007"},"Custom Bountiful Harvest plus more food (Dena)","RETAIL",140]
["WRI008",{"$f":"Table_prices[[#This Row],[ITEMNMBR]]","v":"WRI008"},"Custom Kosher and HEalthy (Sam)","RETAIL",53.99]
["WRI009",{"$f":"Table_prices[[#This Row],[ITEMNMBR]]","v":"WRI009"},"Custom Beer Bucket ( Billie )","RETAIL",96.99]
["WRI010",{"$f":"Table_prices[[#This Row],[ITEMNMBR]]","v":"WRI010"},"Custom Wine ( Doris )","RETAIL",75]
["WRI011",{"$f":"Table_prices[[#This Row],[ITEMNMBR]]","v":"WRI011"},"Custom Virgin Island for Anne","RETAIL",69.989999999999995]
["WRI012",{"$f":"Table_prices[[#This Row],[ITEMNMBR]]","v":"WRI012"},"Custom Fruit Basket ( Doris )","RETAIL",62.99]
["WRI013",{"$f":"Table_prices[[#This Row],[ITEMNMBR]]","v":"WRI013"},"Custom WIne Stack ( Doris )","RETAIL",62.99]
["WRI014",{"$f":"Table_prices[[#This Row],[ITEMNMBR]]","v":"WRI014"},"Custom Diabetic Basket ( Anne )","RETAIL",89.99]
["WRI015",{"$f":"Table_prices[[#This Row],[ITEMNMBR]]","v":"WRI015"},"Custom Kosher ( Billie )","RETAIL",147.99]
["WRI016",{"$f":"Table_prices[[#This Row],[ITEMNMBR]]","v":"WRI016"},"Custom Candy Crate ( Dena )","RETAIL",35.99]
["WRI017",{"$f":"Table_prices[[#This Row],[ITEMNMBR]]","v":"WRI017"},"Custom Fruit Basket ( sam )","RETAIL",52.94]
["WRI018",{"$f":"Table_prices[[#This Row],[ITEMNMBR]]","v":"WRI018"},"Custom Ice Cream ( Sam )","RETAIL",100.99]
["WRI019",{"$f":"Table_prices[[#This Row],[ITEMNMBR]]","v":"WRI019"},"Custom Coors Light Bucket (Doris )","RETAIL",61.98]
["WRI020",{"$f":"Table_prices[[#This Row],[ITEMNMBR]]","v":"WRI020"},"Custom Juice & Soup etc ( Doris )","RETAIL",81.99]
["WRI021",{"$f":"Table_prices[[#This Row],[ITEMNMBR]]","v":"WRI021"},"Custom Gluten Free ( Doris )","RETAIL",94.99]
["WRI022",{"$f":"Table_prices[[#This Row],[ITEMNMBR]]","v":"WRI022"},"Custom Ramen Noodle and Fresca Basket ( Dena )","RETAIL",71.989999999999995]
["WRI023",{"$f":"Table_prices[[#This Row],[ITEMNMBR]]","v":"WRI023"},"Custom Beer & Wine ( Sam )","RETAIL",235.99]
["WRI024",{"$f":"Table_prices[[#This Row],[ITEMNMBR]]","v":"WRI024"},"Custom Michelob Ultra ( Sam )","RETAIL",74.989999999999995]
["WRI025",{"$f":"Table_prices[[#This Row],[ITEMNMBR]]","v":"WRI025"},"Custom Wild About You ( Dena )","RETAIL",70.989999999999995]
["WRI026",{"$f":"Table_prices[[#This Row],[ITEMNMBR]]","v":"WRI026"},"Custom Fruit with Dom ( Dena )","RETAIL",230.99]
["WRI027",{"$f":"Table_prices[[#This Row],[ITEMNMBR]]","v":"WRI027"},"Custom Showstopper ( Dena )","RETAIL",149.99]
["WRI028",{"$f":"Table_prices[[#This Row],[ITEMNMBR]]","v":"WRI028"},"Custom Care Package ( Dena )","RETAIL",90]
["WRI029",{"$f":"Table_prices[[#This Row],[ITEMNMBR]]","v":"WRI029"},"Custom Moet & Chocolate ( Jason )","RETAIL",115.99]
["WRI030",{"$f":"Table_prices[[#This Row],[ITEMNMBR]]","v":"WRI030"},"Custom Toys for 5 year old Boy ( Doris )","RETAIL",150]
["WRI031",{"$f":"Table_prices[[#This Row],[ITEMNMBR]]","v":"WRI031"},"Custom Bountiful Harvest ( Tim )","RETAIL",119.99]
["WRI032",{"$f":"Table_prices[[#This Row],[ITEMNMBR]]","v":"WRI032"},"Custom Chocolate with Bear ( Doris )","RETAIL",99.99]
["WRI033",{"$f":"Table_prices[[#This Row],[ITEMNMBR]]","v":"WRI033"},"Custom Breakfast ( Doris )","RETAIL",69.989999999999995]
["WRI034",{"$f":"Table_prices[[#This Row],[ITEMNMBR]]","v":"WRI034"},"Custom Beer ( Sam )","RETAIL",94.99]
["WRI035",{"$f":"Table_prices[[#This Row],[ITEMNMBR]]","v":"WRI035"},"Custom 5087 ( Sam )","RETAIL",90.99]
["WRI036",{"$f":"Table_prices[[#This Row],[ITEMNMBR]]","v":"WRI036"},"Custom Snack with Kazoo ( Billie )","RETAIL",86.99]
["WRI037",{"$f":"Table_prices[[#This Row],[ITEMNMBR]]","v":"WRI037"},"Custom Beer Bucket with low sodium Snacks (Sam)","RETAIL",103.99]
["WRI038",{"$f":"Table_prices[[#This Row],[ITEMNMBR]]","v":"WRI038"},"Custom Kosher ( Sam )","RETAIL",36.99]
["WRI039",{"$f":"Table_prices[[#This Row],[ITEMNMBR]]","v":"WRI039"},"Custom Beer ( Sam )","RETAIL",107.99]
["WRI040",{"$f":"Table_prices[[#This Row],[ITEMNMBR]]","v":"WRI040"},"Custom Wine ( Sam )","RETAIL",161.99]
["WRI041",{"$f":"Table_prices[[#This Row],[ITEMNMBR]]","v":"WRI041"},"Custom Single Red Base but with NO red wine (Sam)","RETAIL",69.989999999999995]
["WRI042",{"$f":"Table_prices[[#This Row],[ITEMNMBR]]","v":"WRI042"},"Custom Healthy wirh Fruit ( Dena )","RETAIL",111.99]
["WRI044",{"$f":"Table_prices[[#This Row],[ITEMNMBR]]","v":"WRI044"},"Custom Day in Paris ( Anne )","RETAIL",159.99]
["WRI045",{"$f":"Table_prices[[#This Row],[ITEMNMBR]]","v":"WRI045"},"Custom Bread and Dipping Oil ( Dena )","RETAIL",400]
["WRI046",{"$f":"Table_prices[[#This Row],[ITEMNMBR]]","v":"WRI046"},"Custom Wine ( Dena )","RETAIL",111.99]
["WRI047",{"$f":"Table_prices[[#This Row],[ITEMNMBR]]","v":"WRI047"},"Custom Champagne with Fruit ( Doris)","RETAIL",121.99]
["WRI048",{"$f":"Table_prices[[#This Row],[ITEMNMBR]]","v":"WRI048"},"Custom Salami , Summer Sausage Crfackers ( Dena )","RETAIL",229.5]
["XCE001",{"$f":"Table_prices[[#This Row],[ITEMNMBR]]","v":"XCE001"},"Custom Coffee Classic with changes (Sam)","RETAIL",108.99]
["XCE002",{"$f":"Table_prices[[#This Row],[ITEMNMBR]]","v":"XCE002"},"Custom Snack Ultimate - no Sausage, no Jerky (Doris)","RETAIL",147.99]
["XCE003",{"$f":"Table_prices[[#This Row],[ITEMNMBR]]","v":"XCE003"},"Custom 6280 ( Dena )","RETAIL",133.99]
["XCE004",{"$f":"Table_prices[[#This Row],[ITEMNMBR]]","v":"XCE004"},"Custom Bountiful but no fresh fruit (Tim)","RETAIL",119.99]
["XCE005",{"$f":"Table_prices[[#This Row],[ITEMNMBR]]","v":"XCE005"},"Custom Catena Duo with Olives and Chocolate (Dena)","RETAIL",155]
["XCE006",{"$f":"Table_prices[[#This Row],[ITEMNMBR]]","v":"XCE006"},"Custom CHocolate Mini and Veuve in basket (Sam)","RETAIL",99.99]
["XL ROBE",{"$f":"Table_prices[[#This Row],[ITEMNMBR]]","v":"XL ROBE"},"Custom Garden Tote with Organic Snacks (Sam)","RETAIL",76.989999999999995]
["XOC001",{"$f":"Table_prices[[#This Row],[ITEMNMBR]]","v":"XOC001"},"Custom Pink Golf Bag with Organic Snacks (Sam)","RETAIL",75.989999999999995]
["XOC002",{"$f":"Table_prices[[#This Row],[ITEMNMBR]]","v":"XOC002"},"Custom Champagne (3 bottles) and snacks (Billie)","RETAIL",200.99]
["YAM001",{"$f":"Table_prices[[#This Row],[ITEMNMBR]]","v":"YAM001"},"custom snack with coffee ( cathie )","RETAIL",114.99]
["YAN001",{"$f":"Table_prices[[#This Row],[ITEMNMBR]]","v":"YAN001"},"Custom Chocolate with Fruit ( Dena )","RETAIL",46.99]
["YAN002",{"$f":"Table_prices[[#This Row],[ITEMNMBR]]","v":"YAN002"},"Custom Organic with Fruit ( Anne )","RETAIL",104.99]
["YAN004",{"$f":"Table_prices[[#This Row],[ITEMNMBR]]","v":"YAN004"},"Custom MD Fruit for Miguel (Anne)","RETAIL",78.989999999999995]
["YAN005",{"$f":"Table_prices[[#This Row],[ITEMNMBR]]","v":"YAN005"},"Custom World 12 with Golf Bag ( Cathie )","RETAIL",139.99]
["YAN006",{"$f":"Table_prices[[#This Row],[ITEMNMBR]]","v":"YAN006"},"Custom Dom Basket ( Billie )","RETAIL",253.99]
["YAN007",{"$f":"Table_prices[[#This Row],[ITEMNMBR]]","v":"YAN007"},"Custom Suitcase ( Billie )","RETAIL",186.25]
["YAN008",{"$f":"Table_prices[[#This Row],[ITEMNMBR]]","v":"YAN008"},"Custom Fruit, Wine & Chocolate ( Sam )","RETAIL",199.5]
["YAN009",{"$f":"Table_prices[[#This Row],[ITEMNMBR]]","v":"YAN009"},"Custom Replacement Snack Mini ( Dena )","RETAIL",24.99]
["YAN012",{"$f":"Table_prices[[#This Row],[ITEMNMBR]]","v":"YAN012"},"Custom Brownies ( Colin )","RETAIL",27.15]
["YAN013",{"$f":"Table_prices[[#This Row],[ITEMNMBR]]","v":"YAN013"},"Custom Salad in Basket ( Anne)","RETAIL",59.94]
["YSO001",{"$f":"Table_prices[[#This Row],[ITEMNMBR]]","v":"YSO001"},"Custom Coffee & Choc ( Doris )","RETAIL",54]
["YUM001",{"$f":"Table_prices[[#This Row],[ITEMNMBR]]","v":"YUM001"},"Custom 6 Maple Syrup ( Pat)","RETAIL",52.8]
["YZE001",{"$f":"Table_prices[[#This Row],[ITEMNMBR]]","v":"YZE001"},"Custom Beer & Wine ( Sam )","RETAIL",130.99]
["YZE002",{"$f":"Table_prices[[#This Row],[ITEMNMBR]]","v":"YZE002"},"Custom cheese cracker fruit (Cathie)","RETAIL",63.99]
["YZE003",{"$f":"Table_prices[[#This Row],[ITEMNMBR]]","v":"YZE003"},"Custom 3 wines (Doris)","RETAIL",223.99]
["YZE005",{"$f":"Table_prices[[#This Row],[ITEMNMBR]]","v":"YZE005"},"Custom Chocolate Classic Plus 2 Bears (Tim)","RETAIL",112.99]
[null,{"$f":"Table_prices[[#This Row],[ITEMNMBR]]","v":0},"Custom Get Well 5068 and 5070 plus dark chocolate (Sam)","RETAIL",87.99]
[null,{"$f":"Table_prices[[#This Row],[ITEMNMBR]]","v":0},"Custom 5600 plus 5604  (Sam)","RETAIL",77.98]
[null,{"$f":"Table_prices[[#This Row],[ITEMNMBR]]","v":0},"Custom candlelight plus chocolates","RETAIL",96.99]
[null,{"$f":"Table_prices[[#This Row],[ITEMNMBR]]","v":0},"Custom Fruit Cheese Crackers and Nuts","RETAIL",125]
[null,{"$f":"Table_prices[[#This Row],[ITEMNMBR]]","v":0},"custom 6348 plus 6258","RETAIL",186.99]
[null,{"$f":"Table_prices[[#This Row],[ITEMNMBR]]","v":0},"custom 5017 plus cookies and candy","RETAIL",215.99]
[null,{"$f":"Table_prices[[#This Row],[ITEMNMBR]]","v":0},"custom 4503 with more nuts and chocolate","RETAIL",137.99]
[null,{"$f":"Table_prices[[#This Row],[ITEMNMBR]]","v":0},"Custom Fruit, Cheese, Crackers, Chocolate Bars (Billie)","RETAIL",49.99]
[null,{"$f":"Table_prices[[#This Row],[ITEMNMBR]]","v":0},"Custom peanutbutter lover (Dena)","RETAIL",89.99]
[null,{"$f":"Table_prices[[#This Row],[ITEMNMBR]]","v":0},"Custom Cavities combo 4800 and 4206","RETAIL",50.99]
[null,{"$f":"Table_prices[[#This Row],[ITEMNMBR]]","v":0},"Custom Junk Food Care Package (Ryan H)","RETAIL",34.99]
[null,{"$f":"Table_prices[[#This Row],[ITEMNMBR]]","v":0},"custom red wine and chocolate mini (tim)","RETAIL",50.99]
[null,{"$f":"Table_prices[[#This Row],[ITEMNMBR]]","v":0},"custom chocolates and gummies anniversary (sam)","RETAIL",119.99]
[null,{"$f":"Table_prices[[#This Row],[ITEMNMBR]]","v":0},"custom cabernet and zinfandel (Doris)","RETAIL",300.99]
[null,{"$f":"Table_prices[[#This Row],[ITEMNMBR]]","v":0},"custom snack classic with sunflower seeds (sam)","RETAIL",70.989999999999995]
[null,{"$f":"Table_prices[[#This Row],[ITEMNMBR]]","v":0},"custom 4072 chocolate and fruit no coffee (sam)","RETAIL",134.99]
[null,{"$f":"Table_prices[[#This Row],[ITEMNMBR]]","v":0},"custom custom cabernet with snack (ann)","RETAIL",52.99]
[null,{"$f":"Table_prices[[#This Row],[ITEMNMBR]]","v":0},"Custom single wine basket with cider instead of wine (Anne)","RETAIL",69.989999999999995]
[null,{"$f":"Table_prices[[#This Row],[ITEMNMBR]]","v":0},"Custom Birthday Care Pkg in a basket (Doris)","RETAIL",56.99]
[null,{"$f":"Table_prices[[#This Row],[ITEMNMBR]]","v":0},"Custom Peanut Butter, Nuts (Sam)","RETAIL",89.99]
[null,{"$f":"Table_prices[[#This Row],[ITEMNMBR]]","v":0},"Custom Silver Oak Napa Valley Wine 2007","RETAIL",79.989999999999995]
[null,{"$f":"Table_prices[[#This Row],[ITEMNMBR]]","v":0},"custom 4320 golf no cookies or busciuts yes nuts (Dena)","RETAIL",69.989999999999995]
[null,{"$f":"Table_prices[[#This Row],[ITEMNMBR]]","v":0},"custom campfire collection (doris)","RETAIL",150.99]
[null,{"$f":"Table_prices[[#This Row],[ITEMNMBR]]","v":0},"custom wine lovers suitcase no chocolate (tim)","RETAIL",199.99]
[null,{"$f":"Table_prices[[#This Row],[ITEMNMBR]]","v":0},"custom healthy deluxe with dark chocolate (sam)","RETAIL",113]
[null,{"$f":"Table_prices[[#This Row],[ITEMNMBR]]","v":0},"Custom Deluxe Junk Food in a Lady Bug Tote (Anne )","RETAIL",82.99]
[null,{"$f":"Table_prices[[#This Row],[ITEMNMBR]]","v":0},"Custom 4051 plus sparking cider (sam)","RETAIL",75.52]
[null,{"$f":"Table_prices[[#This Row],[ITEMNMBR]]","v":0},"Custom 4503 no nuts for Anne","RETAIL",119.99]
[null,{"$f":"Table_prices[[#This Row],[ITEMNMBR]]","v":0},"Custom bottleboard with red wine and organic pb (sam)","RETAIL",91.99]
[null,{"$f":"Table_prices[[#This Row],[ITEMNMBR]]","v":0},"Custom Vegan with wine for Dena","RETAIL",100]
[null,{"$f":"Table_prices[[#This Row],[ITEMNMBR]]","v":0},"Custom apple a day pears no grannies","RETAIL",59.99]
[null,{"$f":"Table_prices[[#This Row],[ITEMNMBR]]","v":0},"custom Brownie sampler, cookie sampler and nut crate for Anne","RETAIL",85.99]
[null,{"$f":"Table_prices[[#This Row],[ITEMNMBR]]","v":0},"custom 4053 snack deluxe with chocolates (Dena)","RETAIL",109.99]
[null,{"$f":"Table_prices[[#This Row],[ITEMNMBR]]","v":0},"custom 4053 change out bow (doris)","RETAIL",104.99]
[null,{"$f":"Table_prices[[#This Row],[ITEMNMBR]]","v":0},"Custom 4321 with cookies (Doris)","RETAIL",70]
[null,{"$f":"Table_prices[[#This Row],[ITEMNMBR]]","v":0},"Custom organic and dog basket combo 6521 and 4042 (sam)","RETAIL",247.99]
[null,{"$f":"Table_prices[[#This Row],[ITEMNMBR]]","v":0},"Custom Blue Golf Bag with healthy snacks (Anne)","RETAIL",84.99]
[null,{"$f":"Table_prices[[#This Row],[ITEMNMBR]]","v":0},"Custom Artisan Choc Box, Nastalgic & Classic Candy, Deluxe Junk Food & Nuts (Dena)","RETAIL",186.99]
[null,{"$f":"Table_prices[[#This Row],[ITEMNMBR]]","v":0},"Custom Snack Stack and Micro 3 pack (Doris)","RETAIL",79.989999999999995]
[null,{"$f":"Table_prices[[#This Row],[ITEMNMBR]]","v":0},"Custom Ravenswood Snacks and Chocolates","RETAIL",120.99]
[null,{"$f":"Table_prices[[#This Row],[ITEMNMBR]]","v":0},"Custom Orchard Abundance with Million Dollar Bars (Billie)","RETAIL",86.99]
[null,{"$f":"Table_prices[[#This Row],[ITEMNMBR]]","v":0},"Custom breakfast snack and chocolates *5093+4053* (dena)","RETAIL",201.99]
[null,{"$f":"Table_prices[[#This Row],[ITEMNMBR]]","v":0},"Custom cakebread white with crackers cheese and nuts (anne)","RETAIL",212.99]
[null,{"$f":"Table_prices[[#This Row],[ITEMNMBR]]","v":0},"Custom estate coll. with fruit swap (billie)","RETAIL",187.99]
[null,{"$f":"Table_prices[[#This Row],[ITEMNMBR]]","v":0},"Custom Sausage, Mustard, chocolate, cheese biscuit (Anne)","RETAIL",63.99]
[null,{"$f":"Table_prices[[#This Row],[ITEMNMBR]]","v":0},"Custom healthy premium with cheese and chocolates *4022* (doris)","RETAIL",150]
[null,{"$f":"Table_prices[[#This Row],[ITEMNMBR]]","v":0},"Custom snacks *honeybun* (doris)","RETAIL",87.99]
[null,{"$f":"Table_prices[[#This Row],[ITEMNMBR]]","v":0},"Custom beer-b-q deluxe add more snacks and beers","RETAIL",122.99]
[null,{"$f":"Table_prices[[#This Row],[ITEMNMBR]]","v":0},"Custom sweet deluxe add red licorice (anne)","RETAIL",113.99]
[null,{"$f":"Table_prices[[#This Row],[ITEMNMBR]]","v":0},"Custom pizza and ice cream *5052 &5039* (sam)","RETAIL",124]
[null,{"$f":"Table_prices[[#This Row],[ITEMNMBR]]","v":0},"Custom Frenchie (Dena)","RETAIL",159.99]
[null,{"$f":"Table_prices[[#This Row],[ITEMNMBR]]","v":0},"Custom glow in the dark and microwbrew *4507&5626* (dena)","RETAIL",81.99]
[null,{"$f":"Table_prices[[#This Row],[ITEMNMBR]]","v":0},"Custom Sierra Nevada with organic snacks (Dena)","RETAIL",60]
[null,{"$f":"Table_prices[[#This Row],[ITEMNMBR]]","v":0},"Custom snack ultimate with white wine (doris)","RETAIL",189.99]
[null,{"$f":"Table_prices[[#This Row],[ITEMNMBR]]","v":0},"Custom Baby (Tim)","RETAIL",3]
[null,{"$f":"Table_prices[[#This Row],[ITEMNMBR]]","v":0},"Custom replacements (Doris)","RETAIL",0]
[null,{"$f":"Table_prices[[#This Row],[ITEMNMBR]]","v":0},"Custom Just a Weee bit Salty (Cathie)","RETAIL",99.99]
[null,{"$f":"Table_prices[[#This Row],[ITEMNMBR]]","v":0},"Custom fruit, cheese, crackers, pretzels (Billie)","RETAIL",195.99]
[null,{"$f":"Table_prices[[#This Row],[ITEMNMBR]]","v":0},"Custom 5019 out with Chianti in with Catena (Sam)","RETAIL",119.99]
[null,{"$f":"Table_prices[[#This Row],[ITEMNMBR]]","v":0},"Custom cakebread red and white (Doris)","RETAIL",259.99]
[null,{"$f":"Table_prices[[#This Row],[ITEMNMBR]]","v":0},"Custom candy bucket (sam)","RETAIL",50]
[null,{"$f":"Table_prices[[#This Row],[ITEMNMBR]]","v":0},"Custom Cakebread Suitcase (doris)","RETAIL",278.99]
[null,{"$f":"Table_prices[[#This Row],[ITEMNMBR]]","v":0},"Custom kid fun and candy  (doris)","RETAIL",120]
[null,{"$f":"Table_prices[[#This Row],[ITEMNMBR]]","v":0},"Custom 4665 no fruit (Sam)","RETAIL",59.99]
[null,{"$f":"Table_prices[[#This Row],[ITEMNMBR]]","v":0},"Custom light beer with peanut allergies (Sam)","RETAIL",69.989999999999995]
[null,{"$f":"Table_prices[[#This Row],[ITEMNMBR]]","v":0},"Custom cakebread reds *5093 remove sausage add cheese* (tim)","RETAIL",259.99]
[null,{"$f":"Table_prices[[#This Row],[ITEMNMBR]]","v":0},"Custom bountiful with veuve (dena)","RETAIL",188.99]
[null,{"$f":"Table_prices[[#This Row],[ITEMNMBR]]","v":0},"Custom nastalgic candy *4800* plus extras  (ski colors) (Sam)","RETAIL",69.989999999999995]
[null,{"$f":"Table_prices[[#This Row],[ITEMNMBR]]","v":0},"Custom Bush Light Bucket plus more (Sam)","RETAIL",135.99]
[null,{"$f":"Table_prices[[#This Row],[ITEMNMBR]]","v":0},"Custom *4052* snack premium (Sam)","RETAIL",91.98]
[null,{"$f":"Table_prices[[#This Row],[ITEMNMBR]]","v":0},"Custom Gluten Free Stack (Anne)","RETAIL",72.989999999999995]
[null,{"$f":"Table_prices[[#This Row],[ITEMNMBR]]","v":0},"Custom Snack with red wine and sausage (doris)","RETAIL",99.99]
[null,{"$f":"Table_prices[[#This Row],[ITEMNMBR]]","v":0},"Custom Chocolate Items (Billie)","RETAIL",60]
[null,{"$f":"Table_prices[[#This Row],[ITEMNMBR]]","v":0},"Custom white wine, chocolates, salty snacks and relaxing bathtime (mike)","RETAIL",112.99]
[null,{"$f":"Table_prices[[#This Row],[ITEMNMBR]]","v":0},"custom estate collection more cheese (doris)","RETAIL",202.99]
[null,{"$f":"Table_prices[[#This Row],[ITEMNMBR]]","v":0},"Custom Snack Ultimate w/ 10-$10 Starbucks cards and 6 KOP popcorn cups (Billie)","RETAIL",303.99]
[null,{"$f":"Table_prices[[#This Row],[ITEMNMBR]]","v":0},"custom birthday care pkg. (Ryan F.)","RETAIL",52.99]
[null,{"$f":"Table_prices[[#This Row],[ITEMNMBR]]","v":0},"custom summer sweet and salty snacks (Anne)","RETAIL",185.99]
[null,{"$f":"Table_prices[[#This Row],[ITEMNMBR]]","v":0},"custom cakebreads (anne)","RETAIL",271.99]
[null,{"$f":"Table_prices[[#This Row],[ITEMNMBR]]","v":0},"custom oranges (dena)","RETAIL",49.99]
[null,{"$f":"Table_prices[[#This Row],[ITEMNMBR]]","v":0},"custom fruit and healthy snacks (Cathie)","RETAIL",199.99]
[null,{"$f":"Table_prices[[#This Row],[ITEMNMBR]]","v":0},"custom blue moon beer bucket (Dena)","RETAIL",105.99]
[null,{"$f":"Table_prices[[#This Row],[ITEMNMBR]]","v":0},"Custom Bacon - Beer - Chocolates and Cheese basket (Sam)","RETAIL",99.99]
[null,{"$f":"Table_prices[[#This Row],[ITEMNMBR]]","v":0},"Custom wine & cheese (sam)","RETAIL",109.99]
[null,{"$f":"Table_prices[[#This Row],[ITEMNMBR]]","v":0},"Custom family basket (mike)","RETAIL",100]
[null,{"$f":"Table_prices[[#This Row],[ITEMNMBR]]","v":0},"Custom white wine gluten free and non gluten free (dena)","RETAIL",101.99]
[null,{"$f":"Table_prices[[#This Row],[ITEMNMBR]]","v":0},"Custom snack jumbo with dom red and white wines (tim)","RETAIL",475]
[null,{"$f":"Table_prices[[#This Row],[ITEMNMBR]]","v":0},"Custom popcorn and candy (cathie)","RETAIL",189.99]
[null,{"$f":"Table_prices[[#This Row],[ITEMNMBR]]","v":0},"Custom kosher (sam)","RETAIL",249.99]
[null,{"$f":"Table_prices[[#This Row],[ITEMNMBR]]","v":0},"Custom BBQ/ Spa/ and Candy","RETAIL",99.99]
[null,{"$f":"Table_prices[[#This Row],[ITEMNMBR]]","v":0},"custom ladybug tote cp with visa gc (billie)","RETAIL",162.29]
[null,{"$f":"Table_prices[[#This Row],[ITEMNMBR]]","v":0},"custom nostalgic candy crate  with visa gc (billie)","RETAIL",142.29]
[null,{"$f":"Table_prices[[#This Row],[ITEMNMBR]]","v":0},"custom beanpod candle gift crate with visa gc (billie)","RETAIL",152.29]
[null,{"$f":"Table_prices[[#This Row],[ITEMNMBR]]","v":0},"custom chocolates (billie)","RETAIL",30]
[null,{"$f":"Table_prices[[#This Row],[ITEMNMBR]]","v":0},"custom snacks plus chocolates and gummies (dena)","RETAIL",140]
[null,{"$f":"Table_prices[[#This Row],[ITEMNMBR]]","v":0},"custom cookies and brownies (tim)","RETAIL",74.989999999999995]
[null,{"$f":"Table_prices[[#This Row],[ITEMNMBR]]","v":0},"custom cakebread replacement (dena)","RETAIL",133.94]
[null,{"$f":"Table_prices[[#This Row],[ITEMNMBR]]","v":0},"custom veuve with truffles cookies and brownies (dena)","RETAIL",114.99]
[null,{"$f":"Table_prices[[#This Row],[ITEMNMBR]]","v":0},"custom fruit and snacks (Billie)","RETAIL",59.99]
[null,{"$f":"Table_prices[[#This Row],[ITEMNMBR]]","v":0},"custom two chardonnays (doris)","RETAIL",59.99]
[null,{"$f":"Table_prices[[#This Row],[ITEMNMBR]]","v":0},"custom red ravenswood plus almonds","RETAIL",87.99]
[null,{"$f":"Table_prices[[#This Row],[ITEMNMBR]]","v":0},"custom cakebread and kosher (tim)","RETAIL",450]
[null,{"$f":"Table_prices[[#This Row],[ITEMNMBR]]","v":0},"custom hot dog stand -4089- plus more sauce (doris)","RETAIL",45]
[null,{"$f":"Table_prices[[#This Row],[ITEMNMBR]]","v":0},"custom chocolate (billie)","RETAIL",30]
[null,{"$f":"Table_prices[[#This Row],[ITEMNMBR]]","v":0},"custom 4802 deluxe junk food bucket plus $100 HD/GC (Dena)","RETAIL",184.99]
[null,{"$f":"Table_prices[[#This Row],[ITEMNMBR]]","v":0},"custom silveroak cabernet replacement (doris)","RETAIL",18.7]
[null,{"$f":"Table_prices[[#This Row],[ITEMNMBR]]","v":0},"custom snack jumbo - no meats (anne)","RETAIL",199.99]
[null,{"$f":"Table_prices[[#This Row],[ITEMNMBR]]","v":0},"custom diabetic snacks (Cathie)","RETAIL",65.989999999999995]
[null,{"$f":"Table_prices[[#This Row],[ITEMNMBR]]","v":0},"custom coffee & chocolate plus (Billie)","RETAIL",50]
[null,{"$f":"Table_prices[[#This Row],[ITEMNMBR]]","v":0},"custom MLB METS (Dena)","RETAIL",104.49]
[null,{"$f":"Table_prices[[#This Row],[ITEMNMBR]]","v":0},"custom back to school (billie)","RETAIL",69.989999999999995]
[null,{"$f":"Table_prices[[#This Row],[ITEMNMBR]]","v":0},"custom fruit plus cookies (Billie)","RETAIL",52.99]
[null,{"$f":"Table_prices[[#This Row],[ITEMNMBR]]","v":0},"custom fruit plus milk chocolate bar (Billie)","RETAIL",52.99]
[null,{"$f":"Table_prices[[#This Row],[ITEMNMBR]]","v":0},"custom Anniversary (Anne)","RETAIL",174.99]
[null,{"$f":"Table_prices[[#This Row],[ITEMNMBR]]","v":0},"custom single sampler (Tim / Doris)","RETAIL",57.99]
[null,{"$f":"Table_prices[[#This Row],[ITEMNMBR]]","v":0},"custom Miller light bucket (doris)","RETAIL",126.99]
[null,{"$f":"Table_prices[[#This Row],[ITEMNMBR]]","v":0},"custom papmpered dog & cat with sympathy (Anne)","RETAIL",99.99]
[null,{"$f":"Table_prices[[#This Row],[ITEMNMBR]]","v":0},"custom (donation) wildhorse trio with ggb g/c (anne)","RETAIL",0]
[null,{"$f":"Table_prices[[#This Row],[ITEMNMBR]]","v":0},"custom Corona - Happy Birthday","RETAIL",57.99]
[null,{"$f":"Table_prices[[#This Row],[ITEMNMBR]]","v":0},"custom fruit & sweets (doris)","RETAIL",48.99]
[null,{"$f":"Table_prices[[#This Row],[ITEMNMBR]]","v":0},"custom healthy foods for WellNet (Tim)","RETAIL",68.989999999999995]
[null,{"$f":"Table_prices[[#This Row],[ITEMNMBR]]","v":0},"custom healthy foods for WellNet 2 (Tim)","RETAIL",69.989999999999995]
[null,{"$f":"Table_prices[[#This Row],[ITEMNMBR]]","v":0},"custom cookie sampler in a basket (Tim)","RETAIL",53.99]
[null,{"$f":"Table_prices[[#This Row],[ITEMNMBR]]","v":0},"custom dads bday combo bbq & nutcrate","RETAIL",86.99]
[null,{"$f":"Table_prices[[#This Row],[ITEMNMBR]]","v":0},"Custom Champagne, Chocolate, Snacks (Mike F.)","RETAIL",139.99]
[null,{"$f":"Table_prices[[#This Row],[ITEMNMBR]]","v":0},"Custom 5019 with 1 Catena Chardonnay (Anne)","RETAIL",126.99]
[null,{"$f":"Table_prices[[#This Row],[ITEMNMBR]]","v":0},"Custom Deluxe Junk Food Bucket with Cookie Brittle (Anne)","RETAIL",59.99]
[null,{"$f":"Table_prices[[#This Row],[ITEMNMBR]]","v":0},"Custom cakebreads with ultimate snacks (dena)","RETAIL",511.99]
[null,{"$f":"Table_prices[[#This Row],[ITEMNMBR]]","v":0},"Custom Irish Beer Bucket (Mike)","RETAIL",101.99]
[null,{"$f":"Table_prices[[#This Row],[ITEMNMBR]]","v":0},"Custom breakfast with Cakebread wines and Dom (Anne)","RETAIL",569.99]
[null,{"$f":"Table_prices[[#This Row],[ITEMNMBR]]","v":0},"Custom 4505, 4802, 4403 plus fruit (Cathie)","RETAIL",189.99]
[null,{"$f":"Table_prices[[#This Row],[ITEMNMBR]]","v":0},"Custom Fruit and Jams (Billie)","RETAIL",82.99]
[null,{"$f":"Table_prices[[#This Row],[ITEMNMBR]]","v":0},"Custom Snack Premium with Snacks and Activities (Billie)","RETAIL",124.99]
[null,{"$f":"Table_prices[[#This Row],[ITEMNMBR]]","v":0},"Custom Red Soz Small with loose toys added to ship box (Anne)","RETAIL",119.99]
[null,{"$f":"Table_prices[[#This Row],[ITEMNMBR]]","v":0},"Custom Peak of the Harvest with Cheese and Crackers (Anne)","RETAIL",95.99]
[null,{"$f":"Table_prices[[#This Row],[ITEMNMBR]]","v":0},"Custom Sweet 16 wrigleys bucket and classic candy crate (Anne)","RETAIL",66.989999999999995]
[null,{"$f":"Table_prices[[#This Row],[ITEMNMBR]]","v":0},"Custom signature series with more (Doris)","RETAIL",373.99]
[null,{"$f":"Table_prices[[#This Row],[ITEMNMBR]]","v":0},"Custom snacker (tim)","RETAIL",70.989999999999995]
[null,{"$f":"Table_prices[[#This Row],[ITEMNMBR]]","v":0},"Custom harvest tower - minus tower- add Veuve (anne)","RETAIL",141.99]
[null,{"$f":"Table_prices[[#This Row],[ITEMNMBR]]","v":0},"Custom Snacks (Billie)","RETAIL",85]
[null,{"$f":"Table_prices[[#This Row],[ITEMNMBR]]","v":0},"Custom Corona - Golf  (Billie)","RETAIL",87.99]
[null,{"$f":"Table_prices[[#This Row],[ITEMNMBR]]","v":0},"Custom 5021 ribbon change (doris)","RETAIL",106.99]
[null,{"$f":"Table_prices[[#This Row],[ITEMNMBR]]","v":0},"Custom Health Nut, Fruit, Tea, Coffee, Candy (Doris)","RETAIL",105.99]
[null,{"$f":"Table_prices[[#This Row],[ITEMNMBR]]","v":0},"Custom Miller Lite Bucket (Billie)","RETAIL",92.99]
[null,{"$f":"Table_prices[[#This Row],[ITEMNMBR]]","v":0},"Custom snacks for w/c (Houston)","RETAIL",73.989999999999995]
[null,{"$f":"Table_prices[[#This Row],[ITEMNMBR]]","v":0},"Custom Ravenswood Red (Billie)","RETAIL",69.989999999999995]
[null,{"$f":"Table_prices[[#This Row],[ITEMNMBR]]","v":0},"Custom chocolates to pass out (Billie)","RETAIL",60]
[null,{"$f":"Table_prices[[#This Row],[ITEMNMBR]]","v":0},"Custom Snack Classic for Miguel","RETAIL",59.99]
[null,{"$f":"Table_prices[[#This Row],[ITEMNMBR]]","v":0},"custom Starbucks (Billie)","RETAIL",238.99]
[null,{"$f":"Table_prices[[#This Row],[ITEMNMBR]]","v":0},"Custom snack / football/ bucket (Billie)","RETAIL",94.99]
[null,{"$f":"Table_prices[[#This Row],[ITEMNMBR]]","v":0},"Custom 22 (Tim)","RETAIL",465]
[null,{"$f":"Table_prices[[#This Row],[ITEMNMBR]]","v":0},"Custom 4108 with Moet (Doris)","RETAIL",113]
[null,{"$f":"Table_prices[[#This Row],[ITEMNMBR]]","v":0},"Custom snack premium with Moet (Doris)","RETAIL",138.99]
[null,{"$f":"Table_prices[[#This Row],[ITEMNMBR]]","v":0},"Custom Sam Adams Bucket (Doris)","RETAIL",104.99]
[null,{"$f":"Table_prices[[#This Row],[ITEMNMBR]]","v":0},"Custom snack jumbo with Ravenswood red and white (doris)","RETAIL",237.99]
[null,{"$f":"Table_prices[[#This Row],[ITEMNMBR]]","v":0},"Custom Beer Cookies and BBQ Bday (Dena)","RETAIL",69.989999999999995]
[null,{"$f":"Table_prices[[#This Row],[ITEMNMBR]]","v":0},"Custom Wine suitcase no Hess add Catena (Billie)","RETAIL",149.99]
[null,{"$f":"Table_prices[[#This Row],[ITEMNMBR]]","v":0},"Custom mini candy basket ( Anne)","RETAIL",27.99]
[null,{"$f":"Table_prices[[#This Row],[ITEMNMBR]]","v":0},"Custom twin boys snack deluxe (Billie)","RETAIL",120.99]
[null,{"$f":"Table_prices[[#This Row],[ITEMNMBR]]","v":0},"Custom beer buckets (Billie)","RETAIL",50.99]
[null,{"$f":"Table_prices[[#This Row],[ITEMNMBR]]","v":0},"Custom Wisconsin Basket (Tim)","RETAIL",149.99]
[null,{"$f":"Table_prices[[#This Row],[ITEMNMBR]]","v":0},"Custom replacement","RETAIL",83.99]
[null,{"$f":"Table_prices[[#This Row],[ITEMNMBR]]","v":0},"Custom Purely Fruit - 8 Pears and 4 Oranges Only - TEST (Jill)","RETAIL",49.99]
[null,{"$f":"Table_prices[[#This Row],[ITEMNMBR]]","v":0},"Custom Purely Fruit with Fruit from Hannafords - TEST (Jill)","RETAIL",49.99]
[null,{"$f":"Table_prices[[#This Row],[ITEMNMBR]]","v":0},"Custom snacks for the family","RETAIL",248]
[null,{"$f":"Table_prices[[#This Row],[ITEMNMBR]]","v":0},"Custom Basket with Popcorn and Get Well Items (Dena)","RETAIL",155.99]
[null,{"$f":"Table_prices[[#This Row],[ITEMNMBR]]","v":0},"custom Moet and chocolate (Tim)","RETAIL",200]
[null,{"$f":"Table_prices[[#This Row],[ITEMNMBR]]","v":0},"Custom Snack Classic with Mich Ultra (Dena)","RETAIL",78.989999999999995]
[null,{"$f":"Table_prices[[#This Row],[ITEMNMBR]]","v":0},"Custom Spa ( Billie)","RETAIL",200]
[null,{"$f":"Table_prices[[#This Row],[ITEMNMBR]]","v":0},"Custom exam cram (Anne)","RETAIL",60]
[null,{"$f":"Table_prices[[#This Row],[ITEMNMBR]]","v":0},"Custom Bountiful Harvest with Maple Syrup (Ryan F.)","RETAIL",130.99]
[null,{"$f":"Table_prices[[#This Row],[ITEMNMBR]]","v":0},"Custom Kosher Extreme (Doris)","RETAIL",300]
[null,{"$f":"Table_prices[[#This Row],[ITEMNMBR]]","v":0},"Custom Champagne & Truffles plus Candy","RETAIL",398]
[null,{"$f":"Table_prices[[#This Row],[ITEMNMBR]]","v":0},"Custom Cardinals 2X with Hoodie (Tim)","RETAIL",79.989999999999995]
[null,{"$f":"Table_prices[[#This Row],[ITEMNMBR]]","v":0},"Custom Kosher Bountiful Harvest (Dena)","RETAIL",120]
[null,{"$f":"Table_prices[[#This Row],[ITEMNMBR]]","v":0},"Custom Microbrew beer bucket (Mike)","RETAIL",102.99]
[null,{"$f":"Table_prices[[#This Row],[ITEMNMBR]]","v":0},"Custom Kosher stack (Dena)","RETAIL",34.99]
[null,{"$f":"Table_prices[[#This Row],[ITEMNMBR]]","v":0},"Custom Bloody mary Stack (Dena)","RETAIL",39.99]
[null,{"$f":"Table_prices[[#This Row],[ITEMNMBR]]","v":0},"Custom Wire Golf Bucket (Doris)","RETAIL",53]
[null,{"$f":"Table_prices[[#This Row],[ITEMNMBR]]","v":0},"Custom Steele Chardonnay Wasabi Peas","RETAIL",100]
[null,{"$f":"Table_prices[[#This Row],[ITEMNMBR]]","v":0},"Custom Second City Basket 3 French (Tim)","RETAIL",300]
[null,{"$f":"Table_prices[[#This Row],[ITEMNMBR]]","v":0},"Custom Second City Healthy Basket (Tim)","RETAIL",300]
[null,{"$f":"Table_prices[[#This Row],[ITEMNMBR]]","v":0},"Custom Second City Fun Basket (Tim)","RETAIL",300]
[null,{"$f":"Table_prices[[#This Row],[ITEMNMBR]]","v":0},"Custom Get Well (Anne)","RETAIL",145.99]
[null,{"$f":"Table_prices[[#This Row],[ITEMNMBR]]","v":0},"Custom Gluten Free with Fruit (Ryan F)","RETAIL",90]
[null,{"$f":"Table_prices[[#This Row],[ITEMNMBR]]","v":0},"Custom ravenswood with microwbeers (mike)","RETAIL",102.99]
[null,{"$f":"Table_prices[[#This Row],[ITEMNMBR]]","v":0},"Custom sympathy fruit plus (Dena)","RETAIL",125]
[null,{"$f":"Table_prices[[#This Row],[ITEMNMBR]]","v":0},"Custom Beer and Wine (Billie)","RETAIL",98]
[null,{"$f":"Table_prices[[#This Row],[ITEMNMBR]]","v":0},"Custom Orchard Abundance with Bananas (Tim)","RETAIL",95]
[null,{"$f":"Table_prices[[#This Row],[ITEMNMBR]]","v":0},"Custom Orchard Abundance sausage for caramel (R. Fisher)","RETAIL",77.989999999999995]
[null,{"$f":"Table_prices[[#This Row],[ITEMNMBR]]","v":0},"Custom Golf Bag with Beer and Munchies (Doris)","RETAIL",66.989999999999995]
[null,{"$f":"Table_prices[[#This Row],[ITEMNMBR]]","v":0},"Custom Cocktail Deluxe (Tim)","RETAIL",119.99]
[null,{"$f":"Table_prices[[#This Row],[ITEMNMBR]]","v":0},"Custom (Lisa)","RETAIL",74]
[null,{"$f":"Table_prices[[#This Row],[ITEMNMBR]]","v":0},"Custom Beer Bucket (Dena)","RETAIL",60]
[null,{"$f":"Table_prices[[#This Row],[ITEMNMBR]]","v":0},"Custom Automotive Advantage Chocolates (Billie)","RETAIL",50]
[null,{"$f":"Table_prices[[#This Row],[ITEMNMBR]]","v":0},"Custom Junk Food with Reese's (Anne)","RETAIL",62.99]
[null,{"$f":"Table_prices[[#This Row],[ITEMNMBR]]","v":0},"Custom Brownie Sampler (Billie)","RETAIL",34.99]
[null,{"$f":"Table_prices[[#This Row],[ITEMNMBR]]","v":0},"Custom Snack (Ryan H)","RETAIL",95]
[null,{"$f":"Table_prices[[#This Row],[ITEMNMBR]]","v":0},"Custom Bountiful no sausage add cheese (Tim)","RETAIL",128.99]
[null,{"$f":"Table_prices[[#This Row],[ITEMNMBR]]","v":0},"Custom Orchards with more fruit and no chocolate (Billie)","RETAIL",90]
[null,{"$f":"Table_prices[[#This Row],[ITEMNMBR]]","v":0},"Custom Choc O Lantern with SF Gum and Spider (Billie)","RETAIL",47.99]
[null,{"$f":"Table_prices[[#This Row],[ITEMNMBR]]","v":0},"Custom Season Sampler with cookies and chocolate (Billie)","RETAIL",53.99]
[null,{"$f":"Table_prices[[#This Row],[ITEMNMBR]]","v":0},"Custom Deluxe Beer BBQ - Stella (Billie)","RETAIL",75.989999999999995]
[null,{"$f":"Table_prices[[#This Row],[ITEMNMBR]]","v":0},"Custom Snack for Ryan Huston at Convention 100312","RETAIL",45]
[null,{"$f":"Table_prices[[#This Row],[ITEMNMBR]]","v":0},"Custom fruit and cookies (Anne)","RETAIL",67.989999999999995]
[null,{"$f":"Table_prices[[#This Row],[ITEMNMBR]]","v":0},"Custom Gluten Free Stack with Tea (Billie)","RETAIL",67.989999999999995]
[null,{"$f":"Table_prices[[#This Row],[ITEMNMBR]]","v":0},"Custom Moet with Tootsie Pops (Tim)","RETAIL",80]
[null,{"$f":"Table_prices[[#This Row],[ITEMNMBR]]","v":0},"Custom Wild Horse Trio snacks & sweets","RETAIL",198.99]
[null,{"$f":"Table_prices[[#This Row],[ITEMNMBR]]","v":0},"Custom Sampling Basket (Ryan F)","RETAIL",86.99]
[null,{"$f":"Table_prices[[#This Row],[ITEMNMBR]]","v":0},"Custom Beer BBQ with Boddingtons Pub Ale (Dena)","RETAIL",97.99]
[null,{"$f":"Table_prices[[#This Row],[ITEMNMBR]]","v":0},"Custom Around the World 6 pk no nuts more cheese (Billie)","RETAIL",99.99]
[null,{"$f":"Table_prices[[#This Row],[ITEMNMBR]]","v":0},"Custom Deluxe Breakfast & Kid Sports (Tim)","RETAIL",189.99]
[null,{"$f":"Table_prices[[#This Row],[ITEMNMBR]]","v":0},"Custom wine - chocolates - spa (Anne)","RETAIL",263.99]
[null,{"$f":"Table_prices[[#This Row],[ITEMNMBR]]","v":0},"Custom Moet - cheese- crackers- chocolates (Billie)","RETAIL",100]
[null,{"$f":"Table_prices[[#This Row],[ITEMNMBR]]","v":0},"Custom healthy deluxe plus fruit (Anne)","RETAIL",129.99]
[null,{"$f":"Table_prices[[#This Row],[ITEMNMBR]]","v":0},"Custom Bountiful plus (Anne)","RETAIL",140.32]
[null,{"$f":"Table_prices[[#This Row],[ITEMNMBR]]","v":0},"Custom Beer with peanuts (Doris)","RETAIL",50]
[null,{"$f":"Table_prices[[#This Row],[ITEMNMBR]]","v":0},"Custom Champ and Truffles with Moet and Veuve (Anne)","RETAIL",183.99]
[null,{"$f":"Table_prices[[#This Row],[ITEMNMBR]]","v":0},"Custom salad stack with chai and cookie brittle (Tim)","RETAIL",79.989999999999995]
[null,{"$f":"Table_prices[[#This Row],[ITEMNMBR]]","v":0},"Custom Cookie Sampler plus ss items (Billie)","RETAIL",79.989999999999995]
[null,{"$f":"Table_prices[[#This Row],[ITEMNMBR]]","v":0},"Custom KOP x's 5 (Billie)","RETAIL",20]
[null,{"$f":"Table_prices[[#This Row],[ITEMNMBR]]","v":0},"Custom wine and margarita basket (Billie)","RETAIL",100]
[null,{"$f":"Table_prices[[#This Row],[ITEMNMBR]]","v":0},"Custom Irish 6 Pack with all Guinness Draught (Anne)","RETAIL",78.989999999999995]
[null,{"$f":"Table_prices[[#This Row],[ITEMNMBR]]","v":0},"Custom Snack, Chocolate, Tea (Tim)","RETAIL",100]
[null,{"$f":"Table_prices[[#This Row],[ITEMNMBR]]","v":0},"Custom 8 Jack O Lantern Mugs (Anne)","RETAIL",40]
[null,{"$f":"Table_prices[[#This Row],[ITEMNMBR]]","v":0},"Custom Sample Foods (Billie)","RETAIL",35]
[null,{"$f":"Table_prices[[#This Row],[ITEMNMBR]]","v":0},"Customized Healthy Premium with $50 Cheesecake Factory Gift Card (Anne)","RETAIL",188.99]
[null,{"$f":"Table_prices[[#This Row],[ITEMNMBR]]","v":0},"Customized Estate Collection REMOVE SAUSAGE / NO RIBBON OR BOW (Anne)","RETAIL",179.99]
[null,{"$f":"Table_prices[[#This Row],[ITEMNMBR]]","v":0},"Custom Pumpkin Bucket with Mug and Candy (Doris)","RETAIL",69.989999999999995]
[null,{"$f":"Table_prices[[#This Row],[ITEMNMBR]]","v":0},"Custom Snack Premium with 3 Pedialyte (Dena)","RETAIL",153.99]
[null,{"$f":"Table_prices[[#This Row],[ITEMNMBR]]","v":0},"Custom Gluten Free with White Wine (Doris)","RETAIL",93.99]
[null,{"$f":"Table_prices[[#This Row],[ITEMNMBR]]","v":0},"Custom Thank You -mish mosh - (Anne)","RETAIL",99.99]
[null,{"$f":"Table_prices[[#This Row],[ITEMNMBR]]","v":0},"Custom seasons sampler  4401 plus ravenswood red (Anne)","RETAIL",63.99]
[null,{"$f":"Table_prices[[#This Row],[ITEMNMBR]]","v":0},"Custom Snack Deluxe with Fruit (Anne)","RETAIL",139]
[null,{"$f":"Table_prices[[#This Row],[ITEMNMBR]]","v":0},"Custom Snack plus black licorice (Doris)","RETAIL",128.99]
[null,{"$f":"Table_prices[[#This Row],[ITEMNMBR]]","v":0},"Custom 4408 remove meats add more fruit  (Doris)","RETAIL",180]
[null,{"$f":"Table_prices[[#This Row],[ITEMNMBR]]","v":0},"Custom 4046 plus fruit (Billie)","RETAIL",89.99]
[null,{"$f":"Table_prices[[#This Row],[ITEMNMBR]]","v":0},"Custom nostalgic candy in halloween pumpkin (Billie)","RETAIL",38.99]
[null,{"$f":"Table_prices[[#This Row],[ITEMNMBR]]","v":0},"Custom bella italian with wildhorse merlot (Tim)","RETAIL",199.99]
[null,{"$f":"Table_prices[[#This Row],[ITEMNMBR]]","v":0},"custom care package  (Anne)","RETAIL",48.99]
[null,{"$f":"Table_prices[[#This Row],[ITEMNMBR]]","v":0},"Custom fruit & organic (Anne)","RETAIL",78.989999999999995]
[null,{"$f":"Table_prices[[#This Row],[ITEMNMBR]]","v":0},"Custom 5206 plus 2 gallon popcorn tin (Billie)","RETAIL",50]
[null,{"$f":"Table_prices[[#This Row],[ITEMNMBR]]","v":0},"Custom wrigleys candy plus ice cream stack (Joy)","RETAIL",72.989999999999995]
[null,{"$f":"Table_prices[[#This Row],[ITEMNMBR]]","v":0},"Custom Xmas Snack in neutral colors (Billie)","RETAIL",59.99]
[null,{"$f":"Table_prices[[#This Row],[ITEMNMBR]]","v":0},"Custom Micro 6 with fruit and white wine (Joy)","RETAIL",104.99]
[null,{"$f":"Table_prices[[#This Row],[ITEMNMBR]]","v":0},"Custom Cookies & Cashews (Doris)","RETAIL",52.99]
[null,{"$f":"Table_prices[[#This Row],[ITEMNMBR]]","v":0},"Custom Supreme Popcorn Tin (Salt Choc / Smores / Bday Cake) (Tim)","RETAIL",59.99]
[null,{"$f":"Table_prices[[#This Row],[ITEMNMBR]]","v":0},"Custom Supreme Popcorn Tin (Maple / Coconut / Cookies Cream) (Tim)","RETAIL",59.99]
[null,{"$f":"Table_prices[[#This Row],[ITEMNMBR]]","v":0},"Custom Seasoned Popcorn Tin (Bacon Ched / Salt Vin / Cinnamon) (Tim)","RETAIL",49.99]
[null,{"$f":"Table_prices[[#This Row],[ITEMNMBR]]","v":0},"Custom Seasoned Popcorn Tin (Dill / Cheesy Ched / Too Hot) (Tim)","RETAIL",49.99]
[null,{"$f":"Table_prices[[#This Row],[ITEMNMBR]]","v":0},"Custom brownie sampler (R. Fisher)","RETAIL",34.99]
[null,{"$f":"Table_prices[[#This Row],[ITEMNMBR]]","v":0},"Custom snack classic plus dog treats (Anne)","RETAIL",77.989999999999995]
[null,{"$f":"Table_prices[[#This Row],[ITEMNMBR]]","v":0},"Custom Kosher with blue piggy bank (Jen)","RETAIL",126.99]
[null,{"$f":"Table_prices[[#This Row],[ITEMNMBR]]","v":0},"Custom birthday care pkg remove some things add 4753 (Anne)","RETAIL",83.99]
[null,{"$f":"Table_prices[[#This Row],[ITEMNMBR]]","v":0},"Custom Bountiful Harvest no sausage (Anne)","RETAIL",119.99]
[null,{"$f":"Table_prices[[#This Row],[ITEMNMBR]]","v":0},"Custom 4108 and 4202 stack no basket (Jen)","RETAIL",80]
[null,{"$f":"Table_prices[[#This Row],[ITEMNMBR]]","v":0},"Custom Estate remove the sausage add in cookies (Anne)","RETAIL",177.99]
[null,{"$f":"Table_prices[[#This Row],[ITEMNMBR]]","v":0},"Custom $350 Snack Basket (Doris)","RETAIL",350]
[null,{"$f":"Table_prices[[#This Row],[ITEMNMBR]]","v":0},"Custom 4802 plus items from 5608 in a bucket (Jen)","RETAIL",97.99]
[null,{"$f":"Table_prices[[#This Row],[ITEMNMBR]]","v":0},"Custom Kosher - Orchard Abundance (Anne)","RETAIL",71.989999999999995]
[null,{"$f":"Table_prices[[#This Row],[ITEMNMBR]]","v":0},"Custom Chocolate Classic with Junk Food and Candy (Joy)","RETAIL",99.99]
[null,{"$f":"Table_prices[[#This Row],[ITEMNMBR]]","v":0},"Custom fruit & gluten free items (Joy)","RETAIL",89.99]
[null,{"$f":"Table_prices[[#This Row],[ITEMNMBR]]","v":0},"Custom 5086 no gouda, add cheddar (Jen)","RETAIL",82.99]
[null,{"$f":"Table_prices[[#This Row],[ITEMNMBR]]","v":0},"Custom Irish Beer NO NUTS, add pepperoni (Joy)","RETAIL",77.989999999999995]
[null,{"$f":"Table_prices[[#This Row],[ITEMNMBR]]","v":0},"Custom more chocolates to pass out (Billie)","RETAIL",75]
[null,{"$f":"Table_prices[[#This Row],[ITEMNMBR]]","v":0},"Custom treats for the young broadway star (Jen)","RETAIL",129.99]
[null,{"$f":"Table_prices[[#This Row],[ITEMNMBR]]","v":0},"Custom white wine, gourmet foods, cheese, cookies, candies & fruit (Dena)","RETAIL",300]
[null,{"$f":"Table_prices[[#This Row],[ITEMNMBR]]","v":0},"Custom Beer, Wine, Candy (Jen)","RETAIL",100]
[null,{"$f":"Table_prices[[#This Row],[ITEMNMBR]]","v":0},"Custom Itlalian and Popcorn (Joy)","RETAIL",127.99]
[null,{"$f":"Table_prices[[#This Row],[ITEMNMBR]]","v":0},"Custom Heineken & Friends -- add more Heineken (Jen)","RETAIL",99.99]
[null,{"$f":"Table_prices[[#This Row],[ITEMNMBR]]","v":0},"Custom 5406 Signature remove sausage add crackers and fruit (Anne)","RETAIL",299.99]
[null,{"$f":"Table_prices[[#This Row],[ITEMNMBR]]","v":0},"Custom 4056 signature with 2 bottles of Moet (Dena)","RETAIL",353.99]
[null,{"$f":"Table_prices[[#This Row],[ITEMNMBR]]","v":0},"Custom Bloody mary Basket in wine duo (Ryan F)","RETAIL",79.989999999999995]
[null,{"$f":"Table_prices[[#This Row],[ITEMNMBR]]","v":0},"Custom Cakebread Vineyard with Chocolate (Joy)","RETAIL",452.99]
[null,{"$f":"Table_prices[[#This Row],[ITEMNMBR]]","v":0},"Custom combo (4024 & 5070) -  Get Well basket (Jen)","RETAIL",226.99]
[null,{"$f":"Table_prices[[#This Row],[ITEMNMBR]]","v":0},"Custom for the family - fruit - snacks - girl things - wine - and baby to be","RETAIL",160]
[null,{"$f":"Table_prices[[#This Row],[ITEMNMBR]]","v":0},"Custom Cheese, Crackers, Sausage, Nuts (Jen)","RETAIL",65.239999999999995]
[null,{"$f":"Table_prices[[#This Row],[ITEMNMBR]]","v":0},"Custom 4021 with Golf Items (Jen)","RETAIL",90.99]
[null,{"$f":"Table_prices[[#This Row],[ITEMNMBR]]","v":0},"Custom Pretzels and Mustard (Jen)","RETAIL",90.99]
[null,{"$f":"Table_prices[[#This Row],[ITEMNMBR]]","v":0},"Custom A&E Coffee Roastery Mini","RETAIL",14.7]
[null,{"$f":"Table_prices[[#This Row],[ITEMNMBR]]","v":0},"Custom A&E Coffee Roastery  - single with overhandle","RETAIL",29.4]
[null,{"$f":"Table_prices[[#This Row],[ITEMNMBR]]","v":0},"Custom A&E Coffee Roastery Medium","RETAIL",41.3]
[null,{"$f":"Table_prices[[#This Row],[ITEMNMBR]]","v":0},"Custom Snack classic add water ( Billie & Dena)","RETAIL",69.989999999999995]
[null,{"$f":"Table_prices[[#This Row],[ITEMNMBR]]","v":0},"Custom heineken cans plus snacks (Doris)","RETAIL",56]
[null,{"$f":"Table_prices[[#This Row],[ITEMNMBR]]","v":0},"Custom 4502 add oysters and pistachios (Joy)","RETAIL",115]
[null,{"$f":"Table_prices[[#This Row],[ITEMNMBR]]","v":0},"Custom 5089 4 bottles of cabernet sauvingon (Doris)","RETAIL",196.99]
[null,{"$f":"Table_prices[[#This Row],[ITEMNMBR]]","v":0},"Custom gluten free (RFisher)","RETAIL",50]
[null,{"$f":"Table_prices[[#This Row],[ITEMNMBR]]","v":0},"Custom fruit plus... (Anne)","RETAIL",100]
[null,{"$f":"Table_prices[[#This Row],[ITEMNMBR]]","v":0},"Custom Dairy Free Happy Holidays (Anne)","RETAIL",57.99]
[null,{"$f":"Table_prices[[#This Row],[ITEMNMBR]]","v":0},"Custom Healthy with a craving for Reese's Basket (Billie)","RETAIL",50]
[null,{"$f":"Table_prices[[#This Row],[ITEMNMBR]]","v":0},"Custom snacks (Tim)","RETAIL",66.989999999999995]
[null,{"$f":"Table_prices[[#This Row],[ITEMNMBR]]","v":0},"Custom 4071 with pretzels and potato sticks (Billie)","RETAIL",84.99]
[null,{"$f":"Table_prices[[#This Row],[ITEMNMBR]]","v":0},"Custom gluten free (Billie)","RETAIL",85.99]
[null,{"$f":"Table_prices[[#This Row],[ITEMNMBR]]","v":0},"Custom junk food care pkg plus ...... (Anne)","RETAIL",79.84]
[null,{"$f":"Table_prices[[#This Row],[ITEMNMBR]]","v":0},"Custom Relaxation Spa and Chocolate (Jen)","RETAIL",109.26]
[null,{"$f":"Table_prices[[#This Row],[ITEMNMBR]]","v":0},"Custom christmas classic - swap basket for tin (Jen - Dena)","RETAIL",66.989999999999995]
[null,{"$f":"Table_prices[[#This Row],[ITEMNMBR]]","v":0},"Custom 5090 slight variation (Billie)","RETAIL",109]
[null,{"$f":"Table_prices[[#This Row],[ITEMNMBR]]","v":0},"Custom Happy Holidays Crate with Ravenswood Red and snacks - (Anne & Doris)","RETAIL",74.88]
[null,{"$f":"Table_prices[[#This Row],[ITEMNMBR]]","v":0},"Custom Midnight Snack with some more items (Sam)","RETAIL",50]
[null,{"$f":"Table_prices[[#This Row],[ITEMNMBR]]","v":0},"Custom 5215 add a Santa hat (Anne)","RETAIL",93.99]
[null,{"$f":"Table_prices[[#This Row],[ITEMNMBR]]","v":0},"Custom 5106 plus Ravenswood & Catena (joy)","RETAIL",181.99]
[null,{"$f":"Table_prices[[#This Row],[ITEMNMBR]]","v":0},"Custom Veuve - snacks and sweets  (Jen)","RETAIL",152.99]
[null,{"$f":"Table_prices[[#This Row],[ITEMNMBR]]","v":0},"Custom cider, chocolates, & strawberry delight with gold ribbons (RHuston)","RETAIL",231.99]
[null,{"$f":"Table_prices[[#This Row],[ITEMNMBR]]","v":0},"Custom holiday sweets deluxe (Billie)","RETAIL",109.99]
[null,{"$f":"Table_prices[[#This Row],[ITEMNMBR]]","v":0},"Custom holiday sweets - 250  (Billie)","RETAIL",250]
[null,{"$f":"Table_prices[[#This Row],[ITEMNMBR]]","v":0},"Custom Sugar & Spice and Everything Nice... Baby Girl  (RFisher)","RETAIL",92.99]
[null,{"$f":"Table_prices[[#This Row],[ITEMNMBR]]","v":0},"Custom 5095, remove meat, add 6 fruit (Joy)","RETAIL",94.99]
[null,{"$f":"Table_prices[[#This Row],[ITEMNMBR]]","v":0},"Custom 5022, no meat, 3 fruit, biscuits, granola (Joy)","RETAIL",91.99]
[null,{"$f":"Table_prices[[#This Row],[ITEMNMBR]]","v":0},"Custom 5107 including all three champagnes (Jen)","RETAIL",329.99]
[null,{"$f":"Table_prices[[#This Row],[ITEMNMBR]]","v":0},"Custom 5107 including two champagnes (Jen)","RETAIL",291.99]
[null,{"$f":"Table_prices[[#This Row],[ITEMNMBR]]","v":0},"Custom Golf items - 4320- plus snacks and sweets in a basket  (Billie)","RETAIL",150]
[null,{"$f":"Table_prices[[#This Row],[ITEMNMBR]]","v":0},"Custom Gluten Free Kosher (Dena)","RETAIL",200]
[null,{"$f":"Table_prices[[#This Row],[ITEMNMBR]]","v":0},"Custom 5230 - no cheese or meats - (Anne)","RETAIL",149.99]
[null,{"$f":"Table_prices[[#This Row],[ITEMNMBR]]","v":0},"Custom Red & White Wine (Dena)","RETAIL",150]
[null,{"$f":"Table_prices[[#This Row],[ITEMNMBR]]","v":0},"Custom **Merry Christmas**  - care pkg (Derek)","RETAIL",67.989999999999995]
[null,{"$f":"Table_prices[[#This Row],[ITEMNMBR]]","v":0},"Custom **Merry Christmas**   (Derek)","RETAIL",85.99]
[null,{"$f":"Table_prices[[#This Row],[ITEMNMBR]]","v":0},"Custom Christmas Present for Jill","RETAIL",85.99]
[null,{"$f":"Table_prices[[#This Row],[ITEMNMBR]]","v":0},"Custom Heineken Light beer bucket (Doris)","RETAIL",89.99]
[null,{"$f":"Table_prices[[#This Row],[ITEMNMBR]]","v":0},"Custom for lisa","RETAIL",87.99]
[null,{"$f":"Table_prices[[#This Row],[ITEMNMBR]]","v":0},"Custom Large POP order (Anne)","RETAIL",379.99]
[null,{"$f":"Table_prices[[#This Row],[ITEMNMBR]]","v":0},"Custom Light Beer Bucket (Anne)","RETAIL",72.989999999999995]
[null,{"$f":"Table_prices[[#This Row],[ITEMNMBR]]","v":0},"Custom for Zubi - Spa and Gourmet (Ryan H.)","RETAIL",292.99]
[null,{"$f":"Table_prices[[#This Row],[ITEMNMBR]]","v":0},"Custom Red Wine & Chocolate Duo in Basket (Anne)","RETAIL",124.99]
[null,{"$f":"Table_prices[[#This Row],[ITEMNMBR]]","v":0},"Custom Popcorn Tin (empty) (Dena)","RETAIL",47.94]
[null,{"$f":"Table_prices[[#This Row],[ITEMNMBR]]","v":0},"Custom 5215 - Ireland - (Anne)","RETAIL",79.989999999999995]
[null,{"$f":"Table_prices[[#This Row],[ITEMNMBR]]","v":0},"Custom 5215 - Mexico - (Anne)","RETAIL",79.989999999999995]
[null,{"$f":"Table_prices[[#This Row],[ITEMNMBR]]","v":0},"Custom 4404 change out the chocolates (Anne)","RETAIL",78.989999999999995]
[null,{"$f":"Table_prices[[#This Row],[ITEMNMBR]]","v":0},"Custom writing breaks without distractions plus candy (Tim)","RETAIL",87.99]
[null,{"$f":"Table_prices[[#This Row],[ITEMNMBR]]","v":0},"Custom coffee tea & cookies (Jen)","RETAIL",79.989999999999995]
[null,{"$f":"Table_prices[[#This Row],[ITEMNMBR]]","v":0},"Custom Hospital Physician Partners - Sweets Classic - change basket - (Tim)","RETAIL",68.95]
[null,{"$f":"Table_prices[[#This Row],[ITEMNMBR]]","v":0},"Custom Cookies - (Tim)","RETAIL",25]
[null,{"$f":"Table_prices[[#This Row],[ITEMNMBR]]","v":0},"Custom Natures Mix Medley (Jen)","RETAIL",39.99]
[null,{"$f":"Table_prices[[#This Row],[ITEMNMBR]]","v":0},"Custom Bud Light (Billie)","RETAIL",139.99]
[null,{"$f":"Table_prices[[#This Row],[ITEMNMBR]]","v":0},"Custom 5082  plus a coke (Anne)","RETAIL",146.99]
[null,{"$f":"Table_prices[[#This Row],[ITEMNMBR]]","v":0},"Custom Cabernet cheese crackers -  picnic style (Dena)","RETAIL",267.99]
[null,{"$f":"Table_prices[[#This Row],[ITEMNMBR]]","v":0},"Custom Organic Premium plus extras(Dena)","RETAIL",227.99]
[null,{"$f":"Table_prices[[#This Row],[ITEMNMBR]]","v":0},"Custom Cabernet crackers cheese and chocolates (Jen)","RETAIL",96.99]
[null,{"$f":"Table_prices[[#This Row],[ITEMNMBR]]","v":0},"Custom Coors Light 24 - bottles - Beer-BQ (Doris)","RETAIL",111.99]
[null,{"$f":"Table_prices[[#This Row],[ITEMNMBR]]","v":0},"Custom Snack Classic with fruit for Tim","RETAIL",88.99]
[null,{"$f":"Table_prices[[#This Row],[ITEMNMBR]]","v":0},"Custom Orchard with Smoked Gouda and Jam for Jen","RETAIL",99.99]
[null,{"$f":"Table_prices[[#This Row],[ITEMNMBR]]","v":0},"Custom Mendocino Crate for Tim","RETAIL",189.95]
[null,{"$f":"Table_prices[[#This Row],[ITEMNMBR]]","v":0},"Custom - Test with 7 Digits","RETAIL",0]
[null,{"$f":"Table_prices[[#This Row],[ITEMNMBR]]","v":0},"4803 with a bottle of Ravenswood for Jen","RETAIL",72.989999999999995]
[null,{"$f":"Table_prices[[#This Row],[ITEMNMBR]]","v":0},"Custom Heiniken with two chips for Jen","RETAIL",85.99]
[null,{"$f":"Table_prices[[#This Row],[ITEMNMBR]]","v":0},"Custom Get Well Basket with Gatorade for Jen","RETAIL",57.99]
[null,{"$f":"Table_prices[[#This Row],[ITEMNMBR]]","v":0},"Custom Bountiful remove Salmon add choc for Jen","RETAIL",125]
[null,{"$f":"Table_prices[[#This Row],[ITEMNMBR]]","v":0},"Custom 4405 no cider for Jen","RETAIL",95.99]
[null,{"$f":"Table_prices[[#This Row],[ITEMNMBR]]","v":0},"Custom Baby Boy with piggy bank for Jen","RETAIL",126.99]
[null,{"$f":"Table_prices[[#This Row],[ITEMNMBR]]","v":0},"Custom Fruit an Choc for Anne","RETAIL",149.99]
[null,{"$f":"Table_prices[[#This Row],[ITEMNMBR]]","v":0},"Custom Birthday care pkg with wine for Doris","RETAIL",222.99]
[null,{"$f":"Table_prices[[#This Row],[ITEMNMBR]]","v":0},"Custom A Prince for a Princess (Anne / Dena)","RETAIL",49.99]
[null,{"$f":"Table_prices[[#This Row],[ITEMNMBR]]","v":0},"Custom 4215 (Brian)","RETAIL",124.99]
[null,{"$f":"Table_prices[[#This Row],[ITEMNMBR]]","v":0},"Custom chocolate handouts (Billie)","RETAIL",75]
[null,{"$f":"Table_prices[[#This Row],[ITEMNMBR]]","v":0},"Custom bountiful  - no sausage! (Jen)","RETAIL",124.99]
[null,{"$f":"Table_prices[[#This Row],[ITEMNMBR]]","v":0},"Custom get well - soup (Jen)","RETAIL",61.99]
[null,{"$f":"Table_prices[[#This Row],[ITEMNMBR]]","v":0},"Custom - Healthy - Fruit, Cider and Snacks (Doris)","RETAIL",117.99]
[null,{"$f":"Table_prices[[#This Row],[ITEMNMBR]]","v":0},"Custom - microbrew 3 pk swap beer (Doris)","RETAIL",46.99]
[null,{"$f":"Table_prices[[#This Row],[ITEMNMBR]]","v":0},"Custom - natures mixed medley and crispy cracker crunch purchase (Dena)","RETAIL",61.99]
[null,{"$f":"Table_prices[[#This Row],[ITEMNMBR]]","v":0},"Custom - Healthy Deluxe with added fruits and snacks (Jen)","RETAIL",139.99]
[null,{"$f":"Table_prices[[#This Row],[ITEMNMBR]]","v":0},"Custom - miller 64 pretzels and chocolates (Anne)","RETAIL",89.99]
[null,{"$f":"Table_prices[[#This Row],[ITEMNMBR]]","v":0},"Custom - apples, cookies and chocolates (Anne)","RETAIL",50.99]
[null,{"$f":"Table_prices[[#This Row],[ITEMNMBR]]","v":0},"Custom - 6pk microwbrew no jerkey - (Dena)","RETAIL",73.989999999999995]
[null,{"$f":"Table_prices[[#This Row],[ITEMNMBR]]","v":0},"Custom - for mom & dads anniversary (Jiffy)","RETAIL",193.99]
[null,{"$f":"Table_prices[[#This Row],[ITEMNMBR]]","v":0},"Custom - Birthday - (Billie)","RETAIL",148.99]
[null,{"$f":"Table_prices[[#This Row],[ITEMNMBR]]","v":0},"Custom - Be My Valentine plus Cabernet (Anne)","RETAIL",171.99]
[null,{"$f":"Table_prices[[#This Row],[ITEMNMBR]]","v":0},"Custom - Bountiful no fruit (Billie)","RETAIL",127.99]
[null,{"$f":"Table_prices[[#This Row],[ITEMNMBR]]","v":0},"Custom Relaxation Therapy Deluxe","RETAIL",89.99]
[null,{"$f":"Table_prices[[#This Row],[ITEMNMBR]]","v":0},"Custom Hole in One Remove Coffee Add White Choc (Jen)","RETAIL",79.989999999999995]
[null,{"$f":"Table_prices[[#This Row],[ITEMNMBR]]","v":0},"Custom Nature's Picnic with Sparkling Cider","RETAIL",94.99]
[null,{"$f":"Table_prices[[#This Row],[ITEMNMBR]]","v":0},"Custom Valentine Basket Donation (Dena)","RETAIL",70]
[null,{"$f":"Table_prices[[#This Row],[ITEMNMBR]]","v":0},"Custom 4081 with custom ribbons (Dena)","RETAIL",86.99]
[null,{"$f":"Table_prices[[#This Row],[ITEMNMBR]]","v":0},"Custom Candy Basket (Anne)","RETAIL",39.99]
[null,{"$f":"Table_prices[[#This Row],[ITEMNMBR]]","v":0},"Custom Valentine Care Package in basket","RETAIL",84.99]
[null,{"$f":"Table_prices[[#This Row],[ITEMNMBR]]","v":0},"Custom Cookies, Crackers, CHocolates (Dena)","RETAIL",49.99]
[null,{"$f":"Table_prices[[#This Row],[ITEMNMBR]]","v":0},"Custom 6252","RETAIL",59.99]
[null,{"$f":"Table_prices[[#This Row],[ITEMNMBR]]","v":0},"Custom -- Spa Premium -- add Dark Chocolates (Anne)","RETAIL",154.99]
[null,{"$f":"Table_prices[[#This Row],[ITEMNMBR]]","v":0},"Custom -- Bountiful -- no sausage -- add another salmon (Billie)","RETAIL",125.99]
[null,{"$f":"Table_prices[[#This Row],[ITEMNMBR]]","v":0},"Custom -- bud light 6pk beer bucket (Anne)","RETAIL",83.99]
[null,{"$f":"Table_prices[[#This Row],[ITEMNMBR]]","v":0},"Custom -- mens travel minus the tote -- spa & snacks in a basket (Jen)","RETAIL",69.989999999999995]
[null,{"$f":"Table_prices[[#This Row],[ITEMNMBR]]","v":0},"Custom -- Valentines Fruit & Candy (Jason)","RETAIL",50]
[null,{"$f":"Table_prices[[#This Row],[ITEMNMBR]]","v":0},"Custom -- Mini Variety (Anne)","RETAIL",159.99]
[null,{"$f":"Table_prices[[#This Row],[ITEMNMBR]]","v":0},"Custom NUT FREE (Doris)","RETAIL",79.989999999999995]
[null,{"$f":"Table_prices[[#This Row],[ITEMNMBR]]","v":0},"Custom 4509 with 2 Stella and 2 Sam Regular (Jen)","RETAIL",79.989999999999995]
[null,{"$f":"Table_prices[[#This Row],[ITEMNMBR]]","v":0},"Custom Peanut M&M Valentine (Dena)","RETAIL",99.99]
[null,{"$f":"Table_prices[[#This Row],[ITEMNMBR]]","v":0},"Custom 2 Gallon Traditional with Teddy (Mike)","RETAIL",54.99]
[null,{"$f":"Table_prices[[#This Row],[ITEMNMBR]]","v":0},"Custom **xoxo Valentine** (Dena)","RETAIL",49.99]
[null,{"$f":"Table_prices[[#This Row],[ITEMNMBR]]","v":0},"Custom -- Coors Light Beer BBQ (Jen)","RETAIL",176.99]
[null,{"$f":"Table_prices[[#This Row],[ITEMNMBR]]","v":0},"Custom -- Italian with two red wines & cheese (Jen)","RETAIL",150]
[null,{"$f":"Table_prices[[#This Row],[ITEMNMBR]]","v":0},"Custom -- Bud Select Beer-BQ add choc covered nuts (Dena)","RETAIL",75.989999999999995]
[null,{"$f":"Table_prices[[#This Row],[ITEMNMBR]]","v":0},"Custom -- Breakfast @ Tiffanys -- (Tim)","RETAIL",499.99]
[null,{"$f":"Table_prices[[#This Row],[ITEMNMBR]]","v":0},"Custom --Chocolate Stack -- items specific (Anne)","RETAIL",39.99]
[null,{"$f":"Table_prices[[#This Row],[ITEMNMBR]]","v":0},"Custom -- Popcorn -- (Billie)","RETAIL",100]
[null,{"$f":"Table_prices[[#This Row],[ITEMNMBR]]","v":0},"Custom Kosher, Gluten Free and Diary Free for Doris","RETAIL",97.99]
[null,{"$f":"Table_prices[[#This Row],[ITEMNMBR]]","v":0},"Custom beer bucket doubled beers -- (Billie)","RETAIL",86.99]
[null,{"$f":"Table_prices[[#This Row],[ITEMNMBR]]","v":0},"Custom -- Fruit Basket -- Doris","RETAIL",64.989999999999995]
[null,{"$f":"Table_prices[[#This Row],[ITEMNMBR]]","v":0},"Custom ChocolatePremium  add dog items (Jen)","RETAIL",116.99]
[null,{"$f":"Table_prices[[#This Row],[ITEMNMBR]]","v":0},"Custom Message in a Bottle DVD - White Riesling - B&BW Energy Orange Ginger spa items (Jen)","RETAIL",256.99]
[null,{"$f":"Table_prices[[#This Row],[ITEMNMBR]]","v":0},"Custom Heineken Beer & Snack Bucket (Jen)","RETAIL",68.989999999999995]
[null,{"$f":"Table_prices[[#This Row],[ITEMNMBR]]","v":0},"Custom 4022 Healthy plus extra protein bars (Doris)","RETAIL",95.99]
[null,{"$f":"Table_prices[[#This Row],[ITEMNMBR]]","v":0},"Custom : 4641 remove the Twizzlers and replace with M&Ms (Jen)","RETAIL",48.99]
[null,{"$f":"Table_prices[[#This Row],[ITEMNMBR]]","v":0},"Custom : Natures Picnic add more items - change basket (Anne)","RETAIL",96.99]
[null,{"$f":"Table_prices[[#This Row],[ITEMNMBR]]","v":0},"Custom : Weekend in Paris - no Moet add red & white wines (Jen)","RETAIL",239.99]
[null,{"$f":"Table_prices[[#This Row],[ITEMNMBR]]","v":0},"Custom : Gluten Free snacks- sweets - red wine - (Dena)","RETAIL",108.99]
[null,{"$f":"Table_prices[[#This Row],[ITEMNMBR]]","v":0},"Custom : meats - cheeses - crackers - fruit - snacks - sweets (Billie)","RETAIL",250]
[null,{"$f":"Table_prices[[#This Row],[ITEMNMBR]]","v":0},"Custom : dark chocolates - coffee & cornichons (RFisher)","RETAIL",99.99]
[null,{"$f":"Table_prices[[#This Row],[ITEMNMBR]]","v":0},"Custom : Breakfast  - no coffee please tea (Jen)","RETAIL",109.99]
[null,{"$f":"Table_prices[[#This Row],[ITEMNMBR]]","v":0},"Custom : BeerBQ Deluxe with added beers -  2 M&Ms (Anne)","RETAIL",79.989999999999995]
[null,{"$f":"Table_prices[[#This Row],[ITEMNMBR]]","v":0},"Custom : 50 th Birthday! (Jen)","RETAIL",290.99]
[null,{"$f":"Table_prices[[#This Row],[ITEMNMBR]]","v":0},"Custom : Red & White Ravenswood with chocolates (Tim)","RETAIL",113.99]
[null,{"$f":"Table_prices[[#This Row],[ITEMNMBR]]","v":0},"Custom : For a young girl - sweets and a bunny (Jen)","RETAIL",52.99]
[null,{"$f":"Table_prices[[#This Row],[ITEMNMBR]]","v":0},"Custom : candy and munchies in a golf bag (Jen)","RETAIL",64.989999999999995]
[null,{"$f":"Table_prices[[#This Row],[ITEMNMBR]]","v":0},"Custom : Cakebread Basket (Doris)","RETAIL",165.99]
[null,{"$f":"Table_prices[[#This Row],[ITEMNMBR]]","v":0},"Custom : Bountiful Harvest remove sausage (Anne)","RETAIL",119.99]
[null,{"$f":"Table_prices[[#This Row],[ITEMNMBR]]","v":0},"Custom : 5086 remove elk001 add chocolate! (Doris)","RETAIL",88.99]
[null,{"$f":"Table_prices[[#This Row],[ITEMNMBR]]","v":0},"Custom : Day in Paris w/ Veuve","RETAIL",172.99]
[null,{"$f":"Table_prices[[#This Row],[ITEMNMBR]]","v":0},"Custom : Dom & Chocolates (Billie)","RETAIL",277.99]
[null,{"$f":"Table_prices[[#This Row],[ITEMNMBR]]","v":0},"Custom : Sweets and More (Anne)","RETAIL",140.99]
[null,{"$f":"Table_prices[[#This Row],[ITEMNMBR]]","v":0},"Custom : St. Patrick's Day (Anne)","RETAIL",73.989999999999995]
[null,{"$f":"Table_prices[[#This Row],[ITEMNMBR]]","v":0},"Custom : Spicy! (Doris)","RETAIL",99.99]
[null,{"$f":"Table_prices[[#This Row],[ITEMNMBR]]","v":0},"Custom : For the Family (Billie)","RETAIL",12.99]
[null,{"$f":"Table_prices[[#This Row],[ITEMNMBR]]","v":0},"Custom : New Baby Girl (Jen)","RETAIL",86.99]
[null,{"$f":"Table_prices[[#This Row],[ITEMNMBR]]","v":0},"Custom Charcoal Connoisseur with Moet & Chandon (Anne)","RETAIL",213.98]
[null,{"$f":"Table_prices[[#This Row],[ITEMNMBR]]","v":0},"Custom fruit & chocolate ( Tim)","RETAIL",24.99]
[null,{"$f":"Table_prices[[#This Row],[ITEMNMBR]]","v":0},"custom chips cookies brownies popcorn & twizzlers (Anne)","RETAIL",50]
[null,{"$f":"Table_prices[[#This Row],[ITEMNMBR]]","v":0},"Custom : Look what the Easter Bunny brought (Jen)","RETAIL",189.99]
[null,{"$f":"Table_prices[[#This Row],[ITEMNMBR]]","v":0},"Custom Coffee Chocolate Activities (Tim)","RETAIL",75.989999999999995]
[null,{"$f":"Table_prices[[#This Row],[ITEMNMBR]]","v":0},"Custom : look what the easter bunny brought (Tim)","RETAIL",149.99]
[null,{"$f":"Table_prices[[#This Row],[ITEMNMBR]]","v":0},"Custom Hippity Hoppity with Chocolate Bunny (Jen)","RETAIL",40.99]
[null,{"$f":"Table_prices[[#This Row],[ITEMNMBR]]","v":0},"Custom Honeymoon Basket with 2 Cab, Cheese, Crax, Choc (Anne)","RETAIL",122.99]
[null,{"$f":"Table_prices[[#This Row],[ITEMNMBR]]","v":0},"Custom : fruit, chocolates, snacks and red wine","RETAIL",140]
[null,{"$f":"Table_prices[[#This Row],[ITEMNMBR]]","v":0},"Custom Hippity Hoppity with Buttercream Bunny (Tim)","RETAIL",39.99]
[null,{"$f":"Table_prices[[#This Row],[ITEMNMBR]]","v":0},"Custom : Harry Hare bunny with treats (Doris)","RETAIL",64.989999999999995]
[null,{"$f":"Table_prices[[#This Row],[ITEMNMBR]]","v":0},"Custom : Double Bunny (Jen)","RETAIL",119.99]
[null,{"$f":"Table_prices[[#This Row],[ITEMNMBR]]","v":0},"Custom : Triple Bunnies - Easter Basket (Tim)","RETAIL",147.99]
[null,{"$f":"Table_prices[[#This Row],[ITEMNMBR]]","v":0},"Custom Easter Classic with Black/White Bunny (Anne)","RETAIL",51.97]
[null,{"$f":"Table_prices[[#This Row],[ITEMNMBR]]","v":0},"Custom : Hippity Hop (Jen)","RETAIL",36.99]
[null,{"$f":"Table_prices[[#This Row],[ITEMNMBR]]","v":0},"Custom : Easter Sweets & Treats extra chocolates (Mike)","RETAIL",69.989999999999995]
[null,{"$f":"Table_prices[[#This Row],[ITEMNMBR]]","v":0},"Custom : Chocolate Premium plus Easter Bunny (Billie)","RETAIL",121.99]
[null,{"$f":"Table_prices[[#This Row],[ITEMNMBR]]","v":0},"Custom : golf bag with activities snacks and sweets  (Tim/ Jen)","RETAIL",69.989999999999995]
[null,{"$f":"Table_prices[[#This Row],[ITEMNMBR]]","v":0},"Custom : snickers, chocolates, dried fruit, nuts (RHuston)","RETAIL",71.989999999999995]
[null,{"$f":"Table_prices[[#This Row],[ITEMNMBR]]","v":0},"Custom : Wine Trio (switching wines) (Billie)","RETAIL",193.99]
[null,{"$f":"Table_prices[[#This Row],[ITEMNMBR]]","v":0},"Custom : Easter Care pkg - add a bunny (Anne)","RETAIL",66.98]
[null,{"$f":"Table_prices[[#This Row],[ITEMNMBR]]","v":0},"Custom : Easter Basket for 6 month old boy (Billie)","RETAIL",80]
[null,{"$f":"Table_prices[[#This Row],[ITEMNMBR]]","v":0},"Custom : Dom & Wild Horse Cabernet Duo (Tim)","RETAIL",295.99]
[null,{"$f":"Table_prices[[#This Row],[ITEMNMBR]]","v":0},"Custom Easter Items for Jill to take home","RETAIL",21.92]
[null,{"$f":"Table_prices[[#This Row],[ITEMNMBR]]","v":0},"Custom: Easter - glow cpkg plus some of 4641 in a basket (Anne / Jen)","RETAIL",68.78]
[null,{"$f":"Table_prices[[#This Row],[ITEMNMBR]]","v":0},"Custom : More Bubbly (Dena)","RETAIL",183.99]
[null,{"$f":"Table_prices[[#This Row],[ITEMNMBR]]","v":0},"Custom : Healthy Basket (Jen)","RETAIL",145]
[null,{"$f":"Table_prices[[#This Row],[ITEMNMBR]]","v":0},"Custom : Snack Ultimate plus 6pk heineken (Billie)","RETAIL",167.99]
[null,{"$f":"Table_prices[[#This Row],[ITEMNMBR]]","v":0},"Custom : Fishing - Caught the big one - swap coffee for tea (Anne)","RETAIL",86.99]
[null,{"$f":"Table_prices[[#This Row],[ITEMNMBR]]","v":0},"Custom : KOP MAC - just the bags (Jen)","RETAIL",80]
[null,{"$f":"Table_prices[[#This Row],[ITEMNMBR]]","v":0},"Custom : Kosher (Jen)","RETAIL",200]
[null,{"$f":"Table_prices[[#This Row],[ITEMNMBR]]","v":0},"Custom : care pkg (Tim)","RETAIL",90]
[null,{"$f":"Table_prices[[#This Row],[ITEMNMBR]]","v":0},"Custom : cookie sampler in a basket (Tim)","RETAIL",50]
[null,{"$f":"Table_prices[[#This Row],[ITEMNMBR]]","v":0},"Custom : red wine- fruit- nuts- golfballs (Tim / Jen)","RETAIL",95.99]
[null,{"$f":"Table_prices[[#This Row],[ITEMNMBR]]","v":0},"Custom : Bountiful with wine (Jen)","RETAIL",195.99]
[null,{"$f":"Table_prices[[#This Row],[ITEMNMBR]]","v":0},"Custom : Snack Ultimate - Italy (Anne)","RETAIL",149.99]
[null,{"$f":"Table_prices[[#This Row],[ITEMNMBR]]","v":0},"Custom : Snack Ultimate -  (Anne)","RETAIL",159.99]
[null,{"$f":"Table_prices[[#This Row],[ITEMNMBR]]","v":0},"Custom : Wrigleys candy bucket (Jen / Doris)","RETAIL",44.99]
[null,{"$f":"Table_prices[[#This Row],[ITEMNMBR]]","v":0},"Custom : Spa and Snack (Jen)","RETAIL",174.99]
[null,{"$f":"Table_prices[[#This Row],[ITEMNMBR]]","v":0},"Custom : Golf / Orchard  (Jen)","RETAIL",99.99]
[null,{"$f":"Table_prices[[#This Row],[ITEMNMBR]]","v":0},"Custom : assorted trail mixes (Doris / Anne)","RETAIL",50]
[null,{"$f":"Table_prices[[#This Row],[ITEMNMBR]]","v":0},"Custom : Chianti and Dark Chocolates (Huston)","RETAIL",77]
[null,{"$f":"Table_prices[[#This Row],[ITEMNMBR]]","v":0},"Custom : tea, coconut and healthy items,cookies and chocolates (Anne)","RETAIL",182.99]
[null,{"$f":"Table_prices[[#This Row],[ITEMNMBR]]","v":0},"Custom : New Baby (Jen)","RETAIL",299.99]
[null,{"$f":"Table_prices[[#This Row],[ITEMNMBR]]","v":0},"Custom : Golf & Budlight (Doris)","RETAIL",107.99]
[null,{"$f":"Table_prices[[#This Row],[ITEMNMBR]]","v":0},"Custom : Snack Classic (Tim)","RETAIL",66.989999999999995]
[null,{"$f":"Table_prices[[#This Row],[ITEMNMBR]]","v":0},"Custom : microbrew 6pk (Tim)","RETAIL",69.989999999999995]
[null,{"$f":"Table_prices[[#This Row],[ITEMNMBR]]","v":0},"Custom : Dog and Wine (Jen)","RETAIL",93.99]
[null,{"$f":"Table_prices[[#This Row],[ITEMNMBR]]","v":0},"Custom : Margarita Maddness (Corona platter) Anne","RETAIL",79.989999999999995]
[null,{"$f":"Table_prices[[#This Row],[ITEMNMBR]]","v":0},"Custom : Sweets Stack ( Anne)","RETAIL",42.99]
[null,{"$f":"Table_prices[[#This Row],[ITEMNMBR]]","v":0},"Custom : 5601cp plus balloons (Tim)","RETAIL",45.99]
[null,{"$f":"Table_prices[[#This Row],[ITEMNMBR]]","v":0},"Custom : Gluten Free plus fruit (Jen)","RETAIL",69.989999999999995]
[null,{"$f":"Table_prices[[#This Row],[ITEMNMBR]]","v":0},"Custom : New Baby Boy (Jen)","RETAIL",200]
[null,{"$f":"Table_prices[[#This Row],[ITEMNMBR]]","v":0},"Custom : Kosher stack with fruit (Jen)","RETAIL",89.99]
[null,{"$f":"Table_prices[[#This Row],[ITEMNMBR]]","v":0},"Custom 4012 with Fruit, Holland Mints, Gorilla (Anne)","RETAIL",199.99]
[null,{"$f":"Table_prices[[#This Row],[ITEMNMBR]]","v":0},"Custom : 4502 add crackers, cheese, sausage, pretzels and dip (Jen)","RETAIL",140.99]
[null,{"$f":"Table_prices[[#This Row],[ITEMNMBR]]","v":0},"Custom : Extreme Tailgating with added Canadian beer and snacks (Doris)","RETAIL",249.99]
[null,{"$f":"Table_prices[[#This Row],[ITEMNMBR]]","v":0},"Custom : Healthy snacks (Doris)","RETAIL",62.99]
[null,{"$f":"Table_prices[[#This Row],[ITEMNMBR]]","v":0},"Custom : Healthy snacks  2 (Doris)","RETAIL",89.99]
[null,{"$f":"Table_prices[[#This Row],[ITEMNMBR]]","v":0},"Custom : Kosher - Nut Free (Anne)","RETAIL",59.99]
[null,{"$f":"Table_prices[[#This Row],[ITEMNMBR]]","v":0},"Custom : Candy Box (Mike)","RETAIL",45.99]
[null,{"$f":"Table_prices[[#This Row],[ITEMNMBR]]","v":0},"Custom : 4021 plus white wine and chocolates (Doris)","RETAIL",150]
[null,{"$f":"Table_prices[[#This Row],[ITEMNMBR]]","v":0},"Custom : fruit and unsalted nuts (Dave)","RETAIL",148.99]
[null,{"$f":"Table_prices[[#This Row],[ITEMNMBR]]","v":0},"Custom : For Mom (Lisa)","RETAIL",53.99]
[null,{"$f":"Table_prices[[#This Row],[ITEMNMBR]]","v":0},"Custom : 5090 remove meat & cheese add nut variety (Doris)","RETAIL",107.99]
[null,{"$f":"Table_prices[[#This Row],[ITEMNMBR]]","v":0},"Jen's Custom","RETAIL",41.99]
[null,{"$f":"Table_prices[[#This Row],[ITEMNMBR]]","v":0},"Custom Orchard with more fruit (Anne)","RETAIL",87.99]
[null,{"$f":"Table_prices[[#This Row],[ITEMNMBR]]","v":0},"Custom Around the World 12 plus healthy snacks (Jen)","RETAIL",155.99]
[null,{"$f":"Table_prices[[#This Row],[ITEMNMBR]]","v":0},"Custom: Celebrity Chef plus specified beers and added bbq sauce (Jen)","RETAIL",227.99]
[null,{"$f":"Table_prices[[#This Row],[ITEMNMBR]]","v":0},"Custom: ice cream (Tim)","RETAIL",43]
[null,{"$f":"Table_prices[[#This Row],[ITEMNMBR]]","v":0},"Custom: candy crate and care pkg (Jen)","RETAIL",95.99]
[null,{"$f":"Table_prices[[#This Row],[ITEMNMBR]]","v":0},"Custom: Cakebread Whites (Anne)","RETAIL",258.99]
[null,{"$f":"Table_prices[[#This Row],[ITEMNMBR]]","v":0},"Custom: Timeless TreatsTower  - swap cheese (Anne)","RETAIL",49.99]
[null,{"$f":"Table_prices[[#This Row],[ITEMNMBR]]","v":0},"Custom:5600 in a basket (Doris)","RETAIL",47.99]
[null,{"$f":"Table_prices[[#This Row],[ITEMNMBR]]","v":0},"Custom:classic golf  (Doris)","RETAIL",71.989999999999995]
[null,{"$f":"Table_prices[[#This Row],[ITEMNMBR]]","v":0},"Custom:4408 remove selected items add more fruit (Lu)","RETAIL",154.99]
[null,{"$f":"Table_prices[[#This Row],[ITEMNMBR]]","v":0},"Custom:baked goods samplers cookies, brownies, whoopies (Lu)","RETAIL",184.99]
[null,{"$f":"Table_prices[[#This Row],[ITEMNMBR]]","v":0},"Custom: Purely Fruit - remove apple add more pears (Anne)","RETAIL",53.99]
[null,{"$f":"Table_prices[[#This Row],[ITEMNMBR]]","v":0},"Custom: for the soon to be Groom (Lu)","RETAIL",72.989999999999995]
[null,{"$f":"Table_prices[[#This Row],[ITEMNMBR]]","v":0},"Custom: Moet - Flutes - and kid friendly snacks and sweets suitcase  (Doris)","RETAIL",200]
[null,{"$f":"Table_prices[[#This Row],[ITEMNMBR]]","v":0},"Custom: Bella plus sparkling water and fruit (Anne)","RETAIL",181.99]
[null,{"$f":"Table_prices[[#This Row],[ITEMNMBR]]","v":0},"Custom: Michelob ultra beer bucket","RETAIL",73.989999999999995]
[null,{"$f":"Table_prices[[#This Row],[ITEMNMBR]]","v":0},"Custom: Super Bowl Tailgating  - Oklahoma - (Tim)","RETAIL",199.99]
[null,{"$f":"Table_prices[[#This Row],[ITEMNMBR]]","v":0},"Custom: Super Bowl Tailgating  - Canada - (Tim)","RETAIL",144.99]
[null,{"$f":"Table_prices[[#This Row],[ITEMNMBR]]","v":0},"Custom: Housewarming Basket (Anne)","RETAIL",80]
[null,{"$f":"Table_prices[[#This Row],[ITEMNMBR]]","v":0},"Custom: just because ... spa and chocolates (Dena)","RETAIL",40]
[null,{"$f":"Table_prices[[#This Row],[ITEMNMBR]]","v":0},"Custom: just because ... spa and chocolates (Dena)","RETAIL",40]
[null,{"$f":"Table_prices[[#This Row],[ITEMNMBR]]","v":0},"Custom: white zinfandel wine basket (Dave)","RETAIL",275.99]
[null,{"$f":"Table_prices[[#This Row],[ITEMNMBR]]","v":0},"Custom: 4500 (no jerky & popcorn add chips and salsa) (Jen)","RETAIL",76.989999999999995]
[null,{"$f":"Table_prices[[#This Row],[ITEMNMBR]]","v":0},"Custom:decadent fruit tower in a basket (anne)","RETAIL",69.989999999999995]
[null,{"$f":"Table_prices[[#This Row],[ITEMNMBR]]","v":0},"Custom:4503 remove meats add trail mixes (anne)","RETAIL",109.99]
[null,{"$f":"Table_prices[[#This Row],[ITEMNMBR]]","v":0},"Custom: 4665 doubled (Lu)","RETAIL",102.99]
[null,{"$f":"Table_prices[[#This Row],[ITEMNMBR]]","v":0},"Custom:4051 add fiona (anne)","RETAIL",75.989999999999995]
[null,{"$f":"Table_prices[[#This Row],[ITEMNMBR]]","v":0},"Custom: 4407 add Dom & Cider (Jen)","RETAIL",333.99]
[null,{"$f":"Table_prices[[#This Row],[ITEMNMBR]]","v":0},"Custom: orchards abundance  - ribbon change - (Brian)","RETAIL",75.989999999999995]
[null,{"$f":"Table_prices[[#This Row],[ITEMNMBR]]","v":0},"Custom: snacks from ladybug tote, choc popcorn sampler, cookies & pretzels (Lu)","RETAIL",136.99]
[null,{"$f":"Table_prices[[#This Row],[ITEMNMBR]]","v":0},"Custom: ultimate exam cram (Anne)","RETAIL",105]
[null,{"$f":"Table_prices[[#This Row],[ITEMNMBR]]","v":0},"Custom: ice cream and popcorn (Jen)","RETAIL",247.99]
[null,{"$f":"Table_prices[[#This Row],[ITEMNMBR]]","v":0},"Custom: ravenswood red plus snacks for the family - new hire - (Tim)","RETAIL",100]
[null,{"$f":"Table_prices[[#This Row],[ITEMNMBR]]","v":0},"Custom: Irish Beer Bucket - specified beers (Lu)","RETAIL",73.989999999999995]
[null,{"$f":"Table_prices[[#This Row],[ITEMNMBR]]","v":0},"Custom: golf - fruit - healthy snacks (Anne)","RETAIL",99.99]
[null,{"$f":"Table_prices[[#This Row],[ITEMNMBR]]","v":0},"Custom: Tailgate (Tim)","RETAIL",109.99]
[null,{"$f":"Table_prices[[#This Row],[ITEMNMBR]]","v":0},"Custom:4502 around the world 6 molson xxx specific (Doris)","RETAIL",98.99]
[null,{"$f":"Table_prices[[#This Row],[ITEMNMBR]]","v":0},"Custom:crackers, cheese, nuts, and oranges","RETAIL",60.99]
[null,{"$f":"Table_prices[[#This Row],[ITEMNMBR]]","v":0},"Custom : Snack Basket (Jen / Doris)","RETAIL",398.99]
[null,{"$f":"Table_prices[[#This Row],[ITEMNMBR]]","v":0},"Custom:healthy snacks with 3 microbrews","RETAIL",61.99]
[null,{"$f":"Table_prices[[#This Row],[ITEMNMBR]]","v":0},"Custom:stuffed animals and snacks for 3yr old girl (Doris)","RETAIL",54.99]
[null,{"$f":"Table_prices[[#This Row],[ITEMNMBR]]","v":0},"Custom:wine beer and nuts","RETAIL",69.989999999999995]
[null,{"$f":"Table_prices[[#This Row],[ITEMNMBR]]","v":0},"Custom: kosher with fruit (Anne)","RETAIL",120]
[null,{"$f":"Table_prices[[#This Row],[ITEMNMBR]]","v":0},"Custom:(Ccoors) light 6pk beer bucket (Jen)","RETAIL",88.99]
[null,{"$f":"Table_prices[[#This Row],[ITEMNMBR]]","v":0},"Custom:4053  - pink -  with stuffed animal for baby girl (Doris)","RETAIL",129.99]
[null,{"$f":"Table_prices[[#This Row],[ITEMNMBR]]","v":0},"Custom:Golfing, Chocolates & Dom in a basket (Jen)","RETAIL",246.99]
[null,{"$f":"Table_prices[[#This Row],[ITEMNMBR]]","v":0},"Custom:4053  - new child to the family healthy and not so healthy snacks (Anne)","RETAIL",55]
[null,{"$f":"Table_prices[[#This Row],[ITEMNMBR]]","v":0},"Custom:La Crema Chardonnay with dried fruit and nuts (Dave)","RETAIL",194.99]
[null,{"$f":"Table_prices[[#This Row],[ITEMNMBR]]","v":0},"Custom bountiful  - no sausage! add more granola (Doris)","RETAIL",124.99]
[null,{"$f":"Table_prices[[#This Row],[ITEMNMBR]]","v":0},"Custom: housewarming (Sue)","RETAIL",56.99]
[null,{"$f":"Table_prices[[#This Row],[ITEMNMBR]]","v":0},"Custom: Wine Duo - Albola Pinot Grigio (Tim)","RETAIL",118.99]
[null,{"$f":"Table_prices[[#This Row],[ITEMNMBR]]","v":0},"Custom: Super Tailgate (Tim)","RETAIL",125]
[null,{"$f":"Table_prices[[#This Row],[ITEMNMBR]]","v":0},"Custom: Healthy non dairy plus fruit (Doris)","RETAIL",118.99]
[null,{"$f":"Table_prices[[#This Row],[ITEMNMBR]]","v":0},"Custom:Dom Duo suitcase (Jen / Anne)","RETAIL",533.99]
[null,{"$f":"Table_prices[[#This Row],[ITEMNMBR]]","v":0},"Custom:camp fun care package (Jen)","RETAIL",74.95]
[null,{"$f":"Table_prices[[#This Row],[ITEMNMBR]]","v":0},"Custom: Snack Basket  (R.Huston)","RETAIL",100]
[null,{"$f":"Table_prices[[#This Row],[ITEMNMBR]]","v":0},"Custom: wine snacks and fruit (Doris)","RETAIL",150.99]
[null,{"$f":"Table_prices[[#This Row],[ITEMNMBR]]","v":0},"Custom: truffles, crackers, cheese, sausage (Jen)","RETAIL",93.99]
[null,{"$f":"Table_prices[[#This Row],[ITEMNMBR]]","v":0},"Custom: wine, beer, crackers, cheese, sausage, nuts (Dave)","RETAIL",280.99]
[null,{"$f":"Table_prices[[#This Row],[ITEMNMBR]]","v":0},"Custom 4215 with Baby item for Tim","RETAIL",150]
[null,{"$f":"Table_prices[[#This Row],[ITEMNMBR]]","v":0},"Custom 4215 with more snacks for Tim","RETAIL",150]
[null,{"$f":"Table_prices[[#This Row],[ITEMNMBR]]","v":0},"Custom 6357 with snacks for Doris","RETAIL",148.30000000000001]
[null,{"$f":"Table_prices[[#This Row],[ITEMNMBR]]","v":0},"Custom: Bountiful with Guitar shaped Bamboo Cutting Board  (Doris)","RETAIL",204.99]
[null,{"$f":"Table_prices[[#This Row],[ITEMNMBR]]","v":0},"Custom: 6266 with teddy bear (Anne)","RETAIL",82.99]
[null,{"$f":"Table_prices[[#This Row],[ITEMNMBR]]","v":0},"Custom: Savory & Salty (Anne)","RETAIL",88.99]
[null,{"$f":"Table_prices[[#This Row],[ITEMNMBR]]","v":0},"Custom Care Package in Basket for Kids (Jen)","RETAIL",146.99]
[null,{"$f":"Table_prices[[#This Row],[ITEMNMBR]]","v":0},"Custom Midnight Snack Care Package (Tim)","RETAIL",43.99]
[null,{"$f":"Table_prices[[#This Row],[ITEMNMBR]]","v":0},"Custom Chardonnay (Brian)","RETAIL",56.99]
[null,{"$f":"Table_prices[[#This Row],[ITEMNMBR]]","v":0},"Custom Cookies 'n Cream 1 Gallon Tin (RH)","RETAIL",19.989999999999998]
[null,{"$f":"Table_prices[[#This Row],[ITEMNMBR]]","v":0},"Custom Peanut Butter Cup 1 Gallon Tin (RH)","RETAIL",19.989999999999998]
[null,{"$f":"Table_prices[[#This Row],[ITEMNMBR]]","v":0},"Custom Caramel 1 Gallon Tin (RH)","RETAIL",19.989999999999998]
[null,{"$f":"Table_prices[[#This Row],[ITEMNMBR]]","v":0},"Custom for Jiffys Parents","RETAIL",122.99]
[null,{"$f":"Table_prices[[#This Row],[ITEMNMBR]]","v":0},"Shipping to Denas Sister","RETAIL",0]
[null,{"$f":"Table_prices[[#This Row],[ITEMNMBR]]","v":0},"Custom: Kosher Stack  (Anne)","RETAIL",53.99]
[null,{"$f":"Table_prices[[#This Row],[ITEMNMBR]]","v":0},"Custom: Just a little Something (Jen)","RETAIL",37.99]
[null,{"$f":"Table_prices[[#This Row],[ITEMNMBR]]","v":0},"Custom Catena plus snacks (Anne)","RETAIL",96.99]
[null,{"$f":"Table_prices[[#This Row],[ITEMNMBR]]","v":0},"Custom; bountiful (Tim)","RETAIL",139.99]
[null,{"$f":"Table_prices[[#This Row],[ITEMNMBR]]","v":0},"Custom: popcorn sampler","RETAIL",0]
[null,{"$f":"Table_prices[[#This Row],[ITEMNMBR]]","v":0},"Custom: 4409 plus sparkling cider (Brian)","RETAIL",89.99]
[null,{"$f":"Table_prices[[#This Row],[ITEMNMBR]]","v":0},"Custom: Birthday Boy (Anne)","RETAIL",50]
[null,{"$f":"Table_prices[[#This Row],[ITEMNMBR]]","v":0},"Custom: Champagne, chocolates and candy (Brian)","RETAIL",310.99]
[null,{"$f":"Table_prices[[#This Row],[ITEMNMBR]]","v":0},"Custom: 5602 with hots (Dena)","RETAIL",44.99]
[null,{"$f":"Table_prices[[#This Row],[ITEMNMBR]]","v":0},"Custom: 5087 remove sausage.. (Jen)","RETAIL",73.989999999999995]
[null,{"$f":"Table_prices[[#This Row],[ITEMNMBR]]","v":0},"Custom: Three 1gal popcorn tins in a box - caramel, ch. cheddar, sea salt & pepper - (Tim)","RETAIL",0]
[null,{"$f":"Table_prices[[#This Row],[ITEMNMBR]]","v":0},"Custom: 4405  - pears only - (Lu)","RETAIL",88.99]
[null,{"$f":"Table_prices[[#This Row],[ITEMNMBR]]","v":0},"Custom: orchard witrh veuve (Anne)","RETAIL",127]
[null,{"$f":"Table_prices[[#This Row],[ITEMNMBR]]","v":0},"Custom: REPLACEMENT WINE (Anne)","RETAIL",0]
[null,{"$f":"Table_prices[[#This Row],[ITEMNMBR]]","v":0},"Custom: Last Day @ Camp  (Anne)","RETAIL",63.99]
[null,{"$f":"Table_prices[[#This Row],[ITEMNMBR]]","v":0},"Custom: Fruit nuts and snacks (Dave)","RETAIL",81.99]
[null,{"$f":"Table_prices[[#This Row],[ITEMNMBR]]","v":0},"Custom: Fosters beer bucket (Brian)","RETAIL",128.99]
[null,{"$f":"Table_prices[[#This Row],[ITEMNMBR]]","v":0},"Custom: 5087 remove sausage add cheese (Dena)","RETAIL",79.989999999999995]
[null,{"$f":"Table_prices[[#This Row],[ITEMNMBR]]","v":0},"Custom:fruit & sweet snacks  - no nuts - (Jen)","RETAIL",110.99]
[null,{"$f":"Table_prices[[#This Row],[ITEMNMBR]]","v":0},"Custom:exec suite no chocolates (Dena)","RETAIL",249.99]
[null,{"$f":"Table_prices[[#This Row],[ITEMNMBR]]","v":0},"Custom:exam cram and activity care pk combo  (Dena)","RETAIL",89.99]
[null,{"$f":"Table_prices[[#This Row],[ITEMNMBR]]","v":0},"Custom:crackers, cheese, sausage, salmon (Jen)","RETAIL",104.99]
[null,{"$f":"Table_prices[[#This Row],[ITEMNMBR]]","v":0},"Custom:new baby ( Jen / Anne)","RETAIL",115.99]
[null,{"$f":"Table_prices[[#This Row],[ITEMNMBR]]","v":0},"Custom: Bud Select, Cabernet, fruit, crackers, cheese, snacks (Anne)","RETAIL",171.99]
[null,{"$f":"Table_prices[[#This Row],[ITEMNMBR]]","v":0},"Custom: Molson xxx, Cabernet, fruit, crackers, cheese, snacks (Anne)","RETAIL",171.99]
[null,{"$f":"Table_prices[[#This Row],[ITEMNMBR]]","v":0},"Custom Christmas Care Package (Dena)","RETAIL",49.99]
[null,{"$f":"Table_prices[[#This Row],[ITEMNMBR]]","v":0},"Custom: Wine Trio plus chocolates (Jen)","RETAIL",207.99]
[null,{"$f":"Table_prices[[#This Row],[ITEMNMBR]]","v":0},"Custom: 5090 remove sausage and bruschetta add cashews and almonds (Jen)","RETAIL",105.99]
[null,{"$f":"Table_prices[[#This Row],[ITEMNMBR]]","v":0},"Custom: golf theme for teenage boy (Anne)","RETAIL",76.989999999999995]
[null,{"$f":"Table_prices[[#This Row],[ITEMNMBR]]","v":0},"Custom: 12 microbrew beer bucket (Anne / Jen)","RETAIL",88.99]
[null,{"$f":"Table_prices[[#This Row],[ITEMNMBR]]","v":0},"Custom: Dairy and Gluten Free (Jen)","RETAIL",79.989999999999995]
[null,{"$f":"Table_prices[[#This Row],[ITEMNMBR]]","v":0},"Custom: Heiniken and fruit (Jen)","RETAIL",68.989999999999995]
[null,{"$f":"Table_prices[[#This Row],[ITEMNMBR]]","v":0},"Custom: Fruit & Nuts (Anne)","RETAIL",119.99]
[null,{"$f":"Table_prices[[#This Row],[ITEMNMBR]]","v":0},"Custom: Fruit Basket (Dena)","RETAIL",80]
[null,{"$f":"Table_prices[[#This Row],[ITEMNMBR]]","v":0},"Custom: Wine Lovers Suitcase (Anne)","RETAIL",364.32]
[null,{"$f":"Table_prices[[#This Row],[ITEMNMBR]]","v":0},"Custom: orchards with candle (Anne)","RETAIL",91.99]
[null,{"$f":"Table_prices[[#This Row],[ITEMNMBR]]","v":0},"Custom: margarita stack with cheese (Anne)","RETAIL",46.99]
[null,{"$f":"Table_prices[[#This Row],[ITEMNMBR]]","v":0},"Custom:4051 adding cookies (Anne)","RETAIL",88.99]
[null,{"$f":"Table_prices[[#This Row],[ITEMNMBR]]","v":0},"Custom:Cabernet with Chocolates (Brian)","RETAIL",100]
[null,{"$f":"Table_prices[[#This Row],[ITEMNMBR]]","v":0},"Custom:Italian for Mountains Community Hospital Foundation (Tim)","RETAIL",104.99]
[null,{"$f":"Table_prices[[#This Row],[ITEMNMBR]]","v":0},"Custom:Veuve and Chocolates  for Mountains Community Hospital Foundation (Tim)","RETAIL",130.99]
[null,{"$f":"Table_prices[[#This Row],[ITEMNMBR]]","v":0},"Custom: snacks (Dena)","RETAIL",54.99]
[null,{"$f":"Table_prices[[#This Row],[ITEMNMBR]]","v":0},"Custom: fresh & dried fruit (Brian)","RETAIL",40]
[null,{"$f":"Table_prices[[#This Row],[ITEMNMBR]]","v":0},"Custom: popcorn lovers - swap seasoning for oil (Katie / Doris)","RETAIL",37.99]
[null,{"$f":"Table_prices[[#This Row],[ITEMNMBR]]","v":0},"Custom: gluten free plus fruit (Jen)","RETAIL",210]
[null,{"$f":"Table_prices[[#This Row],[ITEMNMBR]]","v":0},"Custom: fruit and nuts (Brian)","RETAIL",40.99]
[null,{"$f":"Table_prices[[#This Row],[ITEMNMBR]]","v":0},"Custom: pinot noir - coffee and dark chocolates (Jen)","RETAIL",149.99]
[null,{"$f":"Table_prices[[#This Row],[ITEMNMBR]]","v":0},"Custom: microbrew doubled up (Jen)","RETAIL",95.99]
[null,{"$f":"Table_prices[[#This Row],[ITEMNMBR]]","v":0},"Custom: Catena - fruit - crackers - cheese  ( Anne / Jen)","RETAIL",116]
[null,{"$f":"Table_prices[[#This Row],[ITEMNMBR]]","v":0},"Custom: for sue","RETAIL",62.64]
[null,{"$f":"Table_prices[[#This Row],[ITEMNMBR]]","v":0},"Custom Dog Stack with Cupcake Sprinkles (jen)","RETAIL",29.99]
[null,{"$f":"Table_prices[[#This Row],[ITEMNMBR]]","v":0},"Custom: fruit wine snacks candy","RETAIL",150]
[null,{"$f":"Table_prices[[#This Row],[ITEMNMBR]]","v":0},"Custom: Healthy (Dena)","RETAIL",146.99]
[null,{"$f":"Table_prices[[#This Row],[ITEMNMBR]]","v":0},"Custom: 4056 plus Mike & Ike (Anne)","RETAIL",269.99]
[null,{"$f":"Table_prices[[#This Row],[ITEMNMBR]]","v":0},"Custom: 5602 with added card (Dave)","RETAIL",279.99]
[null,{"$f":"Table_prices[[#This Row],[ITEMNMBR]]","v":0},"Custom: Crackers and cheese (Lu)","RETAIL",80.989999999999995]
[null,{"$f":"Table_prices[[#This Row],[ITEMNMBR]]","v":0},"Custom: Italian Inspired (Brian)","RETAIL",134.99]
[null,{"$f":"Table_prices[[#This Row],[ITEMNMBR]]","v":0},"Custom: All Fruit (Brian)","RETAIL",100]
[null,{"$f":"Table_prices[[#This Row],[ITEMNMBR]]","v":0},"Custom: Red wine & Cookies (Anne)","RETAIL",166.99]
[null,{"$f":"Table_prices[[#This Row],[ITEMNMBR]]","v":0},"Custom:Country Inn -no ham - yes jam (Jen)","RETAIL",87.99]
[null,{"$f":"Table_prices[[#This Row],[ITEMNMBR]]","v":0},"Custom: Sports Enthusiast (Brian)","RETAIL",79.989999999999995]
[null,{"$f":"Table_prices[[#This Row],[ITEMNMBR]]","v":0},"Custom: 4405 remove cider add red wine (Anne)","RETAIL",91.99]
[null,{"$f":"Table_prices[[#This Row],[ITEMNMBR]]","v":0},"Custom:  4056 with white wine and more cheese (Anne)","RETAIL",280]
[null,{"$f":"Table_prices[[#This Row],[ITEMNMBR]]","v":0},"Custom:  Orchard abundance plus G/C (Lu)","RETAIL",589.99]
[null,{"$f":"Table_prices[[#This Row],[ITEMNMBR]]","v":0},"Custom:  Wine, Chocolates, Candle, Baby Boy Items (Brian)","RETAIL",146.99]
[null,{"$f":"Table_prices[[#This Row],[ITEMNMBR]]","v":0},"Custom:  Care pkg to Australia (Brian)","RETAIL",182.99]
[null,{"$f":"Table_prices[[#This Row],[ITEMNMBR]]","v":0},"Custom: Nature's Picnic and Vueve (Jen)","RETAIL",134.99]
[null,{"$f":"Table_prices[[#This Row],[ITEMNMBR]]","v":0},"Custom: Custom Wild Horse Trio snacks & sweets (Brian)","RETAIL",198.99]
[null,{"$f":"Table_prices[[#This Row],[ITEMNMBR]]","v":0},"Custom: Amdocs 1 (Dave)","RETAIL",23]
[null,{"$f":"Table_prices[[#This Row],[ITEMNMBR]]","v":0},"Custom: Amdocs 2 (Dave)","RETAIL",23]
[null,{"$f":"Table_prices[[#This Row],[ITEMNMBR]]","v":0},"Custom: Amdocs 3 (Dave)","RETAIL",40]
[null,{"$f":"Table_prices[[#This Row],[ITEMNMBR]]","v":0},"Custom: gourmet snacks (for adults) and candy (for kids) - (Brian)","RETAIL",163.99]
[null,{"$f":"Table_prices[[#This Row],[ITEMNMBR]]","v":0},"Custom: 4052 plus wine (Dena)","RETAIL",123.99]
[null,{"$f":"Table_prices[[#This Row],[ITEMNMBR]]","v":0},"Custom: 4507 -  just sierra (Jen)","RETAIL",47.99]
[null,{"$f":"Table_prices[[#This Row],[ITEMNMBR]]","v":0},"Custom: Gluten Free Halloween (Anne)","RETAIL",58.99]
[null,{"$f":"Table_prices[[#This Row],[ITEMNMBR]]","v":0},"Custom: Halloween - Merlot plus snacks, candy & glow toys","RETAIL",105.99]
[null,{"$f":"Table_prices[[#This Row],[ITEMNMBR]]","v":0},"Custom:Patron, Jo Mallo Candles, Highball glasses, Ipod Nanos (Lu)","RETAIL",1052.23]
[null,{"$f":"Table_prices[[#This Row],[ITEMNMBR]]","v":0},"Custom:Penton Commerical Aviaton  snacks no meats or perishables (Dave)","RETAIL",199.99]
[null,{"$f":"Table_prices[[#This Row],[ITEMNMBR]]","v":0},"Custom:replacements","RETAIL",0]
[null,{"$f":"Table_prices[[#This Row],[ITEMNMBR]]","v":0},"Custom:19th Hole swapping Heneken for Michelob Ultra (Jen)","RETAIL",110.99]
[null,{"$f":"Table_prices[[#This Row],[ITEMNMBR]]","v":0},"Custom:Ravenswood Cabernet (Brian)","RETAIL",113.99]
[null,{"$f":"Table_prices[[#This Row],[ITEMNMBR]]","v":0},"Custom Around the World with Sams only (Tim)","RETAIL",128.99]
[null,{"$f":"Table_prices[[#This Row],[ITEMNMBR]]","v":0},"Custom: Wild Horse Chardonnay (Jen)","RETAIL",170.99]
[null,{"$f":"Table_prices[[#This Row],[ITEMNMBR]]","v":0},"Custom: fruit snacks and puzzle books (Dena)","RETAIL",51.99]
[null,{"$f":"Table_prices[[#This Row],[ITEMNMBR]]","v":0},"Custom:Italian gift basket (Jen)","RETAIL",148.99]
[null,{"$f":"Table_prices[[#This Row],[ITEMNMBR]]","v":0},"Custom:fruits and nuts (Lu)","RETAIL",75]
[null,{"$f":"Table_prices[[#This Row],[ITEMNMBR]]","v":0},"Custom Cat Basket with Champagne (Jen)","RETAIL",156.99]
[null,{"$f":"Table_prices[[#This Row],[ITEMNMBR]]","v":0},"Custom: Amstel Light Beer Bucket (Lu)","RETAIL",128.99]
[null,{"$f":"Table_prices[[#This Row],[ITEMNMBR]]","v":0},"Custom Critics Sampler - no cherry, add PB cup (Tim)","RETAIL",34.99]
[null,{"$f":"Table_prices[[#This Row],[ITEMNMBR]]","v":0},"Custom: Fruit and snacks (Lu)","RETAIL",79.989999999999995]
[null,{"$f":"Table_prices[[#This Row],[ITEMNMBR]]","v":0},"Custom: 5104 remove sausage add cheese (Dave)","RETAIL",139.99]
[null,{"$f":"Table_prices[[#This Row],[ITEMNMBR]]","v":0},"Custom: 4503 - light beers (Doris)","RETAIL",129.99]
[null,{"$f":"Table_prices[[#This Row],[ITEMNMBR]]","v":0},"Custom: 5017 with wildhorse merlot (Doris)","RETAIL",192.99]
[null,{"$f":"Table_prices[[#This Row],[ITEMNMBR]]","v":0},"Custom: Get Well Soon  - Soup Basket (Anne)","RETAIL",75.989999999999995]
[null,{"$f":"Table_prices[[#This Row],[ITEMNMBR]]","v":0},"Custom: fruit snacks chocolates and heineken (Anne)","RETAIL",83.99]
[null,{"$f":"Table_prices[[#This Row],[ITEMNMBR]]","v":0},"Custom: bountiful plus tea and cookies (Anne)","RETAIL",144.99]
[null,{"$f":"Table_prices[[#This Row],[ITEMNMBR]]","v":0},"Custom: 5016 plus red and white wines (Jen)","RETAIL",169.99]
[null,{"$f":"Table_prices[[#This Row],[ITEMNMBR]]","v":0},"Custom: 4755 candies in halloween bucket no chocolates (Anne)","RETAIL",51.99]
[null,{"$f":"Table_prices[[#This Row],[ITEMNMBR]]","v":0},"Custom: custom kosher (Anne)","RETAIL",200]
[null,{"$f":"Table_prices[[#This Row],[ITEMNMBR]]","v":0},"Custom: custom red wine, chocolates ,baby boy items (Jen)","RETAIL",115]
[null,{"$f":"Table_prices[[#This Row],[ITEMNMBR]]","v":0},"Custom: 5104 - chardonnay only (Anne)","RETAIL",141.99]
[null,{"$f":"Table_prices[[#This Row],[ITEMNMBR]]","v":0},"Custom: Microbrew Beer Bucket (Lu)","RETAIL",85.99]
[null,{"$f":"Table_prices[[#This Row],[ITEMNMBR]]","v":0},"Custom: Sour Skittles in Halloween Bucket (Anne)","RETAIL",56.99]
[null,{"$f":"Table_prices[[#This Row],[ITEMNMBR]]","v":0},"Custom: Healthy Snacks in Golf Bag (Anne)","RETAIL",75]
[null,{"$f":"Table_prices[[#This Row],[ITEMNMBR]]","v":0},"Custom: added BBQ sause and seasoning (Mike)","RETAIL",14.99]
[null,{"$f":"Table_prices[[#This Row],[ITEMNMBR]]","v":0},"Custom: golf and wine (Anne)","RETAIL",157.99]
[null,{"$f":"Table_prices[[#This Row],[ITEMNMBR]]","v":0},"Custom: Fruit & Chocolates - Kosher (Doris)","RETAIL",206]
[null,{"$f":"Table_prices[[#This Row],[ITEMNMBR]]","v":0},"Custom:orchards with red ravenswood wine (Lu)","RETAIL",106.99]
[null,{"$f":"Table_prices[[#This Row],[ITEMNMBR]]","v":0},"Custom:Heineken (Jen)","RETAIL",96.99]
[null,{"$f":"Table_prices[[#This Row],[ITEMNMBR]]","v":0},"Custom : Chardonnay, fruit, cheese, & crackers (Anne)","RETAIL",224.99]
[null,{"$f":"Table_prices[[#This Row],[ITEMNMBR]]","v":0},"Custom:White Wine (Anne)","RETAIL",198.99]
[null,{"$f":"Table_prices[[#This Row],[ITEMNMBR]]","v":0},"Custom:Wine and Fruit (Koie)","RETAIL",150]
[null,{"$f":"Table_prices[[#This Row],[ITEMNMBR]]","v":0},"Custom 6902 with extra cup noodles, choc chip cookies, cocoa (not Santa) - Jen","RETAIL",61.99]
[null,{"$f":"Table_prices[[#This Row],[ITEMNMBR]]","v":0},"Custom Junk Food type Snacks, Chocolate, Popcorn in Basket - Dave L.","RETAIL",92.99]
[null,{"$f":"Table_prices[[#This Row],[ITEMNMBR]]","v":0},"Custom: Champagne with snacks and chocolates (Dena)","RETAIL",126.99]
[null,{"$f":"Table_prices[[#This Row],[ITEMNMBR]]","v":0},"Custom:Estate with added Diet Coke (Jen)","RETAIL",197.99]
[null,{"$f":"Table_prices[[#This Row],[ITEMNMBR]]","v":0},"Custom:Bountiful - no cheese (Jen)","RETAIL",135]
[null,{"$f":"Table_prices[[#This Row],[ITEMNMBR]]","v":0},"Custom:Christmas Executive Suite plus red & white wines (Anne)","RETAIL",300]
[null,{"$f":"Table_prices[[#This Row],[ITEMNMBR]]","v":0},"Custom : Moet dark choc truffles, cheese and crackers (Jen)","RETAIL",151.99]
[null,{"$f":"Table_prices[[#This Row],[ITEMNMBR]]","v":0},"Custom : gluten free snacks and cat items (Dena)","RETAIL",52.99]
[null,{"$f":"Table_prices[[#This Row],[ITEMNMBR]]","v":0},"Custom : Newer Ventures -Dom- & Chocolate Suitcase (Dave)","RETAIL",352.99]
[null,{"$f":"Table_prices[[#This Row],[ITEMNMBR]]","v":0},"Custom : Table in Tuscany plus Cookies Sampler (Anne)","RETAIL",149.99]
[null,{"$f":"Table_prices[[#This Row],[ITEMNMBR]]","v":0},"Custom : care package combo (Jen)","RETAIL",75]
[null,{"$f":"Table_prices[[#This Row],[ITEMNMBR]]","v":0},"Custom : Au Natural Popcorn - bulk (Koie / Jen)","RETAIL",104.99]
[null,{"$f":"Table_prices[[#This Row],[ITEMNMBR]]","v":0},"Custom : Miniature Popcorn Bags  - Bacon Flavor (Tim)","RETAIL",350]
[null,{"$f":"Table_prices[[#This Row],[ITEMNMBR]]","v":0},"Custom : snacks and more for 7yr old girl (Doris)","RETAIL",100]
[null,{"$f":"Table_prices[[#This Row],[ITEMNMBR]]","v":0},"Custom : snacks and more for 10yr old girl (Doris)","RETAIL",100]
[null,{"$f":"Table_prices[[#This Row],[ITEMNMBR]]","v":0},"Custom : snacks and more for 11yr old girl (Doris)","RETAIL",100]
[null,{"$f":"Table_prices[[#This Row],[ITEMNMBR]]","v":0},"Custom : snacks and more for 18yr old girl (Doris)","RETAIL",100]
[null,{"$f":"Table_prices[[#This Row],[ITEMNMBR]]","v":0},"Custom : Red wine with organic snacks (Jen)","RETAIL",175.99]
[null,{"$f":"Table_prices[[#This Row],[ITEMNMBR]]","v":0},"Custom : Cakebread (Anne)","RETAIL",287.99]
[null,{"$f":"Table_prices[[#This Row],[ITEMNMBR]]","v":0},"Custom - Baked Goods Tower (sub tower boxes)","RETAIL",59.99]
[null,{"$f":"Table_prices[[#This Row],[ITEMNMBR]]","v":0},"Custom Chocolate handouts (Tim)","RETAIL",85]
[null,{"$f":"Table_prices[[#This Row],[ITEMNMBR]]","v":0},"Custom: Opus One Red Cabernet (Doris)","RETAIL",784.99]
[null,{"$f":"Table_prices[[#This Row],[ITEMNMBR]]","v":0},"Custom: showstopper plus fruit (Tim)","RETAIL",199.99]
[null,{"$f":"Table_prices[[#This Row],[ITEMNMBR]]","v":0},"Custom: 4047 plus Ravenswood Cabernet Sauvignon Vinters Blend (Doris)","RETAIL",156.99]
[null,{"$f":"Table_prices[[#This Row],[ITEMNMBR]]","v":0},"Custom: 5230 remove meat and cheese (Dena)","RETAIL",171.99]
[null,{"$f":"Table_prices[[#This Row],[ITEMNMBR]]","v":0},"Custom Popcorn, Snacks, Junk Food (Mike F)","RETAIL",400]
[null,{"$f":"Table_prices[[#This Row],[ITEMNMBR]]","v":0},"Custom: Bloody Mary - Breakfast, Snack &  Chocolate (Tim)","RETAIL",120]
[null,{"$f":"Table_prices[[#This Row],[ITEMNMBR]]","v":0},"Custom: OESGI  - 5207 - plus santa Hat - care package for 2 little girls (Tim)","RETAIL",80.989999999999995]
[null,{"$f":"Table_prices[[#This Row],[ITEMNMBR]]","v":0},"Custom: OESGI - 6014 - plus santa hat (Tim)","RETAIL",58.99]
[null,{"$f":"Table_prices[[#This Row],[ITEMNMBR]]","v":0},"Custom: OESGI - 5107c plus bottle of Cakebread Cabernet (Tim)","RETAIL",378.99]
[null,{"$f":"Table_prices[[#This Row],[ITEMNMBR]]","v":0},"Custom : 5021 no bacon added items (Anne)","RETAIL",126.99]
[null,{"$f":"Table_prices[[#This Row],[ITEMNMBR]]","v":0},"Custom : 4404 - gluten free crackers (Anne)","RETAIL",92.99]
[null,{"$f":"Table_prices[[#This Row],[ITEMNMBR]]","v":0},"Custom : 5022 (Doris)","RETAIL",91.99]
[null,{"$f":"Table_prices[[#This Row],[ITEMNMBR]]","v":0},"Custom : 5087 - Catena - (Doris)","RETAIL",120.99]
[null,{"$f":"Table_prices[[#This Row],[ITEMNMBR]]","v":0},"Custom : 5087 with Catena  (Doris)","RETAIL",120.99]
[null,{"$f":"Table_prices[[#This Row],[ITEMNMBR]]","v":0},"Custom : Beer Bucket with Chocolates (Sam / Anne)","RETAIL",113.99]
[null,{"$f":"Table_prices[[#This Row],[ITEMNMBR]]","v":0},"Custom : christmas ultimate with added fondue set (Tim)","RETAIL",149.99]
[null,{"$f":"Table_prices[[#This Row],[ITEMNMBR]]","v":0},"Custom : items for Jill","RETAIL",29.99]
[null,{"$f":"Table_prices[[#This Row],[ITEMNMBR]]","v":0},"Custom : PR (Madeline)","RETAIL",0]
[null,{"$f":"Table_prices[[#This Row],[ITEMNMBR]]","v":0},"Custom: 5107c plus one more Dom (Tim)","RETAIL",430.99]
[null,{"$f":"Table_prices[[#This Row],[ITEMNMBR]]","v":0},"Custom: fruit and red wine basket (Anne)","RETAIL",99.99]
[null,{"$f":"Table_prices[[#This Row],[ITEMNMBR]]","v":0},"Custom: 4025 plus dog treats (Anne)","RETAIL",211.99]
[null,{"$f":"Table_prices[[#This Row],[ITEMNMBR]]","v":0},"Custom:Oranges in a basket (Dena)","RETAIL",83.99]
[null,{"$f":"Table_prices[[#This Row],[ITEMNMBR]]","v":0},"Custom:Bountiful with pasta and sauce (Tim)","RETAIL",138.99]
[null,{"$f":"Table_prices[[#This Row],[ITEMNMBR]]","v":0},"Custom: welcome, new employee, for family..Cabernet, Teddy Bear, and Chocolates (Brian)","RETAIL",138.99]
[null,{"$f":"Table_prices[[#This Row],[ITEMNMBR]]","v":0},"Custom: Organic products in suitcase (Jen)","RETAIL",216]
[null,{"$f":"Table_prices[[#This Row],[ITEMNMBR]]","v":0},"Custom:Cardinals Fan (Koie / Dena)","RETAIL",67.989999999999995]
[null,{"$f":"Table_prices[[#This Row],[ITEMNMBR]]","v":0},"Custom:Picnic - Booz & Company (Brian)","RETAIL",200]
[null,{"$f":"Table_prices[[#This Row],[ITEMNMBR]]","v":0},"Custom: chocolate handouts 2014 (Tim)","RETAIL",100]
[null,{"$f":"Table_prices[[#This Row],[ITEMNMBR]]","v":0},"Custom: Price Waterhouse Coopers - Congratulations - (Brian)","RETAIL",70]
[null,{"$f":"Table_prices[[#This Row],[ITEMNMBR]]","v":0},"Custom Micro 6 pk with just Leinenkugel for Dena","RETAIL",94.99]
[null,{"$f":"Table_prices[[#This Row],[ITEMNMBR]]","v":0},"Custom 5099 remove one red wine add a white wine for Dena","RETAIL",450.99]
[null,{"$f":"Table_prices[[#This Row],[ITEMNMBR]]","v":0},"Custom: Baby Basket - blue (Brian)","RETAIL",93.99]
[null,{"$f":"Table_prices[[#This Row],[ITEMNMBR]]","v":0},"Custom: lady bug tote plus playing cards (Dena)","RETAIL",96.99]
[null,{"$f":"Table_prices[[#This Row],[ITEMNMBR]]","v":0},"Custom: Graphic Controls - snacks & sweets  - going to Mexico (Brian)","RETAIL",222.99]
[null,{"$f":"Table_prices[[#This Row],[ITEMNMBR]]","v":0},"Custom: replacement - Wildhorse Reds - (Dena)","RETAIL",0]
[null,{"$f":"Table_prices[[#This Row],[ITEMNMBR]]","v":0},"Custom: 4502 - beer specific - (Koie)","RETAIL",143.99]
[null,{"$f":"Table_prices[[#This Row],[ITEMNMBR]]","v":0},"Custom: 4505 - doubled beers - (Anne)","RETAIL",99.99]
[null,{"$f":"Table_prices[[#This Row],[ITEMNMBR]]","v":0},"Custom: catena melbec replacement (Koie)","RETAIL",0]
[null,{"$f":"Table_prices[[#This Row],[ITEMNMBR]]","v":0},"Custom: Golf Theme with snacks and apples(Doris)","RETAIL",75.989999999999995]
[null,{"$f":"Table_prices[[#This Row],[ITEMNMBR]]","v":0},"Custom: Golf Theme with snacks and apples(Doris)","RETAIL",75.989999999999995]
[null,{"$f":"Table_prices[[#This Row],[ITEMNMBR]]","v":0},"Custom: corona extra with snacks  (Doris)","RETAIL",109.99]
[null,{"$f":"Table_prices[[#This Row],[ITEMNMBR]]","v":0},"Custom: snack mini (Anne)","RETAIL",61.99]
[null,{"$f":"Table_prices[[#This Row],[ITEMNMBR]]","v":0},"Custom: activity, games, and puzzles care package (Doris)","RETAIL",82.99]
[null,{"$f":"Table_prices[[#This Row],[ITEMNMBR]]","v":0},"Custom: Maximum Energy (Anne)","RETAIL",772.99]
[null,{"$f":"Table_prices[[#This Row],[ITEMNMBR]]","v":0},"Custom: golf and beer (Dena)","RETAIL",130.99]
[null,{"$f":"Table_prices[[#This Row],[ITEMNMBR]]","v":0},"Custom: Valentines tower swapped chocoates (Anne)","RETAIL",74.989999999999995]
[null,{"$f":"Table_prices[[#This Row],[ITEMNMBR]]","v":0},"Custom: Cakebread snacks and chocolates for Valentine's  (Anne)","RETAIL",120]
[null,{"$f":"Table_prices[[#This Row],[ITEMNMBR]]","v":0},"Custom: beer bucket remove some items add salmon (Koie)","RETAIL",140.9]
[null,{"$f":"Table_prices[[#This Row],[ITEMNMBR]]","v":0},"Custom: Heineken Bucket (Dena)","RETAIL",121.99]
[null,{"$f":"Table_prices[[#This Row],[ITEMNMBR]]","v":0},"Custom - Replacment Silver Oak Alex Valley","RETAIL",0]
[null,{"$f":"Table_prices[[#This Row],[ITEMNMBR]]","v":0},"Custom - Replacment Ravenswood Cabernet","RETAIL",0]
[null,{"$f":"Table_prices[[#This Row],[ITEMNMBR]]","v":0},"Custom - Valentine's Day Fruit with added Teddy, crackers and cheese (Dena)","RETAIL",112.99]
[null,{"$f":"Table_prices[[#This Row],[ITEMNMBR]]","v":0},"Custom - Nostalgic Candy Crate (Doris)","RETAIL",50]
[null,{"$f":"Table_prices[[#This Row],[ITEMNMBR]]","v":0},"Custom - Replacements (Doris)","RETAIL",0]
[null,{"$f":"Table_prices[[#This Row],[ITEMNMBR]]","v":0},"Custom - Replacements (Koie)","RETAIL",0]
[null,{"$f":"Table_prices[[#This Row],[ITEMNMBR]]","v":0},"Custom - Replacements (Dena)","RETAIL",0]
[null,{"$f":"Table_prices[[#This Row],[ITEMNMBR]]","v":0},"Custom - 21rst Bday (Anne)","RETAIL",140.99]
[null,{"$f":"Table_prices[[#This Row],[ITEMNMBR]]","v":0},"Custom - Replacements (Dena)","RETAIL",0]
[null,{"$f":"Table_prices[[#This Row],[ITEMNMBR]]","v":0},"Custom: seasons sampler swapped crackers (Lu)","RETAIL",68.989999999999995]
[null,{"$f":"Table_prices[[#This Row],[ITEMNMBR]]","v":0},"Custom: bountiful.. (Tim)","RETAIL",90]
[null,{"$f":"Table_prices[[#This Row],[ITEMNMBR]]","v":0},"Custom: Around the world plus Merlot (Dena)","RETAIL",130.99]
[null,{"$f":"Table_prices[[#This Row],[ITEMNMBR]]","v":0},"Custom:Brownie sampler (Tim)","RETAIL",122.99]
[null,{"$f":"Table_prices[[#This Row],[ITEMNMBR]]","v":0},"Custom:Day in Paris with White Wine (Doris)","RETAIL",153.99]
[null,{"$f":"Table_prices[[#This Row],[ITEMNMBR]]","v":0},"Custom: Breakfast plus dog lover (Koie)","RETAIL",115.99]
[null,{"$f":"Table_prices[[#This Row],[ITEMNMBR]]","v":0},"Custom: Fruit and Organic (Koie)","RETAIL",97.99]
[null,{"$f":"Table_prices[[#This Row],[ITEMNMBR]]","v":0},"Custom: Brian","RETAIL",75]
[null,{"$f":"Table_prices[[#This Row],[ITEMNMBR]]","v":0},"Custom:Wine trio (Mike)","RETAIL",228.99]
[null,{"$f":"Table_prices[[#This Row],[ITEMNMBR]]","v":0},"Custom: fruit and kosher snacks (Anne)","RETAIL",64.989999999999995]
[null,{"$f":"Table_prices[[#This Row],[ITEMNMBR]]","v":0},"Custom: Red Wine, Veuve, Chocolates & Truffles (Doris)","RETAIL",319.99]
[null,{"$f":"Table_prices[[#This Row],[ITEMNMBR]]","v":0},"Custom: candy crate (Anne)","RETAIL",49.99]
[null,{"$f":"Table_prices[[#This Row],[ITEMNMBR]]","v":0},"Custom: some of Easter Sweets & Treats with a bottle of red & white wine (Doris)","RETAIL",108.99]
[null,{"$f":"Table_prices[[#This Row],[ITEMNMBR]]","v":0},"Custom: Bag o Popcorn 2 Gallon Non Supreme","RETAIL",30]
[null,{"$f":"Table_prices[[#This Row],[ITEMNMBR]]","v":0},"Custom: Bag o Popcorn 2 Gallon Supreme","RETAIL",40]
[null,{"$f":"Table_prices[[#This Row],[ITEMNMBR]]","v":0},"Custom: Bag o Popcorn 3.5 Gallon  Non Supreme","RETAIL",40]
[null,{"$f":"Table_prices[[#This Row],[ITEMNMBR]]","v":0},"Custom: Bag o Popcorn 3.5 Gallon Supreme","RETAIL",50]
[null,{"$f":"Table_prices[[#This Row],[ITEMNMBR]]","v":0},"Custom:Gift for 6yr old Girl (Dena)","RETAIL",99.99]
[null,{"$f":"Table_prices[[#This Row],[ITEMNMBR]]","v":0},"Custom:Gift for 4 yr old Boy (Dena)","RETAIL",99.99]
[null,{"$f":"Table_prices[[#This Row],[ITEMNMBR]]","v":0},"Custom:Gift for 4 yr old Girl (Dena)","RETAIL",99.99]
[null,{"$f":"Table_prices[[#This Row],[ITEMNMBR]]","v":0},"Custom:Gifts for Easter- (Dena- personal)","RETAIL",38.99]
[null,{"$f":"Table_prices[[#This Row],[ITEMNMBR]]","v":0},"Custom:Gifts for Easter-just items alone- (Dena- personal)","RETAIL",67]
[null,{"$f":"Table_prices[[#This Row],[ITEMNMBR]]","v":0},"Custom: Evening of Indulgence (Anne)","RETAIL",139.99]
[null,{"$f":"Table_prices[[#This Row],[ITEMNMBR]]","v":0},"Custom: Cabernet Savignon by Silver Oak Alexander Valley (Doris)","RETAIL",115.55]
[null,{"$f":"Table_prices[[#This Row],[ITEMNMBR]]","v":0},"Custom: Dom, Snacks & Chocolates (Doris)","RETAIL",400]
[null,{"$f":"Table_prices[[#This Row],[ITEMNMBR]]","v":0},"Custom: Baby Boy (Jean)","RETAIL",125]
[null,{"$f":"Table_prices[[#This Row],[ITEMNMBR]]","v":0},"Custom: Tea, Cookies, Coffee, & Nuts (Dave)","RETAIL",115]
[null,{"$f":"Table_prices[[#This Row],[ITEMNMBR]]","v":0},"Custom: 5090 plus added chocolates (Doris)","RETAIL",154.99]
[null,{"$f":"Table_prices[[#This Row],[ITEMNMBR]]","v":0},"Custom: Around the World -24- (Anne)","RETAIL",154.99]
[null,{"$f":"Table_prices[[#This Row],[ITEMNMBR]]","v":0},"Custom: 5604+5603+4803  all in one basket (Koie)","RETAIL",131.99]
[null,{"$f":"Table_prices[[#This Row],[ITEMNMBR]]","v":0},"Custom 4503 + Microbrew beers, no jerky, add popcorn - Koie","RETAIL",164.99]
[null,{"$f":"Table_prices[[#This Row],[ITEMNMBR]]","v":0},"Custom: Cakebread basket - (Koie)","RETAIL",504.99]
[null,{"$f":"Table_prices[[#This Row],[ITEMNMBR]]","v":0},"Custom: Birthday - (Koie)","RETAIL",146.99]
[null,{"$f":"Table_prices[[#This Row],[ITEMNMBR]]","v":0},"Custom: Hippity Hoppity - 16in bunny - yellow & green - (Koie)","RETAIL",64.989999999999995]
[null,{"$f":"Table_prices[[#This Row],[ITEMNMBR]]","v":0},"Custom: Hippity Hoppity - 12in bunny - purple & pink A - (Koie)","RETAIL",54.99]
[null,{"$f":"Table_prices[[#This Row],[ITEMNMBR]]","v":0},"Custom: Hippity Hoppity - 12in bunny - purple & pink B - (Koie)","RETAIL",54.99]
[null,{"$f":"Table_prices[[#This Row],[ITEMNMBR]]","v":0},"Custom: Hippity Hoppity - 12in bunny - Blue A - (Koie)","RETAIL",54.99]
[null,{"$f":"Table_prices[[#This Row],[ITEMNMBR]]","v":0},"Custom: Hippity Hoppity - 12in bunny - Blue B - (Koie)","RETAIL",54.99]
[null,{"$f":"Table_prices[[#This Row],[ITEMNMBR]]","v":0},"Custom: Easter Basket (Dena)","RETAIL",79.989999999999995]
[null,{"$f":"Table_prices[[#This Row],[ITEMNMBR]]","v":0},"Custom: Cakebreads red & white (Koie)","RETAIL",284.99]
[null,{"$f":"Table_prices[[#This Row],[ITEMNMBR]]","v":0},"Custom: Chocolate Bunnies in a box (Doris)","RETAIL",35]
[null,{"$f":"Table_prices[[#This Row],[ITEMNMBR]]","v":0},"Custom: Easter Triple Bunny Basket (Koie)","RETAIL",149.99]
[null,{"$f":"Table_prices[[#This Row],[ITEMNMBR]]","v":0},"Custom: Easter 4637 - 1251  add bunny (Anne)","RETAIL",104.99]
[null,{"$f":"Table_prices[[#This Row],[ITEMNMBR]]","v":0},"Custom: Easter - 4646 red & white Ravenswood (Doris)","RETAIL",149.99]
[null,{"$f":"Table_prices[[#This Row],[ITEMNMBR]]","v":0},"Custom: Healthy Ultimate (Tim)","RETAIL",167.99]
[null,{"$f":"Table_prices[[#This Row],[ITEMNMBR]]","v":0},"Custom: Baby Boy & Chocolates (Dave)","RETAIL",150]
[null,{"$f":"Table_prices[[#This Row],[ITEMNMBR]]","v":0},"Custom: In Appreciation (Tasha &Kami)","RETAIL",71.989999999999995]
[null,{"$f":"Table_prices[[#This Row],[ITEMNMBR]]","v":0},"Custom: Nostalgic Candy Crate (Doris)","RETAIL",66.989999999999995]
[null,{"$f":"Table_prices[[#This Row],[ITEMNMBR]]","v":0},"Custom: Baby Boy & Parents (Tim)","RETAIL",200]
[null,{"$f":"Table_prices[[#This Row],[ITEMNMBR]]","v":0},"Custom 5 Gallons Caramel KOP (Anne)","RETAIL",50]
[null,{"$f":"Table_prices[[#This Row],[ITEMNMBR]]","v":0},"Custom 4, 1 Gallons KOP (Anne)","RETAIL",54.96]
[null,{"$f":"Table_prices[[#This Row],[ITEMNMBR]]","v":0},"Custom: 5087 and 4100 (Tim)","RETAIL",130.99]
[null,{"$f":"Table_prices[[#This Row],[ITEMNMBR]]","v":0},"Custom: aclaro softworks, inc  4072 + 5092 (Tim)","RETAIL",300]
[null,{"$f":"Table_prices[[#This Row],[ITEMNMBR]]","v":0},"Custom:Gluten Free with Red & White Wine (Anne)","RETAIL",279.99]
[null,{"$f":"Table_prices[[#This Row],[ITEMNMBR]]","v":0},"Custom:Snacks with bottle of Moet (Dave)","RETAIL",200]
[null,{"$f":"Table_prices[[#This Row],[ITEMNMBR]]","v":0},"Custom: Organic snacks with Cakebread Sauvignon blanc (Anne)","RETAIL",197.99]
[null,{"$f":"Table_prices[[#This Row],[ITEMNMBR]]","v":0},"Custom: Irish beer bucket - doubled beers- lower sodium type snacks - (Koie)","RETAIL",112.99]
[null,{"$f":"Table_prices[[#This Row],[ITEMNMBR]]","v":0},"Custom:Wildhorse Duo with Tucker the Bear (Doris)","RETAIL",154.99]
[null,{"$f":"Table_prices[[#This Row],[ITEMNMBR]]","v":0},"Custom: Medtronic - Red Wine trio and snacks (Tim)","RETAIL",200]
[null,{"$f":"Table_prices[[#This Row],[ITEMNMBR]]","v":0},"Custom: Medtronic - Red Wine trio and snacks (Tim)","RETAIL",200]
[null,{"$f":"Table_prices[[#This Row],[ITEMNMBR]]","v":0},"Custom: Guinness Golf (Anne)","RETAIL",129.99]
[null,{"$f":"Table_prices[[#This Row],[ITEMNMBR]]","v":0},"Custom: Fruit Estate (Koie)","RETAIL",226.99]
[null,{"$f":"Table_prices[[#This Row],[ITEMNMBR]]","v":0},"Custom: GC, Magazines, Snacks, Bud Light (Koie)","RETAIL",307.99]
[null,{"$f":"Table_prices[[#This Row],[ITEMNMBR]]","v":0},"Custom: 4500 + 3 cigars and 2 extra beers (Koie)","RETAIL",159.99]
[null,{"$f":"Table_prices[[#This Row],[ITEMNMBR]]","v":0},"Custom: Baby Girl - keepsake rattle, chocolates and snacks (Dave)","RETAIL",85]
[null,{"$f":"Table_prices[[#This Row],[ITEMNMBR]]","v":0},"Custom: Oxford Exchange - candy - nut - pretzel crate (Brian)","RETAIL",29.99]
[null,{"$f":"Table_prices[[#This Row],[ITEMNMBR]]","v":0},"Custom: 4402  * No Ribbon * (Doris)","RETAIL",59.99]
[null,{"$f":"Table_prices[[#This Row],[ITEMNMBR]]","v":0},"Custom: Get Well - chocolates, games, activities, snacks (Dena)","RETAIL",86.39]
[null,{"$f":"Table_prices[[#This Row],[ITEMNMBR]]","v":0},"Custom: Bountiful plus Torn Ranch (Koie)","RETAIL",210.99]
[null,{"$f":"Table_prices[[#This Row],[ITEMNMBR]]","v":0},"Custom: micro brew 6 plus cookies and popcorn (Anne)","RETAIL",114.99]
[null,{"$f":"Table_prices[[#This Row],[ITEMNMBR]]","v":0},"Custom: 5090 - two reds - (Doris)","RETAIL",130.99]
[null,{"$f":"Table_prices[[#This Row],[ITEMNMBR]]","v":0},"Custom: Care Package (Koie /Doris)","RETAIL",100]
[null,{"$f":"Table_prices[[#This Row],[ITEMNMBR]]","v":0},"Custom: 12\" large chocolate chip cookie (Dave)","RETAIL",34.99]
[null,{"$f":"Table_prices[[#This Row],[ITEMNMBR]]","v":0},"Custom: Ravenswood Cabernet with Lays Classic Chips (Koie)","RETAIL",196.99]
[null,{"$f":"Table_prices[[#This Row],[ITEMNMBR]]","v":0},"Custom:Weekend in Paris with Montrachet (Dave)","RETAIL",324.99]
[null,{"$f":"Table_prices[[#This Row],[ITEMNMBR]]","v":0},"Custom:Healthy and Comfort (Doris)","RETAIL",150]
[null,{"$f":"Table_prices[[#This Row],[ITEMNMBR]]","v":0},"Custom:4741 plus cigar - no snacks (Koie)","RETAIL",104.99]
[null,{"$f":"Table_prices[[#This Row],[ITEMNMBR]]","v":0},"Custom:Care Package with Popcorn (Tim)","RETAIL",0]
[null,{"$f":"Table_prices[[#This Row],[ITEMNMBR]]","v":0},"Custom:Silver Oak single (Tim)","RETAIL",74.989999999999995]
[null,{"$f":"Table_prices[[#This Row],[ITEMNMBR]]","v":0},"Custom:5108pm (Anne)","RETAIL",270.99]
[null,{"$f":"Table_prices[[#This Row],[ITEMNMBR]]","v":0},"Custom:Snacks, Chocolates, Beers and BBQ (Tim)","RETAIL",160]
[null,{"$f":"Table_prices[[#This Row],[ITEMNMBR]]","v":0},"Custom Snack and Choc for Anne","RETAIL",174.99]
[null,{"$f":"Table_prices[[#This Row],[ITEMNMBR]]","v":0},"Custom World 12 pk with 48 beers for Anne","RETAIL",110]
[null,{"$f":"Table_prices[[#This Row],[ITEMNMBR]]","v":0},"Custon Wine ,fruit and baked goods for Anne","RETAIL",134.99]
[null,{"$f":"Table_prices[[#This Row],[ITEMNMBR]]","v":0},"Custom: Wine, Cigar, Chocolates (Anne/ Koie)","RETAIL",115]
[null,{"$f":"Table_prices[[#This Row],[ITEMNMBR]]","v":0},"Custom Exam cram 5600 ( Koie)","RETAIL",65]
[null,{"$f":"Table_prices[[#This Row],[ITEMNMBR]]","v":0},"Custom: Tea (Anne)","RETAIL",101.99]
[null,{"$f":"Table_prices[[#This Row],[ITEMNMBR]]","v":0},"Custom: 19th Hole snack mix  (Doris)","RETAIL",24]
[null,{"$f":"Table_prices[[#This Row],[ITEMNMBR]]","v":0},"Custom:purchase golf bags (Koie)","RETAIL",24]
[null,{"$f":"Table_prices[[#This Row],[ITEMNMBR]]","v":0},"Custom:Jiffy's parents","RETAIL",120]
[null,{"$f":"Table_prices[[#This Row],[ITEMNMBR]]","v":0},"Custom:Jiffy's Shower Raffle","RETAIL",80]
[null,{"$f":"Table_prices[[#This Row],[ITEMNMBR]]","v":0},"Custom: Baked Goods (no nuts) (Anne)","RETAIL",74.989999999999995]
[null,{"$f":"Table_prices[[#This Row],[ITEMNMBR]]","v":0},"Custom: 2 - 3.5 gal bags of KOP (1-caramel / 1- au natural) (Koie)","RETAIL",79.989999999999995]
[null,{"$f":"Table_prices[[#This Row],[ITEMNMBR]]","v":0},"Custom:5090 ((switch wine to Bordeaux))  (Koie)","RETAIL",170]
[null,{"$f":"Table_prices[[#This Row],[ITEMNMBR]]","v":0},"Custom - Sauvignon Blanc by Cakebread Sellers (Tim)","RETAIL",50.99]
[null,{"$f":"Table_prices[[#This Row],[ITEMNMBR]]","v":0},"Custom -  pub picks in Halloween Spooky Eyes 2 gal popcorn tin  (Tim)","RETAIL",0]
[null,{"$f":"Table_prices[[#This Row],[ITEMNMBR]]","v":0},"Custom: Kosher Cornucopia with added fruit (Anne)","RETAIL",184.99]
[null,{"$f":"Table_prices[[#This Row],[ITEMNMBR]]","v":0},"Custom:popcorn sampler (Tim)","RETAIL",36.99]
[null,{"$f":"Table_prices[[#This Row],[ITEMNMBR]]","v":0},"Custom:crispy cracker crunch and butter toffee peanuts (Brian)","RETAIL",170.38]
[null,{"$f":"Table_prices[[#This Row],[ITEMNMBR]]","v":0},"Custom:Catena Malbec, Popcorn , Peanut M&Ms  (Anne)","RETAIL",87.99]
[null,{"$f":"Table_prices[[#This Row],[ITEMNMBR]]","v":0},"Custom:Pinot Grigio, Snacks and Chocolates  (Anne)","RETAIL",212.99]
[null,{"$f":"Table_prices[[#This Row],[ITEMNMBR]]","v":0},"Custom: Beer Bucket (Koie)","RETAIL",174.99]
[null,{"$f":"Table_prices[[#This Row],[ITEMNMBR]]","v":0},"Custom:Ravenwood with sweet & salty snacks, dog toy and treat (Anne)","RETAIL",94.99]
[null,{"$f":"Table_prices[[#This Row],[ITEMNMBR]]","v":0},"Custom: The Horgan Group Healthy Deluxe (Tim)","RETAIL",99.99]
[null,{"$f":"Table_prices[[#This Row],[ITEMNMBR]]","v":0},"Custom: The Horgan Group Snack Classic (Tim)","RETAIL",59.99]
[null,{"$f":"Table_prices[[#This Row],[ITEMNMBR]]","v":0},"Custom: The Horgan Group Snack Premium (Tim)","RETAIL",79.989999999999995]
[null,{"$f":"Table_prices[[#This Row],[ITEMNMBR]]","v":0},"Custom:Healthy with Zinfandel (Koie)","RETAIL",118.99]
[null,{"$f":"Table_prices[[#This Row],[ITEMNMBR]]","v":0},"Custom:Gluten Free snacks and added fruit (Koie)","RETAIL",150]
[null,{"$f":"Table_prices[[#This Row],[ITEMNMBR]]","v":0},"Custom:fruits and snacks (Doris / Jen)","RETAIL",93.99]
[null,{"$f":"Table_prices[[#This Row],[ITEMNMBR]]","v":0},"Custom:chocolate replacements from 5107b (Tim)","RETAIL",0]
[null,{"$f":"Table_prices[[#This Row],[ITEMNMBR]]","v":0},"Custom:spa, wine, teas and snacks (Koie)","RETAIL",149.99]
[null,{"$f":"Table_prices[[#This Row],[ITEMNMBR]]","v":0},"Custom: Catena snacks and dog treat (Anne)","RETAIL",128.99]
[null,{"$f":"Table_prices[[#This Row],[ITEMNMBR]]","v":0},"Custom: Beer Bucket (Anne)","RETAIL",173.99]
[null,{"$f":"Table_prices[[#This Row],[ITEMNMBR]]","v":0},"Custom: Beer Bucket - bud light & labatt blue (Doris)","RETAIL",212]
[null,{"$f":"Table_prices[[#This Row],[ITEMNMBR]]","v":0},"Custom:   one each -3.5gal bag of white cheddar, Garlic Parmesan & Zesty Ranch Popcorn (Koie)","RETAIL",120]
[null,{"$f":"Table_prices[[#This Row],[ITEMNMBR]]","v":0},"Custom - Afternoon in Paris","RETAIL",159.99]
[null,{"$f":"Table_prices[[#This Row],[ITEMNMBR]]","v":0},"Custom: combination of 5601 & 5602 with added red bulls in a basket (Jen)","RETAIL",239.99]
[null,{"$f":"Table_prices[[#This Row],[ITEMNMBR]]","v":0},"Custom: tea & cookies with added fruit (Koie)","RETAIL",147.99]
[null,{"$f":"Table_prices[[#This Row],[ITEMNMBR]]","v":0},"Custom: Kosher Basket (Dave)","RETAIL",50]
[null,{"$f":"Table_prices[[#This Row],[ITEMNMBR]]","v":0},"Custom: Kosher Basket with Wine (Dave)","RETAIL",80]
[null,{"$f":"Table_prices[[#This Row],[ITEMNMBR]]","v":0},"Custom: Diabetic with Wine (Dave)","RETAIL",95]
[null,{"$f":"Table_prices[[#This Row],[ITEMNMBR]]","v":0},"Custom: Red Sox Bucket (Tim)","RETAIL",60]
[null,{"$f":"Table_prices[[#This Row],[ITEMNMBR]]","v":0},"Custom: Gift for Piper (Anne)","RETAIL",100]
[null,{"$f":"Table_prices[[#This Row],[ITEMNMBR]]","v":0},"Custom: Gift for Wynter (Anne)","RETAIL",100]
[null,{"$f":"Table_prices[[#This Row],[ITEMNMBR]]","v":0},"Custom: Gift for Hunter (Anne)","RETAIL",100]
[null,{"$f":"Table_prices[[#This Row],[ITEMNMBR]]","v":0},"Custom: White Wine Basket  (Anne)","RETAIL",172.99]
[null,{"$f":"Table_prices[[#This Row],[ITEMNMBR]]","v":0},"Custom: Kosher Basket (Dave)","RETAIL",100]
[null,{"$f":"Table_prices[[#This Row],[ITEMNMBR]]","v":0},"Custom: Halloween (Anne)","RETAIL",117.95]
[null,{"$f":"Table_prices[[#This Row],[ITEMNMBR]]","v":0},"Custom: Organic (Koie)","RETAIL",139.99]
[null,{"$f":"Table_prices[[#This Row],[ITEMNMBR]]","v":0},"Custom: Timeless Treats Tower (Tim)","RETAIL",69.989999999999995]
[null,{"$f":"Table_prices[[#This Row],[ITEMNMBR]]","v":0},"Custom: Additional Gatorade for Footlocker (Mike)","RETAIL",14]
[null,{"$f":"Table_prices[[#This Row],[ITEMNMBR]]","v":0},"Custom: Perskie & Flendt Law - Microbrew Philadelphia Fliers Mug & Tube of Tennis Balls (Dave)","RETAIL",60]
[null,{"$f":"Table_prices[[#This Row],[ITEMNMBR]]","v":0},"Custom: Perskie & Flendt Law - Bucket O' Candy with Yankees Mug & Hat (Dave)","RETAIL",60]
[null,{"$f":"Table_prices[[#This Row],[ITEMNMBR]]","v":0},"Custom: Halloween Care Package (Colleen)","RETAIL",141.35]
[null,{"$f":"Table_prices[[#This Row],[ITEMNMBR]]","v":0},"Custom:Chardonnay , Pinot Noir with crackers cheese and sausage (Doris)","RETAIL",434.99]
[null,{"$f":"Table_prices[[#This Row],[ITEMNMBR]]","v":0},"Custom: Around the World 18  (Doris)","RETAIL",177.99]
[null,{"$f":"Table_prices[[#This Row],[ITEMNMBR]]","v":0},"Custom: Halloween Gluten Free Tower  (Doris)","RETAIL",116.99]
[null,{"$f":"Table_prices[[#This Row],[ITEMNMBR]]","v":0},"Custom: healthy and soup (4022 & 5070 combo)  (Doris)","RETAIL",203.99]
[null,{"$f":"Table_prices[[#This Row],[ITEMNMBR]]","v":0},"Custom:Soup & Crock with added tea and snacks (Jen)","RETAIL",124.99]
[null,{"$f":"Table_prices[[#This Row],[ITEMNMBR]]","v":0},"Custom:Snacks in 3.5gal Halloween Tin (Tim)","RETAIL",79.989999999999995]
[null,{"$f":"Table_prices[[#This Row],[ITEMNMBR]]","v":0},"Custom: Healthy Care Pkg items in cute Lady Bug Tote (Jen)","RETAIL",68.989999999999995]
[null,{"$f":"Table_prices[[#This Row],[ITEMNMBR]]","v":0},"Custom: Healthy Stack (Tim)","RETAIL",34.99]
[null,{"$f":"Table_prices[[#This Row],[ITEMNMBR]]","v":0},"Custom: snack & chocolate with dog lovers (Jen)","RETAIL",140.99]
[null,{"$f":"Table_prices[[#This Row],[ITEMNMBR]]","v":0},"Custom: Breakfast for Sue","RETAIL",59.99]
[null,{"$f":"Table_prices[[#This Row],[ITEMNMBR]]","v":0},"Custom: Beers and Cookies (Brian)","RETAIL",70]
[null,{"$f":"Table_prices[[#This Row],[ITEMNMBR]]","v":0},"Custom: Purely Fruit Basket (Tim)","RETAIL",90]
[null,{"$f":"Table_prices[[#This Row],[ITEMNMBR]]","v":0},"Custom: Dom with assorted crackers, cheese, dried fruits, and nuts","RETAIL",500]
[null,{"$f":"Table_prices[[#This Row],[ITEMNMBR]]","v":0},"Custom:  pink golf bags","RETAIL",23.98]
[null,{"$f":"Table_prices[[#This Row],[ITEMNMBR]]","v":0},"Custom:Gluten free and no nuts (Doris)","RETAIL",200]
[null,{"$f":"Table_prices[[#This Row],[ITEMNMBR]]","v":0},"Custom: Chocolate Handouts 2014","RETAIL",80]
[null,{"$f":"Table_prices[[#This Row],[ITEMNMBR]]","v":0},"Custom: Holiday Gift (Mike G.)","RETAIL",100]
[null,{"$f":"Table_prices[[#This Row],[ITEMNMBR]]","v":0},"Custom:5406 remove sausage add nuts (Doris)","RETAIL",264.99]
[null,{"$f":"Table_prices[[#This Row],[ITEMNMBR]]","v":0},"Custom:5107b with added Veuve (Trudy)","RETAIL",240]
[null,{"$f":"Table_prices[[#This Row],[ITEMNMBR]]","v":0},"custom: Chianti and chocolate (Sue)","RETAIL",50]
[null,{"$f":"Table_prices[[#This Row],[ITEMNMBR]]","v":0},"Custom: Breakfast for Sue","RETAIL",59.99]
[null,{"$f":"Table_prices[[#This Row],[ITEMNMBR]]","v":0},"Custom:5108 plus AMEXGC (Jen)","RETAIL",509.99]
[null,{"$f":"Table_prices[[#This Row],[ITEMNMBR]]","v":0},"custom: 5112 removing the sausage (Doris)","RETAIL",419.99]
[null,{"$f":"Table_prices[[#This Row],[ITEMNMBR]]","v":0},"custom: 5107 Veuve x's2 (Amy)","RETAIL",245.99]
[null,{"$f":"Table_prices[[#This Row],[ITEMNMBR]]","v":0},"Custom 12 pack Coors Light & Bass Pro Shops Gift Card (Amy)","RETAIL",445]
[null,{"$f":"Table_prices[[#This Row],[ITEMNMBR]]","v":0},"Custom:  Wine & Champagne (Anne / Amy)","RETAIL",149.99]
[null,{"$f":"Table_prices[[#This Row],[ITEMNMBR]]","v":0},"Custom: beer bucket (RHuston)","RETAIL",129.99]
[null,{"$f":"Table_prices[[#This Row],[ITEMNMBR]]","v":0},"Custom:Nature's Picic with La Marca ( Amy)","RETAIL",110.99]
[null,{"$f":"Table_prices[[#This Row],[ITEMNMBR]]","v":0},"Custom:Nature's Picic with La Marca ( Amy)","RETAIL",110.99]
[null,{"$f":"Table_prices[[#This Row],[ITEMNMBR]]","v":0},"Custom: For His 40th Birthday","RETAIL",320.99]
[null,{"$f":"Table_prices[[#This Row],[ITEMNMBR]]","v":0},"Custom:4046 - Gluten free snacks and bottle of White Wine","RETAIL",152.99]
[null,{"$f":"Table_prices[[#This Row],[ITEMNMBR]]","v":0},"Custom:Mountain Dew and Snacks Bucket (Doris / Sue Ellen)","RETAIL",121.99]
[null,{"$f":"Table_prices[[#This Row],[ITEMNMBR]]","v":0},"Custom: Red Bulls, Tea, Coffee, Cheese, Crackers, Chocolate (Dave)","RETAIL",104.99]
[null,{"$f":"Table_prices[[#This Row],[ITEMNMBR]]","v":0},"Custom 5106B with Red, White, Blue Raffia","RETAIL",134.99]
[null,{"$f":"Table_prices[[#This Row],[ITEMNMBR]]","v":0},"Custom Breakfast Classic with non-flavored coffee and white chocolate (Anne)","RETAIL",88.99]
[null,{"$f":"Table_prices[[#This Row],[ITEMNMBR]]","v":0},"Custom: Pizza and Red Wines (Sue Ellen)","RETAIL",240.99]
[null,{"$f":"Table_prices[[#This Row],[ITEMNMBR]]","v":0},"Custom: Champagne & Chocolates (Dave)","RETAIL",75]
[null,{"$f":"Table_prices[[#This Row],[ITEMNMBR]]","v":0},"Custom: Red Wine & Snacks (Brian)","RETAIL",126.99]
[null,{"$f":"Table_prices[[#This Row],[ITEMNMBR]]","v":0},"Custom: 5141 with fruit (Tim)","RETAIL",99.99]
[null,{"$f":"Table_prices[[#This Row],[ITEMNMBR]]","v":0},"Custom: Chianti Basket (Sue Ellen)","RETAIL",162.99]
[null,{"$f":"Table_prices[[#This Row],[ITEMNMBR]]","v":0},"Custom: Get Well Basket (Tim)","RETAIL",135.99]
[null,{"$f":"Table_prices[[#This Row],[ITEMNMBR]]","v":0},"Custom:Valentine's Fruit Basket with added chocolates and brownies (Jen)","RETAIL",130.99]
[null,{"$f":"Table_prices[[#This Row],[ITEMNMBR]]","v":0},"Custom:Dom Suitcase with Champagne Flutes (Amy)","RETAIL",500]
[null,{"$f":"Table_prices[[#This Row],[ITEMNMBR]]","v":0},"Custom:Dom Suitcase with Champagne Flutes (Amy)","RETAIL",500]
[null,{"$f":"Table_prices[[#This Row],[ITEMNMBR]]","v":0},"Custom:Happy Birthday (Sue)","RETAIL",30]
[null,{"$f":"Table_prices[[#This Row],[ITEMNMBR]]","v":0},"Custom: Gluten free Premium adding a teddy bear  (Amy)","RETAIL",177.99]
[null,{"$f":"Table_prices[[#This Row],[ITEMNMBR]]","v":0},"Custom: Chocolate Handouts Winter 2015","RETAIL",90]
[null,{"$f":"Table_prices[[#This Row],[ITEMNMBR]]","v":0},"Custom: Thank You  - Wine & Snacks Suitcase (Amy)","RETAIL",215.99]
[null,{"$f":"Table_prices[[#This Row],[ITEMNMBR]]","v":0},"Custom: Birhtday Merlot and Chocolates (Doris)","RETAIL",650.99]
[null,{"$f":"Table_prices[[#This Row],[ITEMNMBR]]","v":0},"Custom: Port Wine, Snacks & Sweets (Sue Ellen)","RETAIL",250]
[null,{"$f":"Table_prices[[#This Row],[ITEMNMBR]]","v":0},"Custom: Care Package (Sue Ellen)","RETAIL",67.989999999999995]
[null,{"$f":"Table_prices[[#This Row],[ITEMNMBR]]","v":0},"Custom: Healthy Snacks and Fun Activities (Anne)","RETAIL",174.99]
[null,{"$f":"Table_prices[[#This Row],[ITEMNMBR]]","v":0},"Custom: Red Wine & Snacks (Dave)","RETAIL",105]
[null,{"$f":"Table_prices[[#This Row],[ITEMNMBR]]","v":0},"Custom: 5143 swap out two bottles for two LaMarca (Tim / Jen)","RETAIL",194.99]
[null,{"$f":"Table_prices[[#This Row],[ITEMNMBR]]","v":0},"Custom: Adorable Basket for Young Girl  - snacks, treats, toys (Jen)","RETAIL",100]
[null,{"$f":"Table_prices[[#This Row],[ITEMNMBR]]","v":0},"Custom: Adorable Basket for Young Girl -2 - snacks, treats, toys (Jen)","RETAIL",100]
[null,{"$f":"Table_prices[[#This Row],[ITEMNMBR]]","v":0},"Custom: Adorable Basket for Young Boy - snacks, treats, toys (Jen)","RETAIL",100]
[null,{"$f":"Table_prices[[#This Row],[ITEMNMBR]]","v":0},"Custom: Cakebread plus bunnies (Jen)","RETAIL",329.99]
[null,{"$f":"Table_prices[[#This Row],[ITEMNMBR]]","v":0},"Custom: Silveroak Reds plus snacks and chocolates (Sue Ellen)","RETAIL",387.99]
[null,{"$f":"Table_prices[[#This Row],[ITEMNMBR]]","v":0},"Custom: Fruit with Bunny (Anne)","RETAIL",71.989999999999995]
[null,{"$f":"Table_prices[[#This Row],[ITEMNMBR]]","v":0},"Custom: rioja red & white with chrackers, cheese & nuts (Tim)","RETAIL",210.99]
[null,{"$f":"Table_prices[[#This Row],[ITEMNMBR]]","v":0},"Custom: Grilling Basket (Dave)","RETAIL",99.99]
[null,{"$f":"Table_prices[[#This Row],[ITEMNMBR]]","v":0},"Letty's Basket - Custom","RETAIL",129.99]
[null,{"$f":"Table_prices[[#This Row],[ITEMNMBR]]","v":0},"Piper's Basket - Custom","RETAIL",131.49]
[null,{"$f":"Table_prices[[#This Row],[ITEMNMBR]]","v":0},"Hunter's Basket - Custom","RETAIL",132.99]
[null,{"$f":"Table_prices[[#This Row],[ITEMNMBR]]","v":0},"Wynter's Basket - Custom","RETAIL",132.99]
[null,{"$f":"Table_prices[[#This Row],[ITEMNMBR]]","v":0},"Taylor's Basket - Custom","RETAIL",134.99]
[null,{"$f":"Table_prices[[#This Row],[ITEMNMBR]]","v":0},"Customized Ultimate Pampered Dog Gift Basket (Anne)","RETAIL",100]
[null,{"$f":"Table_prices[[#This Row],[ITEMNMBR]]","v":0},"Custom: Easter Basket (Anne)","RETAIL",109.99]
[null,{"$f":"Table_prices[[#This Row],[ITEMNMBR]]","v":0},"Custom: 4500 - special labels added (Dave)","RETAIL",69.989999999999995]
[null,{"$f":"Table_prices[[#This Row],[ITEMNMBR]]","v":0},"Custom: 5090 - wine (Jen)","RETAIL",130.99]
[null,{"$f":"Table_prices[[#This Row],[ITEMNMBR]]","v":0},"Custom: Easter Basket (Brian)","RETAIL",99.99]
[null,{"$f":"Table_prices[[#This Row],[ITEMNMBR]]","v":0},"Custom:Wine & Savory Snacks (Amy)","RETAIL",194.99]
[null,{"$f":"Table_prices[[#This Row],[ITEMNMBR]]","v":0},"Custom: Anniversary - spa & snacks (Doris)","RETAIL",149.99]
[null,{"$f":"Table_prices[[#This Row],[ITEMNMBR]]","v":0},"Custom: Silver Oak, Crackers, Cheese, Fruits, & Chocolates (Brian)","RETAIL",199.99]
[null,{"$f":"Table_prices[[#This Row],[ITEMNMBR]]","v":0},"Custom: 8952 - baked goods doubled (Jen)","RETAIL",179.99]
[null,{"$f":"Table_prices[[#This Row],[ITEMNMBR]]","v":0},"Custom: 8952 - baked goods quadrupled (Jen)","RETAIL",310.99]
[null,{"$f":"Table_prices[[#This Row],[ITEMNMBR]]","v":0},"custom cheesy cheddar & pretzels (Tim)","RETAIL",0]
[null,{"$f":"Table_prices[[#This Row],[ITEMNMBR]]","v":0},"Custom: Around the World  (Jen)","RETAIL",164.99]
[null,{"$f":"Table_prices[[#This Row],[ITEMNMBR]]","v":0},"Custom: fruit basket --no candies-- add coffee (Amy)","RETAIL",64.989999999999995]
[null,{"$f":"Table_prices[[#This Row],[ITEMNMBR]]","v":0},"Custom: 4042 with Prosecco (Amy)","RETAIL",199.99]
[null,{"$f":"Table_prices[[#This Row],[ITEMNMBR]]","v":0},"Custom: 4081 grilling basket (Dave)","RETAIL",99.99]
[null,{"$f":"Table_prices[[#This Row],[ITEMNMBR]]","v":0},"Custom: Red Wine, Snacks & Chocolates (TIM)","RETAIL",99]
[null,{"$f":"Table_prices[[#This Row],[ITEMNMBR]]","v":0},"Custom 4611 and 4803 in basket (Amy)","RETAIL",74.989999999999995]
[null,{"$f":"Table_prices[[#This Row],[ITEMNMBR]]","v":0},"Custom: 4022 with dried fruit platter added (TIM)","RETAIL",158.99]
[null,{"$f":"Table_prices[[#This Row],[ITEMNMBR]]","v":0},"Custom: 4056 - remove ribbons & bows (Doris)","RETAIL",269.99]
[null,{"$f":"Table_prices[[#This Row],[ITEMNMBR]]","v":0},"Custom: dried fruits, fruits, and snacks","RETAIL",152.99]
[null,{"$f":"Table_prices[[#This Row],[ITEMNMBR]]","v":0},"Custom: Post College Survial Kit with a Deck of Cards (Anne)","RETAIL",62.99]
[null,{"$f":"Table_prices[[#This Row],[ITEMNMBR]]","v":0},"Custom:4021 - add sausage & cheese (Tim)","RETAIL",85]
[null,{"$f":"Table_prices[[#This Row],[ITEMNMBR]]","v":0},"Custom:4321 - with added fruits and chocolates (Amy)","RETAIL",109.99]
[null,{"$f":"Table_prices[[#This Row],[ITEMNMBR]]","v":0},"Custom:Crackers, Meats & Cheeses (Tim)","RETAIL",100]
[null,{"$f":"Table_prices[[#This Row],[ITEMNMBR]]","v":0},"Custom:Beer, BBQ, Crackers,Snacks, Meats & Cheeses (Tim)","RETAIL",150]
[null,{"$f":"Table_prices[[#This Row],[ITEMNMBR]]","v":0},"Custom:Cabernet, Coffee, snacks and chocolates (Amy)","RETAIL",150]
[null,{"$f":"Table_prices[[#This Row],[ITEMNMBR]]","v":0},"Custom: Wine for Mom Cookies and Candy Assortment for the Kids (Anne)","RETAIL",89]
[null,{"$f":"Table_prices[[#This Row],[ITEMNMBR]]","v":0},"Custom: Wine, Beer & Snacks (Anne)","RETAIL",136]
[null,{"$f":"Table_prices[[#This Row],[ITEMNMBR]]","v":0},"Custom: Combo of Fishing, Golfing & Italian (Anne)","RETAIL",149.99]
[null,{"$f":"Table_prices[[#This Row],[ITEMNMBR]]","v":0},"Custom: 5107c with CSI Gift Certificate (Doris)","RETAIL",294.99]
[null,{"$f":"Table_prices[[#This Row],[ITEMNMBR]]","v":0},"Custom: Wine, Microbrews and snacks (Anne)","RETAIL",94.99]
[null,{"$f":"Table_prices[[#This Row],[ITEMNMBR]]","v":0},"Custom: M&Ms and Pretzels (Doris)","RETAIL",150]
[null,{"$f":"Table_prices[[#This Row],[ITEMNMBR]]","v":0},"Custom: Orchards Abundance  (Dave)","RETAIL",99.99]
[null,{"$f":"Table_prices[[#This Row],[ITEMNMBR]]","v":0},"Custom: 4321 with mug and coffee (Doris)","RETAIL",103.99]
[null,{"$f":"Table_prices[[#This Row],[ITEMNMBR]]","v":0},"Custom: 5600 - (Jen)","RETAIL",64.989999999999995]
[null,{"$f":"Table_prices[[#This Row],[ITEMNMBR]]","v":0},"Custom: 5602 & 5622 in a basket for young boy (Anne)","RETAIL",111.99]
[null,{"$f":"Table_prices[[#This Row],[ITEMNMBR]]","v":0},"Custom: 5140 - all gold ribbon  (Anne)","RETAIL",94.99]
[null,{"$f":"Table_prices[[#This Row],[ITEMNMBR]]","v":0},"Custom: 5106 - white wine - (Anne)","RETAIL",119.99]
[null,{"$f":"Table_prices[[#This Row],[ITEMNMBR]]","v":0},"Custom: Nostalgic Candy Crate with Teddy Bear Stack (Jen)","RETAIL",85.99]
[null,{"$f":"Table_prices[[#This Row],[ITEMNMBR]]","v":0},"Custom: meat, cheese, crackers, chocolates (Doris)","RETAIL",150]
[null,{"$f":"Table_prices[[#This Row],[ITEMNMBR]]","v":0},"Custom: New Arrival (Amy)","RETAIL",157.99]
[null,{"$f":"Table_prices[[#This Row],[ITEMNMBR]]","v":0},"Custom: Dom Perignon, Heineken, and Chocolate (Anne)","RETAIL",308.99]
[null,{"$f":"Table_prices[[#This Row],[ITEMNMBR]]","v":0},"Custom: Dom Perignon, San Pellegrino, and Trail Mix (Anne)","RETAIL",308.99]
[null,{"$f":"Table_prices[[#This Row],[ITEMNMBR]]","v":0},"Custom: Tower swap - 6806 in 6802 (Tim)","RETAIL",49.99]
[null,{"$f":"Table_prices[[#This Row],[ITEMNMBR]]","v":0},"Custom:custom snack jumbo (Tim)","RETAIL",199.99]
[null,{"$f":"Table_prices[[#This Row],[ITEMNMBR]]","v":0},"Custom 6.5 gallon Snowflake Tin - Traditional","RETAIL",0]
[null,{"$f":"Table_prices[[#This Row],[ITEMNMBR]]","v":0},"Custom:SilverOak Basket (Doris)","RETAIL",355.99]
[null,{"$f":"Table_prices[[#This Row],[ITEMNMBR]]","v":0},"Custom:Beer Bucket with Game Tickets (Jen)","RETAIL",530.99]
[null,{"$f":"Table_prices[[#This Row],[ITEMNMBR]]","v":0},"Custom:Chocolate Lovers (Tim)","RETAIL",99.99]
[null,{"$f":"Table_prices[[#This Row],[ITEMNMBR]]","v":0},"Custom:Estate Collection - (Dave)","RETAIL",149.99]
[null,{"$f":"Table_prices[[#This Row],[ITEMNMBR]]","v":0},"Custom:5107 Dom Suitcase (Doris / Anne)","RETAIL",377.99]
[null,{"$f":"Table_prices[[#This Row],[ITEMNMBR]]","v":0},"Custom : activities, games, & candies","RETAIL",54.99]
[null,{"$f":"Table_prices[[#This Row],[ITEMNMBR]]","v":0},"Custom Gift Basket","RETAIL",45]
[null,{"$f":"Table_prices[[#This Row],[ITEMNMBR]]","v":0},"Custom Gift Basket","RETAIL",307.95999999999998]
[null,{"$f":"Table_prices[[#This Row],[ITEMNMBR]]","v":0},"Custom Gift Basket","RETAIL",114.53]
[null,{"$f":"Table_prices[[#This Row],[ITEMNMBR]]","v":0},"Custom Bountiful Harvest (T.M.)","RETAIL",119.99]
[null,{"$f":"Table_prices[[#This Row],[ITEMNMBR]]","v":0},"Custom Kosher Bountiful Harvest","RETAIL",120]
[null,{"$f":"Table_prices[[#This Row],[ITEMNMBR]]","v":0},"NOT LABELED- Nutrional facts Boulder's Mixed Nuts","RETAIL",100]
[null,{"$f":"Table_prices[[#This Row],[ITEMNMBR]]","v":0},"Chicago Mix Popcorn Bag by KingofPop.com - 4.5 oz. -","RETAIL",3]
[null,{"$f":"Table_prices[[#This Row],[ITEMNMBR]]","v":0},"White 1 gallon Tin","RETAIL",100]
[null,{"$f":"Table_prices[[#This Row],[ITEMNMBR]]","v":0},"Brownie- Belgian Chocolate Chunk 3.75 oz","RETAIL",100]
[null,{"$f":"Table_prices[[#This Row],[ITEMNMBR]]","v":0},"Hole in one golf bag","RETAIL",69.989999999999995]
[null,{"$f":"Table_prices[[#This Row],[ITEMNMBR]]","v":0},"Custom Gift Basket","RETAIL",1]
[null,{"$f":"Table_prices[[#This Row],[ITEMNMBR]]","v":0},"A Dozen Roses Arranged In A Cylinder Vase With Greens","RETAIL",124.99]
[null,{"$f":"Table_prices[[#This Row],[ITEMNMBR]]","v":0},"Gold Wicker Sleigh","RETAIL",100]
[null,{"$f":"Table_prices[[#This Row],[ITEMNMBR]]","v":0},"Happy Holiday's Red/Green Crate","RETAIL",100]
[null,{"$f":"Table_prices[[#This Row],[ITEMNMBR]]","v":0},"Red Poinsettia Pick- Cut 1 1/2 inches below the Calyx","RETAIL",100]
[null,{"$f":"Table_prices[[#This Row],[ITEMNMBR]]","v":0},"White Poinsettia Pick- Cut 1 1/2 inches below the Calyx","RETAIL",100]
[null,{"$f":"Table_prices[[#This Row],[ITEMNMBR]]","v":0},"Pine Picks","RETAIL",100]
[null,{"$f":"Table_prices[[#This Row],[ITEMNMBR]]","v":0},"Burgundy Poinsettia Pick- Cut 1 1/2 inches below the Calyx","RETAIL",100]
[null,{"$f":"Table_prices[[#This Row],[ITEMNMBR]]","v":0},"Holly Berry Pick","RETAIL",100]
[null,{"$f":"Table_prices[[#This Row],[ITEMNMBR]]","v":0},"Grape Bunch Picks","RETAIL",100]
[null,{"$f":"Table_prices[[#This Row],[ITEMNMBR]]","v":0},"Berry Spray shiny red DS-901-02","RETAIL",100]
[null,{"$f":"Table_prices[[#This Row],[ITEMNMBR]]","v":0},"Burgundy Berry Spray DS-903-69","RETAIL",100]
[null,{"$f":"Table_prices[[#This Row],[ITEMNMBR]]","v":0},"Glass Bead and Raspberry Assorted Colors","RETAIL",100]
[null,{"$f":"Table_prices[[#This Row],[ITEMNMBR]]","v":0},"Fall Maple Leaf picks","RETAIL",100]
[null,{"$f":"Table_prices[[#This Row],[ITEMNMBR]]","v":0},"13\" Acorn with Oak Leaves Picks","RETAIL",100]
[null,{"$f":"Table_prices[[#This Row],[ITEMNMBR]]","v":0},"13\" Fall Mum Bush","RETAIL",100]
[null,{"$f":"Table_prices[[#This Row],[ITEMNMBR]]","v":0},"Diamond Rose Dewdrop Flowers","RETAIL",100]
[null,{"$f":"Table_prices[[#This Row],[ITEMNMBR]]","v":0},"Assorted Mix Spring Rose pick","RETAIL",100]
[null,{"$f":"Table_prices[[#This Row],[ITEMNMBR]]","v":0},"Lilly with Berries bush 17\" x 12","RETAIL",100]
[null,{"$f":"Table_prices[[#This Row],[ITEMNMBR]]","v":0},"Sunflower Pick","RETAIL",100]
[null,{"$f":"Table_prices[[#This Row],[ITEMNMBR]]","v":0},"French Basket Flowers","RETAIL",100]
[null,{"$f":"Table_prices[[#This Row],[ITEMNMBR]]","v":0},"Poppies w/ Babies Breath Pick","RETAIL",100]
[null,{"$f":"Table_prices[[#This Row],[ITEMNMBR]]","v":0},"Purple Pansy Bush 12\" x 7","RETAIL",100]
[null,{"$f":"Table_prices[[#This Row],[ITEMNMBR]]","v":0},"Mixed Cosmos Filler Bush Cream 19\"","RETAIL",100]
[null,{"$f":"Table_prices[[#This Row],[ITEMNMBR]]","v":0},"Sunflower Bush 2 styles 13\"","RETAIL",100]
[null,{"$f":"Table_prices[[#This Row],[ITEMNMBR]]","v":0},"Daisy baby breath bush 16\" 10 heads","RETAIL",100]
[null,{"$f":"Table_prices[[#This Row],[ITEMNMBR]]","v":0},"Faux Banana","RETAIL",100]
[null,{"$f":"Table_prices[[#This Row],[ITEMNMBR]]","v":0},"Faux Pear","RETAIL",100]
[null,{"$f":"Table_prices[[#This Row],[ITEMNMBR]]","v":0},"12\" Fall Berry Bush x 7 heads","RETAIL",100]
[null,{"$f":"Table_prices[[#This Row],[ITEMNMBR]]","v":0},"Faux Lemon","RETAIL",100]
[null,{"$f":"Table_prices[[#This Row],[ITEMNMBR]]","v":0},"Wooden sled with runners","RETAIL",100]
[null,{"$f":"Table_prices[[#This Row],[ITEMNMBR]]","v":0},"Easter Egg Foamie Kit","RETAIL",100]
[null,{"$f":"Table_prices[[#This Row],[ITEMNMBR]]","v":0},"Easter Egg Poster","RETAIL",100]
[null,{"$f":"Table_prices[[#This Row],[ITEMNMBR]]","v":0},"DARICE HOT DOG TRAY","RETAIL",100]
[null,{"$f":"Table_prices[[#This Row],[ITEMNMBR]]","v":0},"Glow in the Dark Eye Glasses -","RETAIL",100]
[null,{"$f":"Table_prices[[#This Row],[ITEMNMBR]]","v":0},"Glow in Dark Neclace 11\" 2pack","RETAIL",100]
[null,{"$f":"Table_prices[[#This Row],[ITEMNMBR]]","v":0},"Glow Straw Stick 6 Pk","RETAIL",100]
[null,{"$f":"Table_prices[[#This Row],[ITEMNMBR]]","v":0},"Plush Santa Hat by Darice - 17 inch -","RETAIL",100]
[null,{"$f":"Table_prices[[#This Row],[ITEMNMBR]]","v":0},"Red Grape Cluster by Darice - 6 inch -","RETAIL",100]
[null,{"$f":"Table_prices[[#This Row],[ITEMNMBR]]","v":0},"Rose Bush in Assorted Colors by Darice -","RETAIL",100]
[null,{"$f":"Table_prices[[#This Row],[ITEMNMBR]]","v":0},"Glow in the Dark Bracelets - 6 pk -","RETAIL",100]
[null,{"$f":"Table_prices[[#This Row],[ITEMNMBR]]","v":0},"High Five Pencils by Darice - Assorted Colors -","RETAIL",100]
[null,{"$f":"Table_prices[[#This Row],[ITEMNMBR]]","v":0},"Dark Pink Rose Pick","RETAIL",100]
[null,{"$f":"Table_prices[[#This Row],[ITEMNMBR]]","v":0},"Light Pink Rose pick","RETAIL",100]
[null,{"$f":"Table_prices[[#This Row],[ITEMNMBR]]","v":0},"Yellow Rose pick","RETAIL",100]
[null,{"$f":"Table_prices[[#This Row],[ITEMNMBR]]","v":0},"White Rose pick","RETAIL",100]
[null,{"$f":"Table_prices[[#This Row],[ITEMNMBR]]","v":0},"Red Poppies with BB Pick","RETAIL",100]
[null,{"$f":"Table_prices[[#This Row],[ITEMNMBR]]","v":0},"Red Rose Single Picks for Cesar's Order","RETAIL",100]
[null,{"$f":"Table_prices[[#This Row],[ITEMNMBR]]","v":0},"LED Puffer Ball Asst","RETAIL",100]
[null,{"$f":"Table_prices[[#This Row],[ITEMNMBR]]","v":0},"BALL CATCH GAME","RETAIL",100]
[null,{"$f":"Table_prices[[#This Row],[ITEMNMBR]]","v":0},"Jot Fun Shapes Pencil Sharpeners","RETAIL",100]
[null,{"$f":"Table_prices[[#This Row],[ITEMNMBR]]","v":0},"Purple / Lavender Pansies - single stem","RETAIL",100]
[null,{"$f":"Table_prices[[#This Row],[ITEMNMBR]]","v":0},"Orange / Cream Pansies - single stem","RETAIL",100]
[null,{"$f":"Table_prices[[#This Row],[ITEMNMBR]]","v":0},"Red Rose Bush Picks - Cut 1.5 inches below Calyx","RETAIL",100]
[null,{"$f":"Table_prices[[#This Row],[ITEMNMBR]]","v":0},"Dave's Gourmet Y Chipotle Smoked Jalapeno Powder","RETAIL",100]
[null,{"$f":"Table_prices[[#This Row],[ITEMNMBR]]","v":0},"Dave's Gourmet Spicy Heirloom Tomato Sauce 25.5oz","RETAIL",100]
[null,{"$f":"Table_prices[[#This Row],[ITEMNMBR]]","v":0},"Deluxe","RETAIL",0]
[null,{"$f":"Table_prices[[#This Row],[ITEMNMBR]]","v":0},"DII - Design Imports Checkers Flame Red Dishtowel","RETAIL",100]
[null,{"$f":"Table_prices[[#This Row],[ITEMNMBR]]","v":0},"DII - Design Imports Classic Stripe Cobalt Blue Dishtowel","RETAIL",100]
[null,{"$f":"Table_prices[[#This Row],[ITEMNMBR]]","v":0},"DII - Design Imports Nantucket Check Cobalt Blue Dishtowel","RETAIL",100]
[null,{"$f":"Table_prices[[#This Row],[ITEMNMBR]]","v":0},"DII - Design Imports Classic Stripe Forest Green Dishtowel","RETAIL",100]
[null,{"$f":"Table_prices[[#This Row],[ITEMNMBR]]","v":0},"DII - Design Imports Nantucket Check Forest Green Dishtowel","RETAIL",100]
[null,{"$f":"Table_prices[[#This Row],[ITEMNMBR]]","v":0},"DII - Design Imports ProCheck Sage Green Dishtowel","RETAIL",100]
[null,{"$f":"Table_prices[[#This Row],[ITEMNMBR]]","v":0},"DII - Design Imports ProPlaid Sage Green Dishtowel","RETAIL",100]
[null,{"$f":"Table_prices[[#This Row],[ITEMNMBR]]","v":0},"DII - Design Imports ProCheck Deep Red Dishtowel","RETAIL",100]
[null,{"$f":"Table_prices[[#This Row],[ITEMNMBR]]","v":0},"DII - Design Imports ProPlaid Deep Red Dishtowel","RETAIL",100]
[null,{"$f":"Table_prices[[#This Row],[ITEMNMBR]]","v":0},"DII - Design Imports Red  Nantucket Check","RETAIL",100]
[null,{"$f":"Table_prices[[#This Row],[ITEMNMBR]]","v":0},"Design Imports Daffodil Twill Stripe Dishtowel","RETAIL",100]
[null,{"$f":"Table_prices[[#This Row],[ITEMNMBR]]","v":0},"Design Imports Petite Pane Dishtowel Spice","RETAIL",100]
[null,{"$f":"Table_prices[[#This Row],[ITEMNMBR]]","v":0},"Design Imports Petite Pane Dishtowel Sage","RETAIL",100]
[null,{"$f":"Table_prices[[#This Row],[ITEMNMBR]]","v":0},"Scrolling Leaves Daffodil Towel","RETAIL",100]
[null,{"$f":"Table_prices[[#This Row],[ITEMNMBR]]","v":0},"Lime Zest Nantucket Check Dishtowel by DII -","RETAIL",100]
[null,{"$f":"Table_prices[[#This Row],[ITEMNMBR]]","v":0},"Daffodil Nantucket Check Dishtowel -","RETAIL",100]
[null,{"$f":"Table_prices[[#This Row],[ITEMNMBR]]","v":0},"Tango Red \"Dobby Plaid\" Dishtowel by","RETAIL",100]
[null,{"$f":"Table_prices[[#This Row],[ITEMNMBR]]","v":0},"Sage Herb Check  Dishtowel","RETAIL",100]
[null,{"$f":"Table_prices[[#This Row],[ITEMNMBR]]","v":0},"Daffodil Sommerset Stripe Dishtowel by DII -","RETAIL",100]
[null,{"$f":"Table_prices[[#This Row],[ITEMNMBR]]","v":0},"Vineyard Green Window Pane Dishtowell by DII -","RETAIL",100]
[null,{"$f":"Table_prices[[#This Row],[ITEMNMBR]]","v":0},"Home Chef Tango Dishtowel by DII","RETAIL",100]
[null,{"$f":"Table_prices[[#This Row],[ITEMNMBR]]","v":0},"Grass Green Striped Towel by Design Imports","RETAIL",100]
[null,{"$f":"Table_prices[[#This Row],[ITEMNMBR]]","v":0},"Natural Pecan Brittle by Dillion's Gourmet - 5 oz. -","RETAIL",100]
[null,{"$f":"Table_prices[[#This Row],[ITEMNMBR]]","v":0},"Peanut Roll by Dillion's Gourmet - 3 oz. -","RETAIL",100]
[null,{"$f":"Table_prices[[#This Row],[ITEMNMBR]]","v":0},"Dillion Milk Chocolate Pecans 3oz","RETAIL",100]
[null,{"$f":"Table_prices[[#This Row],[ITEMNMBR]]","v":0},"Dillion MIlk Chocolate Peanuts 3oz","RETAIL",100]
[null,{"$f":"Table_prices[[#This Row],[ITEMNMBR]]","v":0},"Dillion Peppermint Divinity 1.7oz","RETAIL",100]
[null,{"$f":"Table_prices[[#This Row],[ITEMNMBR]]","v":0},"Dillon Prailine Pecan Tray 2.5oz","RETAIL",100]
[null,{"$f":"Table_prices[[#This Row],[ITEMNMBR]]","v":0},"Pecan Roll by Dillon's Candy - 2 oz. -","RETAIL",100]
[null,{"$f":"Table_prices[[#This Row],[ITEMNMBR]]","v":0},"Peppered Beef Jerky by Divine Bovine - 2 oz. -","RETAIL",100]
[null,{"$f":"Table_prices[[#This Row],[ITEMNMBR]]","v":0},"Fiery Hot, Wild Honey Teriyaki Beef Jerky by Divine Bovine - 2 oz. -","RETAIL",100]
[null,{"$f":"Table_prices[[#This Row],[ITEMNMBR]]","v":0},"Custom: snack  (Dave)","RETAIL",50]
[null,{"$f":"Table_prices[[#This Row],[ITEMNMBR]]","v":0},"Custom: Festive Favorites with added csi - usb battery back-up (Dave)","RETAIL",39.99]
[null,{"$f":"Table_prices[[#This Row],[ITEMNMBR]]","v":0},"Custom: Circles - Popcorn in Snowman Tin -  2gal (Dave)","RETAIL",47.49]
[null,{"$f":"Table_prices[[#This Row],[ITEMNMBR]]","v":0},"Custom: Circles - Popcorn in Snowman Tin - 3.5gal (Dave)","RETAIL",56.99]
[null,{"$f":"Table_prices[[#This Row],[ITEMNMBR]]","v":0},"Custom: Circles - Popcorn in Snowflake Tin -  6.5gal (Dave)","RETAIL",66.489999999999995]
[null,{"$f":"Table_prices[[#This Row],[ITEMNMBR]]","v":0},"Custom: Ravenswood  - Gluten free items  (Dave)","RETAIL",69.989999999999995]
[null,{"$f":"Table_prices[[#This Row],[ITEMNMBR]]","v":0},"Custom: GC Racing - Snack Classic (Dave)","RETAIL",59.99]
[null,{"$f":"Table_prices[[#This Row],[ITEMNMBR]]","v":0},"Custom: Care Package (Dave)","RETAIL",27]
[null,{"$f":"Table_prices[[#This Row],[ITEMNMBR]]","v":0},"Custom: Janine Stevens Reality - Cakebread Basket (Dave)","RETAIL",305.99]
[null,{"$f":"Table_prices[[#This Row],[ITEMNMBR]]","v":0},"Custom: Janine Stevens Reality - Cakebread Basket 2  (Dave)","RETAIL",282.99]
[null,{"$f":"Table_prices[[#This Row],[ITEMNMBR]]","v":0},"Custom: Nurses Appreciation Basket - large (Dave)","RETAIL",78]
[null,{"$f":"Table_prices[[#This Row],[ITEMNMBR]]","v":0},"Custom: Champagne & Truffles (Dave)","RETAIL",139.99]
[null,{"$f":"Table_prices[[#This Row],[ITEMNMBR]]","v":0},"Custom:PEB inc. - Cristal,  Dried Fruits, Nuts & Chocolates - 2 glasses  (Dave)","RETAIL",463.98]
[null,{"$f":"Table_prices[[#This Row],[ITEMNMBR]]","v":0},"Custom:PEB inc. - Dom, Dried Fruits, Nuts & Chocolates - 1 glass (Dave)","RETAIL",319.98]
[null,{"$f":"Table_prices[[#This Row],[ITEMNMBR]]","v":0},"Custom:PEB inc. - Dom, Dried Fruits, Nuts & Chocolates - 2 glasses  (Dave)","RETAIL",322.98]
[null,{"$f":"Table_prices[[#This Row],[ITEMNMBR]]","v":0},"Glider Airplane 19\"","RETAIL",100]
[null,{"$f":"Table_prices[[#This Row],[ITEMNMBR]]","v":0},"Sudoku Puzzle Book","RETAIL",100]
[null,{"$f":"Table_prices[[#This Row],[ITEMNMBR]]","v":0},"Instant Hand Sanitizer","RETAIL",100]
[null,{"$f":"Table_prices[[#This Row],[ITEMNMBR]]","v":0},"Plastic LED Flashlights, 5\"","RETAIL",100]
[null,{"$f":"Table_prices[[#This Row],[ITEMNMBR]]","v":0},"Panasonic  AA Alkaline Plus Batteries","RETAIL",100]
[null,{"$f":"Table_prices[[#This Row],[ITEMNMBR]]","v":0},"Colgate Easy to Grip Medium Toothbrush","RETAIL",100]
[null,{"$f":"Table_prices[[#This Row],[ITEMNMBR]]","v":0},"2.7oz Colgate Junior Bubble Fruit Toothpaste","RETAIL",100]
[null,{"$f":"Table_prices[[#This Row],[ITEMNMBR]]","v":0},"2 pk Splash and Swim Goggles","RETAIL",100]
[null,{"$f":"Table_prices[[#This Row],[ITEMNMBR]]","v":0},"AAA Batteries","RETAIL",100]
[null,{"$f":"Table_prices[[#This Row],[ITEMNMBR]]","v":0},"White Glue 4 oz","RETAIL",100]
[null,{"$f":"Table_prices[[#This Row],[ITEMNMBR]]","v":0},"Big Print Find- A Wor Puzzle Books","RETAIL",100]
[null,{"$f":"Table_prices[[#This Row],[ITEMNMBR]]","v":0},"Pencil Sharpener -","RETAIL",100]
[null,{"$f":"Table_prices[[#This Row],[ITEMNMBR]]","v":0},"Word Search Book -","RETAIL",100]
[null,{"$f":"Table_prices[[#This Row],[ITEMNMBR]]","v":0},"Body Net (assorted colors)","RETAIL",100]
[null,{"$f":"Table_prices[[#This Row],[ITEMNMBR]]","v":0},"Glitter Glue Tubes by Dollar Tree - 10 count pack -","RETAIL",100]
[null,{"$f":"Table_prices[[#This Row],[ITEMNMBR]]","v":0},"Custom: Remax - Snack Classic  (Dave)","RETAIL",59.99]
[null,{"$f":"Table_prices[[#This Row],[ITEMNMBR]]","v":0},"Custom: Remax - Classic Champagne  (Dave)","RETAIL",64.989999999999995]
[null,{"$f":"Table_prices[[#This Row],[ITEMNMBR]]","v":0},"Custom - Stevens Realty -  Weekend in Paris - Dom xs 2","RETAIL",527.99]
[null,{"$f":"Table_prices[[#This Row],[ITEMNMBR]]","v":0},"Custom: Ticker Tags - Champagne and Snacks with CSI- ( t shirt & book) (Dave)","RETAIL",64.989999999999995]
[null,{"$f":"Table_prices[[#This Row],[ITEMNMBR]]","v":0},"Custom: Whyte Hirschboeck Dudek S.C - snack basket (Dave)","RETAIL",65.989999999999995]
[null,{"$f":"Table_prices[[#This Row],[ITEMNMBR]]","v":0},"Dorothy Biddle Service Good Grip Garden Gloves N/A","RETAIL",100]
[null,{"$f":"Table_prices[[#This Row],[ITEMNMBR]]","v":0},"Custom 5087 with wildhorse merlot ( Dave)","RETAIL",92.99]
[null,{"$f":"Table_prices[[#This Row],[ITEMNMBR]]","v":0},"Custom Easter for Caroline","RETAIL",149.99]
[null,{"$f":"Table_prices[[#This Row],[ITEMNMBR]]","v":0},"Custom : Cleary Gottlieb Steen & Hamilton LLP -  Spa (Dave / R.Huston)","RETAIL",100]
[null,{"$f":"Table_prices[[#This Row],[ITEMNMBR]]","v":0},"Custom : Easter Basket for Cole (Billie / Dave)","RETAIL",150]
[null,{"$f":"Table_prices[[#This Row],[ITEMNMBR]]","v":0},"Custom Fruit with Candy for David","RETAIL",60.99]
[null,{"$f":"Table_prices[[#This Row],[ITEMNMBR]]","v":0},"Custom BBQ- Golf - Snacks & Wine (Dave)","RETAIL",238]
[null,{"$f":"Table_prices[[#This Row],[ITEMNMBR]]","v":0},"Custom Bountiful swapping items (Dave)","RETAIL",134.99]
[null,{"$f":"Table_prices[[#This Row],[ITEMNMBR]]","v":0},"Custom Easter for Katie","RETAIL",149.99]
[null,{"$f":"Table_prices[[#This Row],[ITEMNMBR]]","v":0},"Custom : Candy!!! (Dave)","RETAIL",34]
[null,{"$f":"Table_prices[[#This Row],[ITEMNMBR]]","v":0},"Custom Moet & Snacks ( Dave)","RETAIL",125]
[null,{"$f":"Table_prices[[#This Row],[ITEMNMBR]]","v":0},"Custom Easter for Nicholas","RETAIL",149.99]
[null,{"$f":"Table_prices[[#This Row],[ITEMNMBR]]","v":0},"Custom : Easter Basket for Tommy  (Billie / Dave)","RETAIL",150]
[null,{"$f":"Table_prices[[#This Row],[ITEMNMBR]]","v":0},"Custom corp. showstopper with 2 Ravenswood ( Dave)","RETAIL",174.99]
[null,{"$f":"Table_prices[[#This Row],[ITEMNMBR]]","v":0},"Custom : Easter Basket for William (Billie / Dave)","RETAIL",150]
[null,{"$f":"Table_prices[[#This Row],[ITEMNMBR]]","v":0},"Rock Candy Swizzle Stick by Dryden & Palmer -","RETAIL",100]
[null,{"$f":"Table_prices[[#This Row],[ITEMNMBR]]","v":0},"Dryden & Palmer Caramel Swizzle Stick Coffee Sweetner 10pk","RETAIL",100]
[null,{"$f":"Table_prices[[#This Row],[ITEMNMBR]]","v":0},"Dryden & Palmer Pomegranate Swizzle Sticks Tea Sweetner 10pk","RETAIL",100]
[null,{"$f":"Table_prices[[#This Row],[ITEMNMBR]]","v":0},"Single Caramel Demitasse Stick Wrapped","RETAIL",100]
[null,{"$f":"Table_prices[[#This Row],[ITEMNMBR]]","v":0},"Apple Rock Candy on a Stick by Dryden & Palmer -","RETAIL",100]
[null,{"$f":"Table_prices[[#This Row],[ITEMNMBR]]","v":0},"Blueberry Rock Candy on a Stick by Dryden & Palmer - 6 1/2\" -","RETAIL",100]
[null,{"$f":"Table_prices[[#This Row],[ITEMNMBR]]","v":0},"Amber Demitasse Sticks Wrapped by Dryden & Palmer -","RETAIL",100]
[null,{"$f":"Table_prices[[#This Row],[ITEMNMBR]]","v":0},"Watermelon Rock Candy Stick by Dryden & Palmer -","RETAIL",100]
[null,{"$f":"Table_prices[[#This Row],[ITEMNMBR]]","v":0},"East Shore Specialty Foods Dipping Mustard - Sweet & Tangy 5 oz.","RETAIL",100]
[null,{"$f":"Table_prices[[#This Row],[ITEMNMBR]]","v":0},"Dipping Pretzels by East Shore - 6 oz. -","RETAIL",100]
[null,{"$f":"Table_prices[[#This Row],[ITEMNMBR]]","v":0},"East Shore Dipping Pretzels - Honey Wheat 5 oz.","RETAIL",100]
[null,{"$f":"Table_prices[[#This Row],[ITEMNMBR]]","v":0},"Seasoned Pretzels (in white bag) by East Shore Pretzels - 4 oz. -","RETAIL",100]
[null,{"$f":"Table_prices[[#This Row],[ITEMNMBR]]","v":0},"Dipping Pretzels (green bag) by East Shore - 4oz. -","RETAIL",100]
[null,{"$f":"Table_prices[[#This Row],[ITEMNMBR]]","v":0},"Eaton Farm Confectioners Peanut butter LUST bar 2 oz.","RETAIL",100]
[null,{"$f":"Table_prices[[#This Row],[ITEMNMBR]]","v":0},"Camp Kids' Activity Book by Education Outdoors - 48 pages -","RETAIL",100]
[null,{"$f":"Table_prices[[#This Row],[ITEMNMBR]]","v":0},"S'Mores Card Game by Education Outdoors - 69 cards plus Instruction card -","RETAIL",100]
[null,{"$f":"Table_prices[[#This Row],[ITEMNMBR]]","v":0},"Oatcake Biscuits by Effie's Homemade - 7.2 oz. -","RETAIL",100]
[null,{"$f":"Table_prices[[#This Row],[ITEMNMBR]]","v":0},"Elena's Arrabbiata-Tomatos with Hot Red Pepper - sauce 16 oz.","RETAIL",100]
[null,{"$f":"Table_prices[[#This Row],[ITEMNMBR]]","v":0},"Elena's Basilicata - Tom & Sweet Basil  sauce 26.5 oz.","RETAIL",100]
[null,{"$f":"Table_prices[[#This Row],[ITEMNMBR]]","v":0},"Elena's Bread Dipping Oil-small 4.8 oz.","RETAIL",100]
[null,{"$f":"Table_prices[[#This Row],[ITEMNMBR]]","v":0},"Elena's Aglio Garlic - sauce 16 oz.","RETAIL",100]
[null,{"$f":"Table_prices[[#This Row],[ITEMNMBR]]","v":0},"Elena's Napoli Pizza Sauce 16oz","RETAIL",100]
[null,{"$f":"Table_prices[[#This Row],[ITEMNMBR]]","v":0},"Tomato Bruschetta by Elki - 12 oz. -","RETAIL",100]
[null,{"$f":"Table_prices[[#This Row],[ITEMNMBR]]","v":0},"Mediterranean Feta Cream Cheese Dip","RETAIL",100]
[null,{"$f":"Table_prices[[#This Row],[ITEMNMBR]]","v":0},"El Paso Chile Co. Margarita Salt 16 oz.","RETAIL",100]
[null,{"$f":"Table_prices[[#This Row],[ITEMNMBR]]","v":0},"Elsa's Story Raspberry Filled Butter Cookies 4.76 oz","RETAIL",100]
[null,{"$f":"Table_prices[[#This Row],[ITEMNMBR]]","v":0},"Elsa's Story Cappuccino Pecan Butter Cookies 4.76 oz","RETAIL",100]
[null,{"$f":"Table_prices[[#This Row],[ITEMNMBR]]","v":0},"Elsa's Story Lemon Butter Cookies 4.76 oz","RETAIL",100]
[null,{"$f":"Table_prices[[#This Row],[ITEMNMBR]]","v":0},"Elsa's Story Black Pepper Crisp Baked Crackers 4.41oz","RETAIL",100]
[null,{"$f":"Table_prices[[#This Row],[ITEMNMBR]]","v":0},"Elsa's Story  Strawberry Filled Butter Cookies 4.76 oz","RETAIL",100]
[null,{"$f":"Table_prices[[#This Row],[ITEMNMBR]]","v":0},"Blueberry Filled Butter Cookies by Elsa's - 4.76 oz. -","RETAIL",100]
[null,{"$f":"Table_prices[[#This Row],[ITEMNMBR]]","v":0},"Employee Candied Fruit Fusion","RETAIL",15.99]
[null,{"$f":"Table_prices[[#This Row],[ITEMNMBR]]","v":0},"Employee Backyard BBQ Sampler","RETAIL",15.99]
[null,{"$f":"Table_prices[[#This Row],[ITEMNMBR]]","v":0},"Employee Holiday Samp","RETAIL",16.989999999999998]
[null,{"$f":"Table_prices[[#This Row],[ITEMNMBR]]","v":0},"Employee Chocolate Sampler","RETAIL",19.989999999999998]
[null,{"$f":"Table_prices[[#This Row],[ITEMNMBR]]","v":0},"Employee Purchased 1 Gallon Non Supreme Popcorn Tin","RETAIL",12.99]
[null,{"$f":"Table_prices[[#This Row],[ITEMNMBR]]","v":0},"Employee Purchased 1 Gallon Supreme Popcorn Tin","RETAIL",14.99]
[null,{"$f":"Table_prices[[#This Row],[ITEMNMBR]]","v":0},"Employee Bag o Popcorn 1 Gallon Non Supreme","RETAIL",6.99]
[null,{"$f":"Table_prices[[#This Row],[ITEMNMBR]]","v":0},"Employee Bag o Popcorn 1 Gallon Supreme","RETAIL",9.99]
[null,{"$f":"Table_prices[[#This Row],[ITEMNMBR]]","v":0},"Employee Thanksgiving Sampler","RETAIL",15.99]
[null,{"$f":"Table_prices[[#This Row],[ITEMNMBR]]","v":0},"Employee Purchased 2 Gallon Non Supreme Popcorn Tin","RETAIL",15.99]
[null,{"$f":"Table_prices[[#This Row],[ITEMNMBR]]","v":0},"Employee Purchased 2 Gallon Supreme Popcorn Tin","RETAIL",19.989999999999998]
[null,{"$f":"Table_prices[[#This Row],[ITEMNMBR]]","v":0},"Employee Purchased 3.5 Gallon Non Supreme Popcorn Tin","RETAIL",19.989999999999998]
[null,{"$f":"Table_prices[[#This Row],[ITEMNMBR]]","v":0},"Employee Purchased 3.5 Gallon Supreme Popcorn Tin","RETAIL",23.99]
[null,{"$f":"Table_prices[[#This Row],[ITEMNMBR]]","v":0},"Employee Bag o Popcorn 2 Gallon Non Supreme","RETAIL",9.99]
[null,{"$f":"Table_prices[[#This Row],[ITEMNMBR]]","v":0},"Employee Bag o Popcorn 2 Gallon Supreme","RETAIL",13.99]
[null,{"$f":"Table_prices[[#This Row],[ITEMNMBR]]","v":0},"Employee Bag o Popcorn 3.5 Gallon Non Supreme","RETAIL",12.99]
[null,{"$f":"Table_prices[[#This Row],[ITEMNMBR]]","v":0},"Employee Bag o Popcorn 3.5 Gallon Supreme","RETAIL",16.989999999999998]
[null,{"$f":"Table_prices[[#This Row],[ITEMNMBR]]","v":0},"Employee Critic's Choice Sampler","RETAIL",15.99]
[null,{"$f":"Table_prices[[#This Row],[ITEMNMBR]]","v":0},"Organic Red Berry Sparkling Cider by Val de France - 25.4 oz. -","RETAIL",100]
[null,{"$f":"Table_prices[[#This Row],[ITEMNMBR]]","v":0},"Organic Sparkling Cider Red Berry","RETAIL",100]
[null,{"$f":"Table_prices[[#This Row],[ITEMNMBR]]","v":0},"Raspberry Sparkling Cider by Epicurean Beverages - 750 ml -","RETAIL",100]
[null,{"$f":"Table_prices[[#This Row],[ITEMNMBR]]","v":0},"\"Silli Gorilli\" Stuffed Gorilla -","RETAIL",100]
[null,{"$f":"Table_prices[[#This Row],[ITEMNMBR]]","v":0},"Beaumont","RETAIL",100]
[null,{"$f":"Table_prices[[#This Row],[ITEMNMBR]]","v":0},"Phillip the Frog Prince - 6\" sitting -","RETAIL",100]
[null,{"$f":"Table_prices[[#This Row],[ITEMNMBR]]","v":0},"\"Tucker\" Stuffed Teddy Bear - 10.5\" tall -","RETAIL",100]
[null,{"$f":"Table_prices[[#This Row],[ITEMNMBR]]","v":0},"Budder Bears 10\"","RETAIL",7.99]
[null,{"$f":"Table_prices[[#This Row],[ITEMNMBR]]","v":0},"Brown Bears with  Plaid Bow (FAM006)","RETAIL",8.99]
[null,{"$f":"Table_prices[[#This Row],[ITEMNMBR]]","v":0},"Tan Bears with plaid Bow (FAM006)","RETAIL",8.99]
[null,{"$f":"Table_prices[[#This Row],[ITEMNMBR]]","v":0},"Birthday Celebration","RETAIL",10]
[null,{"$f":"Table_prices[[#This Row],[ITEMNMBR]]","v":0},"Classic Candy Gift Crate","RETAIL",24.99]
[null,{"$f":"Table_prices[[#This Row],[ITEMNMBR]]","v":0},"New England Breakfast Gift Basket Classic","RETAIL",59.99]
[null,{"$f":"Table_prices[[#This Row],[ITEMNMBR]]","v":0},"'Mini' Snack Gift Basket","RETAIL",24.99]
[null,{"$f":"Table_prices[[#This Row],[ITEMNMBR]]","v":0},"Timeless Treats Gift Tower","RETAIL",39.99]
[null,{"$f":"Table_prices[[#This Row],[ITEMNMBR]]","v":0},"Ghost Chile Popcorn","RETAIL",4.99]
[null,{"$f":"Table_prices[[#This Row],[ITEMNMBR]]","v":0},"Feridies Peanuts-Red skins-tin 9 oz.","RETAIL",100]
[null,{"$f":"Table_prices[[#This Row],[ITEMNMBR]]","v":0},"Chocolate Covered Peanuts (red striped tin) by Feridies - 9oz. -","RETAIL",100]
[null,{"$f":"Table_prices[[#This Row],[ITEMNMBR]]","v":0},"Roasted and Salted Peanuts (gold trim box) by Feridies - 7 oz. -","RETAIL",100]
[null,{"$f":"Table_prices[[#This Row],[ITEMNMBR]]","v":0},"Roasted and Salted Peanuts in Holiday Can by Feridies - 9 oz. -","RETAIL",100]
[null,{"$f":"Table_prices[[#This Row],[ITEMNMBR]]","v":0},"5 O'Clock Crunch by Feridies - 6 oz. -","RETAIL",100]
[null,{"$f":"Table_prices[[#This Row],[ITEMNMBR]]","v":0},"Seaside Crunch Snack Mix by Feridies - 8 oz. -","RETAIL",100]
[null,{"$f":"Table_prices[[#This Row],[ITEMNMBR]]","v":0},"Shamrock Beaded Necklace - 33\" -","RETAIL",100]
[null,{"$f":"Table_prices[[#This Row],[ITEMNMBR]]","v":0},"Colorful Bright Assorted Plastic Easter Eggs -","RETAIL",100]
[null,{"$f":"Table_prices[[#This Row],[ITEMNMBR]]","v":0},"Fine Foods International sevruga caviar 2 oz","RETAIL",300]
[null,{"$f":"Table_prices[[#This Row],[ITEMNMBR]]","v":0},"Fiesta Toy Sitting Bunny with Carrot Patch Belly 10.5 oz","RETAIL",100]
[null,{"$f":"Table_prices[[#This Row],[ITEMNMBR]]","v":0},"11\" 2 Asst Sitting Bunnies, Beige, Brown","RETAIL",100]
[null,{"$f":"Table_prices[[#This Row],[ITEMNMBR]]","v":0},"Coffee Rub 2.5 oz","RETAIL",100]
[null,{"$f":"Table_prices[[#This Row],[ITEMNMBR]]","v":0},"French Sea Salt with Spices 2.5 oz","RETAIL",100]
[null,{"$f":"Table_prices[[#This Row],[ITEMNMBR]]","v":0},"Everyday Rub All Purpose Seasoning by Fire & Flavor -  2.5 oz. -","RETAIL",100]
[null,{"$f":"Table_prices[[#This Row],[ITEMNMBR]]","v":0},"French Mustard & Herb skewers","RETAIL",100]
[null,{"$f":"Table_prices[[#This Row],[ITEMNMBR]]","v":0},"SKEWERS AND ASIAN RUB","RETAIL",100]
[null,{"$f":"Table_prices[[#This Row],[ITEMNMBR]]","v":0},"Cedar Grilling Planks by Fire & Flavor - 2 pack -","RETAIL",100]
[null,{"$f":"Table_prices[[#This Row],[ITEMNMBR]]","v":0},"Plastic Cultivator by Fiskars 10.5\"","RETAIL",100]
[null,{"$f":"Table_prices[[#This Row],[ITEMNMBR]]","v":0},"Plastic Trowel by Fiskars 11.5\"","RETAIL",100]
[null,{"$f":"Table_prices[[#This Row],[ITEMNMBR]]","v":0},"Plastic Transplanter by Fiskers","RETAIL",100]
[null,{"$f":"Table_prices[[#This Row],[ITEMNMBR]]","v":0},"Flowers Describe:","RETAIL",100]
[null,{"$f":"Table_prices[[#This Row],[ITEMNMBR]]","v":0}," Ice Cream Sprinkles 6 cell by Fox Run Kitchens - 3.2 oz. -","RETAIL",100]
[null,{"$f":"Table_prices[[#This Row],[ITEMNMBR]]","v":0},"Party Sprinkles 6 cell by Fox Run Kitchens - 3.2 oz. -","RETAIL",100]
[null,{"$f":"Table_prices[[#This Row],[ITEMNMBR]]","v":0},"Ice Cream Scooper by Fox Run Kitchens Super Dooper","RETAIL",100]
[null,{"$f":"Table_prices[[#This Row],[ITEMNMBR]]","v":0},"Fox Run Kitchens Earthenware Soup Crock with Lid","RETAIL",100]
[null,{"$f":"Table_prices[[#This Row],[ITEMNMBR]]","v":0},"Ironwood Gourmet Bread Board with Dipping Bowl 12\"x9.5\"x.5\"","RETAIL",100]
[null,{"$f":"Table_prices[[#This Row],[ITEMNMBR]]","v":0},"Fox Run Kitchens 12\" Pizza Stone Set 21\"","RETAIL",100]
[null,{"$f":"Table_prices[[#This Row],[ITEMNMBR]]","v":0},"Fox Run Kitchens Party Stnd Bake Cup","RETAIL",100]
[null,{"$f":"Table_prices[[#This Row],[ITEMNMBR]]","v":0},"Fox Run Kitchens Cupcake to Go","RETAIL",100]
[null,{"$f":"Table_prices[[#This Row],[ITEMNMBR]]","v":0},"Fox Run Kitchens Non-stick Cupcake Pan 12ct cups","RETAIL",100]
[null,{"$f":"Table_prices[[#This Row],[ITEMNMBR]]","v":0},"Touch of Oil Sprayer","RETAIL",100]
[null,{"$f":"Table_prices[[#This Row],[ITEMNMBR]]","v":0},"Foxwoods Custom Basket 1","RETAIL",21]
[null,{"$f":"Table_prices[[#This Row],[ITEMNMBR]]","v":0},"Foxwoods Custom Basket 5","RETAIL",37]
[null,{"$f":"Table_prices[[#This Row],[ITEMNMBR]]","v":0},"Sunflower Seeds by Frito Lay - 2.13 oz. -","RETAIL",100]
[null,{"$f":"Table_prices[[#This Row],[ITEMNMBR]]","v":0},"Cheetos by Frito Lay - 1 oz. -","RETAIL",100]
[null,{"$f":"Table_prices[[#This Row],[ITEMNMBR]]","v":0},"Grandma's Chocolate Chip Cookies by Frito Lay - 2 pack - 2.88 oz. -","RETAIL",100]
[null,{"$f":"Table_prices[[#This Row],[ITEMNMBR]]","v":0},"Cracker Jax by Frito Lay - 2.88 oz. -","RETAIL",100]
[null,{"$f":"Table_prices[[#This Row],[ITEMNMBR]]","v":0},"French Onion Sunchips by Frito Lay - 2 oz. -","RETAIL",100]
[null,{"$f":"Table_prices[[#This Row],[ITEMNMBR]]","v":0},"Frontera Foods Chipolte with Lime Tortilla Chips 9 oz.","RETAIL",100]
[null,{"$f":"Table_prices[[#This Row],[ITEMNMBR]]","v":0},"Frontera Foods Guacamole Mix 8 oz.","RETAIL",100]
[null,{"$f":"Table_prices[[#This Row],[ITEMNMBR]]","v":0},"New Mexico Red Pepper Sesame Sauce by Frontera -  12 oz. -","RETAIL",100]
[null,{"$f":"Table_prices[[#This Row],[ITEMNMBR]]","v":0},"Frontera Foods Tortilla Chips - Cracked Pepper and Sea Salt 9 oz.","RETAIL",100]
[null,{"$f":"Table_prices[[#This Row],[ITEMNMBR]]","v":0},"Frontera Foods Organic Blue Corn Chips Snack Size 1.5 oz","RETAIL",100]
[null,{"$f":"Table_prices[[#This Row],[ITEMNMBR]]","v":0},"Frontera Black Bean Chipotle Tortilla Chips 9 oz","RETAIL",100]
[null,{"$f":"Table_prices[[#This Row],[ITEMNMBR]]","v":0},"Frontera Tortilla Chips Any Flavor 9 oz","RETAIL",100]
[null,{"$f":"Table_prices[[#This Row],[ITEMNMBR]]","v":0},"Salsa Con Queso Mild  Dip by Frontera Foods - 16 oz. -","RETAIL",100]
[null,{"$f":"Table_prices[[#This Row],[ITEMNMBR]]","v":0},"Chipotle Pineapple Sauce","RETAIL",100]
[null,{"$f":"Table_prices[[#This Row],[ITEMNMBR]]","v":0},"Frontier Soups Pesto Italian Pasta Salad Mix 13 oz.","RETAIL",100]
[null,{"$f":"Table_prices[[#This Row],[ITEMNMBR]]","v":0},"Frontier Soups Sesame Asian Pasta Salad Mix 13 oz.","RETAIL",100]
[null,{"$f":"Table_prices[[#This Row],[ITEMNMBR]]","v":0},"Frontier Soups Connecticut Cottage Chicken Noodle Soup™ 4.5 oz.","RETAIL",100]
[null,{"$f":"Table_prices[[#This Row],[ITEMNMBR]]","v":0},"Frontier Soups Dakota Territory Beef Barley Bean Stew™ 14 oz.","RETAIL",100]
[null,{"$f":"Table_prices[[#This Row],[ITEMNMBR]]","v":0},"Frontier Soups Idaho Outpost Potato Leek Soup™ 4 oz.","RETAIL",100]
[null,{"$f":"Table_prices[[#This Row],[ITEMNMBR]]","v":0},"Illinois Prairie Corn Chowder by Frontier Soups - 7 oz. -","RETAIL",100]
[null,{"$f":"Table_prices[[#This Row],[ITEMNMBR]]","v":0},"Frontier Soups Italian Wedding Soup 5 oz.","RETAIL",100]
[null,{"$f":"Table_prices[[#This Row],[ITEMNMBR]]","v":0},"Frontier Soups Michigan Ski Country Chili™ 15 oz.","RETAIL",100]
[null,{"$f":"Table_prices[[#This Row],[ITEMNMBR]]","v":0}," New England Seaport Fisherman's Stew™ by Frontier Soups - 10 oz. -","RETAIL",100]
[null,{"$f":"Table_prices[[#This Row],[ITEMNMBR]]","v":0},"Frontier Soups Roasted Corn Polenta a la Roma 10 oz","RETAIL",100]
[null,{"$f":"Table_prices[[#This Row],[ITEMNMBR]]","v":0},"South of the Border Tortilla Soup by Frontier Soups - 4.5 oz. -","RETAIL",100]
[null,{"$f":"Table_prices[[#This Row],[ITEMNMBR]]","v":0},"Frontier Soups Virginia Blue Ridge Broccoli Chedder Soup™ 4.25 oz.","RETAIL",100]
[null,{"$f":"Table_prices[[#This Row],[ITEMNMBR]]","v":0},"Frontier Soups Washington State Squash & Lentil Whole Grain Soup™ 11 oz.","RETAIL",100]
[null,{"$f":"Table_prices[[#This Row],[ITEMNMBR]]","v":0},"Frontier Soups Wisconsin Lakeshore Wild Rice Soup™ 6 oz.","RETAIL",100]
[null,{"$f":"Table_prices[[#This Row],[ITEMNMBR]]","v":0},"Frontier Soups Mississippi Delta Tomato Rice Soup 4 oz","RETAIL",100]
[null,{"$f":"Table_prices[[#This Row],[ITEMNMBR]]","v":0},"Braeburn Apples","RETAIL",100]
[null,{"$f":"Table_prices[[#This Row],[ITEMNMBR]]","v":0},"Classic Pink & Blue Cotton Candy by Fun Sweets - 2 oz. -","RETAIL",100]
[null,{"$f":"Table_prices[[#This Row],[ITEMNMBR]]","v":0},"Tiramisu Wafer Roll Petites by Dolcetto - 5 oz. -","RETAIL",100]
[null,{"$f":"Table_prices[[#This Row],[ITEMNMBR]]","v":0},"Chocolate Wafer Bites by Dolcetto - 4.2 oz","RETAIL",100]
[null,{"$f":"Table_prices[[#This Row],[ITEMNMBR]]","v":0},"Mocha Wafer Roll Petites by Dolcetto - 5 oz. -","RETAIL",100]
[null,{"$f":"Table_prices[[#This Row],[ITEMNMBR]]","v":0},"Vanilla Wafer Roll by Dolcetto - 4.5 oz. -","RETAIL",100]
[null,{"$f":"Table_prices[[#This Row],[ITEMNMBR]]","v":0},"Chocolate Wafer Squares by Dolcetto - 6.3oz -","RETAIL",100]
[null,{"$f":"Table_prices[[#This Row],[ITEMNMBR]]","v":0},"Bali's Best Coffee Candy 5.3oz Bag","RETAIL",100]
[null,{"$f":"Table_prices[[#This Row],[ITEMNMBR]]","v":0},"Chocolate Wafer Rolls by Dolcetto - 4.4oz. -","RETAIL",100]
[null,{"$f":"Table_prices[[#This Row],[ITEMNMBR]]","v":0},"Dolcetto Wafer Rolls Vanilla Tin 14.1oz","RETAIL",100]
[null,{"$f":"Table_prices[[#This Row],[ITEMNMBR]]","v":0},"Tiramisu Wafer Rolls by Fusion Gourmet - 4.4 oz. -","RETAIL",100]
[null,{"$f":"Table_prices[[#This Row],[ITEMNMBR]]","v":0},"Vanilla Wafer Squares by Dolcetto - 8.5 oz. -","RETAIL",100]
[null,{"$f":"Table_prices[[#This Row],[ITEMNMBR]]","v":0},"Tiramisu Wafer Squares by Dolcetto - 8.5 oz. -","RETAIL",100]
[null,{"$f":"Table_prices[[#This Row],[ITEMNMBR]]","v":0},"Cookies & Cream Wafer Roll Petites by Dolcetto - 4.2 oz. -","RETAIL",100]
[null,{"$f":"Table_prices[[#This Row],[ITEMNMBR]]","v":0},"Halloween Cotton Candy 1.5oz","RETAIL",100]
[null,{"$f":"Table_prices[[#This Row],[ITEMNMBR]]","v":0},"Candy Corn / Drac Snack Cotton Candy by Fun Sweets - 1.5 oz. -","RETAIL",100]
[null,{"$f":"Table_prices[[#This Row],[ITEMNMBR]]","v":0},"Garden Works Dutch Watering Can Yellow or White","RETAIL",15]
[null,{"$f":"Table_prices[[#This Row],[ITEMNMBR]]","v":0},"English Style Watering Can in Green","RETAIL",100]
[null,{"$f":"Table_prices[[#This Row],[ITEMNMBR]]","v":0},"Gardening Tool Set","RETAIL",100]
[null,{"$f":"Table_prices[[#This Row],[ITEMNMBR]]","v":0},"Watering Can in Duck Egg Blue by Gardman -","RETAIL",100]
[null,{"$f":"Table_prices[[#This Row],[ITEMNMBR]]","v":0},"GGB Same Day Item","RETAIL",100]
[null,{"$f":"Table_prices[[#This Row],[ITEMNMBR]]","v":0},"Gift Baskets Overseas","RETAIL",0]
[null,{"$f":"Table_prices[[#This Row],[ITEMNMBR]]","v":0},"Corporate Custom 38","RETAIL",38]
[null,{"$f":"Table_prices[[#This Row],[ITEMNMBR]]","v":0},"Corporate Custom Christmas Classic","RETAIL",59.99]
[null,{"$f":"Table_prices[[#This Row],[ITEMNMBR]]","v":0},"GFP Cat Pail 8\"","RETAIL",100]
[null,{"$f":"Table_prices[[#This Row],[ITEMNMBR]]","v":0},"GFP Pumpkin Bucket 8\"","RETAIL",100]
[null,{"$f":"Table_prices[[#This Row],[ITEMNMBR]]","v":0},"Black Cauldron 8\"","RETAIL",100]
[null,{"$f":"Table_prices[[#This Row],[ITEMNMBR]]","v":0},"Banana Chips by GourmetGiftBaskets.com - 4 oz. -","RETAIL",100]
[null,{"$f":"Table_prices[[#This Row],[ITEMNMBR]]","v":0},"GGB Cocktail Party Mix 8 oz.","RETAIL",100]
[null,{"$f":"Table_prices[[#This Row],[ITEMNMBR]]","v":0},"GGB Dried Apple Rings 8 oz.","RETAIL",100]
[null,{"$f":"Table_prices[[#This Row],[ITEMNMBR]]","v":0},"GGB Golden Caramel Nuggets 6 oz.","RETAIL",100]
[null,{"$f":"Table_prices[[#This Row],[ITEMNMBR]]","v":0},"Bountiful Harvest Granola by GourmetGiftBaskets.com  - 8 oz. -","RETAIL",100]
[null,{"$f":"Table_prices[[#This Row],[ITEMNMBR]]","v":0},"GGB Nuts - Macadamia Pieces 4 oz.","RETAIL",100]
[null,{"$f":"Table_prices[[#This Row],[ITEMNMBR]]","v":0},"GGB Mixed Dried Fruit - 8 oz. -","RETAIL",100]
[null,{"$f":"Table_prices[[#This Row],[ITEMNMBR]]","v":0},"Roasted & Salted Cashews by GourmetGiftBaskets.com - 4 oz. -","RETAIL",100]
[null,{"$f":"Table_prices[[#This Row],[ITEMNMBR]]","v":0},"Boulder's Mixed Nuts by GourmetGiftBaskets.com - 4 oz. -","RETAIL",100]
[null,{"$f":"Table_prices[[#This Row],[ITEMNMBR]]","v":0},"GGB Nuts - Mixed Deluxe Nuts 4 oz.","RETAIL",100]
[null,{"$f":"Table_prices[[#This Row],[ITEMNMBR]]","v":0},"Honey Roasted Peanuts by GourmetGiftBaskets.com - 4 oz. -","RETAIL",100]
[null,{"$f":"Table_prices[[#This Row],[ITEMNMBR]]","v":0},"Roasted & Salted Peanuts by GourmetGiftBaskets.com - 4 oz. -","RETAIL",100]
[null,{"$f":"Table_prices[[#This Row],[ITEMNMBR]]","v":0},"Roasted & Salted Pistachios by GourmetGiftBaskets.com - 4 oz. -","RETAIL",100]
[null,{"$f":"Table_prices[[#This Row],[ITEMNMBR]]","v":0},"Peanut Butter Pretzel Nuggets by GourmetGiftBaskets.com - 4 oz. -","RETAIL",100]
[null,{"$f":"Table_prices[[#This Row],[ITEMNMBR]]","v":0},"GGB Nuts - Pistachios  8 oz. for wood tray","RETAIL",100]
[null,{"$f":"Table_prices[[#This Row],[ITEMNMBR]]","v":0},"GGB Sour Apple Stick Candy .5 oz","RETAIL",100]
[null,{"$f":"Table_prices[[#This Row],[ITEMNMBR]]","v":0},"GGB Trail Mix - Guadalajara 8 oz.","RETAIL",100]
[null,{"$f":"Table_prices[[#This Row],[ITEMNMBR]]","v":0},"Metropolitan Mix by GourmetGiftBaskets.com - 4oz. -","RETAIL",100]
[null,{"$f":"Table_prices[[#This Row],[ITEMNMBR]]","v":0},"GGB Painted Desert Mix - 8 oz. -","RETAIL",100]
[null,{"$f":"Table_prices[[#This Row],[ITEMNMBR]]","v":0},"GGB Southwest Trail  - 8 oz. -","RETAIL",100]
[null,{"$f":"Table_prices[[#This Row],[ITEMNMBR]]","v":0},"GGB Trail Mix - Tropical 4 oz.","RETAIL",100]
[null,{"$f":"Table_prices[[#This Row],[ITEMNMBR]]","v":0},"GGB Nuts - R & S Almonds 8 oz for wood tray","RETAIL",100]
[null,{"$f":"Table_prices[[#This Row],[ITEMNMBR]]","v":0},"GGB Metropolitain Mix 8 oz for wood tray","RETAIL",100]
[null,{"$f":"Table_prices[[#This Row],[ITEMNMBR]]","v":0},"GGB - Mixed Dried Fruit 8 oz for wood tray","RETAIL",100]
[null,{"$f":"Table_prices[[#This Row],[ITEMNMBR]]","v":0},"GGB Rice Cracker Blend - 12 oz. -","RETAIL",100]
[null,{"$f":"Table_prices[[#This Row],[ITEMNMBR]]","v":0},"GGB Diced Peanuts - 4 oz. -","RETAIL",100]
[null,{"$f":"Table_prices[[#This Row],[ITEMNMBR]]","v":0},"Honey Sweet Blueberry Granola by GourmetGiftBaskets.com - 4 oz. -","RETAIL",100]
[null,{"$f":"Table_prices[[#This Row],[ITEMNMBR]]","v":0},"Nature's Mixed Medley by GourmetGiftBaskets.com - 8 oz. -","RETAIL",100]
[null,{"$f":"Table_prices[[#This Row],[ITEMNMBR]]","v":0},"Island Orchard Mix by GourmetGiftBaskets.com - 8 oz. -","RETAIL",100]
[null,{"$f":"Table_prices[[#This Row],[ITEMNMBR]]","v":0},"Mountaineer Trail Mix by GourmetGiftBaskets.com - 4 oz. -","RETAIL",100]
[null,{"$f":"Table_prices[[#This Row],[ITEMNMBR]]","v":0},"Zesty Snack Mix by GourmetGiftBaskets.com - 8 oz. -","RETAIL",100]
[null,{"$f":"Table_prices[[#This Row],[ITEMNMBR]]","v":0},"Crispy Cracker Crunch by GourmetGiftBaskets.com - 8 oz. -","RETAIL",100]
[null,{"$f":"Table_prices[[#This Row],[ITEMNMBR]]","v":0},"Gift Card $10","RETAIL",0]
[null,{"$f":"Table_prices[[#This Row],[ITEMNMBR]]","v":0},"Gift Card $25","RETAIL",0]
[null,{"$f":"Table_prices[[#This Row],[ITEMNMBR]]","v":0},"Gift Card $50","RETAIL",0]
[null,{"$f":"Table_prices[[#This Row],[ITEMNMBR]]","v":0},"Gift Card $75","RETAIL",0]
[null,{"$f":"Table_prices[[#This Row],[ITEMNMBR]]","v":0},"Gift Card $100","RETAIL",0]
[null,{"$f":"Table_prices[[#This Row],[ITEMNMBR]]","v":0},"Gift Certificate","RETAIL",0]
[null,{"$f":"Table_prices[[#This Row],[ITEMNMBR]]","v":0},"Grand Illusions Pit and Pendulum Small Slate","RETAIL",99.98]
[null,{"$f":"Table_prices[[#This Row],[ITEMNMBR]]","v":0},"Grand Illusions Pit and Pendulum Large Slate","RETAIL",114.25]
[null,{"$f":"Table_prices[[#This Row],[ITEMNMBR]]","v":0},"Grand Illusions Pit and Pendulum Small Chrome","RETAIL",99.98]
[null,{"$f":"Table_prices[[#This Row],[ITEMNMBR]]","v":0},"Grand Illusions Pit and Pendulum Large Chrome","RETAIL",92.28]
[null,{"$f":"Table_prices[[#This Row],[ITEMNMBR]]","v":0},"The Ginger People Crystallized Ginger - Ginger Candy 3.5 oz. bag","RETAIL",100]
[null,{"$f":"Table_prices[[#This Row],[ITEMNMBR]]","v":0},"The Ginger People Premium Cut Crystallized Ginger 6.5 oz tin","RETAIL",100]
[null,{"$f":"Table_prices[[#This Row],[ITEMNMBR]]","v":0},"Gladstone's Maine Munchies Orange Cranes 4 oz.","RETAIL",100]
[null,{"$f":"Table_prices[[#This Row],[ITEMNMBR]]","v":0},"Gladstone's Whole Dried Cranberries 4 oz.","RETAIL",100]
[null,{"$f":"Table_prices[[#This Row],[ITEMNMBR]]","v":0},"Caviar of Maine Dried Blueberries 1.9oz","RETAIL",100]
[null,{"$f":"Table_prices[[#This Row],[ITEMNMBR]]","v":0},"Go Green Bamboo Gloves XL","RETAIL",100]
[null,{"$f":"Table_prices[[#This Row],[ITEMNMBR]]","v":0},"Rose Bath Petals","RETAIL",100]
[null,{"$f":"Table_prices[[#This Row],[ITEMNMBR]]","v":0},"Golden Walnut Shortbread Cookies - caramel filled (43227) 6.2 oz.","RETAIL",100]
[null,{"$f":"Table_prices[[#This Row],[ITEMNMBR]]","v":0},"Golden Walnut Shortbread cookies - chocolate fudge filled (43225) 6.8 oz.","RETAIL",100]
[null,{"$f":"Table_prices[[#This Row],[ITEMNMBR]]","v":0},"Custom: Google (Jason)","RETAIL",0]
[null,{"$f":"Table_prices[[#This Row],[ITEMNMBR]]","v":0},"GourmetGiftBaskets.com All in One Forms","RETAIL",100]
[null,{"$f":"Table_prices[[#This Row],[ITEMNMBR]]","v":0},"GourmetGiftBaskets.com Hang Tags","RETAIL",100]
[null,{"$f":"Table_prices[[#This Row],[ITEMNMBR]]","v":0},"Baked Goods Wrap","RETAIL",100]
[null,{"$f":"Table_prices[[#This Row],[ITEMNMBR]]","v":0},"KOP Tin Stickers","RETAIL",100]
[null,{"$f":"Table_prices[[#This Row],[ITEMNMBR]]","v":0},"Heiniken ( keg can)  - 12 oz -","RETAIL",100]
[null,{"$f":"Table_prices[[#This Row],[ITEMNMBR]]","v":0}," Heiniken Light  - 12 oz -","RETAIL",100]
[null,{"$f":"Table_prices[[#This Row],[ITEMNMBR]]","v":0},"Long Trail Seasonal Ale  - 12 oz -","RETAIL",100]
[null,{"$f":"Table_prices[[#This Row],[ITEMNMBR]]","v":0},"Michelob Ultra -  12 oz -","RETAIL",100]
[null,{"$f":"Table_prices[[#This Row],[ITEMNMBR]]","v":0}," Stella Artois  - 12 oz -","RETAIL",100]
[null,{"$f":"Table_prices[[#This Row],[ITEMNMBR]]","v":0}," Amstel Light - 12 oz -","RETAIL",100]
[null,{"$f":"Table_prices[[#This Row],[ITEMNMBR]]","v":0},"Budweiser Bud Select  - 12 oz -","RETAIL",100]
[null,{"$f":"Table_prices[[#This Row],[ITEMNMBR]]","v":0},"Budweiser Bud Light -  12 oz -","RETAIL",100]
[null,{"$f":"Table_prices[[#This Row],[ITEMNMBR]]","v":0},"Dailys Mixer 12/1LT Mango","RETAIL",100]
[null,{"$f":"Table_prices[[#This Row],[ITEMNMBR]]","v":0},"Budweiser Bottle by Budweiser - 12 oz. -","RETAIL",100]
[null,{"$f":"Table_prices[[#This Row],[ITEMNMBR]]","v":0},"Lightly Salted Potato Chips by Deep River - 5 oz. -","RETAIL",100]
[null,{"$f":"Table_prices[[#This Row],[ITEMNMBR]]","v":0},"Sparkling Italian Water by San Pellegrino - 33.8 oz. -","RETAIL",100]
[null,{"$f":"Table_prices[[#This Row],[ITEMNMBR]]","v":0},"Sparkling Water by San Pellegrino - 500 mL","RETAIL",100]
[null,{"$f":"Table_prices[[#This Row],[ITEMNMBR]]","v":0},"Chianti by Bellini - 750ml -","RETAIL",100]
[null,{"$f":"Table_prices[[#This Row],[ITEMNMBR]]","v":0},"Kirin Ichiban Japanese Beer  12 oz","RETAIL",100]
[null,{"$f":"Table_prices[[#This Row],[ITEMNMBR]]","v":0},"Goose Island festives ale","RETAIL",100]
[null,{"$f":"Table_prices[[#This Row],[ITEMNMBR]]","v":0},"Cheddar Cheese 1 year wheel by Grafton Village - 8 oz. -","RETAIL",100]
[null,{"$f":"Table_prices[[#This Row],[ITEMNMBR]]","v":0},"The Chipotle Salsa  by Gringo Jacks -  16 oz. -","RETAIL",100]
[null,{"$f":"Table_prices[[#This Row],[ITEMNMBR]]","v":0},"Caliente Baby Salsa by Gringo Jacks - 16 oz. -","RETAIL",100]
[null,{"$f":"Table_prices[[#This Row],[ITEMNMBR]]","v":0},"The Corn and Black Bean  Salsa  16oz","RETAIL",100]
[null,{"$f":"Table_prices[[#This Row],[ITEMNMBR]]","v":0},"Cowboy Campfire BBQ Sauce by Gringo Jack's - 12 oz. -","RETAIL",100]
[null,{"$f":"Table_prices[[#This Row],[ITEMNMBR]]","v":0},"Gund Baby \"My First Teddy\" - Pink","RETAIL",100]
[null,{"$f":"Table_prices[[#This Row],[ITEMNMBR]]","v":0},"Gund Baby \"My First Teddy\" - Blue","RETAIL",100]
[null,{"$f":"Table_prices[[#This Row],[ITEMNMBR]]","v":0},"Gund Baby Nighty Night Musical Bear - Pink","RETAIL",100]
[null,{"$f":"Table_prices[[#This Row],[ITEMNMBR]]","v":0},"Gund Baby Nighty Night Musical Bear - Blue","RETAIL",100]
[null,{"$f":"Table_prices[[#This Row],[ITEMNMBR]]","v":0},"Gund Garstang the Love Gorilla","RETAIL",100]
[null,{"$f":"Table_prices[[#This Row],[ITEMNMBR]]","v":0},"Gund Prince Kiss-a-Lot","RETAIL",100]
[null,{"$f":"Table_prices[[#This Row],[ITEMNMBR]]","v":0},"Gund Singing Justabunny 11.5\"","RETAIL",44.99]
[null,{"$f":"Table_prices[[#This Row],[ITEMNMBR]]","v":0},"Gund Carlyle Medium Easter Bunny 18\"","RETAIL",100]
[null,{"$f":"Table_prices[[#This Row],[ITEMNMBR]]","v":0},"Gund Dulce Bunny 5\"","RETAIL",100]
[null,{"$f":"Table_prices[[#This Row],[ITEMNMBR]]","v":0},"Gund Citrine Bunny 12\"","RETAIL",100]
[null,{"$f":"Table_prices[[#This Row],[ITEMNMBR]]","v":0},"Orange Halloween Mug","RETAIL",100]
[null,{"$f":"Table_prices[[#This Row],[ITEMNMBR]]","v":0},"Halloween Pumpkin Bucket","RETAIL",100]
[null,{"$f":"Table_prices[[#This Row],[ITEMNMBR]]","v":0},"Black Spider Decoration","RETAIL",100]
[null,{"$f":"Table_prices[[#This Row],[ITEMNMBR]]","v":0},"Orange Halloween Cats & Hats Mug","RETAIL",100]
[null,{"$f":"Table_prices[[#This Row],[ITEMNMBR]]","v":0},"Orange Halloween Mug with Custom Pumpkin Face","RETAIL",100]
[null,{"$f":"Table_prices[[#This Row],[ITEMNMBR]]","v":0},"Orange Mug - Pumpkin Face with Solid Triangle Eyes by Jacobson -","RETAIL",100]
[null,{"$f":"Table_prices[[#This Row],[ITEMNMBR]]","v":0},"Black Mug with Orange Pumpkins by Jacobson -","RETAIL",100]
[null,{"$f":"Table_prices[[#This Row],[ITEMNMBR]]","v":0},"Orange Mug with Hats and Boots by Jacobson -","RETAIL",100]
[null,{"$f":"Table_prices[[#This Row],[ITEMNMBR]]","v":0},"Hammonds Lemon Ice Tea Sippers 5oz","RETAIL",100]
[null,{"$f":"Table_prices[[#This Row],[ITEMNMBR]]","v":0},"Key Lime Iced Tea Sippers by Hammond's Candies - 5 oz. -","RETAIL",100]
[null,{"$f":"Table_prices[[#This Row],[ITEMNMBR]]","v":0},"Ladybug Lunch Tote","RETAIL",100]
[null,{"$f":"Table_prices[[#This Row],[ITEMNMBR]]","v":0},"Chamomile Tea by Harney & Sons - 20 sachets boxed -","RETAIL",100]
[null,{"$f":"Table_prices[[#This Row],[ITEMNMBR]]","v":0},"Earl Grey Supreme Tea by Harney & Sons - 20 sachets boxed -","RETAIL",100]
[null,{"$f":"Table_prices[[#This Row],[ITEMNMBR]]","v":0},"Harney & Sons Herbal Raspberry Ice Tea 6, 2 qt bags","RETAIL",100]
[null,{"$f":"Table_prices[[#This Row],[ITEMNMBR]]","v":0},"Individual Harney & Son Tea Bag","RETAIL",100]
[null,{"$f":"Table_prices[[#This Row],[ITEMNMBR]]","v":0},"Harney & Sons Orange Pekoe Tea 20 bags boxed","RETAIL",100]
[null,{"$f":"Table_prices[[#This Row],[ITEMNMBR]]","v":0},"Harney & Sons Organic English Breakfast Tea 20 bags boxed","RETAIL",100]
[null,{"$f":"Table_prices[[#This Row],[ITEMNMBR]]","v":0},"Harney & Sons Organic Green Ice Tea 20 bags boxed","RETAIL",100]
[null,{"$f":"Table_prices[[#This Row],[ITEMNMBR]]","v":0},"Peach Iced Tea by Harney & Sons - 6, 2 quart tea bags -","RETAIL",100]
[null,{"$f":"Table_prices[[#This Row],[ITEMNMBR]]","v":0},"Harney & Sons Pomegranate Iced Tea 6, 2 qt bags","RETAIL",100]
[null,{"$f":"Table_prices[[#This Row],[ITEMNMBR]]","v":0},"Red Raspberry Tea by Harney & Sons - 20 sachets boxed -","RETAIL",100]
[null,{"$f":"Table_prices[[#This Row],[ITEMNMBR]]","v":0},"Tropical Green Tea by Harney & Sons - 20 sachets boxed -","RETAIL",100]
[null,{"$f":"Table_prices[[#This Row],[ITEMNMBR]]","v":0},"Marie Belle Aztec Hot Chocolate - 1 oz packets 1 oz","RETAIL",100]
[null,{"$f":"Table_prices[[#This Row],[ITEMNMBR]]","v":0},"Paris Tea by Harney & Sons - 1.4 oz. -","RETAIL",100]
[null,{"$f":"Table_prices[[#This Row],[ITEMNMBR]]","v":0},"Harvard Fall Finals","RETAIL",34.99]
[null,{"$f":"Table_prices[[#This Row],[ITEMNMBR]]","v":0},"Harvard Spring Midterms","RETAIL",34.99]
[null,{"$f":"Table_prices[[#This Row],[ITEMNMBR]]","v":0},"Harvard Birthday Celebration","RETAIL",34.99]
[null,{"$f":"Table_prices[[#This Row],[ITEMNMBR]]","v":0},"Harvard Fall Finals","RETAIL",34.99]
[null,{"$f":"Table_prices[[#This Row],[ITEMNMBR]]","v":0},"Harvard Fall Midterms","RETAIL",34.99]
[null,{"$f":"Table_prices[[#This Row],[ITEMNMBR]]","v":0},"Dark Chocolate Lace by Hauser Chocolatier - 7 oz. -","RETAIL",100]
[null,{"$f":"Table_prices[[#This Row],[ITEMNMBR]]","v":0},"Hauser Chocolatier Chocolate Lace-Mint 7 oz.","RETAIL",100]
[null,{"$f":"Table_prices[[#This Row],[ITEMNMBR]]","v":0},"Hauser Choc Lace-Toasted Almond 7 oz.","RETAIL",100]
[null,{"$f":"Table_prices[[#This Row],[ITEMNMBR]]","v":0},"Mini Squirt Guns - 4 pack -","RETAIL",100]
[null,{"$f":"Table_prices[[#This Row],[ITEMNMBR]]","v":0},"Basketball Hoop and Ball -","RETAIL",100]
[null,{"$f":"Table_prices[[#This Row],[ITEMNMBR]]","v":0},"G2Air Rubber Playground Ball -","RETAIL",100]
[null,{"$f":"Table_prices[[#This Row],[ITEMNMBR]]","v":0},"G2Air Jr. Foam Throwing Balls - Assorted Colors and Shapes -","RETAIL",100]
[null,{"$f":"Table_prices[[#This Row],[ITEMNMBR]]","v":0},"G2Air Flying Disc - Assorted Colors -","RETAIL",100]
[null,{"$f":"Table_prices[[#This Row],[ITEMNMBR]]","v":0},"Large Football with Tail -","RETAIL",100]
[null,{"$f":"Table_prices[[#This Row],[ITEMNMBR]]","v":0},"Sling Toss Game with Wiffle Ball -","RETAIL",100]
[null,{"$f":"Table_prices[[#This Row],[ITEMNMBR]]","v":0},"Disc-N-Throw Game with Tennis Ball -","RETAIL",100]
[null,{"$f":"Table_prices[[#This Row],[ITEMNMBR]]","v":0},"Ookie Ball -","RETAIL",100]
[null,{"$f":"Table_prices[[#This Row],[ITEMNMBR]]","v":0},"Sidewalk Chalk - 6 pack -","RETAIL",100]
[null,{"$f":"Table_prices[[#This Row],[ITEMNMBR]]","v":0},"Temporary Tattoos -","RETAIL",100]
[null,{"$f":"Table_prices[[#This Row],[ITEMNMBR]]","v":0},"Glow in the Dark Bumple Ball - 9\" -","RETAIL",100]
[null,{"$f":"Table_prices[[#This Row],[ITEMNMBR]]","v":0},"Wind Raiders Air Missiles","RETAIL",100]
[null,{"$f":"Table_prices[[#This Row],[ITEMNMBR]]","v":0},"Wind Raiders Foam Sling Shooter","RETAIL",100]
[null,{"$f":"Table_prices[[#This Row],[ITEMNMBR]]","v":0},"Balloon Launcher","RETAIL",100]
[null,{"$f":"Table_prices[[#This Row],[ITEMNMBR]]","v":0},"Laffy Taffy - assorted flavors - individual pieces - 54 pcs per pound","RETAIL",100]
[null,{"$f":"Table_prices[[#This Row],[ITEMNMBR]]","v":0},"Root Beer Barrels (60 per lb)","RETAIL",100]
[null,{"$f":"Table_prices[[#This Row],[ITEMNMBR]]","v":0},"Harold Import Co., Inc. Strawberry Kitchen Towel N/A","RETAIL",100]
[null,{"$f":"Table_prices[[#This Row],[ITEMNMBR]]","v":0},"Harold Import Co., Inc. Strawberry Colander 7\" diam","RETAIL",100]
[null,{"$f":"Table_prices[[#This Row],[ITEMNMBR]]","v":0},"Highland Sugar Works Organic Multigrain Pancake MIx 24oz.","RETAIL",100]
[null,{"$f":"Table_prices[[#This Row],[ITEMNMBR]]","v":0},"Wild Maine Blueberries by Highland Sugarworks - 3.5 oz. -","RETAIL",100]
[null,{"$f":"Table_prices[[#This Row],[ITEMNMBR]]","v":0},"Highland Sugarworks Individual Maple Syrup from Sampler","RETAIL",100]
[null,{"$f":"Table_prices[[#This Row],[ITEMNMBR]]","v":0},"Assorted Sugar Free Fruit Candies by Hillside Candy  ( 5lb) -","RETAIL",100]
[null,{"$f":"Table_prices[[#This Row],[ITEMNMBR]]","v":0},"Sour Apple Organic Hard Candies by Hillside Candy - 3.5 oz. -","RETAIL",100]
[null,{"$f":"Table_prices[[#This Row],[ITEMNMBR]]","v":0},"Harry Barker, Inc. Can-O-Treats for Cats - Salmon Flavor 6 oz","RETAIL",100]
[null,{"$f":"Table_prices[[#This Row],[ITEMNMBR]]","v":0},"Harry Barker, Inc. Natural Refreshing Pet Spray 8 oz","RETAIL",100]
[null,{"$f":"Table_prices[[#This Row],[ITEMNMBR]]","v":0},"Hunt Country Foods Luscious Lips Singles","RETAIL",100]
[null,{"$f":"Table_prices[[#This Row],[ITEMNMBR]]","v":0},"IceBag","RETAIL",2.99]
[null,{"$f":"Table_prices[[#This Row],[ITEMNMBR]]","v":0},"ID Check","RETAIL",3.99]
[null,{"$f":"Table_prices[[#This Row],[ITEMNMBR]]","v":0},"Imperial Foods Fish Bait Gummi Worm bait box 6 oz.","RETAIL",100]
[null,{"$f":"Table_prices[[#This Row],[ITEMNMBR]]","v":0},"Jacobsons Gold Curling Ribbon","RETAIL",100]
[null,{"$f":"Table_prices[[#This Row],[ITEMNMBR]]","v":0},"Jacobson  Dark Yellow Raffia 100 yd","RETAIL",100]
[null,{"$f":"Table_prices[[#This Row],[ITEMNMBR]]","v":0},"Jacobson  Light Yellow Raffia 100 yd","RETAIL",100]
[null,{"$f":"Table_prices[[#This Row],[ITEMNMBR]]","v":0},"Jacobson  Xlg Rockport Light Brn 22x16.5x4.5","RETAIL",100]
[null,{"$f":"Table_prices[[#This Row],[ITEMNMBR]]","v":0},"Jacobson Emerald Green Raffia 500 yds","RETAIL",100]
[null,{"$f":"Table_prices[[#This Row],[ITEMNMBR]]","v":0},"Jacobsons 11\" Rect. Snowflake Tin","RETAIL",100]
[null,{"$f":"Table_prices[[#This Row],[ITEMNMBR]]","v":0},"Jacobsons Metal Drum 9\"","RETAIL",100]
[null,{"$f":"Table_prices[[#This Row],[ITEMNMBR]]","v":0},"Red and Green Striped Holiday Tin","RETAIL",100]
[null,{"$f":"Table_prices[[#This Row],[ITEMNMBR]]","v":0},"Caramel Bunny with Saphire Bow Tie","RETAIL",8.99]
[null,{"$f":"Table_prices[[#This Row],[ITEMNMBR]]","v":0},"Chocolate Bear with Red Ribbon Bow Tie","RETAIL",7.5]
[null,{"$f":"Table_prices[[#This Row],[ITEMNMBR]]","v":0},"Bayard's Cherry Cordials 8 oz.","RETAIL",100]
[null,{"$f":"Table_prices[[#This Row],[ITEMNMBR]]","v":0},"Bayard's Chocolate Covered Pretzels - assorted milk, dark & ivory 8 oz.","RETAIL",100]
[null,{"$f":"Table_prices[[#This Row],[ITEMNMBR]]","v":0},"de Luxe Salt Water Taffy (Atlantic City Boardwalk Box) by James' Candy Company","RETAIL",100]
[null,{"$f":"Table_prices[[#This Row],[ITEMNMBR]]","v":0},"James Candy Individual Taffy Pieces","RETAIL",0]
[null,{"$f":"Table_prices[[#This Row],[ITEMNMBR]]","v":0},"Texas Chili Fixins 4oz","RETAIL",100]
[null,{"$f":"Table_prices[[#This Row],[ITEMNMBR]]","v":0},"Custom Disney Adecco","RETAIL",47.99]
[null,{"$f":"Table_prices[[#This Row],[ITEMNMBR]]","v":0},"Custom Adecco Snack Stack","RETAIL",37.99]
[null,{"$f":"Table_prices[[#This Row],[ITEMNMBR]]","v":0},"Custom: Adecco Snacks and Chocolate (Jason)","RETAIL",60]
[null,{"$f":"Table_prices[[#This Row],[ITEMNMBR]]","v":0},"Custom Tax Survival Kit ( Jason )","RETAIL",40]
[null,{"$f":"Table_prices[[#This Row],[ITEMNMBR]]","v":0},"Custom Christmas Classic with Shiraz","RETAIL",79.599999999999994]
[null,{"$f":"Table_prices[[#This Row],[ITEMNMBR]]","v":0},"$200.00 Gift #1","RETAIL",200]
[null,{"$f":"Table_prices[[#This Row],[ITEMNMBR]]","v":0},"CUSTOM $92.00 Gift #2","RETAIL",92]
[null,{"$f":"Table_prices[[#This Row],[ITEMNMBR]]","v":0},"CUSTOM $32.00 - Gift #3","RETAIL",32]
[null,{"$f":"Table_prices[[#This Row],[ITEMNMBR]]","v":0},"CUSTOM $50.00 each Vendor Gift","RETAIL",50]
[null,{"$f":"Table_prices[[#This Row],[ITEMNMBR]]","v":0},"Custom Strawberry Shortcake KOP","RETAIL",4.25]
[null,{"$f":"Table_prices[[#This Row],[ITEMNMBR]]","v":0},"CVent Custom Snack and Coffee Mug","RETAIL",63]
[null,{"$f":"Table_prices[[#This Row],[ITEMNMBR]]","v":0},"Custom CVent Back to Basics 2011","RETAIL",48.5]
[null,{"$f":"Table_prices[[#This Row],[ITEMNMBR]]","v":0},"Custom CVent Mini Wine","RETAIL",50]
[null,{"$f":"Table_prices[[#This Row],[ITEMNMBR]]","v":0},"Custom CVent Bucket ( Jason )","RETAIL",48.5]
[null,{"$f":"Table_prices[[#This Row],[ITEMNMBR]]","v":0},"Custom CVent Coffee Premium & Choc Pop Sampler ( Jason )","RETAIL",148.99]
[null,{"$f":"Table_prices[[#This Row],[ITEMNMBR]]","v":0},"Custom Exam Cram","RETAIL",34.99]
[null,{"$f":"Table_prices[[#This Row],[ITEMNMBR]]","v":0},"Custom Strawberry Shortcake KOP","RETAIL",4.25]
[null,{"$f":"Table_prices[[#This Row],[ITEMNMBR]]","v":0},"Custom Cinnamon Bun KOP","RETAIL",4.25]
[null,{"$f":"Table_prices[[#This Row],[ITEMNMBR]]","v":0},"Custom : Cvent New Hire Basket (Jason)","RETAIL",52]
[null,{"$f":"Table_prices[[#This Row],[ITEMNMBR]]","v":0},"Custom CVent App-solutely Mobile - Crowd Torch","RETAIL",45]
[null,{"$f":"Table_prices[[#This Row],[ITEMNMBR]]","v":0},"Custom CVent App-solutely Mobile - Crowd Compass","RETAIL",45]
[null,{"$f":"Table_prices[[#This Row],[ITEMNMBR]]","v":0},"Custom CVent - Coffee & Chocolate (Jason)","RETAIL",69.989999999999995]
[null,{"$f":"Table_prices[[#This Row],[ITEMNMBR]]","v":0},"Custom CVent - Coffee & Chocolate 2 (Jason)","RETAIL",69.989999999999995]
[null,{"$f":"Table_prices[[#This Row],[ITEMNMBR]]","v":0},"Custom CVent - Nostalgic Candy Crate with added CSIs (Jason)","RETAIL",29.99]
[null,{"$f":"Table_prices[[#This Row],[ITEMNMBR]]","v":0},"Custom CVent -  Fall Themed Basket with added custom items (Jason)","RETAIL",64.989999999999995]
[null,{"$f":"Table_prices[[#This Row],[ITEMNMBR]]","v":0},"Custom CVent -  Champagne & Chocolates with added custom items (Jason)","RETAIL",159.99]
[null,{"$f":"Table_prices[[#This Row],[ITEMNMBR]]","v":0},"Custom CVent -  Champagne & Chocolates with added custom items (Jason)","RETAIL",114.99]
[null,{"$f":"Table_prices[[#This Row],[ITEMNMBR]]","v":0},"Custom CVent -  Champagne & Chocolates with added custom items2 (Jason)","RETAIL",114.99]
[null,{"$f":"Table_prices[[#This Row],[ITEMNMBR]]","v":0},"Custom Derryfield Basket","RETAIL",35]
[null,{"$f":"Table_prices[[#This Row],[ITEMNMBR]]","v":0},"Custom Derryfield Basket - October 2011","RETAIL",35]
[null,{"$f":"Table_prices[[#This Row],[ITEMNMBR]]","v":0},"Custom Derryfield Basket - February 2012","RETAIL",35]
[null,{"$f":"Table_prices[[#This Row],[ITEMNMBR]]","v":0},"Derryfield Custom 04-30-12 ( Jason )","RETAIL",89.99]
[null,{"$f":"Table_prices[[#This Row],[ITEMNMBR]]","v":0},"Derryfield Custom 05-01-12 - Jason","RETAIL",49.99]
[null,{"$f":"Table_prices[[#This Row],[ITEMNMBR]]","v":0},"Custom Enterprise Bank $100","RETAIL",100]
[null,{"$f":"Table_prices[[#This Row],[ITEMNMBR]]","v":0},"Custom Enterprise Bank $65.00","RETAIL",65]
[null,{"$f":"Table_prices[[#This Row],[ITEMNMBR]]","v":0},"Custom Enterprise Bank Suitcase","RETAIL",173.99]
[null,{"$f":"Table_prices[[#This Row],[ITEMNMBR]]","v":0},"Custom Enterprise Bank Wine Basket","RETAIL",104.99]
[null,{"$f":"Table_prices[[#This Row],[ITEMNMBR]]","v":0},"Custom Italian Red Wine","RETAIL",0]
[null,{"$f":"Table_prices[[#This Row],[ITEMNMBR]]","v":0},"Custom Italian White Wine","RETAIL",0]
[null,{"$f":"Table_prices[[#This Row],[ITEMNMBR]]","v":0},"Custom Robbie Flexibles #1","RETAIL",140]
[null,{"$f":"Table_prices[[#This Row],[ITEMNMBR]]","v":0},"Custom Robbie Flexibles #2","RETAIL",180]
[null,{"$f":"Table_prices[[#This Row],[ITEMNMBR]]","v":0},"Custom Basket for Disaster Relief","RETAIL",0]
[null,{"$f":"Table_prices[[#This Row],[ITEMNMBR]]","v":0},"Custom Basket for Disaster Relief","RETAIL",0]
[null,{"$f":"Table_prices[[#This Row],[ITEMNMBR]]","v":0},"Custom Gift Basket","RETAIL",109.99]
[null,{"$f":"Table_prices[[#This Row],[ITEMNMBR]]","v":0},"Custom","RETAIL",524.99]
[null,{"$f":"Table_prices[[#This Row],[ITEMNMBR]]","v":0},"Custom HISS $83.99","RETAIL",83.99]
[null,{"$f":"Table_prices[[#This Row],[ITEMNMBR]]","v":0},"Custom HI Wine( Jason)","RETAIL",66.989999999999995]
[null,{"$f":"Table_prices[[#This Row],[ITEMNMBR]]","v":0},"custom candy and snack (jason)","RETAIL",99.99]
[null,{"$f":"Table_prices[[#This Row],[ITEMNMBR]]","v":0},"Custom KNotice $46.99","RETAIL",46.99]
[null,{"$f":"Table_prices[[#This Row],[ITEMNMBR]]","v":0},"Custom KNotice $75.99","RETAIL",75.989999999999995]
[null,{"$f":"Table_prices[[#This Row],[ITEMNMBR]]","v":0},"Custom KNotice $99.99","RETAIL",99.99]
[null,{"$f":"Table_prices[[#This Row],[ITEMNMBR]]","v":0},"Custom KNotice 3 pack Goose Island 2012","RETAIL",59.99]
[null,{"$f":"Table_prices[[#This Row],[ITEMNMBR]]","v":0},"Custom KNotice 6 pack Goose Island 2012","RETAIL",89.99]
[null,{"$f":"Table_prices[[#This Row],[ITEMNMBR]]","v":0},"Custom KNotice 12 pack Goose Island 2012","RETAIL",119.99]
[null,{"$f":"Table_prices[[#This Row],[ITEMNMBR]]","v":0},"Custom: KNotice -  3 pack -  Goose Island - 2013 (Jason)","RETAIL",59.99]
[null,{"$f":"Table_prices[[#This Row],[ITEMNMBR]]","v":0},"Custom:  KNotice -  6 pack Goose Island  - 2013 (Jason)","RETAIL",89.99]
[null,{"$f":"Table_prices[[#This Row],[ITEMNMBR]]","v":0},"Custom:  KNotice -  12 pack Goose Island  - 2013 (Jason)","RETAIL",119.99]
[null,{"$f":"Table_prices[[#This Row],[ITEMNMBR]]","v":0},"Custom: Ignition One -  3 pack -  Goose Island - 2014 (Jason)","RETAIL",59.99]
[null,{"$f":"Table_prices[[#This Row],[ITEMNMBR]]","v":0},"Custom: Ignition One -  6 pack Goose Island  - 2014 (Jason)","RETAIL",89.99]
[null,{"$f":"Table_prices[[#This Row],[ITEMNMBR]]","v":0},"Custom:  Ignition One -  12 pack Goose Island  - 2014 (Jason)","RETAIL",119.99]
[null,{"$f":"Table_prices[[#This Row],[ITEMNMBR]]","v":0},"LaserShip Custom","RETAIL",49.99]
[null,{"$f":"Table_prices[[#This Row],[ITEMNMBR]]","v":0},"Jelly Beans by Buttercup Candy Shoppe - 3.5 oz. -","RETAIL",400]
[null,{"$f":"Table_prices[[#This Row],[ITEMNMBR]]","v":0},"Dental Society Custom","RETAIL",50]
[null,{"$f":"Table_prices[[#This Row],[ITEMNMBR]]","v":0},"NH Dental Society - New England Theme","RETAIL",39.99]
[null,{"$f":"Table_prices[[#This Row],[ITEMNMBR]]","v":0},"NH Dental Society","RETAIL",51.99]
[null,{"$f":"Table_prices[[#This Row],[ITEMNMBR]]","v":0},"Custom Wine and Chocolate","RETAIL",91.99]
[null,{"$f":"Table_prices[[#This Row],[ITEMNMBR]]","v":0},"Pepsi Fruit Custom","RETAIL",114.99]
[null,{"$f":"Table_prices[[#This Row],[ITEMNMBR]]","v":0},"Pepsi Snack Custom","RETAIL",280.99]
[null,{"$f":"Table_prices[[#This Row],[ITEMNMBR]]","v":0},"Custom $325.00 Basket","RETAIL",325]
[null,{"$f":"Table_prices[[#This Row],[ITEMNMBR]]","v":0},"Custom $400.00 Basket","RETAIL",400]
[null,{"$f":"Table_prices[[#This Row],[ITEMNMBR]]","v":0},"Custom $200.00","RETAIL",200]
[null,{"$f":"Table_prices[[#This Row],[ITEMNMBR]]","v":0},"Pepsi Snack Custom","RETAIL",115]
[null,{"$f":"Table_prices[[#This Row],[ITEMNMBR]]","v":0},"Custom Peach Tree","RETAIL",69.989999999999995]
[null,{"$f":"Table_prices[[#This Row],[ITEMNMBR]]","v":0},"Custom 6.5 Gallon Popcorn Tin - Quaker (Jason)","RETAIL",55.99]
[null,{"$f":"Table_prices[[#This Row],[ITEMNMBR]]","v":0},"Custom Robbie Flexibles 1","RETAIL",140]
[null,{"$f":"Table_prices[[#This Row],[ITEMNMBR]]","v":0},"Custom Robbie Flexibles #2","RETAIL",180]
[null,{"$f":"Table_prices[[#This Row],[ITEMNMBR]]","v":0},"Custom Robbie Flexibles Corp Show with 7450","RETAIL",179.99]
[null,{"$f":"Table_prices[[#This Row],[ITEMNMBR]]","v":0},"Custom Robbie Flexibles Xmas Exec Suite with 7450","RETAIL",299.99]
[null,{"$f":"Table_prices[[#This Row],[ITEMNMBR]]","v":0},"Custom Corporate Showstopper with Bottle Board Gift","RETAIL",189.99]
[null,{"$f":"Table_prices[[#This Row],[ITEMNMBR]]","v":0},"CUSTOM Go Green Cleaning Bucket","RETAIL",46.48]
[null,{"$f":"Table_prices[[#This Row],[ITEMNMBR]]","v":0},"Custom Sears Stack - 3 items","RETAIL",10]
[null,{"$f":"Table_prices[[#This Row],[ITEMNMBR]]","v":0},"custom tricon (1) (jason)","RETAIL",79.989999999999995]
[null,{"$f":"Table_prices[[#This Row],[ITEMNMBR]]","v":0},"custom tricon (2) (jason)","RETAIL",149.99]
[null,{"$f":"Table_prices[[#This Row],[ITEMNMBR]]","v":0},"custom tricon (3) (jason)","RETAIL",199.99]
[null,{"$f":"Table_prices[[#This Row],[ITEMNMBR]]","v":0},"custom tricon (4) (jason)","RETAIL",149.99]
[null,{"$f":"Table_prices[[#This Row],[ITEMNMBR]]","v":0},"custom tricon (5) (jason)","RETAIL",199.99]
[null,{"$f":"Table_prices[[#This Row],[ITEMNMBR]]","v":0},"custom tricon (2014 vs 6) (jason)","RETAIL",149.99]
[null,{"$f":"Table_prices[[#This Row],[ITEMNMBR]]","v":0},"custom tricon (2014 vs 7) (jason)","RETAIL",199.99]
[null,{"$f":"Table_prices[[#This Row],[ITEMNMBR]]","v":0},"custom tricon (2014 vs 8) (jason)","RETAIL",299.99]
[null,{"$f":"Table_prices[[#This Row],[ITEMNMBR]]","v":0},"Custom 5106B w TDI gear","RETAIL",99.99]
[null,{"$f":"Table_prices[[#This Row],[ITEMNMBR]]","v":0},"Custom 5104 w TDI gear","RETAIL",129.99]
[null,{"$f":"Table_prices[[#This Row],[ITEMNMBR]]","v":0},"Custom 4052 w TDI gear","RETAIL",79.989999999999995]
[null,{"$f":"Table_prices[[#This Row],[ITEMNMBR]]","v":0},"Custom 5318 w TDI gear","RETAIL",49.99]
[null,{"$f":"Table_prices[[#This Row],[ITEMNMBR]]","v":0},"Custom Xmas Classic with tshirt and Mug 2011","RETAIL",59.99]
[null,{"$f":"Table_prices[[#This Row],[ITEMNMBR]]","v":0},"Trade Show Cookies","RETAIL",0]
[null,{"$f":"Table_prices[[#This Row],[ITEMNMBR]]","v":0},"CUSTOM Tiger Woods $40","RETAIL",40]
[null,{"$f":"Table_prices[[#This Row],[ITEMNMBR]]","v":0},"CUSTOM Tiger Woods $62","RETAIL",62]
[null,{"$f":"Table_prices[[#This Row],[ITEMNMBR]]","v":0},"Custom Vibram $500","RETAIL",500]
[null,{"$f":"Table_prices[[#This Row],[ITEMNMBR]]","v":0},"Custom Wine Suit Case","RETAIL",417.99]
[null,{"$f":"Table_prices[[#This Row],[ITEMNMBR]]","v":0},"Custom: Worldwide Express - 5116 with Dom","RETAIL",317.99]
[null,{"$f":"Table_prices[[#This Row],[ITEMNMBR]]","v":0},"Custom: Worldwide Express - 4053 with Dom","RETAIL",266.99]
[null,{"$f":"Table_prices[[#This Row],[ITEMNMBR]]","v":0},"Custom: Worldwide Express - 4053 with Moet (Jason)","RETAIL",152.99]
[null,{"$f":"Table_prices[[#This Row],[ITEMNMBR]]","v":0},"Jelly Belly Conversation Beans 1.3 oz.","RETAIL",100]
[null,{"$f":"Table_prices[[#This Row],[ITEMNMBR]]","v":0},"Jelly Belly Assorted Jelly Beans 1.6 oz.","RETAIL",100]
[null,{"$f":"Table_prices[[#This Row],[ITEMNMBR]]","v":0},"Jelly Belly Assorted Jelly Beans 5 oz.","RETAIL",100]
[null,{"$f":"Table_prices[[#This Row],[ITEMNMBR]]","v":0},"Jelly Belly Spring Mix 9 oz","RETAIL",100]
[null,{"$f":"Table_prices[[#This Row],[ITEMNMBR]]","v":0},"Jelly Belly Carrot Bag 6 oz.","RETAIL",100]
[null,{"$f":"Table_prices[[#This Row],[ITEMNMBR]]","v":0},"Jelly Belly Reindeer Corn 1oz","RETAIL",100]
[null,{"$f":"Table_prices[[#This Row],[ITEMNMBR]]","v":0},"Cara Mella Peanut Butter Chocolate Squares by Jer's Chocolates - 4 oz. -","RETAIL",100]
[null,{"$f":"Table_prices[[#This Row],[ITEMNMBR]]","v":0},"Peanut Butter Truffles by Jer's - 6 piece -","RETAIL",100]
[null,{"$f":"Table_prices[[#This Row],[ITEMNMBR]]","v":0},"Amaretto Cheesecake 6\"","RETAIL",100]
[null,{"$f":"Table_prices[[#This Row],[ITEMNMBR]]","v":0},"Banana Cream Cheesecake 6\"","RETAIL",100]
[null,{"$f":"Table_prices[[#This Row],[ITEMNMBR]]","v":0},"Blood Orange Cheesecake 6\"","RETAIL",100]
[null,{"$f":"Table_prices[[#This Row],[ITEMNMBR]]","v":0},"Cappuccino Cheesecake 6\"","RETAIL",100]
[null,{"$f":"Table_prices[[#This Row],[ITEMNMBR]]","v":0},"Caramel Apple Crunch Cheesecake 6\"","RETAIL",100]
[null,{"$f":"Table_prices[[#This Row],[ITEMNMBR]]","v":0},"Cherry Almond Cheesecake 6\"","RETAIL",100]
[null,{"$f":"Table_prices[[#This Row],[ITEMNMBR]]","v":0},"Chocolate Cabernet Truffle Cheesecake 6\"","RETAIL",100]
[null,{"$f":"Table_prices[[#This Row],[ITEMNMBR]]","v":0},"Chocolate Swirl Cheesecake 6\"","RETAIL",100]
[null,{"$f":"Table_prices[[#This Row],[ITEMNMBR]]","v":0},"Chocolate Raspberry Cheesecake 6\"","RETAIL",100]
[null,{"$f":"Table_prices[[#This Row],[ITEMNMBR]]","v":0},"Coconut Cheesecake 6\"","RETAIL",100]
[null,{"$f":"Table_prices[[#This Row],[ITEMNMBR]]","v":0},"Cookies and Cream Cheesecake 6\"","RETAIL",100]
[null,{"$f":"Table_prices[[#This Row],[ITEMNMBR]]","v":0},"Dulce De Leche Cheesecake 6\"","RETAIL",100]
[null,{"$f":"Table_prices[[#This Row],[ITEMNMBR]]","v":0},"Kahlua Almond Cheesecake 6\"","RETAIL",100]
[null,{"$f":"Table_prices[[#This Row],[ITEMNMBR]]","v":0},"Key Lime Cheesecake 6\"","RETAIL",100]
[null,{"$f":"Table_prices[[#This Row],[ITEMNMBR]]","v":0},"Lemon Biscotti Cheesecake 6\"","RETAIL",100]
[null,{"$f":"Table_prices[[#This Row],[ITEMNMBR]]","v":0},"Marionberry Cheesecake 6\"","RETAIL",100]
[null,{"$f":"Table_prices[[#This Row],[ITEMNMBR]]","v":0},"Mint Chocolate Chip Cheesecake 6\"","RETAIL",100]
[null,{"$f":"Table_prices[[#This Row],[ITEMNMBR]]","v":0},"New York Cheesecake 6\"","RETAIL",100]
[null,{"$f":"Table_prices[[#This Row],[ITEMNMBR]]","v":0},"NY Chocolate Fudge Cheesecake 6\"","RETAIL",100]
[null,{"$f":"Table_prices[[#This Row],[ITEMNMBR]]","v":0},"Raspberry Swirl Cheesecake 6\"","RETAIL",100]
[null,{"$f":"Table_prices[[#This Row],[ITEMNMBR]]","v":0},"Rocky Road Cheesecake 6\"","RETAIL",100]
[null,{"$f":"Table_prices[[#This Row],[ITEMNMBR]]","v":0},"Strawberry Topped Cheesecake 6\"","RETAIL",100]
[null,{"$f":"Table_prices[[#This Row],[ITEMNMBR]]","v":0},"Strawberry Margarita Cheesecake 6\"","RETAIL",100]
[null,{"$f":"Table_prices[[#This Row],[ITEMNMBR]]","v":0},"Triple Chocolate Cheesecake 6\"","RETAIL",100]
[null,{"$f":"Table_prices[[#This Row],[ITEMNMBR]]","v":0},"Turtle Cheesecake 6\"","RETAIL",100]
[null,{"$f":"Table_prices[[#This Row],[ITEMNMBR]]","v":0},"White Chocolate Swirl Cheesecake 6\"","RETAIL",100]
[null,{"$f":"Table_prices[[#This Row],[ITEMNMBR]]","v":0},"Standard Cheesecake Sampler 6\"","RETAIL",100]
[null,{"$f":"Table_prices[[#This Row],[ITEMNMBR]]","v":0},"Fruit Cheesecake Sampler 6\"","RETAIL",100]
[null,{"$f":"Table_prices[[#This Row],[ITEMNMBR]]","v":0},"Chocolate Lovers Cheesecake Sampler 6\"","RETAIL",100]
[null,{"$f":"Table_prices[[#This Row],[ITEMNMBR]]","v":0},"Tropical Cheesecake Sampler 6\"","RETAIL",100]
[null,{"$f":"Table_prices[[#This Row],[ITEMNMBR]]","v":0},"Happy Hour Cheesecake Sampler 6\"","RETAIL",100]
[null,{"$f":"Table_prices[[#This Row],[ITEMNMBR]]","v":0},"Amaretto Cheesecake 9\"","RETAIL",100]
[null,{"$f":"Table_prices[[#This Row],[ITEMNMBR]]","v":0},"Banana Cream Cheesecake 9\"","RETAIL",100]
[null,{"$f":"Table_prices[[#This Row],[ITEMNMBR]]","v":0},"Blood Orange Cheesecake 9\"","RETAIL",100]
[null,{"$f":"Table_prices[[#This Row],[ITEMNMBR]]","v":0},"Cappuccino Cheesecake 9\"","RETAIL",100]
[null,{"$f":"Table_prices[[#This Row],[ITEMNMBR]]","v":0},"Caramel Apple Crunch Cheesecake 9\"","RETAIL",100]
[null,{"$f":"Table_prices[[#This Row],[ITEMNMBR]]","v":0},"Cherry Almond Cheesecake 9\"","RETAIL",100]
[null,{"$f":"Table_prices[[#This Row],[ITEMNMBR]]","v":0},"Chocolate Cabernet Truffle Cheesecake 9\"","RETAIL",100]
[null,{"$f":"Table_prices[[#This Row],[ITEMNMBR]]","v":0},"Chocolate Swirl Cheesecake 9\"","RETAIL",100]
[null,{"$f":"Table_prices[[#This Row],[ITEMNMBR]]","v":0},"Chocolate Raspberry Cheesecake 9\"","RETAIL",100]
[null,{"$f":"Table_prices[[#This Row],[ITEMNMBR]]","v":0},"Coconut Cheesecake 9\"","RETAIL",100]
[null,{"$f":"Table_prices[[#This Row],[ITEMNMBR]]","v":0},"Cookies and Cream Cheesecake 9\"","RETAIL",100]
[null,{"$f":"Table_prices[[#This Row],[ITEMNMBR]]","v":0},"Dulce De Leche Cheesecake 9\"","RETAIL",100]
[null,{"$f":"Table_prices[[#This Row],[ITEMNMBR]]","v":0},"Kahlua Almond Cheesecake 9\"","RETAIL",100]
[null,{"$f":"Table_prices[[#This Row],[ITEMNMBR]]","v":0},"Key Lime Cheesecake 9\"","RETAIL",100]
[null,{"$f":"Table_prices[[#This Row],[ITEMNMBR]]","v":0},"Lemon Biscotti Cheesecake 9\"","RETAIL",100]
[null,{"$f":"Table_prices[[#This Row],[ITEMNMBR]]","v":0},"Marionberry Cheesecake 9\"","RETAIL",100]
[null,{"$f":"Table_prices[[#This Row],[ITEMNMBR]]","v":0},"Mint Chocolate Chip Cheesecake 9\"","RETAIL",100]
[null,{"$f":"Table_prices[[#This Row],[ITEMNMBR]]","v":0},"New York Cheesecake 9\"","RETAIL",100]
[null,{"$f":"Table_prices[[#This Row],[ITEMNMBR]]","v":0},"NY Chocolate Fudge Cheesecake 9\"","RETAIL",100]
[null,{"$f":"Table_prices[[#This Row],[ITEMNMBR]]","v":0},"Raspberry Swirl Cheesecake 9\"","RETAIL",100]
[null,{"$f":"Table_prices[[#This Row],[ITEMNMBR]]","v":0},"Rocky Road Cheesecake 9\"","RETAIL",100]
[null,{"$f":"Table_prices[[#This Row],[ITEMNMBR]]","v":0},"Strawberry Topped Cheesecake 9\"","RETAIL",100]
[null,{"$f":"Table_prices[[#This Row],[ITEMNMBR]]","v":0},"Strawberry Margarita Cheesecake 9\"","RETAIL",100]
[null,{"$f":"Table_prices[[#This Row],[ITEMNMBR]]","v":0},"Triple Chocolate Cheesecake 9\"","RETAIL",100]
[null,{"$f":"Table_prices[[#This Row],[ITEMNMBR]]","v":0},"Turtle Cheesecake 9\"","RETAIL",100]
[null,{"$f":"Table_prices[[#This Row],[ITEMNMBR]]","v":0},"White Chocolate Swirl Cheesecake 9\"","RETAIL",100]
[null,{"$f":"Table_prices[[#This Row],[ITEMNMBR]]","v":0},"Standard Cheesecake Sampler 9\"","RETAIL",100]
[null,{"$f":"Table_prices[[#This Row],[ITEMNMBR]]","v":0},"Fruit Cheesecake Sampler 9\"","RETAIL",100]
[null,{"$f":"Table_prices[[#This Row],[ITEMNMBR]]","v":0},"Chocolate Lovers Cheesecake Sampler 9\"","RETAIL",100]
[null,{"$f":"Table_prices[[#This Row],[ITEMNMBR]]","v":0},"Tropical Cheesecake Sampler 9\"","RETAIL",100]
[null,{"$f":"Table_prices[[#This Row],[ITEMNMBR]]","v":0},"Happy Hour Cheesecake Sampler 9\"","RETAIL",100]
[null,{"$f":"Table_prices[[#This Row],[ITEMNMBR]]","v":0},"Presidents Choice Cheesecake Sampler 9\"","RETAIL",100]
[null,{"$f":"Table_prices[[#This Row],[ITEMNMBR]]","v":0},"Chocolate Chip Pecan Cookies by J&M - 6 oz. -","RETAIL",100]
[null,{"$f":"Table_prices[[#This Row],[ITEMNMBR]]","v":0},"Raspberry Powdered Cookies by J&M - 2.5 oz. -","RETAIL",100]
[null,{"$f":"Table_prices[[#This Row],[ITEMNMBR]]","v":0},"Chocolate Chip Pecan Cookies by J&M Foods - 6 oz. -","RETAIL",100]
[null,{"$f":"Table_prices[[#This Row],[ITEMNMBR]]","v":0},"Triple Chocolate Cookies by J&M Foods - 6 oz. -","RETAIL",100]
[null,{"$f":"Table_prices[[#This Row],[ITEMNMBR]]","v":0},"White Chocolate Key Lime Cookies by J&M Foods - 6 oz. -","RETAIL",100]
[null,{"$f":"Table_prices[[#This Row],[ITEMNMBR]]","v":0},"Lemon Powdered Cookies by J&M Foods - 2.5 oz. -","RETAIL",100]
[null,{"$f":"Table_prices[[#This Row],[ITEMNMBR]]","v":0},"Joseph and Lottie Butter Almond Toffee Awning Box - Blue 2.25 oz","RETAIL",100]
[null,{"$f":"Table_prices[[#This Row],[ITEMNMBR]]","v":0},"Rocket Flyer -","RETAIL",100]
[null,{"$f":"Table_prices[[#This Row],[ITEMNMBR]]","v":0},"Catch Ball Game -","RETAIL",100]
[null,{"$f":"Table_prices[[#This Row],[ITEMNMBR]]","v":0},"Extreme Flyer - DISCONTINUED","RETAIL",100]
[null,{"$f":"Table_prices[[#This Row],[ITEMNMBR]]","v":0},"Boom Racket Set - DISCONTINUED","RETAIL",100]
[null,{"$f":"Table_prices[[#This Row],[ITEMNMBR]]","v":0},"Silly Shotz","RETAIL",100]
[null,{"$f":"Table_prices[[#This Row],[ITEMNMBR]]","v":0},"Sports Stick Em Ball/Football","RETAIL",100]
[null,{"$f":"Table_prices[[#This Row],[ITEMNMBR]]","v":0},"Hoop Shot Game","RETAIL",100]
[null,{"$f":"Table_prices[[#This Row],[ITEMNMBR]]","v":0},"Travel Games Brainteasers - DISCONTINUED","RETAIL",100]
[null,{"$f":"Table_prices[[#This Row],[ITEMNMBR]]","v":0},"Neon Scribble Slate - DISCONTINUED","RETAIL",100]
[null,{"$f":"Table_prices[[#This Row],[ITEMNMBR]]","v":0},"Sprial Art","RETAIL",100]
[null,{"$f":"Table_prices[[#This Row],[ITEMNMBR]]","v":0},"Wooden Peg Game - Assorted - DISCONTINUED","RETAIL",100]
[null,{"$f":"Table_prices[[#This Row],[ITEMNMBR]]","v":0},"Magnetic Travel Games 3 in 1 -  Chess, Checkers, & Chinese Checkers - DISCONTINUED","RETAIL",100]
[null,{"$f":"Table_prices[[#This Row],[ITEMNMBR]]","v":0},"Rainbow Big Jax","RETAIL",100]
[null,{"$f":"Table_prices[[#This Row],[ITEMNMBR]]","v":0},"Fuzzy Face Pocket Travel Game -","RETAIL",100]
[null,{"$f":"Table_prices[[#This Row],[ITEMNMBR]]","v":0},"Connect Four Travel size game","RETAIL",100]
[null,{"$f":"Table_prices[[#This Row],[ITEMNMBR]]","v":0},"Lanyard Set (Gimp)","RETAIL",100]
[null,{"$f":"Table_prices[[#This Row],[ITEMNMBR]]","v":0},"Swirl Art","RETAIL",100]
[null,{"$f":"Table_prices[[#This Row],[ITEMNMBR]]","v":0},"Pop Sticks - DISCONTINUED","RETAIL",100]
[null,{"$f":"Table_prices[[#This Row],[ITEMNMBR]]","v":0},"Scratch a Sketch","RETAIL",100]
[null,{"$f":"Table_prices[[#This Row],[ITEMNMBR]]","v":0},"Magic Foam","RETAIL",100]
[null,{"$f":"Table_prices[[#This Row],[ITEMNMBR]]","v":0},"Flip Up Basketball Game","RETAIL",100]
[null,{"$f":"Table_prices[[#This Row],[ITEMNMBR]]","v":0},"Light up Flying Disc -","RETAIL",100]
[null,{"$f":"Table_prices[[#This Row],[ITEMNMBR]]","v":0},"Night Glow Putty","RETAIL",100]
[null,{"$f":"Table_prices[[#This Row],[ITEMNMBR]]","v":0},"Finger Lights","RETAIL",100]
[null,{"$f":"Table_prices[[#This Row],[ITEMNMBR]]","v":0},"Thumb Wrestle","RETAIL",100]
[null,{"$f":"Table_prices[[#This Row],[ITEMNMBR]]","v":0},"Football Finger Sports","RETAIL",100]
[null,{"$f":"Table_prices[[#This Row],[ITEMNMBR]]","v":0},"Glow in the Dark Yo Yo","RETAIL",100]
[null,{"$f":"Table_prices[[#This Row],[ITEMNMBR]]","v":0},"Swim Goggles","RETAIL",100]
[null,{"$f":"Table_prices[[#This Row],[ITEMNMBR]]","v":0},"Radical Filer Frisbee","RETAIL",100]
[null,{"$f":"Table_prices[[#This Row],[ITEMNMBR]]","v":0},"Mini Squirt Funs 4 pack","RETAIL",100]
[null,{"$f":"Table_prices[[#This Row],[ITEMNMBR]]","v":0},"Fun Bubbles 5 in 1 set","RETAIL",100]
[null,{"$f":"Table_prices[[#This Row],[ITEMNMBR]]","v":0},"Radical Sky Stunt Glider with launch","RETAIL",100]
[null,{"$f":"Table_prices[[#This Row],[ITEMNMBR]]","v":0},"Water Bomb 50 Balloons","RETAIL",100]
[null,{"$f":"Table_prices[[#This Row],[ITEMNMBR]]","v":0},"Rainbow Skip Ball","RETAIL",100]
[null,{"$f":"Table_prices[[#This Row],[ITEMNMBR]]","v":0},"Rocket Balloons","RETAIL",100]
[null,{"$f":"Table_prices[[#This Row],[ITEMNMBR]]","v":0},"Hydrocone Splash Fun - DISCONTINUED","RETAIL",100]
[null,{"$f":"Table_prices[[#This Row],[ITEMNMBR]]","v":0},"Harmonica","RETAIL",100]
[null,{"$f":"Table_prices[[#This Row],[ITEMNMBR]]","v":0},"Rainbow Slinky","RETAIL",100]
[null,{"$f":"Table_prices[[#This Row],[ITEMNMBR]]","v":0},"Air Foam Disc Shot","RETAIL",100]
[null,{"$f":"Table_prices[[#This Row],[ITEMNMBR]]","v":0},"Happy Birthday Balloons - 16 count -","RETAIL",100]
[null,{"$f":"Table_prices[[#This Row],[ITEMNMBR]]","v":0},"Super Party Poppers - 3 pack - DISCONTINUED","RETAIL",100]
[null,{"$f":"Table_prices[[#This Row],[ITEMNMBR]]","v":0},"Car Finger Lights","RETAIL",100]
[null,{"$f":"Table_prices[[#This Row],[ITEMNMBR]]","v":0},"Baseball Pinball Handheld - DISCONTINUED","RETAIL",100]
[null,{"$f":"Table_prices[[#This Row],[ITEMNMBR]]","v":0},"Water Game Pirate Chest - DISCONTINUED","RETAIL",100]
[null,{"$f":"Table_prices[[#This Row],[ITEMNMBR]]","v":0},"Neon Scribble Slate -","RETAIL",100]
[null,{"$f":"Table_prices[[#This Row],[ITEMNMBR]]","v":0},"Glow in the Dark Glo Flyer -","RETAIL",100]
[null,{"$f":"Table_prices[[#This Row],[ITEMNMBR]]","v":0},"Mega Party Popper -","RETAIL",100]
[null,{"$f":"Table_prices[[#This Row],[ITEMNMBR]]","v":0},"Make Your Own Sticker Kit -","RETAIL",100]
[null,{"$f":"Table_prices[[#This Row],[ITEMNMBR]]","v":0},"PEEPS (yellow) Bunnies by Just Born - 4 ct","RETAIL",100]
[null,{"$f":"Table_prices[[#This Row],[ITEMNMBR]]","v":0},"PEEPS (pink) Bunnies by Just Born - 4 ct","RETAIL",100]
[null,{"$f":"Table_prices[[#This Row],[ITEMNMBR]]","v":0},"PEEPS (blue) Bunnies by Just Born - 4 ct -","RETAIL",100]
[null,{"$f":"Table_prices[[#This Row],[ITEMNMBR]]","v":0}," PEEPS (yellow) Chicks by Just Born - 5 ct","RETAIL",100]
[null,{"$f":"Table_prices[[#This Row],[ITEMNMBR]]","v":0},"PEEPS (pink) Chicks by Just Born - 5 ct","RETAIL",100]
[null,{"$f":"Table_prices[[#This Row],[ITEMNMBR]]","v":0},"PEEPS (blue) Chicks by Just Born - 5 ct","RETAIL",100]
[null,{"$f":"Table_prices[[#This Row],[ITEMNMBR]]","v":0},"PEEPS (yellow) Chicks by Just Born - 5 ct","RETAIL",100]
[null,{"$f":"Table_prices[[#This Row],[ITEMNMBR]]","v":0}," PEEPS (assorted colors ) Chicks by Just Born -  5 ct","RETAIL",100]
[null,{"$f":"Table_prices[[#This Row],[ITEMNMBR]]","v":0},"Just Born Ghost Peeps 3ct","RETAIL",100]
[null,{"$f":"Table_prices[[#This Row],[ITEMNMBR]]","v":0},"Peeps Marshmallow \"I Heart U\"","RETAIL",100]
[null,{"$f":"Table_prices[[#This Row],[ITEMNMBR]]","v":0},"PEEPS (purple) Chick by Just Born - 5 ct -","RETAIL",100]
[null,{"$f":"Table_prices[[#This Row],[ITEMNMBR]]","v":0},"Jolly Joes Mike & Ike's by Just Born - 6 oz. -","RETAIL",100]
[null,{"$f":"Table_prices[[#This Row],[ITEMNMBR]]","v":0},"Italian Ice Mike & Ike's by Just Born - 5 oz -","RETAIL",100]
[null,{"$f":"Table_prices[[#This Row],[ITEMNMBR]]","v":0},"Mike and Ike Original Fruits by Just Born - 5 oz. -","RETAIL",100]
[null,{"$f":"Table_prices[[#This Row],[ITEMNMBR]]","v":0},"Just Right Auto Sales - Dom and Chocolates","RETAIL",200]
[null,{"$f":"Table_prices[[#This Row],[ITEMNMBR]]","v":0},"Cupid's Collection","RETAIL",100]
[null,{"$f":"Table_prices[[#This Row],[ITEMNMBR]]","v":0},"Strawberry Sweet Heart Box","RETAIL",100]
[null,{"$f":"Table_prices[[#This Row],[ITEMNMBR]]","v":0},"Lovers Body Paint- Milk Chocolate","RETAIL",100]
[null,{"$f":"Table_prices[[#This Row],[ITEMNMBR]]","v":0},"Lovers Body Paint-Dark Chocolate Raspberry","RETAIL",100]
[null,{"$f":"Table_prices[[#This Row],[ITEMNMBR]]","v":0},"Treasure Trove - Straw Champagne","RETAIL",100]
[null,{"$f":"Table_prices[[#This Row],[ITEMNMBR]]","v":0},"Treasure Trove - Rasp Kiss","RETAIL",100]
[null,{"$f":"Table_prices[[#This Row],[ITEMNMBR]]","v":0}," Smoked Mussels by Kasil of Fish 5 oz.","RETAIL",100]
[null,{"$f":"Table_prices[[#This Row],[ITEMNMBR]]","v":0},"Kasilof Fish Company Smoked Oysters 5 oz.","RETAIL",100]
[null,{"$f":"Table_prices[[#This Row],[ITEMNMBR]]","v":0},"Smoked Trout by Kasilof Fish Company - 5 oz","RETAIL",100]
[null,{"$f":"Table_prices[[#This Row],[ITEMNMBR]]","v":0},"Kasilof Fish Company Smoked Oysters 3 oz.","RETAIL",100]
[null,{"$f":"Table_prices[[#This Row],[ITEMNMBR]]","v":0},"Blow Pops Assorted","RETAIL",100]
[null,{"$f":"Table_prices[[#This Row],[ITEMNMBR]]","v":0},"Pez Assorted","RETAIL",100]
[null,{"$f":"Table_prices[[#This Row],[ITEMNMBR]]","v":0},"Necco Wafers","RETAIL",100]
[null,{"$f":"Table_prices[[#This Row],[ITEMNMBR]]","v":0},"Banana Flavored Laffy Taffy - snack size - by Wonka -","RETAIL",100]
[null,{"$f":"Table_prices[[#This Row],[ITEMNMBR]]","v":0},"Candy Buttons -","RETAIL",100]
[null,{"$f":"Table_prices[[#This Row],[ITEMNMBR]]","v":0},"Candy Lipstick - super model lipstick","RETAIL",100]
[null,{"$f":"Table_prices[[#This Row],[ITEMNMBR]]","v":0},"Candy Necklace by KOKO's","RETAIL",100]
[null,{"$f":"Table_prices[[#This Row],[ITEMNMBR]]","v":0},"Gobstoppers","RETAIL",100]
[null,{"$f":"Table_prices[[#This Row],[ITEMNMBR]]","v":0},"Grape & Strawberry Nerds by Wonka - 1.65 oz. -","RETAIL",100]
[null,{"$f":"Table_prices[[#This Row],[ITEMNMBR]]","v":0},"Hot Tamales by Just Born - 1.8oz. -","RETAIL",100]
[null,{"$f":"Table_prices[[#This Row],[ITEMNMBR]]","v":0},"Jaw Breaker 3\"","RETAIL",100]
[null,{"$f":"Table_prices[[#This Row],[ITEMNMBR]]","v":0},"Mike & Ike Original - 1.8 oz -","RETAIL",100]
[null,{"$f":"Table_prices[[#This Row],[ITEMNMBR]]","v":0},"Bazooka Original Bubble Gum","RETAIL",100]
[null,{"$f":"Table_prices[[#This Row],[ITEMNMBR]]","v":0},"Pixy Stix by Wonka -","RETAIL",100]
[null,{"$f":"Table_prices[[#This Row],[ITEMNMBR]]","v":0},"Pop Rocks","RETAIL",100]
[null,{"$f":"Table_prices[[#This Row],[ITEMNMBR]]","v":0},"Ring Pop by Topps -","RETAIL",100]
[null,{"$f":"Table_prices[[#This Row],[ITEMNMBR]]","v":0},"Sugar Daddy by Tootsie Roll Industries - 1.7 oz. -","RETAIL",100]
[null,{"$f":"Table_prices[[#This Row],[ITEMNMBR]]","v":0},"Tootsie Roll (large one)","RETAIL",100]
[null,{"$f":"Table_prices[[#This Row],[ITEMNMBR]]","v":0},"Whistle Pop","RETAIL",100]
[null,{"$f":"Table_prices[[#This Row],[ITEMNMBR]]","v":0},"Strawberry Twizzlers by Hersheys  - 2.5 oz.","RETAIL",100]
[null,{"$f":"Table_prices[[#This Row],[ITEMNMBR]]","v":0},"Strawberry FlavorLaffy Taffy -snack size- by Wonka -","RETAIL",100]
[null,{"$f":"Table_prices[[#This Row],[ITEMNMBR]]","v":0}," Conversation Hearts by Necco - 1 oz.-","RETAIL",100]
[null,{"$f":"Table_prices[[#This Row],[ITEMNMBR]]","v":0},"Watermelon & Cherry Nerds by Kendall Confectionery - 1.65 oz. -","RETAIL",100]
[null,{"$f":"Table_prices[[#This Row],[ITEMNMBR]]","v":0},"Kendall Confectionery Hershey's Marshmallow Eggs","RETAIL",100]
[null,{"$f":"Table_prices[[#This Row],[ITEMNMBR]]","v":0},"Kendall Confectionery Cadbury Cream Eggs","RETAIL",100]
[null,{"$f":"Table_prices[[#This Row],[ITEMNMBR]]","v":0},"Kendall Confectionery Pez Easter Pez","RETAIL",100]
[null,{"$f":"Table_prices[[#This Row],[ITEMNMBR]]","v":0},"Candy Blood Bag 5.29oz","RETAIL",100]
[null,{"$f":"Table_prices[[#This Row],[ITEMNMBR]]","v":0},"Giant Hershey Kiss 7oz","RETAIL",100]
[null,{"$f":"Table_prices[[#This Row],[ITEMNMBR]]","v":0},"Tropical Skittles 2.17oz.","RETAIL",100]
[null,{"$f":"Table_prices[[#This Row],[ITEMNMBR]]","v":0},"Khaya Cookie Co  Orange & Chocolate Krunchi","RETAIL",100]
[null,{"$f":"Table_prices[[#This Row],[ITEMNMBR]]","v":0},"Khaya Cookie Co  Grapeseed","RETAIL",100]
[null,{"$f":"Table_prices[[#This Row],[ITEMNMBR]]","v":0},"Khaya Cookie Co  Cranberry Rooibos","RETAIL",100]
[null,{"$f":"Table_prices[[#This Row],[ITEMNMBR]]","v":0},"A Hot Affair Board Game","RETAIL",100]
[null,{"$f":"Table_prices[[#This Row],[ITEMNMBR]]","v":0},"Caramel Sauce by King's Cupboard - 10.4 oz. -","RETAIL",100]
[null,{"$f":"Table_prices[[#This Row],[ITEMNMBR]]","v":0},"Pear Cinnamon Caramel Sauce by King's Cupboard - 11 oz. -","RETAIL",100]
[null,{"$f":"Table_prices[[#This Row],[ITEMNMBR]]","v":0},"Bittersweet Chocolate Sauce by King's Cupboard - 10 oz. -","RETAIL",100]
[null,{"$f":"Table_prices[[#This Row],[ITEMNMBR]]","v":0},"Kitchen Table Bakers Parmesean Wafer Crisps  3 oz.","RETAIL",100]
[null,{"$f":"Table_prices[[#This Row],[ITEMNMBR]]","v":0},"Sweet Ellas Organic Peanut Butter 13oz","RETAIL",100]
[null,{"$f":"Table_prices[[#This Row],[ITEMNMBR]]","v":0},"King of Pop Custom 2 Gallon Tin","RETAIL",49.99]
[null,{"$f":"Table_prices[[#This Row],[ITEMNMBR]]","v":0},"King of Pop Custom- 3.5 Gallon","RETAIL",59.99]
[null,{"$f":"Table_prices[[#This Row],[ITEMNMBR]]","v":0},"King of Pop Custom- 2 Gallon Premium","RETAIL",59.99]
[null,{"$f":"Table_prices[[#This Row],[ITEMNMBR]]","v":0},"King of Pop Custom- 3.5 Gallon premium","RETAIL",69.989999999999995]
[null,{"$f":"Table_prices[[#This Row],[ITEMNMBR]]","v":0},"King of Pop Custom 1 Gallon Tin - (non - supreme)","RETAIL",29.99]
[null,{"$f":"Table_prices[[#This Row],[ITEMNMBR]]","v":0},"King of Pop Custom 1 Gallon Tin - (supreme)","RETAIL",34.99]
[null,{"$f":"Table_prices[[#This Row],[ITEMNMBR]]","v":0},"Custom McLean Mortgage - 1 gallon - with sticker (Tim)","RETAIL",19.989999999999998]
[null,{"$f":"Table_prices[[#This Row],[ITEMNMBR]]","v":0},"Custom McLean Mortgage - 1 gallon  (Tim)","RETAIL",19.989999999999998]
[null,{"$f":"Table_prices[[#This Row],[ITEMNMBR]]","v":0},"Custom Element Funding - 1 gallon  (Tim)","RETAIL",19.989999999999998]
[null,{"$f":"Table_prices[[#This Row],[ITEMNMBR]]","v":0},"Cheesy Cheddar Popcorn - Single Serve","RETAIL",2.99]
[null,{"$f":"Table_prices[[#This Row],[ITEMNMBR]]","v":0},"Honey Mustard Popcorn - Single Serve","RETAIL",2.99]
[null,{"$f":"Table_prices[[#This Row],[ITEMNMBR]]","v":0},"Caramel Popcorn - Single Serve","RETAIL",2.99]
[null,{"$f":"Table_prices[[#This Row],[ITEMNMBR]]","v":0},"Sea Salt & Cracked Pepper Popcorn - Single Serve","RETAIL",2.99]
[null,{"$f":"Table_prices[[#This Row],[ITEMNMBR]]","v":0},"Batch of Au Natural Popcorn - Case","RETAIL",35]
[null,{"$f":"Table_prices[[#This Row],[ITEMNMBR]]","v":0},"Honey Mustard Sampler Bag","RETAIL",1.5]
[null,{"$f":"Table_prices[[#This Row],[ITEMNMBR]]","v":0},"Batch of Bacon Cheddar Popcorn - Case","RETAIL",23.1]
[null,{"$f":"Table_prices[[#This Row],[ITEMNMBR]]","v":0},"Cheesy Cheddar Sampler Bag","RETAIL",1.5]
[null,{"$f":"Table_prices[[#This Row],[ITEMNMBR]]","v":0},"Batch of Cheddar Cheese Popcorn - Case","RETAIL",35.99]
[null,{"$f":"Table_prices[[#This Row],[ITEMNMBR]]","v":0},"Cookies & Cream Sampler Bag","RETAIL",1.5]
[null,{"$f":"Table_prices[[#This Row],[ITEMNMBR]]","v":0},"Sea Salt & Cracked Pepper Sampler Bag","RETAIL",1.5]
[null,{"$f":"Table_prices[[#This Row],[ITEMNMBR]]","v":0},"Batch of GarlicParmesan Popcorn - Case","RETAIL",19.100000000000001]
[null,{"$f":"Table_prices[[#This Row],[ITEMNMBR]]","v":0},"Tuxedo Sampler Bag","RETAIL",1.5]
[null,{"$f":"Table_prices[[#This Row],[ITEMNMBR]]","v":0},"Batch of Honey Mustard  Popcorn - Case","RETAIL",19.100000000000001]
[null,{"$f":"Table_prices[[#This Row],[ITEMNMBR]]","v":0},"Batch of Buttered Popcorn - CASE","RETAIL",40]
[null,{"$f":"Table_prices[[#This Row],[ITEMNMBR]]","v":0},"Zesty Ranch Batch Bag","RETAIL",1.5]
[null,{"$f":"Table_prices[[#This Row],[ITEMNMBR]]","v":0},"Batch of Zesty Ranch Popcorn - Case","RETAIL",19.100000000000001]
[null,{"$f":"Table_prices[[#This Row],[ITEMNMBR]]","v":0},"Batch of Salt & Vinegar Popcorn - Case","RETAIL",19.100000000000001]
[null,{"$f":"Table_prices[[#This Row],[ITEMNMBR]]","v":0},"Batch of Sour Cream & Chive Popcorn - Case","RETAIL",19.100000000000001]
[null,{"$f":"Table_prices[[#This Row],[ITEMNMBR]]","v":0},"Batch of White Cheddar Popcorn - Case","RETAIL",35.99]
[null,{"$f":"Table_prices[[#This Row],[ITEMNMBR]]","v":0},"Batch of Buffalo Popcorn - Case","RETAIL",19.100000000000001]
[null,{"$f":"Table_prices[[#This Row],[ITEMNMBR]]","v":0},"Batch of Caramel Popcorn - CASE","RETAIL",40]
[null,{"$f":"Table_prices[[#This Row],[ITEMNMBR]]","v":0},"Batch of Cinnamon & Brown Sugar Kettle Corn - Case","RETAIL",19.100000000000001]
[null,{"$f":"Table_prices[[#This Row],[ITEMNMBR]]","v":0},"Batch of Kettle Corn - Case","RETAIL",16.89]
[null,{"$f":"Table_prices[[#This Row],[ITEMNMBR]]","v":0},"Batch of Sea Salt & Cracked Pepper - Case","RETAIL",16.89]
[null,{"$f":"Table_prices[[#This Row],[ITEMNMBR]]","v":0},"Batch of Cherry Popcorn - Case","RETAIL",29.59]
[null,{"$f":"Table_prices[[#This Row],[ITEMNMBR]]","v":0},"Batch of Cookies & Cream Popcorn - Case","RETAIL",45.03]
[null,{"$f":"Table_prices[[#This Row],[ITEMNMBR]]","v":0},"Batch of Peanut Butter Cup Popcorn - Case","RETAIL",45.03]
[null,{"$f":"Table_prices[[#This Row],[ITEMNMBR]]","v":0},"Batch of Strawberry Cheesecake Popcorn - Case","RETAIL",45.03]
[null,{"$f":"Table_prices[[#This Row],[ITEMNMBR]]","v":0},"Batch of White Chocolate Pineapple Popcorn - Case","RETAIL",45.03]
[null,{"$f":"Table_prices[[#This Row],[ITEMNMBR]]","v":0},"Batch of Birthday Cake Popcorn - Case","RETAIL",45.03]
[null,{"$f":"Table_prices[[#This Row],[ITEMNMBR]]","v":0},"Batch of Dark Chocolate Caramel Popcorn","RETAIL",47.86]
[null,{"$f":"Table_prices[[#This Row],[ITEMNMBR]]","v":0},"Batch of Dark Chocolate Caramel Popcorn - Case","RETAIL",47.86]
[null,{"$f":"Table_prices[[#This Row],[ITEMNMBR]]","v":0},"Batch of Milk Chocolate Caramel Popcorn","RETAIL",47.86]
[null,{"$f":"Table_prices[[#This Row],[ITEMNMBR]]","v":0},"Batch of Milk Chocolate Caramel Popcorn - Case","RETAIL",47.86]
[null,{"$f":"Table_prices[[#This Row],[ITEMNMBR]]","v":0},"Batch of Tuxedo Popcorn - Case","RETAIL",45.03]
[null,{"$f":"Table_prices[[#This Row],[ITEMNMBR]]","v":0},"Batch of Creamy Dill Popcorn - Case","RETAIL",19.100000000000001]
[null,{"$f":"Table_prices[[#This Row],[ITEMNMBR]]","v":0},"Batch of Confetti Popcorn - Case","RETAIL",29.59]
[null,{"$f":"Table_prices[[#This Row],[ITEMNMBR]]","v":0},"Batch of White Chocolate Strawberry Popcorn - Case","RETAIL",52.18]
[null,{"$f":"Table_prices[[#This Row],[ITEMNMBR]]","v":0},"KingOfPOP.com Display - Quarter Pallet - 270 Assorted Snack Bags","RETAIL",170.1]
[null,{"$f":"Table_prices[[#This Row],[ITEMNMBR]]","v":0},"KingOfPOP.com Display - Quarter Pallet - 270 Assorted Snack Bags Holiday","RETAIL",170.1]
[null,{"$f":"Table_prices[[#This Row],[ITEMNMBR]]","v":0},"KingOfPOP Grocery Sampler Case","RETAIL",12.42]
[null,{"$f":"Table_prices[[#This Row],[ITEMNMBR]]","v":0},"Honey Mustard Grocery Bag","RETAIL",3.49]
[null,{"$f":"Table_prices[[#This Row],[ITEMNMBR]]","v":0},"Honey Mustard Popcorn - 5 oz. - Case / 12","RETAIL",24.6]
[null,{"$f":"Table_prices[[#This Row],[ITEMNMBR]]","v":0},"Buffalo Grocery Bag","RETAIL",3.49]
[null,{"$f":"Table_prices[[#This Row],[ITEMNMBR]]","v":0},"Buffalo Popcorn - 5 oz. - Case / 12","RETAIL",24.6]
[null,{"$f":"Table_prices[[#This Row],[ITEMNMBR]]","v":0},"Cinnamon & Brown Sugar Kettle Corn Grocery Bag","RETAIL",3.49]
[null,{"$f":"Table_prices[[#This Row],[ITEMNMBR]]","v":0},"Cinnamon & Brown Sugar Kettle Corn Popcorn - 6.2 oz. - Case / 12","RETAIL",24.6]
[null,{"$f":"Table_prices[[#This Row],[ITEMNMBR]]","v":0},"Cinnamon & Brown Sugar Kettle Corn Popcorn - 6.2 oz. - Case / 6","RETAIL",23.94]
[null,{"$f":"Table_prices[[#This Row],[ITEMNMBR]]","v":0},"Sea Salt & Cracked Pepper Kettle Corn Grocery Bag","RETAIL",3.49]
[null,{"$f":"Table_prices[[#This Row],[ITEMNMBR]]","v":0},"Sea Salt & Cracked Pepper Kettle Corn Popcorn - 6.2 oz. - Case / 12","RETAIL",24.6]
[null,{"$f":"Table_prices[[#This Row],[ITEMNMBR]]","v":0},"Sweet Onion Popcorn Grocery Bag","RETAIL",3.49]
[null,{"$f":"Table_prices[[#This Row],[ITEMNMBR]]","v":0},"Sweet Onion Popcorn - Case / 12","RETAIL",24.6]
[null,{"$f":"Table_prices[[#This Row],[ITEMNMBR]]","v":0},"Hickory Maple Bacon Popcorn Grocery Bag","RETAIL",3.49]
[null,{"$f":"Table_prices[[#This Row],[ITEMNMBR]]","v":0},"Hickory Maple Bacon Popcorn - Case / 12","RETAIL",24.6]
[null,{"$f":"Table_prices[[#This Row],[ITEMNMBR]]","v":0},"Cheesy Cheddar Popcorn Sampler Bag - Manufacturing","RETAIL",1.5]
[null,{"$f":"Table_prices[[#This Row],[ITEMNMBR]]","v":0},"Caramel Popcorn Sampler Bag - Manufacturing","RETAIL",1.5]
[null,{"$f":"Table_prices[[#This Row],[ITEMNMBR]]","v":0},"Key Lime Pie - Case/24","RETAIL",36.479999999999997]
[null,{"$f":"Table_prices[[#This Row],[ITEMNMBR]]","v":0},"Cookies & Cream Popcorn Sampler Bag - Manufacturing","RETAIL",1.5]
[null,{"$f":"Table_prices[[#This Row],[ITEMNMBR]]","v":0},"Tuxedo (Double Chocolate Drizzled Caramel) Sampler Bag - Manufacturing","RETAIL",1.5]
[null,{"$f":"Table_prices[[#This Row],[ITEMNMBR]]","v":0},"Pink Himalayan Salt Caramel Popcorn - Purdy's","RETAIL",2.09]
[null,{"$f":"Table_prices[[#This Row],[ITEMNMBR]]","v":0},"Pink Himalayan Salt Caramel Popcorn","RETAIL",20.9]
[null,{"$f":"Table_prices[[#This Row],[ITEMNMBR]]","v":0},"Au Natural Popcorn Generic Bag","RETAIL",0]
[null,{"$f":"Table_prices[[#This Row],[ITEMNMBR]]","v":0},"Bacon Cheddar Popcorn Generic Bag","RETAIL",0]
[null,{"$f":"Table_prices[[#This Row],[ITEMNMBR]]","v":0},"Bacon Cheddar Generic - Case/24","RETAIL",16.8]
[null,{"$f":"Table_prices[[#This Row],[ITEMNMBR]]","v":0},"Cheesy Cheddar Popcorn Generic Bag","RETAIL",0]
[null,{"$f":"Table_prices[[#This Row],[ITEMNMBR]]","v":0},"Dill Pickle Popcorn Generic Bag","RETAIL",0]
[null,{"$f":"Table_prices[[#This Row],[ITEMNMBR]]","v":0},"Garlic Parmesan Popcorn Generic Bag","RETAIL",0]
[null,{"$f":"Table_prices[[#This Row],[ITEMNMBR]]","v":0},"Garlic Parmesan Generic - Case/24","RETAIL",16.8]
[null,{"$f":"Table_prices[[#This Row],[ITEMNMBR]]","v":0},"Honey Mustard Popcorn Generic Bag","RETAIL",0]
[null,{"$f":"Table_prices[[#This Row],[ITEMNMBR]]","v":0},"BBQ Popcorn Generic Bag","RETAIL",0]
[null,{"$f":"Table_prices[[#This Row],[ITEMNMBR]]","v":0},"Buttered Popcorn Generic Bag","RETAIL",0]
[null,{"$f":"Table_prices[[#This Row],[ITEMNMBR]]","v":0},"Buttered Popcorn (Generic Bag) - case / 18","RETAIL",14.4]
[null,{"$f":"Table_prices[[#This Row],[ITEMNMBR]]","v":0},"Zesty Ranch Popcorn Generic Bag","RETAIL",0]
[null,{"$f":"Table_prices[[#This Row],[ITEMNMBR]]","v":0},"Zesty Ranch Generic - Case/24","RETAIL",16.8]
[null,{"$f":"Table_prices[[#This Row],[ITEMNMBR]]","v":0},"Pizza Time Popcorn Generic Bag","RETAIL",0]
[null,{"$f":"Table_prices[[#This Row],[ITEMNMBR]]","v":0},"Salt n Vinegar Popcorn Generic Bag","RETAIL",0]
[null,{"$f":"Table_prices[[#This Row],[ITEMNMBR]]","v":0},"Sour Cream n Chive Popcorn Generic Bag","RETAIL",0]
[null,{"$f":"Table_prices[[#This Row],[ITEMNMBR]]","v":0},"Too Hot to Handle Popcorn Generic Bag","RETAIL",0]
[null,{"$f":"Table_prices[[#This Row],[ITEMNMBR]]","v":0},"White Cheddar Popcorn Generic Bag","RETAIL",0]
[null,{"$f":"Table_prices[[#This Row],[ITEMNMBR]]","v":0},"White Cheddar Popcorn (Generic Bag) - case / 18","RETAIL",14.4]
[null,{"$f":"Table_prices[[#This Row],[ITEMNMBR]]","v":0},"Cajun Popcorn Generic Bag","RETAIL",0]
[null,{"$f":"Table_prices[[#This Row],[ITEMNMBR]]","v":0},"Chipotle BBQ Popcorn Generic Bag","RETAIL",0.8]
[null,{"$f":"Table_prices[[#This Row],[ITEMNMBR]]","v":0},"Chipotle BBQ Popcorn - case / 18","RETAIL",14.4]
[null,{"$f":"Table_prices[[#This Row],[ITEMNMBR]]","v":0},"Nacho cheese Popcorn Generic Bag","RETAIL",0]
[null,{"$f":"Table_prices[[#This Row],[ITEMNMBR]]","v":0},"Buffalo Popcorn Generic Bag","RETAIL",0]
[null,{"$f":"Table_prices[[#This Row],[ITEMNMBR]]","v":0},"Buffalo Popcorn (Generic Bag) - case / 18","RETAIL",14.4]
[null,{"$f":"Table_prices[[#This Row],[ITEMNMBR]]","v":0},"Caramel Popcorn Generic Bag","RETAIL",0]
[null,{"$f":"Table_prices[[#This Row],[ITEMNMBR]]","v":0},"Cinnamon & Brown Sugar Kettlecorn (CinnamonToast) Popcorn Generic Bag","RETAIL",0]
[null,{"$f":"Table_prices[[#This Row],[ITEMNMBR]]","v":0},"Cinnamon & Brown Sugar Kettlecorn (Generic Bag) - case / 18","RETAIL",14.4]
[null,{"$f":"Table_prices[[#This Row],[ITEMNMBR]]","v":0},"Kettle Corn Popcorn Generic Bag","RETAIL",0]
[null,{"$f":"Table_prices[[#This Row],[ITEMNMBR]]","v":0},"Kettle Corn Popcorn (Generic Bag) - case / 18","RETAIL",14.4]
[null,{"$f":"Table_prices[[#This Row],[ITEMNMBR]]","v":0},"Sea Salt n Cracked Pepper Popcorn Generic Bag","RETAIL",0]
[null,{"$f":"Table_prices[[#This Row],[ITEMNMBR]]","v":0},"Banana Popcorn Generic Bag","RETAIL",0]
[null,{"$f":"Table_prices[[#This Row],[ITEMNMBR]]","v":0},"Grape Popcorn Generic Bag","RETAIL",0]
[null,{"$f":"Table_prices[[#This Row],[ITEMNMBR]]","v":0},"Watermelon Popcorn Generic Bag","RETAIL",0]
[null,{"$f":"Table_prices[[#This Row],[ITEMNMBR]]","v":0},"Strawberry Popcorn Generic Bag","RETAIL",0]
[null,{"$f":"Table_prices[[#This Row],[ITEMNMBR]]","v":0},"Cinnamon Popcorn Generic Bag","RETAIL",0]
[null,{"$f":"Table_prices[[#This Row],[ITEMNMBR]]","v":0},"Black Cherry Popcorn Generic Bag","RETAIL",0]
[null,{"$f":"Table_prices[[#This Row],[ITEMNMBR]]","v":0},"Orange Popcorn Generic Bag","RETAIL",0]
[null,{"$f":"Table_prices[[#This Row],[ITEMNMBR]]","v":0},"Blue Raspberry Popcorn Generic Bag","RETAIL",0]
[null,{"$f":"Table_prices[[#This Row],[ITEMNMBR]]","v":0},"Toffee Popcorn Generic Bag","RETAIL",0]
[null,{"$f":"Table_prices[[#This Row],[ITEMNMBR]]","v":0},"Green Apple Popcorn Generic Bag","RETAIL",0]
[null,{"$f":"Table_prices[[#This Row],[ITEMNMBR]]","v":0},"Vanilla Popcorn Generic Bag","RETAIL",0]
[null,{"$f":"Table_prices[[#This Row],[ITEMNMBR]]","v":0},"Candy Pina Colada Popcorn Generic Bag","RETAIL",0]
[null,{"$f":"Table_prices[[#This Row],[ITEMNMBR]]","v":0},"Lemon Popcorn Generic Bag","RETAIL",0]
[null,{"$f":"Table_prices[[#This Row],[ITEMNMBR]]","v":0},"Cherry Popcorn Generic Bag","RETAIL",0]
[null,{"$f":"Table_prices[[#This Row],[ITEMNMBR]]","v":0},"Blueberry Popcorn Generic Bag","RETAIL",0]
[null,{"$f":"Table_prices[[#This Row],[ITEMNMBR]]","v":0},"Bubble Gum Popcorn Generic Bag","RETAIL",0]
[null,{"$f":"Table_prices[[#This Row],[ITEMNMBR]]","v":0},"Banana Cream Pie Popcorn Generic Bag","RETAIL",0]
[null,{"$f":"Table_prices[[#This Row],[ITEMNMBR]]","v":0},"Bueberry Graham Popcorn Generic Bag","RETAIL",0]
[null,{"$f":"Table_prices[[#This Row],[ITEMNMBR]]","v":0},"Coffee Berry Popcorn Generic Bag","RETAIL",0]
[null,{"$f":"Table_prices[[#This Row],[ITEMNMBR]]","v":0},"Coffee n' Cream Popcorn Generic Bag","RETAIL",0]
[null,{"$f":"Table_prices[[#This Row],[ITEMNMBR]]","v":0},"Dark Chocolate Chile Popcorn Generic Bag","RETAIL",0]
[null,{"$f":"Table_prices[[#This Row],[ITEMNMBR]]","v":0},"Key Lime Pie Popcorn Generic Bag","RETAIL",0]
[null,{"$f":"Table_prices[[#This Row],[ITEMNMBR]]","v":0},"Granite State Maple Popcorn Generic Bag","RETAIL",0]
[null,{"$f":"Table_prices[[#This Row],[ITEMNMBR]]","v":0},"Island Coconut Generic Bag","RETAIL",1.1000000000000001]
[null,{"$f":"Table_prices[[#This Row],[ITEMNMBR]]","v":0},"Island Coconut Popcorn - case / 18","RETAIL",19.8]
[null,{"$f":"Table_prices[[#This Row],[ITEMNMBR]]","v":0},"Eggnog Popcorn Generic Bag","RETAIL",0]
[null,{"$f":"Table_prices[[#This Row],[ITEMNMBR]]","v":0},"Dark Chocolate Cherry Popcorn Generic Bag","RETAIL",0]
[null,{"$f":"Table_prices[[#This Row],[ITEMNMBR]]","v":0},"Mint Chocolate Chip Popcorn Generic Bag","RETAIL",0]
[null,{"$f":"Table_prices[[#This Row],[ITEMNMBR]]","v":0},"White Chocolate Cranberry Popcorn Generic Bag","RETAIL",0]
[null,{"$f":"Table_prices[[#This Row],[ITEMNMBR]]","v":0},"Cookies & Cream Popcorn Generic Bag","RETAIL",0]
[null,{"$f":"Table_prices[[#This Row],[ITEMNMBR]]","v":0},"Mint Cookie Mayhem Popcorn Generic Bag","RETAIL",0]
[null,{"$f":"Table_prices[[#This Row],[ITEMNMBR]]","v":0},"Peanut Butter Cup Popcorn Generic Bag","RETAIL",0]
[null,{"$f":"Table_prices[[#This Row],[ITEMNMBR]]","v":0},"Pina Colada Popcorn Generic Bag","RETAIL",0]
[null,{"$f":"Table_prices[[#This Row],[ITEMNMBR]]","v":0},"Salted Chocolate Popcorn Generic Bag","RETAIL",0]
[null,{"$f":"Table_prices[[#This Row],[ITEMNMBR]]","v":0},"Strawberry Cheesecake Popcorn Generic Bag","RETAIL",0]
[null,{"$f":"Table_prices[[#This Row],[ITEMNMBR]]","v":0},"Toasted Coconut Crunch Popcorn Generic Bag","RETAIL",0]
[null,{"$f":"Table_prices[[#This Row],[ITEMNMBR]]","v":0},"White Chocolate Pineapple Popcorn Generic Bag","RETAIL",0]
[null,{"$f":"Table_prices[[#This Row],[ITEMNMBR]]","v":0},"Champagne & Strawberries Popcorn Generic Bag","RETAIL",0]
[null,{"$f":"Table_prices[[#This Row],[ITEMNMBR]]","v":0},"Funky Monkey Popcorn Generic Bag","RETAIL",1.1000000000000001]
[null,{"$f":"Table_prices[[#This Row],[ITEMNMBR]]","v":0},"Funky Monkey Popcorn - case / 18","RETAIL",19.8]
[null,{"$f":"Table_prices[[#This Row],[ITEMNMBR]]","v":0},"Smore's Popcorn Generic Bag","RETAIL",0]
[null,{"$f":"Table_prices[[#This Row],[ITEMNMBR]]","v":0},"Cinnamon Bun Popcorn Generic Bag","RETAIL",0]
[null,{"$f":"Table_prices[[#This Row],[ITEMNMBR]]","v":0},"Birthday Cake Popcorn Generic Bag","RETAIL",0]
[null,{"$f":"Table_prices[[#This Row],[ITEMNMBR]]","v":0},"Dark Chocolate Drizzle Caramel Popcorn Generic Bag","RETAIL",0]
[null,{"$f":"Table_prices[[#This Row],[ITEMNMBR]]","v":0},"Milk Chocolate Drizzle Caramel Popcorn Generic Bag","RETAIL",0]
[null,{"$f":"Table_prices[[#This Row],[ITEMNMBR]]","v":0},"Salted Chocolate Drizzle Caramel Popcorn Generic Bag","RETAIL",0]
[null,{"$f":"Table_prices[[#This Row],[ITEMNMBR]]","v":0},"Tuxedo (Dark & White Chocolate Drizzle Caramel) Popcorn Generic Bag","RETAIL",0]
[null,{"$f":"Table_prices[[#This Row],[ITEMNMBR]]","v":0},"White Chocolate Caramel Popcorn Generic Bag","RETAIL",0]
[null,{"$f":"Table_prices[[#This Row],[ITEMNMBR]]","v":0},"Turtle Popcorn Generic Bag","RETAIL",0]
[null,{"$f":"Table_prices[[#This Row],[ITEMNMBR]]","v":0},"Caramel Apple Popcorn Generic Bag","RETAIL",0]
[null,{"$f":"Table_prices[[#This Row],[ITEMNMBR]]","v":0},"Ketchup Popcorn Generic Bag","RETAIL",0]
[null,{"$f":"Table_prices[[#This Row],[ITEMNMBR]]","v":0},"Creamy Dill Popcorn Generic Bag","RETAIL",0]
[null,{"$f":"Table_prices[[#This Row],[ITEMNMBR]]","v":0},"Sun Dried Tomato Basil Popcorn by KingOfPOP.com - 1.1 oz. -","RETAIL",0]
[null,{"$f":"Table_prices[[#This Row],[ITEMNMBR]]","v":0},"BBQ Ribs Popcorn Generic Bag","RETAIL",0.8]
[null,{"$f":"Table_prices[[#This Row],[ITEMNMBR]]","v":0},"BBQ Ribs Popcorn - case /18","RETAIL",14.4]
[null,{"$f":"Table_prices[[#This Row],[ITEMNMBR]]","v":0},"Dark Chocolate Peppermint Popcorn Generic Bag","RETAIL",0]
[null,{"$f":"Table_prices[[#This Row],[ITEMNMBR]]","v":0},"Strawberry Banana Confetti Popcorn Generic Bag","RETAIL",0]
[null,{"$f":"Table_prices[[#This Row],[ITEMNMBR]]","v":0}," Confetti Popcorn Generic Bag","RETAIL",0]
[null,{"$f":"Table_prices[[#This Row],[ITEMNMBR]]","v":0},"Halloween Confetti Popcorn Generic Bag","RETAIL",0]
[null,{"$f":"Table_prices[[#This Row],[ITEMNMBR]]","v":0},"Caramel Nut Crunch Popcorn Generic Bag","RETAIL",0]
[null,{"$f":"Table_prices[[#This Row],[ITEMNMBR]]","v":0},"Chocolate Caramel Nut Crunch Popcorn Generic Bag","RETAIL",0]
[null,{"$f":"Table_prices[[#This Row],[ITEMNMBR]]","v":0},"Christmas Confetti (Red & Green Candycorn & Caramel Corn) Popcorn Generic Bag","RETAIL",0]
[null,{"$f":"Table_prices[[#This Row],[ITEMNMBR]]","v":0},"Gingerbread Popcorn Generic Bag","RETAIL",0]
[null,{"$f":"Table_prices[[#This Row],[ITEMNMBR]]","v":0},"Turkey Popcorn Generic Bag","RETAIL",0]
[null,{"$f":"Table_prices[[#This Row],[ITEMNMBR]]","v":0},"Stuffing Popcorn Generic Bag","RETAIL",0]
[null,{"$f":"Table_prices[[#This Row],[ITEMNMBR]]","v":0},"Gravy Popcorn Generic Bag","RETAIL",0]
[null,{"$f":"Table_prices[[#This Row],[ITEMNMBR]]","v":0},"Sweet Potato Popcorn Generic Bag","RETAIL",0]
[null,{"$f":"Table_prices[[#This Row],[ITEMNMBR]]","v":0},"Pumpkin Pie Popcorn Generic Bag","RETAIL",0]
[null,{"$f":"Table_prices[[#This Row],[ITEMNMBR]]","v":0},"Apple Pie Popcorn Generic Bag","RETAIL",0]
[null,{"$f":"Table_prices[[#This Row],[ITEMNMBR]]","v":0},"Cranberry Sauce Popcorn Generic Bag","RETAIL",0]
[null,{"$f":"Table_prices[[#This Row],[ITEMNMBR]]","v":0},"White Chocolate Peppermint Popcorn Generic Bag","RETAIL",0]
[null,{"$f":"Table_prices[[#This Row],[ITEMNMBR]]","v":0}," Anise Cookie Popcorn Generic Bag","RETAIL",0]
[null,{"$f":"Table_prices[[#This Row],[ITEMNMBR]]","v":0},"Dark Chocolate Orange Popcorn Generic Bag","RETAIL",0]
[null,{"$f":"Table_prices[[#This Row],[ITEMNMBR]]","v":0},"Milk Chocolate Drizzle Kettlecorn Generic Bag","RETAIL",0]
[null,{"$f":"Table_prices[[#This Row],[ITEMNMBR]]","v":0},"Garlic Mashed Potatoes Sampler Bag","RETAIL",0]
[null,{"$f":"Table_prices[[#This Row],[ITEMNMBR]]","v":0},"Pink Himalayan Sea Salt Caramel Popcorn by KingOfPOP.com - 3.14 oz. -","RETAIL",0]
[null,{"$f":"Table_prices[[#This Row],[ITEMNMBR]]","v":0},"Confetti Cake Popcorn by KingOfPOP.com -","RETAIL",0]
[null,{"$f":"Table_prices[[#This Row],[ITEMNMBR]]","v":0},"Chocolate Hazelnut Popcorn by KingOfPOP.com -","RETAIL",0]
[null,{"$f":"Table_prices[[#This Row],[ITEMNMBR]]","v":0},"Buttered Corn on the Cob Popcorn by KingOfPOP.com -","RETAIL",0]
[null,{"$f":"Table_prices[[#This Row],[ITEMNMBR]]","v":0},"Sweet Onion Popcorn by KingOfPOP.com -","RETAIL",0]
[null,{"$f":"Table_prices[[#This Row],[ITEMNMBR]]","v":0},"Hickory Maple Bacon Popcorn by KingOfPOP.com -","RETAIL",0]
[null,{"$f":"Table_prices[[#This Row],[ITEMNMBR]]","v":0},"Candy Cane Peppermint Kettlecorn Generic Bag","RETAIL",0]
[null,{"$f":"Table_prices[[#This Row],[ITEMNMBR]]","v":0},"Cheesy Cheddar Popcorn Retail Sampler Bag","RETAIL",0.7]
[null,{"$f":"Table_prices[[#This Row],[ITEMNMBR]]","v":0},"Cheesy Cheddar Popcorn - case / 18","RETAIL",15.3]
[null,{"$f":"Table_prices[[#This Row],[ITEMNMBR]]","v":0},"Cheesy Cheddar Popcorn - case / 24","RETAIL",20.399999999999999]
[null,{"$f":"Table_prices[[#This Row],[ITEMNMBR]]","v":0},"Garlic Parmesan Popcorn by KingOfPOP.com - 1.1 oz. -","RETAIL",0.7]
[null,{"$f":"Table_prices[[#This Row],[ITEMNMBR]]","v":0},"Garlic Parmesan Popcorn - Case / 24","RETAIL",16.8]
[null,{"$f":"Table_prices[[#This Row],[ITEMNMBR]]","v":0},"Honey Mustard Popcorn by KingOfPOP.com - 1.1 oz. -","RETAIL",0.7]
[null,{"$f":"Table_prices[[#This Row],[ITEMNMBR]]","v":0},"Honey Mustard Popcorn - case / 18","RETAIL",12.6]
[null,{"$f":"Table_prices[[#This Row],[ITEMNMBR]]","v":0},"Honey Mustard Popcorn - Case / 24","RETAIL",16.8]
[null,{"$f":"Table_prices[[#This Row],[ITEMNMBR]]","v":0},"Zesty Ranch Popcorn by KingOfPOP.com - 1.1 oz. -","RETAIL",0.7]
[null,{"$f":"Table_prices[[#This Row],[ITEMNMBR]]","v":0},"Zesty Ranch Popcorn - Case / 24","RETAIL",16.8]
[null,{"$f":"Table_prices[[#This Row],[ITEMNMBR]]","v":0},"Buffalo Popcorn by KingOfPOP.com - 1.1 oz. -","RETAIL",0.7]
[null,{"$f":"Table_prices[[#This Row],[ITEMNMBR]]","v":0},"Buffalo Popcorn - case / 18","RETAIL",0]
[null,{"$f":"Table_prices[[#This Row],[ITEMNMBR]]","v":0},"Buffalo Popcorn - Case / 24","RETAIL",16.8]
[null,{"$f":"Table_prices[[#This Row],[ITEMNMBR]]","v":0},"Caramel Popcorn Retail Sampler Bag","RETAIL",0.7]
[null,{"$f":"Table_prices[[#This Row],[ITEMNMBR]]","v":0},"Caramel Popcorn - case / 18","RETAIL",12.6]
[null,{"$f":"Table_prices[[#This Row],[ITEMNMBR]]","v":0},"Caramel Popcorn - case / 24","RETAIL",16.8]
[null,{"$f":"Table_prices[[#This Row],[ITEMNMBR]]","v":0},"Cinnamon & Brown Sugar Kettle Corn by KingOfPOP.com - 1.4 oz. -","RETAIL",0.7]
[null,{"$f":"Table_prices[[#This Row],[ITEMNMBR]]","v":0},"Cinnamon & Brown Sugar Kettle Corn Popcorn - case / 18","RETAIL",0]
[null,{"$f":"Table_prices[[#This Row],[ITEMNMBR]]","v":0},"Cinnamon & Brown Sugar Kettle Corn Popcorn - Case / 24","RETAIL",16.8]
[null,{"$f":"Table_prices[[#This Row],[ITEMNMBR]]","v":0},"Sea Salt & Cracked Pepper Kettle Corn by KingOfPOP.com - 1.4 oz. -","RETAIL",0.7]
[null,{"$f":"Table_prices[[#This Row],[ITEMNMBR]]","v":0},"Sea Salt & Cracked Pepper Popcorn - case / 18","RETAIL",12.6]
[null,{"$f":"Table_prices[[#This Row],[ITEMNMBR]]","v":0},"Sea Salt & Cracked Pepper Popcorn - Case / 24","RETAIL",16.8]
[null,{"$f":"Table_prices[[#This Row],[ITEMNMBR]]","v":0},"Cookies & Cream Popcorn Retail Sampler Bag","RETAIL",1.1000000000000001]
[null,{"$f":"Table_prices[[#This Row],[ITEMNMBR]]","v":0},"Cookies & Cream Popcorn - case / 18","RETAIL",19.8]
[null,{"$f":"Table_prices[[#This Row],[ITEMNMBR]]","v":0},"Cookies & Cream Popcorn - case / 24","RETAIL",26.4]
[null,{"$f":"Table_prices[[#This Row],[ITEMNMBR]]","v":0},"Double Chocolate Drizzle Popcorn Retail Sampler Bag","RETAIL",1.1000000000000001]
[null,{"$f":"Table_prices[[#This Row],[ITEMNMBR]]","v":0},"Double Chocolate Drizzle Popcorn - case / 18","RETAIL",19.8]
[null,{"$f":"Table_prices[[#This Row],[ITEMNMBR]]","v":0},"Double Chocolate Drizzle Popcorn - case / 24","RETAIL",26.4]
[null,{"$f":"Table_prices[[#This Row],[ITEMNMBR]]","v":0},"Confetti Popcorn Retail Sampler Bag","RETAIL",0.7]
[null,{"$f":"Table_prices[[#This Row],[ITEMNMBR]]","v":0},"Confetti Popcorn - case / 18","RETAIL",12.6]
[null,{"$f":"Table_prices[[#This Row],[ITEMNMBR]]","v":0},"Confetti Popcorn - case / 24","RETAIL",20.399999999999999]
[null,{"$f":"Table_prices[[#This Row],[ITEMNMBR]]","v":0},"Sweet Onion Popcorn Retail Snack Bag","RETAIL",0.7]
[null,{"$f":"Table_prices[[#This Row],[ITEMNMBR]]","v":0},"Sweet OnionPopcorn - Case / 24","RETAIL",16.8]
[null,{"$f":"Table_prices[[#This Row],[ITEMNMBR]]","v":0},"Hickory Maple Bacon Popcorn Retail Snack Bag","RETAIL",0.7]
[null,{"$f":"Table_prices[[#This Row],[ITEMNMBR]]","v":0},"Hickory Maple Bacon Popcorn - Case / 24","RETAIL",16.8]
[null,{"$f":"Table_prices[[#This Row],[ITEMNMBR]]","v":0},"King Of Pop Sampler - Case / 18","RETAIL",0]
[null,{"$f":"Table_prices[[#This Row],[ITEMNMBR]]","v":0},"King Of Pop Sampler - Case / 24","RETAIL",9.56]
[null,{"$f":"Table_prices[[#This Row],[ITEMNMBR]]","v":0},"Kroger Quarter Pallet - 270 Assorted Snack Bags","RETAIL",170.1]
[null,{"$f":"Table_prices[[#This Row],[ITEMNMBR]]","v":0},"Vaness Organic Loose Leaf Catnip","RETAIL",100]
[null,{"$f":"Table_prices[[#This Row],[ITEMNMBR]]","v":0},"Kong Company- Kickeroo Patter # 1 brown beige Large","RETAIL",100]
[null,{"$f":"Table_prices[[#This Row],[ITEMNMBR]]","v":0},"Our Pets- Play N Squeak Spring Fling","RETAIL",100]
[null,{"$f":"Table_prices[[#This Row],[ITEMNMBR]]","v":0},"Our pets- Feathered Frenzy Cone with Feather","RETAIL",100]
[null,{"$f":"Table_prices[[#This Row],[ITEMNMBR]]","v":0},"Small Inner Box","RETAIL",100]
[null,{"$f":"Table_prices[[#This Row],[ITEMNMBR]]","v":0},"Large Inner Cheesecake Box","RETAIL",100]
[null,{"$f":"Table_prices[[#This Row],[ITEMNMBR]]","v":0},"Lake Champlain 15 piece Assorted Vermont Chocolates 9.7 oz","RETAIL",100]
[null,{"$f":"Table_prices[[#This Row],[ITEMNMBR]]","v":0},"Lake Champlain Chocolates of Vermont - 8 piece Assortment 4 oz.","RETAIL",100]
[null,{"$f":"Table_prices[[#This Row],[ITEMNMBR]]","v":0},"Dark Chocolate Coffee Truffle Bar by Lake Champlain - 3.25 oz. -","RETAIL",100]
[null,{"$f":"Table_prices[[#This Row],[ITEMNMBR]]","v":0},"Dark Chocolate Raspberry Truffle Bar by Lake Champlain - 3.25 oz. -","RETAIL",0]
[null,{"$f":"Table_prices[[#This Row],[ITEMNMBR]]","v":0},"Milk Chocolate Caramel Filled Bar by Lake Champlain - 3.25 oz. -","RETAIL",100]
[null,{"$f":"Table_prices[[#This Row],[ITEMNMBR]]","v":0},"Lake Champlain Organic Truffles - 15 piece 6.4 oz.","RETAIL",100]
[null,{"$f":"Table_prices[[#This Row],[ITEMNMBR]]","v":0},"Lake Champlain Select Origin Tanzania Bar - 75% Cocoa 5 oz.","RETAIL",100]
[null,{"$f":"Table_prices[[#This Row],[ITEMNMBR]]","v":0},"Dark Chocolate Signature Bar by Lake Champlain - 3 oz. -","RETAIL",100]
[null,{"$f":"Table_prices[[#This Row],[ITEMNMBR]]","v":0},"Dark Chocolate Bar with Almonds by Lake Champlain - 3 oz. -","RETAIL",100]
[null,{"$f":"Table_prices[[#This Row],[ITEMNMBR]]","v":0},"Dark Chocolate Bar with Hazelnuts by Lake Champlain - 3 oz. -","RETAIL",100]
[null,{"$f":"Table_prices[[#This Row],[ITEMNMBR]]","v":0},"Lake Champlain Bar Dark Choc Peppermint Crunch 3 oz.","RETAIL",100]
[null,{"$f":"Table_prices[[#This Row],[ITEMNMBR]]","v":0},"Lake Champlain Signature Bar Milk Chocolate 3 oz.","RETAIL",100]
[null,{"$f":"Table_prices[[#This Row],[ITEMNMBR]]","v":0},"Triple Nut Milk Chocolate Bar by Lake Champlain - 3 oz. -","RETAIL",100]
[null,{"$f":"Table_prices[[#This Row],[ITEMNMBR]]","v":0},"Lake Champlain 5 Star Bar Peanut","RETAIL",100]
[null,{"$f":"Table_prices[[#This Row],[ITEMNMBR]]","v":0},"Lake Champlain 5 Star Bar Hazelnut","RETAIL",100]
[null,{"$f":"Table_prices[[#This Row],[ITEMNMBR]]","v":0},"Lake Champlain 5 Star Bar Granola","RETAIL",100]
[null,{"$f":"Table_prices[[#This Row],[ITEMNMBR]]","v":0},"Lake Champlain 5 Star Bar Fruit & Nut","RETAIL",100]
[null,{"$f":"Table_prices[[#This Row],[ITEMNMBR]]","v":0},"Hot Chocolate- Traditional","RETAIL",100]
[null,{"$f":"Table_prices[[#This Row],[ITEMNMBR]]","v":0},"Holiday Assortment- 8 PC","RETAIL",100]
[null,{"$f":"Table_prices[[#This Row],[ITEMNMBR]]","v":0},"Rum Caramel Filled Dark Chocolate Bar by Lake Champlain - 3.25 oz. -","RETAIL",100]
[null,{"$f":"Table_prices[[#This Row],[ITEMNMBR]]","v":0},"La Panzanella  Croccantini - Rosemary #1 Seller 5 oz.","RETAIL",100]
[null,{"$f":"Table_prices[[#This Row],[ITEMNMBR]]","v":0},"Late July Vanilla Bean Sandwich Cookie 1.7 oz","RETAIL",100]
[null,{"$f":"Table_prices[[#This Row],[ITEMNMBR]]","v":0},"Organic Saltine Crackers by Late July - 6 oz. -","RETAIL",100]
[null,{"$f":"Table_prices[[#This Row],[ITEMNMBR]]","v":0},"Late July Organic Mini Milk Chocolate Sandwich Cookies 5 oz.","RETAIL",100]
[null,{"$f":"Table_prices[[#This Row],[ITEMNMBR]]","v":0},"Late July Organic Mini PB Sandwich Crackers 5 oz","RETAIL",100]
[null,{"$f":"Table_prices[[#This Row],[ITEMNMBR]]","v":0},"Organic Vanilla Bean with Green Tea Sandwich Cookies by Late July - 9 oz. -","RETAIL",100]
[null,{"$f":"Table_prices[[#This Row],[ITEMNMBR]]","v":0},"Late July Organic Dark Chocolate Sandwich Cookies 8.2 oz","RETAIL",100]
[null,{"$f":"Table_prices[[#This Row],[ITEMNMBR]]","v":0},"Late July Organic Mini White Chocolate Sandwich Cookies 5 oz.","RETAIL",100]
[null,{"$f":"Table_prices[[#This Row],[ITEMNMBR]]","v":0},"Late July Organic Dark Choc Cookie 1.7oz","RETAIL",0]
[null,{"$f":"Table_prices[[#This Row],[ITEMNMBR]]","v":0},"Organic Dude Ranch Multigrain Chips by Late July - 5.5 oz. -","RETAIL",100]
[null,{"$f":"Table_prices[[#This Row],[ITEMNMBR]]","v":0},"Bite Size Cheddar Cheese Crackers by Late July - 5 oz. -","RETAIL",100]
[null,{"$f":"Table_prices[[#This Row],[ITEMNMBR]]","v":0},"Stemless Champagne Flute by Libbey -","RETAIL",100]
[null,{"$f":"Table_prices[[#This Row],[ITEMNMBR]]","v":0},"Mama Leone's Oriental  Pasta Salad 12oz","RETAIL",100]
[null,{"$f":"Table_prices[[#This Row],[ITEMNMBR]]","v":0},"Mama Leone's Pizza Crust Mix 12oz","RETAIL",100]
[null,{"$f":"Table_prices[[#This Row],[ITEMNMBR]]","v":0},"Spuds and Chives Potato Soup 6oz","RETAIL",100]
[null,{"$f":"Table_prices[[#This Row],[ITEMNMBR]]","v":0},"Gourmet Sampler Cheesecake Only","RETAIL",100]
[null,{"$f":"Table_prices[[#This Row],[ITEMNMBR]]","v":0},"Amaretto Cheesecake only","RETAIL",100]
[null,{"$f":"Table_prices[[#This Row],[ITEMNMBR]]","v":0},"Creme Brulee Cheesecake only","RETAIL",100]
[null,{"$f":"Table_prices[[#This Row],[ITEMNMBR]]","v":0},"New York Cheesecake Only","RETAIL",100]
[null,{"$f":"Table_prices[[#This Row],[ITEMNMBR]]","v":0},"Praline Cheesecake only","RETAIL",100]
[null,{"$f":"Table_prices[[#This Row],[ITEMNMBR]]","v":0},"Raspberry Cheesecake only","RETAIL",100]
[null,{"$f":"Table_prices[[#This Row],[ITEMNMBR]]","v":0},"Strawberry Cheesecake only","RETAIL",100]
[null,{"$f":"Table_prices[[#This Row],[ITEMNMBR]]","v":0},"Turtle Cheesecake only","RETAIL",100]
[null,{"$f":"Table_prices[[#This Row],[ITEMNMBR]]","v":0},"White Chocolate Cheesecake only","RETAIL",100]
[null,{"$f":"Table_prices[[#This Row],[ITEMNMBR]]","v":0},"Elite-Carrot Cake","RETAIL",100]
[null,{"$f":"Table_prices[[#This Row],[ITEMNMBR]]","v":0},"Colossal- Chocolate Layer Mousse Cake","RETAIL",100]
[null,{"$f":"Table_prices[[#This Row],[ITEMNMBR]]","v":0},"Colossal-Chocolate Cake","RETAIL",100]
[null,{"$f":"Table_prices[[#This Row],[ITEMNMBR]]","v":0},"Colossal-Chocolate Eruption","RETAIL",100]
[null,{"$f":"Table_prices[[#This Row],[ITEMNMBR]]","v":0},"Colossal-Chocolate Grande","RETAIL",100]
[null,{"$f":"Table_prices[[#This Row],[ITEMNMBR]]","v":0},"Colossal-Italian Cream Cake","RETAIL",100]
[null,{"$f":"Table_prices[[#This Row],[ITEMNMBR]]","v":0},"Colossal-Raspberry Eruption","RETAIL",100]
[null,{"$f":"Table_prices[[#This Row],[ITEMNMBR]]","v":0},"Colossal-Old- Fashioned Chocolate Cake","RETAIL",100]
[null,{"$f":"Table_prices[[#This Row],[ITEMNMBR]]","v":0},"Colossal-White & Dark Chocolate Mousse","RETAIL",100]
[null,{"$f":"Table_prices[[#This Row],[ITEMNMBR]]","v":0},"Colossal- Carrot Cake","RETAIL",100]
[null,{"$f":"Table_prices[[#This Row],[ITEMNMBR]]","v":0},"Small Inner Cheesecake Box","RETAIL",100]
[null,{"$f":"Table_prices[[#This Row],[ITEMNMBR]]","v":0},"Larger Inner Cheesecake Box","RETAIL",100]
[null,{"$f":"Table_prices[[#This Row],[ITEMNMBR]]","v":0},"Carrot Cake Box","RETAIL",100]
[null,{"$f":"Table_prices[[#This Row],[ITEMNMBR]]","v":0},"Elite- Chocolate Layer Mousse Cake","RETAIL",100]
[null,{"$f":"Table_prices[[#This Row],[ITEMNMBR]]","v":0},"Elite- Chocolate Pecan Cluster","RETAIL",100]
[null,{"$f":"Table_prices[[#This Row],[ITEMNMBR]]","v":0},"Elite- Italian Cream Cake","RETAIL",100]
[null,{"$f":"Table_prices[[#This Row],[ITEMNMBR]]","v":0},"Elite- White and Dark Chocolate","RETAIL",100]
[null,{"$f":"Table_prices[[#This Row],[ITEMNMBR]]","v":0},"Blueberry, Pomegranate & Almond Orchard Bar by Liberty Orchards - 1.6 oz. -","RETAIL",100]
[null,{"$f":"Table_prices[[#This Row],[ITEMNMBR]]","v":0},"Strwberry, Raspberry & Walnut Orchard Bar by Liberty Orchards - 1.6 oz. -","RETAIL",100]
[null,{"$f":"Table_prices[[#This Row],[ITEMNMBR]]","v":0},"Pineapple, Coconut & Macadamia Orchard Bar by Liberty Orchards - 1.6 oz. -","RETAIL",100]
[null,{"$f":"Table_prices[[#This Row],[ITEMNMBR]]","v":0},"Lindor White Chocolate Truffle ( Gold Wrapper)  by Lindt & Sprungli -","RETAIL",100]
[null,{"$f":"Table_prices[[#This Row],[ITEMNMBR]]","v":0},"Lindor Dark Chocolate Truffle (Blue Wrapper) by Lindt & Sprungli -","RETAIL",100]
[null,{"$f":"Table_prices[[#This Row],[ITEMNMBR]]","v":0},"Lindor Milk Chocolate Truffle (Red Wrapper) by Lindt & Sprungli  -","RETAIL",100]
[null,{"$f":"Table_prices[[#This Row],[ITEMNMBR]]","v":0},"Lindor Mint Chocolate Truffle (Green Wrapper) by Lindt & Sprungli -","RETAIL",100]
[null,{"$f":"Table_prices[[#This Row],[ITEMNMBR]]","v":0},"Lindor Vanilla Truffle (Purple Wrapper)  by Lindt & Sprungli -","RETAIL",100]
[null,{"$f":"Table_prices[[#This Row],[ITEMNMBR]]","v":0},"Lindor Milk Chocolate Truffles in Heart Box by Lindt & Sprungli - 8 truffles -","RETAIL",4.99]
[null,{"$f":"Table_prices[[#This Row],[ITEMNMBR]]","v":0},"Lindor Milk Chocolate Truffles in Heart Box by Lindt & Sprungli - 8 truffles -","RETAIL",100]
[null,{"$f":"Table_prices[[#This Row],[ITEMNMBR]]","v":0},"White Chocolate Peppermint Truffles by Lindt -","RETAIL",100]
[null,{"$f":"Table_prices[[#This Row],[ITEMNMBR]]","v":0},"Lint roller (free from Apple custom)","RETAIL",100]
[null,{"$f":"Table_prices[[#This Row],[ITEMNMBR]]","v":0},"Logo Loc GGB Bottle Opener","RETAIL",100]
[null,{"$f":"Table_prices[[#This Row],[ITEMNMBR]]","v":0},"Nike (R) Mojo  Golf Balls 3 per Sleeve -","RETAIL",100]
[null,{"$f":"Table_prices[[#This Row],[ITEMNMBR]]","v":0},"12oz Blue D.R.Horton Mug","RETAIL",100]
[null,{"$f":"Table_prices[[#This Row],[ITEMNMBR]]","v":0},"12oz White D.R.Horton Mug","RETAIL",100]
[null,{"$f":"Table_prices[[#This Row],[ITEMNMBR]]","v":0},"Country Inn Breakfast Basket","RETAIL",100]
[null,{"$f":"Table_prices[[#This Row],[ITEMNMBR]]","v":0},"Breakfast Deluxe Basket","RETAIL",100]
[null,{"$f":"Table_prices[[#This Row],[ITEMNMBR]]","v":0},"Barefoot Basket - Medium","RETAIL",100]
[null,{"$f":"Table_prices[[#This Row],[ITEMNMBR]]","v":0},"Barefoot Basket - Large","RETAIL",100]
[null,{"$f":"Table_prices[[#This Row],[ITEMNMBR]]","v":0},"Easter Classic Basket (White)","RETAIL",100]
[null,{"$f":"Table_prices[[#This Row],[ITEMNMBR]]","v":0},"Small Oval Two Tone","RETAIL",100]
[null,{"$f":"Table_prices[[#This Row],[ITEMNMBR]]","v":0},"Longhorn Imports Father's Day Grilling Tray","RETAIL",100]
[null,{"$f":"Table_prices[[#This Row],[ITEMNMBR]]","v":0},"Longhorn Imports Burgundy Kitchen Towel","RETAIL",100]
[null,{"$f":"Table_prices[[#This Row],[ITEMNMBR]]","v":0},"Longhorn Imports Pumpkin Kitchen Towel","RETAIL",100]
[null,{"$f":"Table_prices[[#This Row],[ITEMNMBR]]","v":0},"Longhorn Imports sm tray 81013","RETAIL",100]
[null,{"$f":"Table_prices[[#This Row],[ITEMNMBR]]","v":0},"Longhorn Imports MED TRAY 81013","RETAIL",100]
[null,{"$f":"Table_prices[[#This Row],[ITEMNMBR]]","v":0},"Longhorn Imports LARGE TRAY 81013","RETAIL",100]
[null,{"$f":"Table_prices[[#This Row],[ITEMNMBR]]","v":0},"Longhorn Imports XLARGE TRAY 81013","RETAIL",100]
[null,{"$f":"Table_prices[[#This Row],[ITEMNMBR]]","v":0},"SM TRAY B-spiral","RETAIL",100]
[null,{"$f":"Table_prices[[#This Row],[ITEMNMBR]]","v":0},"MED TRAY B-spiral","RETAIL",100]
[null,{"$f":"Table_prices[[#This Row],[ITEMNMBR]]","v":0},"LARGE TRAY B-spiral","RETAIL",100]
[null,{"$f":"Table_prices[[#This Row],[ITEMNMBR]]","v":0},"XLARGE TRAY B-spiral","RETAIL",100]
[null,{"$f":"Table_prices[[#This Row],[ITEMNMBR]]","v":0},"XXLARGE TRAY B-spiral","RETAIL",100]
[null,{"$f":"Table_prices[[#This Row],[ITEMNMBR]]","v":0},"SM TRAY C-rope","RETAIL",100]
[null,{"$f":"Table_prices[[#This Row],[ITEMNMBR]]","v":0},"MED TRAY C-rope","RETAIL",100]
[null,{"$f":"Table_prices[[#This Row],[ITEMNMBR]]","v":0},"LARGE TRAY C-rope","RETAIL",100]
[null,{"$f":"Table_prices[[#This Row],[ITEMNMBR]]","v":0},"XLARGE TRAY C-rope","RETAIL",100]
[null,{"$f":"Table_prices[[#This Row],[ITEMNMBR]]","v":0},"XX LARGE TRAY C-rope","RETAIL",100]
[null,{"$f":"Table_prices[[#This Row],[ITEMNMBR]]","v":0},"SM TRAY D-simple","RETAIL",100]
[null,{"$f":"Table_prices[[#This Row],[ITEMNMBR]]","v":0},"MED TRAY D-simple","RETAIL",100]
[null,{"$f":"Table_prices[[#This Row],[ITEMNMBR]]","v":0},"LARGE TRAY D-simple","RETAIL",100]
[null,{"$f":"Table_prices[[#This Row],[ITEMNMBR]]","v":0},"XLG TRAY D-simple","RETAIL",100]
[null,{"$f":"Table_prices[[#This Row],[ITEMNMBR]]","v":0},"XXLarge Tray D-simple","RETAIL",100]
[null,{"$f":"Table_prices[[#This Row],[ITEMNMBR]]","v":0},"Barefoot Basket - Small","RETAIL",100]
[null,{"$f":"Table_prices[[#This Row],[ITEMNMBR]]","v":0},"Small Square Dark Willow with Wooden Ear Handles","RETAIL",100]
[null,{"$f":"Table_prices[[#This Row],[ITEMNMBR]]","v":0},"Double Wine Carrier","RETAIL",100]
[null,{"$f":"Table_prices[[#This Row],[ITEMNMBR]]","v":0},"Chipwood - Small","RETAIL",100]
[null,{"$f":"Table_prices[[#This Row],[ITEMNMBR]]","v":0},"Chipwood - Medium","RETAIL",100]
[null,{"$f":"Table_prices[[#This Row],[ITEMNMBR]]","v":0},"Chipwood - Large","RETAIL",100]
[null,{"$f":"Table_prices[[#This Row],[ITEMNMBR]]","v":0},"Golf Cooler Bag - Green/White","RETAIL",100]
[null,{"$f":"Table_prices[[#This Row],[ITEMNMBR]]","v":0},"Single Wine Basket Dark Willow with OverHandle","RETAIL",100]
[null,{"$f":"Table_prices[[#This Row],[ITEMNMBR]]","v":0},"Longhorn Basket - small square seagrass","RETAIL",100]
[null,{"$f":"Table_prices[[#This Row],[ITEMNMBR]]","v":0},"Mini Basket","RETAIL",100]
[null,{"$f":"Table_prices[[#This Row],[ITEMNMBR]]","v":0},"Golf Cooler Bag - Pink/White","RETAIL",100]
[null,{"$f":"Table_prices[[#This Row],[ITEMNMBR]]","v":0},"Fishing Creel","RETAIL",100]
[null,{"$f":"Table_prices[[#This Row],[ITEMNMBR]]","v":0},"Golf Wire Bucket","RETAIL",100]
[null,{"$f":"Table_prices[[#This Row],[ITEMNMBR]]","v":0},"Golf Cooler Bag - Blue/White","RETAIL",100]
[null,{"$f":"Table_prices[[#This Row],[ITEMNMBR]]","v":0},"Pink and White Gingham Basket (Baby Girl Basket)","RETAIL",100]
[null,{"$f":"Table_prices[[#This Row],[ITEMNMBR]]","v":0},"Blue and White Gingham Basket (Baby Boy Basket)","RETAIL",100]
[null,{"$f":"Table_prices[[#This Row],[ITEMNMBR]]","v":0},"Gluten Free Choc Chip Cookies by Lucy's Cookies - 5.25 oz. -","RETAIL",100]
[null,{"$f":"Table_prices[[#This Row],[ITEMNMBR]]","v":0},"Custom 6.5 Gallon Popcorn Tin - Asset Marketing Inc.","RETAIL",64.84]
[null,{"$f":"Table_prices[[#This Row],[ITEMNMBR]]","v":0},"Custom 6.5 Gallon Popcorn Tin - Asset Marketing Inc.","RETAIL",64.84]
[null,{"$f":"Table_prices[[#This Row],[ITEMNMBR]]","v":0},"Custom 3.5 Gallon Popcorn Tin - Asset Marketing Inc.","RETAIL",54.84]
[null,{"$f":"Table_prices[[#This Row],[ITEMNMBR]]","v":0},"Custom: Apple - Healthy Theme - XLG","RETAIL",180]
[null,{"$f":"Table_prices[[#This Row],[ITEMNMBR]]","v":0},"Custom: Apple - Healthy Theme - XXLG","RETAIL",380]
[null,{"$f":"Table_prices[[#This Row],[ITEMNMBR]]","v":0},"Custom: Apple - College Theme - XLG","RETAIL",180]
[null,{"$f":"Table_prices[[#This Row],[ITEMNMBR]]","v":0},"Custom: Apple - College Theme - XXLG","RETAIL",380]
[null,{"$f":"Table_prices[[#This Row],[ITEMNMBR]]","v":0},"Custom: Apple - Baked Goods Theme - XLG","RETAIL",180]
[null,{"$f":"Table_prices[[#This Row],[ITEMNMBR]]","v":0},"Custom: Apple - Baked Goods Theme - XXLG","RETAIL",380]
[null,{"$f":"Table_prices[[#This Row],[ITEMNMBR]]","v":0},"Custom Apple GGB baked goods XXL","RETAIL",360]
[null,{"$f":"Table_prices[[#This Row],[ITEMNMBR]]","v":0},"Custom 6.5 Gallon Popcorn Tin - 550 Biltmore","RETAIL",51.32]
[null,{"$f":"Table_prices[[#This Row],[ITEMNMBR]]","v":0},"Custom 6.5 Gallon Popcorn Tin - Center Point Business Park","RETAIL",56.18]
[null,{"$f":"Table_prices[[#This Row],[ITEMNMBR]]","v":0},"Butter Wafers by Lady Waltons - 2 oz. -","RETAIL",100]
[null,{"$f":"Table_prices[[#This Row],[ITEMNMBR]]","v":0},"Lady Walton Dark Chocolate Mint Butter Wafers 2oz","RETAIL",100]
[null,{"$f":"Table_prices[[#This Row],[ITEMNMBR]]","v":0},"Lady Walton Dark Chocolate Orange Butter Wafer Cookies 2oz","RETAIL",100]
[null,{"$f":"Table_prices[[#This Row],[ITEMNMBR]]","v":0},"Lady Walton Cinnnamon Sugar Butter Wafers 2oz","RETAIL",100]
[null,{"$f":"Table_prices[[#This Row],[ITEMNMBR]]","v":0},"Lady Walton Dark Chocolate Butter Wafers 5oz","RETAIL",100]
[null,{"$f":"Table_prices[[#This Row],[ITEMNMBR]]","v":0},"Creamy Dark Chocolate Single Wafer 1oz","RETAIL",100]
[null,{"$f":"Table_prices[[#This Row],[ITEMNMBR]]","v":0},"White  Chocolate Amaretto Single Wafer 1oz","RETAIL",100]
[null,{"$f":"Table_prices[[#This Row],[ITEMNMBR]]","v":0},"Dark Chocolate Wafer by Lady Waltons  1oz","RETAIL",100]
[null,{"$f":"Table_prices[[#This Row],[ITEMNMBR]]","v":0},"Lady Walton Dark Chocolate Butter Wafer Cookies 2oz","RETAIL",100]
[null,{"$f":"Table_prices[[#This Row],[ITEMNMBR]]","v":0},"Lady Waltons White Chocolate Amaretto filled wafer 2oz","RETAIL",100]
[null,{"$f":"Table_prices[[#This Row],[ITEMNMBR]]","v":0},"Custom: Circles - popcorn tin 2g (Lu)","RETAIL",47.49]
[null,{"$f":"Table_prices[[#This Row],[ITEMNMBR]]","v":0},"Custom: Circles - popcorn tin 3.5g (Lu)","RETAIL",56.99]
[null,{"$f":"Table_prices[[#This Row],[ITEMNMBR]]","v":0},"Custom: Circles - popcorn tin 6.5g (Lu)","RETAIL",66.489999999999995]
[null,{"$f":"Table_prices[[#This Row],[ITEMNMBR]]","v":0},"Custom: Dex One - Sports Enthusiast CP -  plus magnet","RETAIL",34.99]
[null,{"$f":"Table_prices[[#This Row],[ITEMNMBR]]","v":0},"Custom 3 Gallon Popcorn Tin -","RETAIL",44.68]
[null,{"$f":"Table_prices[[#This Row],[ITEMNMBR]]","v":0},"Custom 3 Gallon Popcorn Tin -","RETAIL",44.68]
[null,{"$f":"Table_prices[[#This Row],[ITEMNMBR]]","v":0},"Custom 6.5 Gallon Popcorn Tin - Huntington Centre","RETAIL",56.18]
[null,{"$f":"Table_prices[[#This Row],[ITEMNMBR]]","v":0},"Custom: Assets Marketing - 6.5 gallon Winter Pine Tin - Dark Chocolate Peppermint Popcorn (Lu)","RETAIL",0]
[null,{"$f":"Table_prices[[#This Row],[ITEMNMBR]]","v":0},"Custom Wine & Popcorn","RETAIL",77.989999999999995]
[null,{"$f":"Table_prices[[#This Row],[ITEMNMBR]]","v":0},"Custom 6.5 Gallon Popcorn Tin - Miramar Centre","RETAIL",56.18]
[null,{"$f":"Table_prices[[#This Row],[ITEMNMBR]]","v":0},"Custom: Morrison & Foerster Law Firm -student - coffee - cocoa - snacks (Lu)","RETAIL",25.99]
[null,{"$f":"Table_prices[[#This Row],[ITEMNMBR]]","v":0},"Custom: Maple Leaf Farms - Cakebreads (Lu)","RETAIL",277.99]
[null,{"$f":"Table_prices[[#This Row],[ITEMNMBR]]","v":0},"Custom: Maple Leaf Farms - Cakebreads 2 (Lu)","RETAIL",261.99]
[null,{"$f":"Table_prices[[#This Row],[ITEMNMBR]]","v":0},"Custom 6.5 Gallon Popcorn Tin - Compliments of Multi Property","RETAIL",51.32]
[null,{"$f":"Table_prices[[#This Row],[ITEMNMBR]]","v":0},"Custom 6.5 Gallon Popcorn Tin - One Town Center","RETAIL",66.34]
[null,{"$f":"Table_prices[[#This Row],[ITEMNMBR]]","v":0},"Custom 3.5 Gallon Popcorn Tin -","RETAIL",44.68]
[null,{"$f":"Table_prices[[#This Row],[ITEMNMBR]]","v":0},"Custom 6.5 Gallon Popcorn Tin - The Plaza Logo","RETAIL",66.34]
[null,{"$f":"Table_prices[[#This Row],[ITEMNMBR]]","v":0},"Custom:  RAS Data Services - Cakebread VIneyard Tour (Lu)","RETAIL",469.99]
[null,{"$f":"Table_prices[[#This Row],[ITEMNMBR]]","v":0},"Custom: Hotel Conference Gift Basket (Lu)","RETAIL",20]
[null,{"$f":"Table_prices[[#This Row],[ITEMNMBR]]","v":0},"Custom: SKA International  - bottle of Cabernet (Lu)","RETAIL",28.8]
[null,{"$f":"Table_prices[[#This Row],[ITEMNMBR]]","v":0},"Custom: SMI Travel - tower (Lu)","RETAIL",34.99]
[null,{"$f":"Table_prices[[#This Row],[ITEMNMBR]]","v":0},"Custom 6.5 Gallon Popcorn Tin - Tampa Distribution Center","RETAIL",51.32]
[null,{"$f":"Table_prices[[#This Row],[ITEMNMBR]]","v":0},"Custom 6.5 Gallon Popcorn Tin - Venture Corporate Center","RETAIL",76.28]
[null,{"$f":"Table_prices[[#This Row],[ITEMNMBR]]","v":0},"Custom 6.5 Gallon Popcorn Tin - Waterford","RETAIL",51.32]
[null,{"$f":"Table_prices[[#This Row],[ITEMNMBR]]","v":0},"Custom 3.5 Gallon Popcorn Tin - Waterford","RETAIL",41.32]
[null,{"$f":"Table_prices[[#This Row],[ITEMNMBR]]","v":0},"Custom 3.5 Gallon Popcorn Tin - Waterford","RETAIL",46.18]
[null,{"$f":"Table_prices[[#This Row],[ITEMNMBR]]","v":0},"Custom 3.5 Gallon Popcorn Tin - Waterford","RETAIL",46.18]
[null,{"$f":"Table_prices[[#This Row],[ITEMNMBR]]","v":0},"Custom 6.5 Gallon Popcorn Tin - Waterford","RETAIL",51.32]
[null,{"$f":"Table_prices[[#This Row],[ITEMNMBR]]","v":0},"Custom 3.5 Gallon Popcorn Tin - Waterford","RETAIL",41.32]
[null,{"$f":"Table_prices[[#This Row],[ITEMNMBR]]","v":0},"Custom 6.5 Gallon Popcorn Tin - Wells Fargo Center","RETAIL",56.18]
[null,{"$f":"Table_prices[[#This Row],[ITEMNMBR]]","v":0},"Custom 6.5 Gallon Popcorn Tin - Wells Fargo Center","RETAIL",60.93]
[null,{"$f":"Table_prices[[#This Row],[ITEMNMBR]]","v":0},"Custom 6.5 Gallon Popcorn Tin - Wells Fargo Center","RETAIL",64.13]
[null,{"$f":"Table_prices[[#This Row],[ITEMNMBR]]","v":0},"Custom 6.5 Gallon Popcorn Tin - Wells Fargo Center","RETAIL",64.13]
[null,{"$f":"Table_prices[[#This Row],[ITEMNMBR]]","v":0},"Custom:The Weiss Group - whimsical  triple chocolate popcorn (Lu)","RETAIL",24.99]
[null,{"$f":"Table_prices[[#This Row],[ITEMNMBR]]","v":0},"Custom:Wild Horse Suitcase  (Lu)","RETAIL",164.99]
[null,{"$f":"Table_prices[[#This Row],[ITEMNMBR]]","v":0},"Custom: WSC -  Toddler Gift Basket (Lu)","RETAIL",77.989999999999995]
[null,{"$f":"Table_prices[[#This Row],[ITEMNMBR]]","v":0},"Madelaine Chocolates Red Chocolate Lips Gift Bag 8 oz","RETAIL",100]
[null,{"$f":"Table_prices[[#This Row],[ITEMNMBR]]","v":0},"Madelaine Chocolates 2 Solid Sweet Heart Red Roses in gift box 1 oz","RETAIL",100]
[null,{"$f":"Table_prices[[#This Row],[ITEMNMBR]]","v":0},"Madelaine Chocolates Solid Milk Chocolate Bunny 15 oz","RETAIL",100]
[null,{"$f":"Table_prices[[#This Row],[ITEMNMBR]]","v":0},"Madelaine Chocolates Solid Milk Chocolate Bunny 8 oz","RETAIL",100]
[null,{"$f":"Table_prices[[#This Row],[ITEMNMBR]]","v":0},"Solid Milk Chocolate Bunny by Madelaine Chocolates - 6 oz. -","RETAIL",100]
[null,{"$f":"Table_prices[[#This Row],[ITEMNMBR]]","v":0},"Valentine Lolly Gift Box","RETAIL",100]
[null,{"$f":"Table_prices[[#This Row],[ITEMNMBR]]","v":0},"Maggie & Mary's Be Well Chicken Soup 5 oz.","RETAIL",100]
[null,{"$f":"Table_prices[[#This Row],[ITEMNMBR]]","v":0},"Creamy Wild Rice Soup by Maggie & Mary's - 7.25 oz. -","RETAIL",100]
[null,{"$f":"Table_prices[[#This Row],[ITEMNMBR]]","v":0},"Maggie & Mary's Pumpkin Soup 5.8 oz.","RETAIL",100]
[null,{"$f":"Table_prices[[#This Row],[ITEMNMBR]]","v":0},"Maggie & Mary's Roasted Garlic Potato 6 oz.","RETAIL",100]
[null,{"$f":"Table_prices[[#This Row],[ITEMNMBR]]","v":0},"Fireworks Popcorn - Assorted Bottles in Gift Box 45 oz","RETAIL",100]
[null,{"$f":"Table_prices[[#This Row],[ITEMNMBR]]","v":0},"Fireworks Popcorn - High Mountain Midnight 15 oz.","RETAIL",100]
[null,{"$f":"Table_prices[[#This Row],[ITEMNMBR]]","v":0},"Fireworks Popcorn - Savanna Gold - #1 Seller 15 oz.","RETAIL",100]
[null,{"$f":"Table_prices[[#This Row],[ITEMNMBR]]","v":0},"Fireworks Popcorn - Wisconsin White Birch - #2 Seller 15 oz.","RETAIL",100]
[null,{"$f":"Table_prices[[#This Row],[ITEMNMBR]]","v":0},"Fireworks Popcorn Fork","RETAIL",100]
[null,{"$f":"Table_prices[[#This Row],[ITEMNMBR]]","v":0},"Fireworks Popcorn Seasoning - Caramel Pecan Seasoning 3.2 oz","RETAIL",100]
[null,{"$f":"Table_prices[[#This Row],[ITEMNMBR]]","v":0},"Fireworks Popcorn  Seasoning - Salt 3.9 oz.","RETAIL",100]
[null,{"$f":"Table_prices[[#This Row],[ITEMNMBR]]","v":0},"Fireworks Popcorn Seasoning - Ranch Seasoning 2 oz.","RETAIL",100]
[null,{"$f":"Table_prices[[#This Row],[ITEMNMBR]]","v":0},"Fireworks Popcorn Seasoning - White Cheddar Seasoning 1.8 oz.","RETAIL",100]
[null,{"$f":"Table_prices[[#This Row],[ITEMNMBR]]","v":0},"Fireworks Popcorn Popstir Stove Top Cooker - Cobalt Blue 4.5 QT","RETAIL",100]
[null,{"$f":"Table_prices[[#This Row],[ITEMNMBR]]","v":0},"Fireworks Popcorn Seasoning - Southwest Sizzle","RETAIL",100]
[null,{"$f":"Table_prices[[#This Row],[ITEMNMBR]]","v":0},"Fireworks Popcorn Seasoning - Butter Burst","RETAIL",100]
[null,{"$f":"Table_prices[[#This Row],[ITEMNMBR]]","v":0},"Fireworks Popcorn -3pk Assorted Bottles in Gift Box 45 oz","RETAIL",100]
[null,{"$f":"Table_prices[[#This Row],[ITEMNMBR]]","v":0},"Marimix Chocolate Crunch 3.5 oz.","RETAIL",100]
[null,{"$f":"Table_prices[[#This Row],[ITEMNMBR]]","v":0},"Marimix Honey Vanola 3.5 oz.","RETAIL",100]
[null,{"$f":"Table_prices[[#This Row],[ITEMNMBR]]","v":0},"Marimix Peanut Butter & Cinnamon 3.5 oz.","RETAIL",100]
[null,{"$f":"Table_prices[[#This Row],[ITEMNMBR]]","v":0},"Manicaretti Anchovy Filets in Extra Virgin Olive Oil 3.17 oz","RETAIL",100]
[null,{"$f":"Table_prices[[#This Row],[ITEMNMBR]]","v":0},"Manicaretti Arrabbiata Sauce 9.53 oz","RETAIL",100]
[null,{"$f":"Table_prices[[#This Row],[ITEMNMBR]]","v":0},"Manicaretti Caravaglio Capers in Sea Salt from Salina 3.17 oz","RETAIL",100]
[null,{"$f":"Table_prices[[#This Row],[ITEMNMBR]]","v":0},"Manicaretti Extra Virgin Olive Oil -Rustichella d'Abruzzo 16.9 oz.","RETAIL",100]
[null,{"$f":"Table_prices[[#This Row],[ITEMNMBR]]","v":0},"Manicaretti Fusillotti 1.1 lb","RETAIL",100]
[null,{"$f":"Table_prices[[#This Row],[ITEMNMBR]]","v":0},"Manicaretti Napoletana Sauce 9.53 oz","RETAIL",100]
[null,{"$f":"Table_prices[[#This Row],[ITEMNMBR]]","v":0},"Manicaretti Penne Rigate 1.1 lb","RETAIL",100]
[null,{"$f":"Table_prices[[#This Row],[ITEMNMBR]]","v":0},"Manicaretti Pesto 4.6 oz.","RETAIL",100]
[null,{"$f":"Table_prices[[#This Row],[ITEMNMBR]]","v":0},"Manicaretti Puttanesca Sauce 9.53 oz","RETAIL",100]
[null,{"$f":"Table_prices[[#This Row],[ITEMNMBR]]","v":0},"Manicaretti Sicilian Sea Salt - Course 10.7 oz","RETAIL",100]
[null,{"$f":"Table_prices[[#This Row],[ITEMNMBR]]","v":0},"Manicaretti Organic Penne Rigate","RETAIL",100]
[null,{"$f":"Table_prices[[#This Row],[ITEMNMBR]]","v":0},"Pure New Hampshire Maple Syrup by The Maple Guys -  .5 pint -","RETAIL",100]
[null,{"$f":"Table_prices[[#This Row],[ITEMNMBR]]","v":0},"The Maple Guys Pure New Hampshire Maple Syrup 3.4oz","RETAIL",100]
[null,{"$f":"Table_prices[[#This Row],[ITEMNMBR]]","v":0},"Marich  Capuccino Almonds 8 oz. bag","RETAIL",100]
[null,{"$f":"Table_prices[[#This Row],[ITEMNMBR]]","v":0},"Chocolate Bridge Mix by Marich - 10 oz. -","RETAIL",100]
[null,{"$f":"Table_prices[[#This Row],[ITEMNMBR]]","v":0},"Marich  Chocolate Cherries 10 oz. box","RETAIL",100]
[null,{"$f":"Table_prices[[#This Row],[ITEMNMBR]]","v":0},"Chocolate Fruit Medley in Colored Shells by Marich - 8 oz. -","RETAIL",100]
[null,{"$f":"Table_prices[[#This Row],[ITEMNMBR]]","v":0},"Marich  Chocolate Peanuts - Milk Chocolate 8 oz. bag","RETAIL",100]
[null,{"$f":"Table_prices[[#This Row],[ITEMNMBR]]","v":0},"Dark Chocolate Covered Raisins by Marich - 8 oz. -","RETAIL",100]
[null,{"$f":"Table_prices[[#This Row],[ITEMNMBR]]","v":0},"Marich  English Toffee Caramels 10. oz. box","RETAIL",100]
[null,{"$f":"Table_prices[[#This Row],[ITEMNMBR]]","v":0},"Chocolate Covered Cherries by Marich - 4.5 oz. -","RETAIL",100]
[null,{"$f":"Table_prices[[#This Row],[ITEMNMBR]]","v":0},"Chocolate Covered Cherries and Blueberries by Marich - 4.5 oz. -","RETAIL",100]
[null,{"$f":"Table_prices[[#This Row],[ITEMNMBR]]","v":0},"Marich  Gable Box - Chocolate Nut Medley 4.5 oz","RETAIL",100]
[null,{"$f":"Table_prices[[#This Row],[ITEMNMBR]]","v":0},"Marich  Gable Box - Chocolate Toffee Almonds 4.5 oz","RETAIL",100]
[null,{"$f":"Table_prices[[#This Row],[ITEMNMBR]]","v":0},"Marich  Gable Box - Dark Chocolate Almonds 4.5 oz","RETAIL",100]
[null,{"$f":"Table_prices[[#This Row],[ITEMNMBR]]","v":0},"Gable Box - English Toffee Caramels by Marich - 4.5 oz. -","RETAIL",100]
[null,{"$f":"Table_prices[[#This Row],[ITEMNMBR]]","v":0},"Holland Mints by Marich - 4.5 oz. -","RETAIL",100]
[null,{"$f":"Table_prices[[#This Row],[ITEMNMBR]]","v":0},"Marich  Gable Box - House Blend Espresso Beans 4.5 oz","RETAIL",100]
[null,{"$f":"Table_prices[[#This Row],[ITEMNMBR]]","v":0},"Marich  Gable Box - Triple Chocolate Toffee 4.5 oz","RETAIL",100]
[null,{"$f":"Table_prices[[#This Row],[ITEMNMBR]]","v":0},"Chocolate Nut Medley by Marich - 4.5oz -","RETAIL",100]
[null,{"$f":"Table_prices[[#This Row],[ITEMNMBR]]","v":0},"Holland Mints by Marich - 10 oz. -","RETAIL",100]
[null,{"$f":"Table_prices[[#This Row],[ITEMNMBR]]","v":0},"Mint Chip Maltballs by Marich - 8 oz. -","RETAIL",100]
[null,{"$f":"Table_prices[[#This Row],[ITEMNMBR]]","v":0},"Chocolate Covered Cherries by Marich - 2.3 oz. -","RETAIL",100]
[null,{"$f":"Table_prices[[#This Row],[ITEMNMBR]]","v":0},"Single Serve Chocolate Expresso Beans by Marich - 1.76 oz. -","RETAIL",100]
[null,{"$f":"Table_prices[[#This Row],[ITEMNMBR]]","v":0},"Single Serve English Toffee Caramels by Marich - 2.1 oz. -","RETAIL",100]
[null,{"$f":"Table_prices[[#This Row],[ITEMNMBR]]","v":0},"Singe Serve Holland Mints by Marich - 2.1 oz. -","RETAIL",100]
[null,{"$f":"Table_prices[[#This Row],[ITEMNMBR]]","v":0},"Mint Chip Maltballs by Marich - 1.76 oz. -","RETAIL",100]
[null,{"$f":"Table_prices[[#This Row],[ITEMNMBR]]","v":0},"Marich  Single Serve - Triple Chocolate Toffee 2.3 oz.","RETAIL",100]
[null,{"$f":"Table_prices[[#This Row],[ITEMNMBR]]","v":0},"Marich  Sugar Free - Chocolate Bridge Mix 8 oz.","RETAIL",100]
[null,{"$f":"Table_prices[[#This Row],[ITEMNMBR]]","v":0},"Champagne Trufflz by Marich - 10 oz. -","RETAIL",100]
[null,{"$f":"Table_prices[[#This Row],[ITEMNMBR]]","v":0},"Chocolate Trufflz by Marich - 10 oz. -","RETAIL",100]
[null,{"$f":"Table_prices[[#This Row],[ITEMNMBR]]","v":0},"Marich  Trufflz - Hazelnut 10 oz.","RETAIL",100]
[null,{"$f":"Table_prices[[#This Row],[ITEMNMBR]]","v":0},"Marich  Trufflz - Mocha 10 oz.","RETAIL",100]
[null,{"$f":"Table_prices[[#This Row],[ITEMNMBR]]","v":0},"Marich  Trufflz - Raspberry 10 oz.","RETAIL",100]
[null,{"$f":"Table_prices[[#This Row],[ITEMNMBR]]","v":0},"Marich  Trufflz - Toasted Almond 10 oz.","RETAIL",100]
[null,{"$f":"Table_prices[[#This Row],[ITEMNMBR]]","v":0},"Marich Organic Dark Chocolate Almonds 4.5 oz","RETAIL",100]
[null,{"$f":"Table_prices[[#This Row],[ITEMNMBR]]","v":0},"Marich  Organic Dark Chocolate Sea Salt Cashews 4.5 oz","RETAIL",100]
[null,{"$f":"Table_prices[[#This Row],[ITEMNMBR]]","v":0},"Marich Organic  Milk Chocolate Tart Cherries 4.5 oz","RETAIL",100]
[null,{"$f":"Table_prices[[#This Row],[ITEMNMBR]]","v":0},"Marich  Milk Chocolate Toffee Almonds 4.5 oz","RETAIL",100]
[null,{"$f":"Table_prices[[#This Row],[ITEMNMBR]]","v":0},"Marich  Milk Chocolate Toffee Pistachios 4.5 oz","RETAIL",100]
[null,{"$f":"Table_prices[[#This Row],[ITEMNMBR]]","v":0},"Chocolate Toffee Almonds by Marich - 2.3 oz. -","RETAIL",100]
[null,{"$f":"Table_prices[[#This Row],[ITEMNMBR]]","v":0},"Dark Chocolate Sea Salt Caramels by Marich - 2.1 oz -","RETAIL",100]
[null,{"$f":"Table_prices[[#This Row],[ITEMNMBR]]","v":0},"Chocolate Covered Blueberries by Marich - 10 oz. -","RETAIL",100]
[null,{"$f":"Table_prices[[#This Row],[ITEMNMBR]]","v":0},"Chocolate Covered Espresso Beans by Marich - 10 oz.","RETAIL",100]
[null,{"$f":"Table_prices[[#This Row],[ITEMNMBR]]","v":0},"Triple Chocolate Toffee Almonds by Marich - 10 oz. -","RETAIL",100]
[null,{"$f":"Table_prices[[#This Row],[ITEMNMBR]]","v":0},"Chocolate Fondue Set - RED","RETAIL",100]
[null,{"$f":"Table_prices[[#This Row],[ITEMNMBR]]","v":0},"Almond Pecan-dy by Morley- 9.25 oz. -","RETAIL",100]
[null,{"$f":"Table_prices[[#This Row],[ITEMNMBR]]","v":0},"Chocolate Almond Pecan-dy Crunch by Morely- 9.25 oz","RETAIL",100]
[null,{"$f":"Table_prices[[#This Row],[ITEMNMBR]]","v":0},"Boxed Cashew Almond Pecandy by Morley Brands - 6 oz. -","RETAIL",100]
[null,{"$f":"Table_prices[[#This Row],[ITEMNMBR]]","v":0},"Melvilles Natural Honey and Lemon Teaspoons 50ct","RETAIL",100]
[null,{"$f":"Table_prices[[#This Row],[ITEMNMBR]]","v":0},"Melvilles Natural Raspberry and Honey Teaspoons 50ct","RETAIL",100]
[null,{"$f":"Table_prices[[#This Row],[ITEMNMBR]]","v":0},"Melvilles Natural Blueberry and Honey Teaspoons 50ct","RETAIL",100]
[null,{"$f":"Table_prices[[#This Row],[ITEMNMBR]]","v":0},"Melvilles Chocolate Caramel Spoons 12pk","RETAIL",100]
[null,{"$f":"Table_prices[[#This Row],[ITEMNMBR]]","v":0},"JBergeron  Go Green Dish Soap- Lemon Verbena","RETAIL",100]
[null,{"$f":"Table_prices[[#This Row],[ITEMNMBR]]","v":0},"JBergeron  Go Green Countertop Spray Lemon Verbena","RETAIL",100]
[null,{"$f":"Table_prices[[#This Row],[ITEMNMBR]]","v":0},"JBergeron  Go Green Surface Scrub Lemon Verbena","RETAIL",100]
[null,{"$f":"Table_prices[[#This Row],[ITEMNMBR]]","v":0},"JBergeron  Go Green Liquid Hand Soap Lemon Verbena","RETAIL",100]
[null,{"$f":"Table_prices[[#This Row],[ITEMNMBR]]","v":0},"Custom Family Basket","RETAIL",300]
[null,{"$f":"Table_prices[[#This Row],[ITEMNMBR]]","v":0},"Custom 5232 No Sausage","RETAIL",249.99]
[null,{"$f":"Table_prices[[#This Row],[ITEMNMBR]]","v":0},"Custom 4508 custom beer selection (Mike F.)","RETAIL",39.99]
[null,{"$f":"Table_prices[[#This Row],[ITEMNMBR]]","v":0},"Custom :  ADP Wine & Choc (Mike)","RETAIL",65]
[null,{"$f":"Table_prices[[#This Row],[ITEMNMBR]]","v":0},"Custom 5016 with wine for Mike","RETAIL",163.99]
[null,{"$f":"Table_prices[[#This Row],[ITEMNMBR]]","v":0},"Custom: Roll Out The Red Carpet with Gift Card (Mike)","RETAIL",133.99]
[null,{"$f":"Table_prices[[#This Row],[ITEMNMBR]]","v":0},"Custom: Alacon - snack classic with two bottles of stone ipa beer (Mike)","RETAIL",76.989999999999995]
[null,{"$f":"Table_prices[[#This Row],[ITEMNMBR]]","v":0},"Custom: 2 gal Traditional Popcorn (Caramel/Butter/Cheesy Cheddar) (Mike)","RETAIL",51.49]
[null,{"$f":"Table_prices[[#This Row],[ITEMNMBR]]","v":0},"Custom Cocktail Basket (Mike F.)","RETAIL",69.989999999999995]
[null,{"$f":"Table_prices[[#This Row],[ITEMNMBR]]","v":0},"Custom Grilling basket.. (Mike F.)","RETAIL",149.99]
[null,{"$f":"Table_prices[[#This Row],[ITEMNMBR]]","v":0},"Custom 4090","RETAIL",69.989999999999995]
[null,{"$f":"Table_prices[[#This Row],[ITEMNMBR]]","v":0},"Custom Wine Suitcase ( Mike )","RETAIL",173.5]
[null,{"$f":"Table_prices[[#This Row],[ITEMNMBR]]","v":0},"Custom pinot - crackers - cheese- dark chocolates ( Mike )","RETAIL",125.99]
[null,{"$f":"Table_prices[[#This Row],[ITEMNMBR]]","v":0},"Custom -- Back Bay Hotel  -- Boston  (Mike)","RETAIL",50]
[null,{"$f":"Table_prices[[#This Row],[ITEMNMBR]]","v":0},"Custom -- Wine - Microbrews - Dark Chocolates (Mike)","RETAIL",101]
[null,{"$f":"Table_prices[[#This Row],[ITEMNMBR]]","v":0},"Custom: junk food bucket  (Mike)","RETAIL",30]
[null,{"$f":"Table_prices[[#This Row],[ITEMNMBR]]","v":0},"Custom: Healthy Snacks with Cookies Stack  (Mike)","RETAIL",22]
[null,{"$f":"Table_prices[[#This Row],[ITEMNMBR]]","v":0},"Custom: Gluten Free Stack with added candies (Mike)","RETAIL",49.99]
[null,{"$f":"Table_prices[[#This Row],[ITEMNMBR]]","v":0},"Custom Heaalthy Stack in a Basket","RETAIL",41]
[null,{"$f":"Table_prices[[#This Row],[ITEMNMBR]]","v":0},"Brother International Custom Basket","RETAIL",149.99]
[null,{"$f":"Table_prices[[#This Row],[ITEMNMBR]]","v":0},"Custom 4500 W/Candy Bar","RETAIL",66.989999999999995]
[null,{"$f":"Table_prices[[#This Row],[ITEMNMBR]]","v":0},"Custom: 4636 - add one small bunny (Mike)","RETAIL",93.99]
[null,{"$f":"Table_prices[[#This Row],[ITEMNMBR]]","v":0},"Custom: 4636 - add chocolate bunny plus candy (Mike)","RETAIL",110.99]
[null,{"$f":"Table_prices[[#This Row],[ITEMNMBR]]","v":0},"Custom: 4636 - plus extra candy (Mike)","RETAIL",116.99]
[null,{"$f":"Table_prices[[#This Row],[ITEMNMBR]]","v":0},"Custom: 4404 add 2 bunnies and chocolates (Mike)","RETAIL",132.99]
[null,{"$f":"Table_prices[[#This Row],[ITEMNMBR]]","v":0},"Custom: 4401 remove chese add candy (Mike)","RETAIL",64.989999999999995]
[null,{"$f":"Table_prices[[#This Row],[ITEMNMBR]]","v":0},"Custom: 4637 remove regular candies and more easter related candies (Mike)","RETAIL",103.99]
[null,{"$f":"Table_prices[[#This Row],[ITEMNMBR]]","v":0},"Custom: 4401 seasons sampler  + 4700 artisan chocolates  (Mike)","RETAIL",85.99]
[null,{"$f":"Table_prices[[#This Row],[ITEMNMBR]]","v":0},"Custom: 4321 plus almond roca  (Mike)","RETAIL",59.99]
[null,{"$f":"Table_prices[[#This Row],[ITEMNMBR]]","v":0},"Custom: Centerline Electric - Gluten & Dairy Free for young girl  (Mike)","RETAIL",59.99]
[null,{"$f":"Table_prices[[#This Row],[ITEMNMBR]]","v":0},"Custom snack premium plus kid items (Mike)","RETAIL",99.99]
[null,{"$f":"Table_prices[[#This Row],[ITEMNMBR]]","v":0},"Custom Snack with Red Wine ( Mike Fowler )","RETAIL",109.99]
[null,{"$f":"Table_prices[[#This Row],[ITEMNMBR]]","v":0},"Custom Snack with White Wine ( Mike Fowler )","RETAIL",109.99]
[null,{"$f":"Table_prices[[#This Row],[ITEMNMBR]]","v":0},"Custom --Cakebread, fruit, waters and candy (Mike)","RETAIL",329.99]
[null,{"$f":"Table_prices[[#This Row],[ITEMNMBR]]","v":0},"custom halloween no wheat or dairy (Mike)","RETAIL",79.989999999999995]
[null,{"$f":"Table_prices[[#This Row],[ITEMNMBR]]","v":0},"Custom 4381 add chocolates (Mike)","RETAIL",79.989999999999995]
[null,{"$f":"Table_prices[[#This Row],[ITEMNMBR]]","v":0},"Custom 4381 no wheat or dairy (Mike)","RETAIL",79.989999999999995]
[null,{"$f":"Table_prices[[#This Row],[ITEMNMBR]]","v":0},"Custom 4381 with extra candy (Mike)","RETAIL",79.989999999999995]
[null,{"$f":"Table_prices[[#This Row],[ITEMNMBR]]","v":0},"Custom: 5210 with  fruit & extra chocolates (Mike)","RETAIL",79.989999999999995]
[null,{"$f":"Table_prices[[#This Row],[ITEMNMBR]]","v":0},"Custom: fruit  - wheat and dairy free snacks (Mike)","RETAIL",79.989999999999995]
[null,{"$f":"Table_prices[[#This Row],[ITEMNMBR]]","v":0},"Custom 5210 with extra candy (Mike)","RETAIL",79.989999999999995]
[null,{"$f":"Table_prices[[#This Row],[ITEMNMBR]]","v":0},"Custom: Fruit Basket (Mike)","RETAIL",50]
[null,{"$f":"Table_prices[[#This Row],[ITEMNMBR]]","v":0},"Custom:Easter Fruit Basket (Mike)","RETAIL",69.989999999999995]
[null,{"$f":"Table_prices[[#This Row],[ITEMNMBR]]","v":0},"Custom:Centerline Electric - Breakfast Basket (Mike)","RETAIL",134.99]
[null,{"$f":"Table_prices[[#This Row],[ITEMNMBR]]","v":0},"Custom: Centerline Electric - Fruit & Gluten Free Snacks (Mike)","RETAIL",64.989999999999995]
[null,{"$f":"Table_prices[[#This Row],[ITEMNMBR]]","v":0},"Custom: Centerline Electric - Halloween Care Package -(( no spider)) (Mike)","RETAIL",79.989999999999995]
[null,{"$f":"Table_prices[[#This Row],[ITEMNMBR]]","v":0},"Custom: Conway Mackenzie - Wine & Snacks Family Style (Mike)","RETAIL",89.99]
[null,{"$f":"Table_prices[[#This Row],[ITEMNMBR]]","v":0},"Custom: Conway Mackenzie - Snacks Family Style (Mike)","RETAIL",89.99]
[null,{"$f":"Table_prices[[#This Row],[ITEMNMBR]]","v":0},"Custom: Silver Oak  (Mike)","RETAIL",202.99]
[null,{"$f":"Table_prices[[#This Row],[ITEMNMBR]]","v":0},"Custom:  Coyne PR - Happy Holiday Snacker x3 (Mike)","RETAIL",150]
[null,{"$f":"Table_prices[[#This Row],[ITEMNMBR]]","v":0},"Custom:  Coyne PR - Happy Holiday Snacker x6 (Mike)","RETAIL",150]
[null,{"$f":"Table_prices[[#This Row],[ITEMNMBR]]","v":0},"Dog Items, Snack and Sweets - Mike F.","RETAIL",167.99]
[null,{"$f":"Table_prices[[#This Row],[ITEMNMBR]]","v":0},"Custom:  Snacks and Sweets (with csi oils) -1 - (Mike)","RETAIL",50]
[null,{"$f":"Table_prices[[#This Row],[ITEMNMBR]]","v":0},"Custom:  Snacks and Sweets (with csi oils) -2 - (Mike)","RETAIL",75]
[null,{"$f":"Table_prices[[#This Row],[ITEMNMBR]]","v":0},"Custom:  Snacks and Sweets (with csi oils) -3 - (Mike)","RETAIL",100]
[null,{"$f":"Table_prices[[#This Row],[ITEMNMBR]]","v":0},"Custom:Carahsoft Gift Tower - 6801 plus 2 csi  (Mike)","RETAIL",39.99]
[null,{"$f":"Table_prices[[#This Row],[ITEMNMBR]]","v":0},"Custom Bountiful Harvest no Meat or Cheese (Mike F.)","RETAIL",115.99]
[null,{"$f":"Table_prices[[#This Row],[ITEMNMBR]]","v":0},"Custom: Wine - Golf - Snacks  (Mike F.)","RETAIL",100]
[null,{"$f":"Table_prices[[#This Row],[ITEMNMBR]]","v":0},"Custom:Baby Boy Gift basket with gourmet snacks (Mike)","RETAIL",124.99]
[null,{"$f":"Table_prices[[#This Row],[ITEMNMBR]]","v":0},"Custom:Baby Girl Gift basket with gourmet snacks (Mike)","RETAIL",180]
[null,{"$f":"Table_prices[[#This Row],[ITEMNMBR]]","v":0},"Custom: Snacks and Sweets (Mike)","RETAIL",225]
[null,{"$f":"Table_prices[[#This Row],[ITEMNMBR]]","v":0},"Custom: chocolate stack (Mike)","RETAIL",61.99]
[null,{"$f":"Table_prices[[#This Row],[ITEMNMBR]]","v":0},"Custom:C&WDirect -  Chocolate (Mike)","RETAIL",55]
[null,{"$f":"Table_prices[[#This Row],[ITEMNMBR]]","v":0},"Custom:C&WDirect -  baby girl plus snacks  (Mike)","RETAIL",79.989999999999995]
[null,{"$f":"Table_prices[[#This Row],[ITEMNMBR]]","v":0},"Custom:C&WDirect -  Get Well Basket (Mike)","RETAIL",141.99]
[null,{"$f":"Table_prices[[#This Row],[ITEMNMBR]]","v":0},"Custom:C&WDirect -  teas, nuts, chocolates & fruits (Mike)","RETAIL",199.99]
[null,{"$f":"Table_prices[[#This Row],[ITEMNMBR]]","v":0},"Custom:C&WDirect - Dried Fruit, Nuts, Jams, & Chocolates (Mike)","RETAIL",80]
[null,{"$f":"Table_prices[[#This Row],[ITEMNMBR]]","v":0},"Custom - The Care Package","RETAIL",315]
[null,{"$f":"Table_prices[[#This Row],[ITEMNMBR]]","v":0},"Custom - Wine, Cheese, Crackers, New Baby Boy  (Mike)","RETAIL",129.99]
[null,{"$f":"Table_prices[[#This Row],[ITEMNMBR]]","v":0},"Custom -- Red wine basket  (Mike)","RETAIL",99.99]
[null,{"$f":"Table_prices[[#This Row],[ITEMNMBR]]","v":0},"Custom : Epromos - Silver Oak-Alexander Valley  plus snacks  (Mike)","RETAIL",138.99]
[null,{"$f":"Table_prices[[#This Row],[ITEMNMBR]]","v":0},"Custom Fruit Basket ( Mike Fowler )","RETAIL",83.99]
[null,{"$f":"Table_prices[[#This Row],[ITEMNMBR]]","v":0},"Custom :  First American Tile - Holiday Popcorn  (Mike)","RETAIL",59.99]
[null,{"$f":"Table_prices[[#This Row],[ITEMNMBR]]","v":0},"Custom Round to Remember ( Mike Fowler )","RETAIL",116.99]
[null,{"$f":"Table_prices[[#This Row],[ITEMNMBR]]","v":0},"Custom Baby Basket ( Mike )","RETAIL",197.32]
[null,{"$f":"Table_prices[[#This Row],[ITEMNMBR]]","v":0},"Custom Spa (Mike)","RETAIL",90]
[null,{"$f":"Table_prices[[#This Row],[ITEMNMBR]]","v":0},"Custom: healthy with oranges and choc cherries ( Mike )","RETAIL",154.99]
[null,{"$f":"Table_prices[[#This Row],[ITEMNMBR]]","v":0},"Custom: The New England Architectural Center - breakfast ( Mike )","RETAIL",101.99]
[null,{"$f":"Table_prices[[#This Row],[ITEMNMBR]]","v":0},"Custom: Frontline Technologies - stack (Mike F.)","RETAIL",15]
[null,{"$f":"Table_prices[[#This Row],[ITEMNMBR]]","v":0},"Custom: Frontline Technologies - mini  (Mike F.)","RETAIL",20]
[null,{"$f":"Table_prices[[#This Row],[ITEMNMBR]]","v":0},"Custom: Frontline Technologies - Coffee Break w/ Mug (Mike F.)","RETAIL",34.99]
[null,{"$f":"Table_prices[[#This Row],[ITEMNMBR]]","v":0},"Custom: Frontline Technologies - Snack Premium w/ Mugs (Mike F.)","RETAIL",79.989999999999995]
[null,{"$f":"Table_prices[[#This Row],[ITEMNMBR]]","v":0},"Custom: Frontline Technologies - stack- 2 mugs (Mike F.)","RETAIL",15]
[null,{"$f":"Table_prices[[#This Row],[ITEMNMBR]]","v":0},"Custom: Frontline Technologies - Tea & Cookies - 2 mugs (Mike F.)","RETAIL",79.989999999999995]
[null,{"$f":"Table_prices[[#This Row],[ITEMNMBR]]","v":0},"Custom: Frontline Technologies - March Madness Snacks &Treats Plus  (Mike F.)","RETAIL",75]
[null,{"$f":"Table_prices[[#This Row],[ITEMNMBR]]","v":0},"Custom: Frontline Technologies - 2 mugs chai and cookies  (Mike F.)","RETAIL",29.99]
[null,{"$f":"Table_prices[[#This Row],[ITEMNMBR]]","v":0},"Custom: Frontline Technologies - Tea & Cookies - 1mug (Mike F.)","RETAIL",79.989999999999995]
[null,{"$f":"Table_prices[[#This Row],[ITEMNMBR]]","v":0},"Custom: Frontline Technologies - 4061 with two csi items (Mike F.)","RETAIL",69.989999999999995]
[null,{"$f":"Table_prices[[#This Row],[ITEMNMBR]]","v":0},"Custom: Foot Locker - Football Theme (Mike)","RETAIL",125]
[null,{"$f":"Table_prices[[#This Row],[ITEMNMBR]]","v":0},"Custom: Foot Locker - care package 1 (Mike)","RETAIL",140]
[null,{"$f":"Table_prices[[#This Row],[ITEMNMBR]]","v":0},"Custom: Foot Locker - care package 2 (Mike)","RETAIL",150]
[null,{"$f":"Table_prices[[#This Row],[ITEMNMBR]]","v":0},"Custom: Foot Locker - Energy booster - Gatorade, protein bars, popcorn (Mike)","RETAIL",67.5]
[null,{"$f":"Table_prices[[#This Row],[ITEMNMBR]]","v":0},"Custom: Foot Locker - Snack Basket  (Mike)","RETAIL",175]
[null,{"$f":"Table_prices[[#This Row],[ITEMNMBR]]","v":0},"Custom: Foot Locker - Snack Ultimate Care Package  (Mike)","RETAIL",149.99]
[null,{"$f":"Table_prices[[#This Row],[ITEMNMBR]]","v":0},"Custom: Gavilon - holiday triple chocolate caramel popcorn tin - (Mike)","RETAIL",24.99]
[null,{"$f":"Table_prices[[#This Row],[ITEMNMBR]]","v":0},"Custom Corona Bucket ( Mike )","RETAIL",79.989999999999995]
[null,{"$f":"Table_prices[[#This Row],[ITEMNMBR]]","v":0},"Custom Guy Carpenter Coffee Choc Basket","RETAIL",47]
[null,{"$f":"Table_prices[[#This Row],[ITEMNMBR]]","v":0},"Custom Guy Carpenter Chocolate Tower (Mike)","RETAIL",50]
[null,{"$f":"Table_prices[[#This Row],[ITEMNMBR]]","v":0},"Custom Sweets & Treats ( Mike Fowler )","RETAIL",51.99]
[null,{"$f":"Table_prices[[#This Row],[ITEMNMBR]]","v":0},"Custom: Soup ( Mike Fowler )","RETAIL",80.989999999999995]
[null,{"$f":"Table_prices[[#This Row],[ITEMNMBR]]","v":0},"Custom - HBO - Fruits and Snacks (Mike)","RETAIL",156.99]
[null,{"$f":"Table_prices[[#This Row],[ITEMNMBR]]","v":0},"Custom --Twizzers & Chocolates (Mike)","RETAIL",60]
[null,{"$f":"Table_prices[[#This Row],[ITEMNMBR]]","v":0},"Custom - Red Wine, Cigar and Chocolate Basket (Mike)","RETAIL",100]
[null,{"$f":"Table_prices[[#This Row],[ITEMNMBR]]","v":0},"Custom - Snacks & Sweets Basket (Mike)","RETAIL",400]
[null,{"$f":"Table_prices[[#This Row],[ITEMNMBR]]","v":0},"Custom","RETAIL",84.08]
[null,{"$f":"Table_prices[[#This Row],[ITEMNMBR]]","v":0},"Custom -  Hagan Law Group - Boxed Dom (Mike)","RETAIL",158.99]
[null,{"$f":"Table_prices[[#This Row],[ITEMNMBR]]","v":0},"Custom - serendipty - calming / relaxation spa - (Mike)","RETAIL",183.99]
[null,{"$f":"Table_prices[[#This Row],[ITEMNMBR]]","v":0},"Custom Body Creams ~lotions~(Mike)","RETAIL",63.99]
[null,{"$f":"Table_prices[[#This Row],[ITEMNMBR]]","v":0},"Custom: snack ultimate  (Mike)","RETAIL",149.99]
[null,{"$f":"Table_prices[[#This Row],[ITEMNMBR]]","v":0},"Custom : red wine snacks and chocolates (Mike)","RETAIL",99.99]
[null,{"$f":"Table_prices[[#This Row],[ITEMNMBR]]","v":0},"Custom : snack classic w/ black & white ribbon (Mike)","RETAIL",68.989999999999995]
[null,{"$f":"Table_prices[[#This Row],[ITEMNMBR]]","v":0},"Custom deck the halls with/out chocolates (Mike)","RETAIL",58.99]
[null,{"$f":"Table_prices[[#This Row],[ITEMNMBR]]","v":0},"Custom wine basket (Mike)","RETAIL",133.99]
[null,{"$f":"Table_prices[[#This Row],[ITEMNMBR]]","v":0},"Custom: Bistango Restaurant - 5090 with gift card (Mike)","RETAIL",89.99]
[null,{"$f":"Table_prices[[#This Row],[ITEMNMBR]]","v":0},"Custom: Aureolo Restaurant - 5090 with gift card (Mike)","RETAIL",89.99]
[null,{"$f":"Table_prices[[#This Row],[ITEMNMBR]]","v":0},"Custom: Natures Picnic  (Mike)","RETAIL",75]
[null,{"$f":"Table_prices[[#This Row],[ITEMNMBR]]","v":0},"Custom: Fruit Basket  (Mike)","RETAIL",100]
[null,{"$f":"Table_prices[[#This Row],[ITEMNMBR]]","v":0},"Custom: Kalamazoo Orthodontics - 5140 - swap wine out for sparking cider  (Mike)","RETAIL",59.99]
[null,{"$f":"Table_prices[[#This Row],[ITEMNMBR]]","v":0},"Custom: fruit and snacks ( Mike )","RETAIL",100]
[null,{"$f":"Table_prices[[#This Row],[ITEMNMBR]]","v":0},"Custom Irish Beer Bucket ( Mike Fowler )","RETAIL",78.989999999999995]
[null,{"$f":"Table_prices[[#This Row],[ITEMNMBR]]","v":0},"Custom: Luminations - fruit, snacks - whoopies - (Mike)","RETAIL",56.99]
[null,{"$f":"Table_prices[[#This Row],[ITEMNMBR]]","v":0},"Custom: Luminations - fruit, snacks - baked goods  (Mike)","RETAIL",113.99]
[null,{"$f":"Table_prices[[#This Row],[ITEMNMBR]]","v":0},"Custom: Luminations - fruit, snacks - baked goods  (Mike)","RETAIL",113.99]
[null,{"$f":"Table_prices[[#This Row],[ITEMNMBR]]","v":0},"Custom: Luminations - fruit, snacks - baked goods  (Mike)","RETAIL",113.99]
[null,{"$f":"Table_prices[[#This Row],[ITEMNMBR]]","v":0},"Custom: Luminations - Healthy Snacks and Fruit   (Mike)","RETAIL",109.99]
[null,{"$f":"Table_prices[[#This Row],[ITEMNMBR]]","v":0},"Custom: Luminations - Fruit, Snacks, Chocolates & Baked Goods with added Spice Jars mid lev   (Mike)","RETAIL",50]
[null,{"$f":"Table_prices[[#This Row],[ITEMNMBR]]","v":0},"Custom: Luminations - Fruit, Snacks, Chocolates & Baked Goods with added Spice Jars up lev   (Mike)","RETAIL",100]
[null,{"$f":"Table_prices[[#This Row],[ITEMNMBR]]","v":0},"Custom: Luminations - Fruit, Snacks, Chocolates & Baked Goods with added Spice Jars up lev   (Mike)","RETAIL",100]
[null,{"$f":"Table_prices[[#This Row],[ITEMNMBR]]","v":0},"Custom: Luminations - cookie brittle  (Mike)","RETAIL",0]
[null,{"$f":"Table_prices[[#This Row],[ITEMNMBR]]","v":0},"Custom: Rose Champagne , Coffee & Chocolates ( Mike )","RETAIL",160.99]
[null,{"$f":"Table_prices[[#This Row],[ITEMNMBR]]","v":0},"Custom Exam Cram (Mike F.)","RETAIL",46.99]
[null,{"$f":"Table_prices[[#This Row],[ITEMNMBR]]","v":0},"Custom:Madison Mott - Day in Paris - with glasses (Mike)","RETAIL",109.99]
[null,{"$f":"Table_prices[[#This Row],[ITEMNMBR]]","v":0},"Custom 4503 no peanuts or peanut butter pretzels for Mike","RETAIL",144.99]
[null,{"$f":"Table_prices[[#This Row],[ITEMNMBR]]","v":0},"Custom: popcorn ( Mike )","RETAIL",990]
[null,{"$f":"Table_prices[[#This Row],[ITEMNMBR]]","v":0},"Custom: New Baby Boy - Spa and Chocolates for Mom  (Mike)","RETAIL",100]
[null,{"$f":"Table_prices[[#This Row],[ITEMNMBR]]","v":0},"custom italian mini (different basket) (Mike)","RETAIL",20]
[null,{"$f":"Table_prices[[#This Row],[ITEMNMBR]]","v":0},"Custom : coffee- tea- snacks - chocolates","RETAIL",69.989999999999995]
[null,{"$f":"Table_prices[[#This Row],[ITEMNMBR]]","v":0},"Custom snack basket for MIke","RETAIL",51.99]
[null,{"$f":"Table_prices[[#This Row],[ITEMNMBR]]","v":0},"Custom - Orchards Abundance with wine (Mike)","RETAIL",179.99]
[null,{"$f":"Table_prices[[#This Row],[ITEMNMBR]]","v":0},"Custom: 4047 plus wild horse merlot and chardonnay ( Mike )","RETAIL",189.99]
[null,{"$f":"Table_prices[[#This Row],[ITEMNMBR]]","v":0},"Custom Snack 1 Mug ( Mike )","RETAIL",59.99]
[null,{"$f":"Table_prices[[#This Row],[ITEMNMBR]]","v":0},"Custom Snack 2 Mugs ( Mike )","RETAIL",59.99]
[null,{"$f":"Table_prices[[#This Row],[ITEMNMBR]]","v":0},"Custom Snack 4 Mugs ( Mike )","RETAIL",59.99]
[null,{"$f":"Table_prices[[#This Row],[ITEMNMBR]]","v":0},"Custom nova point of sales chocolate ultimate for *Yossi* (mike)","RETAIL",179.99]
[null,{"$f":"Table_prices[[#This Row],[ITEMNMBR]]","v":0},"Custom nova point of sales chocolate premium for *Efrat* (mike)","RETAIL",99.99]
[null,{"$f":"Table_prices[[#This Row],[ITEMNMBR]]","v":0},"Custom nova point of sales chocolate premium for*Avi* (mike)","RETAIL",99.99]
[null,{"$f":"Table_prices[[#This Row],[ITEMNMBR]]","v":0},"Custom Nova Point Classic Snack with 2 mugs and card ( Mike )","RETAIL",59.99]
[null,{"$f":"Table_prices[[#This Row],[ITEMNMBR]]","v":0},"Custom Nova Point of Sales Snack Classic with 4 mugs for Gala & Jason ( Mike )","RETAIL",59.99]
[null,{"$f":"Table_prices[[#This Row],[ITEMNMBR]]","v":0},"Custom Nova Point of Sales Snack Classic with 2 mugs for Vicki ( Mike )","RETAIL",59.99]
[null,{"$f":"Table_prices[[#This Row],[ITEMNMBR]]","v":0},"Custom Nova Point of Sales Snack Classic with 2 mugs for Doris ( Mike )","RETAIL",59.99]
[null,{"$f":"Table_prices[[#This Row],[ITEMNMBR]]","v":0},"Custom Nova Point of Sales Snack Classic with 2 mugs for Leeta ( Mike )","RETAIL",59.99]
[null,{"$f":"Table_prices[[#This Row],[ITEMNMBR]]","v":0},"Custom Nova Point of Sales - Chocolate Mini plus customer supplied items (Mike)","RETAIL",24.99]
[null,{"$f":"Table_prices[[#This Row],[ITEMNMBR]]","v":0},"Custom Nova Point of Sales - Chocolate Mini plus customer supplied items (Mike)","RETAIL",24.99]
[null,{"$f":"Table_prices[[#This Row],[ITEMNMBR]]","v":0},"Custom Nova Point of Sales -  Sweets & Treats Gift Tower - plus white mug (Mike)","RETAIL",39.99]
[null,{"$f":"Table_prices[[#This Row],[ITEMNMBR]]","v":0},"Custom Nova Point of Sales -  Sweets & Treats Gift Tower - plus black mug (Mike)","RETAIL",39.99]
[null,{"$f":"Table_prices[[#This Row],[ITEMNMBR]]","v":0},"Custom Nova Point of Sales -  Moet, cookies,coffee, chocolates with black& white mug (Mike)","RETAIL",100]
[null,{"$f":"Table_prices[[#This Row],[ITEMNMBR]]","v":0},"Custom Nova Point of Sales - pretzels, popcorn, pepsi, and a black mug (Mike)","RETAIL",60]
[null,{"$f":"Table_prices[[#This Row],[ITEMNMBR]]","v":0},"Custom Nova Point of Sales - Valentines 2014 (Mike)","RETAIL",92.99]
[null,{"$f":"Table_prices[[#This Row],[ITEMNMBR]]","v":0},"Custom WC snacks and chocolate (Mike)","RETAIL",55]
[null,{"$f":"Table_prices[[#This Row],[ITEMNMBR]]","v":0},"Custom get well basket (Mike)","RETAIL",98.99]
[null,{"$f":"Table_prices[[#This Row],[ITEMNMBR]]","v":0},"Custom:  Nelsons  - healthy  / organic ( Mike )","RETAIL",39.99]
[null,{"$f":"Table_prices[[#This Row],[ITEMNMBR]]","v":0},"Custom: snack classic.. color change ( Mike )","RETAIL",59.99]
[null,{"$f":"Table_prices[[#This Row],[ITEMNMBR]]","v":0},"Custom Champagne trio and chocolates Mike)","RETAIL",329.99]
[null,{"$f":"Table_prices[[#This Row],[ITEMNMBR]]","v":0},"Custom Champagne quatro and chocolates Mike)","RETAIL",659.99]
[null,{"$f":"Table_prices[[#This Row],[ITEMNMBR]]","v":0},"Custom healthy deluxe remove the salsa... (Mike)","RETAIL",99.99]
[null,{"$f":"Table_prices[[#This Row],[ITEMNMBR]]","v":0},"Custom: Power Disigns Inc snacks and csi (Mike)","RETAIL",49.99]
[null,{"$f":"Table_prices[[#This Row],[ITEMNMBR]]","v":0},"Custom: Power Disigns Inc snacks and csi 2 (Mike)","RETAIL",29.99]
[null,{"$f":"Table_prices[[#This Row],[ITEMNMBR]]","v":0},"Custom: Power Disigns Inc snacks (Mike)","RETAIL",29.99]
[null,{"$f":"Table_prices[[#This Row],[ITEMNMBR]]","v":0},"Custom Cakebread White Wine ( Mike Fowler )","RETAIL",149.99]
[null,{"$f":"Table_prices[[#This Row],[ITEMNMBR]]","v":0},"Custom Cakebread Red  Wine ( Mike Fowler )","RETAIL",207.99]
[null,{"$f":"Table_prices[[#This Row],[ITEMNMBR]]","v":0},"Custom Tour of Italy with cakebread wine for (Mike)","RETAIL",321.99]
[null,{"$f":"Table_prices[[#This Row],[ITEMNMBR]]","v":0},"Custom WC snacks and chocolate (Mike)","RETAIL",55]
[null,{"$f":"Table_prices[[#This Row],[ITEMNMBR]]","v":0},"Custom -42 sampler Popcorn Bags of Cheesy Cheddar (Mike)","RETAIL",168]
[null,{"$f":"Table_prices[[#This Row],[ITEMNMBR]]","v":0},"Custom -50 sampler Popcorn Bags of Cookies and Cream (Mike)","RETAIL",225]
[null,{"$f":"Table_prices[[#This Row],[ITEMNMBR]]","v":0},"Custom -49 sampler Popcorn Bags of Salt & Vinegar (Mike)","RETAIL",196]
[null,{"$f":"Table_prices[[#This Row],[ITEMNMBR]]","v":0},"Custom **Italian Holiday** (Mike)","RETAIL",140]
[null,{"$f":"Table_prices[[#This Row],[ITEMNMBR]]","v":0},"Custom **Pizza Making Fun for the Holiday** (Mike)","RETAIL",175]
[null,{"$f":"Table_prices[[#This Row],[ITEMNMBR]]","v":0},"Custom: Tower with Thanksgiving Theme Snacks (Mike)","RETAIL",59.99]
[null,{"$f":"Table_prices[[#This Row],[ITEMNMBR]]","v":0},"Custom: snacks  (Mike)","RETAIL",62]
[null,{"$f":"Table_prices[[#This Row],[ITEMNMBR]]","v":0},"Custom: Savant Capital  - snack one ( Mike )","RETAIL",50]
[null,{"$f":"Table_prices[[#This Row],[ITEMNMBR]]","v":0},"Custom: Savant Capital  - snack two ( Mike )","RETAIL",50]
[null,{"$f":"Table_prices[[#This Row],[ITEMNMBR]]","v":0},"Custom: Savant Capital  - snack three ( Mike )","RETAIL",20]
[null,{"$f":"Table_prices[[#This Row],[ITEMNMBR]]","v":0},"Custom: Savant Capital  - snack four ( Mike )","RETAIL",20]
[null,{"$f":"Table_prices[[#This Row],[ITEMNMBR]]","v":0},"Custom: Savant Capital  - 20 -( Mike )","RETAIL",20]
[null,{"$f":"Table_prices[[#This Row],[ITEMNMBR]]","v":0},"Custom: Savant Capital  - 50 -( Mike )","RETAIL",50]
[null,{"$f":"Table_prices[[#This Row],[ITEMNMBR]]","v":0},"Custom: Savant Capital  - Veuve -( Mike )","RETAIL",65]
[null,{"$f":"Table_prices[[#This Row],[ITEMNMBR]]","v":0},"Custom: Savant Capital  - snack - 8 - ( Mike )","RETAIL",20]
[null,{"$f":"Table_prices[[#This Row],[ITEMNMBR]]","v":0},"Custom: Savant Capital  - snack - 9 - ( Mike )","RETAIL",20]
[null,{"$f":"Table_prices[[#This Row],[ITEMNMBR]]","v":0},"Custom: Savant Capital  - snack - 10 - ( Mike )","RETAIL",50]
[null,{"$f":"Table_prices[[#This Row],[ITEMNMBR]]","v":0},"Custom: Savant Capital  - snack - 11 - ( Mike )","RETAIL",50]
[null,{"$f":"Table_prices[[#This Row],[ITEMNMBR]]","v":0},"Custom: Savant Capital  - snack - 12 - ( Mike )","RETAIL",21]
[null,{"$f":"Table_prices[[#This Row],[ITEMNMBR]]","v":0},"Custom: Savant Capital  - snack - 13 - ( Mike )","RETAIL",50]
[null,{"$f":"Table_prices[[#This Row],[ITEMNMBR]]","v":0},"Custom: Savant Capital  -  Moet & Snacks","RETAIL",80]
[null,{"$f":"Table_prices[[#This Row],[ITEMNMBR]]","v":0},"Custom: Savant Capital  - snack basket - ( Mike )","RETAIL",20]
[null,{"$f":"Table_prices[[#This Row],[ITEMNMBR]]","v":0},"Custom: Savant Capital  - snack basket 2- ( Mike )","RETAIL",50]
[null,{"$f":"Table_prices[[#This Row],[ITEMNMBR]]","v":0},"Custom: Savant Capital  - fruit snacks and sweets ( Mike )","RETAIL",50]
[null,{"$f":"Table_prices[[#This Row],[ITEMNMBR]]","v":0},"Custom:  Cookies in small tower box - 2D - (Mike)","RETAIL",35]
[null,{"$f":"Table_prices[[#This Row],[ITEMNMBR]]","v":0},"Custom:  Cookies in small tower box - 3D - (Mike)","RETAIL",45]
[null,{"$f":"Table_prices[[#This Row],[ITEMNMBR]]","v":0},"Custom:  Cookies in small tower box - 4D - (Mike)","RETAIL",55]
[null,{"$f":"Table_prices[[#This Row],[ITEMNMBR]]","v":0},"Custom:  Cookies in small tower box - 8D - (Mike)","RETAIL",100]
[null,{"$f":"Table_prices[[#This Row],[ITEMNMBR]]","v":0},"Custom:  Cookies in small tower box - 17D - (Mike)","RETAIL",205]
[null,{"$f":"Table_prices[[#This Row],[ITEMNMBR]]","v":0},"Custom:  Cookies in small tower box - 5D - (Mike)","RETAIL",65]
[null,{"$f":"Table_prices[[#This Row],[ITEMNMBR]]","v":0},"Custom:  Cookies in small tower box - 1D - (Mike)","RETAIL",18]
[null,{"$f":"Table_prices[[#This Row],[ITEMNMBR]]","v":0},"Custom:  Cookies in small tower box - 1&1/2 D - (Mike)","RETAIL",25]
[null,{"$f":"Table_prices[[#This Row],[ITEMNMBR]]","v":0},"Custom Basket for 20 Employees","RETAIL",299.99]
[null,{"$f":"Table_prices[[#This Row],[ITEMNMBR]]","v":0},"Custom Snack Classic","RETAIL",69.989999999999995]
[null,{"$f":"Table_prices[[#This Row],[ITEMNMBR]]","v":0},"Custom : Coors Light Tailgate fun  ( Mike )","RETAIL",171.99]
[null,{"$f":"Table_prices[[#This Row],[ITEMNMBR]]","v":0},"Custom red wine and snacks - small bucket (Mike)","RETAIL",70]
[null,{"$f":"Table_prices[[#This Row],[ITEMNMBR]]","v":0},"Custom white wine and snacks - small bucket (Mike)","RETAIL",70]
[null,{"$f":"Table_prices[[#This Row],[ITEMNMBR]]","v":0},"custom: Sleepy's - care package w/ csi  (mike)","RETAIL",19]
[null,{"$f":"Table_prices[[#This Row],[ITEMNMBR]]","v":0},"custom: Sleepy's - care package2 w/ csi  (mike)","RETAIL",19]
[null,{"$f":"Table_prices[[#This Row],[ITEMNMBR]]","v":0},"Custom: Peroni beer plus snacks (Mke)","RETAIL",165.99]
[null,{"$f":"Table_prices[[#This Row],[ITEMNMBR]]","v":0},"Custom: Peroni beer plus snacks (Mke)","RETAIL",158.99]
[null,{"$f":"Table_prices[[#This Row],[ITEMNMBR]]","v":0},"Custom: Bear hugzz care pkg  (Mke)","RETAIL",59.99]
[null,{"$f":"Table_prices[[#This Row],[ITEMNMBR]]","v":0},"Custom: Peroni beer plus gluten free snacks (Mke)","RETAIL",165.99]
[null,{"$f":"Table_prices[[#This Row],[ITEMNMBR]]","v":0},"Custom: Midnight Snack and Health Nut Combo ( Mike )","RETAIL",97.99]
[null,{"$f":"Table_prices[[#This Row],[ITEMNMBR]]","v":0},"Custom Italian with Chianti","RETAIL",149.99]
[null,{"$f":"Table_prices[[#This Row],[ITEMNMBR]]","v":0},"Custom: SDI Technologies - coffee tea and cookies - (Mike)","RETAIL",79.989999999999995]
[null,{"$f":"Table_prices[[#This Row],[ITEMNMBR]]","v":0},"Custom: SDI Technologies - coffee tea and cookies larger - (Mike / Tim)","RETAIL",100]
[null,{"$f":"Table_prices[[#This Row],[ITEMNMBR]]","v":0},"Custom Tea & Cookie Small for Mike","RETAIL",69.989999999999995]
[null,{"$f":"Table_prices[[#This Row],[ITEMNMBR]]","v":0},"Custom: SRI Trang - baked goods ( Mike )","RETAIL",73.989999999999995]
[null,{"$f":"Table_prices[[#This Row],[ITEMNMBR]]","v":0},"Custom: SRI Trang - baked goods  plus nut mini ( Mike )","RETAIL",81.99]
[null,{"$f":"Table_prices[[#This Row],[ITEMNMBR]]","v":0},"Custom Junk Food Bucket","RETAIL",39.99]
[null,{"$f":"Table_prices[[#This Row],[ITEMNMBR]]","v":0},"Custom: Estate Collection *removing sausage*  ( Mike )","RETAIL",183.99]
[null,{"$f":"Table_prices[[#This Row],[ITEMNMBR]]","v":0},"Custom Popcorn, Snacks, Junk Food (Mike F)","RETAIL",400]
[null,{"$f":"Table_prices[[#This Row],[ITEMNMBR]]","v":0},"Custom: U.S. Diagnostics - 5230 - with added Snow Globe ( Mike )","RETAIL",149.99]
[null,{"$f":"Table_prices[[#This Row],[ITEMNMBR]]","v":0},"Custom: U.S. Diagnostics - 5342 - with added Snow Globe ( Mike )","RETAIL",59.99]
[null,{"$f":"Table_prices[[#This Row],[ITEMNMBR]]","v":0},"Custom: U.S. Diagnostics - 6822 - with added Snow Globe ( Mike )","RETAIL",39.99]
[null,{"$f":"Table_prices[[#This Row],[ITEMNMBR]]","v":0},"Custom Easter Jumbo ( Mike Fowler )","RETAIL",200]
[null,{"$f":"Table_prices[[#This Row],[ITEMNMBR]]","v":0},"Custom:Silver Oak Trio with snacks and sweets (Mike F.)","RETAIL",399.99]
[null,{"$f":"Table_prices[[#This Row],[ITEMNMBR]]","v":0},"Custom:Silver Oak Trio with snacks and sweets Kosher version (Mike F.)","RETAIL",399.99]
[null,{"$f":"Table_prices[[#This Row],[ITEMNMBR]]","v":0},"Custom:Silver Oak Trio with snacks and sweets (Mike F.)","RETAIL",399.99]
[null,{"$f":"Table_prices[[#This Row],[ITEMNMBR]]","v":0},"Custom Bountiful with no sausage","RETAIL",122.99]
[null,{"$f":"Table_prices[[#This Row],[ITEMNMBR]]","v":0},"Custom: Weill Cornell Imaging - chocolate classic added items ( Mike )","RETAIL",79.989999999999995]
[null,{"$f":"Table_prices[[#This Row],[ITEMNMBR]]","v":0},"Custom: Weill Cornell Imaging - chocolate classic  adjusted items ( Mike )","RETAIL",59.99]
[null,{"$f":"Table_prices[[#This Row],[ITEMNMBR]]","v":0},"Custom: Weill Cornell Imaging - chocolate premium- color change ( Mike )","RETAIL",99.99]
[null,{"$f":"Table_prices[[#This Row],[ITEMNMBR]]","v":0},"Custom: Weill Cornell Imaging - festive favorites - color change ( Mike )","RETAIL",39.99]
[null,{"$f":"Table_prices[[#This Row],[ITEMNMBR]]","v":0},"Custom:Weill Cornell Imaging- Healthy Classic Style ( Mike )","RETAIL",59.99]
[null,{"$f":"Table_prices[[#This Row],[ITEMNMBR]]","v":0},"Custom: Weill Cornell Imaging -Timeless Treats  - no cheese  ( Mike )","RETAIL",39.99]
[null,{"$f":"Table_prices[[#This Row],[ITEMNMBR]]","v":0},"Custom: Weill Cornell Imaging -Christmas Deluxe - No Cheese  ( Mike )","RETAIL",99.99]
[null,{"$f":"Table_prices[[#This Row],[ITEMNMBR]]","v":0},"Custom: Weill Cornell Imaging -Christmas Premium - No Cheese  ( Mike )","RETAIL",79.989999999999995]
[null,{"$f":"Table_prices[[#This Row],[ITEMNMBR]]","v":0},"Custom: Weill Cornell Imaging -Christmas Classic- No Cheese  ( Mike )","RETAIL",59.99]
[null,{"$f":"Table_prices[[#This Row],[ITEMNMBR]]","v":0},"Custom: Weill Cornell Imaging -5220   ( Mike )","RETAIL",99.99]
[null,{"$f":"Table_prices[[#This Row],[ITEMNMBR]]","v":0},"Custom: Weill Cornell Imaging -4101   ( Mike )","RETAIL",49.99]
[null,{"$f":"Table_prices[[#This Row],[ITEMNMBR]]","v":0},"Custom:Cakebread Red Wine Countryside ( Mike )","RETAIL",124.99]
[null,{"$f":"Table_prices[[#This Row],[ITEMNMBR]]","v":0},"Ginger Snap Cookies by Mary's Gone Crackers - 5.5 oz. -","RETAIL",100]
[null,{"$f":"Table_prices[[#This Row],[ITEMNMBR]]","v":0},"MGD64 - Custom Basket","RETAIL",19.989999999999998]
[null,{"$f":"Table_prices[[#This Row],[ITEMNMBR]]","v":0},"Oatmeal","RETAIL",100]
[null,{"$f":"Table_prices[[#This Row],[ITEMNMBR]]","v":0},"Baby Dear Blue Baby Gown","RETAIL",100]
[null,{"$f":"Table_prices[[#This Row],[ITEMNMBR]]","v":0},"Baby Dear Pink Baby Gown","RETAIL",100]
[null,{"$f":"Table_prices[[#This Row],[ITEMNMBR]]","v":0},"Baby Dear Yellow Baby Gown","RETAIL",100]
[null,{"$f":"Table_prices[[#This Row],[ITEMNMBR]]","v":0},"Baby Dear Blue Bib","RETAIL",100]
[null,{"$f":"Table_prices[[#This Row],[ITEMNMBR]]","v":0},"Baby Dear Pink Bib","RETAIL",100]
[null,{"$f":"Table_prices[[#This Row],[ITEMNMBR]]","v":0},"Baby Dear Yellow Bib","RETAIL",100]
[null,{"$f":"Table_prices[[#This Row],[ITEMNMBR]]","v":0},"Baby Dear Blue Baby Burp Cloth","RETAIL",100]
[null,{"$f":"Table_prices[[#This Row],[ITEMNMBR]]","v":0},"Baby Dear Pink Baby Burp CLoth","RETAIL",100]
[null,{"$f":"Table_prices[[#This Row],[ITEMNMBR]]","v":0},"Baby Dear Yellow Baby Burp Cloth","RETAIL",100]
[null,{"$f":"Table_prices[[#This Row],[ITEMNMBR]]","v":0},"Baby Dear Blue Baby Recieving Blanket","RETAIL",100]
[null,{"$f":"Table_prices[[#This Row],[ITEMNMBR]]","v":0},"Baby Dear Pink Baby Recieving Blanket","RETAIL",100]
[null,{"$f":"Table_prices[[#This Row],[ITEMNMBR]]","v":0},"Baby Dear Yellow Baby Recieving Blanket","RETAIL",100]
[null,{"$f":"Table_prices[[#This Row],[ITEMNMBR]]","v":0},"Baby Dear Blue Towel Gift Set","RETAIL",100]
[null,{"$f":"Table_prices[[#This Row],[ITEMNMBR]]","v":0},"Baby Dear Pink Towel Gift Set","RETAIL",100]
[null,{"$f":"Table_prices[[#This Row],[ITEMNMBR]]","v":0},"Baby Dear Yellow Towel Gift Set","RETAIL",100]
[null,{"$f":"Table_prices[[#This Row],[ITEMNMBR]]","v":0},"Misc - Fruit & Gourmet","RETAIL",0]
[null,{"$f":"Table_prices[[#This Row],[ITEMNMBR]]","v":0},"GourmetGiftBaskets.com Fruit Stickers","RETAIL",100]
[null,{"$f":"Table_prices[[#This Row],[ITEMNMBR]]","v":0},"Mapled Nut Company Maple Sugared Nut Mix - Bagged 4 oz.","RETAIL",100]
[null,{"$f":"Table_prices[[#This Row],[ITEMNMBR]]","v":0},"Custom Snack 2 Mugs ( Mike )","RETAIL",59.99]
[null,{"$f":"Table_prices[[#This Row],[ITEMNMBR]]","v":0},"Butter Rich Cookie Brittle by Moon Dance Baking - 6 oz. -","RETAIL",100]
[null,{"$f":"Table_prices[[#This Row],[ITEMNMBR]]","v":0},"Chocolate Peppermint Cookie Brittle by Moon Dance Baking - 6 oz. -","RETAIL",100]
[null,{"$f":"Table_prices[[#This Row],[ITEMNMBR]]","v":0},"Espresso Cookie Brittle by Moon Dance Baking - 6 oz. -","RETAIL",100]
[null,{"$f":"Table_prices[[#This Row],[ITEMNMBR]]","v":0},"Chocolate Dipped Toffee Cookie Brittle by Moon Dance Baking - 6 oz. -","RETAIL",100]
[null,{"$f":"Table_prices[[#This Row],[ITEMNMBR]]","v":0},"Mint Chocolate Chip Cookies by Hollys Baking - 6 oz. -","RETAIL",100]
[null,{"$f":"Table_prices[[#This Row],[ITEMNMBR]]","v":0},"Chocolate Chip Cookies by Hollys Baking - 6 oz. -","RETAIL",100]
[null,{"$f":"Table_prices[[#This Row],[ITEMNMBR]]","v":0},"Chocolate Chip Walnut Cookies by Hollys Baking - 6 oz. -","RETAIL",100]
[null,{"$f":"Table_prices[[#This Row],[ITEMNMBR]]","v":0},"More Than A Relish More Than A Relish 8 oz","RETAIL",100]
[null,{"$f":"Table_prices[[#This Row],[ITEMNMBR]]","v":0},"Pistachio Trail Mix Crunch by Mareblu Naturals - 3 oz. -","RETAIL",100]
[null,{"$f":"Table_prices[[#This Row],[ITEMNMBR]]","v":0},"Hess Select Cabernet Sauvignon - 750 ml -","RETAIL",100]
[null,{"$f":"Table_prices[[#This Row],[ITEMNMBR]]","v":0},"Penfolds Koonunga Hill Shiraz - 750 ml -","RETAIL",100]
[null,{"$f":"Table_prices[[#This Row],[ITEMNMBR]]","v":0},"19th Hole Snack Mix by Market Square Foods - 7 oz. -","RETAIL",100]
[null,{"$f":"Table_prices[[#This Row],[ITEMNMBR]]","v":0},"Market Square Foods Snowman Sugar Cookies 4oz.","RETAIL",100]
[null,{"$f":"Table_prices[[#This Row],[ITEMNMBR]]","v":0},"Market Square Foods Mother Goose House 12oz","RETAIL",100]
[null,{"$f":"Table_prices[[#This Row],[ITEMNMBR]]","v":0},"Market Square Foods Red Barn Chocolate Animal Cookies","RETAIL",100]
[null,{"$f":"Table_prices[[#This Row],[ITEMNMBR]]","v":0},"Market Square Foods Whire Barn Vanilla  Animal Cookies","RETAIL",100]
[null,{"$f":"Table_prices[[#This Row],[ITEMNMBR]]","v":0},"Santa Face Animal Cookies Vanilla 4oz","RETAIL",100]
[null,{"$f":"Table_prices[[#This Row],[ITEMNMBR]]","v":0},"Market Square Foods Halloween Sugar Cookie Box","RETAIL",100]
[null,{"$f":"Table_prices[[#This Row],[ITEMNMBR]]","v":0},"Market Square Foods Witch Cookie Box w/Gummy Bears","RETAIL",100]
[null,{"$f":"Table_prices[[#This Row],[ITEMNMBR]]","v":0},"Market Square Foods 3D Pumpkin Box w/ Vanilla Animal Cookies","RETAIL",100]
[null,{"$f":"Table_prices[[#This Row],[ITEMNMBR]]","v":0},"Roasted & Salted  Cashews by GourmetGiftBaskets.com - 8oz. -","RETAIL",100]
[null,{"$f":"Table_prices[[#This Row],[ITEMNMBR]]","v":0},"Roasted & Salted Almonds by GourmetGiftBaskets.Com - 8oz. -","RETAIL",100]
[null,{"$f":"Table_prices[[#This Row],[ITEMNMBR]]","v":0},"Roasted & Salted Pistachios by GourmetGiftBaskets.com - 8oz. -","RETAIL",100]
[null,{"$f":"Table_prices[[#This Row],[ITEMNMBR]]","v":0},"Cosmopolitan Fruit Cocktail Mix by GourmetGiftBaskets.com - 8 oz. -","RETAIL",100]
[null,{"$f":"Table_prices[[#This Row],[ITEMNMBR]]","v":0},"Peach Rings by GourmetGiftBaskets.com - 7oz. -","RETAIL",100]
[null,{"$f":"Table_prices[[#This Row],[ITEMNMBR]]","v":0},"Gummy Fish by GourmetGiftBaskets.com - 7oz. -","RETAIL",100]
[null,{"$f":"Table_prices[[#This Row],[ITEMNMBR]]","v":0},"Sour Gummy Worms by GourmetGiftBaskets.com - 7oz. -","RETAIL",100]
[null,{"$f":"Table_prices[[#This Row],[ITEMNMBR]]","v":0},"My Kitty My Kitty Seafood Flavored Treats 3 oz","RETAIL",100]
[null,{"$f":"Table_prices[[#This Row],[ITEMNMBR]]","v":0},"My Kitty My Kitty Catnip Buds .3 oz","RETAIL",100]
[null,{"$f":"Table_prices[[#This Row],[ITEMNMBR]]","v":0},"Napco Watering Can Assorted Colors 5.5\"","RETAIL",100]
[null,{"$f":"Table_prices[[#This Row],[ITEMNMBR]]","v":0},"Nashville Wraps Cello Bag 16 x 24","RETAIL",100]
[null,{"$f":"Table_prices[[#This Row],[ITEMNMBR]]","v":0},"Nashville Wraps 20 x 30 Cello Bag","RETAIL",100]
[null,{"$f":"Table_prices[[#This Row],[ITEMNMBR]]","v":0},"Nashville Wraps 12 x 4 x 20 Cello Bag","RETAIL",100]
[null,{"$f":"Table_prices[[#This Row],[ITEMNMBR]]","v":0},"Nashville Wraps 8 x 4 x 18 Cello Bag","RETAIL",100]
[null,{"$f":"Table_prices[[#This Row],[ITEMNMBR]]","v":0},"Nashville Wraps 25 x 30 Cello Bag","RETAIL",100]
[null,{"$f":"Table_prices[[#This Row],[ITEMNMBR]]","v":0},"Nashville Wraps 18x30 Cello Bag","RETAIL",100]
[null,{"$f":"Table_prices[[#This Row],[ITEMNMBR]]","v":0},"3M Clear Tape 2\" x 55yds- DO NOT ORDER FROM HERE-taa","RETAIL",100]
[null,{"$f":"Table_prices[[#This Row],[ITEMNMBR]]","v":0},"Cabernet Sauvignon RSV by Catena - 750 ml -","RETAIL",100]
[null,{"$f":"Table_prices[[#This Row],[ITEMNMBR]]","v":0},"Chardonnay RSV by Catena - 750 ml -","RETAIL",100]
[null,{"$f":"Table_prices[[#This Row],[ITEMNMBR]]","v":0},"Malbec Mendoza Lunlunta by Catena - 750 ml -","RETAIL",100]
[null,{"$f":"Table_prices[[#This Row],[ITEMNMBR]]","v":0},"Moet & Chandon White Star Champagne 750 ml","RETAIL",100]
[null,{"$f":"Table_prices[[#This Row],[ITEMNMBR]]","v":0},"Cabernet Sauvignon Vinters Blend by Ravenswood - 750 ml -","RETAIL",100]
[null,{"$f":"Table_prices[[#This Row],[ITEMNMBR]]","v":0},"Chardonnay Vinters Blend by Ravenswood - 750 ml -","RETAIL",100]
[null,{"$f":"Table_prices[[#This Row],[ITEMNMBR]]","v":0},"Merlot Vinters Blend by Ravenswood - 750 ml -","RETAIL",100]
[null,{"$f":"Table_prices[[#This Row],[ITEMNMBR]]","v":0},"Zinfandel Vinters Blend by Ravenswood - 750 ml -","RETAIL",100]
[null,{"$f":"Table_prices[[#This Row],[ITEMNMBR]]","v":0},"Veuve Clicquot Brut Yellow Label Gift Box 750 ml","RETAIL",100]
[null,{"$f":"Table_prices[[#This Row],[ITEMNMBR]]","v":0},"Cabernet Sauvingon by Wild Horse - 750 ml -","RETAIL",100]
[null,{"$f":"Table_prices[[#This Row],[ITEMNMBR]]","v":0},"Chardonnay Central Coast by Wild Horse - 750 ml -","RETAIL",100]
[null,{"$f":"Table_prices[[#This Row],[ITEMNMBR]]","v":0},"Merlot Paso Robles by Wild Horse - 750 ml -","RETAIL",100]
[null,{"$f":"Table_prices[[#This Row],[ITEMNMBR]]","v":0},"Cabernet Sauvignon by Silver Oak Alexander Valley - 750 ml -","RETAIL",100]
[null,{"$f":"Table_prices[[#This Row],[ITEMNMBR]]","v":0},"Cabernet Sauvignon by Silver Oak Napa Valley - 750 ml -","RETAIL",100]
[null,{"$f":"Table_prices[[#This Row],[ITEMNMBR]]","v":0},"Veuve Clicquot Brut Yellow Label NOT in Gift Box 750 ml","RETAIL",100]
[null,{"$f":"Table_prices[[#This Row],[ITEMNMBR]]","v":0},"Dom Perignon not in Gift Box 750 ml","RETAIL",100]
[null,{"$f":"Table_prices[[#This Row],[ITEMNMBR]]","v":0},"Dom Perignon in Gift Box 750 ml","RETAIL",100]
[null,{"$f":"Table_prices[[#This Row],[ITEMNMBR]]","v":0},"Robert Mondavi Cabernet","RETAIL",100]
[null,{"$f":"Table_prices[[#This Row],[ITEMNMBR]]","v":0},"Fransiscan Merlot","RETAIL",100]
[null,{"$f":"Table_prices[[#This Row],[ITEMNMBR]]","v":0},"Don Julio Blanco Tequila","RETAIL",100]
[null,{"$f":"Table_prices[[#This Row],[ITEMNMBR]]","v":0},"Baileys Coffee","RETAIL",100]
[null,{"$f":"Table_prices[[#This Row],[ITEMNMBR]]","v":0},"Ketel One Vodka","RETAIL",100]
[null,{"$f":"Table_prices[[#This Row],[ITEMNMBR]]","v":0},"Cab Svgn L Martini Sonoma 750 ML","RETAIL",100]
[null,{"$f":"Table_prices[[#This Row],[ITEMNMBR]]","v":0},"Claret Francis Coppola BL","RETAIL",100]
[null,{"$f":"Table_prices[[#This Row],[ITEMNMBR]]","v":0},"Dom Perignon 2004","RETAIL",100]
[null,{"$f":"Table_prices[[#This Row],[ITEMNMBR]]","v":0},"Custom Nut Free Spring FInals CP","RETAIL",39.99]
[null,{"$f":"Table_prices[[#This Row],[ITEMNMBR]]","v":0},"Custom Nut Free Spring Midterms CP","RETAIL",39.99]
[null,{"$f":"Table_prices[[#This Row],[ITEMNMBR]]","v":0},"Custom Nut Free Back to School CP","RETAIL",39.99]
[null,{"$f":"Table_prices[[#This Row],[ITEMNMBR]]","v":0},"Custom Nut Free Fall Finals CP","RETAIL",39.99]
[null,{"$f":"Table_prices[[#This Row],[ITEMNMBR]]","v":0},"Custom Nut Free Fall Midterms CP","RETAIL",39.99]
[null,{"$f":"Table_prices[[#This Row],[ITEMNMBR]]","v":0},"Custom Nut Free Birthday CP","RETAIL",49.99]
[null,{"$f":"Table_prices[[#This Row],[ITEMNMBR]]","v":0},"Custom Nut Free Valentine's CP","RETAIL",39.99]
[null,{"$f":"Table_prices[[#This Row],[ITEMNMBR]]","v":0},"Custom Nut Free Spring Sunrise CP","RETAIL",39.99]
[null,{"$f":"Table_prices[[#This Row],[ITEMNMBR]]","v":0},"Custom Nut Free Halloween CP","RETAIL",39.99]
[null,{"$f":"Table_prices[[#This Row],[ITEMNMBR]]","v":0},"Nikki's Cookies & Confections Snowman Cookies 1.69 oz.","RETAIL",100]
[null,{"$f":"Table_prices[[#This Row],[ITEMNMBR]]","v":0},"Nikki's Cookies & Confections Cinnamon Butterfly Cookies .82 oz.","RETAIL",100]
[null,{"$f":"Table_prices[[#This Row],[ITEMNMBR]]","v":0},"English Toffee Singles by Nikki's Cookies - .99 oz. -","RETAIL",100]
[null,{"$f":"Table_prices[[#This Row],[ITEMNMBR]]","v":0},"Nikki's Cookies & Confections Raspberry Ladybugs 1.12 oz.","RETAIL",100]
[null,{"$f":"Table_prices[[#This Row],[ITEMNMBR]]","v":0},"Nikki's Cookies & Confections Teapot Box-2 cookies 1.13 oz.","RETAIL",100]
[null,{"$f":"Table_prices[[#This Row],[ITEMNMBR]]","v":0},"Nikki's Cookies & Confections Mini Cinnamon Butterfly Cookie Gift Box 1.36 oz.","RETAIL",100]
[null,{"$f":"Table_prices[[#This Row],[ITEMNMBR]]","v":0},"Nikki's Green Nutcracker .75oz","RETAIL",100]
[null,{"$f":"Table_prices[[#This Row],[ITEMNMBR]]","v":0},"Nikki's Red Nutcracker .75oz","RETAIL",100]
[null,{"$f":"Table_prices[[#This Row],[ITEMNMBR]]","v":0},"Hot Pepper Cheese Round by Northwoods - 4 oz. -","RETAIL",100]
[null,{"$f":"Table_prices[[#This Row],[ITEMNMBR]]","v":0},"Smoked Gouda Cheese Round by Northwoods - 6 oz. -","RETAIL",100]
[null,{"$f":"Table_prices[[#This Row],[ITEMNMBR]]","v":0},"Smoked Sausage by Northwoods - 7 oz. -","RETAIL",100]
[null,{"$f":"Table_prices[[#This Row],[ITEMNMBR]]","v":0},"Onion Cheese Round by Northwoods - 4 oz. -","RETAIL",100]
[null,{"$f":"Table_prices[[#This Row],[ITEMNMBR]]","v":0},"Swiss Cheese by Northwoods - 2 oz. -","RETAIL",100]
[null,{"$f":"Table_prices[[#This Row],[ITEMNMBR]]","v":0},"Chipotle Cheddar Cheese by Northwoods - 2 oz. -","RETAIL",100]
[null,{"$f":"Table_prices[[#This Row],[ITEMNMBR]]","v":0},"Summer Sausage by Northwoods - 3 oz. -","RETAIL",100]
[null,{"$f":"Table_prices[[#This Row],[ITEMNMBR]]","v":0},"Salami by Northwoods - 3 oz. -","RETAIL",100]
[null,{"$f":"Table_prices[[#This Row],[ITEMNMBR]]","v":0},"Garlic Summer Sausage by Nueske - 10 oz. -","RETAIL",100]
[null,{"$f":"Table_prices[[#This Row],[ITEMNMBR]]","v":0},"Ooo La La Original Nut Confection by Nutorious - 2 oz. -","RETAIL",100]
[null,{"$f":"Table_prices[[#This Row],[ITEMNMBR]]","v":0},"Cherry Vanilla Va-Voom Nut Confection by Nutorious - 2 oz. -","RETAIL",100]
[null,{"$f":"Table_prices[[#This Row],[ITEMNMBR]]","v":0},"Cranberry Orango Tango Nut Confection by Nutorious - 2 oz. -","RETAIL",100]
[null,{"$f":"Table_prices[[#This Row],[ITEMNMBR]]","v":0},"Blueberry Lemon Merengue Nut Confection by Nutorious - 4 oz. -","RETAIL",100]
[null,{"$f":"Table_prices[[#This Row],[ITEMNMBR]]","v":0},"YANKEES HAT","RETAIL",100]
[null,{"$f":"Table_prices[[#This Row],[ITEMNMBR]]","v":0},"Yankees Hoodie Large","RETAIL",100]
[null,{"$f":"Table_prices[[#This Row],[ITEMNMBR]]","v":0},"YANKEES LANYARD","RETAIL",100]
[null,{"$f":"Table_prices[[#This Row],[ITEMNMBR]]","v":0},"Yankees Pennant 12X30","RETAIL",100]
[null,{"$f":"Table_prices[[#This Row],[ITEMNMBR]]","v":0},"YANKEES PLAYING CARDS","RETAIL",100]
[null,{"$f":"Table_prices[[#This Row],[ITEMNMBR]]","v":0},"Yankees Tumbler","RETAIL",100]
[null,{"$f":"Table_prices[[#This Row],[ITEMNMBR]]","v":0},"Strawberry Tea Wafer by The Original Carlsbad Oblaten - 1 oz. -","RETAIL",100]
[null,{"$f":"Table_prices[[#This Row],[ITEMNMBR]]","v":0},"Green Tea, Tea Wafer by The Original Carlsbad Oblaten - 1 oz. -","RETAIL",100]
[null,{"$f":"Table_prices[[#This Row],[ITEMNMBR]]","v":0},"Caramel Wafers by The Original Carlsbad Oblaten - 1 oz. -","RETAIL",100]
[null,{"$f":"Table_prices[[#This Row],[ITEMNMBR]]","v":0},"Buttered Peanut Crunch by Old Dominion Peanut Company - 10 oz. -","RETAIL",100]
[null,{"$f":"Table_prices[[#This Row],[ITEMNMBR]]","v":0},"Dipped Toffee Peanuts by Old Dominion Peanut Company - 10 oz. -","RETAIL",100]
[null,{"$f":"Table_prices[[#This Row],[ITEMNMBR]]","v":0},"Butter Peanut Crunch by Old Dominion Peanut Company - 4 oz. -","RETAIL",100]
[null,{"$f":"Table_prices[[#This Row],[ITEMNMBR]]","v":0},"Dipped Peanut Brittle by Old Dominion Peanut Company - 10  oz. -","RETAIL",100]
[null,{"$f":"Table_prices[[#This Row],[ITEMNMBR]]","v":0},"Double Dipped Peanuts by Old Dominion Peanut Company - 3 oz. -","RETAIL",100]
[null,{"$f":"Table_prices[[#This Row],[ITEMNMBR]]","v":0},"Butter Toffee Peanuts by Old Dominion Peanut Company - 3 oz. -","RETAIL",100]
[null,{"$f":"Table_prices[[#This Row],[ITEMNMBR]]","v":0},"Peanut Brittle by Old Dominion - 4 oz. -","RETAIL",100]
[null,{"$f":"Table_prices[[#This Row],[ITEMNMBR]]","v":0},"Double Dipped Peanuts (bagged) by Old Dominion - 3oz. -","RETAIL",100]
[null,{"$f":"Table_prices[[#This Row],[ITEMNMBR]]","v":0},"Oriental Trading Co. Crayola Colored Pencils 12 ct","RETAIL",100]
[null,{"$f":"Table_prices[[#This Row],[ITEMNMBR]]","v":0},"Oriental Trading Co. Necco Candy Eggs 1 oz.","RETAIL",100]
[null,{"$f":"Table_prices[[#This Row],[ITEMNMBR]]","v":0},"Oriental Trading Co. Necco Conversation Hearts 1 oz","RETAIL",100]
[null,{"$f":"Table_prices[[#This Row],[ITEMNMBR]]","v":0},"Oriental Trading Co. Necco Mini Malted Milk Eggs 1 oz.","RETAIL",100]
[null,{"$f":"Table_prices[[#This Row],[ITEMNMBR]]","v":0},"Oriental Trading Co. Breast Cancer Awareness Buttermints - Individually Wrapped","RETAIL",100]
[null,{"$f":"Table_prices[[#This Row],[ITEMNMBR]]","v":0},"Oriental Trading Co. Breast Cancer Awareness Ribbon Car Magnet 8\"","RETAIL",100]
[null,{"$f":"Table_prices[[#This Row],[ITEMNMBR]]","v":0},"Oriental Trading Co. Breast Cancer Awareness Tote Bag 8 3/4\"","RETAIL",100]
[null,{"$f":"Table_prices[[#This Row],[ITEMNMBR]]","v":0},"Oriental Trading Co. Breast Cancer Sayings Bracelet 8\"","RETAIL",100]
[null,{"$f":"Table_prices[[#This Row],[ITEMNMBR]]","v":0},"Oriental Trading Co. Plastic Bright Patterned Easter Eggs 2.33\"","RETAIL",100]
[null,{"$f":"Table_prices[[#This Row],[ITEMNMBR]]","v":0},"Oriental Trading Co. Plastic Toy Filled Eggs 2.25\"","RETAIL",100]
[null,{"$f":"Table_prices[[#This Row],[ITEMNMBR]]","v":0},"Oriental Trading Co. Pacon Sunworks Construction Paper 50 ct","RETAIL",100]
[null,{"$f":"Table_prices[[#This Row],[ITEMNMBR]]","v":0},"Oriental Trading Co. Crayola Crayons 8 pack","RETAIL",100]
[null,{"$f":"Table_prices[[#This Row],[ITEMNMBR]]","v":0},"Oriental Trading Co. Skittles Pastels Fun Size 1 oz","RETAIL",100]
[null,{"$f":"Table_prices[[#This Row],[ITEMNMBR]]","v":0},"Oriental Trading Co. Easter M&Ms MIlk Chocolate Fun Size Treats","RETAIL",100]
[null,{"$f":"Table_prices[[#This Row],[ITEMNMBR]]","v":0},"Oriental Trading Co. Easter Mini Beach Ball","RETAIL",100]
[null,{"$f":"Table_prices[[#This Row],[ITEMNMBR]]","v":0},"Oriental Trading Co.Springtime Activity Pad Assortment","RETAIL",100]
[null,{"$f":"Table_prices[[#This Row],[ITEMNMBR]]","v":0},"Oriental Trading Co. Carrot Candy Containers","RETAIL",100]
[null,{"$f":"Table_prices[[#This Row],[ITEMNMBR]]","v":0},"Oriental Trading Co.Reese's Peanut Butter Eggs .6oz","RETAIL",100]
[null,{"$f":"Table_prices[[#This Row],[ITEMNMBR]]","v":0},"Glow in the Dark Vampire Fangs","RETAIL",100]
[null,{"$f":"Table_prices[[#This Row],[ITEMNMBR]]","v":0},"Colorful Spider Ring","RETAIL",100]
[null,{"$f":"Table_prices[[#This Row],[ITEMNMBR]]","v":0},"Monster Wind up Chomping Teeth","RETAIL",100]
[null,{"$f":"Table_prices[[#This Row],[ITEMNMBR]]","v":0},"Candy Blood Bag - single packet -","RETAIL",100]
[null,{"$f":"Table_prices[[#This Row],[ITEMNMBR]]","v":0},"Organics Coconut Bar by Oskri - 1.9 oz. -","RETAIL",100]
[null,{"$f":"Table_prices[[#This Row],[ITEMNMBR]]","v":0},"Organics Mixed Nut Bar by Oskri - 1.5 oz. -","RETAIL",100]
[null,{"$f":"Table_prices[[#This Row],[ITEMNMBR]]","v":0},"Organics Cashew & Cranberries Crunch by Oskri - 3.53 oz. -","RETAIL",100]
[null,{"$f":"Table_prices[[#This Row],[ITEMNMBR]]","v":0},"Oskri Organics Muesli Honey Bar 1.5oz","RETAIL",100]
[null,{"$f":"Table_prices[[#This Row],[ITEMNMBR]]","v":0},"Oskri Organics Dried Cherries 3.53oz","RETAIL",100]
[null,{"$f":"Table_prices[[#This Row],[ITEMNMBR]]","v":0},"Dried Cranberries by Oskri - 3.53 oz. -","RETAIL",100]
[null,{"$f":"Table_prices[[#This Row],[ITEMNMBR]]","v":0},"Dried Blueberries by Oskri Organics - 3.53 oz -","RETAIL",100]
[null,{"$f":"Table_prices[[#This Row],[ITEMNMBR]]","v":0},"Almond Cranberry Bar by Oskri - 1.9 oz. -","RETAIL",100]
[null,{"$f":"Table_prices[[#This Row],[ITEMNMBR]]","v":0},"Pecan Raisin Granola Bar by Oskri- 1.9 oz","RETAIL",100]
[null,{"$f":"Table_prices[[#This Row],[ITEMNMBR]]","v":0},"Pantry Shelf Pizza Mix 12oz","RETAIL",100]
[null,{"$f":"Table_prices[[#This Row],[ITEMNMBR]]","v":0},"Pawsitively Gourmet Natural Pet Shampoo & Conditioner 17.5 oz","RETAIL",100]
[null,{"$f":"Table_prices[[#This Row],[ITEMNMBR]]","v":0},"Pawsitively Gourmet Pawsitive Rewards Training Treats 8 oz","RETAIL",100]
[null,{"$f":"Table_prices[[#This Row],[ITEMNMBR]]","v":0},"Pawsitively Gourmet Doggie Pastries - Doughnuts 2.5 oz","RETAIL",100]
[null,{"$f":"Table_prices[[#This Row],[ITEMNMBR]]","v":0},"Pawsitively Gourmet The original Doggie Croissant 10 oz","RETAIL",100]
[null,{"$f":"Table_prices[[#This Row],[ITEMNMBR]]","v":0},"Peachtree Card","RETAIL",0]
[null,{"$f":"Table_prices[[#This Row],[ITEMNMBR]]","v":0},"Peach Tree Silver Boxed Pen","RETAIL",100]
[null,{"$f":"Table_prices[[#This Row],[ITEMNMBR]]","v":0},"Peach Tree Ice Scraper","RETAIL",100]
[null,{"$f":"Table_prices[[#This Row],[ITEMNMBR]]","v":0},"Peach Tree Notepad","RETAIL",100]
[null,{"$f":"Table_prices[[#This Row],[ITEMNMBR]]","v":0},"Peeled Snacks Apricot-a-lot 1 oz","RETAIL",100]
[null,{"$f":"Table_prices[[#This Row],[ITEMNMBR]]","v":0},"Peeled Snacks Banan-a-peel 1.4 oz.","RETAIL",100]
[null,{"$f":"Table_prices[[#This Row],[ITEMNMBR]]","v":0},"Peeled Snacks Bing Bing Cherry 1 oz","RETAIL",100]
[null,{"$f":"Table_prices[[#This Row],[ITEMNMBR]]","v":0},"Peeled Snacks Cashew-later 1 oz","RETAIL",100]
[null,{"$f":"Table_prices[[#This Row],[ITEMNMBR]]","v":0},"Peeled Snacks go-Mango-Man-go 1.4 oz.","RETAIL",100]
[null,{"$f":"Table_prices[[#This Row],[ITEMNMBR]]","v":0},"Peeled Snacks pine-4-Pineapple 1.48 oz","RETAIL",100]
[null,{"$f":"Table_prices[[#This Row],[ITEMNMBR]]","v":0},"Pendergrass 5 Piece Men's Grooming Kit","RETAIL",100]
[null,{"$f":"Table_prices[[#This Row],[ITEMNMBR]]","v":0},"Pendergrass Back Scrubber Massager","RETAIL",100]
[null,{"$f":"Table_prices[[#This Row],[ITEMNMBR]]","v":0},"Pendergrass White Shell  pillow","RETAIL",100]
[null,{"$f":"Table_prices[[#This Row],[ITEMNMBR]]","v":0},"Pendergrass Boar Bristle Shaving Brush and Wood Soap Dish","RETAIL",100]
[null,{"$f":"Table_prices[[#This Row],[ITEMNMBR]]","v":0},"Pendergrass Body Net Buttercream","RETAIL",100]
[null,{"$f":"Table_prices[[#This Row],[ITEMNMBR]]","v":0},"Pendergrass Cherry Stone Thermal Wrap","RETAIL",100]
[null,{"$f":"Table_prices[[#This Row],[ITEMNMBR]]","v":0},"Pendergrass Cotton Waffle Loofah Backstrap","RETAIL",100]
[null,{"$f":"Table_prices[[#This Row],[ITEMNMBR]]","v":0},"Pendergrass Cotton Waffle Loofah Mitt-White","RETAIL",100]
[null,{"$f":"Table_prices[[#This Row],[ITEMNMBR]]","v":0},"Pendergrass Cotton Waffle Spa Slippers (Med/Large)","RETAIL",100]
[null,{"$f":"Table_prices[[#This Row],[ITEMNMBR]]","v":0},"Pendergrass Clear Relaxing Eye Mask-Assorted","RETAIL",100]
[null,{"$f":"Table_prices[[#This Row],[ITEMNMBR]]","v":0},"Pendergrass Foot Brush with Pedicure File Sage","RETAIL",100]
[null,{"$f":"Table_prices[[#This Row],[ITEMNMBR]]","v":0},"Pendergrass Foot Brush with Frosted Handle","RETAIL",100]
[null,{"$f":"Table_prices[[#This Row],[ITEMNMBR]]","v":0},"Pendergrass Foot Roller Massager","RETAIL",100]
[null,{"$f":"Table_prices[[#This Row],[ITEMNMBR]]","v":0},"Pendergrass Hair Brush-Wood","RETAIL",100]
[null,{"$f":"Table_prices[[#This Row],[ITEMNMBR]]","v":0},"Pendergrass Image Maker 4 Essentail Grooming Tools","RETAIL",100]
[null,{"$f":"Table_prices[[#This Row],[ITEMNMBR]]","v":0},"Pendergrass BODY MASSAGE BRUSH WITH GRIP-Blue","RETAIL",100]
[null,{"$f":"Table_prices[[#This Row],[ITEMNMBR]]","v":0},"Pendergrass Massage Mouse","RETAIL",100]
[null,{"$f":"Table_prices[[#This Row],[ITEMNMBR]]","v":0},"Pendergrass Men's Turkish Cotton Wrap","RETAIL",100]
[null,{"$f":"Table_prices[[#This Row],[ITEMNMBR]]","v":0},"Pendergrass Mirror - wood","RETAIL",100]
[null,{"$f":"Table_prices[[#This Row],[ITEMNMBR]]","v":0},"Pendergrass Moisterizing Manicure Gloves","RETAIL",100]
[null,{"$f":"Table_prices[[#This Row],[ITEMNMBR]]","v":0},"Pendergrass Moisturizing Pedicure Socks","RETAIL",100]
[null,{"$f":"Table_prices[[#This Row],[ITEMNMBR]]","v":0},"Pendergrass Nail Brush","RETAIL",100]
[null,{"$f":"Table_prices[[#This Row],[ITEMNMBR]]","v":0},"Pendergrass Pedicure Toe Separators-Pink","RETAIL",100]
[null,{"$f":"Table_prices[[#This Row],[ITEMNMBR]]","v":0},"Pendergrass Sandalwood Body Bar","RETAIL",100]
[null,{"$f":"Table_prices[[#This Row],[ITEMNMBR]]","v":0},"Pendergrass Sandalwood Body Wash 330 ml","RETAIL",100]
[null,{"$f":"Table_prices[[#This Row],[ITEMNMBR]]","v":0},"Pendergrass Sandalwood Shaving Soap","RETAIL",100]
[null,{"$f":"Table_prices[[#This Row],[ITEMNMBR]]","v":0},"Pendergrass Sisal Exfoliating Backstrap","RETAIL",100]
[null,{"$f":"Table_prices[[#This Row],[ITEMNMBR]]","v":0},"Pendergrass Turkish Cotton Spa Robe (Extra Large)","RETAIL",100]
[null,{"$f":"Table_prices[[#This Row],[ITEMNMBR]]","v":0},"Pendergrass Turkish Cotton Spa Robe (Large-one size fits most)","RETAIL",100]
[null,{"$f":"Table_prices[[#This Row],[ITEMNMBR]]","v":0},"Bathtime  Ducks & Family","RETAIL",100]
[null,{"$f":"Table_prices[[#This Row],[ITEMNMBR]]","v":0},"Terry Headband","RETAIL",100]
[null,{"$f":"Table_prices[[#This Row],[ITEMNMBR]]","v":0},"Pendergrass Bay Commander Black Leather Scent Gift Set","RETAIL",100]
[null,{"$f":"Table_prices[[#This Row],[ITEMNMBR]]","v":0},"Pendergrass Cotton Waffle Loofah Complection Pad","RETAIL",100]
[null,{"$f":"Table_prices[[#This Row],[ITEMNMBR]]","v":0},"Pendergrass Sisal Soap Bag","RETAIL",100]
[null,{"$f":"Table_prices[[#This Row],[ITEMNMBR]]","v":0},"Pendergrass Blue/Turquoise Relaxing Eye Mask","RETAIL",100]
[null,{"$f":"Table_prices[[#This Row],[ITEMNMBR]]","v":0},"Pendergrass Relax 'n' Snooze Glitter Eye Mask","RETAIL",100]
[null,{"$f":"Table_prices[[#This Row],[ITEMNMBR]]","v":0},"Pendergrass Terry/Vinal Shell Shaped Bath pillow","RETAIL",100]
[null,{"$f":"Table_prices[[#This Row],[ITEMNMBR]]","v":0},"Pendergrass Foot Brush with Pedicure File Pink","RETAIL",100]
[null,{"$f":"Table_prices[[#This Row],[ITEMNMBR]]","v":0},"Pendergrass Tropical Cotton Waffle Spa Slippers Pink (Med/Large)","RETAIL",100]
[null,{"$f":"Table_prices[[#This Row],[ITEMNMBR]]","v":0},"Pendergrass Tropical Cotton Waffle Spa Slippers Fuchsia (Med/Large)","RETAIL",100]
[null,{"$f":"Table_prices[[#This Row],[ITEMNMBR]]","v":0},"Pendergrass Body Net Jade","RETAIL",100]
[null,{"$f":"Table_prices[[#This Row],[ITEMNMBR]]","v":0},"Pendergrass Body Net Fuchsia","RETAIL",100]
[null,{"$f":"Table_prices[[#This Row],[ITEMNMBR]]","v":0},"Pendergrass Massage Roller","RETAIL",100]
[null,{"$f":"Table_prices[[#This Row],[ITEMNMBR]]","v":0},"Pendergrass Pink Relaxing Eye Mask","RETAIL",100]
[null,{"$f":"Table_prices[[#This Row],[ITEMNMBR]]","v":0},"Pendergrass Green Relaxing Eye Mask","RETAIL",100]
[null,{"$f":"Table_prices[[#This Row],[ITEMNMBR]]","v":0},"Pendergrass Terry Cloth Slippers","RETAIL",100]
[null,{"$f":"Table_prices[[#This Row],[ITEMNMBR]]","v":0},"Pendergrass Wood Hand Massager","RETAIL",100]
[null,{"$f":"Table_prices[[#This Row],[ITEMNMBR]]","v":0},"Slippers","RETAIL",100]
[null,{"$f":"Table_prices[[#This Row],[ITEMNMBR]]","v":0},"Pendergrass Tropical Cotton Waffle Spa Slippers White Large","RETAIL",100]
[null,{"$f":"Table_prices[[#This Row],[ITEMNMBR]]","v":0},"Purse Size Wooden Hair Brush by Pendergrass -","RETAIL",100]
[null,{"$f":"Table_prices[[#This Row],[ITEMNMBR]]","v":0},"Exfoliating Gloves by Pendergrass -","RETAIL",100]
[null,{"$f":"Table_prices[[#This Row],[ITEMNMBR]]","v":0},"Terry Cloth and Loofah Exfoliating Backstrap by Pendergrass -","RETAIL",100]
[null,{"$f":"Table_prices[[#This Row],[ITEMNMBR]]","v":0},"Sisal Soap Bag by Pendergrass -","RETAIL",100]
[null,{"$f":"Table_prices[[#This Row],[ITEMNMBR]]","v":0},"Sage/Teal/green/blue/shiny blue Body Net by Pendergrass -","RETAIL",100]
[null,{"$f":"Table_prices[[#This Row],[ITEMNMBR]]","v":0},"White Cotton Waffle Slippers - Medium (size 8-9) -","RETAIL",100]
[null,{"$f":"Table_prices[[#This Row],[ITEMNMBR]]","v":0},"Lilac/purple/lavender Body Net -","RETAIL",100]
[null,{"$f":"Table_prices[[#This Row],[ITEMNMBR]]","v":0},"Beige Body Net -","RETAIL",100]
[null,{"$f":"Table_prices[[#This Row],[ITEMNMBR]]","v":0},"Black Cellulite Massager","RETAIL",100]
[null,{"$f":"Table_prices[[#This Row],[ITEMNMBR]]","v":0},"Foot Massager with Grip -","RETAIL",100]
[null,{"$f":"Table_prices[[#This Row],[ITEMNMBR]]","v":0},"Bamboo Massager -","RETAIL",100]
[null,{"$f":"Table_prices[[#This Row],[ITEMNMBR]]","v":0},"Pendergrass Cotton Waffle Loofah Mitt-White","RETAIL",100]
[null,{"$f":"Table_prices[[#This Row],[ITEMNMBR]]","v":0},"Bamboo Bristle Nail Brush with Handle","RETAIL",100]
[null,{"$f":"Table_prices[[#This Row],[ITEMNMBR]]","v":0},"Sage Slippers (DISCONTINUED Selection)","RETAIL",100]
[null,{"$f":"Table_prices[[#This Row],[ITEMNMBR]]","v":0},"Gummy Worms by PepperCreek Farms - 9 oz. -","RETAIL",100]
[null,{"$f":"Table_prices[[#This Row],[ITEMNMBR]]","v":0},"Mini Gummy Worms by Pepper Creek Farms - 9 oz. -","RETAIL",100]
[null,{"$f":"Table_prices[[#This Row],[ITEMNMBR]]","v":0},"PetEdge Bad Cuz","RETAIL",100]
[null,{"$f":"Table_prices[[#This Row],[ITEMNMBR]]","v":0},"PetEdge Good Cuz","RETAIL",100]
[null,{"$f":"Table_prices[[#This Row],[ITEMNMBR]]","v":0},"Zanies Zanies Skedaddles","RETAIL",100]
[null,{"$f":"Table_prices[[#This Row],[ITEMNMBR]]","v":0},"Zanies Zanies Kitty Catnip Creatures","RETAIL",100]
[null,{"$f":"Table_prices[[#This Row],[ITEMNMBR]]","v":0},"Zanies Rainbow Mice","RETAIL",100]
[null,{"$f":"Table_prices[[#This Row],[ITEMNMBR]]","v":0},"Zanies Monkeys Fist Knot Rope Toys","RETAIL",100]
[null,{"$f":"Table_prices[[#This Row],[ITEMNMBR]]","v":0},"Zanies Zanies Berber Bears","RETAIL",100]
[null,{"$f":"Table_prices[[#This Row],[ITEMNMBR]]","v":0},"Zanies Zanies Celestial Smiles Toys","RETAIL",100]
[null,{"$f":"Table_prices[[#This Row],[ITEMNMBR]]","v":0},"Ranch Rewards Smoked Porkhide Pressed Bone","RETAIL",100]
[null,{"$f":"Table_prices[[#This Row],[ITEMNMBR]]","v":0},"Zanies Peek-A-Boo Sisal Balls Purple","RETAIL",100]
[null,{"$f":"Table_prices[[#This Row],[ITEMNMBR]]","v":0},"Zanies Mylar Cat Ball Canister","RETAIL",100]
[null,{"$f":"Table_prices[[#This Row],[ITEMNMBR]]","v":0},"PetEdge Rawhide Baseball","RETAIL",100]
[null,{"$f":"Table_prices[[#This Row],[ITEMNMBR]]","v":0},"PetEdge Beefy Knuckle Bone","RETAIL",100]
[null,{"$f":"Table_prices[[#This Row],[ITEMNMBR]]","v":0},"Feline Greenies Savory Salmon Cat Treats","RETAIL",100]
[null,{"$f":"Table_prices[[#This Row],[ITEMNMBR]]","v":0},"Guardian Gear Laser Pointer Exercise Beam","RETAIL",100]
[null,{"$f":"Table_prices[[#This Row],[ITEMNMBR]]","v":0},"Pet Edge Ranch Rewards RH Bones","RETAIL",0]
[null,{"$f":"Table_prices[[#This Row],[ITEMNMBR]]","v":0},"Zanies Tweety Tumblers Display","RETAIL",100]
[null,{"$f":"Table_prices[[#This Row],[ITEMNMBR]]","v":0},"Brown & Haley almond Roca  5 oz.","RETAIL",100]
[null,{"$f":"Table_prices[[#This Row],[ITEMNMBR]]","v":0},"Pinos Press Tuscan Herb Dipping Oil 12.7oz","RETAIL",100]
[null,{"$f":"Table_prices[[#This Row],[ITEMNMBR]]","v":0},"Torpedo Golden Cigar","RETAIL",20]
[null,{"$f":"Table_prices[[#This Row],[ITEMNMBR]]","v":0},"Torito Lite Cigar","RETAIL",20]
[null,{"$f":"Table_prices[[#This Row],[ITEMNMBR]]","v":0},"Churchill Golden Cigar","RETAIL",20]
[null,{"$f":"Table_prices[[#This Row],[ITEMNMBR]]","v":0},"Torpedo Barber Cigar","RETAIL",20]
[null,{"$f":"Table_prices[[#This Row],[ITEMNMBR]]","v":0},"60 Ring Stainless Cigar Cutter","RETAIL",17.559999999999999]
[null,{"$f":"Table_prices[[#This Row],[ITEMNMBR]]","v":0},"3 Cigar Travel Humidor, Cedar Lined","RETAIL",29.54]
[null,{"$f":"Table_prices[[#This Row],[ITEMNMBR]]","v":0},"Powell & Mahoney Ginger Cocktail Mixer  750ml","RETAIL",100]
[null,{"$f":"Table_prices[[#This Row],[ITEMNMBR]]","v":0},"Cosmopolitan Cocktail Mixer by Powell & Mahoney - 750 ml -","RETAIL",100]
[null,{"$f":"Table_prices[[#This Row],[ITEMNMBR]]","v":0},"Mojito Cocktail Mixer by Powell & Mahoney - 750 ml -","RETAIL",100]
[null,{"$f":"Table_prices[[#This Row],[ITEMNMBR]]","v":0},"Bloody Mary Cocktail Mixer by Powell & Mahoney - 750 ml -","RETAIL",100]
[null,{"$f":"Table_prices[[#This Row],[ITEMNMBR]]","v":0},"Margarita Cocktail Mixer by Powell & Mahoney - 750 ml -","RETAIL",100]
[null,{"$f":"Table_prices[[#This Row],[ITEMNMBR]]","v":0},"Peach Bellini Cocktail Mixer by Powell & Mahoney - 750 ml -","RETAIL",100]
[null,{"$f":"Table_prices[[#This Row],[ITEMNMBR]]","v":0},"Premium","RETAIL",0]
[null,{"$f":"Table_prices[[#This Row],[ITEMNMBR]]","v":0},"Preticketing","RETAIL",0]
[null,{"$f":"Table_prices[[#This Row],[ITEMNMBR]]","v":0},"Progressive Plush Harold Harry Rabbit","RETAIL",100]
[null,{"$f":"Table_prices[[#This Row],[ITEMNMBR]]","v":0},"Progressive Plush Becca & Baby Ducky","RETAIL",100]
[null,{"$f":"Table_prices[[#This Row],[ITEMNMBR]]","v":0},"Laid-Back Frog","RETAIL",100]
[null,{"$f":"Table_prices[[#This Row],[ITEMNMBR]]","v":0},"Prodyne Salad on Ice 11\"x6\", 6.2 QT","RETAIL",100]
[null,{"$f":"Table_prices[[#This Row],[ITEMNMBR]]","v":0},"Chocolate Chip Peanut Protein Bar by Odwalla - 2 oz. -","RETAIL",100]
[null,{"$f":"Table_prices[[#This Row],[ITEMNMBR]]","v":0},"Honey Nut Cheerios Cereal Bar 1.4 oz","RETAIL",100]
[null,{"$f":"Table_prices[[#This Row],[ITEMNMBR]]","v":0},"Instant Oatmeal by Quaker Snacks - single serve -","RETAIL",100]
[null,{"$f":"Table_prices[[#This Row],[ITEMNMBR]]","v":0},"Cinnamon Toast Crunch Cereal Bar by General Mills - 1.4 oz. -","RETAIL",100]
[null,{"$f":"Table_prices[[#This Row],[ITEMNMBR]]","v":0},"Cherry Pop Tarts by Kelloggs - 2 per package - 3.67 oz. -","RETAIL",100]
[null,{"$f":"Table_prices[[#This Row],[ITEMNMBR]]","v":0},"Apple Strudel Pop Tarts by Kelloggs - 2 per package - 3.67 oz. -","RETAIL",100]
[null,{"$f":"Table_prices[[#This Row],[ITEMNMBR]]","v":0},"Raisin Bran Crunch Cereal Cup by Kelloggs - 2.8 oz. -","RETAIL",100]
[null,{"$f":"Table_prices[[#This Row],[ITEMNMBR]]","v":0},"Cheerios Cereal Cup by General Mills - 1.38 oz. -","RETAIL",100]
[null,{"$f":"Table_prices[[#This Row],[ITEMNMBR]]","v":0},"Honey Mustard and Onion Pretzel Bites by Snyder's - 3.5 oz. -","RETAIL",100]
[null,{"$f":"Table_prices[[#This Row],[ITEMNMBR]]","v":0},"Cup of Noodles by Nissan - 2.25 oz. -","RETAIL",100]
[null,{"$f":"Table_prices[[#This Row],[ITEMNMBR]]","v":0},"Traditional Chex Mix by General Mills - 3.75 oz. -","RETAIL",100]
[null,{"$f":"Table_prices[[#This Row],[ITEMNMBR]]","v":0},"Sour Patch Kids by Kraft Foods - 3.5 oz. -","RETAIL",100]
[null,{"$f":"Table_prices[[#This Row],[ITEMNMBR]]","v":0},"Keebler Fudge Shoppe Fudge Striped Mini Cookies by Kelloggs - 2 oz. -","RETAIL",100]
[null,{"$f":"Table_prices[[#This Row],[ITEMNMBR]]","v":0},"Peanut Butter Powerbar by Nestle - 1.23 oz. -","RETAIL",100]
[null,{"$f":"Table_prices[[#This Row],[ITEMNMBR]]","v":0},"Blue Raspberry Airhead by Van Melle - .55 oz. -","RETAIL",100]
[null,{"$f":"Table_prices[[#This Row],[ITEMNMBR]]","v":0},"Strawberry Airhead by Van Melle - .55 oz. -","RETAIL",100]
[null,{"$f":"Table_prices[[#This Row],[ITEMNMBR]]","v":0},"Watermelon Airhead by Van Melle - .55 oz. -","RETAIL",100]
[null,{"$f":"Table_prices[[#This Row],[ITEMNMBR]]","v":0},"Keebler Club & Cheddar Crackers by Kelloggs - 8 pack - 1.8 oz. -","RETAIL",100]
[null,{"$f":"Table_prices[[#This Row],[ITEMNMBR]]","v":0},"Ritz Crackers and Peanut Butter by Nabisco - 6 count - 1.38 oz. -","RETAIL",100]
[null,{"$f":"Table_prices[[#This Row],[ITEMNMBR]]","v":0},"Sourdough Pretzel Nibblers by Snyder's - 3.5 oz. -","RETAIL",100]
[null,{"$f":"Table_prices[[#This Row],[ITEMNMBR]]","v":0},"Roasted and Salted Peanuts in Shell by Hampton Farms - 10 oz. -","RETAIL",100]
[null,{"$f":"Table_prices[[#This Row],[ITEMNMBR]]","v":0},"Pepperoni Pizza Combos by Mars - 1.80 oz. -","RETAIL",100]
[null,{"$f":"Table_prices[[#This Row],[ITEMNMBR]]","v":0},"Strawberry Twizzlers by Hershey - 7 oz. -","RETAIL",100]
[null,{"$f":"Table_prices[[#This Row],[ITEMNMBR]]","v":0},"Buttery Toffee Crunch 'n Munch by Conagra Foods - 3.5 oz. -","RETAIL",100]
[null,{"$f":"Table_prices[[#This Row],[ITEMNMBR]]","v":0},"TGIFriday's Cheddar & Bacon Potato Skins by DOT - 3 oz -","RETAIL",100]
[null,{"$f":"Table_prices[[#This Row],[ITEMNMBR]]","v":0},"Andy Capp's Cheddar Fries by Conagra Foods - 3 oz. -","RETAIL",100]
[null,{"$f":"Table_prices[[#This Row],[ITEMNMBR]]","v":0},"Ranch Corn Nuts by Kraft Foods - 1.7 oz. -","RETAIL",100]
[null,{"$f":"Table_prices[[#This Row],[ITEMNMBR]]","v":0},"Strawberry Fruit Snacks by Welch's - 5 oz. -","RETAIL",100]
[null,{"$f":"Table_prices[[#This Row],[ITEMNMBR]]","v":0},"Chocolate Chip Soft Batch Cookies by Keelber - 2 oz. -","RETAIL",100]
[null,{"$f":"Table_prices[[#This Row],[ITEMNMBR]]","v":0},"Cheez-its by Sunshine - 3 oz. -","RETAIL",100]
[null,{"$f":"Table_prices[[#This Row],[ITEMNMBR]]","v":0},"Nutter Butter by Nabisco - 1.9 oz. -","RETAIL",100]
[null,{"$f":"Table_prices[[#This Row],[ITEMNMBR]]","v":0},"Dots Fruit Flavored Gumdrops by Tootsie Roll Co. - 7.5 oz. -","RETAIL",100]
[null,{"$f":"Table_prices[[#This Row],[ITEMNMBR]]","v":0},"Cheez-its by Keebler - 3 oz. -","RETAIL",100]
[null,{"$f":"Table_prices[[#This Row],[ITEMNMBR]]","v":0},"Starburst Originals by Wrigley's - 4 oz.","RETAIL",100]
[null,{"$f":"Table_prices[[#This Row],[ITEMNMBR]]","v":0},"Chips Ahoy Chocolate Chip Cookies by Nabisco - 1.4 oz. -","RETAIL",100]
[null,{"$f":"Table_prices[[#This Row],[ITEMNMBR]]","v":0},"Skittles Crazy Cores by Wrigley - 2 oz. -","RETAIL",100]
[null,{"$f":"Table_prices[[#This Row],[ITEMNMBR]]","v":0},"Tangy Twister Mike & Ikes","RETAIL",100]
[null,{"$f":"Table_prices[[#This Row],[ITEMNMBR]]","v":0},"David Sunflower Seeds","RETAIL",100]
[null,{"$f":"Table_prices[[#This Row],[ITEMNMBR]]","v":0},"Hot Tamales by Just Born Candy - 6 oz. -","RETAIL",100]
[null,{"$f":"Table_prices[[#This Row],[ITEMNMBR]]","v":0},"Planters sunflower kernels","RETAIL",100]
[null,{"$f":"Table_prices[[#This Row],[ITEMNMBR]]","v":0},"Fun Dip by Wonka - 1.5 oz. -","RETAIL",100]
[null,{"$f":"Table_prices[[#This Row],[ITEMNMBR]]","v":0},"Good & Plenty by Hershey's - 5 oz.","RETAIL",100]
[null,{"$f":"Table_prices[[#This Row],[ITEMNMBR]]","v":0},"Orbit Spearmint Gum by Wrigley's- 14 Pcs","RETAIL",100]
[null,{"$f":"Table_prices[[#This Row],[ITEMNMBR]]","v":0},"Tropical Typhoon Mike & Ike by Just Born Candy - 5 oz. -","RETAIL",100]
[null,{"$f":"Table_prices[[#This Row],[ITEMNMBR]]","v":0},"Tropical Starburst by Wrigley's - 2.07 oz. -","RETAIL",100]
[null,{"$f":"Table_prices[[#This Row],[ITEMNMBR]]","v":0},"Quality Candy Butter Toffee Prple Box 2.25 oz","RETAIL",100]
[null,{"$f":"Table_prices[[#This Row],[ITEMNMBR]]","v":0},"Quality Candy Butter Almond Toffee Awning Box Blue 2.25 oz","RETAIL",100]
[null,{"$f":"Table_prices[[#This Row],[ITEMNMBR]]","v":0},"Quality Candy Awning Box Oo La La French Mints  2.25 oz","RETAIL",100]
[null,{"$f":"Table_prices[[#This Row],[ITEMNMBR]]","v":0},"Quality Candy Milk & Dark Meltaways Orange Box  2.25 oz","RETAIL",100]
[null,{"$f":"Table_prices[[#This Row],[ITEMNMBR]]","v":0},"Raye's Mustard Mill Down East Schooner Mustard 9 oz","RETAIL",100]
[null,{"$f":"Table_prices[[#This Row],[ITEMNMBR]]","v":0},"Yogurt Covered Pretzels Foil - Retail Bag Packaging","RETAIL",0]
[null,{"$f":"Table_prices[[#This Row],[ITEMNMBR]]","v":0},"Custom Non-Alcoholic Eve of Indulg ( Ross)","RETAIL",69.989999999999995]
[null,{"$f":"Table_prices[[#This Row],[ITEMNMBR]]","v":0},"Custom Gorilla & Chocolate ( Ross )","RETAIL",95]
[null,{"$f":"Table_prices[[#This Row],[ITEMNMBR]]","v":0},"Custom Gorilla, Chocolate & Snacks ( Ross )","RETAIL",95]
[null,{"$f":"Table_prices[[#This Row],[ITEMNMBR]]","v":0},"Custom St.Patty's Day Baskets ( Ross )","RETAIL",105.99]
[null,{"$f":"Table_prices[[#This Row],[ITEMNMBR]]","v":0},"Custom Wine & Chocolate ( Ross Dupont )","RETAIL",324]
[null,{"$f":"Table_prices[[#This Row],[ITEMNMBR]]","v":0},"Custom 4506","RETAIL",39.99]
[null,{"$f":"Table_prices[[#This Row],[ITEMNMBR]]","v":0},"Fina l4 Gift Box","RETAIL",30]
[null,{"$f":"Table_prices[[#This Row],[ITEMNMBR]]","v":0},"custom","RETAIL",184.55]
[null,{"$f":"Table_prices[[#This Row],[ITEMNMBR]]","v":0},"Custom Care Package items in Basket","RETAIL",150.86000000000001]
[null,{"$f":"Table_prices[[#This Row],[ITEMNMBR]]","v":0},"Custom Dom Cheese Cracker","RETAIL",230]
[null,{"$f":"Table_prices[[#This Row],[ITEMNMBR]]","v":0},"Custom Veuve","RETAIL",119.99]
[null,{"$f":"Table_prices[[#This Row],[ITEMNMBR]]","v":0},"Custom Veuve","RETAIL",128.99]
[null,{"$f":"Table_prices[[#This Row],[ITEMNMBR]]","v":0},"Custom Wine","RETAIL",250]
[null,{"$f":"Table_prices[[#This Row],[ITEMNMBR]]","v":0},"Custom Blue and White Ribbon","RETAIL",79.989999999999995]
[null,{"$f":"Table_prices[[#This Row],[ITEMNMBR]]","v":0},"Custom Gift Basket","RETAIL",102.1]
[null,{"$f":"Table_prices[[#This Row],[ITEMNMBR]]","v":0},"Custom Scrumptious Fruit Basket","RETAIL",88.99]
[null,{"$f":"Table_prices[[#This Row],[ITEMNMBR]]","v":0},"Custom Easter Jumbo ( Ross )","RETAIL",149.99]
[null,{"$f":"Table_prices[[#This Row],[ITEMNMBR]]","v":0},"Custom Easter Ultimate ( Ross )","RETAIL",99.99]
[null,{"$f":"Table_prices[[#This Row],[ITEMNMBR]]","v":0},"Custom Easter Care Pkg In Basket $59.99","RETAIL",59.99]
[null,{"$f":"Table_prices[[#This Row],[ITEMNMBR]]","v":0},"7 year old basket","RETAIL",72]
[null,{"$f":"Table_prices[[#This Row],[ITEMNMBR]]","v":0},"2 year old basket","RETAIL",70]
[null,{"$f":"Table_prices[[#This Row],[ITEMNMBR]]","v":0},"Custom Napa Valley Basket","RETAIL",211.99]
[null,{"$f":"Table_prices[[#This Row],[ITEMNMBR]]","v":0},"Custom Christmas Healthy Stack","RETAIL",34.99]
[null,{"$f":"Table_prices[[#This Row],[ITEMNMBR]]","v":0},"Custom Coffee Mug Stack (no espresso beans) (Ross)","RETAIL",25]
[null,{"$f":"Table_prices[[#This Row],[ITEMNMBR]]","v":0},"Custom Coffee Mug Stack (no choc) (Ross)","RETAIL",25]
[null,{"$f":"Table_prices[[#This Row],[ITEMNMBR]]","v":0},"Custom Green Tray Family Basket","RETAIL",55]
[null,{"$f":"Table_prices[[#This Row],[ITEMNMBR]]","v":0},"Custom Healthy & Snack","RETAIL",55]
[null,{"$f":"Table_prices[[#This Row],[ITEMNMBR]]","v":0},"Custom Kosher","RETAIL",50.93]
[null,{"$f":"Table_prices[[#This Row],[ITEMNMBR]]","v":0},"Custom Basket","RETAIL",55]
[null,{"$f":"Table_prices[[#This Row],[ITEMNMBR]]","v":0},"Fruit of the Month Club - January - D'Anjou Pears (Custom)","RETAIL",29.99]
[null,{"$f":"Table_prices[[#This Row],[ITEMNMBR]]","v":0},"Fruit of the Month Club - February - Fuji Apples (Custom)","RETAIL",29.99]
[null,{"$f":"Table_prices[[#This Row],[ITEMNMBR]]","v":0},"Fruit of the Month Club - March - Tangelo Oranges (Custom)","RETAIL",29.99]
[null,{"$f":"Table_prices[[#This Row],[ITEMNMBR]]","v":0},"Fruit of the Month Club - April - Ruby Red Grapefruit (Custom)","RETAIL",29.99]
[null,{"$f":"Table_prices[[#This Row],[ITEMNMBR]]","v":0},"Fruit of the Month Club - May - Pineapple (Custom)","RETAIL",29.99]
[null,{"$f":"Table_prices[[#This Row],[ITEMNMBR]]","v":0},"Fruit of the Month Club - June - Cherries (Custom)","RETAIL",29.99]
[null,{"$f":"Table_prices[[#This Row],[ITEMNMBR]]","v":0},"Fruit of the Month Club - September - White Peaches (Custom)","RETAIL",29.99]
[null,{"$f":"Table_prices[[#This Row],[ITEMNMBR]]","v":0},"Fruit of the Month Club - October - Bartlett Pears (Custom)","RETAIL",29.99]
[null,{"$f":"Table_prices[[#This Row],[ITEMNMBR]]","v":0},"Fruit of the Month Club - November - Gala Apples (Custom)","RETAIL",29.99]
[null,{"$f":"Table_prices[[#This Row],[ITEMNMBR]]","v":0},"Custom In Charge Coffee and Tea Basket $40","RETAIL",40]
[null,{"$f":"Table_prices[[#This Row],[ITEMNMBR]]","v":0},"Custom In Charge Debt Solutions ( Ross )","RETAIL",40]
[null,{"$f":"Table_prices[[#This Row],[ITEMNMBR]]","v":0},"Custom In Charge Debt Solutions ( Ross )","RETAIL",100]
[null,{"$f":"Table_prices[[#This Row],[ITEMNMBR]]","v":0},"Custom Hawaiin Basket","RETAIL",85]
[null,{"$f":"Table_prices[[#This Row],[ITEMNMBR]]","v":0},"Custom Kosher and Cakebread","RETAIL",245]
[null,{"$f":"Table_prices[[#This Row],[ITEMNMBR]]","v":0},"Custom Cakebread","RETAIL",489]
[null,{"$f":"Table_prices[[#This Row],[ITEMNMBR]]","v":0},"Custom Baskets @ $250.00 (with champagne)","RETAIL",249.99]
[null,{"$f":"Table_prices[[#This Row],[ITEMNMBR]]","v":0},"Custom Estate Collection remove chocolate add fruit (Ross)","RETAIL",179.99]
[null,{"$f":"Table_prices[[#This Row],[ITEMNMBR]]","v":0},"5087 with Almonds and Chocolate Covered Pretzels - Ross D.","RETAIL",109.99]
[null,{"$f":"Table_prices[[#This Row],[ITEMNMBR]]","v":0},"Custom Fruit Basket (Mars)","RETAIL",210]
[null,{"$f":"Table_prices[[#This Row],[ITEMNMBR]]","v":0},"Custom Snack Classic Mortgage Specialists","RETAIL",66.989999999999995]
[null,{"$f":"Table_prices[[#This Row],[ITEMNMBR]]","v":0},"Custom Fruit Basket ( Ross )","RETAIL",158.99]
[null,{"$f":"Table_prices[[#This Row],[ITEMNMBR]]","v":0},"Custom Micro Strategy","RETAIL",480.3]
[null,{"$f":"Table_prices[[#This Row],[ITEMNMBR]]","v":0},"Custom Micro Strategy","RETAIL",199.99]
[null,{"$f":"Table_prices[[#This Row],[ITEMNMBR]]","v":0},"Custom Micro Strategy $300","RETAIL",300]
[null,{"$f":"Table_prices[[#This Row],[ITEMNMBR]]","v":0},"Custom","RETAIL",250]
[null,{"$f":"Table_prices[[#This Row],[ITEMNMBR]]","v":0},"Custom","RETAIL",485]
[null,{"$f":"Table_prices[[#This Row],[ITEMNMBR]]","v":0},"Custom DOM Basket","RETAIL",1024.99]
[null,{"$f":"Table_prices[[#This Row],[ITEMNMBR]]","v":0},"Custom Tea & Cookies","RETAIL",79.989999999999995]
[null,{"$f":"Table_prices[[#This Row],[ITEMNMBR]]","v":0},"Custom Tea & Cookies Stack ( Ross )","RETAIL",50.99]
[null,{"$f":"Table_prices[[#This Row],[ITEMNMBR]]","v":0},"Custom Sweets Classic","RETAIL",0]
[null,{"$f":"Table_prices[[#This Row],[ITEMNMBR]]","v":0},"Custom","RETAIL",99.99]
[null,{"$f":"Table_prices[[#This Row],[ITEMNMBR]]","v":0},"Custom Snack Deluxe with Shirts ( Ross)","RETAIL",99.99]
[null,{"$f":"Table_prices[[#This Row],[ITEMNMBR]]","v":0},"Custom Snack Ult with Shirts ( Ross )","RETAIL",99.99]
[null,{"$f":"Table_prices[[#This Row],[ITEMNMBR]]","v":0},"Custom Catena Suitcase ( Ross )","RETAIL",174.99]
[null,{"$f":"Table_prices[[#This Row],[ITEMNMBR]]","v":0},"Custom Catena Chardonnay Suitcase ( Ross )","RETAIL",169.99]
[null,{"$f":"Table_prices[[#This Row],[ITEMNMBR]]","v":0},"Custom  Moet Suitcase ( Ross )","RETAIL",190.99]
[null,{"$f":"Table_prices[[#This Row],[ITEMNMBR]]","v":0},"Custom soup and crock","RETAIL",129.99]
[null,{"$f":"Table_prices[[#This Row],[ITEMNMBR]]","v":0},"REFUND FRUIT & GOURMET","RETAIL",0]
[null,{"$f":"Table_prices[[#This Row],[ITEMNMBR]]","v":0},"REFUND DROP SHIP","RETAIL",0]
[null,{"$f":"Table_prices[[#This Row],[ITEMNMBR]]","v":0},"REFUND FRUIT & GOURMET","RETAIL",0]
[null,{"$f":"Table_prices[[#This Row],[ITEMNMBR]]","v":0},"REFUND GIFTWARE","RETAIL",0]
[null,{"$f":"Table_prices[[#This Row],[ITEMNMBR]]","v":0},"REFUND WIRE OUT","RETAIL",0]
[null,{"$f":"Table_prices[[#This Row],[ITEMNMBR]]","v":0},"REFUND WIRE OUT FEE","RETAIL",0]
[null,{"$f":"Table_prices[[#This Row],[ITEMNMBR]]","v":0},"REFUND-SHIPPING","RETAIL",0]
[null,{"$f":"Table_prices[[#This Row],[ITEMNMBR]]","v":0},"Custom Boston Beer Bucket (Fisher)","RETAIL",46.99]
[null,{"$f":"Table_prices[[#This Row],[ITEMNMBR]]","v":0},"Custom Breakfast with Tea not coffee","RETAIL",67.989999999999995]
[null,{"$f":"Table_prices[[#This Row],[ITEMNMBR]]","v":0},"Custom Boston Basket (Fisher)","RETAIL",108.99]
[null,{"$f":"Table_prices[[#This Row],[ITEMNMBR]]","v":0},"Custom Boston Basket (Fisher)","RETAIL",108.99]
[null,{"$f":"Table_prices[[#This Row],[ITEMNMBR]]","v":0},"Custom Boston Basket (Fisher)","RETAIL",108.99]
[null,{"$f":"Table_prices[[#This Row],[ITEMNMBR]]","v":0},"Custom Boston Basket (Fisher)","RETAIL",108.99]
[null,{"$f":"Table_prices[[#This Row],[ITEMNMBR]]","v":0},"Custom Hole in One in Blue golf bag w/ logo (R.Fisher)","RETAIL",76.489999999999995]
[null,{"$f":"Table_prices[[#This Row],[ITEMNMBR]]","v":0},"Custom 4507 Beer Bucket with CSI","RETAIL",49.99]
[null,{"$f":"Table_prices[[#This Row],[ITEMNMBR]]","v":0},"Custom fruit and gourmet (RFisher)","RETAIL",66.989999999999995]
[null,{"$f":"Table_prices[[#This Row],[ITEMNMBR]]","v":0},"Custom signature with extras - no fruit  (RFisher)","RETAIL",300]
[null,{"$f":"Table_prices[[#This Row],[ITEMNMBR]]","v":0},"Custom - The Care Package (RFisher)","RETAIL",300]
[null,{"$f":"Table_prices[[#This Row],[ITEMNMBR]]","v":0},"Custom baby boy and snacks  (RFisher)","RETAIL",100]
[null,{"$f":"Table_prices[[#This Row],[ITEMNMBR]]","v":0},"Custom Baby Girl with snacks (RFisher)","RETAIL",200]
[null,{"$f":"Table_prices[[#This Row],[ITEMNMBR]]","v":0},"Custom* twins* boy and girl and snacks  (RFisher)","RETAIL",150]
[null,{"$f":"Table_prices[[#This Row],[ITEMNMBR]]","v":0},"Custom Mini Red Wine Basket","RETAIL",49.99]
[null,{"$f":"Table_prices[[#This Row],[ITEMNMBR]]","v":0},"Custom Mini White Wine Basket","RETAIL",49.99]
[null,{"$f":"Table_prices[[#This Row],[ITEMNMBR]]","v":0},"Custom Beer Bucket","RETAIL",39.99]
[null,{"$f":"Table_prices[[#This Row],[ITEMNMBR]]","v":0},"Custom Grilling & beer","RETAIL",79.989999999999995]
[null,{"$f":"Table_prices[[#This Row],[ITEMNMBR]]","v":0},"Custom Duo Suitcase","RETAIL",208.99]
[null,{"$f":"Table_prices[[#This Row],[ITEMNMBR]]","v":0},"Custom Ice Cream, Glow in dark, Candy","RETAIL",79.989999999999995]
[null,{"$f":"Table_prices[[#This Row],[ITEMNMBR]]","v":0},"Custom Ravenswood White  plus bubble gum (Fisher)","RETAIL",83.99]
[null,{"$f":"Table_prices[[#This Row],[ITEMNMBR]]","v":0},"Custom Ravenswood Red plus True Blood Season 4 DVD (Fisher)","RETAIL",83.99]
[null,{"$f":"Table_prices[[#This Row],[ITEMNMBR]]","v":0},"Custom Ravenswood World Championship items (Fisher)","RETAIL",83.99]
[null,{"$f":"Table_prices[[#This Row],[ITEMNMBR]]","v":0},"Custom Tea & Cookies plus Ravenswood Red (Fisher)","RETAIL",95.99]
[null,{"$f":"Table_prices[[#This Row],[ITEMNMBR]]","v":0},"Custom Golfer (Fisher)","RETAIL",93.99]
[null,{"$f":"Table_prices[[#This Row],[ITEMNMBR]]","v":0},"Custom Snack and Pet Basket with Fruit","RETAIL",152.99]
[null,{"$f":"Table_prices[[#This Row],[ITEMNMBR]]","v":0},"Custom $500 basket","RETAIL",499.99]
[null,{"$f":"Table_prices[[#This Row],[ITEMNMBR]]","v":0},"Custom - Kosher-300 - (Fisher)","RETAIL",300]
[null,{"$f":"Table_prices[[#This Row],[ITEMNMBR]]","v":0},"Custom Coffee & Chocolates  in red & brown box (R.Fisher)","RETAIL",40]
[null,{"$f":"Table_prices[[#This Row],[ITEMNMBR]]","v":0},"Custom Flaghill Winery Red & White (R.Fisher)","RETAIL",225]
[null,{"$f":"Table_prices[[#This Row],[ITEMNMBR]]","v":0},"Custom St.Pat's ( Ryan Fisher )","RETAIL",99.99]
[null,{"$f":"Table_prices[[#This Row],[ITEMNMBR]]","v":0},"Custom St.Pat's - Grn & White ( Ryan Fisher )","RETAIL",99.99]
[null,{"$f":"Table_prices[[#This Row],[ITEMNMBR]]","v":0},"Custom St.Pat's - Grn & Silver  ( Ryan Fisher )","RETAIL",99.99]
[null,{"$f":"Table_prices[[#This Row],[ITEMNMBR]]","v":0},"Custom St.Pat's - Grn, Silver & Gold  ( Ryan Fisher )","RETAIL",99.99]
[null,{"$f":"Table_prices[[#This Row],[ITEMNMBR]]","v":0},"Custom organic with Ravenswood Red Wine (R. Fisher)","RETAIL",80.989999999999995]
[null,{"$f":"Table_prices[[#This Row],[ITEMNMBR]]","v":0},"Custom Scrumptious w/ 2 Gift Cards","RETAIL",69.989999999999995]
[null,{"$f":"Table_prices[[#This Row],[ITEMNMBR]]","v":0}," Scrumptious w/ B.Ball Tickets","RETAIL",69.989999999999995]
[null,{"$f":"Table_prices[[#This Row],[ITEMNMBR]]","v":0}," Scrumptious w/ 3 Toy Story Tickets","RETAIL",69.989999999999995]
[null,{"$f":"Table_prices[[#This Row],[ITEMNMBR]]","v":0},"Custom Bloody Mary Stack (R.Fisher)","RETAIL",50]
[null,{"$f":"Table_prices[[#This Row],[ITEMNMBR]]","v":0},"Custom Bloody Mary Basket  (R.Fisher)","RETAIL",115]
[null,{"$f":"Table_prices[[#This Row],[ITEMNMBR]]","v":0},"Bloody Mary Gift Basket plus added cards & brochure (RFisher)","RETAIL",79.989999999999995]
[null,{"$f":"Table_prices[[#This Row],[ITEMNMBR]]","v":0},"Custom Junk Food Bucket Classic with Business Cards","RETAIL",39.99]
[null,{"$f":"Table_prices[[#This Row],[ITEMNMBR]]","v":0},"Custom --  Passover with Challah Bread Cover  (RFisher)","RETAIL",30]
[null,{"$f":"Table_prices[[#This Row],[ITEMNMBR]]","v":0},"Custom cookies cookies cookies ( RFisher)","RETAIL",40]
[null,{"$f":"Table_prices[[#This Row],[ITEMNMBR]]","v":0},"Custom snack classic - savant capital (Ryan F)","RETAIL",50]
[null,{"$f":"Table_prices[[#This Row],[ITEMNMBR]]","v":0},"Custom snack mini - savant capital (Mike)","RETAIL",20]
[null,{"$f":"Table_prices[[#This Row],[ITEMNMBR]]","v":0},"Custom cookies in tower box (Ryan F)","RETAIL",16.989999999999998]
[null,{"$f":"Table_prices[[#This Row],[ITEMNMBR]]","v":0},"Custom cookies in tower box (Ryan F)","RETAIL",33.979999999999997]
[null,{"$f":"Table_prices[[#This Row],[ITEMNMBR]]","v":0},"Custom cookies in tower box (Ryan F)","RETAIL",169.9]
[null,{"$f":"Table_prices[[#This Row],[ITEMNMBR]]","v":0},"Custom coffee & nuts (R. Fisher)","RETAIL",75]
[null,{"$f":"Table_prices[[#This Row],[ITEMNMBR]]","v":0},"custom spa (ryan f)","RETAIL",250]
[null,{"$f":"Table_prices[[#This Row],[ITEMNMBR]]","v":0},"custom spa (TIM)","RETAIL",250]
[null,{"$f":"Table_prices[[#This Row],[ITEMNMBR]]","v":0},"Custom BBQ and Wine Bucket","RETAIL",60.99]
[null,{"$f":"Table_prices[[#This Row],[ITEMNMBR]]","v":0},"Custom 5090 (change basket add 2 mugs) (RFisher)","RETAIL",109.99]
[null,{"$f":"Table_prices[[#This Row],[ITEMNMBR]]","v":0},"Custom Baby Basket ( Ryan Fisher )","RETAIL",250]
[null,{"$f":"Table_prices[[#This Row],[ITEMNMBR]]","v":0},"Custom 4507 no nuts (RFisher)","RETAIL",44.99]
[null,{"$f":"Table_prices[[#This Row],[ITEMNMBR]]","v":0},"Custom Christmas Classic -  remove feridies add marich -  (R.Fisher)","RETAIL",66.989999999999995]
[null,{"$f":"Table_prices[[#This Row],[ITEMNMBR]]","v":0},"Custom Christmas Premium -  remove feridies add marich -  (R.Fisher)","RETAIL",87.99]
[null,{"$f":"Table_prices[[#This Row],[ITEMNMBR]]","v":0},"Custom Christmas Deluxe -  remove feridies add marich -  (R.Fisher)","RETAIL",108.99]
[null,{"$f":"Table_prices[[#This Row],[ITEMNMBR]]","v":0},"Custom fruit, crackers and cheese (R.Fisher)","RETAIL",50]
[null,{"$f":"Table_prices[[#This Row],[ITEMNMBR]]","v":0},"Custom Baby Basket ( Ryan Fisher )","RETAIL",250]
[null,{"$f":"Table_prices[[#This Row],[ITEMNMBR]]","v":0},"Custom Agentrics Stack","RETAIL",26]
[null,{"$f":"Table_prices[[#This Row],[ITEMNMBR]]","v":0},"Custom Agentrics Stack (all CSI)","RETAIL",10]
[null,{"$f":"Table_prices[[#This Row],[ITEMNMBR]]","v":0},"Custom: Apple - World's Best Theme - XLG","RETAIL",180]
[null,{"$f":"Table_prices[[#This Row],[ITEMNMBR]]","v":0},"Custom: Apple - World's Best Theme - XXLG","RETAIL",380]
[null,{"$f":"Table_prices[[#This Row],[ITEMNMBR]]","v":0},"Custom: Apple - Holiday Snacks Theme - XLG","RETAIL",180]
[null,{"$f":"Table_prices[[#This Row],[ITEMNMBR]]","v":0},"Custom: Apple - Holiday Snacks Theme -X XLG","RETAIL",380]
[null,{"$f":"Table_prices[[#This Row],[ITEMNMBR]]","v":0},"Custom: Apple - Healthy Snacks Theme - XLG","RETAIL",180]
[null,{"$f":"Table_prices[[#This Row],[ITEMNMBR]]","v":0},"Custom: Apple - Healthy Snacks Theme - XXLG","RETAIL",380]
[null,{"$f":"Table_prices[[#This Row],[ITEMNMBR]]","v":0},"Custom: Apple - Gourmet Snacks Theme - XLG","RETAIL",180]
[null,{"$f":"Table_prices[[#This Row],[ITEMNMBR]]","v":0},"Custom: Apple - Gourmet Snacks Theme - XXLG","RETAIL",380]
[null,{"$f":"Table_prices[[#This Row],[ITEMNMBR]]","v":0},"Custom: Apple - Healthy/Revitalizing/Chinese New Year Theme - XLG","RETAIL",180]
[null,{"$f":"Table_prices[[#This Row],[ITEMNMBR]]","v":0},"Custom: Apple - Healthy/Revitalizing/Chinese New Year Theme - XXLG","RETAIL",380]
[null,{"$f":"Table_prices[[#This Row],[ITEMNMBR]]","v":0},"Custom: Apple -  Healthy Snacks  - XXLG","RETAIL",380]
[null,{"$f":"Table_prices[[#This Row],[ITEMNMBR]]","v":0},"Custom: Apple - Healthy Snacks  - XLG","RETAIL",180]
[null,{"$f":"Table_prices[[#This Row],[ITEMNMBR]]","v":0},"Custom: Apple - Savory Snacks  - XXLG","RETAIL",380]
[null,{"$f":"Table_prices[[#This Row],[ITEMNMBR]]","v":0},"Custom: Apple - Savory Snacks  - XLG","RETAIL",180]
[null,{"$f":"Table_prices[[#This Row],[ITEMNMBR]]","v":0},"Custom: Apple - Sweet Endings  - XXLG","RETAIL",380]
[null,{"$f":"Table_prices[[#This Row],[ITEMNMBR]]","v":0},"Custom: Apple - Sweet Endings  - XLG","RETAIL",180]
[null,{"$f":"Table_prices[[#This Row],[ITEMNMBR]]","v":0},"Custom: Apple - Chinese New Year  - XXLG","RETAIL",380]
[null,{"$f":"Table_prices[[#This Row],[ITEMNMBR]]","v":0},"Custom: Apple - Chinese New Year  - XLG","RETAIL",180]
[null,{"$f":"Table_prices[[#This Row],[ITEMNMBR]]","v":0},"Custom -  ALLSCRIPTS - non alcohol - snacks and csi items (Ryan H)","RETAIL",150]
[null,{"$f":"Table_prices[[#This Row],[ITEMNMBR]]","v":0},"Custom -  ALLSCRIPTS - Moet - snacks and csi items (Ryan H)","RETAIL",150]
[null,{"$f":"Table_prices[[#This Row],[ITEMNMBR]]","v":0},"Custom -  ALLSCRIPTS - Champagne and snacks   (Ryan H)","RETAIL",100]
[null,{"$f":"Table_prices[[#This Row],[ITEMNMBR]]","v":0},"Custom -  ALLSCRIPTS -  San Pellergrino and snacks Ryan H)","RETAIL",100]
[null,{"$f":"Table_prices[[#This Row],[ITEMNMBR]]","v":0},"Custom -  Deck the Halls - customized with a sticker (Ryan H)","RETAIL",49.99]
[null,{"$f":"Table_prices[[#This Row],[ITEMNMBR]]","v":0},"Custom: Veuve Snacks & Sweets  (RyanH)","RETAIL",400]
[null,{"$f":"Table_prices[[#This Row],[ITEMNMBR]]","v":0},"Custom Gift Basket","RETAIL",278]
[null,{"$f":"Table_prices[[#This Row],[ITEMNMBR]]","v":0},"Custom Wine Country - 6-a (Ryan H)","RETAIL",60]
[null,{"$f":"Table_prices[[#This Row],[ITEMNMBR]]","v":0},"Custom Wine Country - 8 - b (Ryan H)","RETAIL",80]
[null,{"$f":"Table_prices[[#This Row],[ITEMNMBR]]","v":0},"Custom Wine Country - 10 - c (Ryan H)","RETAIL",100]
[null,{"$f":"Table_prices[[#This Row],[ITEMNMBR]]","v":0},"Custom Best Games Inc. 1 (RHuston)","RETAIL",80]
[null,{"$f":"Table_prices[[#This Row],[ITEMNMBR]]","v":0},"Custom Best Games Inc. 2  (RHuston)","RETAIL",125]
[null,{"$f":"Table_prices[[#This Row],[ITEMNMBR]]","v":0},"Custom: Best Games Inc. 3  (RHuston)","RETAIL",60]
[null,{"$f":"Table_prices[[#This Row],[ITEMNMBR]]","v":0},"Custom Best Games Inc. 4 (RHuston)","RETAIL",80]
[null,{"$f":"Table_prices[[#This Row],[ITEMNMBR]]","v":0},"Custom: Best Games Inc. ( champagne - wine - sweets - snacks)  (RHuston)","RETAIL",150]
[null,{"$f":"Table_prices[[#This Row],[ITEMNMBR]]","v":0},"Custom: Best Games Inc. (snacks)  (RHuston)","RETAIL",50]
[null,{"$f":"Table_prices[[#This Row],[ITEMNMBR]]","v":0},"Custom: Best Games Inc.- Moet with Snacks & Sweets  (RHuston)","RETAIL",125]
[null,{"$f":"Table_prices[[#This Row],[ITEMNMBR]]","v":0},"Custom Jingle all the way w/ Gum ball","RETAIL",47.99]
[null,{"$f":"Table_prices[[#This Row],[ITEMNMBR]]","v":0},"Custom Super Bowl Basket #2","RETAIL",124.99]
[null,{"$f":"Table_prices[[#This Row],[ITEMNMBR]]","v":0},"Custom","RETAIL",69.989999999999995]
[null,{"$f":"Table_prices[[#This Row],[ITEMNMBR]]","v":0},"Custom","RETAIL",69.989999999999995]
[null,{"$f":"Table_prices[[#This Row],[ITEMNMBR]]","v":0},"Custom","RETAIL",59.99]
[null,{"$f":"Table_prices[[#This Row],[ITEMNMBR]]","v":0},"Custom","RETAIL",59.99]
[null,{"$f":"Table_prices[[#This Row],[ITEMNMBR]]","v":0},"Custom Coffee Mini","RETAIL",24.99]
[null,{"$f":"Table_prices[[#This Row],[ITEMNMBR]]","v":0},"Custom Coffee & Chocolates (Ryan H.)","RETAIL",50]
[null,{"$f":"Table_prices[[#This Row],[ITEMNMBR]]","v":0},"Custom Snacks for Coca Cola - Sams Hubby","RETAIL",72.989999999999995]
[null,{"$f":"Table_prices[[#This Row],[ITEMNMBR]]","v":0},"Custom Greater Columbus Convention Center- small (RHuston)","RETAIL",59.99]
[null,{"$f":"Table_prices[[#This Row],[ITEMNMBR]]","v":0},"Custom Greater Columbus Convention Center- medium (RHuston)","RETAIL",75]
[null,{"$f":"Table_prices[[#This Row],[ITEMNMBR]]","v":0},"Custom -New Years Champagne Splits (Ryan H)","RETAIL",30]
[null,{"$f":"Table_prices[[#This Row],[ITEMNMBR]]","v":0},"Custom Snack","RETAIL",44.99]
[null,{"$f":"Table_prices[[#This Row],[ITEMNMBR]]","v":0},"Custom Easter Orchards with Bunny ( Ryan Huston )","RETAIL",100]
[null,{"$f":"Table_prices[[#This Row],[ITEMNMBR]]","v":0},"Custom Easter Fruit & Spa ( Ryan Huston )","RETAIL",100]
[null,{"$f":"Table_prices[[#This Row],[ITEMNMBR]]","v":0},"Caesar's Palace Silver","RETAIL",12]
[null,{"$f":"Table_prices[[#This Row],[ITEMNMBR]]","v":0},"Caesar's Palace Gold","RETAIL",12]
[null,{"$f":"Table_prices[[#This Row],[ITEMNMBR]]","v":0},"Custom Golf HOle in one with chocolate","RETAIL",69.989999999999995]
[null,{"$f":"Table_prices[[#This Row],[ITEMNMBR]]","v":0},"Custom Halloween Bucket","RETAIL",34.99]
[null,{"$f":"Table_prices[[#This Row],[ITEMNMBR]]","v":0},"Custom Halloween Cauldron","RETAIL",47.99]
[null,{"$f":"Table_prices[[#This Row],[ITEMNMBR]]","v":0},"Custom: Wine & Snacks (RHuston)","RETAIL",299.99]
[null,{"$f":"Table_prices[[#This Row],[ITEMNMBR]]","v":0},"Single bottle cakebread Cab","RETAIL",129.99]
[null,{"$f":"Table_prices[[#This Row],[ITEMNMBR]]","v":0},"Custom Brut Rose Champagne","RETAIL",51.99]
[null,{"$f":"Table_prices[[#This Row],[ITEMNMBR]]","v":0},"Custom Suitcase with Cakebread &Silveroak (RHouston)","RETAIL",0]
[null,{"$f":"Table_prices[[#This Row],[ITEMNMBR]]","v":0},"Custom 5220 with Ravenswood Red (Ryan H)","RETAIL",125.99]
[null,{"$f":"Table_prices[[#This Row],[ITEMNMBR]]","v":0},"Custom -- SC Snacks & Treats -  Enterprise  - (RHuston)","RETAIL",75]
[null,{"$f":"Table_prices[[#This Row],[ITEMNMBR]]","v":0},"Custom -- SC Snacks & Treats -  Enterprise  -** (RHuston)","RETAIL",75]
[null,{"$f":"Table_prices[[#This Row],[ITEMNMBR]]","v":0},"Custom - Evergreen Construction Corp -  snacks and custom items (RHuston)","RETAIL",0]
[null,{"$f":"Table_prices[[#This Row],[ITEMNMBR]]","v":0},"Custom champagne, snacks, and chocolates for Enterprise (RHuston)","RETAIL",100]
[null,{"$f":"Table_prices[[#This Row],[ITEMNMBR]]","v":0},"Custom: Poker Time Snacker for Enterprise (RHuston)","RETAIL",150]
[null,{"$f":"Table_prices[[#This Row],[ITEMNMBR]]","v":0},"Custom Chocolate Deluxe","RETAIL",103.77]
[null,{"$f":"Table_prices[[#This Row],[ITEMNMBR]]","v":0},"ELV Custom Chocolate Classic","RETAIL",69.989999999999995]
[null,{"$f":"Table_prices[[#This Row],[ITEMNMBR]]","v":0},"Custom: ELV Chocolate Classic","RETAIL",69.989999999999995]
[null,{"$f":"Table_prices[[#This Row],[ITEMNMBR]]","v":0},"Custom : ELV  Chocolate Premium","RETAIL",99.99]
[null,{"$f":"Table_prices[[#This Row],[ITEMNMBR]]","v":0},"Custom Corporate Snack Basket","RETAIL",45]
[null,{"$f":"Table_prices[[#This Row],[ITEMNMBR]]","v":0},"Ultimate Custom Baby Basket","RETAIL",214.78]
[null,{"$f":"Table_prices[[#This Row],[ITEMNMBR]]","v":0},"Custom Gift Basket","RETAIL",93.99]
[null,{"$f":"Table_prices[[#This Row],[ITEMNMBR]]","v":0},"Custom Gift Basket","RETAIL",132.87]
[null,{"$f":"Table_prices[[#This Row],[ITEMNMBR]]","v":0},"Custom Baby Basket","RETAIL",143.99]
[null,{"$f":"Table_prices[[#This Row],[ITEMNMBR]]","v":0},"Custom Fondue ( Ryan H. )","RETAIL",75.989999999999995]
[null,{"$f":"Table_prices[[#This Row],[ITEMNMBR]]","v":0},"Custom Sugar Free ( Ryan H.)","RETAIL",54.99]
[null,{"$f":"Table_prices[[#This Row],[ITEMNMBR]]","v":0},"Custom for baby boy ( Ryan Huston)","RETAIL",110]
[null,{"$f":"Table_prices[[#This Row],[ITEMNMBR]]","v":0},"Custom for Baby Girl ( Ryan Huston)","RETAIL",200]
[null,{"$f":"Table_prices[[#This Row],[ITEMNMBR]]","v":0},"Custom for Baby Boy (Ryan Huston)","RETAIL",220]
[null,{"$f":"Table_prices[[#This Row],[ITEMNMBR]]","v":0},"Custom for Baby Girl (Ryan Huston)","RETAIL",139.99]
[null,{"$f":"Table_prices[[#This Row],[ITEMNMBR]]","v":0},"Custom Baby Girl","RETAIL",224.99]
[null,{"$f":"Table_prices[[#This Row],[ITEMNMBR]]","v":0},"Custom Baby Stack Pink for Ryan H.","RETAIL",141.99]
[null,{"$f":"Table_prices[[#This Row],[ITEMNMBR]]","v":0},"Custom: Healthy Basket (R.Huston)","RETAIL",50]
[null,{"$f":"Table_prices[[#This Row],[ITEMNMBR]]","v":0},"Custom: Kosher (R.Huston)","RETAIL",50]
[null,{"$f":"Table_prices[[#This Row],[ITEMNMBR]]","v":0},"Custom: Healthy Basket (R.Huston)","RETAIL",50]
[null,{"$f":"Table_prices[[#This Row],[ITEMNMBR]]","v":0},"Custom: Healthy snacks in golf bag (R.Huston)","RETAIL",79.989999999999995]
[null,{"$f":"Table_prices[[#This Row],[ITEMNMBR]]","v":0},"Custom Cabernet, crackers, cheese and honey (Ryan Huston)","RETAIL",175]
[null,{"$f":"Table_prices[[#This Row],[ITEMNMBR]]","v":0},"Foxwoods Custom Basket 1","RETAIL",21]
[null,{"$f":"Table_prices[[#This Row],[ITEMNMBR]]","v":0},"Foxwoods Custom Basket 5","RETAIL",37]
[null,{"$f":"Table_prices[[#This Row],[ITEMNMBR]]","v":0},"Custom: Foxwoods  - tower of snacks and treats  (Ryan H)","RETAIL",50]
[null,{"$f":"Table_prices[[#This Row],[ITEMNMBR]]","v":0},"Custom: Foxwoods - Chinese New Year","RETAIL",35]
[null,{"$f":"Table_prices[[#This Row],[ITEMNMBR]]","v":0},"Custom: Foxwoods - Easter","RETAIL",14]
[null,{"$f":"Table_prices[[#This Row],[ITEMNMBR]]","v":0},"Custom Basket","RETAIL",196.72]
[null,{"$f":"Table_prices[[#This Row],[ITEMNMBR]]","v":0},"Custom Basket","RETAIL",100]
[null,{"$f":"Table_prices[[#This Row],[ITEMNMBR]]","v":0},"Custom Geo Temps $54.99","RETAIL",54.99]
[null,{"$f":"Table_prices[[#This Row],[ITEMNMBR]]","v":0},"Custom Geo Temps $84.99","RETAIL",84.99]
[null,{"$f":"Table_prices[[#This Row],[ITEMNMBR]]","v":0},"Custom TexMex Basket #1","RETAIL",77.61]
[null,{"$f":"Table_prices[[#This Row],[ITEMNMBR]]","v":0},"Custom TexMex Basket #2","RETAIL",108.11]
[null,{"$f":"Table_prices[[#This Row],[ITEMNMBR]]","v":0},"7 pc Utensil Set with Case","RETAIL",100]
[null,{"$f":"Table_prices[[#This Row],[ITEMNMBR]]","v":0},"10 Color Fine Line Markers","RETAIL",100]
[null,{"$f":"Table_prices[[#This Row],[ITEMNMBR]]","v":0},"Construction Paper 9X12","RETAIL",100]
[null,{"$f":"Table_prices[[#This Row],[ITEMNMBR]]","v":0},"Bold + Pastel Easter Eggs","RETAIL",100]
[null,{"$f":"Table_prices[[#This Row],[ITEMNMBR]]","v":0},"Custom Cocktail Deluxe","RETAIL",159.99]
[null,{"$f":"Table_prices[[#This Row],[ITEMNMBR]]","v":0},"Custom Sigature Snack ( Ryan Huston)","RETAIL",297.99]
[null,{"$f":"Table_prices[[#This Row],[ITEMNMBR]]","v":0},"Custom Health Nut Care Package","RETAIL",25]
[null,{"$f":"Table_prices[[#This Row],[ITEMNMBR]]","v":0},"Custom Wine Stack","RETAIL",40]
[null,{"$f":"Table_prices[[#This Row],[ITEMNMBR]]","v":0},"Custom Basket","RETAIL",200]
[null,{"$f":"Table_prices[[#This Row],[ITEMNMBR]]","v":0},"Custom Basket","RETAIL",200]
[null,{"$f":"Table_prices[[#This Row],[ITEMNMBR]]","v":0},"Custom: McCarthy Builders - large tier - three mugs  (RHuston)","RETAIL",100]
[null,{"$f":"Table_prices[[#This Row],[ITEMNMBR]]","v":0},"Custom: McCarthy Builders - medium tier - two mugs  (RHuston)","RETAIL",75]
[null,{"$f":"Table_prices[[#This Row],[ITEMNMBR]]","v":0},"Custom: McCarthy Builders - small tier - one mug  (RHuston)","RETAIL",50]
[null,{"$f":"Table_prices[[#This Row],[ITEMNMBR]]","v":0},"Custom - Christmas - The Corporate Showstopper - w/ customized ribbon- (RHuston)","RETAIL",167.99]
[null,{"$f":"Table_prices[[#This Row],[ITEMNMBR]]","v":0},"-Custom - Christmas - Deluxe - w/ customized ribbon - (RHuston)","RETAIL",99.99]
[null,{"$f":"Table_prices[[#This Row],[ITEMNMBR]]","v":0},"Custom Gift Basket","RETAIL",139]
[null,{"$f":"Table_prices[[#This Row],[ITEMNMBR]]","v":0},"Custom Marich Truffles","RETAIL",7]
[null,{"$f":"Table_prices[[#This Row],[ITEMNMBR]]","v":0},"Custom Soup & Crocks Gift Basket","RETAIL",87.99]
[null,{"$f":"Table_prices[[#This Row],[ITEMNMBR]]","v":0},"Custom Bath & Snack Gift Basket","RETAIL",74.989999999999995]
[null,{"$f":"Table_prices[[#This Row],[ITEMNMBR]]","v":0},"Custom Signature Series Fruit Basket - $314.99","RETAIL",314.99]
[null,{"$f":"Table_prices[[#This Row],[ITEMNMBR]]","v":0},"Custom Signature Series Fruit Basket - $329.99","RETAIL",329.99]
[null,{"$f":"Table_prices[[#This Row],[ITEMNMBR]]","v":0},"Custom - 5087 with added wine cooler bag (Ryan H)","RETAIL",69.989999999999995]
[null,{"$f":"Table_prices[[#This Row],[ITEMNMBR]]","v":0},"Custom - 5140 with added wine cooler bag (Ryan H)","RETAIL",69.989999999999995]
[null,{"$f":"Table_prices[[#This Row],[ITEMNMBR]]","v":0},"Custom Jingle all the way w/ Gum ball","RETAIL",47.99]
[null,{"$f":"Table_prices[[#This Row],[ITEMNMBR]]","v":0},"Custom Xmas Snack with Gum ball","RETAIL",124.99]
[null,{"$f":"Table_prices[[#This Row],[ITEMNMBR]]","v":0},"Custom Never Blue Christmas Stack items with CSI - Towel with logo (R.Huston)","RETAIL",34.99]
[null,{"$f":"Table_prices[[#This Row],[ITEMNMBR]]","v":0},"Custom Never Blue Coffee & Chocolate items with CSI - Towel with logo (R.Huston)","RETAIL",70]
[null,{"$f":"Table_prices[[#This Row],[ITEMNMBR]]","v":0},"Custom Never Blue Coffee & Chocolate items with CSI - Towel with logo (R.Huston)","RETAIL",85]
[null,{"$f":"Table_prices[[#This Row],[ITEMNMBR]]","v":0},"Custom Never Blue - Champagne & Chocolates (R.Huston)","RETAIL",450]
[null,{"$f":"Table_prices[[#This Row],[ITEMNMBR]]","v":0},"Custom Christmas Snack Classic Basket","RETAIL",59.99]
[null,{"$f":"Table_prices[[#This Row],[ITEMNMBR]]","v":0},"Custom Christmas Snack Premium Basket","RETAIL",79.989999999999995]
[null,{"$f":"Table_prices[[#This Row],[ITEMNMBR]]","v":0},"Parrish Const. Xmas Classic","RETAIL",59.99]
[null,{"$f":"Table_prices[[#This Row],[ITEMNMBR]]","v":0},"Parrish Const. Xmas Ult.","RETAIL",124.99]
[null,{"$f":"Table_prices[[#This Row],[ITEMNMBR]]","v":0},"Parrish Const. Xmas Classic","RETAIL",59.99]
[null,{"$f":"Table_prices[[#This Row],[ITEMNMBR]]","v":0},"Parrish Const. Sweets & Treats","RETAIL",49.99]
[null,{"$f":"Table_prices[[#This Row],[ITEMNMBR]]","v":0},"Parrish Const. Xmas Stack","RETAIL",34.99]
[null,{"$f":"Table_prices[[#This Row],[ITEMNMBR]]","v":0},"Custom Parrish Construction Group- tote- A (RHuston)","RETAIL",35]
[null,{"$f":"Table_prices[[#This Row],[ITEMNMBR]]","v":0},"Custom Parrish Construction Group- tote- B (RHuston)","RETAIL",50]
[null,{"$f":"Table_prices[[#This Row],[ITEMNMBR]]","v":0},"Custom Parrish Construction Group- tote- C (RHuston)","RETAIL",75]
[null,{"$f":"Table_prices[[#This Row],[ITEMNMBR]]","v":0},"Custom:  one gallon white tin  ½ white choc pineapple  ½ island coconut  (RHuston)","RETAIL",30.51]
[null,{"$f":"Table_prices[[#This Row],[ITEMNMBR]]","v":0},"Custom Basket","RETAIL",500.72]
[null,{"$f":"Table_prices[[#This Row],[ITEMNMBR]]","v":0},"Custom Cakebread","RETAIL",249.99]
[null,{"$f":"Table_prices[[#This Row],[ITEMNMBR]]","v":0},"custom signature fruit $250","RETAIL",250]
[null,{"$f":"Table_prices[[#This Row],[ITEMNMBR]]","v":0},"Custom","RETAIL",94.99]
[null,{"$f":"Table_prices[[#This Row],[ITEMNMBR]]","v":0},"custom popcorn tin w/ caramel cheesy cheddar sour cream & chive (Ryan H)","RETAIL",0]
[null,{"$f":"Table_prices[[#This Row],[ITEMNMBR]]","v":0},"custom popcrn tin w/ honey mustard, sun dried tomatoe basil, cookies & cream (Ryan H)","RETAIL",0]
[null,{"$f":"Table_prices[[#This Row],[ITEMNMBR]]","v":0},"Custom PetSmart Option 3 (Ryan Huston)","RETAIL",180]
[null,{"$f":"Table_prices[[#This Row],[ITEMNMBR]]","v":0},"Custom Foxwoods Sample","RETAIL",40]
[null,{"$f":"Table_prices[[#This Row],[ITEMNMBR]]","v":0},"Custom Foxwoods Sample","RETAIL",25]
[null,{"$f":"Table_prices[[#This Row],[ITEMNMBR]]","v":0},"Custom Fruit Basket ( Ryan Huston)","RETAIL",220.99]
[null,{"$f":"Table_prices[[#This Row],[ITEMNMBR]]","v":0},"Custom Toll Brothers - branded items - (RHuston)","RETAIL",100]
[null,{"$f":"Table_prices[[#This Row],[ITEMNMBR]]","v":0},"Custom Toll Brothers Weekend in Paris with Wine","RETAIL",269]
[null,{"$f":"Table_prices[[#This Row],[ITEMNMBR]]","v":0},"Custom Toll Brothers weekend in paris NO alcohol","RETAIL",160]
[null,{"$f":"Table_prices[[#This Row],[ITEMNMBR]]","v":0},"Custom Toll Brothers","RETAIL",79.989999999999995]
[null,{"$f":"Table_prices[[#This Row],[ITEMNMBR]]","v":0},"Custom thank you - red wine & chocolates (RHuston)","RETAIL",199.99]
[null,{"$f":"Table_prices[[#This Row],[ITEMNMBR]]","v":0},"Custom - Snacks - Toll Brothers (RHuston)","RETAIL",125]
[null,{"$f":"Table_prices[[#This Row],[ITEMNMBR]]","v":0},"Custom Toll Brothers - generic items - (RHuston)","RETAIL",100]
[null,{"$f":"Table_prices[[#This Row],[ITEMNMBR]]","v":0},"Custom - 4056 slight changes - (RHuston)","RETAIL",249.99]
[null,{"$f":"Table_prices[[#This Row],[ITEMNMBR]]","v":0},"Custom - 5230 slight changes - (RHuston)","RETAIL",149.99]
[null,{"$f":"Table_prices[[#This Row],[ITEMNMBR]]","v":0},"Custom - Tower with snacks - (RHuston)","RETAIL",75]
[null,{"$f":"Table_prices[[#This Row],[ITEMNMBR]]","v":0},"Custom Basket","RETAIL",200]
[null,{"$f":"Table_prices[[#This Row],[ITEMNMBR]]","v":0},"Custom Gift Basket","RETAIL",213.99]
[null,{"$f":"Table_prices[[#This Row],[ITEMNMBR]]","v":0},"Custom Gift Basket","RETAIL",199.99]
[null,{"$f":"Table_prices[[#This Row],[ITEMNMBR]]","v":0},"Custom Gift Basket","RETAIL",199.99]
[null,{"$f":"Table_prices[[#This Row],[ITEMNMBR]]","v":0},"Custom Beer & Seafood","RETAIL",279.99]
[null,{"$f":"Table_prices[[#This Row],[ITEMNMBR]]","v":0},"Custom Baby Girl & Snacks","RETAIL",245.99]
[null,{"$f":"Table_prices[[#This Row],[ITEMNMBR]]","v":0},"Custom Wine & Beer","RETAIL",238.99]
[null,{"$f":"Table_prices[[#This Row],[ITEMNMBR]]","v":0},"Custom white wine organic snacks chocolates and kid friendly","RETAIL",100]
[null,{"$f":"Table_prices[[#This Row],[ITEMNMBR]]","v":0},"Custom Wolf & Greenfield -  Bountiful (RHuston)","RETAIL",100.99]
[null,{"$f":"Table_prices[[#This Row],[ITEMNMBR]]","v":0},"Custom W. Greenfield $150.00","RETAIL",150]
[null,{"$f":"Table_prices[[#This Row],[ITEMNMBR]]","v":0},"Custom W. Greenfield $150.00","RETAIL",150]
[null,{"$f":"Table_prices[[#This Row],[ITEMNMBR]]","v":0},"Custom W. Greenfield $100.00","RETAIL",100]
[null,{"$f":"Table_prices[[#This Row],[ITEMNMBR]]","v":0},"Custom W. Greenfield $75.00","RETAIL",75]
[null,{"$f":"Table_prices[[#This Row],[ITEMNMBR]]","v":0},"Custom W. Greenfield $75.00","RETAIL",75]
[null,{"$f":"Table_prices[[#This Row],[ITEMNMBR]]","v":0},"Custom W. Greenfield $50.00","RETAIL",50]
[null,{"$f":"Table_prices[[#This Row],[ITEMNMBR]]","v":0},"Customer Ribbon","RETAIL",0]
[null,{"$f":"Table_prices[[#This Row],[ITEMNMBR]]","v":0},"Die Cast Toy Car","RETAIL",100]
[null,{"$f":"Table_prices[[#This Row],[ITEMNMBR]]","v":0},"Stonewall Kitchen Chicken and Pork Rub 3.5 oz","RETAIL",100]
[null,{"$f":"Table_prices[[#This Row],[ITEMNMBR]]","v":0},"Robert Rothschild Farm Anna Mae's Smokey Sweet Sauce 12 fl oz","RETAIL",100]
[null,{"$f":"Table_prices[[#This Row],[ITEMNMBR]]","v":0},"Robert Rothschild Farm Sweet Red Pepper Cream Cheese Spread 5.8 oz.","RETAIL",100]
[null,{"$f":"Table_prices[[#This Row],[ITEMNMBR]]","v":0},"Robert Rothschild Farm Chocolate Dipping Pretzels 6 oz.","RETAIL",100]
[null,{"$f":"Table_prices[[#This Row],[ITEMNMBR]]","v":0},"Robert Rothschild Farm Gourmet Pretzel Twists 6 oz.(K)","RETAIL",100]
[null,{"$f":"Table_prices[[#This Row],[ITEMNMBR]]","v":0},"Old Fashioned Caramel Sauce by Robert Rothschild Farm - 11.1 oz. -","RETAIL",100]
[null,{"$f":"Table_prices[[#This Row],[ITEMNMBR]]","v":0},"Robert Rothschild Farm Peach Pie Jam 11 oz.","RETAIL",100]
[null,{"$f":"Table_prices[[#This Row],[ITEMNMBR]]","v":0},"Robert Rothschild Farm Raspberry Chocolate Pretzel Dip 4 oz.","RETAIL",100]
[null,{"$f":"Table_prices[[#This Row],[ITEMNMBR]]","v":0},"Raspberry Honey Mustard Pretzel Dip by Robert Rothschild Farms - 7.8 oz. -","RETAIL",100]
[null,{"$f":"Table_prices[[#This Row],[ITEMNMBR]]","v":0},"Old Fashioned Hot Fudge Sauce 11 oz","RETAIL",100]
[null,{"$f":"Table_prices[[#This Row],[ITEMNMBR]]","v":0},"Pineapple Coconut Mango Tequila Sauce by Robert Rothchild -  12 oz. -","RETAIL",100]
[null,{"$f":"Table_prices[[#This Row],[ITEMNMBR]]","v":0},"Limon Pepper Meat, Fish & Poultry Rub by Robert Rothchild - 5 oz. -","RETAIL",100]
[null,{"$f":"Table_prices[[#This Row],[ITEMNMBR]]","v":0},"Cinnamon Bun Caramel Sauce by Robert Rothschild - 5 oz. -","RETAIL",100]
[null,{"$f":"Table_prices[[#This Row],[ITEMNMBR]]","v":0},"Cinnamon Honey Dipping Pretzels by Robert Rothschild - 6 oz. -","RETAIL",100]
[null,{"$f":"Table_prices[[#This Row],[ITEMNMBR]]","v":0},"Caramel Sauce 4 oz.","RETAIL",100]
[null,{"$f":"Table_prices[[#This Row],[ITEMNMBR]]","v":0},"Chocolate Pretzels by Robert Rothschild - 6 oz. -","RETAIL",100]
[null,{"$f":"Table_prices[[#This Row],[ITEMNMBR]]","v":0},"Roden Surplus Imports Golf Bucket with Practice Balls","RETAIL",100]
[null,{"$f":"Table_prices[[#This Row],[ITEMNMBR]]","v":0},"Roden Surplus Imports Golf Practice Balls","RETAIL",100]
[null,{"$f":"Table_prices[[#This Row],[ITEMNMBR]]","v":0},"DRY ICE POLLY BAGS","RETAIL",100]
[null,{"$f":"Table_prices[[#This Row],[ITEMNMBR]]","v":0},"R W Garcia Veggie Tortilla Chips 7oz","RETAIL",100]
[null,{"$f":"Table_prices[[#This Row],[ITEMNMBR]]","v":0},"Onion & Chive 5 Seed Crackers  by R W Garcia - 4 oz. -","RETAIL",100]
[null,{"$f":"Table_prices[[#This Row],[ITEMNMBR]]","v":0},"Custom 8 Jack O Lantern Mugs (Anne)","RETAIL",40]
[null,{"$f":"Table_prices[[#This Row],[ITEMNMBR]]","v":0},"Tipsy Cocktail Stirrers by Sable & Rosenfeld - 9.7oz. -","RETAIL",100]
[null,{"$f":"Table_prices[[#This Row],[ITEMNMBR]]","v":0},"Tipsy Cherries by Sable & Rosenfeld - 10 oz. -","RETAIL",100]
[null,{"$f":"Table_prices[[#This Row],[ITEMNMBR]]","v":0}," Lemon Vanilla California Wine Wafer 2pk  - 2 oz. -","RETAIL",100]
[null,{"$f":"Table_prices[[#This Row],[ITEMNMBR]]","v":0},"Mocha Wine Wafer 2 pack - 2 oz. -","RETAIL",100]
[null,{"$f":"Table_prices[[#This Row],[ITEMNMBR]]","v":0},"Samar Distributors Fiesta Grande Margarita Glasses","RETAIL",100]
[null,{"$f":"Table_prices[[#This Row],[ITEMNMBR]]","v":0},"Plain M&Ms by Mars - 1.69 oz. -","RETAIL",100]
[null,{"$f":"Table_prices[[#This Row],[ITEMNMBR]]","v":0},"Peanut M&Ms by Mars - 1.69 oz. -","RETAIL",100]
[null,{"$f":"Table_prices[[#This Row],[ITEMNMBR]]","v":0},"Skittles by Wrigley - 2.17 oz. -","RETAIL",100]
[null,{"$f":"Table_prices[[#This Row],[ITEMNMBR]]","v":0},"Skittles pastels by Mars - 1 oz. -","RETAIL",100]
[null,{"$f":"Table_prices[[#This Row],[ITEMNMBR]]","v":0},"Snickers by Mars - 2.07 oz. -","RETAIL",100]
[null,{"$f":"Table_prices[[#This Row],[ITEMNMBR]]","v":0},"Twix by Mars - 2 oz. -","RETAIL",100]
[null,{"$f":"Table_prices[[#This Row],[ITEMNMBR]]","v":0},"Poland Spring Spring Water in sport top bottle","RETAIL",100]
[null,{"$f":"Table_prices[[#This Row],[ITEMNMBR]]","v":0},"Reeses Peanut Butter Eggs 1.5 oz","RETAIL",100]
[null,{"$f":"Table_prices[[#This Row],[ITEMNMBR]]","v":0},"Reeses Peanutbutter Cups by Hersheys - 1.5 oz. -","RETAIL",100]
[null,{"$f":"Table_prices[[#This Row],[ITEMNMBR]]","v":0},"Kit Kat Wafers 1.5oz","RETAIL",100]
[null,{"$f":"Table_prices[[#This Row],[ITEMNMBR]]","v":0},"Hershey Milk Chocolate Bar","RETAIL",100]
[null,{"$f":"Table_prices[[#This Row],[ITEMNMBR]]","v":0},"Famous Amos Cookies Single Serve","RETAIL",100]
[null,{"$f":"Table_prices[[#This Row],[ITEMNMBR]]","v":0},"Lifesavers Gummies by Wrigley's - 2 oz. -","RETAIL",100]
[null,{"$f":"Table_prices[[#This Row],[ITEMNMBR]]","v":0},"Sour Patch Kids by Cadbury Adams Canada - 2 oz. -","RETAIL",100]
[null,{"$f":"Table_prices[[#This Row],[ITEMNMBR]]","v":0},"Cheddar Cheese Pretzel Combos by Mars - 1.8 oz. -","RETAIL",100]
[null,{"$f":"Table_prices[[#This Row],[ITEMNMBR]]","v":0},"Cheez-Its by Sunshine - 1.5 oz. -","RETAIL",100]
[null,{"$f":"Table_prices[[#This Row],[ITEMNMBR]]","v":0},"Traditional Chex Mix by General Mills - 1.75 oz. -","RETAIL",100]
[null,{"$f":"Table_prices[[#This Row],[ITEMNMBR]]","v":0},"Smartfood Popcorn by Frito Lay - .625 oz. -","RETAIL",100]
[null,{"$f":"Table_prices[[#This Row],[ITEMNMBR]]","v":0},"Friday's Cheddar & Bacon Potato Skins 1oz.","RETAIL",100]
[null,{"$f":"Table_prices[[#This Row],[ITEMNMBR]]","v":0},"Original Slim Jim's by Con Agra Foods - .28 oz. -","RETAIL",100]
[null,{"$f":"Table_prices[[#This Row],[ITEMNMBR]]","v":0},"Cracker Jack's by Frito Lay - 1.25 oz. -","RETAIL",100]
[null,{"$f":"Table_prices[[#This Row],[ITEMNMBR]]","v":0},"Famous Amos Chocolate Chip Cookies. - 2 oz. -","RETAIL",100]
[null,{"$f":"Table_prices[[#This Row],[ITEMNMBR]]","v":0},"Rice Krispies Treats by Kellogg's - 1.3 oz. -","RETAIL",100]
[null,{"$f":"Table_prices[[#This Row],[ITEMNMBR]]","v":0},"Oreo's by Nabisco - 2 oz. -","RETAIL",100]
[null,{"$f":"Table_prices[[#This Row],[ITEMNMBR]]","v":0},"Fig Newtons by Nabisco - 2.1 oz. -","RETAIL",100]
[null,{"$f":"Table_prices[[#This Row],[ITEMNMBR]]","v":0},"Animal Crackers by Austin - 2 oz","RETAIL",100]
[null,{"$f":"Table_prices[[#This Row],[ITEMNMBR]]","v":0},"Kudo's Variety Pack (Snickers, Peanut Butter, M&M's) by Mars- .78 to .85 oz.-","RETAIL",100]
[null,{"$f":"Table_prices[[#This Row],[ITEMNMBR]]","v":0},"Chewy Granola Bars by Quaker Oats Co. -84.oz","RETAIL",100]
[null,{"$f":"Table_prices[[#This Row],[ITEMNMBR]]","v":0},"Planters Nut-rition Heart Healthy Mix by Kraft- 1.5 oz","RETAIL",100]
[null,{"$f":"Table_prices[[#This Row],[ITEMNMBR]]","v":0},"Planters Nuts on the Go by Kraft- 1oz-","RETAIL",100]
[null,{"$f":"Table_prices[[#This Row],[ITEMNMBR]]","v":0},"David Sunflower Seeds by Con Agra Foods- 1.75 oz.","RETAIL",100]
[null,{"$f":"Table_prices[[#This Row],[ITEMNMBR]]","v":0},"Nature Valley Chewy Trail Mix Bars by General Mills- 1.2 oz.","RETAIL",100]
[null,{"$f":"Table_prices[[#This Row],[ITEMNMBR]]","v":0},"Orville Redenbacher Smart Pop Mini Bag by Con Agra Foods -1.2 oz.-","RETAIL",100]
[null,{"$f":"Table_prices[[#This Row],[ITEMNMBR]]","v":0},"Mento's Fruit Variety By Perfetti Van Melle - 1.32 oz.","RETAIL",100]
[null,{"$f":"Table_prices[[#This Row],[ITEMNMBR]]","v":0},"Red Bull Energy Shot by Red Bull- 2 oz.","RETAIL",100]
[null,{"$f":"Table_prices[[#This Row],[ITEMNMBR]]","v":0},"Minute Maid juice box by coca cola co- 6.75 oz-","RETAIL",100]
[null,{"$f":"Table_prices[[#This Row],[ITEMNMBR]]","v":0},"Half Pound of Mixed Chocolates -","RETAIL",0]
[null,{"$f":"Table_prices[[#This Row],[ITEMNMBR]]","v":0},"One Pound of Mixed Chocolates","RETAIL",100]
[null,{"$f":"Table_prices[[#This Row],[ITEMNMBR]]","v":0},"Half Pound of Mixed Candy","RETAIL",100]
[null,{"$f":"Table_prices[[#This Row],[ITEMNMBR]]","v":0},"One Pound of Mixed Candy","RETAIL",100]
[null,{"$f":"Table_prices[[#This Row],[ITEMNMBR]]","v":0},"Wonka Mix Ups - 48 ounce bag","RETAIL",100]
[null,{"$f":"Table_prices[[#This Row],[ITEMNMBR]]","v":0},"5 Hour Energy Shot 2 fl oz.","RETAIL",100]
[null,{"$f":"Table_prices[[#This Row],[ITEMNMBR]]","v":0},"Nutrigrain Bar","RETAIL",100]
[null,{"$f":"Table_prices[[#This Row],[ITEMNMBR]]","v":0},"Swedish Fish 2 oz","RETAIL",100]
[null,{"$f":"Table_prices[[#This Row],[ITEMNMBR]]","v":0},"Assorted Candy.","RETAIL",100]
[null,{"$f":"Table_prices[[#This Row],[ITEMNMBR]]","v":0},"Dum Dum Lollipops","RETAIL",100]
[null,{"$f":"Table_prices[[#This Row],[ITEMNMBR]]","v":0},"Parmesan Artichoke & Garlic Cheese Straws by Salem Baking Company - 2.5 oz. -","RETAIL",100]
[null,{"$f":"Table_prices[[#This Row],[ITEMNMBR]]","v":0},"Sun-Dried Tomato Basil Cheese Straws by Salem Baking Company - 2.5 oz. -","RETAIL",100]
[null,{"$f":"Table_prices[[#This Row],[ITEMNMBR]]","v":0},"Parmesan Artichoke & Garlic Cheese Biscuits by Salem Baking Company - 1.5 oz. -","RETAIL",100]
[null,{"$f":"Table_prices[[#This Row],[ITEMNMBR]]","v":0},"Ginger Spice Moravian Cookies by Salem Baking Company - 1 oz. -","RETAIL",100]
[null,{"$f":"Table_prices[[#This Row],[ITEMNMBR]]","v":0},"Chocolate Chunk Shortbread Cookies by Salem Baking Company - 2 oz. -","RETAIL",100]
[null,{"$f":"Table_prices[[#This Row],[ITEMNMBR]]","v":0},"Asiago Sun-Dried Tomato Cheese Biscuits by Salem Baking Company - 1.5 oz. -","RETAIL",100]
[null,{"$f":"Table_prices[[#This Row],[ITEMNMBR]]","v":0},"Original Cheedar Cheese Biscuits by Salem Baking Company - 1.5 oz. -","RETAIL",100]
[null,{"$f":"Table_prices[[#This Row],[ITEMNMBR]]","v":0},"Chocolate Shortbread Cookies by Salem Baking Company - 5 oz. -","RETAIL",100]
[null,{"$f":"Table_prices[[#This Row],[ITEMNMBR]]","v":0},"Tangerine Orange Moravian Cookies by Salem Baking Company - 2.75 oz. -","RETAIL",100]
[null,{"$f":"Table_prices[[#This Row],[ITEMNMBR]]","v":0},"Chocolate Chunk Shortbread Cookies by Salem Baking Company - 5 oz. -","RETAIL",100]
[null,{"$f":"Table_prices[[#This Row],[ITEMNMBR]]","v":0},"Original Scottish Shortbread Cookies by Salem Baking Company - 5 oz. -","RETAIL",100]
[null,{"$f":"Table_prices[[#This Row],[ITEMNMBR]]","v":0},"Gorgonzola Cheese Biscuits by Salem Baking Company - 1.5 oz. -","RETAIL",100]
[null,{"$f":"Table_prices[[#This Row],[ITEMNMBR]]","v":0},"Original Scottish Shortbread Cookies by Salem Baking Company - 2 oz. -","RETAIL",100]
[null,{"$f":"Table_prices[[#This Row],[ITEMNMBR]]","v":0},"Meyer Lemon Moravian Cookies by Salem Baking Company - 2.75 oz. -","RETAIL",100]
[null,{"$f":"Table_prices[[#This Row],[ITEMNMBR]]","v":0},"Sugar Cookie 1oz","RETAIL",100]
[null,{"$f":"Table_prices[[#This Row],[ITEMNMBR]]","v":0},"Chocolate dipped Vanilla Bean Moravian Cookies  by Salem Baking Company - 8 oz-","RETAIL",100]
[null,{"$f":"Table_prices[[#This Row],[ITEMNMBR]]","v":0},"Meyer Lemon Moravian Cookies by Salem Baking Company - 1 oz. -","RETAIL",100]
[null,{"$f":"Table_prices[[#This Row],[ITEMNMBR]]","v":0},"Chocolate Dipped Chocolate Moravian Cookies by Salem Baking Company - 8 oz. -","RETAIL",100]
[null,{"$f":"Table_prices[[#This Row],[ITEMNMBR]]","v":0},"Chocolate Dipped Toasted Coconut Moravian Cookies by Salem Baking Company - 8 oz. -","RETAIL",100]
[null,{"$f":"Table_prices[[#This Row],[ITEMNMBR]]","v":0},"Chocolate Dipped Mint Moravian Cookies by Salem Baking Company - 8 oz. -","RETAIL",100]
[null,{"$f":"Table_prices[[#This Row],[ITEMNMBR]]","v":0},"Italian Herb and Tomato Flatbread Crackers","RETAIL",100]
[null,{"$f":"Table_prices[[#This Row],[ITEMNMBR]]","v":0},"Mint Chocolate Dipped Sugar Moravian Cookies by Salem Baking - 1 oz. -","RETAIL",100]
[null,{"$f":"Table_prices[[#This Row],[ITEMNMBR]]","v":0},"Meyer Lemon Moravian Cookies by Salem Baking - 5 oz. -","RETAIL",100]
[null,{"$f":"Table_prices[[#This Row],[ITEMNMBR]]","v":0},"Key Lime Moravian Cookies by Salem Baking - 1 oz. -","RETAIL",100]
[null,{"$f":"Table_prices[[#This Row],[ITEMNMBR]]","v":0},"Ginger Spice Moravian Cookies by Salem Baking Co. - 3.5 oz. -","RETAIL",100]
[null,{"$f":"Table_prices[[#This Row],[ITEMNMBR]]","v":0},"Cranberry Orange Moravian Cookies by Salem Baking Co. - 2.75 oz. -","RETAIL",100]
[null,{"$f":"Table_prices[[#This Row],[ITEMNMBR]]","v":0},"Meyer Lemon Moravian Cookies by Salem Baking - 1 oz. -","RETAIL",100]
[null,{"$f":"Table_prices[[#This Row],[ITEMNMBR]]","v":0},"Toasted Coconut Moravian Cookies by Salem Baking - 5 oz. -","RETAIL",100]
[null,{"$f":"Table_prices[[#This Row],[ITEMNMBR]]","v":0},"Sconza Assorted Sunlights 7oz","RETAIL",100]
[null,{"$f":"Table_prices[[#This Row],[ITEMNMBR]]","v":0}," Jumbo Lump Crab Meat by Miller's Select - 6.5 oz.-","RETAIL",100]
[null,{"$f":"Table_prices[[#This Row],[ITEMNMBR]]","v":0},"Fuji Apple Crunch Dried Fruit by Sensible Foods - .42 oz. -","RETAIL",100]
[null,{"$f":"Table_prices[[#This Row],[ITEMNMBR]]","v":0},"Sweet Corn Crunch Snack by Sensible Foods - .42 oz. -","RETAIL",100]
[null,{"$f":"Table_prices[[#This Row],[ITEMNMBR]]","v":0},"Moisturizing Body Butter in Mandarin Orange by San Francisco Soap Company - 8 oz. -","RETAIL",100]
[null,{"$f":"Table_prices[[#This Row],[ITEMNMBR]]","v":0},"Moisturizing Body Lotion in Mandarin Orange by San Francisco Soap Company - 8.75 oz. -","RETAIL",100]
[null,{"$f":"Table_prices[[#This Row],[ITEMNMBR]]","v":0},"Refreshing Body Mist in Mandarin Orange by San Francisco Soap Company - 6.5 oz. -","RETAIL",100]
[null,{"$f":"Table_prices[[#This Row],[ITEMNMBR]]","v":0},"Moisturizing Shower Gel in Mandarin Orange by San Francisco Soap Company - 8.5 oz. -","RETAIL",100]
[null,{"$f":"Table_prices[[#This Row],[ITEMNMBR]]","v":0},"Pomegranate Massage Oil by Simply Be Well / San Francisco Soap Co. - 8 fl. oz. -","RETAIL",100]
[null,{"$f":"Table_prices[[#This Row],[ITEMNMBR]]","v":0},"Shipping","RETAIL",0]
[null,{"$f":"Table_prices[[#This Row],[ITEMNMBR]]","v":0},"Popcorn Sold At A Venue","RETAIL",0]
[null,{"$f":"Table_prices[[#This Row],[ITEMNMBR]]","v":0},"S & K Products Company 10 Quart Galvanized Steel Bucket 10 QT","RETAIL",100]
[null,{"$f":"Table_prices[[#This Row],[ITEMNMBR]]","v":0},"S & K Products Company 5 Quart Galvanized Steel Bucket 5 QT","RETAIL",100]
[null,{"$f":"Table_prices[[#This Row],[ITEMNMBR]]","v":0},"S & K Products Company 16 Quart Galvanized Steel Bucket 16 QT","RETAIL",100]
[null,{"$f":"Table_prices[[#This Row],[ITEMNMBR]]","v":0},"Samar Distributors Fiesta Grande Margarita Glasses","RETAIL",100]
[null,{"$f":"Table_prices[[#This Row],[ITEMNMBR]]","v":0},"Samar Distributors Libbey Blue Baronrita glasses","RETAIL",100]
[null,{"$f":"Table_prices[[#This Row],[ITEMNMBR]]","v":0},"D.L. Jardine's Organic Authentic Salsa - Mild 16 oz","RETAIL",100]
[null,{"$f":"Table_prices[[#This Row],[ITEMNMBR]]","v":0},"D.L. Jardine's Texarita Margarita Mix 32 oz.","RETAIL",100]
[null,{"$f":"Table_prices[[#This Row],[ITEMNMBR]]","v":0},"Deep River Snacks Potato Chips - LIghtly Salted 5 oz","RETAIL",100]
[null,{"$f":"Table_prices[[#This Row],[ITEMNMBR]]","v":0},"Deep River Snacks Original Salted Kettle Chips 5.5 oz","RETAIL",100]
[null,{"$f":"Table_prices[[#This Row],[ITEMNMBR]]","v":0},"Deep River Snacks Salt and Cracked Pepper Kettle Chips 2 oz.","RETAIL",100]
[null,{"$f":"Table_prices[[#This Row],[ITEMNMBR]]","v":0},"Kettle Chips Lightly Salted 5 oz.","RETAIL",100]
[null,{"$f":"Table_prices[[#This Row],[ITEMNMBR]]","v":0},"Kettle Chips Any Flavor 5 oz.","RETAIL",100]
[null,{"$f":"Table_prices[[#This Row],[ITEMNMBR]]","v":0},"Larabar Apple Pie 1.8 oz.","RETAIL",100]
[null,{"$f":"Table_prices[[#This Row],[ITEMNMBR]]","v":0},"Larabar Cherry Pie 1.8 oz.","RETAIL",100]
[null,{"$f":"Table_prices[[#This Row],[ITEMNMBR]]","v":0},"Larabar Cinnamon Roll 1.8 oz.","RETAIL",100]
[null,{"$f":"Table_prices[[#This Row],[ITEMNMBR]]","v":0},"Late July Organic Bite Size Cheddar Cheese Crackers 5 oz.","RETAIL",100]
[null,{"$f":"Table_prices[[#This Row],[ITEMNMBR]]","v":0},"Late July Organic Classic Cheddar Cheese Sandwich Crackers 1.2 oz.","RETAIL",100]
[null,{"$f":"Table_prices[[#This Row],[ITEMNMBR]]","v":0},"Late July Organic Classic Saltine Crackers 6 oz.","RETAIL",100]
[null,{"$f":"Table_prices[[#This Row],[ITEMNMBR]]","v":0},"Late July Organic Dark Chocolate Sandwich Cookies 8.2 oz","RETAIL",100]
[null,{"$f":"Table_prices[[#This Row],[ITEMNMBR]]","v":0},"Late July Organic Dark Chocolate Sandwich Cookies 1.5 oz","RETAIL",100]
[null,{"$f":"Table_prices[[#This Row],[ITEMNMBR]]","v":0},"Late July Organic Mini Peanut Butter Sandwich Crackers 5 oz.","RETAIL",100]
[null,{"$f":"Table_prices[[#This Row],[ITEMNMBR]]","v":0},"Late July Organic Vanilla Bean with Green Tea Sandwich Cookies 8.2 oz","RETAIL",100]
[null,{"$f":"Table_prices[[#This Row],[ITEMNMBR]]","v":0},"Late July Organic Vanilla Bean with Green Tea Sandwich Cookies 1.5 oz","RETAIL",100]
[null,{"$f":"Table_prices[[#This Row],[ITEMNMBR]]","v":0},"Organic Blue Star Farm Crackers by Partners - 5 oz. -","RETAIL",100]
[null,{"$f":"Table_prices[[#This Row],[ITEMNMBR]]","v":0},"Hors D'oeuvre Deli Style Crackers by Partners - 4.9 oz. -","RETAIL",100]
[null,{"$f":"Table_prices[[#This Row],[ITEMNMBR]]","v":0},"Deli Style Hors D'oeuvre Crackers by Partners - 2 oz. -","RETAIL",100]
[null,{"$f":"Table_prices[[#This Row],[ITEMNMBR]]","v":0},"Partners Wise Crackers 2 oz.","RETAIL",100]
[null,{"$f":"Table_prices[[#This Row],[ITEMNMBR]]","v":0},"Tortilla Chips-Assorted Flavors by Plocky's - 6.5 oz. -","RETAIL",100]
[null,{"$f":"Table_prices[[#This Row],[ITEMNMBR]]","v":0},"Stacy's Simply Naked Pita Chips 6 oz.","RETAIL",100]
[null,{"$f":"Table_prices[[#This Row],[ITEMNMBR]]","v":0},"White Birch Pinkhams Nosh 4 oz.","RETAIL",100]
[null,{"$f":"Table_prices[[#This Row],[ITEMNMBR]]","v":0},"White Birch Tuckerman's Trail Mix 4 oz.","RETAIL",100]
[null,{"$f":"Table_prices[[#This Row],[ITEMNMBR]]","v":0},"Larabar Jocolat Chocolate Hazelnut Bar 1.8 oz.","RETAIL",100]
[null,{"$f":"Table_prices[[#This Row],[ITEMNMBR]]","v":0},"Snack Factory Original Pretzel Crisps 6 oz","RETAIL",100]
[null,{"$f":"Table_prices[[#This Row],[ITEMNMBR]]","v":0},"Snack Factory Chocolate Pretzel Crisps","RETAIL",100]
[null,{"$f":"Table_prices[[#This Row],[ITEMNMBR]]","v":0},"Snack Factory Peanut Butter Pretzel Crisps 5 oz","RETAIL",100]
[null,{"$f":"Table_prices[[#This Row],[ITEMNMBR]]","v":0},"Garden of Eatin Tortilla Chips 9 oz","RETAIL",100]
[null,{"$f":"Table_prices[[#This Row],[ITEMNMBR]]","v":0},"Green Mountain Tortilla Chips","RETAIL",100]
[null,{"$f":"Table_prices[[#This Row],[ITEMNMBR]]","v":0},"Kind Bars","RETAIL",100]
[null,{"$f":"Table_prices[[#This Row],[ITEMNMBR]]","v":0},"Feredies Peanuts Bag  3oz","RETAIL",100]
[null,{"$f":"Table_prices[[#This Row],[ITEMNMBR]]","v":0},"Seapoint Farms Edamame 3.5oz","RETAIL",100]
[null,{"$f":"Table_prices[[#This Row],[ITEMNMBR]]","v":0},"Honey Roasted Peanuts","RETAIL",100]
[null,{"$f":"Table_prices[[#This Row],[ITEMNMBR]]","v":0},"Seapoint Farms Edamame Goji Berry Blend","RETAIL",100]
[null,{"$f":"Table_prices[[#This Row],[ITEMNMBR]]","v":0},"Plockys Roasted Red Pepper and Hummus Chips 3oz","RETAIL",100]
[null,{"$f":"Table_prices[[#This Row],[ITEMNMBR]]","v":0},"Italian Salad with Mushrooms by South Mill - 12 oz. -","RETAIL",100]
[null,{"$f":"Table_prices[[#This Row],[ITEMNMBR]]","v":0},"Butcher Wrapped Summer Sausage by Sparrer - 7 oz. -","RETAIL",100]
[null,{"$f":"Table_prices[[#This Row],[ITEMNMBR]]","v":0},"Red Velvet Cake","RETAIL",100]
[null,{"$f":"Table_prices[[#This Row],[ITEMNMBR]]","v":0},"Vanilla Birthday Cake - 8\"","RETAIL",100]
[null,{"$f":"Table_prices[[#This Row],[ITEMNMBR]]","v":0},"Chocolate Birthday Cake - 8\"","RETAIL",100]
[null,{"$f":"Table_prices[[#This Row],[ITEMNMBR]]","v":0},"Sports Themed Wooden Peg Games Assorted Themes","RETAIL",100]
[null,{"$f":"Table_prices[[#This Row],[ITEMNMBR]]","v":0},"Standard Playing Cards","RETAIL",100]
[null,{"$f":"Table_prices[[#This Row],[ITEMNMBR]]","v":0},"Puzzle Shapes Assorted Games","RETAIL",100]
[null,{"$f":"Table_prices[[#This Row],[ITEMNMBR]]","v":0},"16\" Tye Dye beach ball","RETAIL",100]
[null,{"$f":"Table_prices[[#This Row],[ITEMNMBR]]","v":0},"Stephan Baby Rattle Post - Rose","RETAIL",100]
[null,{"$f":"Table_prices[[#This Row],[ITEMNMBR]]","v":0},"Stephan Baby Rattle Post - Blue Blocks","RETAIL",100]
[null,{"$f":"Table_prices[[#This Row],[ITEMNMBR]]","v":0},"Stephan Baby Bottle Bank - Pink Flowers","RETAIL",100]
[null,{"$f":"Table_prices[[#This Row],[ITEMNMBR]]","v":0},"Stephan Baby Bottle Bank - Blue Cars","RETAIL",100]
[null,{"$f":"Table_prices[[#This Row],[ITEMNMBR]]","v":0},"Stephan Baby Tooth Fairy Pillow - Pink","RETAIL",100]
[null,{"$f":"Table_prices[[#This Row],[ITEMNMBR]]","v":0},"Stephan Baby Tooth Fairy Pillow - Blue","RETAIL",100]
[null,{"$f":"Table_prices[[#This Row],[ITEMNMBR]]","v":0},"Stephan Baby Keepsake Box - Cup/Fork/Spoon","RETAIL",100]
[null,{"$f":"Table_prices[[#This Row],[ITEMNMBR]]","v":0},"Stephan Baby Fleece Blanket - Pink","RETAIL",100]
[null,{"$f":"Table_prices[[#This Row],[ITEMNMBR]]","v":0},"Stephan Baby Fleece Blanket - Blue","RETAIL",100]
[null,{"$f":"Table_prices[[#This Row],[ITEMNMBR]]","v":0},"Stephan Baby Shawl Blanket - Pink","RETAIL",100]
[null,{"$f":"Table_prices[[#This Row],[ITEMNMBR]]","v":0},"Stephan Baby Shawl Blanket - Blue","RETAIL",100]
[null,{"$f":"Table_prices[[#This Row],[ITEMNMBR]]","v":0},"Stephan Baby Keepsake Memory Set - Birth Cert, Hair, Tooth","RETAIL",100]
[null,{"$f":"Table_prices[[#This Row],[ITEMNMBR]]","v":0},"Stephan Baby Keepsake Silver Rattle","RETAIL",100]
[null,{"$f":"Table_prices[[#This Row],[ITEMNMBR]]","v":0},"Blue Piggy Bank Polka Dot 8\"","RETAIL",100]
[null,{"$f":"Table_prices[[#This Row],[ITEMNMBR]]","v":0},"PInk Piggy Bank Polka Dot  8\"","RETAIL",100]
[null,{"$f":"Table_prices[[#This Row],[ITEMNMBR]]","v":0},"Stephan Baby Duck Decal Terry Robe","RETAIL",100]
[null,{"$f":"Table_prices[[#This Row],[ITEMNMBR]]","v":0},"Pink Satin Backed Bumpy Blanket by Stephan Baby - 26\" x 31\" -","RETAIL",100]
[null,{"$f":"Table_prices[[#This Row],[ITEMNMBR]]","v":0},"Blue Satin Backed Bumpy Blanket by Stephan Baby - 26\" x 31\" -","RETAIL",100]
[null,{"$f":"Table_prices[[#This Row],[ITEMNMBR]]","v":0},"Airplane Themed Bottle Bank by Stephan Baby -","RETAIL",100]
[null,{"$f":"Table_prices[[#This Row],[ITEMNMBR]]","v":0},"Stirrings Apple Martini Elixir 25.4 oz","RETAIL",100]
[null,{"$f":"Table_prices[[#This Row],[ITEMNMBR]]","v":0},"Stirrings Apple Martini Rimmer 3.5 oz.","RETAIL",100]
[null,{"$f":"Table_prices[[#This Row],[ITEMNMBR]]","v":0},"Stirrings Bellini Elixir 25.4 oz","RETAIL",100]
[null,{"$f":"Table_prices[[#This Row],[ITEMNMBR]]","v":0},"Stirrings Bloody Mary Elixir 25.4 oz","RETAIL",100]
[null,{"$f":"Table_prices[[#This Row],[ITEMNMBR]]","v":0},"Stirrings Bloody Mary Rimmer 3.5 oz.","RETAIL",100]
[null,{"$f":"Table_prices[[#This Row],[ITEMNMBR]]","v":0},"Stirrings Cosmopolitian Elixir 25.4 oz.","RETAIL",100]
[null,{"$f":"Table_prices[[#This Row],[ITEMNMBR]]","v":0},"Stirrings Cosmopolitian Rimmer 3.5 oz.","RETAIL",100]
[null,{"$f":"Table_prices[[#This Row],[ITEMNMBR]]","v":0},"Stirrings Dirty Martitni Elixir 12 oz.","RETAIL",100]
[null,{"$f":"Table_prices[[#This Row],[ITEMNMBR]]","v":0},"Stirrings Margarita Elixer 25.4 oz","RETAIL",100]
[null,{"$f":"Table_prices[[#This Row],[ITEMNMBR]]","v":0},"Stirrings Margarita Rimmer 3.5 oz.","RETAIL",100]
[null,{"$f":"Table_prices[[#This Row],[ITEMNMBR]]","v":0},"Stirrings Mojito Elixer 25.4 oz","RETAIL",100]
[null,{"$f":"Table_prices[[#This Row],[ITEMNMBR]]","v":0},"Stirrings Mojito Rimmer 3.5 oz.","RETAIL",100]
[null,{"$f":"Table_prices[[#This Row],[ITEMNMBR]]","v":0},"Stirrings Bellini Rimmer 3.5 oz.","RETAIL",100]
[null,{"$f":"Table_prices[[#This Row],[ITEMNMBR]]","v":0},"Stonewall Kitchen Bellini Jam 13 oz.","RETAIL",100]
[null,{"$f":"Table_prices[[#This Row],[ITEMNMBR]]","v":0},"Bittersweet Chocolate Sauce by Stonewall Kitchen - 12.5 oz. -","RETAIL",100]
[null,{"$f":"Table_prices[[#This Row],[ITEMNMBR]]","v":0},"Cinnamon Bun Mix by Stonewall Kitchen  - 19.6 oz. -","RETAIL",100]
[null,{"$f":"Table_prices[[#This Row],[ITEMNMBR]]","v":0},"Stonewall Kitchen Country Ketchup 16 oz.","RETAIL",100]
[null,{"$f":"Table_prices[[#This Row],[ITEMNMBR]]","v":0},"Stonewall Kitchen Creamy Asiago Dressing 11 oz.","RETAIL",100]
[null,{"$f":"Table_prices[[#This Row],[ITEMNMBR]]","v":0},"Stonewall Kitchen Dulce De Leche Dessert Sauce 12 oz","RETAIL",100]
[null,{"$f":"Table_prices[[#This Row],[ITEMNMBR]]","v":0},"Farmhouse Pancake Mix by Stonewall Kitchen - 16 oz. -","RETAIL",100]
[null,{"$f":"Table_prices[[#This Row],[ITEMNMBR]]","v":0},"Stonewall Kitchen Farmhouse Pancake and Walffle Mix 33 oz.","RETAIL",100]
[null,{"$f":"Table_prices[[#This Row],[ITEMNMBR]]","v":0},"Stonewall Kitchen Holiday Jam 4 oz.","RETAIL",100]
[null,{"$f":"Table_prices[[#This Row],[ITEMNMBR]]","v":0},"SWK Maine Maple Champ Mustard - 3.5 oz. -","RETAIL",100]
[null,{"$f":"Table_prices[[#This Row],[ITEMNMBR]]","v":0},"Maple Chipotle Grille Sauce by Stonewall Kitchen - 11 oz. -","RETAIL",100]
[null,{"$f":"Table_prices[[#This Row],[ITEMNMBR]]","v":0},"Olive Oil and Balsamic Dressing by Stonewall Kitchen - 11 oz. -","RETAIL",100]
[null,{"$f":"Table_prices[[#This Row],[ITEMNMBR]]","v":0},"Stonewall Kitchen Orange Cranberry Marmalade 4 oz.","RETAIL",100]
[null,{"$f":"Table_prices[[#This Row],[ITEMNMBR]]","v":0},"Stonewall Kitchen Raspberry Liqueur Hot Fudge Dessert Sauce 12 oz","RETAIL",100]
[null,{"$f":"Table_prices[[#This Row],[ITEMNMBR]]","v":0},"Raspberry Peach Champagne Jam by Stonewall Kitchen - 13 oz. -","RETAIL",100]
[null,{"$f":"Table_prices[[#This Row],[ITEMNMBR]]","v":0},"Raspberry Peach Champagne Jam by Stonewall Kitchen - 4 oz. -","RETAIL",100]
[null,{"$f":"Table_prices[[#This Row],[ITEMNMBR]]","v":0},"Roadhouse Steak Sauce by Stonewall Kitchen - 11 oz. -","RETAIL",100]
[null,{"$f":"Table_prices[[#This Row],[ITEMNMBR]]","v":0},"Stonewall Kitchen Spiced Rum Butterscotch 12 oz","RETAIL",100]
[null,{"$f":"Table_prices[[#This Row],[ITEMNMBR]]","v":0},"Stonewall Kitchen Strawberry Jam 4 oz.","RETAIL",100]
[null,{"$f":"Table_prices[[#This Row],[ITEMNMBR]]","v":0},"Stonewall Kitchen Strawberry Syrup 8.5 oz","RETAIL",100]
[null,{"$f":"Table_prices[[#This Row],[ITEMNMBR]]","v":0}," Tequila Lime Cocktail Sauce by Stonewall Kitchen -  8.5 oz. -","RETAIL",100]
[null,{"$f":"Table_prices[[#This Row],[ITEMNMBR]]","v":0},"Stonewall Kitchen Traditional Crepe Mix 16 oz.","RETAIL",100]
[null,{"$f":"Table_prices[[#This Row],[ITEMNMBR]]","v":0},"SWK Wild Blueberry Sprd - No sugar Added 7.5 oz.","RETAIL",100]
[null,{"$f":"Table_prices[[#This Row],[ITEMNMBR]]","v":0},"Wild Maine Blueberry Jam by Stonewall Kitchen - 13 oz. -","RETAIL",100]
[null,{"$f":"Table_prices[[#This Row],[ITEMNMBR]]","v":0},"Wild Maine Blueberry Jam by Stonewall Kitchen - 4 oz. -","RETAIL",100]
[null,{"$f":"Table_prices[[#This Row],[ITEMNMBR]]","v":0},"Barefoot Contessa Asian Salmon Marinade 10 oz.","RETAIL",100]
[null,{"$f":"Table_prices[[#This Row],[ITEMNMBR]]","v":0},"Barefoot Contessa Biscuit Mix 12.5 oz.","RETAIL",100]
[null,{"$f":"Table_prices[[#This Row],[ITEMNMBR]]","v":0},"Barefoot Contessa Chocolate Ganache Cake 26.2 oz.","RETAIL",100]
[null,{"$f":"Table_prices[[#This Row],[ITEMNMBR]]","v":0},"Coconut Cupcake and Cream Cheese Frosting Mix by Barefoot Contessa - 24.9 oz. -","RETAIL",100]
[null,{"$f":"Table_prices[[#This Row],[ITEMNMBR]]","v":0},"Barefoot Contessa Decadent Fudge Sauce 10 oz.","RETAIL",100]
[null,{"$f":"Table_prices[[#This Row],[ITEMNMBR]]","v":0},"Barefoot Contessa Ina's Favorite All Natural Pancake & Waffle Mix 16 oz.","RETAIL",100]
[null,{"$f":"Table_prices[[#This Row],[ITEMNMBR]]","v":0},"Barefoot Contessa Ina's Favorite BBQ Sauce 10 oz.","RETAIL",100]
[null,{"$f":"Table_prices[[#This Row],[ITEMNMBR]]","v":0},"Barefoot Contessa Indonesian Ginger Marinade 10 oz.","RETAIL",100]
[null,{"$f":"Table_prices[[#This Row],[ITEMNMBR]]","v":0},"Barefoot Contessa Lemon Curd 9.5 oz.","RETAIL",100]
[null,{"$f":"Table_prices[[#This Row],[ITEMNMBR]]","v":0},"Barefoot Contessa Lemon Pound Cake & Glaze 22.4 oz.","RETAIL",100]
[null,{"$f":"Table_prices[[#This Row],[ITEMNMBR]]","v":0},"Barefoot Contessa Mixed Berry Preserves 10 oz.","RETAIL",100]
[null,{"$f":"Table_prices[[#This Row],[ITEMNMBR]]","v":0},"Barefoot Contessa Outrageous Brownie Mix 20.8 oz.","RETAIL",100]
[null,{"$f":"Table_prices[[#This Row],[ITEMNMBR]]","v":0},"Barefoot Contessa Peanutbutter Chocolate Chunk Cookie Mix 24.8 oz.","RETAIL",100]
[null,{"$f":"Table_prices[[#This Row],[ITEMNMBR]]","v":0},"Barefoot Contessa Spatula","RETAIL",100]
[null,{"$f":"Table_prices[[#This Row],[ITEMNMBR]]","v":0},"Barefoot Contessa Tequila Lime Marinade 10 oz.","RETAIL",100]
[null,{"$f":"Table_prices[[#This Row],[ITEMNMBR]]","v":0},"Stonewall Kitchen Honey Mustard Pretzel Dip 8 oz","RETAIL",100]
[null,{"$f":"Table_prices[[#This Row],[ITEMNMBR]]","v":0},"Stonewall Kitchen Roasted Garlic Peanut","RETAIL",100]
[null,{"$f":"Table_prices[[#This Row],[ITEMNMBR]]","v":0},"Stonewall Kitchen Steak & Barbecue Rub3.5oz","RETAIL",100]
[null,{"$f":"Table_prices[[#This Row],[ITEMNMBR]]","v":0},"Chocolate Cupcake mix w/frosting by Barefoot Contessa - 29.8oz. -","RETAIL",100]
[null,{"$f":"Table_prices[[#This Row],[ITEMNMBR]]","v":0},"Simple White Crackers 2oz","RETAIL",100]
[null,{"$f":"Table_prices[[#This Row],[ITEMNMBR]]","v":0},"Stonewall Kitchen Mushroom Risotto Mix 6 oz","RETAIL",100]
[null,{"$f":"Table_prices[[#This Row],[ITEMNMBR]]","v":0},"Cheddar Herb Biscuit Mix by Stonewall Kitchen - 12 oz. -","RETAIL",100]
[null,{"$f":"Table_prices[[#This Row],[ITEMNMBR]]","v":0},"Barefoot Contessa Maple Teriyaki","RETAIL",100]
[null,{"$f":"Table_prices[[#This Row],[ITEMNMBR]]","v":0},"Barefoot Contessa Tuscan Marinade","RETAIL",100]
[null,{"$f":"Table_prices[[#This Row],[ITEMNMBR]]","v":0},"Barefoot Contessa Strawberry Preserves 10 oz.","RETAIL",100]
[null,{"$f":"Table_prices[[#This Row],[ITEMNMBR]]","v":0},"Traditional Scone Mix","RETAIL",100]
[null,{"$f":"Table_prices[[#This Row],[ITEMNMBR]]","v":0},"Stonewall Kitchen Mimosa Elixir 24oz","RETAIL",100]
[null,{"$f":"Table_prices[[#This Row],[ITEMNMBR]]","v":0},"Horseradish Mustard by Stonewall Kitchen - 3.5 oz. -","RETAIL",100]
[null,{"$f":"Table_prices[[#This Row],[ITEMNMBR]]","v":0},"Sour Cream Coffee Cake Mix by The Barefoot Contessa - 37.3 oz. -","RETAIL",100]
[null,{"$f":"Table_prices[[#This Row],[ITEMNMBR]]","v":0},"Ina's Favorite Coffee by The Barefoot Contessa - 16 oz. -","RETAIL",100]
[null,{"$f":"Table_prices[[#This Row],[ITEMNMBR]]","v":0},"Chocolate Chunk Cookies by Barefoot Contessa - 17.4 oz. -","RETAIL",100]
[null,{"$f":"Table_prices[[#This Row],[ITEMNMBR]]","v":0},"Lemon Bar Mix by The Barefoot Contessa - 38.6 oz. -","RETAIL",100]
[null,{"$f":"Table_prices[[#This Row],[ITEMNMBR]]","v":0},"Gluten Free Brownie Mix by Stonewall Kitchen - 17.5 oz. -","RETAIL",100]
[null,{"$f":"Table_prices[[#This Row],[ITEMNMBR]]","v":0},"Baked Goods Sampler Box","RETAIL",100]
[null,{"$f":"Table_prices[[#This Row],[ITEMNMBR]]","v":0},"Hickory & Maple Smoked Cheese by Sugarbush Farm - 8 oz. -","RETAIL",100]
[null,{"$f":"Table_prices[[#This Row],[ITEMNMBR]]","v":0},"Hickory & Maple Smoked Cheese by Sugarbush Farm - 4 oz. -","RETAIL",100]
[null,{"$f":"Table_prices[[#This Row],[ITEMNMBR]]","v":0},"Gourmet Jelly Beans by Summit Foods - 3 oz. -","RETAIL",100]
[null,{"$f":"Table_prices[[#This Row],[ITEMNMBR]]","v":0},"Summit Foods Truly Fruit 3.1 oz.","RETAIL",100]
[null,{"$f":"Table_prices[[#This Row],[ITEMNMBR]]","v":0},"Smarties by Summit Foods - 3.5 oz. -","RETAIL",100]
[null,{"$f":"Table_prices[[#This Row],[ITEMNMBR]]","v":0},"Summit Foods Gourmet Gummie Bears","RETAIL",100]
[null,{"$f":"Table_prices[[#This Row],[ITEMNMBR]]","v":0},"Summit Foods Gourmet Twizzlers Theater Box","RETAIL",100]
[null,{"$f":"Table_prices[[#This Row],[ITEMNMBR]]","v":0},"Summit Foods Gourmet Mike & Ikes","RETAIL",100]
[null,{"$f":"Table_prices[[#This Row],[ITEMNMBR]]","v":0},"Summit Foods Sour Neon Worms 4.5 oz.","RETAIL",100]
[null,{"$f":"Table_prices[[#This Row],[ITEMNMBR]]","v":0},"Chocolate Chip Cookie Dough Bites by Summit Foods - 3.5 oz. -","RETAIL",100]
[null,{"$f":"Table_prices[[#This Row],[ITEMNMBR]]","v":0},"Summit Foods Drk Choc Non pareils Theater Box 3.5oz","RETAIL",100]
[null,{"$f":"Table_prices[[#This Row],[ITEMNMBR]]","v":0},"Sunflower Foods Deluxe 3-Cheese Snacks 8 oz.","RETAIL",100]
[null,{"$f":"Table_prices[[#This Row],[ITEMNMBR]]","v":0},"Sunflower Foods Frosted Pretzel Balls 6 oz.","RETAIL",100]
[null,{"$f":"Table_prices[[#This Row],[ITEMNMBR]]","v":0},"Sunflower Foods Hunter Mulling Spice 5 oz.","RETAIL",100]
[null,{"$f":"Table_prices[[#This Row],[ITEMNMBR]]","v":0},"Sunflower Foods Sunflower Cookies 5 oz.","RETAIL",100]
[null,{"$f":"Table_prices[[#This Row],[ITEMNMBR]]","v":0},"Sunflower Foods Sunflower Nuts - Honey Roasted 6 oz.","RETAIL",100]
[null,{"$f":"Table_prices[[#This Row],[ITEMNMBR]]","v":0},"Sunny Seed Drops by Sunflower Foods - 3 oz. -","RETAIL",100]
[null,{"$f":"Table_prices[[#This Row],[ITEMNMBR]]","v":0}," Fruity Tooty Silly Seeds by Sunflower Foods - 2 oz. -","RETAIL",100]
[null,{"$f":"Table_prices[[#This Row],[ITEMNMBR]]","v":0},"Sunny Seed Drops by Sunflower Food Co. - 1.5 oz. -","RETAIL",100]
[null,{"$f":"Table_prices[[#This Row],[ITEMNMBR]]","v":0},"Sup Choc Blum's Milk Choco Dipped Cookies 2 oz.","RETAIL",100]
[null,{"$f":"Table_prices[[#This Row],[ITEMNMBR]]","v":0},"Supreme Chocolatier Blum's Gourmet Milk Chocolate Dipped Cookies 4 oz.","RETAIL",100]
[null,{"$f":"Table_prices[[#This Row],[ITEMNMBR]]","v":0},"Milk Chocolate Covered Pretzels by Blum's - 1.5 oz. -","RETAIL",100]
[null,{"$f":"Table_prices[[#This Row],[ITEMNMBR]]","v":0},"Supreme Chocolatier Blum's Gourmet Milk Chocolate Dipped Pretzels 3.5 oz.","RETAIL",100]
[null,{"$f":"Table_prices[[#This Row],[ITEMNMBR]]","v":0},"Dark Chocolate Bavarian Mints by House of Bauer - 1.5 oz. -","RETAIL",100]
[null,{"$f":"Table_prices[[#This Row],[ITEMNMBR]]","v":0},"Milk Chocolate Bavarian Mints by House of Bauer - 1.5 oz. -","RETAIL",100]
[null,{"$f":"Table_prices[[#This Row],[ITEMNMBR]]","v":0},"Supreme Chocolatier The House of Bauer Milk Chocolate Bavarian Mints 5 oz.","RETAIL",100]
[null,{"$f":"Table_prices[[#This Row],[ITEMNMBR]]","v":0},"Dark Chocolate Dipped Cookies by Supreme Chocolatier - 2 oz. -","RETAIL",100]
[null,{"$f":"Table_prices[[#This Row],[ITEMNMBR]]","v":0},"Supreme Chocolatier  Bavarian Hazelnut Meltaways 2oz","RETAIL",100]
[null,{"$f":"Table_prices[[#This Row],[ITEMNMBR]]","v":0},"Sweet Mavens Biscotti - Anise Almond 4 oz","RETAIL",100]
[null,{"$f":"Table_prices[[#This Row],[ITEMNMBR]]","v":0},"Sweet Mavens Biscotti - Mad about Mocha 4 oz","RETAIL",100]
[null,{"$f":"Table_prices[[#This Row],[ITEMNMBR]]","v":0},"Sweet Mavens Biscotti - Single Serve Anise Almond 1.3 oz","RETAIL",100]
[null,{"$f":"Table_prices[[#This Row],[ITEMNMBR]]","v":0},"Sweet Mavens Biscotti - Two Pack Anise Almond 2.6 oz","RETAIL",100]
[null,{"$f":"Table_prices[[#This Row],[ITEMNMBR]]","v":0},"Sweet Mavens Biscotti - Single serve Cranberry Ginger Biscotti 1.3 oz","RETAIL",100]
[null,{"$f":"Table_prices[[#This Row],[ITEMNMBR]]","v":0},"Sweet Mavens Biscotti - Single serve Golden Apricot White Chocolate 1.3 oz","RETAIL",100]
[null,{"$f":"Table_prices[[#This Row],[ITEMNMBR]]","v":0},"Sweet Mavens Biscotti - Single Serve Divine Indulgence Chocolate Biscotti 1.3 oz","RETAIL",100]
[null,{"$f":"Table_prices[[#This Row],[ITEMNMBR]]","v":0},"Sweet Co. Dark Orange Sticks 4.1oz","RETAIL",100]
[null,{"$f":"Table_prices[[#This Row],[ITEMNMBR]]","v":0},"Dark Chocolate Raspberry Sticks by Sweets Candy Co. - 4.1 oz. -","RETAIL",100]
[null,{"$f":"Table_prices[[#This Row],[ITEMNMBR]]","v":0},"Sweets Champagne Sticks","RETAIL",100]
[null,{"$f":"Table_prices[[#This Row],[ITEMNMBR]]","v":0},"Cabernet Sticks by Sweet Candy Co. - 3.5 oz. -","RETAIL",100]
[null,{"$f":"Table_prices[[#This Row],[ITEMNMBR]]","v":0},"Milk Chocolate Orange Sticks by Sweet Candy Company - 4.1 oz. -","RETAIL",100]
[null,{"$f":"Table_prices[[#This Row],[ITEMNMBR]]","v":0},"Candy Cane Twist Box 8 oz","RETAIL",100]
[null,{"$f":"Table_prices[[#This Row],[ITEMNMBR]]","v":0},"A Little Pink Me Up","RETAIL",80]
[null,{"$f":"Table_prices[[#This Row],[ITEMNMBR]]","v":0},"Serene Retreat","RETAIL",74.989999999999995]
[null,{"$f":"Table_prices[[#This Row],[ITEMNMBR]]","v":0},"Simply Elegant Spathiphyllum - Small","RETAIL",42.99]
[null,{"$f":"Table_prices[[#This Row],[ITEMNMBR]]","v":0},"Simply Elegant Spathiphyllum","RETAIL",57.99]
[null,{"$f":"Table_prices[[#This Row],[ITEMNMBR]]","v":0},"Hugs and Kisses","RETAIL",50]
[null,{"$f":"Table_prices[[#This Row],[ITEMNMBR]]","v":0},"Daisy Daydreams","RETAIL",40]
[null,{"$f":"Table_prices[[#This Row],[ITEMNMBR]]","v":0},"Be My Love","RETAIL",60]
[null,{"$f":"Table_prices[[#This Row],[ITEMNMBR]]","v":0},"Teleflora's Possibly Pink","RETAIL",60]
[null,{"$f":"Table_prices[[#This Row],[ITEMNMBR]]","v":0},"Passionate Purple Tulips","RETAIL",55]
[null,{"$f":"Table_prices[[#This Row],[ITEMNMBR]]","v":0},"Sunny Sunflowers","RETAIL",55]
[null,{"$f":"Table_prices[[#This Row],[ITEMNMBR]]","v":0},"Gerbera Bright","RETAIL",60]
[null,{"$f":"Table_prices[[#This Row],[ITEMNMBR]]","v":0},"End of the Rainbow","RETAIL",75]
[null,{"$f":"Table_prices[[#This Row],[ITEMNMBR]]","v":0},"Beautiful In Blue","RETAIL",75]
[null,{"$f":"Table_prices[[#This Row],[ITEMNMBR]]","v":0},"A Full Life","RETAIL",105]
[null,{"$f":"Table_prices[[#This Row],[ITEMNMBR]]","v":0},"Medium Dish Garden","RETAIL",82.99]
[null,{"$f":"Table_prices[[#This Row],[ITEMNMBR]]","v":0},"Basket of Memories","RETAIL",95]
[null,{"$f":"Table_prices[[#This Row],[ITEMNMBR]]","v":0},"Peaceful White Lilies Basket","RETAIL",90]
[null,{"$f":"Table_prices[[#This Row],[ITEMNMBR]]","v":0},"Ocean Breeze Spray","RETAIL",165]
[null,{"$f":"Table_prices[[#This Row],[ITEMNMBR]]","v":0},"Pink Tribute Spray","RETAIL",105]
[null,{"$f":"Table_prices[[#This Row],[ITEMNMBR]]","v":0},"Basket Full of Wishes","RETAIL",65]
[null,{"$f":"Table_prices[[#This Row],[ITEMNMBR]]","v":0},"Teleflora's Brilliant Birthday Blooms","RETAIL",55]
[null,{"$f":"Table_prices[[#This Row],[ITEMNMBR]]","v":0},"Cotton Candy","RETAIL",55]
[null,{"$f":"Table_prices[[#This Row],[ITEMNMBR]]","v":0},"Garden Parade","RETAIL",70]
[null,{"$f":"Table_prices[[#This Row],[ITEMNMBR]]","v":0},"Teleflora's Sunny Smiles","RETAIL",55]
[null,{"$f":"Table_prices[[#This Row],[ITEMNMBR]]","v":0},"Teleflora's Be Happy Bouquet","RETAIL",50]
[null,{"$f":"Table_prices[[#This Row],[ITEMNMBR]]","v":0},"Teleflora's Be Happy Bouquet Deluxe","RETAIL",70]
[null,{"$f":"Table_prices[[#This Row],[ITEMNMBR]]","v":0},"How Sweet It Is","RETAIL",50]
[null,{"$f":"Table_prices[[#This Row],[ITEMNMBR]]","v":0},"How Sweet It Is Deluxe","RETAIL",70]
[null,{"$f":"Table_prices[[#This Row],[ITEMNMBR]]","v":0},"Fiery Lily and Rose","RETAIL",80]
[null,{"$f":"Table_prices[[#This Row],[ITEMNMBR]]","v":0},"Teleflora's Uniquely Chic","RETAIL",70]
[null,{"$f":"Table_prices[[#This Row],[ITEMNMBR]]","v":0},"Jumping For Joy","RETAIL",47.5]
[null,{"$f":"Table_prices[[#This Row],[ITEMNMBR]]","v":0},"Lavish Love","RETAIL",95]
[null,{"$f":"Table_prices[[#This Row],[ITEMNMBR]]","v":0},"Enchanted Cottage","RETAIL",65]
[null,{"$f":"Table_prices[[#This Row],[ITEMNMBR]]","v":0},"Sweet As Sugar by Teleflora","RETAIL",75]
[null,{"$f":"Table_prices[[#This Row],[ITEMNMBR]]","v":0},"Love and Laughter","RETAIL",60]
[null,{"$f":"Table_prices[[#This Row],[ITEMNMBR]]","v":0},"Arrive In Style","RETAIL",50]
[null,{"$f":"Table_prices[[#This Row],[ITEMNMBR]]","v":0},"Isle of White","RETAIL",70]
[null,{"$f":"Table_prices[[#This Row],[ITEMNMBR]]","v":0},"Always On My Mind","RETAIL",85]
[null,{"$f":"Table_prices[[#This Row],[ITEMNMBR]]","v":0},"Teleflora's Morning Melody","RETAIL",50]
[null,{"$f":"Table_prices[[#This Row],[ITEMNMBR]]","v":0},"Always A Lady","RETAIL",90]
[null,{"$f":"Table_prices[[#This Row],[ITEMNMBR]]","v":0},"Zen Artistry","RETAIL",60]
[null,{"$f":"Table_prices[[#This Row],[ITEMNMBR]]","v":0},"Isn't It Romantic","RETAIL",105]
[null,{"$f":"Table_prices[[#This Row],[ITEMNMBR]]","v":0},"Violets and Butterflies","RETAIL",50]
[null,{"$f":"Table_prices[[#This Row],[ITEMNMBR]]","v":0},"Spring Has Sprung","RETAIL",59.99]
[null,{"$f":"Table_prices[[#This Row],[ITEMNMBR]]","v":0},"Coke Barbeque 5 Piece Set","RETAIL",100]
[null,{"$f":"Table_prices[[#This Row],[ITEMNMBR]]","v":0},"Taggies Taggie Crib Blanket - Sunny Day","RETAIL",100]
[null,{"$f":"Table_prices[[#This Row],[ITEMNMBR]]","v":0},"Taggies Taggie Pillow - Sunny Day","RETAIL",100]
[null,{"$f":"Table_prices[[#This Row],[ITEMNMBR]]","v":0},"Taggies Taggie \"Sweet Dreams\" Book","RETAIL",100]
[null,{"$f":"Table_prices[[#This Row],[ITEMNMBR]]","v":0},"Milk Chocolate Covered Pretzels by Tapestry - 6 oz. -","RETAIL",100]
[null,{"$f":"Table_prices[[#This Row],[ITEMNMBR]]","v":0},"Taxi's Dog Bakery Cookie Tray 16pc.","RETAIL",100]
[null,{"$f":"Table_prices[[#This Row],[ITEMNMBR]]","v":0},"Cover Arrangement","RETAIL",100]
[null,{"$f":"Table_prices[[#This Row],[ITEMNMBR]]","v":0},"Fresh Memories","RETAIL",100]
[null,{"$f":"Table_prices[[#This Row],[ITEMNMBR]]","v":0},"Permanent Wreath","RETAIL",100]
[null,{"$f":"Table_prices[[#This Row],[ITEMNMBR]]","v":0},"Permanent Centerpiece","RETAIL",100]
[null,{"$f":"Table_prices[[#This Row],[ITEMNMBR]]","v":0},"Permanent Angel Arrangement","RETAIL",100]
[null,{"$f":"Table_prices[[#This Row],[ITEMNMBR]]","v":0},"Holiday Planter Basket","RETAIL",100]
[null,{"$f":"Table_prices[[#This Row],[ITEMNMBR]]","v":0},"Winter Greens Basket","RETAIL",100]
[null,{"$f":"Table_prices[[#This Row],[ITEMNMBR]]","v":0},"Christmas Cactus","RETAIL",100]
[null,{"$f":"Table_prices[[#This Row],[ITEMNMBR]]","v":0},"Paperwhite Narcissus","RETAIL",100]
[null,{"$f":"Table_prices[[#This Row],[ITEMNMBR]]","v":0},"Large Red Poinsettia","RETAIL",100]
[null,{"$f":"Table_prices[[#This Row],[ITEMNMBR]]","v":0},"White Poinsettia","RETAIL",100]
[null,{"$f":"Table_prices[[#This Row],[ITEMNMBR]]","v":0},"Poinsettia Basket","RETAIL",100]
[null,{"$f":"Table_prices[[#This Row],[ITEMNMBR]]","v":0},"Fabulous Fruit Basket","RETAIL",100]
[null,{"$f":"Table_prices[[#This Row],[ITEMNMBR]]","v":0},"Tower of Fruit","RETAIL",100]
[null,{"$f":"Table_prices[[#This Row],[ITEMNMBR]]","v":0},"Fruit & Gourmet Basket","RETAIL",100]
[null,{"$f":"Table_prices[[#This Row],[ITEMNMBR]]","v":0},"Brighten Your Day","RETAIL",100]
[null,{"$f":"Table_prices[[#This Row],[ITEMNMBR]]","v":0},"Balloons & A Boost","RETAIL",100]
[null,{"$f":"Table_prices[[#This Row],[ITEMNMBR]]","v":0},"Be Happy Bouquet","RETAIL",0]
[null,{"$f":"Table_prices[[#This Row],[ITEMNMBR]]","v":0},"Yellow Flower Basket","RETAIL",100]
[null,{"$f":"Table_prices[[#This Row],[ITEMNMBR]]","v":0},"Touch of Butterflies","RETAIL",100]
[null,{"$f":"Table_prices[[#This Row],[ITEMNMBR]]","v":0},"Bring on the Cheer","RETAIL",100]
[null,{"$f":"Table_prices[[#This Row],[ITEMNMBR]]","v":0},"Sunny Days","RETAIL",100]
[null,{"$f":"Table_prices[[#This Row],[ITEMNMBR]]","v":0},"Wishing You Well","RETAIL",100]
[null,{"$f":"Table_prices[[#This Row],[ITEMNMBR]]","v":0},"Pink Roses Teacup Bouquet","RETAIL",100]
[null,{"$f":"Table_prices[[#This Row],[ITEMNMBR]]","v":0},"Garden Comforts","RETAIL",100]
[null,{"$f":"Table_prices[[#This Row],[ITEMNMBR]]","v":0},"Orchid Cheer","RETAIL",100]
[null,{"$f":"Table_prices[[#This Row],[ITEMNMBR]]","v":0},"Red Roses & Stargazers","RETAIL",100]
[null,{"$f":"Table_prices[[#This Row],[ITEMNMBR]]","v":0},"White Roses","RETAIL",100]
[null,{"$f":"Table_prices[[#This Row],[ITEMNMBR]]","v":0},"Two Dozen Red Roses","RETAIL",100]
[null,{"$f":"Table_prices[[#This Row],[ITEMNMBR]]","v":0},"Red Roses & Dendrobiums","RETAIL",100]
[null,{"$f":"Table_prices[[#This Row],[ITEMNMBR]]","v":0},"White Roses & Lilies","RETAIL",100]
[null,{"$f":"Table_prices[[#This Row],[ITEMNMBR]]","v":0},"Dinner Table Centerpiece","RETAIL",100]
[null,{"$f":"Table_prices[[#This Row],[ITEMNMBR]]","v":0},"White & Blue Bouquet","RETAIL",100]
[null,{"$f":"Table_prices[[#This Row],[ITEMNMBR]]","v":0},"Phalaenopsis Orchid Plant","RETAIL",100]
[null,{"$f":"Table_prices[[#This Row],[ITEMNMBR]]","v":0},"Anniversary Bouquet","RETAIL",100]
[null,{"$f":"Table_prices[[#This Row],[ITEMNMBR]]","v":0},"Silver Mint Julep Bouquet","RETAIL",100]
[null,{"$f":"Table_prices[[#This Row],[ITEMNMBR]]","v":0},"Hot Pink Basket","RETAIL",100]
[null,{"$f":"Table_prices[[#This Row],[ITEMNMBR]]","v":0},"Basket of Smiles","RETAIL",100]
[null,{"$f":"Table_prices[[#This Row],[ITEMNMBR]]","v":0},"Thank You Basket","RETAIL",100]
[null,{"$f":"Table_prices[[#This Row],[ITEMNMBR]]","v":0},"Spathiphyllum Plant","RETAIL",100]
[null,{"$f":"Table_prices[[#This Row],[ITEMNMBR]]","v":0},"Mixed Bouquet in Ivy Bowl","RETAIL",100]
[null,{"$f":"Table_prices[[#This Row],[ITEMNMBR]]","v":0},"Plant & Flower Combination","RETAIL",100]
[null,{"$f":"Table_prices[[#This Row],[ITEMNMBR]]","v":0},"Parallel Vegetative","RETAIL",100]
[null,{"$f":"Table_prices[[#This Row],[ITEMNMBR]]","v":0},"Deluxe European Garden Basket","RETAIL",100]
[null,{"$f":"Table_prices[[#This Row],[ITEMNMBR]]","v":0},"Azalea Attraction Garden Basket","RETAIL",100]
[null,{"$f":"Table_prices[[#This Row],[ITEMNMBR]]","v":0},"European Garden Basket","RETAIL",100]
[null,{"$f":"Table_prices[[#This Row],[ITEMNMBR]]","v":0},"Petite European Basket","RETAIL",100]
[null,{"$f":"Table_prices[[#This Row],[ITEMNMBR]]","v":0},"Purple African Violet","RETAIL",100]
[null,{"$f":"Table_prices[[#This Row],[ITEMNMBR]]","v":0},"Mixed African Violet Basket","RETAIL",100]
[null,{"$f":"Table_prices[[#This Row],[ITEMNMBR]]","v":0},"Terrarium","RETAIL",100]
[null,{"$f":"Table_prices[[#This Row],[ITEMNMBR]]","v":0},"Blue Hydrangea","RETAIL",100]
[null,{"$f":"Table_prices[[#This Row],[ITEMNMBR]]","v":0},"Delphinium Dreams","RETAIL",100]
[null,{"$f":"Table_prices[[#This Row],[ITEMNMBR]]","v":0},"Sensational Cyclamen","RETAIL",100]
[null,{"$f":"Table_prices[[#This Row],[ITEMNMBR]]","v":0},"Vivacious Violets","RETAIL",100]
[null,{"$f":"Table_prices[[#This Row],[ITEMNMBR]]","v":0},"Pink Kalanchoe","RETAIL",100]
[null,{"$f":"Table_prices[[#This Row],[ITEMNMBR]]","v":0},"Azalea Topiary","RETAIL",100]
[null,{"$f":"Table_prices[[#This Row],[ITEMNMBR]]","v":0},"Pink Azalea","RETAIL",100]
[null,{"$f":"Table_prices[[#This Row],[ITEMNMBR]]","v":0},"Yellow Miniature Roses","RETAIL",100]
[null,{"$f":"Table_prices[[#This Row],[ITEMNMBR]]","v":0},"Purple Chrysanthemum","RETAIL",100]
[null,{"$f":"Table_prices[[#This Row],[ITEMNMBR]]","v":0},"Lavender Chrysanthemum","RETAIL",100]
[null,{"$f":"Table_prices[[#This Row],[ITEMNMBR]]","v":0},"Large Spathiphyllum Plant","RETAIL",100]
[null,{"$f":"Table_prices[[#This Row],[ITEMNMBR]]","v":0},"Small Spathiphyllum Plant","RETAIL",100]
[null,{"$f":"Table_prices[[#This Row],[ITEMNMBR]]","v":0},"Medium Spathiphyllum Plant","RETAIL",100]
[null,{"$f":"Table_prices[[#This Row],[ITEMNMBR]]","v":0},"Xanadu Philodendron","RETAIL",100]
[null,{"$f":"Table_prices[[#This Row],[ITEMNMBR]]","v":0},"Proud Pothos","RETAIL",100]
[null,{"$f":"Table_prices[[#This Row],[ITEMNMBR]]","v":0},"Ivy Topiary","RETAIL",100]
[null,{"$f":"Table_prices[[#This Row],[ITEMNMBR]]","v":0},"Dieffenbachia","RETAIL",100]
[null,{"$f":"Table_prices[[#This Row],[ITEMNMBR]]","v":0},"Aglaonema","RETAIL",100]
[null,{"$f":"Table_prices[[#This Row],[ITEMNMBR]]","v":0},"Decorative Fern","RETAIL",100]
[null,{"$f":"Table_prices[[#This Row],[ITEMNMBR]]","v":0},"Parlor Palm","RETAIL",100]
[null,{"$f":"Table_prices[[#This Row],[ITEMNMBR]]","v":0},"Areca Palm","RETAIL",100]
[null,{"$f":"Table_prices[[#This Row],[ITEMNMBR]]","v":0},"Ficus Tree","RETAIL",100]
[null,{"$f":"Table_prices[[#This Row],[ITEMNMBR]]","v":0},"Ficus Bush","RETAIL",100]
[null,{"$f":"Table_prices[[#This Row],[ITEMNMBR]]","v":0},"Arboricola","RETAIL",100]
[null,{"$f":"Table_prices[[#This Row],[ITEMNMBR]]","v":0},"Schefflera","RETAIL",100]
[null,{"$f":"Table_prices[[#This Row],[ITEMNMBR]]","v":0},"Large Basket Garden","RETAIL",100]
[null,{"$f":"Table_prices[[#This Row],[ITEMNMBR]]","v":0},"Medium Dish Garden","RETAIL",100]
[null,{"$f":"Table_prices[[#This Row],[ITEMNMBR]]","v":0},"Small Garden Dish","RETAIL",100]
[null,{"$f":"Table_prices[[#This Row],[ITEMNMBR]]","v":0},"Kalanchoe & Ivy Basket","RETAIL",100]
[null,{"$f":"Table_prices[[#This Row],[ITEMNMBR]]","v":0},"White Garden","RETAIL",100]
[null,{"$f":"Table_prices[[#This Row],[ITEMNMBR]]","v":0},"Dish Garden with Pinks","RETAIL",100]
[null,{"$f":"Table_prices[[#This Row],[ITEMNMBR]]","v":0},"French Countryside","RETAIL",100]
[null,{"$f":"Table_prices[[#This Row],[ITEMNMBR]]","v":0},"Dendrobium Orchid","RETAIL",100]
[null,{"$f":"Table_prices[[#This Row],[ITEMNMBR]]","v":0},"Yellow Oncidium Orchid","RETAIL",100]
[null,{"$f":"Table_prices[[#This Row],[ITEMNMBR]]","v":0},"White Phalaenopsis Orchid","RETAIL",100]
[null,{"$f":"Table_prices[[#This Row],[ITEMNMBR]]","v":0},"Lavender Phalaenopsis Orchid","RETAIL",100]
[null,{"$f":"Table_prices[[#This Row],[ITEMNMBR]]","v":0},"Exotic Bromeliad","RETAIL",100]
[null,{"$f":"Table_prices[[#This Row],[ITEMNMBR]]","v":0},"Cactus Garden","RETAIL",100]
[null,{"$f":"Table_prices[[#This Row],[ITEMNMBR]]","v":0},"Tropical Bromeliad","RETAIL",100]
[null,{"$f":"Table_prices[[#This Row],[ITEMNMBR]]","v":0},"Distinguished Delphinium","RETAIL",100]
[null,{"$f":"Table_prices[[#This Row],[ITEMNMBR]]","v":0},"Iris Garden","RETAIL",100]
[null,{"$f":"Table_prices[[#This Row],[ITEMNMBR]]","v":0},"Red Gerbera Collection","RETAIL",100]
[null,{"$f":"Table_prices[[#This Row],[ITEMNMBR]]","v":0},"Yellow Garden Rows","RETAIL",100]
[null,{"$f":"Table_prices[[#This Row],[ITEMNMBR]]","v":0},"Shades of Green","RETAIL",100]
[null,{"$f":"Table_prices[[#This Row],[ITEMNMBR]]","v":0},"Memories of Paradise","RETAIL",100]
[null,{"$f":"Table_prices[[#This Row],[ITEMNMBR]]","v":0},"Simplicity of Anthuriums","RETAIL",100]
[null,{"$f":"Table_prices[[#This Row],[ITEMNMBR]]","v":0},"Protea Paradise","RETAIL",100]
[null,{"$f":"Table_prices[[#This Row],[ITEMNMBR]]","v":0},"Tropical Beauty","RETAIL",100]
[null,{"$f":"Table_prices[[#This Row],[ITEMNMBR]]","v":0},"Simple Pleasures","RETAIL",100]
[null,{"$f":"Table_prices[[#This Row],[ITEMNMBR]]","v":0},"Yellow & Lavender Delight","RETAIL",100]
[null,{"$f":"Table_prices[[#This Row],[ITEMNMBR]]","v":0},"Sweet Sentiments","RETAIL",100]
[null,{"$f":"Table_prices[[#This Row],[ITEMNMBR]]","v":0},"Artful Orchids","RETAIL",100]
[null,{"$f":"Table_prices[[#This Row],[ITEMNMBR]]","v":0},"Gracious Curve","RETAIL",100]
[null,{"$f":"Table_prices[[#This Row],[ITEMNMBR]]","v":0},"Pavé Texture Square","RETAIL",100]
[null,{"$f":"Table_prices[[#This Row],[ITEMNMBR]]","v":0},"Bronze Callas","RETAIL",100]
[null,{"$f":"Table_prices[[#This Row],[ITEMNMBR]]","v":0},"Gloriosa Under Glass","RETAIL",100]
[null,{"$f":"Table_prices[[#This Row],[ITEMNMBR]]","v":0},"Tulip Under Glass","RETAIL",100]
[null,{"$f":"Table_prices[[#This Row],[ITEMNMBR]]","v":0},"Classic Fruit & Gourmet","RETAIL",100]
[null,{"$f":"Table_prices[[#This Row],[ITEMNMBR]]","v":0},"Grande Gourmet Fruit Basket","RETAIL",100]
[null,{"$f":"Table_prices[[#This Row],[ITEMNMBR]]","v":0},"Gourmet Picnic Basket","RETAIL",100]
[null,{"$f":"Table_prices[[#This Row],[ITEMNMBR]]","v":0},"Plant and Fruit Basket","RETAIL",100]
[null,{"$f":"Table_prices[[#This Row],[ITEMNMBR]]","v":0},"Chocolate Lovers Basket","RETAIL",100]
[null,{"$f":"Table_prices[[#This Row],[ITEMNMBR]]","v":0},"Fruits and Flowers Basket","RETAIL",100]
[null,{"$f":"Table_prices[[#This Row],[ITEMNMBR]]","v":0},"Delightful Fruit Tray","RETAIL",100]
[null,{"$f":"Table_prices[[#This Row],[ITEMNMBR]]","v":0},"Junk Food Bucket","RETAIL",100]
[null,{"$f":"Table_prices[[#This Row],[ITEMNMBR]]","v":0},"Healthy Gourmet Basket","RETAIL",100]
[null,{"$f":"Table_prices[[#This Row],[ITEMNMBR]]","v":0},"Sunshine Thoughts","RETAIL",100]
[null,{"$f":"Table_prices[[#This Row],[ITEMNMBR]]","v":0},"Blues for You","RETAIL",100]
[null,{"$f":"Table_prices[[#This Row],[ITEMNMBR]]","v":0},"Passionate Reds","RETAIL",100]
[null,{"$f":"Table_prices[[#This Row],[ITEMNMBR]]","v":0},"Colorful Sensation","RETAIL",100]
[null,{"$f":"Table_prices[[#This Row],[ITEMNMBR]]","v":0},"Sweet Reminder","RETAIL",100]
[null,{"$f":"Table_prices[[#This Row],[ITEMNMBR]]","v":0},"Flower Surge","RETAIL",100]
[null,{"$f":"Table_prices[[#This Row],[ITEMNMBR]]","v":0},"Most Memorable Tribute","RETAIL",100]
[null,{"$f":"Table_prices[[#This Row],[ITEMNMBR]]","v":0},"Sentiments Bouquet","RETAIL",100]
[null,{"$f":"Table_prices[[#This Row],[ITEMNMBR]]","v":0},"Caring Touch","RETAIL",100]
[null,{"$f":"Table_prices[[#This Row],[ITEMNMBR]]","v":0},"Warm Thoughts Arrangement","RETAIL",100]
[null,{"$f":"Table_prices[[#This Row],[ITEMNMBR]]","v":0},"Vivid Sentiments","RETAIL",100]
[null,{"$f":"Table_prices[[#This Row],[ITEMNMBR]]","v":0},"Loving Memories","RETAIL",100]
[null,{"$f":"Table_prices[[#This Row],[ITEMNMBR]]","v":0},"Elaborate Expressions Vase","RETAIL",100]
[null,{"$f":"Table_prices[[#This Row],[ITEMNMBR]]","v":0},"Thoughtful Expressions","RETAIL",100]
[null,{"$f":"Table_prices[[#This Row],[ITEMNMBR]]","v":0},"Colorful Comfort","RETAIL",100]
[null,{"$f":"Table_prices[[#This Row],[ITEMNMBR]]","v":0},"Bright Messages","RETAIL",100]
[null,{"$f":"Table_prices[[#This Row],[ITEMNMBR]]","v":0},"Loving Tribute","RETAIL",100]
[null,{"$f":"Table_prices[[#This Row],[ITEMNMBR]]","v":0},"Spring Remembrance Basket","RETAIL",100]
[null,{"$f":"Table_prices[[#This Row],[ITEMNMBR]]","v":0},"Lavender Reminder Basket","RETAIL",100]
[null,{"$f":"Table_prices[[#This Row],[ITEMNMBR]]","v":0},"White Simplicity Basket","RETAIL",100]
[null,{"$f":"Table_prices[[#This Row],[ITEMNMBR]]","v":0},"Hopeful Pink Basket","RETAIL",100]
[null,{"$f":"Table_prices[[#This Row],[ITEMNMBR]]","v":0},"Vibrant Yellow Basket","RETAIL",100]
[null,{"$f":"Table_prices[[#This Row],[ITEMNMBR]]","v":0},"Ray of Hope Arrangement","RETAIL",100]
[null,{"$f":"Table_prices[[#This Row],[ITEMNMBR]]","v":0},"Basket of Faith","RETAIL",100]
[null,{"$f":"Table_prices[[#This Row],[ITEMNMBR]]","v":0},"Tropical Reflections","RETAIL",100]
[null,{"$f":"Table_prices[[#This Row],[ITEMNMBR]]","v":0},"Rainbow Basket","RETAIL",100]
[null,{"$f":"Table_prices[[#This Row],[ITEMNMBR]]","v":0},"Garden Gathering Basket","RETAIL",100]
[null,{"$f":"Table_prices[[#This Row],[ITEMNMBR]]","v":0},"Fireside Basket","RETAIL",100]
[null,{"$f":"Table_prices[[#This Row],[ITEMNMBR]]","v":0},"Yellow Dawn Spray","RETAIL",100]
[null,{"$f":"Table_prices[[#This Row],[ITEMNMBR]]","v":0},"White Promises Spray","RETAIL",100]
[null,{"$f":"Table_prices[[#This Row],[ITEMNMBR]]","v":0},"Gentle Thoughts Spray","RETAIL",100]
[null,{"$f":"Table_prices[[#This Row],[ITEMNMBR]]","v":0},"Pastel Crescent Spray","RETAIL",100]
[null,{"$f":"Table_prices[[#This Row],[ITEMNMBR]]","v":0},"Sentimental Gladioli Spray","RETAIL",100]
[null,{"$f":"Table_prices[[#This Row],[ITEMNMBR]]","v":0},"Hope & Harmony Spray","RETAIL",100]
[null,{"$f":"Table_prices[[#This Row],[ITEMNMBR]]","v":0},"Remembering Forever","RETAIL",100]
[null,{"$f":"Table_prices[[#This Row],[ITEMNMBR]]","v":0},"Shining Sentiments Spray","RETAIL",100]
[null,{"$f":"Table_prices[[#This Row],[ITEMNMBR]]","v":0},"Stargazer & Gerbera Spray","RETAIL",100]
[null,{"$f":"Table_prices[[#This Row],[ITEMNMBR]]","v":0},"Tribute Heart","RETAIL",100]
[null,{"$f":"Table_prices[[#This Row],[ITEMNMBR]]","v":0},"Eternity Wreath","RETAIL",100]
[null,{"$f":"Table_prices[[#This Row],[ITEMNMBR]]","v":0},"Stylish Thoughts","RETAIL",100]
[null,{"$f":"Table_prices[[#This Row],[ITEMNMBR]]","v":0},"Bear Hug","RETAIL",100]
[null,{"$f":"Table_prices[[#This Row],[ITEMNMBR]]","v":0},"Stylish Reflections","RETAIL",100]
[null,{"$f":"Table_prices[[#This Row],[ITEMNMBR]]","v":0},"Tender Thoughts Teacup","RETAIL",100]
[null,{"$f":"Table_prices[[#This Row],[ITEMNMBR]]","v":0},"Gentle Comfort Basket","RETAIL",100]
[null,{"$f":"Table_prices[[#This Row],[ITEMNMBR]]","v":0},"Blooming Garden Basket","RETAIL",100]
[null,{"$f":"Table_prices[[#This Row],[ITEMNMBR]]","v":0},"Spathiphyllum Plant","RETAIL",100]
[null,{"$f":"Table_prices[[#This Row],[ITEMNMBR]]","v":0},"Classic Fruit Basket","RETAIL",100]
[null,{"$f":"Table_prices[[#This Row],[ITEMNMBR]]","v":0},"Green Garden Basket Deluxe","RETAIL",100]
[null,{"$f":"Table_prices[[#This Row],[ITEMNMBR]]","v":0},"Green Garden Bowl","RETAIL",100]
[null,{"$f":"Table_prices[[#This Row],[ITEMNMBR]]","v":0},"Green Garden Dish","RETAIL",100]
[null,{"$f":"Table_prices[[#This Row],[ITEMNMBR]]","v":0},"Pure White Casket Spray","RETAIL",100]
[null,{"$f":"Table_prices[[#This Row],[ITEMNMBR]]","v":0},"White Impressions","RETAIL",100]
[null,{"$f":"Table_prices[[#This Row],[ITEMNMBR]]","v":0},"Basket of Light","RETAIL",100]
[null,{"$f":"Table_prices[[#This Row],[ITEMNMBR]]","v":0},"White Expressions Basket","RETAIL",100]
[null,{"$f":"Table_prices[[#This Row],[ITEMNMBR]]","v":0},"Faithful Fern","RETAIL",100]
[null,{"$f":"Table_prices[[#This Row],[ITEMNMBR]]","v":0},"Deluxe Pure White Casket Spray","RETAIL",100]
[null,{"$f":"Table_prices[[#This Row],[ITEMNMBR]]","v":0},"Peach Comfort Half-Couch Spray","RETAIL",100]
[null,{"$f":"Table_prices[[#This Row],[ITEMNMBR]]","v":0},"Peach Comfort Wreath","RETAIL",100]
[null,{"$f":"Table_prices[[#This Row],[ITEMNMBR]]","v":0},"Peach Tribute Garden","RETAIL",100]
[null,{"$f":"Table_prices[[#This Row],[ITEMNMBR]]","v":0},"Eternal Spring Half-Couch Spray","RETAIL",100]
[null,{"$f":"Table_prices[[#This Row],[ITEMNMBR]]","v":0},"Spring Hope Vase","RETAIL",100]
[null,{"$f":"Table_prices[[#This Row],[ITEMNMBR]]","v":0},"Circle of Peace","RETAIL",100]
[null,{"$f":"Table_prices[[#This Row],[ITEMNMBR]]","v":0},"Pink Promise Spray","RETAIL",100]
[null,{"$f":"Table_prices[[#This Row],[ITEMNMBR]]","v":0},"Pink Bouquet Cross","RETAIL",100]
[null,{"$f":"Table_prices[[#This Row],[ITEMNMBR]]","v":0},"Classic Carnation Arrangement","RETAIL",100]
[null,{"$f":"Table_prices[[#This Row],[ITEMNMBR]]","v":0},"Delicate Pink Casket Spray","RETAIL",100]
[null,{"$f":"Table_prices[[#This Row],[ITEMNMBR]]","v":0},"Pink Reverence Arrangement","RETAIL",100]
[null,{"$f":"Table_prices[[#This Row],[ITEMNMBR]]","v":0},"Heavenly Pink Casket Spray","RETAIL",100]
[null,{"$f":"Table_prices[[#This Row],[ITEMNMBR]]","v":0},"Respectful Pink Wreath","RETAIL",100]
[null,{"$f":"Table_prices[[#This Row],[ITEMNMBR]]","v":0},"Loving Heart Tribute","RETAIL",100]
[null,{"$f":"Table_prices[[#This Row],[ITEMNMBR]]","v":0},"Spring Hope Arrangement","RETAIL",100]
[null,{"$f":"Table_prices[[#This Row],[ITEMNMBR]]","v":0},"Spring Satin Pillow Cluster","RETAIL",100]
[null,{"$f":"Table_prices[[#This Row],[ITEMNMBR]]","v":0},"Blooming Glory Casket Spray","RETAIL",100]
[null,{"$f":"Table_prices[[#This Row],[ITEMNMBR]]","v":0},"Springtime Splendor","RETAIL",100]
[null,{"$f":"Table_prices[[#This Row],[ITEMNMBR]]","v":0},"Springtime Basket","RETAIL",100]
[null,{"$f":"Table_prices[[#This Row],[ITEMNMBR]]","v":0},"Grand Gerberas","RETAIL",100]
[null,{"$f":"Table_prices[[#This Row],[ITEMNMBR]]","v":0},"Blossoming Orange","RETAIL",100]
[null,{"$f":"Table_prices[[#This Row],[ITEMNMBR]]","v":0},"Asiatic Lilies","RETAIL",100]
[null,{"$f":"Table_prices[[#This Row],[ITEMNMBR]]","v":0},"Triumphant Casket Spray","RETAIL",100]
[null,{"$f":"Table_prices[[#This Row],[ITEMNMBR]]","v":0},"Triumphant Triangle","RETAIL",100]
[null,{"$f":"Table_prices[[#This Row],[ITEMNMBR]]","v":0},"Grapevine Wreath","RETAIL",100]
[null,{"$f":"Table_prices[[#This Row],[ITEMNMBR]]","v":0},"Graceful Tribute Casket Spray","RETAIL",100]
[null,{"$f":"Table_prices[[#This Row],[ITEMNMBR]]","v":0},"Graceful Tribute Heart","RETAIL",100]
[null,{"$f":"Table_prices[[#This Row],[ITEMNMBR]]","v":0},"Lush Lavenders Bouquet","RETAIL",100]
[null,{"$f":"Table_prices[[#This Row],[ITEMNMBR]]","v":0},"Vibrant Summer Casket Spray","RETAIL",100]
[null,{"$f":"Table_prices[[#This Row],[ITEMNMBR]]","v":0},"Uplifting Gerbera Basket","RETAIL",100]
[null,{"$f":"Table_prices[[#This Row],[ITEMNMBR]]","v":0},"Uplifting Gerbera Pillow","RETAIL",100]
[null,{"$f":"Table_prices[[#This Row],[ITEMNMBR]]","v":0},"Uplifting Thoughts Casket Spray","RETAIL",100]
[null,{"$f":"Table_prices[[#This Row],[ITEMNMBR]]","v":0},"Summer Sentiments Arrangement","RETAIL",100]
[null,{"$f":"Table_prices[[#This Row],[ITEMNMBR]]","v":0},"Celebration Wreath","RETAIL",100]
[null,{"$f":"Table_prices[[#This Row],[ITEMNMBR]]","v":0},"Sunshine Basket","RETAIL",100]
[null,{"$f":"Table_prices[[#This Row],[ITEMNMBR]]","v":0},"Summer Sentiments Casket Spray","RETAIL",100]
[null,{"$f":"Table_prices[[#This Row],[ITEMNMBR]]","v":0},"Ring of Hope Wreath","RETAIL",100]
[null,{"$f":"Table_prices[[#This Row],[ITEMNMBR]]","v":0},"Birch Compassion Cross","RETAIL",100]
[null,{"$f":"Table_prices[[#This Row],[ITEMNMBR]]","v":0},"Grand Sentiments","RETAIL",100]
[null,{"$f":"Table_prices[[#This Row],[ITEMNMBR]]","v":0},"Personal Message Tribute","RETAIL",100]
[null,{"$f":"Table_prices[[#This Row],[ITEMNMBR]]","v":0},"Celebration of Life Casket Spray","RETAIL",100]
[null,{"$f":"Table_prices[[#This Row],[ITEMNMBR]]","v":0},"Celebration of Life Standing Spray","RETAIL",100]
[null,{"$f":"Table_prices[[#This Row],[ITEMNMBR]]","v":0},"Celebration of Life Arrangement","RETAIL",100]
[null,{"$f":"Table_prices[[#This Row],[ITEMNMBR]]","v":0},"Friendship Rose Heart","RETAIL",100]
[null,{"$f":"Table_prices[[#This Row],[ITEMNMBR]]","v":0},"Loving Beauty Bouquet","RETAIL",100]
[null,{"$f":"Table_prices[[#This Row],[ITEMNMBR]]","v":0},"Eternal Hope Casket Spray","RETAIL",100]
[null,{"$f":"Table_prices[[#This Row],[ITEMNMBR]]","v":0},"Amethyst and Ruby Casket Spray","RETAIL",100]
[null,{"$f":"Table_prices[[#This Row],[ITEMNMBR]]","v":0},"Amethyst and Ruby Standing Spray","RETAIL",100]
[null,{"$f":"Table_prices[[#This Row],[ITEMNMBR]]","v":0},"Amethyst and Ruby Hinge Spray","RETAIL",100]
[null,{"$f":"Table_prices[[#This Row],[ITEMNMBR]]","v":0},"Hope & Honor Basket","RETAIL",100]
[null,{"$f":"Table_prices[[#This Row],[ITEMNMBR]]","v":0},"Red Regards Spray","RETAIL",100]
[null,{"$f":"Table_prices[[#This Row],[ITEMNMBR]]","v":0},"Hope and Honor Casket Spray","RETAIL",100]
[null,{"$f":"Table_prices[[#This Row],[ITEMNMBR]]","v":0},"Hope & Honor Cross","RETAIL",100]
[null,{"$f":"Table_prices[[#This Row],[ITEMNMBR]]","v":0},"Red Regards Casket Spray","RETAIL",100]
[null,{"$f":"Table_prices[[#This Row],[ITEMNMBR]]","v":0},"Hope & Honor Wreath","RETAIL",100]
[null,{"$f":"Table_prices[[#This Row],[ITEMNMBR]]","v":0},"Red Regards Wreath","RETAIL",100]
[null,{"$f":"Table_prices[[#This Row],[ITEMNMBR]]","v":0},"Cherished Moments Arrangement","RETAIL",100]
[null,{"$f":"Table_prices[[#This Row],[ITEMNMBR]]","v":0},"Touch of Red Roses","RETAIL",100]
[null,{"$f":"Table_prices[[#This Row],[ITEMNMBR]]","v":0},"Cherished Moments Casket Spray","RETAIL",100]
[null,{"$f":"Table_prices[[#This Row],[ITEMNMBR]]","v":0},"Cherished Moments Spray","RETAIL",100]
[null,{"$f":"Table_prices[[#This Row],[ITEMNMBR]]","v":0},"Cherished Moments Fireside Basket","RETAIL",100]
[null,{"$f":"Table_prices[[#This Row],[ITEMNMBR]]","v":0},"Red Rose Tribute Vase","RETAIL",100]
[null,{"$f":"Table_prices[[#This Row],[ITEMNMBR]]","v":0},"Red Rose Tribute Casket Spray","RETAIL",100]
[null,{"$f":"Table_prices[[#This Row],[ITEMNMBR]]","v":0},"Broken Heart","RETAIL",100]
[null,{"$f":"Table_prices[[#This Row],[ITEMNMBR]]","v":0},"Rosary of Red Roses","RETAIL",100]
[null,{"$f":"Table_prices[[#This Row],[ITEMNMBR]]","v":0},"Our Lady of Grace","RETAIL",100]
[null,{"$f":"Table_prices[[#This Row],[ITEMNMBR]]","v":0},"Blooming Red Roses Basket","RETAIL",100]
[null,{"$f":"Table_prices[[#This Row],[ITEMNMBR]]","v":0},"Blooming Red Roses Casket Spray","RETAIL",100]
[null,{"$f":"Table_prices[[#This Row],[ITEMNMBR]]","v":0},"Glorious Gladioli","RETAIL",100]
[null,{"$f":"Table_prices[[#This Row],[ITEMNMBR]]","v":0},"Autumn Faith Casket Spray","RETAIL",100]
[null,{"$f":"Table_prices[[#This Row],[ITEMNMBR]]","v":0},"Yellow Hope Chrysanthemum","RETAIL",100]
[null,{"$f":"Table_prices[[#This Row],[ITEMNMBR]]","v":0},"Harvest of Hope Sheaf","RETAIL",100]
[null,{"$f":"Table_prices[[#This Row],[ITEMNMBR]]","v":0},"Brighter Blessings Casket Spray","RETAIL",100]
[null,{"$f":"Table_prices[[#This Row],[ITEMNMBR]]","v":0},"Brighter Blessings Spray","RETAIL",100]
[null,{"$f":"Table_prices[[#This Row],[ITEMNMBR]]","v":0},"Brighter Blessings Arrangement","RETAIL",100]
[null,{"$f":"Table_prices[[#This Row],[ITEMNMBR]]","v":0},"White Orchid Spray","RETAIL",100]
[null,{"$f":"Table_prices[[#This Row],[ITEMNMBR]]","v":0},"White Orchid Plant","RETAIL",100]
[null,{"$f":"Table_prices[[#This Row],[ITEMNMBR]]","v":0},"Tropical Paradise Casket Spray","RETAIL",100]
[null,{"$f":"Table_prices[[#This Row],[ITEMNMBR]]","v":0},"Tropical Paradise Arrangement","RETAIL",100]
[null,{"$f":"Table_prices[[#This Row],[ITEMNMBR]]","v":0},"Tropical Paradise Spray","RETAIL",100]
[null,{"$f":"Table_prices[[#This Row],[ITEMNMBR]]","v":0},"Glory & Grace Arrangement","RETAIL",100]
[null,{"$f":"Table_prices[[#This Row],[ITEMNMBR]]","v":0},"Basket of Comfort","RETAIL",100]
[null,{"$f":"Table_prices[[#This Row],[ITEMNMBR]]","v":0},"Patriotic Spirit Wreath","RETAIL",100]
[null,{"$f":"Table_prices[[#This Row],[ITEMNMBR]]","v":0},"Patriotic Spirit Cluster","RETAIL",100]
[null,{"$f":"Table_prices[[#This Row],[ITEMNMBR]]","v":0},"Patriotic Spirit Spray","RETAIL",100]
[null,{"$f":"Table_prices[[#This Row],[ITEMNMBR]]","v":0},"Sentimental Setting","RETAIL",100]
[null,{"$f":"Table_prices[[#This Row],[ITEMNMBR]]","v":0},"Vibrant Memorial","RETAIL",100]
[null,{"$f":"Table_prices[[#This Row],[ITEMNMBR]]","v":0},"Vibrant Basket Arrangement","RETAIL",100]
[null,{"$f":"Table_prices[[#This Row],[ITEMNMBR]]","v":0},"Forever Yours","RETAIL",100]
[null,{"$f":"Table_prices[[#This Row],[ITEMNMBR]]","v":0},"Cremation Urn Wreath","RETAIL",100]
[null,{"$f":"Table_prices[[#This Row],[ITEMNMBR]]","v":0},"Rose Radiance","RETAIL",100]
[null,{"$f":"Table_prices[[#This Row],[ITEMNMBR]]","v":0},"Gathering of Roses","RETAIL",100]
[null,{"$f":"Table_prices[[#This Row],[ITEMNMBR]]","v":0},"White Expressions","RETAIL",100]
[null,{"$f":"Table_prices[[#This Row],[ITEMNMBR]]","v":0},"Miniature Lavender Orchid","RETAIL",100]
[null,{"$f":"Table_prices[[#This Row],[ITEMNMBR]]","v":0},"Lavender Moth Orchid","RETAIL",100]
[null,{"$f":"Table_prices[[#This Row],[ITEMNMBR]]","v":0},"Orchid in Large Bowl","RETAIL",100]
[null,{"$f":"Table_prices[[#This Row],[ITEMNMBR]]","v":0},"Lavender Orchid in Small Bowl","RETAIL",100]
[null,{"$f":"Table_prices[[#This Row],[ITEMNMBR]]","v":0},"Sparkling Alstroemeria","RETAIL",100]
[null,{"$f":"Table_prices[[#This Row],[ITEMNMBR]]","v":0},"Pastel Dreams with Angel (Unavailable)","RETAIL",100]
[null,{"$f":"Table_prices[[#This Row],[ITEMNMBR]]","v":0},"Pastel Dreams","RETAIL",100]
[null,{"$f":"Table_prices[[#This Row],[ITEMNMBR]]","v":0},"Heavenly Heart","RETAIL",100]
[null,{"$f":"Table_prices[[#This Row],[ITEMNMBR]]","v":0},"Heavenly Casket Spray","RETAIL",100]
[null,{"$f":"Table_prices[[#This Row],[ITEMNMBR]]","v":0},"Heavenly Spray","RETAIL",100]
[null,{"$f":"Table_prices[[#This Row],[ITEMNMBR]]","v":0},"Drop of Sunshine Casket Spray","RETAIL",100]
[null,{"$f":"Table_prices[[#This Row],[ITEMNMBR]]","v":0},"Drop of Sunshine Bowl","RETAIL",100]
[null,{"$f":"Table_prices[[#This Row],[ITEMNMBR]]","v":0},"Drop of Sunshine Wreath","RETAIL",100]
[null,{"$f":"Table_prices[[#This Row],[ITEMNMBR]]","v":0},"Drop of Sunshine Basket","RETAIL",100]
[null,{"$f":"Table_prices[[#This Row],[ITEMNMBR]]","v":0},"Rose Touch","RETAIL",100]
[null,{"$f":"Table_prices[[#This Row],[ITEMNMBR]]","v":0},"Graveside Remembrances","RETAIL",100]
[null,{"$f":"Table_prices[[#This Row],[ITEMNMBR]]","v":0},"Monument Memorial Flowers","RETAIL",100]
[null,{"$f":"Table_prices[[#This Row],[ITEMNMBR]]","v":0},"Sunshine Express","RETAIL",100]
[null,{"$f":"Table_prices[[#This Row],[ITEMNMBR]]","v":0},"Sunshine Express","RETAIL",100]
[null,{"$f":"Table_prices[[#This Row],[ITEMNMBR]]","v":0},"Lily Topiary","RETAIL",50]
[null,{"$f":"Table_prices[[#This Row],[ITEMNMBR]]","v":0},"Dashing Daisies","RETAIL",100]
[null,{"$f":"Table_prices[[#This Row],[ITEMNMBR]]","v":0},"Perfect White Lilies","RETAIL",100]
[null,{"$f":"Table_prices[[#This Row],[ITEMNMBR]]","v":0},"Simply White","RETAIL",100]
[null,{"$f":"Table_prices[[#This Row],[ITEMNMBR]]","v":0},"Stylish Stock","RETAIL",100]
[null,{"$f":"Table_prices[[#This Row],[ITEMNMBR]]","v":0},"White Callas","RETAIL",100]
[null,{"$f":"Table_prices[[#This Row],[ITEMNMBR]]","v":0},"Grand Bouquet","RETAIL",100]
[null,{"$f":"Table_prices[[#This Row],[ITEMNMBR]]","v":0},"Perfect Pastel Roses","RETAIL",100]
[null,{"$f":"Table_prices[[#This Row],[ITEMNMBR]]","v":0},"Every Day Counts","RETAIL",100]
[null,{"$f":"Table_prices[[#This Row],[ITEMNMBR]]","v":0},"Three Dozen Red Roses","RETAIL",100]
[null,{"$f":"Table_prices[[#This Row],[ITEMNMBR]]","v":0},"A Dozen Red Roses","RETAIL",100]
[null,{"$f":"Table_prices[[#This Row],[ITEMNMBR]]","v":0},"Two Dozen Red Roses","RETAIL",100]
[null,{"$f":"Table_prices[[#This Row],[ITEMNMBR]]","v":0},"Expression of Love","RETAIL",100]
[null,{"$f":"Table_prices[[#This Row],[ITEMNMBR]]","v":0},"Tender Trio","RETAIL",100]
[null,{"$f":"Table_prices[[#This Row],[ITEMNMBR]]","v":0},"A Pretty Pink Dozen","RETAIL",100]
[null,{"$f":"Table_prices[[#This Row],[ITEMNMBR]]","v":0},"A Lavender Dozen","RETAIL",100]
[null,{"$f":"Table_prices[[#This Row],[ITEMNMBR]]","v":0},"A Dozen Multi-Colored Roses","RETAIL",100]
[null,{"$f":"Table_prices[[#This Row],[ITEMNMBR]]","v":0},"A Dozen Pink Roses","RETAIL",100]
[null,{"$f":"Table_prices[[#This Row],[ITEMNMBR]]","v":0},"Perfectly Peachy Roses","RETAIL",100]
[null,{"$f":"Table_prices[[#This Row],[ITEMNMBR]]","v":0},"A Dozen Pale Peach Roses","RETAIL",100]
[null,{"$f":"Table_prices[[#This Row],[ITEMNMBR]]","v":0},"Rose & Lily Splendor","RETAIL",100]
[null,{"$f":"Table_prices[[#This Row],[ITEMNMBR]]","v":0},"A Dozen White Roses","RETAIL",100]
[null,{"$f":"Table_prices[[#This Row],[ITEMNMBR]]","v":0},"Rose Topiary","RETAIL",100]
[null,{"$f":"Table_prices[[#This Row],[ITEMNMBR]]","v":0},"Blazing Sunshine","RETAIL",100]
[null,{"$f":"Table_prices[[#This Row],[ITEMNMBR]]","v":0},"Joyful Roses & Daisies","RETAIL",100]
[null,{"$f":"Table_prices[[#This Row],[ITEMNMBR]]","v":0},"Yellow Rose Bravo!","RETAIL",100]
[null,{"$f":"Table_prices[[#This Row],[ITEMNMBR]]","v":0},"A Dozen Yellow Roses","RETAIL",100]
[null,{"$f":"Table_prices[[#This Row],[ITEMNMBR]]","v":0},"Simply Roses","RETAIL",100]
[null,{"$f":"Table_prices[[#This Row],[ITEMNMBR]]","v":0},"Everything Rosy","RETAIL",100]
[null,{"$f":"Table_prices[[#This Row],[ITEMNMBR]]","v":0},"Roses with River Rocks","RETAIL",100]
[null,{"$f":"Table_prices[[#This Row],[ITEMNMBR]]","v":0},"Garden Fresh Blooms","RETAIL",100]
[null,{"$f":"Table_prices[[#This Row],[ITEMNMBR]]","v":0},"Birthday Celebration!","RETAIL",100]
[null,{"$f":"Table_prices[[#This Row],[ITEMNMBR]]","v":0},"Birthday Balloon Bouquet!","RETAIL",100]
[null,{"$f":"Table_prices[[#This Row],[ITEMNMBR]]","v":0},"Cheerful Flowers in a Mug","RETAIL",100]
[null,{"$f":"Table_prices[[#This Row],[ITEMNMBR]]","v":0},"Birthday Fireworks","RETAIL",100]
[null,{"$f":"Table_prices[[#This Row],[ITEMNMBR]]","v":0},"Party Bear","RETAIL",100]
[null,{"$f":"Table_prices[[#This Row],[ITEMNMBR]]","v":0},"Floral Teacup & Saucer","RETAIL",100]
[null,{"$f":"Table_prices[[#This Row],[ITEMNMBR]]","v":0},"Pink Birthday Roses","RETAIL",100]
[null,{"$f":"Table_prices[[#This Row],[ITEMNMBR]]","v":0},"Pink & Lavender Basket","RETAIL",100]
[null,{"$f":"Table_prices[[#This Row],[ITEMNMBR]]","v":0},"Timeless Pastels","RETAIL",100]
[null,{"$f":"Table_prices[[#This Row],[ITEMNMBR]]","v":0},"Birthday Balloon Basket","RETAIL",100]
[null,{"$f":"Table_prices[[#This Row],[ITEMNMBR]]","v":0},"Birthday Wishes","RETAIL",100]
[null,{"$f":"Table_prices[[#This Row],[ITEMNMBR]]","v":0},"Birthday Butterflies","RETAIL",100]
[null,{"$f":"Table_prices[[#This Row],[ITEMNMBR]]","v":0},"Roses with Eucalyptus","RETAIL",100]
[null,{"$f":"Table_prices[[#This Row],[ITEMNMBR]]","v":0},"Baby Block","RETAIL",100]
[null,{"$f":"Table_prices[[#This Row],[ITEMNMBR]]","v":0},"Bear Hug","RETAIL",100]
[null,{"$f":"Table_prices[[#This Row],[ITEMNMBR]]","v":0},"Its a Boy! Basket","RETAIL",100]
[null,{"$f":"Table_prices[[#This Row],[ITEMNMBR]]","v":0},"Bear In A Basket","RETAIL",100]
[null,{"$f":"Table_prices[[#This Row],[ITEMNMBR]]","v":0},"Baby’s First Wagon","RETAIL",100]
[null,{"$f":"Table_prices[[#This Row],[ITEMNMBR]]","v":0},"Pastels in White Basket","RETAIL",100]
[null,{"$f":"Table_prices[[#This Row],[ITEMNMBR]]","v":0},"Celebrating Baby Girl","RETAIL",100]
[null,{"$f":"Table_prices[[#This Row],[ITEMNMBR]]","v":0},"Pink & White Basket","RETAIL",100]
[null,{"$f":"Table_prices[[#This Row],[ITEMNMBR]]","v":0},"Large Sunshine & Smiles","RETAIL",100]
[null,{"$f":"Table_prices[[#This Row],[ITEMNMBR]]","v":0},"Small Sunshine & Smiles","RETAIL",100]
[null,{"$f":"Table_prices[[#This Row],[ITEMNMBR]]","v":0},"Medium Sunshine & Smiles","RETAIL",100]
[null,{"$f":"Table_prices[[#This Row],[ITEMNMBR]]","v":0},"Spirited Spring","RETAIL",100]
[null,{"$f":"Table_prices[[#This Row],[ITEMNMBR]]","v":0},"Pink Tulip Bouquet","RETAIL",100]
[null,{"$f":"Table_prices[[#This Row],[ITEMNMBR]]","v":0},"Basket of Spring","RETAIL",100]
[null,{"$f":"Table_prices[[#This Row],[ITEMNMBR]]","v":0},"Cheerful Carnations","RETAIL",100]
[null,{"$f":"Table_prices[[#This Row],[ITEMNMBR]]","v":0},"Alstroemeria Topiary","RETAIL",100]
[null,{"$f":"Table_prices[[#This Row],[ITEMNMBR]]","v":0},"Pink Spring Bouquet","RETAIL",100]
[null,{"$f":"Table_prices[[#This Row],[ITEMNMBR]]","v":0},"Classic Spring Bouquet","RETAIL",100]
[null,{"$f":"Table_prices[[#This Row],[ITEMNMBR]]","v":0},"Floral Delight","RETAIL",100]
[null,{"$f":"Table_prices[[#This Row],[ITEMNMBR]]","v":0},"Merry Tangerine","RETAIL",100]
[null,{"$f":"Table_prices[[#This Row],[ITEMNMBR]]","v":0},"Smiling Floral Basket","RETAIL",100]
[null,{"$f":"Table_prices[[#This Row],[ITEMNMBR]]","v":0},"Fragrant Spring Ivy Bowl","RETAIL",100]
[null,{"$f":"Table_prices[[#This Row],[ITEMNMBR]]","v":0},"Daisy Cheer","RETAIL",100]
[null,{"$f":"Table_prices[[#This Row],[ITEMNMBR]]","v":0},"Incredible Iris","RETAIL",100]
[null,{"$f":"Table_prices[[#This Row],[ITEMNMBR]]","v":0},"Pink & Purple Inspiration","RETAIL",100]
[null,{"$f":"Table_prices[[#This Row],[ITEMNMBR]]","v":0},"Easter Lily Plant","RETAIL",100]
[null,{"$f":"Table_prices[[#This Row],[ITEMNMBR]]","v":0},"Potted Yellow Tulips","RETAIL",100]
[null,{"$f":"Table_prices[[#This Row],[ITEMNMBR]]","v":0},"Hyacinth Planter","RETAIL",100]
[null,{"$f":"Table_prices[[#This Row],[ITEMNMBR]]","v":0},"Spring Moments","RETAIL",100]
[null,{"$f":"Table_prices[[#This Row],[ITEMNMBR]]","v":0},"Springtime Centerpiece","RETAIL",100]
[null,{"$f":"Table_prices[[#This Row],[ITEMNMBR]]","v":0},"Summertime Sensation","RETAIL",100]
[null,{"$f":"Table_prices[[#This Row],[ITEMNMBR]]","v":0},"Shining Sunflowers","RETAIL",100]
[null,{"$f":"Table_prices[[#This Row],[ITEMNMBR]]","v":0},"Burst of Yellow","RETAIL",100]
[null,{"$f":"Table_prices[[#This Row],[ITEMNMBR]]","v":0},"A Pot of Sunflowers","RETAIL",100]
[null,{"$f":"Table_prices[[#This Row],[ITEMNMBR]]","v":0},"Perfect Pink Harmony","RETAIL",100]
[null,{"$f":"Table_prices[[#This Row],[ITEMNMBR]]","v":0},"Hot Pink with Limes","RETAIL",100]
[null,{"$f":"Table_prices[[#This Row],[ITEMNMBR]]","v":0},"Multi-Colored Roses","RETAIL",100]
[null,{"$f":"Table_prices[[#This Row],[ITEMNMBR]]","v":0},"Fountain of Joy","RETAIL",100]
[null,{"$f":"Table_prices[[#This Row],[ITEMNMBR]]","v":0},"Burst of Joy","RETAIL",100]
[null,{"$f":"Table_prices[[#This Row],[ITEMNMBR]]","v":0},"Country Days","RETAIL",100]
[null,{"$f":"Table_prices[[#This Row],[ITEMNMBR]]","v":0},"Summer Garden Festival","RETAIL",100]
[null,{"$f":"Table_prices[[#This Row],[ITEMNMBR]]","v":0},"Summer Garden Planter","RETAIL",100]
[null,{"$f":"Table_prices[[#This Row],[ITEMNMBR]]","v":0},"Country Thoughts","RETAIL",100]
[null,{"$f":"Table_prices[[#This Row],[ITEMNMBR]]","v":0},"Majestic Fall","RETAIL",100]
[null,{"$f":"Table_prices[[#This Row],[ITEMNMBR]]","v":0},"Visions of Autumn Centerpiece","RETAIL",100]
[null,{"$f":"Table_prices[[#This Row],[ITEMNMBR]]","v":0},"Autumn Cornucopia","RETAIL",100]
[null,{"$f":"Table_prices[[#This Row],[ITEMNMBR]]","v":0},"Country Harvest","RETAIL",100]
[null,{"$f":"Table_prices[[#This Row],[ITEMNMBR]]","v":0},"Autumns Simple Beauty","RETAIL",100]
[null,{"$f":"Table_prices[[#This Row],[ITEMNMBR]]","v":0},"Captivating Cornucopia","RETAIL",100]
[null,{"$f":"Table_prices[[#This Row],[ITEMNMBR]]","v":0},"Fresh Fall Magic","RETAIL",100]
[null,{"$f":"Table_prices[[#This Row],[ITEMNMBR]]","v":0},"Fall Meadow","RETAIL",100]
[null,{"$f":"Table_prices[[#This Row],[ITEMNMBR]]","v":0},"Sunflower Harvest","RETAIL",100]
[null,{"$f":"Table_prices[[#This Row],[ITEMNMBR]]","v":0},"Sunflower Topiary","RETAIL",100]
[null,{"$f":"Table_prices[[#This Row],[ITEMNMBR]]","v":0},"Dozen Orange Roses","RETAIL",100]
[null,{"$f":"Table_prices[[#This Row],[ITEMNMBR]]","v":0},"Autumn Sunshine","RETAIL",100]
[null,{"$f":"Table_prices[[#This Row],[ITEMNMBR]]","v":0},"Pumpkin Delight","RETAIL",100]
[null,{"$f":"Table_prices[[#This Row],[ITEMNMBR]]","v":0},"Sweet Corn Harvest","RETAIL",100]
[null,{"$f":"Table_prices[[#This Row],[ITEMNMBR]]","v":0},"Bewitching Bouquet","RETAIL",100]
[null,{"$f":"Table_prices[[#This Row],[ITEMNMBR]]","v":0},"Hint of Fall","RETAIL",100]
[null,{"$f":"Table_prices[[#This Row],[ITEMNMBR]]","v":0},"Carnation Expression","RETAIL",100]
[null,{"$f":"Table_prices[[#This Row],[ITEMNMBR]]","v":0},"Stargazer Bouquet","RETAIL",100]
[null,{"$f":"Table_prices[[#This Row],[ITEMNMBR]]","v":0},"Pink Power","RETAIL",100]
[null,{"$f":"Table_prices[[#This Row],[ITEMNMBR]]","v":0},"Bronze Cushion Mum Plant","RETAIL",100]
[null,{"$f":"Table_prices[[#This Row],[ITEMNMBR]]","v":0},"Vivid Yellow Kalanchoe Plant","RETAIL",100]
[null,{"$f":"Table_prices[[#This Row],[ITEMNMBR]]","v":0},"Harvest Yellow Daisy Plant","RETAIL",100]
[null,{"$f":"Table_prices[[#This Row],[ITEMNMBR]]","v":0},"Heavenly Hurricane Bouquet","RETAIL",100]
[null,{"$f":"Table_prices[[#This Row],[ITEMNMBR]]","v":0},"Wreath & Velvet Bow","RETAIL",100]
[null,{"$f":"Table_prices[[#This Row],[ITEMNMBR]]","v":0},"Double Poinsettia Basket","RETAIL",100]
[null,{"$f":"Table_prices[[#This Row],[ITEMNMBR]]","v":0},"Real Boxwood Tree","RETAIL",100]
[null,{"$f":"Table_prices[[#This Row],[ITEMNMBR]]","v":0},"Celebrate the Season Centerpiece","RETAIL",100]
[null,{"$f":"Table_prices[[#This Row],[ITEMNMBR]]","v":0},"Holiday Delight Centerpiece","RETAIL",100]
[null,{"$f":"Table_prices[[#This Row],[ITEMNMBR]]","v":0},"Amaryllis Plant","RETAIL",100]
[null,{"$f":"Table_prices[[#This Row],[ITEMNMBR]]","v":0},"Happy Holidays Centerpiece","RETAIL",100]
[null,{"$f":"Table_prices[[#This Row],[ITEMNMBR]]","v":0},"Holly Bowl","RETAIL",100]
[null,{"$f":"Table_prices[[#This Row],[ITEMNMBR]]","v":0},"Candy Cane Basket","RETAIL",100]
[null,{"$f":"Table_prices[[#This Row],[ITEMNMBR]]","v":0},"Dozen Christmas Roses","RETAIL",100]
[null,{"$f":"Table_prices[[#This Row],[ITEMNMBR]]","v":0},"6 Inch Red Poinsettia","RETAIL",100]
[null,{"$f":"Table_prices[[#This Row],[ITEMNMBR]]","v":0},"Staircase Garland","RETAIL",100]
[null,{"$f":"Table_prices[[#This Row],[ITEMNMBR]]","v":0},"Pomegranate Wreath","RETAIL",100]
[null,{"$f":"Table_prices[[#This Row],[ITEMNMBR]]","v":0},"Christmas Bubble Bowl","RETAIL",100]
[null,{"$f":"Table_prices[[#This Row],[ITEMNMBR]]","v":0},"Marvelous Pinks","RETAIL",100]
[null,{"$f":"Table_prices[[#This Row],[ITEMNMBR]]","v":0},"Single Candle Centerpiece","RETAIL",100]
[null,{"$f":"Table_prices[[#This Row],[ITEMNMBR]]","v":0},"Twin Taper Centerpiece","RETAIL",100]
[null,{"$f":"Table_prices[[#This Row],[ITEMNMBR]]","v":0},"Candle Trio Centerpiece","RETAIL",100]
[null,{"$f":"Table_prices[[#This Row],[ITEMNMBR]]","v":0},"Fresh Wreath & Apples","RETAIL",100]
[null,{"$f":"Table_prices[[#This Row],[ITEMNMBR]]","v":0},"Door Garland & Apples","RETAIL",100]
[null,{"$f":"Table_prices[[#This Row],[ITEMNMBR]]","v":0},"Sleigh Bouquet","RETAIL",100]
[null,{"$f":"Table_prices[[#This Row],[ITEMNMBR]]","v":0},"Carnation Topiary","RETAIL",100]
[null,{"$f":"Table_prices[[#This Row],[ITEMNMBR]]","v":0},"Holiday Ornament","RETAIL",100]
[null,{"$f":"Table_prices[[#This Row],[ITEMNMBR]]","v":0},"Carols of Christmas","RETAIL",100]
[null,{"$f":"Table_prices[[#This Row],[ITEMNMBR]]","v":0},"Spirit of Christmas","RETAIL",100]
[null,{"$f":"Table_prices[[#This Row],[ITEMNMBR]]","v":0},"Winter Wonderland Basket","RETAIL",100]
[null,{"$f":"Table_prices[[#This Row],[ITEMNMBR]]","v":0},"Holiday Happiness","RETAIL",100]
[null,{"$f":"Table_prices[[#This Row],[ITEMNMBR]]","v":0},"Red Pillar Candle","RETAIL",100]
[null,{"$f":"Table_prices[[#This Row],[ITEMNMBR]]","v":0},"Festive Welcome Swag","RETAIL",100]
[null,{"$f":"Table_prices[[#This Row],[ITEMNMBR]]","v":0},"New Year Celebration","RETAIL",100]
[null,{"$f":"Table_prices[[#This Row],[ITEMNMBR]]","v":0},"Hanukkah Arrangement","RETAIL",100]
[null,{"$f":"Table_prices[[#This Row],[ITEMNMBR]]","v":0},"Christmas Welcome Swag","RETAIL",100]
[null,{"$f":"Table_prices[[#This Row],[ITEMNMBR]]","v":0},"Golden Evergreen Wreath","RETAIL",100]
[null,{"$f":"Table_prices[[#This Row],[ITEMNMBR]]","v":0},"Two Candle Centerpiece","RETAIL",100]
[null,{"$f":"Table_prices[[#This Row],[ITEMNMBR]]","v":0},"Winter Dreams","RETAIL",100]
[null,{"$f":"Table_prices[[#This Row],[ITEMNMBR]]","v":0},"Winter Night Dreams","RETAIL",100]
[null,{"$f":"Table_prices[[#This Row],[ITEMNMBR]]","v":0},"Winter Whites & Glittering Golds","RETAIL",100]
[null,{"$f":"Table_prices[[#This Row],[ITEMNMBR]]","v":0},"Make A Wish","RETAIL",50]
[null,{"$f":"Table_prices[[#This Row],[ITEMNMBR]]","v":0},"Pretty Please","RETAIL",50]
[null,{"$f":"Table_prices[[#This Row],[ITEMNMBR]]","v":0},"Upsy Daisy Bouquet","RETAIL",50]
[null,{"$f":"Table_prices[[#This Row],[ITEMNMBR]]","v":0},"Perfectly Pastel Bouquet","RETAIL",50]
[null,{"$f":"Table_prices[[#This Row],[ITEMNMBR]]","v":0},"Custom: Horgan Group -  Christmas Premium  ( custom ribbon) (Tim)","RETAIL",79.989999999999995]
[null,{"$f":"Table_prices[[#This Row],[ITEMNMBR]]","v":0},"Time & Again Gardner's Hand Cream","RETAIL",100]
[null,{"$f":"Table_prices[[#This Row],[ITEMNMBR]]","v":0},"Tillen Farms Crispy Carrots 12 oz.","RETAIL",100]
[null,{"$f":"Table_prices[[#This Row],[ITEMNMBR]]","v":0},"Tillen Farms Crispy Dilly Beans 12 oz.","RETAIL",100]
[null,{"$f":"Table_prices[[#This Row],[ITEMNMBR]]","v":0},"Tillen Farms Crispy White Asparagus 16 oz.","RETAIL",100]
[null,{"$f":"Table_prices[[#This Row],[ITEMNMBR]]","v":0},"Tillen Farms Pickled Asparagus 12 oz.","RETAIL",100]
[null,{"$f":"Table_prices[[#This Row],[ITEMNMBR]]","v":0},"Tillen Farms Merry Maraschino Cherries 14 oz.","RETAIL",100]
[null,{"$f":"Table_prices[[#This Row],[ITEMNMBR]]","v":0},"KOP Brand Tin - 2 Gallon","RETAIL",4.05]
[null,{"$f":"Table_prices[[#This Row],[ITEMNMBR]]","v":0},"Holiday Embossed Tin Assortment - CP 4","RETAIL",25]
[null,{"$f":"Table_prices[[#This Row],[ITEMNMBR]]","v":0},"Custom Estate Collection","RETAIL",179.99]
[null,{"$f":"Table_prices[[#This Row],[ITEMNMBR]]","v":0},"Custom Nature's Picnic","RETAIL",79.989999999999995]
[null,{"$f":"Table_prices[[#This Row],[ITEMNMBR]]","v":0},"Custom 6288 with Candy ( Tim Myers )","RETAIL",69.989999999999995]
[null,{"$f":"Table_prices[[#This Row],[ITEMNMBR]]","v":0},"Custom 5627 with Candy ( Tim Myers )","RETAIL",89.99]
[null,{"$f":"Table_prices[[#This Row],[ITEMNMBR]]","v":0},"Custom 5629 with Candy ( Tim Myers )","RETAIL",89.99]
[null,{"$f":"Table_prices[[#This Row],[ITEMNMBR]]","v":0},"Custom corporate showstopper","RETAIL",149.99]
[null,{"$f":"Table_prices[[#This Row],[ITEMNMBR]]","v":0},"AMD Chocolate Mini Custom","RETAIL",24.99]
[null,{"$f":"Table_prices[[#This Row],[ITEMNMBR]]","v":0},"Custom Aon Risk Solutions  - Moet & Snacks - Poker Style  (Tim)","RETAIL",82]
[null,{"$f":"Table_prices[[#This Row],[ITEMNMBR]]","v":0},"Custom Caymus & Cakebread with crackers, cheese & sausage (TIM)","RETAIL",277.99]
[null,{"$f":"Table_prices[[#This Row],[ITEMNMBR]]","v":0},"Custom: Riesling & Zinfandel with crackers, cheese & sausage (TIM)","RETAIL",166.99]
[null,{"$f":"Table_prices[[#This Row],[ITEMNMBR]]","v":0},"Custom Bella Italian with bottle of Chianti (Tim)","RETAIL",187.99]
[null,{"$f":"Table_prices[[#This Row],[ITEMNMBR]]","v":0},"Custom: Healthy Premium (Tim)","RETAIL",99.99]
[null,{"$f":"Table_prices[[#This Row],[ITEMNMBR]]","v":0},"Custom: Snack Classic (Tim)","RETAIL",59.99]
[null,{"$f":"Table_prices[[#This Row],[ITEMNMBR]]","v":0},"Custom: Snack Break (Tim)","RETAIL",34.99]
[null,{"$f":"Table_prices[[#This Row],[ITEMNMBR]]","v":0},"Custom Healthy Stack","RETAIL",34.99]
[null,{"$f":"Table_prices[[#This Row],[ITEMNMBR]]","v":0},"Nature's Picnic Customized - Tim M.","RETAIL",110]
[null,{"$f":"Table_prices[[#This Row],[ITEMNMBR]]","v":0},"Custom Gold & Burgundy Snack ( Tim )","RETAIL",49.99]
[null,{"$f":"Table_prices[[#This Row],[ITEMNMBR]]","v":0},"Custom: Babe Ruth Baseball - Sweet & Salty 1 ( Tim )","RETAIL",80]
[null,{"$f":"Table_prices[[#This Row],[ITEMNMBR]]","v":0},"Custom: Babe Ruth Baseball - Sweet & Salty 2 ( Tim )","RETAIL",50]
[null,{"$f":"Table_prices[[#This Row],[ITEMNMBR]]","v":0},"Custom - fruit snacks and chocolates (Tim)","RETAIL",45]
[null,{"$f":"Table_prices[[#This Row],[ITEMNMBR]]","v":0},"Custom -The Business Journals - Microbrew Beer Bucket (Tim)","RETAIL",69.989999999999995]
[null,{"$f":"Table_prices[[#This Row],[ITEMNMBR]]","v":0},"Custom -The Business Journals  w/ Marketing Material - 4801 (Tim M.)","RETAIL",39.99]
[null,{"$f":"Table_prices[[#This Row],[ITEMNMBR]]","v":0},"Custom -The Business Journals -Ice Cream Party (Tim)","RETAIL",39.99]
[null,{"$f":"Table_prices[[#This Row],[ITEMNMBR]]","v":0},"Custom -The Business Journals - 4050 (Tim)","RETAIL",34.99]
[null,{"$f":"Table_prices[[#This Row],[ITEMNMBR]]","v":0},"Custom Snack & Chocolate ( Tim )","RETAIL",219.99]
[null,{"$f":"Table_prices[[#This Row],[ITEMNMBR]]","v":0},"Custom Bayer Ravenswood No Meat","RETAIL",69.989999999999995]
[null,{"$f":"Table_prices[[#This Row],[ITEMNMBR]]","v":0},"Custom  Bella Italiana (Tim)","RETAIL",159.99]
[null,{"$f":"Table_prices[[#This Row],[ITEMNMBR]]","v":0},"Custom Mojito Basket with Knife and Shaker","RETAIL",92.99]
[null,{"$f":"Table_prices[[#This Row],[ITEMNMBR]]","v":0},"Custom Vegas Theme Basket","RETAIL",235.99]
[null,{"$f":"Table_prices[[#This Row],[ITEMNMBR]]","v":0},"Custom *Rodney Strong* Cabernet & Chardonnay - snacks & chocolates (Tim)","RETAIL",150]
[null,{"$f":"Table_prices[[#This Row],[ITEMNMBR]]","v":0},"Custom: Snack Premium with added plastic knife (Tim)","RETAIL",79.989999999999995]
[null,{"$f":"Table_prices[[#This Row],[ITEMNMBR]]","v":0},"Custom:4-Combinator Inc. -  Fruit and Healthy (Tim/Mike)","RETAIL",100]
[null,{"$f":"Table_prices[[#This Row],[ITEMNMBR]]","v":0},"Custom Single Wine Cakebread","RETAIL",203.74]
[null,{"$f":"Table_prices[[#This Row],[ITEMNMBR]]","v":0},"Custom: Microstrategies - Evening of Indulgence (Tim)","RETAIL",95.99]
[null,{"$f":"Table_prices[[#This Row],[ITEMNMBR]]","v":0},"Custom: MicroStrategy - Moet and Snacks (Tim)","RETAIL",100]
[null,{"$f":"Table_prices[[#This Row],[ITEMNMBR]]","v":0},"Custom 6257 plus ravenswood cabernet (Tim)","RETAIL",86.99]
[null,{"$f":"Table_prices[[#This Row],[ITEMNMBR]]","v":0},"Custom Merlot & snacks (Tim)","RETAIL",80]
[null,{"$f":"Table_prices[[#This Row],[ITEMNMBR]]","v":0},"Custom: Comcast - Xfinity - Popcorn Lovers (Tim)","RETAIL",119.99]
[null,{"$f":"Table_prices[[#This Row],[ITEMNMBR]]","v":0},"Kosher Stack - No Chocolate - Tim M.","RETAIL",40.06]
[null,{"$f":"Table_prices[[#This Row],[ITEMNMBR]]","v":0},"Kosher Classic - No Chocolate - Tim M.","RETAIL",63.14]
[null,{"$f":"Table_prices[[#This Row],[ITEMNMBR]]","v":0},"Davids Bridal Custom","RETAIL",0]
[null,{"$f":"Table_prices[[#This Row],[ITEMNMBR]]","v":0},"Custom :Dorma Controls Baked Goods Basket","RETAIL",65]
[null,{"$f":"Table_prices[[#This Row],[ITEMNMBR]]","v":0},"Custom Kosher with Fruit","RETAIL",170]
[null,{"$f":"Table_prices[[#This Row],[ITEMNMBR]]","v":0},"Custom Diego Margarita Madness","RETAIL",210.99]
[null,{"$f":"Table_prices[[#This Row],[ITEMNMBR]]","v":0},"Custom Diego Bloody Mary Breakfast","RETAIL",143.99]
[null,{"$f":"Table_prices[[#This Row],[ITEMNMBR]]","v":0},"Custom Diego Apple Martini Basket","RETAIL",136.99]
[null,{"$f":"Table_prices[[#This Row],[ITEMNMBR]]","v":0},"Custom Diego Diego Bailey's Irish Cream Basket","RETAIL",147.99]
[null,{"$f":"Table_prices[[#This Row],[ITEMNMBR]]","v":0},"Custom: fruit basket (Tim)","RETAIL",75]
[null,{"$f":"Table_prices[[#This Row],[ITEMNMBR]]","v":0},"Custom: Christmas Mini - Horgan Group Ribbon added (Tim)","RETAIL",24.99]
[null,{"$f":"Table_prices[[#This Row],[ITEMNMBR]]","v":0},"Custom: Christmas Classic - Horgan Group Ribbon added (Tim)","RETAIL",59.99]
[null,{"$f":"Table_prices[[#This Row],[ITEMNMBR]]","v":0},"Custom: Christmas Premium - Horgan Group Ribbon added (Tim)","RETAIL",79.989999999999995]
[null,{"$f":"Table_prices[[#This Row],[ITEMNMBR]]","v":0},"Custom: Horgan Group -  Christmas mini - with branded ribbon (Tim)","RETAIL",24.99]
[null,{"$f":"Table_prices[[#This Row],[ITEMNMBR]]","v":0},"Custom: Horgan Group -  Christmas Classic - with branded ribbon (Tim)","RETAIL",59.99]
[null,{"$f":"Table_prices[[#This Row],[ITEMNMBR]]","v":0},"Custom: Horgan Group -  Christmas Premium - with branded ribbon (Tim)","RETAIL",79.989999999999995]
[null,{"$f":"Table_prices[[#This Row],[ITEMNMBR]]","v":0},"Custom: Horgan Group - Birthday Mini (Tim)","RETAIL",24.99]
[null,{"$f":"Table_prices[[#This Row],[ITEMNMBR]]","v":0},"Custom: Horgan Group - Christmas  Mini (Tim)","RETAIL",24.99]
[null,{"$f":"Table_prices[[#This Row],[ITEMNMBR]]","v":0},"Custom: Horgan Group - Christmas Classic - (custom ribbon) (Tim)","RETAIL",59.99]
[null,{"$f":"Table_prices[[#This Row],[ITEMNMBR]]","v":0},"Custom: Horgan Group -  Christmas Premium (custom ribbon) (Tim)","RETAIL",79.989999999999995]
[null,{"$f":"Table_prices[[#This Row],[ITEMNMBR]]","v":0},"Custom: Care Package (Tim)","RETAIL",299.99]
[null,{"$f":"Table_prices[[#This Row],[ITEMNMBR]]","v":0},"Custom: Dillion Gage Customized Tailgate (Tim)","RETAIL",150]
[null,{"$f":"Table_prices[[#This Row],[ITEMNMBR]]","v":0},"Custom: Dillion Gage Customized Tailgate (Tim) - with baby items","RETAIL",175]
[null,{"$f":"Table_prices[[#This Row],[ITEMNMBR]]","v":0},"Custom: Dillion Gage Customized Tailgate with added dog items (Tim)","RETAIL",180]
[null,{"$f":"Table_prices[[#This Row],[ITEMNMBR]]","v":0},"Drive Marketing Around the World Beer Bucket","RETAIL",83.99]
[null,{"$f":"Table_prices[[#This Row],[ITEMNMBR]]","v":0},"DirectMed Parts & Service - Nostalgic Candy Box plus csi items (Tim)","RETAIL",34.99]
[null,{"$f":"Table_prices[[#This Row],[ITEMNMBR]]","v":0},"Custom: Popcorn (Tim)","RETAIL",143.99]
[null,{"$f":"Table_prices[[#This Row],[ITEMNMBR]]","v":0},"Custom : Tailgate Themed Basket (Tim)","RETAIL",169.99]
[null,{"$f":"Table_prices[[#This Row],[ITEMNMBR]]","v":0},"Custom :Round to Remember  - PINK (Tim)","RETAIL",69.989999999999995]
[null,{"$f":"Table_prices[[#This Row],[ITEMNMBR]]","v":0},"Custom D- R- Horton -summer- (Tim)","RETAIL",25]
[null,{"$f":"Table_prices[[#This Row],[ITEMNMBR]]","v":0},"Custom D.R. Horton Snack w/ KeyChains","RETAIL",25]
[null,{"$f":"Table_prices[[#This Row],[ITEMNMBR]]","v":0},"Custom: Kosher Ultimate (Tim)","RETAIL",124.99]
[null,{"$f":"Table_prices[[#This Row],[ITEMNMBR]]","v":0},"Custom Brownie Sampler","RETAIL",52.99]
[null,{"$f":"Table_prices[[#This Row],[ITEMNMBR]]","v":0},"Custom Brownie & Cookie Sampler","RETAIL",82.99]
[null,{"$f":"Table_prices[[#This Row],[ITEMNMBR]]","v":0},"Custom: Cookies in Gift Box (Tim)","RETAIL",19.989999999999998]
[null,{"$f":"Table_prices[[#This Row],[ITEMNMBR]]","v":0},"Custom: Emerald Homes Custom Snack Gift Basket (Tim)","RETAIL",55]
[null,{"$f":"Table_prices[[#This Row],[ITEMNMBR]]","v":0},"Custom Snack Stack ( Tim )","RETAIL",34.99]
[null,{"$f":"Table_prices[[#This Row],[ITEMNMBR]]","v":0},"Custom: Luxury Snack & Champagne ( Tim )","RETAIL",175]
[null,{"$f":"Table_prices[[#This Row],[ITEMNMBR]]","v":0},"Custom everything but the wine (Tim)","RETAIL",61.99]
[null,{"$f":"Table_prices[[#This Row],[ITEMNMBR]]","v":0},"Custom: Good Advertizing  - western theme -  (Tim)","RETAIL",46]
[null,{"$f":"Table_prices[[#This Row],[ITEMNMBR]]","v":0},"Custom: Good Advertizing  - non beer- beer bucket with snacks -  (Tim)","RETAIL",46]
[null,{"$f":"Table_prices[[#This Row],[ITEMNMBR]]","v":0},"Custom Fondue","RETAIL",101.99]
[null,{"$f":"Table_prices[[#This Row],[ITEMNMBR]]","v":0},"Custom Purely Fruit","RETAIL",100]
[null,{"$f":"Table_prices[[#This Row],[ITEMNMBR]]","v":0},"custom meat lovers extreme collection (tim)","RETAIL",99.99]
[null,{"$f":"Table_prices[[#This Row],[ITEMNMBR]]","v":0},"custom: Cookies, Chocolates & Popcorn  (Tim)","RETAIL",100]
[null,{"$f":"Table_prices[[#This Row],[ITEMNMBR]]","v":0},"Custom 5345 with Fruit, Auntie Trudie's, and Lindt","RETAIL",99.99]
[null,{"$f":"Table_prices[[#This Row],[ITEMNMBR]]","v":0},"Custom 5345 with Fruit, Auntie Trudie's, and Lindt","RETAIL",99.99]
[null,{"$f":"Table_prices[[#This Row],[ITEMNMBR]]","v":0},"Custom 4061 with added baked goods (Tim)","RETAIL",99.99]
[null,{"$f":"Table_prices[[#This Row],[ITEMNMBR]]","v":0},"Thank you basket Catena Duo","RETAIL",0]
[null,{"$f":"Table_prices[[#This Row],[ITEMNMBR]]","v":0},"Custom: Helicon Halloween Cookie Cake (Tim)","RETAIL",37.99]
[null,{"$f":"Table_prices[[#This Row],[ITEMNMBR]]","v":0},"Custom: Helicon Halloween Cookie Cake  with added napkins and plates (Tim)","RETAIL",37.99]
[null,{"$f":"Table_prices[[#This Row],[ITEMNMBR]]","v":0},"Custom: The Hartford Mutual Funds Energetic Snacker (Tim)","RETAIL",99.99]
[null,{"$f":"Table_prices[[#This Row],[ITEMNMBR]]","v":0},"Custom: Hartford Mutual Funds - snack with coffee (Tim)","RETAIL",100]
[null,{"$f":"Table_prices[[#This Row],[ITEMNMBR]]","v":0},"Custom: The Hartford Mutual Funds Energetic Snacker 2 (Tim)","RETAIL",99.99]
[null,{"$f":"Table_prices[[#This Row],[ITEMNMBR]]","v":0},"Custom In Charge Debt Solutions (Tim)","RETAIL",40]
[null,{"$f":"Table_prices[[#This Row],[ITEMNMBR]]","v":0},"Custom In Charge Debt Solutions (Tim)","RETAIL",40]
[null,{"$f":"Table_prices[[#This Row],[ITEMNMBR]]","v":0},"Custom In Charge Debt Solutions (Tim)","RETAIL",40]
[null,{"$f":"Table_prices[[#This Row],[ITEMNMBR]]","v":0},"Custom holiday executive suite plus belgian chocolates (Tim)","RETAIL",350]
[null,{"$f":"Table_prices[[#This Row],[ITEMNMBR]]","v":0},"Custom champagne & chocolate~~Veuve~~ (Tim)","RETAIL",100]
[null,{"$f":"Table_prices[[#This Row],[ITEMNMBR]]","v":0},"Custom - Kosher Basket (Tim M.)","RETAIL",124.99]
[null,{"$f":"Table_prices[[#This Row],[ITEMNMBR]]","v":0},"Custom : candy crate (Tim)","RETAIL",24.99]
[null,{"$f":"Table_prices[[#This Row],[ITEMNMBR]]","v":0},"Custom : mini breakfast (Tim)","RETAIL",24.99]
[null,{"$f":"Table_prices[[#This Row],[ITEMNMBR]]","v":0},"Custom : mini italian (Tim)","RETAIL",24.99]
[null,{"$f":"Table_prices[[#This Row],[ITEMNMBR]]","v":0},"Custom : mini snack (Tim)","RETAIL",24.99]
[null,{"$f":"Table_prices[[#This Row],[ITEMNMBR]]","v":0},"Custom - Latitude 36 Sample - Healthy & Chocolates (Tim)","RETAIL",69.989999999999995]
[null,{"$f":"Table_prices[[#This Row],[ITEMNMBR]]","v":0},"Custom Xmas Classic no Chocolate","RETAIL",68.989999999999995]
[null,{"$f":"Table_prices[[#This Row],[ITEMNMBR]]","v":0},"Custom Xmas Deluxe no Chocolate","RETAIL",112.99]
[null,{"$f":"Table_prices[[#This Row],[ITEMNMBR]]","v":0},"Custom Xmas Deluxe no Chocolate","RETAIL",112.99]
[null,{"$f":"Table_prices[[#This Row],[ITEMNMBR]]","v":0},"Custom Christmas Classic with added CSI  (Tim)","RETAIL",64.989999999999995]
[null,{"$f":"Table_prices[[#This Row],[ITEMNMBR]]","v":0},"Custom: zinfendel, beer ,snacks and bbq  (Tim)","RETAIL",200]
[null,{"$f":"Table_prices[[#This Row],[ITEMNMBR]]","v":0},"Custom 4056 - minus 1 item, add 1 box cherries","RETAIL",249.99]
[null,{"$f":"Table_prices[[#This Row],[ITEMNMBR]]","v":0},"Custom: Fruit, Gourmet & Wine","RETAIL",425]
[null,{"$f":"Table_prices[[#This Row],[ITEMNMBR]]","v":0},"Custom: Fruit, Gourmet & Wine 2","RETAIL",500]
[null,{"$f":"Table_prices[[#This Row],[ITEMNMBR]]","v":0},"Custom: Microstrategy - red wine dark chocolate duo  (Tim)","RETAIL",225.99]
[null,{"$f":"Table_prices[[#This Row],[ITEMNMBR]]","v":0},"Custom:Chocolate Dreams Valentine's Day Gift (Tim)","RETAIL",94.99]
[null,{"$f":"Table_prices[[#This Row],[ITEMNMBR]]","v":0},"Custom : MPR Snack Gift Basket (Tim)","RETAIL",70]
[null,{"$f":"Table_prices[[#This Row],[ITEMNMBR]]","v":0},"Custom : Popcorn & Snacks (Tim)","RETAIL",160]
[null,{"$f":"Table_prices[[#This Row],[ITEMNMBR]]","v":0},"Custom Cabernet Sauvignon - Silver Oak plus... (Tim)","RETAIL",199.99]
[null,{"$f":"Table_prices[[#This Row],[ITEMNMBR]]","v":0},"Custom Catena- 2 Malbecs no white biscuits (Tim)","RETAIL",149.99]
[null,{"$f":"Table_prices[[#This Row],[ITEMNMBR]]","v":0},"Custom: Flag Hill Winery red, white, snacks and sweets (Tim)","RETAIL",225]
[null,{"$f":"Table_prices[[#This Row],[ITEMNMBR]]","v":0},"Custom: Cheeseboard Stack (Tim)","RETAIL",68.989999999999995]
[null,{"$f":"Table_prices[[#This Row],[ITEMNMBR]]","v":0},"Custom: Gourmet snacks and treats with cheese board and knife  (Tim)","RETAIL",99.99]
[null,{"$f":"Table_prices[[#This Row],[ITEMNMBR]]","v":0},"Custom Wild Horse DUO","RETAIL",114.99]
[null,{"$f":"Table_prices[[#This Row],[ITEMNMBR]]","v":0},"Custom Corporate Showstopper","RETAIL",149.99]
[null,{"$f":"Table_prices[[#This Row],[ITEMNMBR]]","v":0},"Custom Christmas Deluxe","RETAIL",114.99]
[null,{"$f":"Table_prices[[#This Row],[ITEMNMBR]]","v":0},"Custom Corporate Show Stopper","RETAIL",149.99]
[null,{"$f":"Table_prices[[#This Row],[ITEMNMBR]]","v":0},"Custom: Nexsen Pruet branded suitcase with glassware with bottle of Veuve (TIM)","RETAIL",57.99]
[null,{"$f":"Table_prices[[#This Row],[ITEMNMBR]]","v":0},"Custom : Barbeque Gift Basket (Tim)","RETAIL",50]
[null,{"$f":"Table_prices[[#This Row],[ITEMNMBR]]","v":0},"Custom : Soup & Crock Gift Basket (Tim)","RETAIL",50]
[null,{"$f":"Table_prices[[#This Row],[ITEMNMBR]]","v":0},"Custom : Paris Gift Basket (Tim)","RETAIL",50]
[null,{"$f":"Table_prices[[#This Row],[ITEMNMBR]]","v":0},"Custom : Snack Gift Basket (Tim)","RETAIL",50]
[null,{"$f":"Table_prices[[#This Row],[ITEMNMBR]]","v":0},"Custom : Honey Bee Hive  Gift Crate (Tim)","RETAIL",50]
[null,{"$f":"Table_prices[[#This Row],[ITEMNMBR]]","v":0},"Custom :Sweepstakes Tropical  Tower (Tim)","RETAIL",50]
[null,{"$f":"Table_prices[[#This Row],[ITEMNMBR]]","v":0},"Custom : Sweepstakes Wine Basket (Tim)","RETAIL",50]
[null,{"$f":"Table_prices[[#This Row],[ITEMNMBR]]","v":0},"Custom : Sweepstakes Boston Proud - 3 beers (Tim)","RETAIL",50]
[null,{"$f":"Table_prices[[#This Row],[ITEMNMBR]]","v":0},"Custom : National Sweepstakes - beer bucket (Tim)","RETAIL",49.99]
[null,{"$f":"Table_prices[[#This Row],[ITEMNMBR]]","v":0},"Custom : National Sweepstakes - bbq basket (Tim)","RETAIL",49.99]
[null,{"$f":"Table_prices[[#This Row],[ITEMNMBR]]","v":0},"Custom Weekend in Paris","RETAIL",480.3]
[null,{"$f":"Table_prices[[#This Row],[ITEMNMBR]]","v":0},"Custom Tea & Sugar Free","RETAIL",71.2]
[null,{"$f":"Table_prices[[#This Row],[ITEMNMBR]]","v":0},"Custom: Joe  Barton -  Organic snacks plus personalized pillow -  (Tim)","RETAIL",46.99]
[null,{"$f":"Table_prices[[#This Row],[ITEMNMBR]]","v":0},"Custom:  John  Rowley - Organic snacks plus personalized pillow -  (Tim)","RETAIL",46.99]
[null,{"$f":"Table_prices[[#This Row],[ITEMNMBR]]","v":0},"Custom: Chad  Tackett  - Organic snacks plus personalized pillow -  (Tim)","RETAIL",46.99]
[null,{"$f":"Table_prices[[#This Row],[ITEMNMBR]]","v":0},"Custom: Jesse Cannone - Organic snacks plus personalized pillow -  (Tim)","RETAIL",46.99]
[null,{"$f":"Table_prices[[#This Row],[ITEMNMBR]]","v":0},"Custom: Gary  Bencivenga - Organic snacks plus personalized pillow -  (Tim)","RETAIL",46.99]
[null,{"$f":"Table_prices[[#This Row],[ITEMNMBR]]","v":0},"Custom: Shaun  Hadsall - Organic snacks plus personalized pillow -  (Tim)","RETAIL",46.99]
[null,{"$f":"Table_prices[[#This Row],[ITEMNMBR]]","v":0},"Custom: Joel Marion & Josh Benzoni - Organic snacks plus personalized pillow -  (Tim)","RETAIL",56.99]
[null,{"$f":"Table_prices[[#This Row],[ITEMNMBR]]","v":0},"Custom: Jayson Hunter, Ryan Lee & Jim Labadie - Organic snacks plus personalized pillow -  (Tim)","RETAIL",61.99]
[null,{"$f":"Table_prices[[#This Row],[ITEMNMBR]]","v":0},"Custom 5220","RETAIL",99.99]
[null,{"$f":"Table_prices[[#This Row],[ITEMNMBR]]","v":0},"Custom 6520","RETAIL",59.99]
[null,{"$f":"Table_prices[[#This Row],[ITEMNMBR]]","v":0},"Custom: Polsinelli - popcorn candy fun (Tim)","RETAIL",100]
[null,{"$f":"Table_prices[[#This Row],[ITEMNMBR]]","v":0},"Custom: Polsinelli - sweet and salty (Tim)","RETAIL",100]
[null,{"$f":"Table_prices[[#This Row],[ITEMNMBR]]","v":0},"Popcorn Party Gift Basket (Posinelli)","RETAIL",50.14]
[null,{"$f":"Table_prices[[#This Row],[ITEMNMBR]]","v":0},"Meat & Cheese Gift Basket - Polsinelli","RETAIL",67.989999999999995]
[null,{"$f":"Table_prices[[#This Row],[ITEMNMBR]]","v":0},"Custom: - Polsinelli -  Meat,Cheese & Crackers - (Tim)","RETAIL",68.989999999999995]
[null,{"$f":"Table_prices[[#This Row],[ITEMNMBR]]","v":0},"Custom:Snacks and Chocolates (Tim & Mike)","RETAIL",130]
[null,{"$f":"Table_prices[[#This Row],[ITEMNMBR]]","v":0},"Custom: Peachtree - 4052 plus csi - (Tim)","RETAIL",79.989999999999995]
[null,{"$f":"Table_prices[[#This Row],[ITEMNMBR]]","v":0},"Custom: Cakebread Basket  (TIM)","RETAIL",399.99]
[null,{"$f":"Table_prices[[#This Row],[ITEMNMBR]]","v":0},"Custom: Chocolate Basket (Tim)","RETAIL",69.989999999999995]
[null,{"$f":"Table_prices[[#This Row],[ITEMNMBR]]","v":0},"Custom: Cookie Delight (Tim)","RETAIL",45]
[null,{"$f":"Table_prices[[#This Row],[ITEMNMBR]]","v":0},"Custom: Regenesis Snack Classic (Tim)","RETAIL",60]
[null,{"$f":"Table_prices[[#This Row],[ITEMNMBR]]","v":0},"Custom: Regenesis Cookie Delight (Tim)","RETAIL",45]
[null,{"$f":"Table_prices[[#This Row],[ITEMNMBR]]","v":0},"Custom: Regenesis Snack Deluxe (Tim)","RETAIL",99.99]
[null,{"$f":"Table_prices[[#This Row],[ITEMNMBR]]","v":0},"Custom Riverview Healthcare Ravenswood Wine Duo","RETAIL",100]
[null,{"$f":"Table_prices[[#This Row],[ITEMNMBR]]","v":0},"Custom : microbrew 6pk - DC (Tim)","RETAIL",69.989999999999995]
[null,{"$f":"Table_prices[[#This Row],[ITEMNMBR]]","v":0},"Custom : ravens red DC (Tim)","RETAIL",69.989999999999995]
[null,{"$f":"Table_prices[[#This Row],[ITEMNMBR]]","v":0},"Custom : evening of Indulgence DC (Tim)","RETAIL",99.99]
[null,{"$f":"Table_prices[[#This Row],[ITEMNMBR]]","v":0},"Custom : microbrew 6pk - Virginia (Tim)","RETAIL",69.989999999999995]
[null,{"$f":"Table_prices[[#This Row],[ITEMNMBR]]","v":0},"Custom : ravens red Virginia (Tim)","RETAIL",69.989999999999995]
[null,{"$f":"Table_prices[[#This Row],[ITEMNMBR]]","v":0},"Custom : evening of Indulgence Virginia (Tim)","RETAIL",99.99]
[null,{"$f":"Table_prices[[#This Row],[ITEMNMBR]]","v":0},"Custom : ravens white DC (Tim)","RETAIL",69.989999999999995]
[null,{"$f":"Table_prices[[#This Row],[ITEMNMBR]]","v":0},"Custom : ravens white  Virginia (Tim)","RETAIL",69.989999999999995]
[null,{"$f":"Table_prices[[#This Row],[ITEMNMBR]]","v":0},"Custom -  PlumberSEO - snack classic -  (Tim)","RETAIL",59.99]
[null,{"$f":"Table_prices[[#This Row],[ITEMNMBR]]","v":0},"Custom -  PlumberSEO - snack stack -  (Tim)","RETAIL",34.99]
[null,{"$f":"Table_prices[[#This Row],[ITEMNMBR]]","v":0},"Skenzo Chocolate Deluxe","RETAIL",142.99]
[null,{"$f":"Table_prices[[#This Row],[ITEMNMBR]]","v":0},"Custom: The Sacramento Kings - baked goods sampler - company colors (Tim)","RETAIL",29.99]
[null,{"$f":"Table_prices[[#This Row],[ITEMNMBR]]","v":0},"$25 Care Pkg","RETAIL",25]
[null,{"$f":"Table_prices[[#This Row],[ITEMNMBR]]","v":0},"Custom SubItUp Referral Gift  ( Tim )","RETAIL",48.99]
[null,{"$f":"Table_prices[[#This Row],[ITEMNMBR]]","v":0},"Custom:Thrivent Financial - Christmas Tower (Tim)","RETAIL",39.99]
[null,{"$f":"Table_prices[[#This Row],[ITEMNMBR]]","v":0},"Custom: Ticket Galaxy - Winter Wonderland Gift Basket, plus CSI  (Tim)","RETAIL",65]
[null,{"$f":"Table_prices[[#This Row],[ITEMNMBR]]","v":0},"Custom:Trinity Logistics-  red & white wines plus gourmet snacks XXL(Tim)","RETAIL",1000]
[null,{"$f":"Table_prices[[#This Row],[ITEMNMBR]]","v":0},"Custom:Trinity Logestics -  red & white wines plus gourmet snacks XL(Tim)","RETAIL",500]
[null,{"$f":"Table_prices[[#This Row],[ITEMNMBR]]","v":0},"Custom: Thurston Manufacturing - snacks, sweets and baked goods -A- (Tim)","RETAIL",250]
[null,{"$f":"Table_prices[[#This Row],[ITEMNMBR]]","v":0},"Custom:Thurston Manufacturing - snacks, sweets and baked goods -B- (Tim)","RETAIL",400]
[null,{"$f":"Table_prices[[#This Row],[ITEMNMBR]]","v":0},"Custom:T- Mobile -  Healthy, Fruit, Soup, Beer & Snacks (Tim)","RETAIL",139.99]
[null,{"$f":"Table_prices[[#This Row],[ITEMNMBR]]","v":0},"Custom:Titan Salvage - 5090 plus csi mugs (Tim)","RETAIL",111.99]
[null,{"$f":"Table_prices[[#This Row],[ITEMNMBR]]","v":0},"Custom:Titan Salvage - 5090 plus csi mugs & socks (Tim)","RETAIL",99.99]
[null,{"$f":"Table_prices[[#This Row],[ITEMNMBR]]","v":0},"Custom: Total Wine Custom Snack Gift Basket (Tim)","RETAIL",95]
[null,{"$f":"Table_prices[[#This Row],[ITEMNMBR]]","v":0},"Custom Flame Enthusiast with custom print ribbon","RETAIL",79.989999999999995]
[null,{"$f":"Table_prices[[#This Row],[ITEMNMBR]]","v":0},"Custom: U.S. Travel - Snack Deluxe -  plus T-Shirt and handwritten card (Tim)","RETAIL",89.99]
[null,{"$f":"Table_prices[[#This Row],[ITEMNMBR]]","v":0},"Custom: U.S. Travel - Snack Ultimate -  plus 2 T-Shirts and handwritten card (Tim)","RETAIL",149.99]
[null,{"$f":"Table_prices[[#This Row],[ITEMNMBR]]","v":0},"Custom: U.S. Travel - Snack Deluxe plus 8 books (Tim)","RETAIL",99.99]
[null,{"$f":"Table_prices[[#This Row],[ITEMNMBR]]","v":0},"Custom: U.S. Travel - Healthy Deluxe plus 10 books (Tim)","RETAIL",149.99]
[null,{"$f":"Table_prices[[#This Row],[ITEMNMBR]]","v":0},"Custom University of Texas Career Service Center - mostly blue themed - (Tim)","RETAIL",60]
[null,{"$f":"Table_prices[[#This Row],[ITEMNMBR]]","v":0},"Custom $250 Basket","RETAIL",250]
[null,{"$f":"Table_prices[[#This Row],[ITEMNMBR]]","v":0},"Custom christmas with two wines (Tim)","RETAIL",195.99]
[null,{"$f":"Table_prices[[#This Row],[ITEMNMBR]]","v":0},"Custom: Coffee (Tim)","RETAIL",273.60000000000002]
[null,{"$f":"Table_prices[[#This Row],[ITEMNMBR]]","v":0},"Custom Christmas Classic (remove Feridies, add Marich) - (Tim)","RETAIL",66.989999999999995]
[null,{"$f":"Table_prices[[#This Row],[ITEMNMBR]]","v":0},"Custom Christmas Premium (remove Feridies, add Marich) - (Tim)","RETAIL",87.99]
[null,{"$f":"Table_prices[[#This Row],[ITEMNMBR]]","v":0},"Custom Christmas Deluxe (remove Feridies, add Marich) - (Tim)","RETAIL",108.99]
[null,{"$f":"Table_prices[[#This Row],[ITEMNMBR]]","v":0},"custom candy tin - Verizon Wireless -x1","RETAIL",24.99]
[null,{"$f":"Table_prices[[#This Row],[ITEMNMBR]]","v":0},"custom candy tin - Verizon Wireless -x2","RETAIL",49.98]
[null,{"$f":"Table_prices[[#This Row],[ITEMNMBR]]","v":0},"custom candy tin - Verizon Wireless -x3","RETAIL",74.97]
[null,{"$f":"Table_prices[[#This Row],[ITEMNMBR]]","v":0},"Custom - Verizon Wireless - Sports Fan CP - (Tim)","RETAIL",34.99]
[null,{"$f":"Table_prices[[#This Row],[ITEMNMBR]]","v":0},"Custom - Verizon Wireless - Health Nut - no liquids - CP - (Tim)","RETAIL",34.99]
[null,{"$f":"Table_prices[[#This Row],[ITEMNMBR]]","v":0},"WB Wine & Doggy Pastry","RETAIL",49.99]
[null,{"$f":"Table_prices[[#This Row],[ITEMNMBR]]","v":0},"WB Moet & Doggy Pastry","RETAIL",25]
[null,{"$f":"Table_prices[[#This Row],[ITEMNMBR]]","v":0},"Custom Sweets Stack","RETAIL",47.99]
[null,{"$f":"Table_prices[[#This Row],[ITEMNMBR]]","v":0},"Custom: Welcome Home Gift Basket (Tim)","RETAIL",100]
[null,{"$f":"Table_prices[[#This Row],[ITEMNMBR]]","v":0},"Custom: Healthy Gift Basket (Tim)","RETAIL",59.99]
[null,{"$f":"Table_prices[[#This Row],[ITEMNMBR]]","v":0},"Custom: Healthy Gift Basket (Tim)","RETAIL",69.989999999999995]
[null,{"$f":"Table_prices[[#This Row],[ITEMNMBR]]","v":0},"Custom healthy tex mex *mild* (tim)","RETAIL",69.989999999999995]
[null,{"$f":"Table_prices[[#This Row],[ITEMNMBR]]","v":0},"Custom healthy tex mex *a lil spicier* (tim)","RETAIL",67.989999999999995]
[null,{"$f":"Table_prices[[#This Row],[ITEMNMBR]]","v":0},"Custom :Sweets and Snacks (Tim)","RETAIL",150]
[null,{"$f":"Table_prices[[#This Row],[ITEMNMBR]]","v":0},"Custom : Citibank Father's Day Gift Basket  (Tim)","RETAIL",30]
[null,{"$f":"Table_prices[[#This Row],[ITEMNMBR]]","v":0},"Custom: Zenya Wave 1 -  C. Fendrich - (Tim)","RETAIL",10]
[null,{"$f":"Table_prices[[#This Row],[ITEMNMBR]]","v":0},"Custom:Zenya Wave 1  K. King - (Tim)","RETAIL",10]
[null,{"$f":"Table_prices[[#This Row],[ITEMNMBR]]","v":0},"Custom: Zenya Wave 3 (Tim)","RETAIL",3]
[null,{"$f":"Table_prices[[#This Row],[ITEMNMBR]]","v":0},"Too Good Gourmet Carrot Cake White Chocolate Cookies in 3-D Bunny Box 2 oz","RETAIL",100]
[null,{"$f":"Table_prices[[#This Row],[ITEMNMBR]]","v":0},"Too Good Gourmet Everyday Teas Green Earl Grey 6 bags","RETAIL",100]
[null,{"$f":"Table_prices[[#This Row],[ITEMNMBR]]","v":0},"Too Good Gourmet Everyday Teas Pink Raspberry Tea 6 bags","RETAIL",100]
[null,{"$f":"Table_prices[[#This Row],[ITEMNMBR]]","v":0},"Too Good Gourmet Flower Basket 4 oz.","RETAIL",100]
[null,{"$f":"Table_prices[[#This Row],[ITEMNMBR]]","v":0},"Too Good Gourmet Hole In One Chocolate Decadence Cookies 2.5 oz.","RETAIL",100]
[null,{"$f":"Table_prices[[#This Row],[ITEMNMBR]]","v":0},"Too Good Gourmet Jingle Bell Santa - Lemon Snowball Cookies 7 oz.","RETAIL",100]
[null,{"$f":"Table_prices[[#This Row],[ITEMNMBR]]","v":0},"Too Good Gourmet Santa Letterbox Cranberry Pecan Cookies 7 oz.","RETAIL",100]
[null,{"$f":"Table_prices[[#This Row],[ITEMNMBR]]","v":0},"Too Good Gourmet Snowman Button Cookies - Butter Toffee Shortbread 7 oz.","RETAIL",100]
[null,{"$f":"Table_prices[[#This Row],[ITEMNMBR]]","v":0},"Too Good Gourmet Snowman Button Cookies 2 oz","RETAIL",100]
[null,{"$f":"Table_prices[[#This Row],[ITEMNMBR]]","v":0},"Too Good Gourmet Peace Dove Letter Box 7 oz","RETAIL",100]
[null,{"$f":"Table_prices[[#This Row],[ITEMNMBR]]","v":0},"Too Good Gourmet Easter Band","RETAIL",100]
[null,{"$f":"Table_prices[[#This Row],[ITEMNMBR]]","v":0},"Too Good Gourmet Green Wedge Eggnog Spice Cookie 7oz","RETAIL",100]
[null,{"$f":"Table_prices[[#This Row],[ITEMNMBR]]","v":0},"Too Good Gourmet Santa Claus Chocolate Decadence Cookie 7oz","RETAIL",100]
[null,{"$f":"Table_prices[[#This Row],[ITEMNMBR]]","v":0},"Too Good Gourmet Gingerbread Cookies 7oz","RETAIL",100]
[null,{"$f":"Table_prices[[#This Row],[ITEMNMBR]]","v":0},"Shortbread Cookies 7oz","RETAIL",100]
[null,{"$f":"Table_prices[[#This Row],[ITEMNMBR]]","v":0},"Blue Ornament Deco Tube","RETAIL",100]
[null,{"$f":"Table_prices[[#This Row],[ITEMNMBR]]","v":0},"Lemon Snowball Snowman 2 oz","RETAIL",100]
[null,{"$f":"Table_prices[[#This Row],[ITEMNMBR]]","v":0},"2 OZ Chocolate Chip Penguin","RETAIL",100]
[null,{"$f":"Table_prices[[#This Row],[ITEMNMBR]]","v":0},"Blue & Green Snowman Snow Globe Shortbread Cookies 7 oz. -","RETAIL",100]
[null,{"$f":"Table_prices[[#This Row],[ITEMNMBR]]","v":0},"Dark Chocolate Cocoa (red & green ornament box with bow) by Too Good Gourmet - 2.oz. -","RETAIL",100]
[null,{"$f":"Table_prices[[#This Row],[ITEMNMBR]]","v":0},"Cinnamon Spice Ornament Cocoa with Green Bow 2 oz.","RETAIL",100]
[null,{"$f":"Table_prices[[#This Row],[ITEMNMBR]]","v":0}," Choc. Peppermint Cookies (red,green,white penguine globe box) by Too Good Gourmet  - 7oz -","RETAIL",100]
[null,{"$f":"Table_prices[[#This Row],[ITEMNMBR]]","v":0},"Pecan Cookies in Snowman Box by Too Good Gourmet - 7 oz -","RETAIL",100]
[null,{"$f":"Table_prices[[#This Row],[ITEMNMBR]]","v":0},"Chocolate Chip Cookies in Santa Snowglobe Box by Too Good Gourmet - 7 oz. -","RETAIL",100]
[null,{"$f":"Table_prices[[#This Row],[ITEMNMBR]]","v":0},"Torn Ranch Dark Chocolate Orange Peels 3.5 oz","RETAIL",100]
[null,{"$f":"Table_prices[[#This Row],[ITEMNMBR]]","v":0},"Torn Ranch Glaced Orange Slices half-dipped in chocolate 2 oz","RETAIL",100]
[null,{"$f":"Table_prices[[#This Row],[ITEMNMBR]]","v":0},"Candy Cane Tower -","RETAIL",100]
[null,{"$f":"Table_prices[[#This Row],[ITEMNMBR]]","v":0},"Vintage Tower -","RETAIL",100]
[null,{"$f":"Table_prices[[#This Row],[ITEMNMBR]]","v":0},"Celebration Tower with Stars and Circles -","RETAIL",100]
[null,{"$f":"Table_prices[[#This Row],[ITEMNMBR]]","v":0},"Birthday Candle Tower -","RETAIL",100]
[null,{"$f":"Table_prices[[#This Row],[ITEMNMBR]]","v":0},"Blue and Gold Tower -","RETAIL",100]
[null,{"$f":"Table_prices[[#This Row],[ITEMNMBR]]","v":0},"Generic Tower -","RETAIL",100]
[null,{"$f":"Table_prices[[#This Row],[ITEMNMBR]]","v":0},"Valentines Day Tower -","RETAIL",100]
[null,{"$f":"Table_prices[[#This Row],[ITEMNMBR]]","v":0},"Christmas #1 Ornament Tower -","RETAIL",100]
[null,{"$f":"Table_prices[[#This Row],[ITEMNMBR]]","v":0},"Christmas #2 Gingerbread Tower -","RETAIL",100]
[null,{"$f":"Table_prices[[#This Row],[ITEMNMBR]]","v":0},"Easter Tower -","RETAIL",100]
[null,{"$f":"Table_prices[[#This Row],[ITEMNMBR]]","v":0},"Spring Floral Tower -","RETAIL",100]
[null,{"$f":"Table_prices[[#This Row],[ITEMNMBR]]","v":0},"Everyday Damask Tower -","RETAIL",100]
[null,{"$f":"Table_prices[[#This Row],[ITEMNMBR]]","v":0},"Halloween #1 Haunted House Tower -","RETAIL",100]
[null,{"$f":"Table_prices[[#This Row],[ITEMNMBR]]","v":0},"Halloween #2 Spooky Eyes & Ghosts Tower -","RETAIL",100]
[null,{"$f":"Table_prices[[#This Row],[ITEMNMBR]]","v":0},"Everyday Lavender Dark Purple Tower -","RETAIL",100]
[null,{"$f":"Table_prices[[#This Row],[ITEMNMBR]]","v":0},"Everday Green/Blue Tower -","RETAIL",100]
[null,{"$f":"Table_prices[[#This Row],[ITEMNMBR]]","v":0},"Easter DOTS by Tootsie - 7 oz. -","RETAIL",100]
[null,{"$f":"Table_prices[[#This Row],[ITEMNMBR]]","v":0},"Dark Chocolate Banana Coins 4oz.","RETAIL",100]
[null,{"$f":"Table_prices[[#This Row],[ITEMNMBR]]","v":0},"Yogurt Covered Mini Pretzels by Auntie Trudies - 6 oz.","RETAIL",1.99]
[null,{"$f":"Table_prices[[#This Row],[ITEMNMBR]]","v":0},"Tortuga  Carribean Rum Cake - Original 4 oz.","RETAIL",100]
[null,{"$f":"Table_prices[[#This Row],[ITEMNMBR]]","v":0},"7 piece Fondue Set by Trudeau Sundail -","RETAIL",100]
[null,{"$f":"Table_prices[[#This Row],[ITEMNMBR]]","v":0},"Milk Can Tin - 40 oz Peanuts","RETAIL",6.74]
[null,{"$f":"Table_prices[[#This Row],[ITEMNMBR]]","v":0},"Herr's Camo Paint Can - 16 oz Herr's","RETAIL",36]
[null,{"$f":"Table_prices[[#This Row],[ITEMNMBR]]","v":0},"Camo Paint Can - 24 oz Herr's","RETAIL",12.99]
[null,{"$f":"Table_prices[[#This Row],[ITEMNMBR]]","v":0},"Kingslake & Crane Orchard Granola 4 oz","RETAIL",100]
[null,{"$f":"Table_prices[[#This Row],[ITEMNMBR]]","v":0},"Made in Napa Valley Garden Herb Dipping Oil 9.1 oz","RETAIL",100]
[null,{"$f":"Table_prices[[#This Row],[ITEMNMBR]]","v":0},"Appledore Cove Black Bean and Cocoa Mole Sauce 8oz","RETAIL",100]
[null,{"$f":"Table_prices[[#This Row],[ITEMNMBR]]","v":0},"Appledore Cove  Seaside Barbecue Sauce 10.5oz","RETAIL",100]
[null,{"$f":"Table_prices[[#This Row],[ITEMNMBR]]","v":0},"Appledore Cove Blueberry Jalapeno Sauce 10.5oz","RETAIL",100]
[null,{"$f":"Table_prices[[#This Row],[ITEMNMBR]]","v":0},"Made in Napa Valley Rub - Beef & Burger 3 oz.","RETAIL",100]
[null,{"$f":"Table_prices[[#This Row],[ITEMNMBR]]","v":0},"Made in Napa Valley Rub - Fish & Shellfish 3 oz.","RETAIL",100]
[null,{"$f":"Table_prices[[#This Row],[ITEMNMBR]]","v":0},"Made in Napa Valley Rub - Poultry 3 oz.","RETAIL",100]
[null,{"$f":"Table_prices[[#This Row],[ITEMNMBR]]","v":0},"Appledore Cove Mango Grill Sauce 10.5oz","RETAIL",100]
[null,{"$f":"Table_prices[[#This Row],[ITEMNMBR]]","v":0},"Made in Napa Valley Tapenade - Sun-Dried Tomato with Balsamic & Garlic 9.5 oz.","RETAIL",100]
[null,{"$f":"Table_prices[[#This Row],[ITEMNMBR]]","v":0},"Made in Napa Valley Tomato Basil with Zinfandel 16 oz.","RETAIL",100]
[null,{"$f":"Table_prices[[#This Row],[ITEMNMBR]]","v":0},"Sweet & Salty Lime Margarita Salt by Margaritaville - 4 oz. -","RETAIL",100]
[null,{"$f":"Table_prices[[#This Row],[ITEMNMBR]]","v":0},"Twelve Sparking Tea","RETAIL",100]
[null,{"$f":"Table_prices[[#This Row],[ITEMNMBR]]","v":0},"5-7 lb Smoked Apple-Cured Bonless Ham","RETAIL",100]
[null,{"$f":"Table_prices[[#This Row],[ITEMNMBR]]","v":0},"10-14 lb Smoked Apple-Cured Bonless Ham","RETAIL",100]
[null,{"$f":"Table_prices[[#This Row],[ITEMNMBR]]","v":0},"10 oz Sirloin","RETAIL",100]
[null,{"$f":"Table_prices[[#This Row],[ITEMNMBR]]","v":0},"12 oz Ribeye Steak","RETAIL",100]
[null,{"$f":"Table_prices[[#This Row],[ITEMNMBR]]","v":0},"5 oz Sirloin Steak Burgers 2 pack","RETAIL",100]
[null,{"$f":"Table_prices[[#This Row],[ITEMNMBR]]","v":0},"1 lb Spicy Sausage Links","RETAIL",100]
[null,{"$f":"Table_prices[[#This Row],[ITEMNMBR]]","v":0},"1 lb Sweet Sausage Links","RETAIL",100]
[null,{"$f":"Table_prices[[#This Row],[ITEMNMBR]]","v":0},"10-14lbs turkey","RETAIL",100]
[null,{"$f":"Table_prices[[#This Row],[ITEMNMBR]]","v":0},"Apple Pecan Bar by Two Degrees Food - 1.6 oz. -","RETAIL",100]
[null,{"$f":"Table_prices[[#This Row],[ITEMNMBR]]","v":0},"Uline Easter Box 24X18X18 15/120","RETAIL",100]
[null,{"$f":"Table_prices[[#This Row],[ITEMNMBR]]","v":0},"1 Mil Poly Bag - 2 & 3.5 Gallon","RETAIL",100]
[null,{"$f":"Table_prices[[#This Row],[ITEMNMBR]]","v":0},"Temp. Cheesecake Box","RETAIL",100]
[null,{"$f":"Table_prices[[#This Row],[ITEMNMBR]]","v":0},"1 Mil Poly Bag - 6.5 Gallon","RETAIL",100]
[null,{"$f":"Table_prices[[#This Row],[ITEMNMBR]]","v":0},"Harry Hare - 12\" - Brown Bunny by Unipak Designs -","RETAIL",100]
[null,{"$f":"Table_prices[[#This Row],[ITEMNMBR]]","v":0},"Fiona - 8\" - Grey Bunny by Unipak Designs -","RETAIL",100]
[null,{"$f":"Table_prices[[#This Row],[ITEMNMBR]]","v":0},"Harry Hare  - 12\" - Brown Bunny by Unipak Designs -","RETAIL",100]
[null,{"$f":"Table_prices[[#This Row],[ITEMNMBR]]","v":0},"Shags Hare  - 16\" - Brown Bunny by Unipak Designs -","RETAIL",100]
[null,{"$f":"Table_prices[[#This Row],[ITEMNMBR]]","v":0},"Shags Hare  - 16\"  - Brown Bunny -  by Unipak Designs -","RETAIL",100]
[null,{"$f":"Table_prices[[#This Row],[ITEMNMBR]]","v":0},"Shags Hare  - 16\" - WhiteBunny by Unipak Designs -","RETAIL",100]
[null,{"$f":"Table_prices[[#This Row],[ITEMNMBR]]","v":0},"Upper Canada All About Feet Cooling Leg Rub 6.8 oz","RETAIL",100]
[null,{"$f":"Table_prices[[#This Row],[ITEMNMBR]]","v":0},"Upper Canada All About Feet Exfoliating Foot Scrub 4.2 oz","RETAIL",100]
[null,{"$f":"Table_prices[[#This Row],[ITEMNMBR]]","v":0},"Upper Canada All About Feet Relaxing Foot Soak 1.8 oz","RETAIL",100]
[null,{"$f":"Table_prices[[#This Row],[ITEMNMBR]]","v":0},"Upper Canada All About Feet Revitalizing Foot Spray 4.2 oz","RETAIL",100]
[null,{"$f":"Table_prices[[#This Row],[ITEMNMBR]]","v":0},"Upper Canada All About Feet Soothing Foot Cream 4 oz","RETAIL",100]
[null,{"$f":"Table_prices[[#This Row],[ITEMNMBR]]","v":0},"Upper Canada All About Hands 2-Way Buffer","RETAIL",100]
[null,{"$f":"Table_prices[[#This Row],[ITEMNMBR]]","v":0},"Upper Canada All About Hands Daily Moisture Hand Lotion 4 oz","RETAIL",100]
[null,{"$f":"Table_prices[[#This Row],[ITEMNMBR]]","v":0},"Upper Canada All About Hands Daily Moisture Hand Wash 4 oz","RETAIL",100]
[null,{"$f":"Table_prices[[#This Row],[ITEMNMBR]]","v":0},"Upper Canada All About Hands Restorative Hand & Nail Milk Soak 1.8 oz","RETAIL",100]
[null,{"$f":"Table_prices[[#This Row],[ITEMNMBR]]","v":0},"Upper Canada Freshly Cut Blossom Bath Burst Set Lavender & Citron 12 oz","RETAIL",100]
[null,{"$f":"Table_prices[[#This Row],[ITEMNMBR]]","v":0},"Upper Canada Freshly Cut Foaming Bath Powder Sachet Lavender & Citron 1.7 oz","RETAIL",100]
[null,{"$f":"Table_prices[[#This Row],[ITEMNMBR]]","v":0},"Upper Canada Freshly Cut Mini Silky Hand & Body Lotion Lavender & Citron 2.5 oz","RETAIL",100]
[null,{"$f":"Table_prices[[#This Row],[ITEMNMBR]]","v":0},"Upper Canada Freshly Cut Silky Hand & Body Lotion Lavender & Citron 8 oz","RETAIL",100]
[null,{"$f":"Table_prices[[#This Row],[ITEMNMBR]]","v":0},"Upper Canada Foaming Bath Milk in Warm Honey Nectar 1.7 oz","RETAIL",100]
[null,{"$f":"Table_prices[[#This Row],[ITEMNMBR]]","v":0},"Upper Canada Naturally Nourishing Hand & Body Lotion Warm Honey Nectar 8 oz","RETAIL",100]
[null,{"$f":"Table_prices[[#This Row],[ITEMNMBR]]","v":0},"Upper Canada Naturally Wholesome Hand & Body Wash Warm Honey Nectar 12 oz","RETAIL",100]
[null,{"$f":"Table_prices[[#This Row],[ITEMNMBR]]","v":0},"Upper Canada Naturally Wholesome Soap Bar in Warm Honey Nectar 5 oz","RETAIL",100]
[null,{"$f":"Table_prices[[#This Row],[ITEMNMBR]]","v":0},"Upper Canada Naturally Hydrating Shower Gel in Pressed Olive Avocado 6.8 oz","RETAIL",100]
[null,{"$f":"Table_prices[[#This Row],[ITEMNMBR]]","v":0},"Upper Canada Naturally Wholesome Soap Bar in Pressed Olive Avocado 5 oz","RETAIL",100]
[null,{"$f":"Table_prices[[#This Row],[ITEMNMBR]]","v":0},"Upper Canada Sea Spa Aroma Foam Bath in Caribbean 8 oz","RETAIL",100]
[null,{"$f":"Table_prices[[#This Row],[ITEMNMBR]]","v":0},"Upper Canada Sea Spa Creamy Body Wash in Caribbean 8 oz","RETAIL",100]
[null,{"$f":"Table_prices[[#This Row],[ITEMNMBR]]","v":0},"Upper Canada Sea Spa Detoxifying Mineral Mud in Caribbean 4 oz","RETAIL",100]
[null,{"$f":"Table_prices[[#This Row],[ITEMNMBR]]","v":0},"Upper Canada Sea Spa Mini Replenishing Body Lotion in Caribbean 2.5 oz","RETAIL",100]
[null,{"$f":"Table_prices[[#This Row],[ITEMNMBR]]","v":0},"Upper Canada Sea Spa Replenishing Body Lotion in Caribbean 8 oz","RETAIL",100]
[null,{"$f":"Table_prices[[#This Row],[ITEMNMBR]]","v":0},"Upper Canada Sea Spa Sea Salt Soak in Caribbean 1.8 oz","RETAIL",100]
[null,{"$f":"Table_prices[[#This Row],[ITEMNMBR]]","v":0},"Upper Canada Sea Spa Seaweed Body Polish in Caribbean 4 oz","RETAIL",100]
[null,{"$f":"Table_prices[[#This Row],[ITEMNMBR]]","v":0},"Upper Canada Bamboo Facial Cleansing Mitt","RETAIL",100]
[null,{"$f":"Table_prices[[#This Row],[ITEMNMBR]]","v":0},"Upper Canada Tan Back Scrubbie","RETAIL",100]
[null,{"$f":"Table_prices[[#This Row],[ITEMNMBR]]","v":0},"Upper Canada Men's Montana Collection Dual Zip Caddy with Velcro","RETAIL",100]
[null,{"$f":"Table_prices[[#This Row],[ITEMNMBR]]","v":0},"Upper Canada Freshly Cut Petal Soft Bubble Bath Lavender & Citron 8 oz","RETAIL",100]
[null,{"$f":"Table_prices[[#This Row],[ITEMNMBR]]","v":0},"Upper Canada Seventh Heaven Body Souffle in Chocolate Strawberry 6oz","RETAIL",100]
[null,{"$f":"Table_prices[[#This Row],[ITEMNMBR]]","v":0},"Upper Canada Sweet Escape Foaming Bath Powder In Choc Straw 10oz","RETAIL",100]
[null,{"$f":"Table_prices[[#This Row],[ITEMNMBR]]","v":0},"Upper Canada Bath Truffle Fizzie in Chocolate Straw 4.4oz","RETAIL",100]
[null,{"$f":"Table_prices[[#This Row],[ITEMNMBR]]","v":0},"Upper Canada Sweet Vanilla Fig Soap Bar","RETAIL",100]
[null,{"$f":"Table_prices[[#This Row],[ITEMNMBR]]","v":0},"Upper Canada Massaging Body Gel","RETAIL",100]
[null,{"$f":"Table_prices[[#This Row],[ITEMNMBR]]","v":0},"Upper Canada Hand Wash in Herbal Mint 8oz","RETAIL",100]
[null,{"$f":"Table_prices[[#This Row],[ITEMNMBR]]","v":0},"Upper Canada Intensive Hand Therapy Cream in Herbal MInt 5oz","RETAIL",100]
[null,{"$f":"Table_prices[[#This Row],[ITEMNMBR]]","v":0},"Upper Canada Loofah Soap Bar 5oz","RETAIL",100]
[null,{"$f":"Table_prices[[#This Row],[ITEMNMBR]]","v":0},"Upper Canada Freshly Cut Silky Hand & Body Lotion Poppy Flower 8 oz","RETAIL",100]
[null,{"$f":"Table_prices[[#This Row],[ITEMNMBR]]","v":0},"Upper Canada Freshly Cut Blossom Bath Burst Set Poppy Flower 6oz","RETAIL",100]
[null,{"$f":"Table_prices[[#This Row],[ITEMNMBR]]","v":0},"Upper Canada Freshly Cut Foaming Bath Powder Sachet Poppy Flower  1.7 oz","RETAIL",100]
[null,{"$f":"Table_prices[[#This Row],[ITEMNMBR]]","v":0},"Upper Canada All About Hands Restorative Hand & Nail Milk Soak 8 oz","RETAIL",100]
[null,{"$f":"Table_prices[[#This Row],[ITEMNMBR]]","v":0},"Upper Canada Chocolate Strawberry Bubble Bath 8oz","RETAIL",100]
[null,{"$f":"Table_prices[[#This Row],[ITEMNMBR]]","v":0},"Upper Canada Chocolate Strawberry Foaming Bath Powder Sachet 1.8oz","RETAIL",100]
[null,{"$f":"Table_prices[[#This Row],[ITEMNMBR]]","v":0},"Pressed Olive Avacado Bar Soap by Upper Canada - 5 oz. -","RETAIL",100]
[null,{"$f":"Table_prices[[#This Row],[ITEMNMBR]]","v":0},"Sugar Foot Scrub by Upper Canada - 6 oz.","RETAIL",100]
[null,{"$f":"Table_prices[[#This Row],[ITEMNMBR]]","v":0},"Urban Accents All Natural Sweet Strawberry Lemonade Mix 8 oz","RETAIL",100]
[null,{"$f":"Table_prices[[#This Row],[ITEMNMBR]]","v":0},"Urban Accents Fiery Pineapple Fruit Grillers 1.7oz.","RETAIL",100]
[null,{"$f":"Table_prices[[#This Row],[ITEMNMBR]]","v":0},"Beef & Burger Rub by Urban Accents - 1.5 oz. -","RETAIL",100]
[null,{"$f":"Table_prices[[#This Row],[ITEMNMBR]]","v":0},"Urban Accents Chicken and Poultry Rub 1.5oz.","RETAIL",100]
[null,{"$f":"Table_prices[[#This Row],[ITEMNMBR]]","v":0},"Urban Accents Pork & BBQ Rub 1.5oz.","RETAIL",100]
[null,{"$f":"Table_prices[[#This Row],[ITEMNMBR]]","v":0},"Urban Accents Veggie & Salad  Rub 1.5oz.","RETAIL",100]
[null,{"$f":"Table_prices[[#This Row],[ITEMNMBR]]","v":0},"Urban Accents White Cheddar Seasoning","RETAIL",100]
[null,{"$f":"Table_prices[[#This Row],[ITEMNMBR]]","v":0},"Urban Accents Chilie Lime Seasoning","RETAIL",100]
[null,{"$f":"Table_prices[[#This Row],[ITEMNMBR]]","v":0},"Urban Accents Caramel Seasoning","RETAIL",100]
[null,{"$f":"Table_prices[[#This Row],[ITEMNMBR]]","v":0},"Urban Accents Asiago & Cracked Pepper Seasoning","RETAIL",100]
[null,{"$f":"Table_prices[[#This Row],[ITEMNMBR]]","v":0},"Urban Accents Sweet & Salty Kettlecorn Seasoning","RETAIL",100]
[null,{"$f":"Table_prices[[#This Row],[ITEMNMBR]]","v":0},"Urban Accents Popcorn Oil Spritzer","RETAIL",100]
[null,{"$f":"Table_prices[[#This Row],[ITEMNMBR]]","v":0},"Urban Accents White Gold Popcorn","RETAIL",100]
[null,{"$f":"Table_prices[[#This Row],[ITEMNMBR]]","v":0},"Urban Accents Ruby Red Popcorn","RETAIL",100]
[null,{"$f":"Table_prices[[#This Row],[ITEMNMBR]]","v":0},"Urban Accents Indigo Blue Popcorn","RETAIL",100]
[null,{"$f":"Table_prices[[#This Row],[ITEMNMBR]]","v":0},"Puttanesca Rustic Spaghetti Sauce Mix","RETAIL",100]
[null,{"$f":"Table_prices[[#This Row],[ITEMNMBR]]","v":0},"Vermont Grille Dryglaze","RETAIL",100]
[null,{"$f":"Table_prices[[#This Row],[ITEMNMBR]]","v":0},"Sante Fe BBQ- Honey & Chipotle Chili -  Dryglaze by Urban Accents - 2 oz. -","RETAIL",100]
[null,{"$f":"Table_prices[[#This Row],[ITEMNMBR]]","v":0},"Citrus Pepper Cheese Roll by Urban Accents - serves 8-10 -","RETAIL",100]
[null,{"$f":"Table_prices[[#This Row],[ITEMNMBR]]","v":0},"Cayman Citrus Heat Dry Glaze- 2 oz","RETAIL",100]
[null,{"$f":"Table_prices[[#This Row],[ITEMNMBR]]","v":0},"Tricolor Popcorn Kernels by Urban Accents - 16 oz. -","RETAIL",100]
[null,{"$f":"Table_prices[[#This Row],[ITEMNMBR]]","v":0},"Sizzling Sriracha Popcorn Seasoning","RETAIL",4.42]
[null,{"$f":"Table_prices[[#This Row],[ITEMNMBR]]","v":0},"Cactus Margarita Glass by Libbey - 14 oz. -","RETAIL",100]
[null,{"$f":"Table_prices[[#This Row],[ITEMNMBR]]","v":0},"Rainbow Yo-Yo - 2\" -","RETAIL",100]
[null,{"$f":"Table_prices[[#This Row],[ITEMNMBR]]","v":0},"Mini Basketball Game -","RETAIL",100]
[null,{"$f":"Table_prices[[#This Row],[ITEMNMBR]]","v":0},"Pencil Sharpener -","RETAIL",100]
[null,{"$f":"Table_prices[[#This Row],[ITEMNMBR]]","v":0},"GourmetGiftBaskets.com - Exclusive Deal For Facebook","RETAIL",15]
[null,{"$f":"Table_prices[[#This Row],[ITEMNMBR]]","v":0},"Smoked Pepperoni by Vermont Smoke & Cure - 7 oz. -","RETAIL",100]
[null,{"$f":"Table_prices[[#This Row],[ITEMNMBR]]","v":0},"GourmetGiftBaskets.com Fruit Stickers","RETAIL",100]
[null,{"$f":"Table_prices[[#This Row],[ITEMNMBR]]","v":0},"Blueberry Crisp by Village Mixes -  9oz -","RETAIL",100]
[null,{"$f":"Table_prices[[#This Row],[ITEMNMBR]]","v":0},"Budweiser BBQ Sauce 18oz","RETAIL",100]
[null,{"$f":"Table_prices[[#This Row],[ITEMNMBR]]","v":0},"Creamy Peanut Butter by Vermont Peanut Butter Company - 16 oz. -","RETAIL",100]
[null,{"$f":"Table_prices[[#This Row],[ITEMNMBR]]","v":0},"Wabash Valley Farms Whirley Pop Popcorn Popper Red","RETAIL",100]
[null,{"$f":"Table_prices[[#This Row],[ITEMNMBR]]","v":0},"Buttery Canola Popping Oil by Wabash Valley Farms - 8 oz. -","RETAIL",100]
[null,{"$f":"Table_prices[[#This Row],[ITEMNMBR]]","v":0},"Classic Blend Popping Oil by Wabash Valley Farms - 8 oz. -","RETAIL",100]
[null,{"$f":"Table_prices[[#This Row],[ITEMNMBR]]","v":0},"Wagathas Super Biscuit 9oz","RETAIL",100]
[null,{"$f":"Table_prices[[#This Row],[ITEMNMBR]]","v":0},"Original Biscuit 9oz","RETAIL",100]
[null,{"$f":"Table_prices[[#This Row],[ITEMNMBR]]","v":0},"Wagathas Breakfast Biscuit 9oz","RETAIL",100]
[null,{"$f":"Table_prices[[#This Row],[ITEMNMBR]]","v":0},"Wagathas Cran Cheddar 9oz","RETAIL",100]
[null,{"$f":"Table_prices[[#This Row],[ITEMNMBR]]","v":0},"Wagathas Tuscan Tomato Biscuit 9oz","RETAIL",100]
[null,{"$f":"Table_prices[[#This Row],[ITEMNMBR]]","v":0},"Super Berry Biscuits","RETAIL",100]
[null,{"$f":"Table_prices[[#This Row],[ITEMNMBR]]","v":0},"Breakfast Biscuits","RETAIL",100]
[null,{"$f":"Table_prices[[#This Row],[ITEMNMBR]]","v":0},"Cranberry Cheddar Biscuits","RETAIL",100]
[null,{"$f":"Table_prices[[#This Row],[ITEMNMBR]]","v":0},"Tuscan Biscuits","RETAIL",100]
[null,{"$f":"Table_prices[[#This Row],[ITEMNMBR]]","v":0},"Original Recipe Biscuits","RETAIL",100]
[null,{"$f":"Table_prices[[#This Row],[ITEMNMBR]]","v":0},"Wald Imports LTD. Double Wine Carrier N/A","RETAIL",100]
[null,{"$f":"Table_prices[[#This Row],[ITEMNMBR]]","v":0},"Wald Imports LTD. Single Wine Basket N/A","RETAIL",100]
[null,{"$f":"Table_prices[[#This Row],[ITEMNMBR]]","v":0},"Wald Imports LTD. 8 Quart Colander N/A","RETAIL",100]
[null,{"$f":"Table_prices[[#This Row],[ITEMNMBR]]","v":0},"Wald Imports LTD. Set of 2 French Baskets N/A","RETAIL",100]
[null,{"$f":"Table_prices[[#This Row],[ITEMNMBR]]","v":0},"Wald Imports LTD. Golf Cooler Bag N/A","RETAIL",100]
[null,{"$f":"Table_prices[[#This Row],[ITEMNMBR]]","v":0},"Wildly Delicious Blanc & Noir Sesame Flat Bread Crisps","RETAIL",100]
[null,{"$f":"Table_prices[[#This Row],[ITEMNMBR]]","v":0},"Johnson's Baby Shampoo  7 oz.","RETAIL",100]
[null,{"$f":"Table_prices[[#This Row],[ITEMNMBR]]","v":0},"Johnson's Baby Powder  4 oz.","RETAIL",100]
[null,{"$f":"Table_prices[[#This Row],[ITEMNMBR]]","v":0},"Canus li'l Goat's Milk 16 oz","RETAIL",100]
[null,{"$f":"Table_prices[[#This Row],[ITEMNMBR]]","v":0},"Cerveza Platter by Wild Eye Designs -","RETAIL",100]
[null,{"$f":"Table_prices[[#This Row],[ITEMNMBR]]","v":0},"Wine Bottle Board - Cobalt","RETAIL",100]
[null,{"$f":"Table_prices[[#This Row],[ITEMNMBR]]","v":0},"Corona Platter","RETAIL",100]
[null,{"$f":"Table_prices[[#This Row],[ITEMNMBR]]","v":0},"Grape Cheese Knife","RETAIL",100]
[null,{"$f":"Table_prices[[#This Row],[ITEMNMBR]]","v":0},"Wire Out Fee","RETAIL",9.99]
[null,{"$f":"Table_prices[[#This Row],[ITEMNMBR]]","v":0},"Sitting Bunny with Baby Beige 15\"","RETAIL",100]
[null,{"$f":"Table_prices[[#This Row],[ITEMNMBR]]","v":0},"Wind & Willow Garlic Herb Cheeseball Mix","RETAIL",100]
[null,{"$f":"Table_prices[[#This Row],[ITEMNMBR]]","v":0},"Golf Tees -","RETAIL",100]
[null,{"$f":"Table_prices[[#This Row],[ITEMNMBR]]","v":0},"Spa Towels","RETAIL",100]
[null,{"$f":"Table_prices[[#This Row],[ITEMNMBR]]","v":0},"Spa Face Cloths","RETAIL",100]
[null,{"$f":"Table_prices[[#This Row],[ITEMNMBR]]","v":0},"Grilling Tongs","RETAIL",100]
[null,{"$f":"Table_prices[[#This Row],[ITEMNMBR]]","v":0},"Sleeve of real Golf Balls","RETAIL",100]
[null,{"$f":"Table_prices[[#This Row],[ITEMNMBR]]","v":0},"12 Qt Car Wash Bucket","RETAIL",100]
[null,{"$f":"Table_prices[[#This Row],[ITEMNMBR]]","v":0},"JBergeron  Go Green Scotch-Brite Greener Clean Sponges 3 pack","RETAIL",100]
[null,{"$f":"Table_prices[[#This Row],[ITEMNMBR]]","v":0},"Wooden Gift Tray Branded","RETAIL",100]
[null,{"$f":"Table_prices[[#This Row],[ITEMNMBR]]","v":0},"Wrigley's Big League Chew Watermelon","RETAIL",100]
[null,{"$f":"Table_prices[[#This Row],[ITEMNMBR]]","v":0},"Wrigley's Big League Chew Sour Apple","RETAIL",100]
[null,{"$f":"Table_prices[[#This Row],[ITEMNMBR]]","v":0},"Wrigley's Big League Chew Grape","RETAIL",100]
[null,{"$f":"Table_prices[[#This Row],[ITEMNMBR]]","v":0},"Wrigley's Orbit Sweetmint","RETAIL",100]
[null,{"$f":"Table_prices[[#This Row],[ITEMNMBR]]","v":0},"Wrigley's Orbit Citrus Mint","RETAIL",100]
[null,{"$f":"Table_prices[[#This Row],[ITEMNMBR]]","v":0},"Wrigley's Orbit Mint Mojito","RETAIL",100]
[null,{"$f":"Table_prices[[#This Row],[ITEMNMBR]]","v":0},"Wrigley's Orbit Raspberry Mint","RETAIL",100]
[null,{"$f":"Table_prices[[#This Row],[ITEMNMBR]]","v":0},"Wrigley's Eclipse Fusion Spearmint","RETAIL",100]
[null,{"$f":"Table_prices[[#This Row],[ITEMNMBR]]","v":0},"Wrigley's Eclipse Fusion Peppermint Berry","RETAIL",100]
[null,{"$f":"Table_prices[[#This Row],[ITEMNMBR]]","v":0},"Wrigley's Hubba Bubba Glop Strawberry Gush","RETAIL",100]
[null,{"$f":"Table_prices[[#This Row],[ITEMNMBR]]","v":0},"Wrigley's Orbit White Melon Breeze","RETAIL",100]
[null,{"$f":"Table_prices[[#This Row],[ITEMNMBR]]","v":0},"Wrigley's Eclipse Fusion Freshmint","RETAIL",100]
[null,{"$f":"Table_prices[[#This Row],[ITEMNMBR]]","v":0},"Wrigley's Juicy Fruit","RETAIL",100]
[null,{"$f":"Table_prices[[#This Row],[ITEMNMBR]]","v":0},"Wrigley's Extra Sweet Watermelon","RETAIL",100]
[null,{"$f":"Table_prices[[#This Row],[ITEMNMBR]]","v":0},"Wrigley's Five Gum Lush Tropical","RETAIL",100]
[null,{"$f":"Table_prices[[#This Row],[ITEMNMBR]]","v":0},"Wrigley's Orbit White Fruit Sorbet","RETAIL",100]
[null,{"$f":"Table_prices[[#This Row],[ITEMNMBR]]","v":0},"Wrigley's Orbit Fabulous Fruitini","RETAIL",100]
[null,{"$f":"Table_prices[[#This Row],[ITEMNMBR]]","v":0},"Wrigley's Extra Island Cooler","RETAIL",100]
[null,{"$f":"Table_prices[[#This Row],[ITEMNMBR]]","v":0},"Wrigley's Extra Strawberry Banana","RETAIL",100]
[null,{"$f":"Table_prices[[#This Row],[ITEMNMBR]]","v":0},"Wrigley's Orbit Positively Pomegranate","RETAIL",100]
[null,{"$f":"Table_prices[[#This Row],[ITEMNMBR]]","v":0},"Wrigley's Orbit Strawberry Mint","RETAIL",100]
[null,{"$f":"Table_prices[[#This Row],[ITEMNMBR]]","v":0},"Wrigley's Extra Berry Smooth","RETAIL",100]
[null,{"$f":"Table_prices[[#This Row],[ITEMNMBR]]","v":0},"Wrigley's Orbit Sangria Fresca","RETAIL",100]
[null,{"$f":"Table_prices[[#This Row],[ITEMNMBR]]","v":0},"Wrigley's Five Gum Elixer Berry","RETAIL",100]
[null,{"$f":"Table_prices[[#This Row],[ITEMNMBR]]","v":0},"Wrigley's Extra Berry Pearadise","RETAIL",100]
[null,{"$f":"Table_prices[[#This Row],[ITEMNMBR]]","v":0},"Wrigley's Orbit White Melon Breeze Cannister","RETAIL",100]
[null,{"$f":"Table_prices[[#This Row],[ITEMNMBR]]","v":0},"Wrigley's Juicy Fruit Cannister","RETAIL",100]
[null,{"$f":"Table_prices[[#This Row],[ITEMNMBR]]","v":0},"Wrigley's Eclipse Exotic Berry","RETAIL",100]
[null,{"$f":"Table_prices[[#This Row],[ITEMNMBR]]","v":0},"Wrigley's Orbit Watermelon Spring","RETAIL",100]
[null,{"$f":"Table_prices[[#This Row],[ITEMNMBR]]","v":0},"Wrigley's Orbit Pina Colada","RETAIL",100]
[null,{"$f":"Table_prices[[#This Row],[ITEMNMBR]]","v":0},"Wrigley's Orbit Mango Surf","RETAIL",100]
[null,{"$f":"Table_prices[[#This Row],[ITEMNMBR]]","v":0},"Wrigley's React","RETAIL",100]
[null,{"$f":"Table_prices[[#This Row],[ITEMNMBR]]","v":0},"Wrigley's Prism","RETAIL",100]
[null,{"$f":"Table_prices[[#This Row],[ITEMNMBR]]","v":0},"Wrigley's Vortex","RETAIL",100]
[null,{"$f":"Table_prices[[#This Row],[ITEMNMBR]]","v":0},"Wrigley's Juicy Secret","RETAIL",100]
[null,{"$f":"Table_prices[[#This Row],[ITEMNMBR]]","v":0},"Wrigley's Groovy Fruity","RETAIL",100]
[null,{"$f":"Table_prices[[#This Row],[ITEMNMBR]]","v":0},"Wrigley's Sweet Fruit","RETAIL",100]
[null,{"$f":"Table_prices[[#This Row],[ITEMNMBR]]","v":0},"Wrigley's Sweet Berry","RETAIL",100]
[null,{"$f":"Table_prices[[#This Row],[ITEMNMBR]]","v":0},"Wrigley's Tropical Remix","RETAIL",100]
[null,{"$f":"Table_prices[[#This Row],[ITEMNMBR]]","v":0},"Wrigley's Perfect Peach","RETAIL",100]
[null,{"$f":"Table_prices[[#This Row],[ITEMNMBR]]","v":0},"Blenders Skittles by Mars - 2oz -","RETAIL",100]
[null,{"$f":"Table_prices[[#This Row],[ITEMNMBR]]","v":0}," Tropical Skittles by Wrigley - 2.17 oz. -","RETAIL",100]
[null,{"$f":"Table_prices[[#This Row],[ITEMNMBR]]","v":0},"Sour Skittles by Wrigley - 1.8 oz. -","RETAIL",100]
[null,{"$f":"Table_prices[[#This Row],[ITEMNMBR]]","v":0},"Wild Berry Skittles by Wrigley -   2.17oz -","RETAIL",100]
[null,{"$f":"Table_prices[[#This Row],[ITEMNMBR]]","v":0},"Lifesavers Gummies Sweet Strings Sour Rings  2oz.","RETAIL",100]
[null,{"$f":"Table_prices[[#This Row],[ITEMNMBR]]","v":0},"Lifesavers Gummies Sours  2oz","RETAIL",100]
[null,{"$f":"Table_prices[[#This Row],[ITEMNMBR]]","v":0},"Starburst Summer Fun Fruits  2.07oz.","RETAIL",100]
[null,{"$f":"Table_prices[[#This Row],[ITEMNMBR]]","v":0},"Wholesale Shipping GourmetGiftBaskets.com","RETAIL",0]
[null,{"$f":"Table_prices[[#This Row],[ITEMNMBR]]","v":0},"Wholesale Shipping KingOfPOP","RETAIL",0]
[null,{"$f":"Table_prices[[#This Row],[ITEMNMBR]]","v":0},"Xcell International Corp 4 Cell Pizza Spice Jar 3.13 oz","RETAIL",100]
[null,{"$f":"Table_prices[[#This Row],[ITEMNMBR]]","v":0},"Xcell International Corp. Ice Cream Crunchies 5.9 oz","RETAIL",100]
[null,{"$f":"Table_prices[[#This Row],[ITEMNMBR]]","v":0},"Xcell International Corp. Ice Cream Sprinkles 5.9 oz","RETAIL",100]
[null,{"$f":"Table_prices[[#This Row],[ITEMNMBR]]","v":0},"Xcell International Corp Cupcake Decorating Jar","RETAIL",100]
[null,{"$f":"Table_prices[[#This Row],[ITEMNMBR]]","v":0},"Xcell International Corp. Red Velvet Cream Cheese Cupcake Mix","RETAIL",100]
[null,{"$f":"Table_prices[[#This Row],[ITEMNMBR]]","v":0},"Fun Shaped Sprinkles","RETAIL",100]
[null,{"$f":"Table_prices[[#This Row],[ITEMNMBR]]","v":0},"Xcell International Corp. White Chocolate Cupcake Mix","RETAIL",100]
[null,{"$f":"Table_prices[[#This Row],[ITEMNMBR]]","v":0},"Pendergrass Turkish Cotton Spa Robe (Extra Large)","RETAIL",100]
[null,{"$f":"Table_prices[[#This Row],[ITEMNMBR]]","v":0},"Xochitl Organic Blue Corn Tortilla Chips 12 oz.","RETAIL",108]
[null,{"$f":"Table_prices[[#This Row],[ITEMNMBR]]","v":0},"Xochitl Organic Chipotle Queso Dip Mild 11 oz.","RETAIL",108]
[null,{"$f":"Table_prices[[#This Row],[ITEMNMBR]]","v":0},"Ya  Mamas Pizza Sauce 16oz","RETAIL",100]
[null,{"$f":"Table_prices[[#This Row],[ITEMNMBR]]","v":0},"Yankee Warehouse Turtle Wax Car Wash 20oz","RETAIL",100]
[null,{"$f":"Table_prices[[#This Row],[ITEMNMBR]]","v":0},"Yankee Warehouse Golden Fleece Car Washing Mitt 8\"x11\"","RETAIL",100]
[null,{"$f":"Table_prices[[#This Row],[ITEMNMBR]]","v":0},"Yankee Warehouse 3pk Microfiber Auto Cloths by S.M Arnold","RETAIL",100]
[null,{"$f":"Table_prices[[#This Row],[ITEMNMBR]]","v":0},"Yankee Warehouse Rain X exterior wipes","RETAIL",100]
[null,{"$f":"Table_prices[[#This Row],[ITEMNMBR]]","v":0},"Yankee Warehouse Shop Towels by Scott 55/Roll","RETAIL",100]
[null,{"$f":"Table_prices[[#This Row],[ITEMNMBR]]","v":0},"Yankee Warehouse Interior Spray Protectant by Armor All 4oz","RETAIL",100]
[null,{"$f":"Table_prices[[#This Row],[ITEMNMBR]]","v":0},"Yankee Warehouse Turtle Wax Car Wax 16oz","RETAIL",100]
[null,{"$f":"Table_prices[[#This Row],[ITEMNMBR]]","v":0},"Yankee Warehouse Tire Wet by Black Magic 23oz","RETAIL",100]
[null,{"$f":"Table_prices[[#This Row],[ITEMNMBR]]","v":0},"Rain-X Glass Treatment Swipe & Wipe","RETAIL",100]
[null,{"$f":"Table_prices[[#This Row],[ITEMNMBR]]","v":0},"Rain-X Original 200mi.","RETAIL",100]
[null,{"$f":"Table_prices[[#This Row],[ITEMNMBR]]","v":0},"Organic Honey by YS Organics - 8 oz. - (DISCONTINUED)","RETAIL",100]
[null,{"$f":"Table_prices[[#This Row],[ITEMNMBR]]","v":0},"Organic Honey by YS Organics - 8 oz.","RETAIL",100]
[null,{"$f":"Table_prices[[#This Row],[ITEMNMBR]]","v":0},"Organic Candy Drops by Yummy Earth - 3.3 oz. -","RETAIL",100]
[null,{"$f":"Table_prices[[#This Row],[ITEMNMBR]]","v":0},"Almondina Biscuits - Almonduo by Almondina - 4 oz. -","RETAIL",100]
[null,{"$f":"Table_prices[[#This Row],[ITEMNMBR]]","v":0},"Almondina Almondina Biscuits - Choconut 4 oz.","RETAIL",100]
[null,{"$f":"Table_prices[[#This Row],[ITEMNMBR]]","v":0},"Almondina Almondina Biscuits - Sesame 4 oz.","RETAIL",100]
[null,{"$f":"Table_prices[[#This Row],[ITEMNMBR]]","v":0},"Almondina Almondina Biscuits - The Original Individuals .7 oz.","RETAIL",100]
[null,{"$f":"Table_prices[[#This Row],[ITEMNMBR]]","v":0},"Dina's Secret Dina's Secret - Flax Max 4 oz.","RETAIL",108]
[null,{"$f":"Table_prices[[#This Row],[ITEMNMBR]]","v":0},"Zubi Anniversary Custom Basket For Parents","RETAIL",277.99]
["YZE007",{"$f":"Table_prices[[#This Row],[ITEMNMBR]]","v":"YZE007"},"Zubi Bountiful Harvest Custom Basket","RETAIL",119.99]

{"sheet":"Sheet2","index":3,"n_rows":0,"n_cols":0,"rows_kept":0,"cut":false,"hidden":false,"merged":[]}